Workbook

Sheet TOMEK
A1: Tomasz Sypień | B1: PLAN III KW Tomasz Sypień | F1: PLAN II KW Tomasz Sypień | J1: PLAN I KW Tomasz Sypień | N1: PLAN IV KW Tomasz Sypień
A2: miesiąc | B2: lipiec | C2: sierpień | D2: wrzesień | E2: KW III | F2: kwiecień | G2: maj | H2: czerwiec | I2: KW II | J2: styczeń | K2: luty | L2: marzec | M2: KW I | N2: październik | O2: listopad | P2: grudzień | Q2: KW IV | R2: suma ROK
A4: Plan Sprzedaży Marża | B4: ='Target 2016'!I3 -> 30400 | C4: ='Target 2016'!J3 -> 38000 | D4: ='Target 2016'!K3 -> 45600 | E4: =SUM(B4:D4) -> 114000 | F4: ='Target 2016'!F3 -> 30000 | G4: ='Target 2016'!G3 -> 40000 | H4: ='Target 2016'!H3 -> 50000 | I4: =SUM(F4:H4) -> 120000 | J4: ='Target 2016'!C3 -> 30800 | K4: ='Target 2016'!D3 -> 38500 | L4: ='Target 2016'!E3 -> 46200 | M4: =SUM(J4:L4) -> 115500 | N4: ='Target 2016'!L3 -> 0 | O4: ='Target 2016'!M3 -> 0 | P4: ='Target 2016'!N3 -> 0 | Q4: =SUM(N4:P4) -> 0 | R4: =M4+I4+E4+Q4 -> 349500
A5: Sumaryczny Plan Sprzedaży Marża | B5: =B4 -> 30400 | C5: =C4+B5 -> 68400 | D5: =D4+C5 -> 114000 | F5: =F4 -> 30000 | G5: =G4+F5 -> 70000 | H5: =H4+G5 -> 120000 | J5: =J4 -> 30800 | K5: =K4+J5 -> 69300 | L5: =L4+K5 -> 115500 | N5: =N4 -> 0 | O5: =O4+N5 -> 0 | P5: =P4+O5 -> 0
A6: Miesięczna realizacja Planu Sprzedaży Marża | B6: =SUMIF(VII!A:A,$A$1,VII!I:I) -> 35060.779 | C6: =SUMIF(VIII!A:A,$A$1,VIII!I:I) -> 39659.166 | D6: =SUMIF(IX!A:A,$A$1,IX!I:I) -> 27343.554 | E6: =SUM(B6:D6) -> 102063.5 | F6: =SUMIF(IV!A:A,$A$1,IV!I:I) -> 45099.607 | G6: =SUMIF(V!A:A,$A$1,V!I:I) -> 43853.315 | H6: =SUMIF(VI!A:A,$A$1,VI!I:I) -> 43252.475 | I6: =SUM(F6:H6) -> 132205.4 | J6: =SUMIF(I!A:A,$A$1,I!I:I) -> 39466.514 | K6: =SUMIF(II!A:A,$A$1,II!I:I) -> 38311.112 | L6: =SUMIF(III!A:A,$A$1,III!I:I) -> 46376.267 | M6: =SUM(J6:L6) -> 124153.89 | N6: =SUMIF(X!A:A,$A$1,X!I:I) -> 0 | O6: =SUMIF(XI!A:A,$A$1,XI!I:I) -> 0 | P6: =SUMIF(XII!A:A,$A$1,XII!I:I) -> 0 | Q6: =SUM(N6:P6) -> 0 | R6: =M6+I6+E6+Q6 -> 358422.79
A7: Sumaryczna realizacja planu sprzedaży Marża | B7: =B6 -> 35060.779 | C7: =C6+B7 -> 74719.945 | D7: =D6+C7 -> 102063.5 | F7: =F6 -> 45099.607 | G7: =G6+F7 -> 88952.921 | H7: =H6+G7 -> 132205.4 | J7: =J6 -> 39466.514 | K7: =K6+J7 -> 77777.626 | L7: =L6+K7 -> 124153.89 | N7: =N6 -> 0 | O7: =O6+N7 -> 0 | P7: =P6+O7 -> 0
A8: Wysokość zrealizowania Miesięcznego Planu Sprzedaży Marża | B8: =B6/B4 -> 1.1533151 | C8: =C6/C4 -> 1.0436623 | D8: =D6/D4 -> 0.59963935 | F8: =F6/F4 -> 1.5033202 | G8: =G6/G4 -> 1.0963329 | H8: =H6/H4 -> 0.86504949 | J8: =J6/J4 -> 1.2813803 | K8: =K6/K4 -> 0.99509382 | L8: =L6/L4 -> 1.0038153 | N8: =N6/N4 -> #DIV/0! | O8: =O6/O4 -> #DIV/0! | P8: =P6/P4 -> #DIV/0!
A9: Wysokość zrealizowania Planu Sprzedaży Marża | B9: =B7/B5 -> 1.1533151 | C9: =C7/C5 -> 1.0923969 | D9: =D7/D5 -> 0.89529386 | F9: =F7/F5 -> 1.5033202 | G9: =G7/G5 -> 1.270756 | H9: =H7/H5 -> 1.1017116 | J9: =J7/J5 -> 1.2813803 | K9: =K7/K5 -> 1.1223323 | L9: =L7/L5 -> 1.0749255 | N9: =N7/N5 -> #DIV/0! | O9: =O7/O5 -> #DIV/0! | P9: =P7/P5 -> #DIV/0!
A10: Różnica wskaźnika Marża | B10: =B7-B5 -> 4660.779 | C10: =C7-C5 -> 6319.9454 | D10: =D7-D5 -> -11936.5 | F10: =F7-F5 -> 15099.607 | G10: =G7-G5 -> 18952.921 | H10: =H7-H5 -> 12205.396 | J10: =J7-J5 -> 8666.5138 | K10: =K7-K5 -> 8477.626 | L10: =L7-L5 -> 8653.8929 | N10: =N7-N5 -> 0 | O10: =O7-O5 -> 0 | P10: =P7-P5 -> 0
A11: Plan Sprzedaży Obrót | B11: ='Target 2016'!I13 -> 66400 | C11: ='Target 2016'!J13 -> 83000 | D11: ='Target 2016'!K13 -> 99600 | E11: =SUM(B11:D11) -> 249000 | F11: ='Target 2016'!F13 -> 65250 | G11: ='Target 2016'!G13 -> 87000 | H11: ='Target 2016'!H13 -> 108750 | I11: =SUM(F11:H11) -> 261000 | J11: ='Target 2016'!C13 -> 68800 | K11: ='Target 2016'!D13 -> 86000 | L11: ='Target 2016'!E13 -> 103200 | M11: =SUM(J11:L11) -> 258000 | N11: ='Target 2016'!L13 -> 0 | O11: ='Target 2016'!M13 -> 0 | P11: ='Target 2016'!N13 -> 0 | Q11: =SUM(N11:P11) -> 0 | R11: =M11+I11+E11+Q11 -> 768000
A12: Sumaryczny Plan Sprzedaży Obrót | B12: =B11 -> 66400 | C12: =C11+B12 -> 149400 | D12: =D11+C12 -> 249000 | F12: =F11 -> 65250 | G12: =G11+F12 -> 152250 | H12: =H11+G12 -> 261000 | J12: =J11 -> 68800 | K12: =K11+J12 -> 154800 | L12: =L11+K12 -> 258000 | N12: =N11 -> 0 | O12: =O11+N12 -> 0 | P12: =P11+O12 -> 0
A13: Miesięczna realizacja Planu Sprzedaży Obrót | B13: =SUMIF(VII!A:A,$A$1,VII!G:G) -> 86644.58 | C13: =SUMIF(VIII!A:A,$A$1,VIII!G:G) -> 87418.7 | D13: =SUMIF(IX!A:A,$A$1,IX!G:G) -> 60242.76 | E13: =SUM(B13:D13) -> 234306.04 | F13: =SUMIF(IV!A:A,$A$1,IV!G:G) -> 103269.14 | G13: =SUMIF(V!A:A,$A$1,V!G:G) -> 91680.19 | H13: =SUMIF(VI!A:A,$A$1,VI!G:G) -> 93501.43 | I13: =SUM(F13:H13) -> 288450.76 | J13: =SUMIF(I!A:A,$A$1,I!G:G) -> 92621.1 | K13: =SUMIF(II!A:A,$A$1,II!G:G) -> 79836.14 | L13: =SUMIF(III!A:A,$A$1,III!G:G) -> 98529.15 | M13: =SUM(J13:L13) -> 270986.39 | N13: =SUMIF(X!A:A,$A$1,X!G:G) -> 0 | O13: =SUMIF(XI!A:A,$A$1,XI!G:G) -> 0 | P13: =SUMIF(XII!A:A,$A$1,XII!G:G) -> 0 | Q13: =SUM(N13:P13) -> 0 | R13: =M13+I13+E13+Q13 -> 793743.19
A14: Sumaryczna realizacja planu sprzedaży Obrót | B14: =B13 -> 86644.58 | C14: =C13+B14 -> 174063.28 | D14: =D13+C14 -> 234306.04 | F14: =F13 -> 103269.14 | G14: =G13+F14 -> 194949.33 | H14: =H13+G14 -> 288450.76 | J14: =J13 -> 92621.1 | K14: =K13+J14 -> 172457.24 | L14: =L13+K14 -> 270986.39 | N14: =N13 -> 0 | O14: =O13+N14 -> 0 | P14: =P13+O14 -> 0
A15: Wysokość zrealizowania Miesięcznego Planu Sprzedaży Obrót | B15: =B13/B11 -> 1.3048883 | C15: =C13/C11 -> 1.0532373 | D15: =D13/D11 -> 0.60484699 | F15: =F13/F11 -> 1.5826688 | G15: =G13/G11 -> 1.0537953 | H15: =H13/H11 -> 0.85978326 | J15: =J13/J11 -> 1.3462369 | K15: =K13/K11 -> 0.92832721 | L15: =L13/L11 -> 0.95473983 | N15: =N13/N11 -> #DIV/0! | O15: =O13/O11 -> #DIV/0! | P15: =P13/P11 -> #DIV/0!
A16: Wysokość zrealizowania Planu Sprzedaży Obrót | B16: =B14/B12 -> 1.3048883 | C16: =C14/C12 -> 1.1650822 | D16: =D14/D12 -> 0.94098811 | F16: =F14/F12 -> 1.5826688 | G16: =G14/G12 -> 1.2804554 | H16: =H14/H12 -> 1.1051753 | J16: =J14/J12 -> 1.3462369 | K16: =K14/K12 -> 1.1140649 | L16: =L14/L12 -> 1.0503348 | N16: =N14/N12 -> #DIV/0! | O16: =O14/O12 -> #DIV/0! | P16: =P14/P12 -> #DIV/0!
A17: Różnica wskaźnika Obrót | B17: =B14-B12 -> 20244.58 | C17: =C14-C12 -> 24663.28 | D17: =D14-D12 -> -14693.96 | F17: =F14-F12 -> 38019.14 | G17: =G14-G12 -> 42699.33 | H17: =H14-H12 -> 27450.76 | J17: =J14-J12 -> 23821.1 | K17: =K14-K12 -> 17657.24 | L17: =L14-L12 -> 12986.39 | N17: =N14-N12 -> 0 | O17: =O14-O12 -> 0 | P17: =P14-P12 -> 0
A18: Wysokość Marży miesięcznej | B18: =B6/B13 -> 0.40465057 | C18: =C6/C13 -> 0.45366914 | D18: =D6/D13 -> 0.45388947 | F18: =F6/F13 -> 0.43671911 | G18: =G6/G13 -> 0.47832923 | H18: =H6/H13 -> 0.46258624 | J18: =J6/J13 -> 0.42610716 | K18: =K6/K13 -> 0.4798718 | L18: =L6/L13 -> 0.47068575 | N18: =N6/N13 -> #DIV/0! | O18: =O6/O13 -> #DIV/0! | P18: =P6/P13 -> #DIV/0!
A19: Wysokość Marży sumarycznej | B19: =B7/B14 -> 0.40465057 | C19: =C7/C14 -> 0.42926886 | D19: =D7/D14 -> 0.4355991 | F19: =F7/F14 -> 0.43671911 | G19: =G7/G14 -> 0.45628739 | H19: =H7/H14 -> 0.45832917 | J19: =J7/J14 -> 0.42610716 | K19: =K7/K14 -> 0.45099658 | L19: =L7/L14 -> 0.45815546 | N19: =N7/N14 -> #DIV/0! | O19: =O7/O14 -> #DIV/0! | P19: =P7/P14 -> #DIV/0!
A21: PREMIE
A22: Wynagrodzenie zasadnicze | B22: 2800 | C22: 2800 | D22: 2800 | F22: 2800 | G22: 2800 | H22: 2800 | J22: 2600 | K22: 2800 | L22: 2800 | N22: 2800 | O22: 2800 | P22: 2800
A23: Wskaźnik Plan Sprzedaży Marża | B23: =B5 -> 30400 | C23: =C5 -> 68400 | D23: =D5 -> 114000 | F23: =F5 -> 30000 | G23: =G5 -> 70000 | H23: =H5 -> 120000 | J23: =J5 -> 30800 | K23: =K5 -> 69300 | L23: =L5 -> 115500 | N23: =N5 -> 0 | O23: =O5 -> 0 | P23: =P5 -> 0
A24: Realizacja Wskaźnika Planu Sprzedaży Marża | B24: =B7 -> 35060.779 | C24: =C7 -> 74719.945 | D24: =D7 -> 102063.5 | F24: =F7 -> 45099.607 | G24: =G7 -> 88952.921 | H24: =H7 -> 132205.4 | J24: =J7 -> 39466.514 | K24: =K7 -> 77777.626 | L24: =L7 -> 124153.89 | N24: =N7 -> 0 | O24: =O7 -> 0 | P24: =P7 -> 0
A25: Poziom realizacji Wskaźnika Sprzedaży Marża | B25: =B24/B23 -> 1.1533151 | C25: =C24/C23 -> 1.0923969 | D25: =D24/D23 -> 0.89529386 | F25: =F24/F23 -> 1.5033202 | G25: =G24/G23 -> 1.270756 | H25: =H24/H23 -> 1.1017116 | J25: =J24/J23 -> 1.2813803 | K25: =K24/K23 -> 1.1223323 | L25: =L24/L23 -> 1.0749255 | N25: =N24/N23 -> #DIV/0! | O25: =O24/O23 -> #DIV/0! | P25: =P24/P23 -> #DIV/0!
A26: Wysokość premii Wskaźnik Sprzedaży Marża | B26: =B22*0.2 -> 560 | C26: =C22*0.2 -> 560 | D26: =D22*0.2 -> 560 | F26: =F22*0.2 -> 560 | G26: =G22*0.2 -> 560 | H26: =H22*0.2 -> 560 | J26: =J22*0.2 -> 520 | K26: =K22*0.2 -> 560 | L26: =L22*0.2 -> 560 | N26: =N22*0.2 -> 560 | O26: =O22*0.2 -> 560 | P26: =P22*0.2 -> 560
A27: Mnożnik premii miesięcznej Wskaźnika Sprzedaży Marża | B27: =IF(B25<80%,0,IF(B25<90%,0.5,IF(B25<95%,0.75,1))) -> 1 | C27: =IF(C25<80%,0,IF(C25<90%,0.5,IF(C25<95%,0.75,1))) -> 1 | D27: =IF(D25<80%,0,IF(D25<90%,0.5,IF(D25<95%,0.75,1))) -> 0.5 | F27: =IF(F25<80%,0,IF(F25<90%,0.5,IF(F25<95%,0.75,1))) -> 1 | G27: =IF(G25<80%,0,IF(G25<90%,0.5,IF(G25<95%,0.75,1))) -> 1 | H27: =IF(H25<80%,0,IF(H25<90%,0.5,IF(H25<95%,0.75,1))) -> 1 | J27: =IF(J25<80%,0,IF(J25<90%,0.5,IF(J25<95%,0.75,1))) -> 1 | K27: =IF(K25<80%,0,IF(K25<90%,0.5,IF(K25<95%,0.75,1))) -> 1 | L27: =IF(L25<80%,0,IF(L25<90%,0.5,IF(L25<95%,0.75,1))) -> 1 | N27: =IF(N25<80%,0,IF(N25<90%,0.5,IF(N25<95%,0.75,1))) -> #DIV/0! | O27: =IF(O25<80%,0,IF(O25<90%,0.5,IF(O25<95%,0.75,1))) -> #DIV/0! | P27: =IF(P25<80%,0,IF(P25<90%,0.5,IF(P25<95%,0.75,1))) -> #DIV/0!
A28: Premia miesięczna za Wskaźnik Sprzedaży Marża | B28: =B27*B26 -> 560 | C28: =C27*C26 -> 560 | D28: =D27*D26 -> 280 | F28: =F27*F26 -> 560 | G28: =G27*G26 -> 560 | H28: =H27*H26 -> 560 | J28: =J27*J26 -> 520 | K28: =K27*K26 -> 560 | L28: =L27*L26 -> 560 | N28: =N27*N26 -> #DIV/0! | O28: =O27*O26 -> #DIV/0! | P28: =P27*P26 -> #DIV/0!
A29: Wskaźnik Plan Sprzedaży Obrót | B29: =B12 -> 66400 | C29: =C12 -> 149400 | D29: =D12 -> 249000 | F29: =F12 -> 65250 | G29: =G12 -> 152250 | H29: =H12 -> 261000 | J29: =J12 -> 68800 | K29: =K12 -> 154800 | L29: =L12 -> 258000 | N29: =N12 -> 0 | O29: =O12 -> 0 | P29: =P12 -> 0
A30: Realizacja Wskaźnika Planu Sprzedaży Obrót | B30: =B14 -> 86644.58 | C30: =C14 -> 174063.28 | D30: =D14 -> 234306.04 | F30: =F14 -> 103269.14 | G30: =G14 -> 194949.33 | H30: =H14 -> 288450.76 | J30: =J14 -> 92621.1 | K30: =K14 -> 172457.24 | L30: =L14 -> 270986.39 | N30: =N14 -> 0 | O30: =O14 -> 0 | P30: =P14 -> 0
A31: Poziom realizacji Wskaźnika Sprzedaży Obrót | B31: =B30/B29 -> 1.3048883 | C31: =C30/C29 -> 1.1650822 | D31: =D30/D29 -> 0.94098811 | F31: =F30/F29 -> 1.5826688 | G31: =G30/G29 -> 1.2804554 | H31: =H30/H29 -> 1.1051753 | J31: =J30/J29 -> 1.3462369 | K31: =K30/K29 -> 1.1140649 | L31: =L30/L29 -> 1.0503348 | N31: =N30/N29 -> #DIV/0! | O31: =O30/O29 -> #DIV/0! | P31: =P30/P29 -> #DIV/0!
A32: Wysokość premii Wskaźnik Sprzedaży Obrót | B32: =B22*0.2 -> 560 | C32: =C22*0.2 -> 560 | D32: =D22*0.2 -> 560 | F32: =F22*0.2 -> 560 | G32: =G22*0.2 -> 560 | H32: =H22*0.2 -> 560 | J32: =J22*0.2 -> 520 | K32: =K22*0.2 -> 560 | L32: =L22*0.2 -> 560 | N32: =N22*0.2 -> 560 | O32: =O22*0.2 -> 560 | P32: =P22*0.2 -> 560
A33: Mnożnik premii miesięcznej Wskaźnika Sprzedaży Obrót | B33: =IF(B31<80%,0,IF(B31<90%,0.5,IF(B31<95%,0.75,1))) -> 1 | C33: =IF(C31<80%,0,IF(C31<90%,0.5,IF(C31<95%,0.75,1))) -> 1 | D33: =IF(D31<80%,0,IF(D31<90%,0.5,IF(D31<95%,0.75,1))) -> 0.75 | F33: =IF(F31<80%,0,IF(F31<90%,0.5,IF(F31<95%,0.75,1))) -> 1 | G33: =IF(G31<80%,0,IF(G31<90%,0.5,IF(G31<95%,0.75,1))) -> 1 | H33: =IF(H31<80%,0,IF(H31<90%,0.5,IF(H31<95%,0.75,1))) -> 1 | J33: =IF(J31<80%,0,IF(J31<90%,0.5,IF(J31<95%,0.75,1))) -> 1 | K33: =IF(K31<80%,0,IF(K31<90%,0.5,IF(K31<95%,0.75,1))) -> 1 | L33: =IF(L31<80%,0,IF(L31<90%,0.5,IF(L31<95%,0.75,1))) -> 1 | N33: =IF(N31<80%,0,IF(N31<90%,0.5,IF(N31<95%,0.75,1))) -> #DIV/0! | O33: =IF(O31<80%,0,IF(O31<90%,0.5,IF(O31<95%,0.75,1))) -> #DIV/0! | P33: =IF(P31<80%,0,IF(P31<90%,0.5,IF(P31<95%,0.75,1))) -> #DIV/0!
A34: Premia miesięczna za Wskaźnik Sprzedaży Obrót | B34: =B33*B32 -> 560 | C34: =C33*C32 -> 560 | D34: =D33*D32 -> 420 | F34: =F33*F32 -> 560 | G34: =G33*G32 -> 560 | H34: =H33*H32 -> 560 | J34: =J33*J32 -> 520 | K34: =K33*K32 -> 560 | L34: =L33*L32 -> 560 | N34: =N33*N32 -> #DIV/0! | O34: =O33*O32 -> #DIV/0! | P34: =P33*P32 -> #DIV/0!
A35: Wskaźnik CRM | B35: 1 | C35: 1 | D35: 1 | F35: 1 | G35: 1 | H35: 1 | J35: 1 | K35: 1 | L35: 1 | N35: 1 | O35: 1 | P35: 1
A36: Wysokość premii CRM | B36: =B22*0.1 -> 280 | C36: =C22*0.1 -> 280 | D36: =D22*0.1 -> 280 | F36: =F22*0.1 -> 280 | G36: =G22*0.1 -> 280 | H36: =H22*0.1 -> 280 | J36: =J22*0.1 -> 260 | K36: =K22*0.1 -> 280 | L36: =L22*0.1 -> 280 | N36: =N22*0.1 -> 280 | O36: =O22*0.1 -> 280 | P36: =P22*0.1 -> 280
A37: Mnożnik premii Wskaźnik CRM | B37: 1 | C37: 1 | F37: 1 | G37: 1 | H37: 1 | J37: 1 | K37: 1 | L37: 1
A38: Premia miesięczna za Wskaźnik CRM | B38: =B37*B36 -> 280 | C38: =C37*C36 -> 280 | D38: =D37*D36 -> 0 | F38: =F37*F36 -> 280 | G38: =G37*G36 -> 280 | H38: =H37*H36 -> 280 | J38: =J37*J36 -> 260 | K38: =K37*K36 -> 280 | L38: =L37*L36 -> 280 | N38: =N37*N36 -> 0 | O38: =O37*O36 -> 0 | P38: =P37*P36 -> 0
A39: Suma Premii miesięcznych | B39: =B34+B28+B38 -> 1400 | C39: =C34+C28+C38 -> 1400 | D39: =D34+D28+D38 -> 700 | F39: =F34+F28+F38 -> 1400 | G39: =G34+G28+G38 -> 1400 | H39: =H34+H28+H38 -> 1400 | J39: =J34+J28+J38 -> 1300 | K39: =K34+K28+K38 -> 1400 | L39: =L34+L28+L38 -> 1400 | N39: =N34+N28+N38 -> #DIV/0! | O39: =O34+O28+O38 -> #DIV/0! | P39: =P34+P28+P38 -> #DIV/0!
A40: Wskaźnik Premia Kwartalna Marża | B40: =D5 -> 114000 | F40: =H5 -> 120000 | J40: =L5 -> 115500 | N40: =P5 -> 0
A41: Realizacja Wskaźnika Premia Kwartalna | B41: =D7 -> 102063.5 | F41: =H7 -> 132205.4 | J41: =L7 -> 124153.89 | N41: =P7 -> 0
A42: Poziom realizacji Wskaźnika Premia Kwartalna | B42: =B41/B40 -> 0.89529386 | F42: =F41/F40 -> 1.1017116 | J42: =J41/J40 -> 1.0749255 | N42: =N41/N40 -> #DIV/0!
A43: Wysokość premii kwartalnej. | B43: =D22*0.5 -> 1400 | F43: =H22*0.5 -> 1400 | J43: =L22*0.5 -> 1400 | N43: =P22*0.5 -> 1400
A44: Mnożnik premii kwartalnej | B44: =IF(B42<100%,0,IF(B42<110%,0.5,IF(B42<120%,0.7,1))) -> 0 | F44: =IF(F42<100%,0,IF(F42<110%,0.5,IF(F42<120%,0.7,1))) -> 0.7 | J44: =IF(J42<100%,0,IF(J42<110%,0.5,IF(J42<120%,0.7,1))) -> 0.5 | N44: =IF(N42<100%,0,IF(N42<110%,0.5,IF(N42<120%,0.7,1))) -> #DIV/0!
A45: Premia kwartalna | B45: =B44*B43 -> 0 | F45: =F44*F43 -> 980 | J45: =J44*J43 -> 700 | N45: =N44*N43 -> #DIV/0!
A46: Wskaźnik Premia Kwartalna Obrót | B46: =E11 -> 249000 | F46: =I11 -> 261000 | J46: =M11 -> 258000 | N46: =Q11 -> 0
A47: Realizacja Wskaźnika Premia Kwartalna | B47: =D14 -> 234306.04 | F47: =H14 -> 288450.76 | J47: =L14 -> 270986.39 | N47: =P14 -> 0
A48: Poziom realizacji Wskaźnika Premia Kwartalna | B48: =B47/B46 -> 0.94098811 | F48: =F47/F46 -> 1.1051753 | J48: =J47/J46 -> 1.0503348 | N48: =N47/N46 -> #DIV/0!
A49: Wysokość premii kwartalnej. | B49: =D22*0.5 -> 1400 | F49: =H22*0.5 -> 1400 | J49: =L22*0.5 -> 1400 | N49: =P22*0.5 -> 1400
A50: Mnożnik premii kwartalnej | B50: =IF(B48<100%,0,IF(B48<110%,0.5,IF(B48<120%,0.7,1))) -> 0 | F50: =IF(F48<100%,0,IF(F48<110%,0.5,IF(F48<120%,0.7,1))) -> 0.7 | J50: =IF(J48<100%,0,IF(J48<110%,0.5,IF(J48<120%,0.7,1))) -> 0.5 | N50: =IF(N48<100%,0,IF(N48<110%,0.5,IF(N48<120%,0.7,1))) -> #DIV/0!
A51: Premia kwartalna | B51: =B50*B49 -> 0 | F51: =F50*F49 -> 980 | J51: =J50*J49 -> 700 | N51: =N50*N49 -> #DIV/0!
A53: SPRZEDAŻ DRUKAREK | B53: lipiec | C53: sierpień | D53: wrzesień | E53: KW III | F53: kwiecień | G53: maj | H53: czerwiec | I53: KW II | J53: styczeń | K53: luty | L53: marzec | M53: KW I | N53: październik | O53: listopad | P53: grudzień | Q53: KW IV | R53: suma ROK
A54: CL-S521 | E54: =SUM(B54:D54) -> 0 | I54: =SUM(F54:H54) -> 0 | J54: 1 | M54: =SUM(J54:L54) -> 1 | Q54: =SUM(N54:P54) -> 0 | R54: =M54+I54+E54+Q54 -> 1
A55: CL-S621 | C55: 2 | E55: =SUM(B55:D55) -> 2 | I55: =SUM(F55:H55) -> 0 | L55: 3 | M55: =SUM(J55:L55) -> 3 | Q55: =SUM(N55:P55) -> 0 | R55: =M55+I55+E55+Q55 -> 5
A56: CL-S6621 | E56: =SUM(B56:D56) -> 0 | I56: =SUM(F56:H56) -> 0 | M56: =SUM(J56:L56) -> 0 | Q56: =SUM(N56:P56) -> 0 | R56: =M56+I56+E56+Q56 -> 0
A57: CL-S631 | B57: 1 | E57: =SUM(B57:D57) -> 1 | F57: 2 | G57: 3 | H57: 2 | I57: =SUM(F57:H57) -> 7 | J57: 2 | L57: 1 | M57: =SUM(J57:L57) -> 3 | Q57: =SUM(N57:P57) -> 0 | R57: =M57+I57+E57+Q57 -> 11
A58: CL-S700 | E58: =SUM(B58:D58) -> 0 | F58: 2 | I58: =SUM(F58:H58) -> 2 | J58: 1 | M58: =SUM(J58:L58) -> 1 | Q58: =SUM(N58:P58) -> 0 | R58: =M58+I58+E58+Q58 -> 3
A59: CL-S700R | E59: =SUM(B59:D59) -> 0 | I59: =SUM(F59:H59) -> 0 | M59: =SUM(J59:L59) -> 0 | Q59: =SUM(N59:P59) -> 0 | R59: =M59+I59+E59+Q59 -> 0
A60: CL-S703 | E60: =SUM(B60:D60) -> 0 | I60: =SUM(F60:H60) -> 0 | L60: 1 | M60: =SUM(J60:L60) -> 1 | Q60: =SUM(N60:P60) -> 0 | R60: =M60+I60+E60+Q60 -> 1
A61: CL-S703R | E61: =SUM(B61:D61) -> 0 | I61: =SUM(F61:H61) -> 0 | M61: =SUM(J61:L61) -> 0 | Q61: =SUM(N61:P61) -> 0 | R61: =M61+I61+E61+Q61 -> 0
A62: CLE-720 | C62: 1 | K62: 1 | R62: =M62+I62+E62+Q62 -> 0
A63: CLE-730 | R63: =M63+I63+E63+Q63 -> 0
A64: CLP 8301 | E64: =SUM(B64:D64) -> 0 | I64: =SUM(F64:H64) -> 0 | M64: =SUM(J64:L64) -> 0 | Q64: =SUM(N64:P64) -> 0 | R64: =M64+I64+E64+Q64 -> 0
A65: ZEBRA | E65: =SUM(B65:D65) -> 0 | I65: =SUM(F65:H65) -> 0 | K65: 1 | M65: =SUM(J65:L65) -> 1 | Q65: =SUM(N65:P65) -> 0 | R65: =M65+I65+E65+Q65 -> 1
A66: INNE | E66: =SUM(B66:D66) -> 0 | I66: =SUM(F66:H66) -> 0 | M66: =SUM(J66:L66) -> 0 | Q66: =SUM(N66:P66) -> 0 | R66: =M66+I66+E66+Q66 -> 0
A67: SUMA: | B67: =SUM(B54:B66) -> 1 | C67: =SUM(C54:C66) -> 3 | D67: =SUM(D54:D66) -> 0 | E67: =SUM(B67:D67) -> 4 | F67: =SUM(F54:F66) -> 4 | G67: =SUM(G54:G66) -> 3 | H67: =SUM(H54:H66) -> 2 | I67: =SUM(F67:H67) -> 9 | J67: =SUM(J54:J66) -> 4 | K67: =SUM(K54:K66) -> 2 | L67: =SUM(L54:L66) -> 5 | M67: =SUM(J67:L67) -> 11 | N67: =SUM(N54:N66) -> 0 | O67: =SUM(O54:O66) -> 0 | P67: =SUM(P54:P66) -> 0 | Q67: =SUM(N67:P67) -> 0 | R67: =M67+I67+E67+Q67 -> 24
A69: Raport za miesiąc: | B69: lipiec | C69: sierpień | D69: wrzesień | E69: KW III | F69: kwiecień | G69: maj | H69: czerwiec | I69: KW II | J69: styczeń | K69: luty | L69: marzec | M69: Suma IKW | N69: paździer. | O69: listopad | P69: grudzień | Q69: KW IV | R69: Suma
A70: Ilość nowych Klientów: | B70: 2 | C70: 4 | E70: =SUM(B70:D70) -> 6 | F70: 2 | G70: 3 | H70: 5 | I70: =SUM(F70:H70) -> 10 | J70: 3 | K70: 4 | L70: 6 | M70: =SUM(J70:L70) -> 13 | Q70: =SUM(N70:P70) -> 0 | R70: =M70+I70+E70+Q70 -> 29
A71: Ilość Klientów przekaz. z Gliwic lub zm. nazwę/NIP. | B71: 2 | C71: 3 | E71: =SUM(B71:D71) -> 5 | F71: 2 | G71: 1 | H71: 0 | I71: =SUM(F71:H71) -> 3 | J71: 5 | K71: 4 | L71: 2 | M71: =SUM(J71:L71) -> 11 | Q71: =SUM(N71:P71) -> 0 | R71: =M71+I71+E71+Q71 -> 19
A72: Ilość Podmiotów na etapie współpracy Klient: | B72: 704 | C72: 718 | F72: 663 | G72: 670 | H72: 680 | J72: 612 | K72: 632 | L72: 644
A73: Ilość Podmiotów na etapie współpracy Handlowy: | B73: 15 | C73: 15 | F73: 9 | G73: 8 | H73: 8 | J73: 9 | K73: 3 | L73: 8
A74: Ilość Podmiotów na etapie współpracy Klient nieaktywny: | B74: 27 | C74: 31 | F74: 30 | G74: 30 | H74: 29 | J74: 131 | K74: 32 | L74: 34
A75: Ilość Podmiotów pod opieką: | B75: =SUM(B72:B74) -> 746 | C75: =SUM(C72:C74) -> 764 | F75: =SUM(F72:F74) -> 702 | G75: =SUM(G72:G74) -> 708 | H75: =SUM(H72:H74) -> 717 | J75: 751 | K75: 666 | L75: 686
A76: Ilość sprzedanych drukarek: | B76: 1 | C76: 3 | E76: =SUM(B76:D76) -> 4 | F76: 4 | G76: 3 | H76: 2 | I76: =SUM(F76:H76) -> 9 | J76: 4 | K76: 2 | L76: 5 | M76: =SUM(J76:L76) -> 11 | Q76: =SUM(N76:P76) -> 0 | R76: =M76+I76+E76+Q76 -> 24
A77: Ilość ofert dodanych w danym miesiącu: | B77: 25 | C77: 25 | E77: =SUM(B77:D77) -> 50 | F77: 11 | G77: 20 | H77: 29 | I77: =SUM(F77:H77) -> 60 | J77: 13 | K77: 29 | L77: 20 | M77: =SUM(J77:L77) -> 62 | Q77: =SUM(N77:P77) -> 0 | R77: =M77+I77+E77+Q77 -> 172
A78: Ilość ofert oczekujących na decyzję kontrahenta: | B78: 18 | C78: 14 | F78: 6 | G78: 5 | H78: 8 | J78: 3 | K78: 5 | L78: 9
A79: Ilość zaakceptowanych ofert przez kontrahenta: | B79: 6 | C79: 6 | F79: 3 | G79: 6 | H79: 12 | J79: 7 | K79: 8 | L79: 4
A80: Ilość odrzuconych ofert przez kontrahenta: | B80: 7 | C80: 25 | F80: 12 | G80: 15 | H80: 14 | J80: 6 | K80: 19 | L80: 11
A81: Ilość przekazanych podmiotów z Marketingu: | B81: 11 | C81: 23 | E81: =SUM(B81:D81) -> 34 | F81: 30 | G81: 22 | H81: 17 | I81: =SUM(F81:H81) -> 69 | J81: 24 | K81: 27 | L81: 28 | M81: =SUM(J81:L81) -> 79 | Q81: =SUM(N81:P81) -> 0 | R81: =M81+I81+E81+Q81 -> 182
A82: Ilość przekazanych podmiotów do prowadzenia od KDH: | B82: 20 | C82: 1 | E82: =SUM(B82:D82) -> 21 | F82: 1 | G82: 1 | H82: 1 | I82: =SUM(F82:H82) -> 3 | J82: 2 | K82: 20 | L82: 0 | M82: =SUM(J82:L82) -> 22 | Q82: =SUM(N82:P82) -> 0 | R82: =M82+I82+E82+Q82 -> 46
A83: Ilość odebranych podmiotów (zmiana prowadzącego): | B83: 0 | C83: 0 | E83: =SUM(B83:D83) -> 0 | F83: 0 | G83: 0 | H83: 0 | I83: =SUM(F83:H83) -> 0 | J83: 0 | K83: 0 | L83: 0 | M83: =SUM(J83:L83) -> 0 | Q83: =SUM(N83:P83) -> 0 | R83: =M83+I83+E83+Q83 -> 0
A84: Ilość spotkań z Klientami: | B84: 0 | C84: 0 | E84: =SUM(B84:D84) -> 0 | F84: 0 | G84: 0 | H84: 1 | I84: =SUM(F84:H84) -> 1 | J84: 2 | K84: 2 | L84: 0 | M84: =SUM(J84:L84) -> 4 | Q84: =SUM(N84:P84) -> 0 | R84: =M84+I84+E84+Q84 -> 5
A85: Ilość aktualnie otwartych wdrożeń: | B85: 29 | C85: 26 | F85: 15 | G85: 19 | H85: 22 | J85: 11 | K85: 11 | L85: 17
A86: Ilość wdrożeń dodanych w danym miesiącu: | B86: 19 | C86: 25 | E86: =SUM(B86:D86) -> 44 | F86: 26 | G86: 20 | H86: 23 | I86: =SUM(F86:H86) -> 69 | J86: 29 | K86: 43 | L86: 32 | M86: =SUM(J86:L86) -> 104 | Q86: =SUM(N86:P86) -> 0 | R86: =M86+I86+E86+Q86 -> 217
A87: Ilość wdrożeń zamkniętych pozytywnie w danym mcu: | B87: 8 | C87: 7 | E87: =SUM(B87:D87) -> 15 | F87: 10 | G87: 6 | H87: 13 | I87: =SUM(F87:H87) -> 29 | J87: 17 | K87: 16 | L87: 11 | M87: =SUM(J87:L87) -> 44 | Q87: =SUM(N87:P87) -> 0 | R87: =M87+I87+E87+Q87 -> 88
A88: Ilość wdrożeń zamkniętych negatywnie w danym mcu: | B88: 5 | C88: 21 | E88: =SUM(B88:D88) -> 26 | F88: 17 | G88: 15 | H88: 12 | I88: =SUM(F88:H88) -> 44 | J88: 16 | K88: 30 | L88: 17 | M88: =SUM(J88:L88) -> 63 | Q88: =SUM(N88:P88) -> 0 | R88: =M88+I88+E88+Q88 -> 133 | S88: =R88/P90 -> 1
A89: Ilość aktualnie odłożonych wdrożeń: | B89: 3 | C89: 3 | F89: 3 | G89: 3 | H89: 3 | J89: 0 | K89: 0 | L89: 1 | S89: =R89/P90 -> 0
P90: =SUM(R88:R89) -> 133

Sheet MIRU
A1: Mirosław Zagaja | J1: INDYWIDUALNY PLANY SPRZEDAŻY 2014 Mirosław Zagaja
A2: miesiąc | B2: lipiec | C2: sierpień | D2: wrzesień | F2: kwiecień | G2: maj | H2: czerwiec | J2: styczeń | K2: luty | L2: marzec | M2: KW I | N2: październik | O2: listopad | P2: grudzień | R2: suma
A4: Plan Sprzedaży Marża | B4: ='Target 2016'!I4 -> 24800 | C4: ='Target 2016'!J4 -> 31000 | D4: ='Target 2016'!K4 -> 37200 | E4: =SUM(B4:D4) -> 93000 | F4: ='Target 2016'!F4 -> 30600 | G4: ='Target 2016'!G4 -> 34000 | H4: ='Target 2016'!H4 -> 37400 | J4: ='Target 2016'!C4 -> 30600 | K4: ='Target 2016'!D4 -> 34000 | L4: ='Target 2016'!E4 -> 37400 | M4: =SUM(J4:L4) -> 102000 | N4: ='Target 2016'!L4 -> 0 | O4: ='Target 2016'!M4 -> 0 | P4: ='Target 2016'!N4 -> 0 | R4: =SUM(J4:M4) -> 204000
A5: Sumaryczny Plan Sprzedaży Marża | B5: =B4 -> 24800 | C5: =C4+B5 -> 55800 | D5: =D4+C5 -> 93000 | F5: =F4 -> 30600 | G5: =G4+F5 -> 64600 | H5: =H4+G5 -> 102000 | J5: =J4 -> 30600 | K5: =K4+J5 -> 64600 | L5: =L4+K5 -> 102000 | N5: =N4 -> 0 | O5: =O4+N5 -> 0 | P5: =P4+O5 -> 0
A6: Miesięczna realizacja Planu Sprzedaży Marża | B6: =SUMIF(VII!A:A,$A$1,VII!I:I) -> 33089.342 | C6: =SUMIF(VIII!A:A,$A$1,VIII!I:I) -> 20209.954 | D6: =SUMIF(IX!A:A,$A$1,IX!I:I) -> 27964.457 | F6: =SUMIF(IV!A:A,$A$1,IV!I:I) -> 28725.235 | G6: =SUMIF(V!A:A,$A$1,V!I:I) -> 29156.626 | H6: =SUMIF(VI!A:A,$A$1,VI!I:I) -> 51538.469 | J6: =SUMIF(I!A:A,$A$1,I!I:I) -> 25307.049 | K6: =SUMIF(II!A:A,$A$1,II!I:I) -> 31035.349 | L6: =SUMIF(III!A:A,$A$1,III!I:I) -> 40846.221 | M6: =SUM(J6:L6) -> 97188.619 | N6: =SUMIF(X!A:A,$A$1,X!I:I) -> 0 | O6: =SUMIF(XI!A:A,$A$1,XI!I:I) -> 0 | P6: =SUMIF(XII!A:A,$A$1,XII!I:I) -> 0 | R6: =J6+K6+L6+F6+G6+H6+B6+C6+D6+N6+O6+P6 -> 287872.7
A7: Sumaryczna realizacja planu sprzedaży Marża | B7: =B6 -> 33089.342 | C7: =C6+B7 -> 53299.296 | D7: =D6+C7 -> 81263.753 | F7: =F6 -> 28725.235 | G7: =G6+F7 -> 57881.861 | H7: =H6+G7 -> 109420.33 | J7: =J6 -> 25307.049 | K7: =K6+J7 -> 56342.398 | L7: =L6+K7 -> 97188.619 | N7: =N6 -> 0 | O7: =O6+N7 -> 0 | P7: =P6+O7 -> 0
A8: Wysokość zrealizowania Miesięcznego Planu Sprzedaży Marża | B8: =B6/B4 -> 1.3342477 | C8: =C6/C4 -> 0.65193402 | D8: =D6/D4 -> 0.75173271 | F8: =F6/F4 -> 0.93873317 | G8: =G6/G4 -> 0.85754783 | H8: =H6/H4 -> 1.3780339 | J8: =J6/J4 -> 0.82702775 | K8: =K6/K4 -> 0.91280437 | L8: =L6/L4 -> 1.0921449 | N8: =N6/N4 -> #DIV/0! | O8: =O6/O4 -> #DIV/0! | P8: =P6/P4 -> #DIV/0!
A9: Wysokość zrealizowania Planu Sprzedaży Marża | B9: =B7/B5 -> 1.3342477 | C9: =C7/C5 -> 0.95518453 | D9: =D7/D5 -> 0.8738038 | F9: =F7/F5 -> 0.93873317 | G9: =G7/G5 -> 0.89600404 | H9: =H7/H5 -> 1.0727483 | J9: =J7/J5 -> 0.82702775 | K9: =K7/K5 -> 0.87217334 | L9: =L7/L5 -> 0.95282959 | N9: =N7/N5 -> #DIV/0! | O9: =O7/O5 -> #DIV/0! | P9: =P7/P5 -> #DIV/0!
A10: Różnica wskaźnika Marża | B10: =B7-B5 -> 8289.342 | C10: =C7-C5 -> -2500.7035 | D10: =D7-D5 -> -11736.247 | F10: =F7-F5 -> -1874.765 | G10: =G7-G5 -> -6718.1389 | H10: =H7-H5 -> 7420.3304 | J10: =J7-J5 -> -5292.9509 | K10: =K7-K5 -> -8257.6023 | L10: =L7-L5 -> -4811.3815 | N10: =N7-N5 -> 0 | O10: =O7-O5 -> 0 | P10: =P7-P5 -> 0
A11: Plan Sprzedaży Obrót | B11: ='Target 2016'!I14 -> 60000 | C11: ='Target 2016'!J14 -> 75000 | D11: ='Target 2016'!K14 -> 90000 | E11: =SUM(B11:D11) -> 225000 | F11: ='Target 2016'!F14 -> 74700 | G11: ='Target 2016'!G14 -> 83000 | H11: ='Target 2016'!H14 -> 91300 | J11: ='Target 2016'!C14 -> 74700 | K11: ='Target 2016'!D14 -> 83000 | L11: ='Target 2016'!E14 -> 91300 | M11: =SUM(J11:L11) -> 249000 | N11: ='Target 2016'!L14 -> 0 | O11: ='Target 2016'!M14 -> 0 | P11: ='Target 2016'!N14 -> 0 | R11: =SUM(J11:M11) -> 498000
A12: Sumaryczny Plan Sprzedaży Obrót | B12: =B11 -> 60000 | C12: =C11+B12 -> 135000 | D12: =D11+C12 -> 225000 | F12: =F11 -> 74700 | G12: =G11+F12 -> 157700 | H12: =H11+G12 -> 249000 | J12: =J11 -> 74700 | K12: =K11+J12 -> 157700 | L12: =L11+K12 -> 249000 | N12: =N11 -> 0 | O12: =O11+N12 -> 0 | P12: =P11+O12 -> 0
A13: Miesięczna realizacja Planu Sprzedaży Obrót | B13: =SUMIF(VII!A:A,$A$1,VII!G:G) -> 67324.63 | C13: =SUMIF(VIII!A:A,$A$1,VIII!G:G) -> 58748.51 | D13: =SUMIF(IX!A:A,$A$1,IX!G:G) -> 63213.2 | F13: =SUMIF(IV!A:A,$A$1,IV!G:G) -> 80696.49 | G13: =SUMIF(V!A:A,$A$1,V!G:G) -> 60374.55 | H13: =SUMIF(VI!A:A,$A$1,VI!G:G) -> 115420.08 | J13: =SUMIF(I!A:A,$A$1,I!G:G) -> 56403.7 | K13: =SUMIF(II!A:A,$A$1,II!G:G) -> 79920.68 | L13: =SUMIF(III!A:A,$A$1,III!G:G) -> 100730.43 | M13: =SUM(J13:L13) -> 237054.81 | N13: =SUMIF(X!A:A,$A$1,X!G:G) -> 0 | O13: =SUMIF(XI!A:A,$A$1,XI!G:G) -> 0 | P13: =SUMIF(XII!A:A,$A$1,XII!G:G) -> 0 | R13: =SUM(J13:M13) -> 474109.62
A14: Sumaryczna realizacja planu sprzedaży Obrót | B14: =B13 -> 67324.63 | C14: =C13+B14 -> 126073.14 | D14: =D13+C14 -> 189286.34 | F14: =F13 -> 80696.49 | G14: =G13+F14 -> 141071.04 | H14: =H13+G14 -> 256491.12 | J14: =J13 -> 56403.7 | K14: =K13+J14 -> 136324.38 | L14: =L13+K14 -> 237054.81 | N14: =N13 -> 0 | O14: =O13+N14 -> 0 | P14: =P13+O14 -> 0
A15: Wysokość zrealizowania Miesięcznego Planu Sprzedaży Obrót | B15: =B13/B11 -> 1.1220772 | C15: =C13/C11 -> 0.78331347 | D15: =D13/D11 -> 0.70236889 | F15: =F13/F11 -> 1.0802743 | G15: =G13/G11 -> 0.72740422 | H15: =H13/H11 -> 1.2641849 | J15: =J13/J11 -> 0.75506961 | K15: =K13/K11 -> 0.96289976 | L15: =L13/L11 -> 1.1032906 | N15: =N13/N11 -> #DIV/0! | O15: =O13/O11 -> #DIV/0! | P15: =P13/P11 -> #DIV/0!
A16: Wysokość zrealizowania Planu Sprzedaży Obrót | B16: =B14/B12 -> 1.1220772 | C16: =C14/C12 -> 0.93387511 | D16: =D14/D12 -> 0.84127262 | F16: =F14/F12 -> 1.0802743 | G16: =G14/G12 -> 0.8945532 | H16: =H14/H12 -> 1.0300848 | J16: =J14/J12 -> 0.75506961 | K16: =K14/K12 -> 0.8644539 | L16: =L14/L12 -> 0.95202735 | N16: =N14/N12 -> #DIV/0! | O16: =O14/O12 -> #DIV/0! | P16: =P14/P12 -> #DIV/0!
A17: Różnica wskaźnika Obrót | B17: =B14-B12 -> 7324.63 | C17: =C14-C12 -> -8926.86 | D17: =D14-D12 -> -35713.66 | F17: =F14-F12 -> 5996.49 | G17: =G14-G12 -> -16628.96 | H17: =H14-H12 -> 7491.12 | J17: =J14-J12 -> -18296.3 | K17: =K14-K12 -> -21375.62 | L17: =L14-L12 -> -11945.19 | N17: =N14-N12 -> 0 | O17: =O14-O12 -> 0 | P17: =P14-P12 -> 0
A18: Wysokość Marży miesięcznej | B18: =B6/B13 -> 0.4914894 | C18: =C6/C13 -> 0.34400795 | D18: =D6/D13 -> 0.44238319 | F18: =F6/F13 -> 0.35596635 | G18: =G6/G13 -> 0.48292908 | H18: =H6/H13 -> 0.44652949 | J18: =J6/J13 -> 0.44867711 | K18: =K6/K13 -> 0.38832688 | L18: =L6/L13 -> 0.40550031 | N18: =N6/N13 -> #DIV/0! | O18: =O6/O13 -> #DIV/0! | P18: =P6/P13 -> #DIV/0!
A19: Wysokość Marży sumarycznej | B19: =B7/B14 -> 0.4914894 | C19: =C7/C14 -> 0.42276488 | D19: =D7/D14 -> 0.42931652 | F19: =F7/F14 -> 0.35596635 | G19: =G7/G14 -> 0.41030293 | H19: =H7/H14 -> 0.42660475 | J19: =J7/J14 -> 0.44867711 | K19: =K7/K14 -> 0.41329656 | L19: =L7/L14 -> 0.40998374 | N19: =N7/N14 -> #DIV/0! | O19: =O7/O14 -> #DIV/0! | P19: =P7/P14 -> #DIV/0!
A21: SPRZEDAŻ DRUKAREK
A22: CL-S521 | R22: =SUM(J22:M22) -> 0
A23: CL-S621 | R23: =SUM(J23:M23) -> 0
A24: CL-S6621 | R24: =SUM(J24:M24) -> 0
A25: CL-S631 | L25: 1 | R25: =SUM(J25:M25) -> 1
A26: CL-S700 | L26: 1 | R26: =SUM(J26:M26) -> 1
A27: CL-S700R | R27: =SUM(J27:M27) -> 0
A28: CL-S703 | R28: =SUM(J28:M28) -> 0
A29: CL-S703R | R29: =SUM(J29:M29) -> 0
A30: CLE-720 | R30: =M30+I30+E30+Q30 -> 0
A31: CLE-730 | R31: =M31+I31+E31+Q31 -> 0
A32: CLP 8301 | R32: =SUM(J32:M32) -> 0
A33: ZEBRA | R33: =SUM(J33:M33) -> 0
A34: INNE | H34: 1 | R34: =SUM(J34:M34) -> 0
A35: SUMA: | B35: =SUM(B22:B34) -> 0 | C35: =SUM(C22:C34) -> 0 | D35: =SUM(D22:D34) -> 0 | F35: =SUM(F22:F34) -> 0 | G35: =SUM(G22:G34) -> 0 | H35: =SUM(H22:H34) -> 1 | J35: =SUM(J22:J34) -> 0 | K35: =SUM(K22:K34) -> 0 | L35: =SUM(L22:L34) -> 2 | N35: =SUM(N22:N34) -> 0 | O35: =SUM(O22:O34) -> 0 | P35: =SUM(P22:P34) -> 0 | R35: =SUM(R22:R34) -> 2
A37: Raport za miesiąc: | B37: lipiec | C37: sierpień | D37: wrzesień | F37: kwiecień | G37: maj | H37: czerwiec | J37: styczeń | K37: luty | L37: marzec | N37: paździer. | O37: listopad | P37: grudzień | R37: Suma
A38: Ilość nowych Klientów: | B38: 0 | C38: 1 | E38: =SUM(B38:D38) -> 1 | F38: 0 | G38: 0 | H38: 0 | I38: =SUM(F38:H38) -> 0 | J38: 0 | K38: 0 | L38: 0 | M38: =SUM(J38:L38) -> 0 | Q38: =SUM(N38:P38) -> 0 | R38: =M38+I38+E38+Q38 -> 1
A39: Ilość Klientów przekaz. z Gliwic lub zm. nazwę/NIP. | B39: 0 | C39: 0 | E39: =SUM(B39:D39) -> 0 | F39: 0 | G39: 0 | H39: 0 | I39: =SUM(F39:H39) -> 0 | J39: 0 | K39: 0 | L39: 0 | M39: =SUM(J39:L39) -> 0 | Q39: =SUM(N39:P39) -> 0 | R39: =M39+I39+E39+Q39 -> 0
A40: Ilość Podmiotów na etapie współpracy Klient: | B40: 24 | C40: 25 | F40: 24 | G40: 24 | H40: 24 | J40: 24 | K40: 24 | L40: 24
A41: Ilość Podmiotów na etapie współpracy Handlowy: | B41: 0 | C41: 0 | F41: 0 | G41: 0 | H41: 0 | J41: 0 | K41: 0 | L41: 0
A42: Ilość Podmiotów na etapie współpracy Klient nieaktywny: | B42: 0 | C42: 0 | F42: 0 | G42: 0 | H42: 0 | J42: 0 | K42: 0 | L42: 0
A43: Ilość Podmiotów pod opieką: | B43: =SUM(B40:B42) -> 24 | C43: =SUM(C40:C42) -> 25 | F43: =SUM(F40:F42) -> 24 | G43: =SUM(G40:G42) -> 24 | H43: =SUM(H40:H42) -> 24 | J43: 24 | K43: 24 | L43: 24
A44: Ilość sprzedanych drukarek: | B44: 0 | C44: 0 | E44: =SUM(B44:D44) -> 0 | F44: 0 | G44: 0 | H44: 1 | I44: =SUM(F44:H44) -> 1 | J44: 0 | K44: 0 | L44: 2 | M44: =SUM(J44:L44) -> 2 | Q44: =SUM(N44:P44) -> 0 | R44: =M44+I44+E44+Q44 -> 3
A45: Ilość ofert dodanych w danym miesiącu: | B45: 3 | C45: 11 | E45: =SUM(B45:D45) -> 14 | F45: 3 | G45: 8 | H45: 7 | I45: =SUM(F45:H45) -> 18 | J45: 3 | K45: 2 | L45: 6 | M45: =SUM(J45:L45) -> 11 | Q45: =SUM(N45:P45) -> 0 | R45: =M45+I45+E45+Q45 -> 43
A46: Ilość ofert oczekujących na decyzję kontrahenta: | B46: 1 | C46: 5 | F46: 2 | G46: 6 | H46: 2 | J46: 1 | K46: 1 | L46: 3
A47: Ilość zaakceptowanych ofert przez kontrahenta: | B47: 2 | C47: 5 | F47: 2 | G47: 1 | H47: 2 | J47: 2 | K47: 0 | L47: 6
A48: Ilość odrzuconych ofert przez kontrahenta: | B48: 3 | C48: 2 | F48: 2 | G48: 2 | H48: 9 | J48: 1 | K48: 0 | L48: 0
A49: Ilość przekazanych podmiotów z Marketingu: | B49: 0 | C49: 0 | E49: =SUM(B49:D49) -> 0 | F49: 0 | G49: 0 | H49: 0 | I49: =SUM(F49:H49) -> 0 | J49: 0 | K49: 0 | L49: 0 | M49: =SUM(J49:L49) -> 0 | Q49: =SUM(N49:P49) -> 0 | R49: =M49+I49+E49+Q49 -> 0
A50: Ilość przekazanych podmiotów do prowadzenia od KDH: | B50: 0 | C50: 0 | E50: =SUM(B50:D50) -> 0 | F50: 0 | G50: 0 | H50: 0 | I50: =SUM(F50:H50) -> 0 | J50: 0 | K50: 0 | L50: 0 | M50: =SUM(J50:L50) -> 0 | Q50: =SUM(N50:P50) -> 0 | R50: =M50+I50+E50+Q50 -> 0
A51: Ilość odebranych podmiotów (zmiana prowadzącego): | B51: 0 | C51: 0 | E51: =SUM(B51:D51) -> 0 | F51: 0 | G51: 0 | H51: 0 | I51: =SUM(F51:H51) -> 0 | J51: 0 | K51: 0 | L51: 0 | M51: =SUM(J51:L51) -> 0 | Q51: =SUM(N51:P51) -> 0 | R51: =M51+I51+E51+Q51 -> 0
A52: Ilość spotkań z Klientami: | B52: 0 | C52: 0 | E52: =SUM(B52:D52) -> 0 | F52: 0 | G52: 1 | H52: 4 | I52: =SUM(F52:H52) -> 5 | J52: 0 | K52: 2 | L52: 1 | M52: =SUM(J52:L52) -> 3 | Q52: =SUM(N52:P52) -> 0 | R52: =M52+I52+E52+Q52 -> 8
A53: Ilość aktualnie otwartych wdrożeń: | B53: 6 | C53: 6 | F53: 7 | G53: 6 | H53: 7 | J53: 8 | K53: 8 | L53: 6
A54: Ilość wdrożeń dodanych w danym miesiącu: | B54: 1 | C54: 2 | E54: =SUM(B54:D54) -> 3 | F54: 2 | G54: 2 | H54: 1 | I54: =SUM(F54:H54) -> 5 | J54: 3 | K54: 5 | L54: 1 | M54: =SUM(J54:L54) -> 9 | Q54: =SUM(N54:P54) -> 0 | R54: =M54+I54+E54+Q54 -> 17
A55: Ilość wdrożeń zamkniętych pozytywnie w danym mcu: | B55: 2 | C55: 1 | E55: =SUM(B55:D55) -> 3 | F55: 1 | G55: 0 | H55: 0 | I55: =SUM(F55:H55) -> 1 | J55: 3 | K55: 4 | L55: 2 | M55: =SUM(J55:L55) -> 9 | Q55: =SUM(N55:P55) -> 0 | R55: =M55+I55+E55+Q55 -> 13
A56: Ilość wdrożeń zamkniętych negatywnie w danym mcu: | B56: 1 | C56: 0 | E56: =SUM(B56:D56) -> 1 | F56: 1 | G56: 1 | H56: 2 | I56: =SUM(F56:H56) -> 4 | J56: 0 | K56: 1 | L56: 0 | M56: =SUM(J56:L56) -> 1 | Q56: =SUM(N56:P56) -> 0 | R56: =M56+I56+E56+Q56 -> 6 | S56: =R56/P58 -> 1
A57: Ilość aktualnie odłożonych wdrożeń: | B57: 0 | C57: 0 | F57: 0 | G57: 0 | H57: 0 | J57: 0 | K57: 0 | L57: 0 | S57: =R57/P58 -> 0
P58: =SUM(R56:R57) -> 6

Sheet Artur
A1: Artur Surówka | B1: PLAN III KW Artur Surówka | F1: PLAN II KW Artur Surówka | J1: PLAN I KW Artur Surówka | N1: PLAN IV KW Artur Surówka
A2: miesiąc | B2: lipiec | C2: sierpień | D2: wrzesień | E2: KW III | F2: kwiecień | G2: maj | H2: czerwiec | I2: KW II | J2: styczeń | K2: luty | L2: marzec | M2: KW I | N2: październik | O2: listopad | P2: grudzień | Q2: KW IV | R2: suma ROK
A4: Plan Sprzedaży Marża | B4: ='Target 2016'!I6 -> 28000 | C4: ='Target 2016'!J6 -> 35000 | D4: ='Target 2016'!K6 -> 42000 | E4: =SUM(B4:D4) -> 105000 | F4: ='Target 2016'!F6 -> 0 | G4: ='Target 2016'!G6 -> 0 | H4: ='Target 2016'!H6 -> 0 | J4: ='Target 2016'!C6 -> 0 | K4: ='Target 2016'!D6 -> 0 | L4: ='Target 2016'!E6 -> 0 | M4: =SUM(J4:L4) -> 0 | N4: ='Target 2016'!L6 -> 0 | O4: ='Target 2016'!M6 -> 0 | P4: ='Target 2016'!N6 -> 0 | Q4: =SUM(N4:P4) -> 0 | R4: =M4+I4+E4+Q4 -> 105000
A5: Sumaryczny Plan Sprzedaży Marża | B5: =B4 -> 28000 | C5: =C4+B5 -> 63000 | D5: =D4+C5 -> 105000 | F5: =F4 -> 0 | G5: =G4+F5 -> 0 | H5: =H4+G5 -> 0 | J5: =J4 -> 0 | K5: =K4+J5 -> 0 | L5: =L4+K5 -> 0 | N5: =N4 -> 0 | O5: =O4+N5 -> 0 | P5: =P4+O5 -> 0
A6: Miesięczna realizacja Planu Sprzedaży Marża | B6: =SUMIF(VII!A:A,$A$1,VII!I:I) -> 19310.639 | C6: =SUMIF(VIII!A:A,$A$1,VIII!I:I) -> 31754.799 | D6: =SUMIF(IX!A:A,$A$1,IX!I:I) -> 16632.234 | E6: =SUM(B6:D6) -> 67697.672 | F6: =SUMIF(IV!A:A,$A$1,IV!I:I) -> 0 | G6: =SUMIF(V!A:A,$A$1,V!I:I) -> 0 | H6: =SUMIF(VI!A:A,$A$1,VI!I:I) -> 0 | I6: =SUM(F6:H6) -> 0 | J6: =SUMIF(I!A:A,$A$1,I!I:I) -> 0 | K6: =SUMIF(II!A:A,$A$1,II!I:I) -> 0 | L6: =SUMIF(III!A:A,$A$1,III!I:I) -> 0 | M6: =SUM(J6:L6) -> 0 | N6: =SUMIF(X!A:A,$A$1,X!I:I) -> 0 | O6: =SUMIF(XI!A:A,$A$1,XI!I:I) -> 0 | P6: =SUMIF(XII!A:A,$A$1,XII!I:I) -> 0 | Q6: =SUM(N6:P6) -> 0 | R6: =M6+I6+E6+Q6 -> 67697.672
A7: Sumaryczna realizacja planu sprzedaży Marża | B7: =B6 -> 19310.639 | C7: =C6+B7 -> 51065.438 | D7: =D6+C7 -> 67697.672 | F7: =F6 -> 0 | G7: =G6+F7 -> 0 | H7: =H6+G7 -> 0 | J7: =J6 -> 0 | K7: =K6+J7 -> 0 | L7: =L6+K7 -> 0 | N7: =N6 -> 0 | O7: =O6+N7 -> 0 | P7: =P6+O7 -> 0
A8: Wysokość zrealizowania Miesięcznego Planu Sprzedaży Marża | B8: =B6/B4 -> 0.68966566 | C8: =C6/C4 -> 0.90727998 | D8: =D6/D4 -> 0.39600558 | F8: =F6/F4 -> #DIV/0! | G8: =G6/G4 -> #DIV/0! | H8: =H6/H4 -> #DIV/0! | J8: =J6/J4 -> #DIV/0! | K8: =K6/K4 -> #DIV/0! | L8: =L6/L4 -> #DIV/0! | N8: =N6/N4 -> #DIV/0! | O8: =O6/O4 -> #DIV/0! | P8: =P6/P4 -> #DIV/0!
A9: Wysokość zrealizowania Planu Sprzedaży Marża | B9: =B7/B5 -> 0.68966566 | C9: =C7/C5 -> 0.81056251 | D9: =D7/D5 -> 0.64473974 | F9: =F7/F5 -> #DIV/0! | G9: =G7/G5 -> #DIV/0! | H9: =H7/H5 -> #DIV/0! | J9: =J7/J5 -> #DIV/0! | K9: =K7/K5 -> #DIV/0! | L9: =L7/L5 -> #DIV/0! | N9: =N7/N5 -> #DIV/0! | O9: =O7/O5 -> #DIV/0! | P9: =P7/P5 -> #DIV/0!
A10: Różnica wskaźnika Marża | B10: =B7-B5 -> -8689.3615 | C10: =C7-C5 -> -11934.562 | D10: =D7-D5 -> -37302.328 | F10: =F7-F5 -> 0 | G10: =G7-G5 -> 0 | H10: =H7-H5 -> 0 | J10: =J7-J5 -> 0 | K10: =K7-K5 -> 0 | L10: =L7-L5 -> 0 | N10: =N7-N5 -> 0 | O10: =O7-O5 -> 0 | P10: =P7-P5 -> 0
A11: Plan Sprzedaży Obrót | B11: ='Target 2016'!I16 -> 84000 | C11: ='Target 2016'!J16 -> 105000 | D11: ='Target 2016'!K16 -> 126000 | E11: =SUM(B11:D11) -> 315000 | G11: ='Target 2016'!K15 -> 0 | H11: ='Target 2016'!L15 -> 0 | I11: =SUM(F11:H11) -> 0 | J11: ='Target 2016'!C16 -> 0 | K11: ='Target 2016'!D16 -> 0 | L11: ='Target 2016'!E16 -> 0 | M11: =SUM(J11:L11) -> 0 | N11: ='Target 2016'!L16 -> 0 | O11: ='Target 2016'!M16 -> 0 | P11: ='Target 2016'!N16 -> 0 | Q11: =SUM(N11:P11) -> 0 | R11: =M11+I11+E11+Q11 -> 315000
A12: Sumaryczny Plan Sprzedaży Obrót | B12: =B11 -> 84000 | C12: =C11+B12 -> 189000 | D12: =D11+C12 -> 315000 | F12: =F11 -> 0 | G12: =G11+F12 -> 0 | H12: =H11+G12 -> 0 | J12: =J11 -> 0 | K12: =K11+J12 -> 0 | L12: =L11+K12 -> 0 | N12: =N11 -> 0 | O12: =O11+N12 -> 0 | P12: =P11+O12 -> 0
A13: Miesięczna realizacja Planu Sprzedaży Obrót | B13: =SUMIF(VII!A:A,$A$1,VII!G:G) -> 69687.09 | C13: =SUMIF(VIII!A:A,$A$1,VIII!G:G) -> 89796.66 | D13: =SUMIF(IX!A:A,$A$1,IX!G:G) -> 57562.51 | E13: =SUM(B13:D13) -> 217046.26 | F13: =SUMIF(IV!A:A,$A$1,IV!G:G) -> 0 | G13: =SUMIF(V!A:A,$A$1,V!G:G) -> 0 | H13: =SUMIF(VI!A:A,$A$1,VI!G:G) -> 0 | I13: =SUM(F13:H13) -> 0 | J13: =SUMIF(I!A:A,$A$1,I!G:G) -> 0 | K13: =SUMIF(II!A:A,$A$1,II!G:G) -> 0 | L13: =SUMIF(III!A:A,$A$1,III!G:G) -> 0 | M13: =SUM(J13:L13) -> 0 | N13: =SUMIF(X!A:A,$A$1,X!G:G) -> 0 | O13: =SUMIF(XI!A:A,$A$1,XI!G:G) -> 0 | P13: =SUMIF(XII!A:A,$A$1,XII!G:G) -> 0 | Q13: =SUM(N13:P13) -> 0 | R13: =M13+I13+E13+Q13 -> 217046.26
A14: Sumaryczna realizacja planu sprzedaży Obrót | B14: =B13 -> 69687.09 | C14: =C13+B14 -> 159483.75 | D14: =D13+C14 -> 217046.26 | F14: =F13 -> 0 | G14: =G13+F14 -> 0 | H14: =H13+G14 -> 0 | J14: =J13 -> 0 | K14: =K13+J14 -> 0 | L14: =L13+K14 -> 0 | N14: =N13 -> 0 | O14: =O13+N14 -> 0 | P14: =P13+O14 -> 0
A15: Wysokość zrealizowania Miesięcznego Planu Sprzedaży Obrót | B15: =B13/B11 -> 0.82960821 | C15: =C13/C11 -> 0.85520629 | D15: =D13/D11 -> 0.45684532 | F15: =F13/F11 -> #DIV/0! | G15: =G13/G11 -> #DIV/0! | H15: =H13/H11 -> #DIV/0! | J15: =J13/J11 -> #DIV/0! | K15: =K13/K11 -> #DIV/0! | L15: =L13/L11 -> #DIV/0! | N15: =N13/N11 -> #DIV/0! | O15: =O13/O11 -> #DIV/0! | P15: =P13/P11 -> #DIV/0!
A16: Wysokość zrealizowania Planu Sprzedaży Obrót | B16: =B14/B12 -> 0.82960821 | C16: =C14/C12 -> 0.84382937 | D16: =D14/D12 -> 0.68903575 | F16: =F14/F12 -> #DIV/0! | G16: =G14/G12 -> #DIV/0! | H16: =H14/H12 -> #DIV/0! | J16: =J14/J12 -> #DIV/0! | K16: =K14/K12 -> #DIV/0! | L16: =L14/L12 -> #DIV/0! | N16: =N14/N12 -> #DIV/0! | O16: =O14/O12 -> #DIV/0! | P16: =P14/P12 -> #DIV/0!
A17: Różnica wskaźnika Obrót | B17: =B14-B12 -> -14312.91 | C17: =C14-C12 -> -29516.25 | D17: =D14-D12 -> -97953.74 | F17: =F14-F12 -> 0 | G17: =G14-G12 -> 0 | H17: =H14-H12 -> 0 | J17: =J14-J12 -> 0 | K17: =K14-K12 -> 0 | L17: =L14-L12 -> 0 | N17: =N14-N12 -> 0 | O17: =O14-O12 -> 0 | P17: =P14-P12 -> 0
A18: Wysokość Marży miesięcznej | B18: =B6/B13 -> 0.27710496 | C18: =C6/C13 -> 0.35363007 | D18: =D6/D13 -> 0.28894213 | F18: =F6/F13 -> #DIV/0! | G18: =G6/G13 -> #DIV/0! | H18: =H6/H13 -> #DIV/0! | J18: =J6/J13 -> #DIV/0! | K18: =K6/K13 -> #DIV/0! | L18: =L6/L13 -> #DIV/0! | N18: =N6/N13 -> #DIV/0! | O18: =O6/O13 -> #DIV/0! | P18: =P6/P13 -> #DIV/0!
A19: Wysokość Marży sumarycznej | B19: =B7/B14 -> 0.27710496 | C19: =C7/C14 -> 0.32019211 | D19: =D7/D14 -> 0.31190435 | F19: =F7/F14 -> #DIV/0! | G19: =G7/G14 -> #DIV/0! | H19: =H7/H14 -> #DIV/0! | J19: =J7/J14 -> #DIV/0! | K19: =K7/K14 -> #DIV/0! | L19: =L7/L14 -> #DIV/0! | N19: =N7/N14 -> #DIV/0! | O19: =O7/O14 -> #DIV/0! | P19: =P7/P14 -> #DIV/0!
J21: PREMIE
A22: Wynagrodzenie zasadnicze | B22: 2600 | C22: 2600 | D22: 2600 | F22: 2600 | G22: 2600 | H22: 2600 | J22: 2600 | K22: 2600 | L22: 2600 | N22: 2600 | O22: 2600 | P22: 2600
A23: Wskaźnik Plan Sprzedaży Marża | B23: =B5 -> 28000 | C23: =C5 -> 63000 | D23: =D5 -> 105000 | F23: =F5 -> 0 | G23: =G5 -> 0 | H23: =H5 -> 0 | J23: =J5 -> 0 | K23: =K5 -> 0 | L23: =L5 -> 0 | N23: =N5 -> 0 | O23: =O5 -> 0 | P23: =P5 -> 0
A24: Realizacja Wskaźnika Planu Sprzedaży Marża | B24: =B7 -> 19310.639 | C24: =C7 -> 51065.438 | D24: =D7 -> 67697.672 | F24: =F7 -> 0 | G24: =G7 -> 0 | H24: =H7 -> 0 | J24: =J7 -> 0 | K24: =K7 -> 0 | L24: =L7 -> 0 | N24: =N7 -> 0 | O24: =O7 -> 0 | P24: =P7 -> 0
A25: Poziom realizacji Wskaźnika Sprzedaży Marża | B25: =B24/B23 -> 0.68966566 | C25: =C24/C23 -> 0.81056251 | D25: =D24/D23 -> 0.64473974 | F25: =F24/F23 -> #DIV/0! | G25: =G24/G23 -> #DIV/0! | H25: =H24/H23 -> #DIV/0! | J25: =J24/J23 -> #DIV/0! | K25: =K24/K23 -> #DIV/0! | L25: =L24/L23 -> #DIV/0! | N25: =N24/N23 -> #DIV/0! | O25: =O24/O23 -> #DIV/0! | P25: =P24/P23 -> #DIV/0!
A26: Wysokość premii Wskaźnik Sprzedaży Marża | B26: =B22*0.2 -> 520 | C26: =C22*0.2 -> 520 | D26: =D22*0.2 -> 520 | F26: =F22*0.2 -> 520 | G26: =G22*0.2 -> 520 | H26: =H22*0.2 -> 520 | J26: =J22*0.2 -> 520 | K26: =K22*0.2 -> 520 | L26: =L22*0.2 -> 520 | N26: =N22*0.2 -> 520 | O26: =O22*0.2 -> 520 | P26: =P22*0.2 -> 520
A27: Mnożnik premii miesięcznej Wskaźnika Sprzedaży Marża | B27: =IF(B25<80%,0,IF(B25<90%,0.5,IF(B25<95%,0.75,1))) -> 0 | C27: =IF(C25<80%,0,IF(C25<90%,0.5,IF(C25<95%,0.75,1))) -> 0.5 | D27: =IF(D25<80%,0,IF(D25<90%,0.5,IF(D25<95%,0.75,1))) -> 0 | F27: =IF(F25<80%,0,IF(F25<90%,0.5,IF(F25<95%,0.75,1))) -> #DIV/0! | G27: =IF(G25<80%,0,IF(G25<90%,0.5,IF(G25<95%,0.75,1))) -> #DIV/0! | H27: =IF(H25<80%,0,IF(H25<90%,0.5,IF(H25<95%,0.75,1))) -> #DIV/0! | J27: =IF(J25<80%,0,IF(J25<90%,0.5,IF(J25<95%,0.75,1))) -> #DIV/0! | K27: =IF(K25<80%,0,IF(K25<90%,0.5,IF(K25<95%,0.75,1))) -> #DIV/0! | L27: =IF(L25<80%,0,IF(L25<90%,0.5,IF(L25<95%,0.75,1))) -> #DIV/0! | N27: =IF(N25<80%,0,IF(N25<90%,0.5,IF(N25<95%,0.75,1))) -> #DIV/0! | O27: =IF(O25<80%,0,IF(O25<90%,0.5,IF(O25<95%,0.75,1))) -> #DIV/0! | P27: =IF(P25<80%,0,IF(P25<90%,0.5,IF(P25<95%,0.75,1))) -> #DIV/0!
A28: Premia miesięczna za Wskaźnik Sprzedaży Marża | B28: =B27*B26 -> 0 | C28: =C27*C26 -> 260 | D28: =D27*D26 -> 0 | F28: =F27*F26 -> #DIV/0! | G28: =G27*G26 -> #DIV/0! | H28: =H27*H26 -> #DIV/0! | J28: =J27*J26 -> #DIV/0! | K28: =K27*K26 -> #DIV/0! | L28: =L27*L26 -> #DIV/0! | N28: =N27*N26 -> #DIV/0! | O28: =O27*O26 -> #DIV/0! | P28: =P27*P26 -> #DIV/0!
A29: Wskaźnik Plan Sprzedaży Obrót | B29: =B12 -> 84000 | C29: =C12 -> 189000 | D29: =D12 -> 315000 | F29: =F12 -> 0 | G29: =G12 -> 0 | H29: =H12 -> 0 | J29: =J12 -> 0 | K29: =K12 -> 0 | L29: =L12 -> 0 | N29: =N12 -> 0 | O29: =O12 -> 0 | P29: =P12 -> 0
A30: Realizacja Wskaźnika Planu Sprzedaży Obrót | B30: =B14 -> 69687.09 | C30: =C14 -> 159483.75 | D30: =D14 -> 217046.26 | F30: =F14 -> 0 | G30: =G14 -> 0 | H30: =H14 -> 0 | J30: =J14 -> 0 | K30: =K14 -> 0 | L30: =L14 -> 0 | N30: =N14 -> 0 | O30: =O14 -> 0 | P30: =P14 -> 0
A31: Poziom realizacji Wskaźnika Sprzedaży Obrót | B31: =B30/B29 -> 0.82960821 | C31: =C30/C29 -> 0.84382937 | D31: =D30/D29 -> 0.68903575 | F31: =F30/F29 -> #DIV/0! | G31: =G30/G29 -> #DIV/0! | H31: =H30/H29 -> #DIV/0! | J31: =J30/J29 -> #DIV/0! | K31: =K30/K29 -> #DIV/0! | L31: =L30/L29 -> #DIV/0! | N31: =N30/N29 -> #DIV/0! | O31: =O30/O29 -> #DIV/0! | P31: =P30/P29 -> #DIV/0!
A32: Wysokość premii Wskaźnik Sprzedaży Obrót | B32: =B22*0.2 -> 520 | C32: =C22*0.2 -> 520 | D32: =D22*0.2 -> 520 | F32: =F22*0.2 -> 520 | G32: =G22*0.2 -> 520 | H32: =H22*0.2 -> 520 | J32: =J22*0.2 -> 520 | K32: =K22*0.2 -> 520 | L32: =L22*0.2 -> 520 | N32: =N22*0.2 -> 520 | O32: =O22*0.2 -> 520 | P32: =P22*0.2 -> 520
A33: Mnożnik premii miesięcznej Wskaźnika Sprzedaży Obrót | B33: =IF(B31<80%,0,IF(B31<90%,0.5,IF(B31<95%,0.75,1))) -> 0.5 | C33: =IF(C31<80%,0,IF(C31<90%,0.5,IF(C31<95%,0.75,1))) -> 0.5 | D33: =IF(D31<80%,0,IF(D31<90%,0.5,IF(D31<95%,0.75,1))) -> 0 | F33: =IF(F31<80%,0,IF(F31<90%,0.5,IF(F31<95%,0.75,1))) -> #DIV/0! | G33: =IF(G31<80%,0,IF(G31<90%,0.5,IF(G31<95%,0.75,1))) -> #DIV/0! | H33: =IF(H31<80%,0,IF(H31<90%,0.5,IF(H31<95%,0.75,1))) -> #DIV/0! | J33: =IF(J31<80%,0,IF(J31<90%,0.5,IF(J31<95%,0.75,1))) -> #DIV/0! | K33: =IF(K31<80%,0,IF(K31<90%,0.5,IF(K31<95%,0.75,1))) -> #DIV/0! | L33: =IF(L31<80%,0,IF(L31<90%,0.5,IF(L31<95%,0.75,1))) -> #DIV/0! | N33: =IF(N31<80%,0,IF(N31<90%,0.5,IF(N31<95%,0.75,1))) -> #DIV/0! | O33: =IF(O31<80%,0,IF(O31<90%,0.5,IF(O31<95%,0.75,1))) -> #DIV/0! | P33: =IF(P31<80%,0,IF(P31<90%,0.5,IF(P31<95%,0.75,1))) -> #DIV/0!
A34: Premia miesięczna za Wskaźnik Sprzedaży Obrót | B34: =B33*B32 -> 260 | C34: =C33*C32 -> 260 | D34: =D33*D32 -> 0 | F34: =F33*F32 -> #DIV/0! | G34: =G33*G32 -> #DIV/0! | H34: =H33*H32 -> #DIV/0! | J34: =J33*J32 -> #DIV/0! | K34: =K33*K32 -> #DIV/0! | L34: =L33*L32 -> #DIV/0! | N34: =N33*N32 -> #DIV/0! | O34: =O33*O32 -> #DIV/0! | P34: =P33*P32 -> #DIV/0!
A35: Wskaźnik CRM | B35: 1 | C35: 1 | D35: 1 | F35: 1 | G35: 1 | H35: 1 | J35: 1 | K35: 1 | L35: 1 | N35: 1 | O35: 1 | P35: 1
A36: Wysokość premii CRM | B36: =B22*0.1 -> 260 | C36: =C22*0.1 -> 260 | D36: =D22*0.1 -> 260 | F36: =F22*0.1 -> 260 | G36: =G22*0.1 -> 260 | H36: =H22*0.1 -> 260 | J36: =J22*0.1 -> 260 | K36: =K22*0.1 -> 260 | L36: =L22*0.1 -> 260 | N36: =N22*0.1 -> 260 | O36: =O22*0.1 -> 260 | P36: =P22*0.1 -> 260
A37: Mnożnik premii Wskaźnik CRM | B37: 0 | C37: 1
A38: Premia miesięczna za Wskaźnik CRM | B38: =B37*B36 -> 0 | C38: =C37*C36 -> 260 | D38: =D37*D36 -> 0 | F38: =F37*F36 -> 0 | G38: =G37*G36 -> 0 | H38: =H37*H36 -> 0 | J38: =J37*J36 -> 0 | K38: =K37*K36 -> 0 | L38: =L37*L36 -> 0 | N38: =N37*N36 -> 0 | O38: =O37*O36 -> 0 | P38: =P37*P36 -> 0
A39: Suma Premii miesięcznych | B39: =B34+B28+B38 -> 260 | C39: =C34+C28+C38 -> 780 | D39: =D34+D28+D38 -> 0 | F39: =F34+F28+F38 -> #DIV/0! | G39: =G34+G28+G38 -> #DIV/0! | H39: =H34+H28+H38 -> #DIV/0! | J39: =J34+J28+J38 -> #DIV/0! | K39: =K34+K28+K38 -> #DIV/0! | L39: =L34+L28+L38 -> #DIV/0! | N39: =N34+N28+N38 -> #DIV/0! | O39: =O34+O28+O38 -> #DIV/0! | P39: =P34+P28+P38 -> #DIV/0!
A40: Wskaźnik Premia Kwartalna Marża | B40: =D5 -> 105000 | F40: =H5 -> 0 | J40: =L5 -> 0 | N40: =P5 -> 0
A41: Realizacja Wskaźnika Premia Kwartalna | B41: =D7 -> 67697.672 | F41: =H7 -> 0 | J41: =L7 -> 0 | N41: =P7 -> 0
A42: Poziom realizacji Wskaźnika Premia Kwartalna | B42: =B41/B40 -> 0.64473974 | F42: =F41/F40 -> #DIV/0! | J42: =J41/J40 -> #DIV/0! | N42: =N41/N40 -> #DIV/0!
A43: Wysokość premii kwartalnej. | B43: =D22*0.5 -> 1300 | F43: =H22*0.5 -> 1300 | J43: =L22*0.5 -> 1300 | N43: =P22*0.5 -> 1300
A44: Mnożnik premii kwartalnej | B44: =IF(B42<100%,0,IF(B42<110%,0.5,IF(B42<120%,0.7,1))) -> 0 | F44: =IF(F42<100%,0,IF(F42<110%,0.5,IF(F42<120%,0.7,1))) -> #DIV/0! | J44: =IF(J42<100%,0,IF(J42<110%,0.5,IF(J42<120%,0.7,1))) -> #DIV/0! | N44: =IF(N42<100%,0,IF(N42<110%,0.5,IF(N42<120%,0.7,1))) -> #DIV/0!
A45: Premia kwartalna | B45: =B44*B43 -> 0 | F45: =F44*F43 -> #DIV/0! | J45: =J44*J43 -> #DIV/0! | N45: =N44*N43 -> #DIV/0!
A46: Wskaźnik Premia Kwartalna Obrót | B46: =E11 -> 315000 | F46: =I11 -> 0 | J46: =M11 -> 0 | N46: =Q11 -> 0
A47: Realizacja Wskaźnika Premia Kwartalna | B47: =D14 -> 217046.26 | F47: =H14 -> 0 | J47: =L14 -> 0 | N47: =P14 -> 0
A48: Poziom realizacji Wskaźnika Premia Kwartalna | B48: =B47/B46 -> 0.68903575 | F48: =F47/F46 -> #DIV/0! | J48: =J47/J46 -> #DIV/0! | N48: =N47/N46 -> #DIV/0!
A49: Wysokość premii kwartalnej. | B49: =D22*0.5 -> 1300 | F49: =H22*0.5 -> 1300 | J49: =L22*0.5 -> 1300 | N49: =P22*0.5 -> 1300
A50: Mnożnik premii kwartalnej | B50: =IF(B48<100%,0,IF(B48<110%,0.5,IF(B48<120%,0.7,1))) -> 0 | F50: =IF(F48<100%,0,IF(F48<110%,0.5,IF(F48<120%,0.7,1))) -> #DIV/0! | J50: =IF(J48<100%,0,IF(J48<110%,0.5,IF(J48<120%,0.7,1))) -> #DIV/0! | N50: =IF(N48<100%,0,IF(N48<110%,0.5,IF(N48<120%,0.7,1))) -> #DIV/0!
A51: Premia kwartalna | B51: =B50*B49 -> 0 | F51: =F50*F49 -> #DIV/0! | J51: =J50*J49 -> #DIV/0! | N51: =N50*N49 -> #DIV/0!
A53: SPRZEDAŻ DRUKAREK | B53: lipiec | C53: sierpień | D53: wrzesień | E53: KW III | F53: kwiecień | G53: maj | H53: czerwiec | I53: KW II | J53: styczeń | K53: luty | L53: marzec | M53: KW I | N53: październik | O53: listopad | P53: grudzień | Q53: KW IV | R53: suma ROK
A54: CL-S521 | E54: =SUM(B54:D54) -> 0 | I54: =SUM(F54:H54) -> 0 | M54: =SUM(J54:L54) -> 0 | Q54: =SUM(N54:P54) -> 0 | R54: =M54+I54+E54+Q54 -> 0
A55: CL-S621 | E55: =SUM(B55:D55) -> 0 | I55: =SUM(F55:H55) -> 0 | M55: =SUM(J55:L55) -> 0 | Q55: =SUM(N55:P55) -> 0 | R55: =M55+I55+E55+Q55 -> 0
A56: CL-S6621 | E56: =SUM(B56:D56) -> 0 | I56: =SUM(F56:H56) -> 0 | M56: =SUM(J56:L56) -> 0 | Q56: =SUM(N56:P56) -> 0 | R56: =M56+I56+E56+Q56 -> 0
A57: CL-S631 | C57: 1 | E57: =SUM(B57:D57) -> 1 | I57: =SUM(F57:H57) -> 0 | M57: =SUM(J57:L57) -> 0 | Q57: =SUM(N57:P57) -> 0 | R57: =M57+I57+E57+Q57 -> 1
A58: CL-S700 | E58: =SUM(B58:D58) -> 0 | I58: =SUM(F58:H58) -> 0 | M58: =SUM(J58:L58) -> 0 | Q58: =SUM(N58:P58) -> 0 | R58: =M58+I58+E58+Q58 -> 0
A59: CL-S700R | E59: =SUM(B59:D59) -> 0 | I59: =SUM(F59:H59) -> 0 | M59: =SUM(J59:L59) -> 0 | Q59: =SUM(N59:P59) -> 0 | R59: =M59+I59+E59+Q59 -> 0
A60: CL-S703 | B60: 2 | E60: =SUM(B60:D60) -> 2 | I60: =SUM(F60:H60) -> 0 | M60: =SUM(J60:L60) -> 0 | Q60: =SUM(N60:P60) -> 0 | R60: =M60+I60+E60+Q60 -> 2
A61: CL-S703R | E61: =SUM(B61:D61) -> 0 | I61: =SUM(F61:H61) -> 0 | M61: =SUM(J61:L61) -> 0 | Q61: =SUM(N61:P61) -> 0 | R61: =M61+I61+E61+Q61 -> 0
A62: CLE-720 | R62: =M62+I62+E62+Q62 -> 0
A63: CLE-730 | R63: =M63+I63+E63+Q63 -> 0
A64: CLP 8301 | E64: =SUM(B64:D64) -> 0 | I64: =SUM(F64:H64) -> 0 | M64: =SUM(J64:L64) -> 0 | Q64: =SUM(N64:P64) -> 0 | R64: =M64+I64+E64+Q64 -> 0
A65: ZEBRA | E65: =SUM(B65:D65) -> 0 | I65: =SUM(F65:H65) -> 0 | M65: =SUM(J65:L65) -> 0 | Q65: =SUM(N65:P65) -> 0 | R65: =M65+I65+E65+Q65 -> 0
A66: INNE | E66: =SUM(B66:D66) -> 0 | I66: =SUM(F66:H66) -> 0 | M66: =SUM(J66:L66) -> 0 | Q66: =SUM(N66:P66) -> 0 | R66: =M66+I66+E66+Q66 -> 0
A67: SUMA: | B67: =SUM(B54:B66) -> 2 | C67: =SUM(C54:C66) -> 1 | D67: =SUM(D54:D66) -> 0 | E67: =SUM(B67:D67) -> 3 | F67: =SUM(F54:F66) -> 0 | G67: =SUM(G54:G66) -> 0 | H67: =SUM(H54:H66) -> 0 | I67: =SUM(F67:H67) -> 0 | J67: =SUM(J54:J66) -> 0 | K67: =SUM(K54:K66) -> 0 | L67: =SUM(L54:L66) -> 0 | M67: =SUM(J67:L67) -> 0 | N67: =SUM(N54:N66) -> 0 | O67: =SUM(O54:O66) -> 0 | P67: =SUM(P54:P66) -> 0 | Q67: =SUM(N67:P67) -> 0 | R67: =M67+I67+E67+Q67 -> 3
A69: Raport za miesiąc: | B69: lipiec | C69: sierpień | D69: wrzesień | E69: KW III | F69: kwiecień | G69: maj | H69: czerwiec | I69: KW II | J69: styczeń | K69: luty | L69: marzec | M69: Suma IKW | N69: paździer. | O69: listopad | P69: grudzień | Q69: KW IV | R69: Suma
A70: Ilość nowych Klientów: | B70: 0 | C70: 1 | E70: =SUM(B70:D70) -> 1 | G70: 0 | H70: 1 | I70: =SUM(F70:H70) -> 1 | M70: =SUM(J70:L70) -> 0 | Q70: =SUM(N70:P70) -> 0 | R70: =M70+I70+E70+Q70 -> 2
A71: Ilość Klientów przekaz. z Gliwic lub zm. nazwę/NIP. | B71: 0 | C71: 0 | E71: =SUM(B71:D71) -> 0 | G71: 0 | H71: 0 | I71: =SUM(F71:H71) -> 0 | M71: =SUM(J71:L71) -> 0 | Q71: =SUM(N71:P71) -> 0 | R71: =M71+I71+E71+Q71 -> 0
A72: Ilość Podmiotów na etapie współpracy Klient: | B72: 90 | C72: 92 | G72: 15 | H72: 90
A73: Ilość Podmiotów na etapie współpracy Handlowy: | B73: 8 | C73: 8 | G73: 1 | H73: 8
A74: Ilość Podmiotów na etapie współpracy Klient nieaktywny: | B74: 1 | C74: 1 | G74: 0 | H74: 1
A75: Ilość Podmiotów pod opieką: | B75: =SUM(B72:B74) -> 99 | C75: =SUM(C72:C74) -> 101 | G75: =SUM(G72:G74) -> 16 | H75: =SUM(H72:H74) -> 99
A76: Ilość sprzedanych drukarek: | B76: 2 | C76: 1 | E76: =SUM(B76:D76) -> 3 | G76: 0 | H76: 0 | I76: =SUM(F76:H76) -> 0 | M76: =SUM(J76:L76) -> 0 | Q76: =SUM(N76:P76) -> 0 | R76: =M76+I76+E76+Q76 -> 3
A77: Ilość ofert dodanych w danym miesiącu: | B77: 14 | C77: 35 | E77: =SUM(B77:D77) -> 49 | G77: 5 | H77: 16 | I77: =SUM(F77:H77) -> 21 | M77: =SUM(J77:L77) -> 0 | Q77: =SUM(N77:P77) -> 0 | R77: =M77+I77+E77+Q77 -> 70
A78: Ilość ofert oczekujących na decyzję kontrahenta: | B78: 2 | C78: 7 | G78: 1 | H78: 5
A79: Ilość zaakceptowanych ofert przez kontrahenta: | B79: 9 | C79: 9 | G79: 3 | H79: 8
A80: Ilość odrzuconych ofert przez kontrahenta: | B80: 4 | C80: 8 | G80: 1 | H80: 3
A81: Ilość przekazanych podmiotów z Marketingu: | B81: 1 | C81: 3 | E81: =SUM(B81:D81) -> 4 | G81: 0 | H81: 1 | I81: =SUM(F81:H81) -> 1 | M81: =SUM(J81:L81) -> 0 | Q81: =SUM(N81:P81) -> 0 | R81: =M81+I81+E81+Q81 -> 5
A82: Ilość przekazanych podmiotów do prowadzenia od KDH: | B82: 36 | C82: 25 | E82: =SUM(B82:D82) -> 61 | G82: 0 | H82: 6 | I82: =SUM(F82:H82) -> 6 | M82: =SUM(J82:L82) -> 0 | Q82: =SUM(N82:P82) -> 0 | R82: =M82+I82+E82+Q82 -> 67
A83: Ilość odebranych podmiotów (zmiana prowadzącego): | B83: 0 | C83: 0 | E83: =SUM(B83:D83) -> 0 | G83: 0 | H83: 0 | I83: =SUM(F83:H83) -> 0 | M83: =SUM(J83:L83) -> 0 | Q83: =SUM(N83:P83) -> 0 | R83: =M83+I83+E83+Q83 -> 0
A84: Ilość spotkań z Klientami: | B84: 4 | C84: 2 | E84: =SUM(B84:D84) -> 6 | G84: 0 | H84: 0 | I84: =SUM(F84:H84) -> 0 | M84: =SUM(J84:L84) -> 0 | Q84: =SUM(N84:P84) -> 0 | R84: =M84+I84+E84+Q84 -> 6
A85: Ilość aktualnie otwartych wdrożeń: | B85: 26 | C85: 44 | G85: 7 | H85: 17
A86: Ilość wdrożeń dodanych w danym miesiącu: | B86: 11 | C86: 23 | E86: =SUM(B86:D86) -> 34 | G86: 6 | H86: 8 | I86: =SUM(F86:H86) -> 14 | M86: =SUM(J86:L86) -> 0 | Q86: =SUM(N86:P86) -> 0 | R86: =M86+I86+E86+Q86 -> 48
A87: Ilość wdrożeń zamkniętych pozytywnie w danym mcu: | B87: 7 | C87: 2 | E87: =SUM(B87:D87) -> 9 | G87: 1 | H87: 9 | I87: =SUM(F87:H87) -> 10 | M87: =SUM(J87:L87) -> 0 | Q87: =SUM(N87:P87) -> 0 | R87: =M87+I87+E87+Q87 -> 19
A88: Ilość wdrożeń zamkniętych negatywnie w danym mcu: | B88: 8 | C88: 2 | E88: =SUM(B88:D88) -> 10 | G88: 0 | H88: 2 | I88: =SUM(F88:H88) -> 2 | M88: =SUM(J88:L88) -> 0 | Q88: =SUM(N88:P88) -> 0 | R88: =M88+I88+E88+Q88 -> 12
A89: Ilość aktualnie odłożonych wdrożeń: | B89: 7 | C89: 8 | G89: 0 | H89: 20
P90: =SUM(R88:R89) -> 12

Sheet BARTEK
A1: Bartłomiej Biskupski | B1: PLAN III KW BARTŁOMIEJ BISKUPSKI | F1: PLAN II KW BARTŁOMIEJ BISKUPSKI | J1: PLAN I KW BARTŁOMIEJ BISKUPSKI | N1: PLAN IV KW BARTŁOMIEJ BISKUPSKI
A2: miesiąc | B2: lipiec | C2: sierpień | D2: wrzesień | E2: KW III | F2: kwiecień | G2: maj | H2: czerwiec | I2: KW II | J2: styczeń | K2: luty | L2: marzec | M2: KW I | N2: październik | O2: listopad | P2: grudzień | Q2: KW IV | R2: suma ROK
A4: Plan Sprzedaży Marża | B4: ='Target 2016'!I7 -> 28000 | C4: ='Target 2016'!J7-2500 -> 32500 | D4: ='Target 2016'!K7+2500 -> 44500 | E4: =SUM(B4:D4) -> 105000 | F4: ='Target 2016'!F7 -> 29700 | G4: ='Target 2016'!G7 -> 33000 | H4: ='Target 2016'!H7 -> 36300 | I4: =SUM(F4:H4) -> 99000 | J4: ='Target 2016'!C7 -> 27000 | K4: ='Target 2016'!D7 -> 30000 | L4: ='Target 2016'!E7 -> 33000 | M4: =SUM(J4:L4) -> 90000 | N4: ='Target 2016'!L7 -> 0 | O4: ='Target 2016'!M7 -> 0 | P4: ='Target 2016'!N7 -> 0 | Q4: =SUM(N4:P4) -> 0 | R4: =M4+I4+E4+Q4 -> 294000
A5: Sumaryczny Plan Sprzedaży Marża | B5: =B4 -> 28000 | C5: =C4+B5 -> 60500 | D5: =D4+C5 -> 105000 | F5: =F4 -> 29700 | G5: =G4+F5 -> 62700 | H5: =H4+G5 -> 99000 | J5: =J4 -> 27000 | K5: =K4+J5 -> 57000 | L5: =L4+K5 -> 90000 | N5: =N4 -> 0 | O5: =O4+N5 -> 0 | P5: =P4+O5 -> 0
A6: Miesięczna realizacja Planu Sprzedaży Marża | B6: =SUMIF(VII!A:A,$A$1,VII!I:I) -> 23451.858 | C6: =SUMIF(VIII!A:A,$A$1,VIII!I:I) -> 34152.533 | D6: =SUMIF(IX!A:A,$A$1,IX!I:I) -> 33602.4 | E6: =SUM(B6:D6) -> 91206.791 | F6: =SUMIF(IV!A:A,$A$1,IV!I:I) -> 38238.745 | G6: =SUMIF(V!A:A,$A$1,V!I:I) -> 30167.054 | H6: =SUMIF(VI!A:A,$A$1,VI!I:I) -> 46124.904 | I6: =SUM(F6:H6) -> 114530.7 | J6: =SUMIF(I!A:A,$A$1,I!I:I) -> 28562.426 | K6: =SUMIF(II!A:A,$A$1,II!I:I) -> 36849.664 | L6: =SUMIF(III!A:A,$A$1,III!I:I) -> 44215.68 | M6: =SUM(J6:L6) -> 109627.77 | N6: =SUMIF(X!A:A,$A$1,X!I:I) -> 0 | O6: =SUMIF(XI!A:A,$A$1,XI!I:I) -> 0 | P6: =SUMIF(XII!A:A,$A$1,XII!I:I) -> 0 | Q6: =SUM(N6:P6) -> 0 | R6: =M6+I6+E6+Q6 -> 315365.26
A7: Sumaryczna realizacja planu sprzedaży Marża | B7: =B6 -> 23451.858 | C7: =C6+B7 -> 57604.391 | D7: =D6+C7 -> 91206.791 | F7: =F6 -> 38238.745 | G7: =G6+F7 -> 68405.799 | H7: =H6+G7 -> 114530.7 | J7: =J6 -> 28562.426 | K7: =K6+J7 -> 65412.089 | L7: =L6+K7 -> 109627.77 | N7: =N6 -> 0 | O7: =O6+N7 -> 0 | P7: =P6+O7 -> 0
A8: Wysokość zrealizowania Miesięcznego Planu Sprzedaży Marża | B8: =B6/B4 -> 0.83756636 | C8: =C6/C4 -> 1.0508472 | D8: =D6/D4 -> 0.75511011 | F8: =F6/F4 -> 1.2874998 | G8: =G6/G4 -> 0.91415314 | H8: =H6/H4 -> 1.2706585 | J8: =J6/J4 -> 1.0578676 | K8: =K6/K4 -> 1.2283221 | L8: =L6/L4 -> 1.3398691 | N8: =N6/N4 -> #DIV/0! | O8: =O6/O4 -> #DIV/0! | P8: =P6/P4 -> #DIV/0!
A9: Wysokość zrealizowania Planu Sprzedaży Marża | B9: =B7/B5 -> 0.83756636 | C9: =C7/C5 -> 0.95213869 | D9: =D7/D5 -> 0.8686361 | F9: =F7/F5 -> 1.2874998 | G9: =G7/G5 -> 1.0910016 | H9: =H7/H5 -> 1.1568758 | J9: =J7/J5 -> 1.0578676 | K9: =K7/K5 -> 1.1475805 | L9: =L7/L5 -> 1.2180863 | N9: =N7/N5 -> #DIV/0! | O9: =O7/O5 -> #DIV/0! | P9: =P7/P5 -> #DIV/0!
A10: Różnica wskaźnika Marża | B10: =B7-B5 -> -4548.1418 | C10: =C7-C5 -> -2895.6092 | D10: =D7-D5 -> -13793.209 | F10: =F7-F5 -> 8538.7455 | G10: =G7-G5 -> 5705.7992 | H10: =H7-H5 -> 15530.703 | J10: =J7-J5 -> 1562.4256 | K10: =K7-K5 -> 8412.0893 | L10: =L7-L5 -> 19627.769 | N10: =N7-N5 -> 0 | O10: =O7-O5 -> 0 | P10: =P7-P5 -> 0
A11: Plan Sprzedaży Obrót | B11: ='Target 2016'!I17-4000 -> 80000 | C11: ='Target 2016'!J17 -> 105000 | D11: ='Target 2016'!K17+4000 -> 130000 | E11: =SUM(B11:D11) -> 315000 | F11: ='Target 2016'!F17 -> 90000 | G11: ='Target 2016'!G17 -> 100000 | H11: ='Target 2016'!H17 -> 110000 | I11: =SUM(F11:H11) -> 300000 | J11: ='Target 2016'!C17 -> 85500 | K11: ='Target 2016'!D17 -> 95000 | L11: ='Target 2016'!E17 -> 104500 | M11: =SUM(J11:L11) -> 285000 | N11: ='Target 2016'!L17 -> 0 | O11: ='Target 2016'!M17 -> 0 | P11: ='Target 2016'!N17 -> 0 | Q11: =SUM(N11:P11) -> 0 | R11: =M11+I11+E11+Q11 -> 900000
A12: Sumaryczny Plan Sprzedaży Obrót | B12: =B11 -> 80000 | C12: =C11+B12 -> 185000 | D12: =D11+C12 -> 315000 | F12: =F11 -> 90000 | G12: =G11+F12 -> 190000 | H12: =H11+G12 -> 300000 | J12: =J11 -> 85500 | K12: =K11+J12 -> 180500 | L12: =L11+K12 -> 285000 | N12: =N11 -> 0 | O12: =O11+N12 -> 0 | P12: =P11+O12 -> 0
A13: Miesięczna realizacja Planu Sprzedaży Obrót | B13: =SUMIF(VII!A:A,$A$1,VII!G:G) -> 64197.07 | C13: =SUMIF(VIII!A:A,$A$1,VIII!G:G) -> 116456.16 | D13: =SUMIF(IX!A:A,$A$1,IX!G:G) -> 95921.37 | E13: =SUM(B13:D13) -> 276574.6 | F13: =SUMIF(IV!A:A,$A$1,IV!G:G) -> 131358.77 | G13: =SUMIF(V!A:A,$A$1,V!G:G) -> 72396.37 | H13: =SUMIF(VI!A:A,$A$1,VI!G:G) -> 134049.56 | I13: =SUM(F13:H13) -> 337804.7 | J13: =SUMIF(I!A:A,$A$1,I!G:G) -> 105563.08 | K13: =SUMIF(II!A:A,$A$1,II!G:G) -> 116177.46 | L13: =SUMIF(III!A:A,$A$1,III!G:G) -> 144515.94 | M13: =SUM(J13:L13) -> 366256.48 | N13: =SUMIF(X!A:A,$A$1,X!G:G) -> 0 | O13: =SUMIF(XI!A:A,$A$1,XI!G:G) -> 0 | P13: =SUMIF(XII!A:A,$A$1,XII!G:G) -> 0 | Q13: =SUM(N13:P13) -> 0 | R13: =M13+I13+E13+Q13 -> 980635.78
A14: Sumaryczna realizacja planu sprzedaży Obrót | B14: =B13 -> 64197.07 | C14: =C13+B14 -> 180653.23 | D14: =D13+C14 -> 276574.6 | F14: =F13 -> 131358.77 | G14: =G13+F14 -> 203755.14 | H14: =H13+G14 -> 337804.7 | J14: =J13 -> 105563.08 | K14: =K13+J14 -> 221740.54 | L14: =L13+K14 -> 366256.48 | N14: =N13 -> 0 | O14: =O13+N14 -> 0 | P14: =P13+O14 -> 0
A15: Wysokość zrealizowania Miesięcznego Planu Sprzedaży Obrót | B15: =B13/B11 -> 0.80246337 | C15: =C13/C11 -> 1.1091063 | D15: =D13/D11 -> 0.73785669 | F15: =F13/F11 -> 1.4595419 | G15: =G13/G11 -> 0.7239637 | H15: =H13/H11 -> 1.2186324 | J15: =J13/J11 -> 1.2346559 | K15: =K13/K11 -> 1.2229206 | L15: =L13/L11 -> 1.3829277 | N15: =N13/N11 -> #DIV/0! | O15: =O13/O11 -> #DIV/0! | P15: =P13/P11 -> #DIV/0!
A16: Wysokość zrealizowania Planu Sprzedaży Obrót | B16: =B14/B12 -> 0.80246337 | C16: =C14/C12 -> 0.97650395 | D16: =D14/D12 -> 0.8780146 | F16: =F14/F12 -> 1.4595419 | G16: =G14/G12 -> 1.0723955 | H16: =H14/H12 -> 1.1260157 | J16: =J14/J12 -> 1.2346559 | K16: =K14/K12 -> 1.2284794 | L16: =L14/L12 -> 1.2851105 | N16: =N14/N12 -> #DIV/0! | O16: =O14/O12 -> #DIV/0! | P16: =P14/P12 -> #DIV/0!
A17: Różnica wskaźnika Obrót | B17: =B14-B12 -> -15802.93 | C17: =C14-C12 -> -4346.77 | D17: =D14-D12 -> -38425.4 | F17: =F14-F12 -> 41358.77 | G17: =G14-G12 -> 13755.14 | H17: =H14-H12 -> 37804.7 | J17: =J14-J12 -> 20063.08 | K17: =K14-K12 -> 41240.54 | L17: =L14-L12 -> 81256.48 | N17: =N14-N12 -> 0 | O17: =O14-O12 -> 0 | P17: =P14-P12 -> 0
A18: Wysokość Marży miesięcznej | B18: =B6/B13 -> 0.36531041 | C18: =C6/C13 -> 0.29326514 | D18: =D6/D13 -> 0.35031193 | F18: =F6/F13 -> 0.29110158 | G18: =G6/G13 -> 0.4166929 | H18: =H6/H13 -> 0.34408844 | J18: =J6/J13 -> 0.27057211 | K18: =K6/K13 -> 0.31718428 | L18: =L6/L13 -> 0.30595711 | N18: =N6/N13 -> #DIV/0! | O18: =O6/O13 -> #DIV/0! | P18: =P6/P13 -> #DIV/0!
A19: Wysokość Marży sumarycznej | B19: =B7/B14 -> 0.36531041 | C19: =C7/C14 -> 0.31886721 | D19: =D7/D14 -> 0.32977284 | F19: =F7/F14 -> 0.29110158 | G19: =G7/G14 -> 0.33572551 | H19: =H7/H14 -> 0.33904414 | J19: =J7/J14 -> 0.27057211 | K19: =K7/K14 -> 0.29499382 | L19: =L7/L14 -> 0.29931967 | N19: =N7/N14 -> #DIV/0! | O19: =O7/O14 -> #DIV/0! | P19: =P7/P14 -> #DIV/0!
J21: PREMIE
A22: Wynagrodzenie zasadnicze | B22: 2800 | C22: 2800 | D22: 2800 | F22: 2800 | G22: 2800 | H22: 2800 | J22: 2430 | K22: 2800 | L22: 2800 | N22: 2800 | O22: 2800 | P22: 2800
A23: Wskaźnik Plan Sprzedaży Marża | B23: =B5 -> 28000 | C23: =C5 -> 60500 | D23: =D5 -> 105000 | F23: =F5 -> 29700 | G23: =G5 -> 62700 | H23: =H5 -> 99000 | J23: =J5 -> 27000 | K23: =K5 -> 57000 | L23: =L5 -> 90000 | N23: =N5 -> 0 | O23: =O5 -> 0 | P23: =P5 -> 0
A24: Realizacja Wskaźnika Planu Sprzedaży Marża | B24: =B7 -> 23451.858 | C24: =C7 -> 57604.391 | D24: =D7 -> 91206.791 | F24: =F7 -> 38238.745 | G24: =G7 -> 68405.799 | H24: =H7 -> 114530.7 | J24: =J7 -> 28562.426 | K24: =K7 -> 65412.089 | L24: =L7 -> 109627.77 | N24: =N7 -> 0 | O24: =O7 -> 0 | P24: =P7 -> 0
A25: Poziom realizacji Wskaźnika Sprzedaży Marża | B25: =B24/B23 -> 0.83756636 | C25: =C24/C23 -> 0.95213869 | D25: =D24/D23 -> 0.8686361 | F25: =F24/F23 -> 1.2874998 | G25: =G24/G23 -> 1.0910016 | H25: =H24/H23 -> 1.1568758 | J25: =J24/J23 -> 1.0578676 | K25: =K24/K23 -> 1.1475805 | L25: =L24/L23 -> 1.2180863 | N25: =N24/N23 -> #DIV/0! | O25: =O24/O23 -> #DIV/0! | P25: =P24/P23 -> #DIV/0!
A26: Wysokość premii Wskaźnik Sprzedaży Marża | B26: =B22*0.2 -> 560 | C26: =C22*0.2 -> 560 | D26: =D22*0.2 -> 560 | F26: =F22*0.2 -> 560 | G26: =G22*0.2 -> 560 | H26: =H22*0.2 -> 560 | J26: =J22*0.2 -> 486 | K26: =K22*0.2 -> 560 | L26: =L22*0.2 -> 560 | N26: =N22*0.2 -> 560 | O26: =O22*0.2 -> 560 | P26: =P22*0.2 -> 560
A27: Mnożnik premii miesięcznej Wskaźnika Sprzedaży Marża | B27: =IF(B25<80%,0,IF(B25<90%,0.5,IF(B25<95%,0.75,1))) -> 0.5 | C27: =IF(C25<80%,0,IF(C25<90%,0.5,IF(C25<95%,0.75,1))) -> 1 | D27: =IF(D25<80%,0,IF(D25<90%,0.5,IF(D25<95%,0.75,1))) -> 0.5 | F27: =IF(F25<80%,0,IF(F25<90%,0.5,IF(F25<95%,0.75,1))) -> 1 | G27: =IF(G25<80%,0,IF(G25<90%,0.5,IF(G25<95%,0.75,1))) -> 1 | H27: =IF(H25<80%,0,IF(H25<90%,0.5,IF(H25<95%,0.75,1))) -> 1 | J27: =IF(J25<80%,0,IF(J25<90%,0.5,IF(J25<95%,0.75,1))) -> 1 | K27: =IF(K25<80%,0,IF(K25<90%,0.5,IF(K25<95%,0.75,1))) -> 1 | L27: =IF(L25<80%,0,IF(L25<90%,0.5,IF(L25<95%,0.75,1))) -> 1 | N27: =IF(N25<80%,0,IF(N25<90%,0.5,IF(N25<95%,0.75,1))) -> #DIV/0! | O27: =IF(O25<80%,0,IF(O25<90%,0.5,IF(O25<95%,0.75,1))) -> #DIV/0! | P27: =IF(P25<80%,0,IF(P25<90%,0.5,IF(P25<95%,0.75,1))) -> #DIV/0!
A28: Premia miesięczna za Wskaźnik Sprzedaży Marża | B28: =B27*B26 -> 280 | C28: =C27*C26 -> 560 | D28: =D27*D26 -> 280 | F28: =F27*F26 -> 560 | G28: =G27*G26 -> 560 | H28: =H27*H26 -> 560 | J28: =J27*J26 -> 486 | K28: =K27*K26 -> 560 | L28: =L27*L26 -> 560 | N28: =N27*N26 -> #DIV/0! | O28: =O27*O26 -> #DIV/0! | P28: =P27*P26 -> #DIV/0!
A29: Wskaźnik Plan Sprzedaży Obrót | B29: =B12 -> 80000 | C29: =C12 -> 185000 | D29: =D12 -> 315000 | F29: =F12 -> 90000 | G29: =G12 -> 190000 | H29: =H12 -> 300000 | J29: =J12 -> 85500 | K29: =K12 -> 180500 | L29: =L12 -> 285000 | N29: =N12 -> 0 | O29: =O12 -> 0 | P29: =P12 -> 0
A30: Realizacja Wskaźnika Planu Sprzedaży Obrót | B30: =B14 -> 64197.07 | C30: =C14 -> 180653.23 | D30: =D14 -> 276574.6 | F30: =F14 -> 131358.77 | G30: =G14 -> 203755.14 | H30: =H14 -> 337804.7 | J30: =J14 -> 105563.08 | K30: =K14 -> 221740.54 | L30: =L14 -> 366256.48 | N30: =N14 -> 0 | O30: =O14 -> 0 | P30: =P14 -> 0
A31: Poziom realizacji Wskaźnika Sprzedaży Obrót | B31: =B30/B29 -> 0.80246337 | C31: =C30/C29 -> 0.97650395 | D31: =D30/D29 -> 0.8780146 | F31: =F30/F29 -> 1.4595419 | G31: =G30/G29 -> 1.0723955 | H31: =H30/H29 -> 1.1260157 | J31: =J30/J29 -> 1.2346559 | K31: =K30/K29 -> 1.2284794 | L31: =L30/L29 -> 1.2851105 | N31: =N30/N29 -> #DIV/0! | O31: =O30/O29 -> #DIV/0! | P31: =P30/P29 -> #DIV/0!
A32: Wysokość premii Wskaźnik Sprzedaży Obrót | B32: =B22*0.2 -> 560 | C32: =C22*0.2 -> 560 | D32: =D22*0.2 -> 560 | F32: =F22*0.2 -> 560 | G32: =G22*0.2 -> 560 | H32: =H22*0.2 -> 560 | J32: =J22*0.2 -> 486 | K32: =K22*0.2 -> 560 | L32: =L22*0.2 -> 560 | N32: =N22*0.2 -> 560 | O32: =O22*0.2 -> 560 | P32: =P22*0.2 -> 560
A33: Mnożnik premii miesięcznej Wskaźnika Sprzedaży Obrót | B33: =IF(B31<80%,0,IF(B31<90%,0.5,IF(B31<95%,0.75,1))) -> 0.5 | C33: =IF(C31<80%,0,IF(C31<90%,0.5,IF(C31<95%,0.75,1))) -> 1 | D33: =IF(D31<80%,0,IF(D31<90%,0.5,IF(D31<95%,0.75,1))) -> 0.5 | F33: =IF(F31<80%,0,IF(F31<90%,0.5,IF(F31<95%,0.75,1))) -> 1 | G33: =IF(G31<80%,0,IF(G31<90%,0.5,IF(G31<95%,0.75,1))) -> 1 | H33: =IF(H31<80%,0,IF(H31<90%,0.5,IF(H31<95%,0.75,1))) -> 1 | J33: =IF(J31<80%,0,IF(J31<90%,0.5,IF(J31<95%,0.75,1))) -> 1 | K33: =IF(K31<80%,0,IF(K31<90%,0.5,IF(K31<95%,0.75,1))) -> 1 | L33: =IF(L31<80%,0,IF(L31<90%,0.5,IF(L31<95%,0.75,1))) -> 1 | N33: =IF(N31<80%,0,IF(N31<90%,0.5,IF(N31<95%,0.75,1))) -> #DIV/0! | O33: =IF(O31<80%,0,IF(O31<90%,0.5,IF(O31<95%,0.75,1))) -> #DIV/0! | P33: =IF(P31<80%,0,IF(P31<90%,0.5,IF(P31<95%,0.75,1))) -> #DIV/0!
A34: Premia miesięczna za Wskaźnik Sprzedaży Obrót | B34: =B33*B32 -> 280 | C34: =C33*C32 -> 560 | D34: =D33*D32 -> 280 | F34: =F33*F32 -> 560 | G34: =G33*G32 -> 560 | H34: =H33*H32 -> 560 | J34: =J33*J32 -> 486 | K34: =K33*K32 -> 560 | L34: =L33*L32 -> 560 | N34: =N33*N32 -> #DIV/0! | O34: =O33*O32 -> #DIV/0! | P34: =P33*P32 -> #DIV/0!
A35: Wskaźnik CRM | B35: 1 | C35: 1 | D35: 1 | F35: 1 | G35: 1 | H35: 1 | J35: 1 | K35: 1 | L35: 1 | N35: 1 | O35: 1 | P35: 1
A36: Wysokość premii CRM | B36: =B22*0.1 -> 280 | C36: =C22*0.1 -> 280 | D36: =D22*0.1 -> 280 | F36: =F22*0.1 -> 280 | G36: =G22*0.1 -> 280 | H36: =H22*0.1 -> 280 | J36: =J22*0.1 -> 243 | K36: =K22*0.1 -> 280 | L36: =L22*0.1 -> 280 | N36: =N22*0.1 -> 280 | O36: =O22*0.1 -> 280 | P36: =P22*0.1 -> 280
A37: Mnożnik premii Wskaźnik CRM | B37: 1 | C37: 1 | F37: 1 | G37: 1 | H37: 1 | J37: 1 | K37: 1 | L37: 1
A38: Premia miesięczna za Wskaźnik CRM | B38: =B37*B36 -> 280 | C38: =C37*C36 -> 280 | D38: =D37*D36 -> 0 | F38: =F37*F36 -> 280 | G38: =G37*G36 -> 280 | H38: =H37*H36 -> 280 | J38: =J37*J36 -> 243 | K38: =K37*K36 -> 280 | L38: =L37*L36 -> 280 | N38: =N37*N36 -> 0 | O38: =O37*O36 -> 0 | P38: =P37*P36 -> 0
A39: Suma Premii miesięcznych | B39: =B34+B28+B38 -> 840 | C39: =C34+C28+C38 -> 1400 | D39: =D34+D28+D38 -> 560 | F39: =F34+F28+F38 -> 1400 | G39: =G34+G28+G38 -> 1400 | H39: =H34+H28+H38 -> 1400 | J39: =J34+J28+J38 -> 1215 | K39: =K34+K28+K38 -> 1400 | L39: =L34+L28+L38 -> 1400 | N39: =N34+N28+N38 -> #DIV/0! | O39: =O34+O28+O38 -> #DIV/0! | P39: =P34+P28+P38 -> #DIV/0!
A40: Wskaźnik Premia Kwartalna Marża | B40: =D5 -> 105000 | F40: =H5 -> 99000 | J40: =L5 -> 90000 | N40: =P5 -> 0
A41: Realizacja Wskaźnika Premia Kwartalna | B41: =D7 -> 91206.791 | F41: =H7 -> 114530.7 | J41: =L7 -> 109627.77 | N41: =P7 -> 0
A42: Poziom realizacji Wskaźnika Premia Kwartalna | B42: =B41/B40 -> 0.8686361 | F42: =F41/F40 -> 1.1568758 | J42: =J41/J40 -> 1.2180863 | N42: =N41/N40 -> #DIV/0!
A43: Wysokość premii kwartalnej. | B43: =D22/2 -> 1400 | F43: =H22/2 -> 1400 | J43: =L22/2 -> 1400 | N43: =P22/2 -> 1400
A44: Mnożnik premii kwartalnej | B44: =IF(B42<100%,0,IF(B42<110%,0.5,IF(B42<120%,0.7,1))) -> 0 | F44: =IF(F42<100%,0,IF(F42<110%,0.5,IF(F42<120%,0.7,1))) -> 0.7 | J44: =IF(J42<100%,0,IF(J42<110%,0.5,IF(J42<120%,0.7,1))) -> 1 | N44: =IF(N42<100%,0,IF(N42<110%,0.5,IF(N42<120%,0.7,1))) -> #DIV/0!
A45: Premia kwartalna | B45: =B44*B43 -> 0 | F45: =F44*F43 -> 980 | J45: =J44*J43 -> 1400 | N45: =N44*N43 -> #DIV/0!
A46: Wskaźnik Premia Kwartalna Obrót | B46: =E11 -> 315000 | F46: =I11 -> 300000 | J46: =M11 -> 285000 | N46: =Q11 -> 0
A47: Realizacja Wskaźnika Premia Kwartalna | B47: =D14 -> 276574.6 | F47: =H14 -> 337804.7 | J47: =L14 -> 366256.48 | N47: =P14 -> 0
A48: Poziom realizacji Wskaźnika Premia Kwartalna | B48: =B47/B46 -> 0.8780146 | F48: =F47/F46 -> 1.1260157 | J48: =J47/J46 -> 1.2851105 | N48: =N47/N46 -> #DIV/0!
A49: Wysokość premii kwartalnej. | B49: =D22/2 -> 1400 | F49: =H22/2 -> 1400 | J49: =L22/2 -> 1400 | N49: =P22/2 -> 1400
A50: Mnożnik premii kwartalnej | B50: =IF(B48<100%,0,IF(B48<110%,0.5,IF(B48<120%,0.7,1))) -> 0 | F50: =IF(F48<100%,0,IF(F48<110%,0.5,IF(F48<120%,0.7,1))) -> 0.7 | J50: =IF(J48<100%,0,IF(J48<110%,0.5,IF(J48<120%,0.7,1))) -> 1 | N50: =IF(N48<100%,0,IF(N48<110%,0.5,IF(N48<120%,0.7,1))) -> #DIV/0!
A51: Premia kwartalna | B51: =B50*B49 -> 0 | F51: =F50*F49 -> 980 | J51: =J50*J49 -> 1400 | N51: =N50*N49 -> #DIV/0!
A53: SPRZEDAŻ DRUKAREK | B53: lipiec | C53: sierpień | D53: wrzesień | E53: KW III | F53: kwiecień | G53: maj | H53: czerwiec | I53: KW II | J53: styczeń | K53: luty | L53: marzec | M53: KW I | N53: październik | O53: listopad | P53: grudzień | Q53: KW IV | R53: suma ROK
A54: CL-S521 | E54: =SUM(B54:D54) -> 0 | I54: =SUM(F54:H54) -> 0 | M54: =SUM(J54:L54) -> 0 | Q54: =SUM(N54:P54) -> 0 | R54: =M54+I54+E54+Q54 -> 0
A55: CL-S621 | E55: =SUM(B55:D55) -> 0 | F55: 2 | G55: 2 | H55: 1 | I55: =SUM(F55:H55) -> 5 | J55: 1 | K55: 2 | M55: =SUM(J55:L55) -> 3 | Q55: =SUM(N55:P55) -> 0 | R55: =M55+I55+E55+Q55 -> 8
A56: CL-S6621 | E56: =SUM(B56:D56) -> 0 | I56: =SUM(F56:H56) -> 0 | M56: =SUM(J56:L56) -> 0 | Q56: =SUM(N56:P56) -> 0 | R56: =M56+I56+E56+Q56 -> 0
A57: CL-S631 | E57: =SUM(B57:D57) -> 0 | I57: =SUM(F57:H57) -> 0 | L57: 2 | M57: =SUM(J57:L57) -> 2 | Q57: =SUM(N57:P57) -> 0 | R57: =M57+I57+E57+Q57 -> 2
A58: CL-S700 | E58: =SUM(B58:D58) -> 0 | I58: =SUM(F58:H58) -> 0 | M58: =SUM(J58:L58) -> 0 | Q58: =SUM(N58:P58) -> 0 | R58: =M58+I58+E58+Q58 -> 0
A59: CL-S700R | E59: =SUM(B59:D59) -> 0 | I59: =SUM(F59:H59) -> 0 | M59: =SUM(J59:L59) -> 0 | Q59: =SUM(N59:P59) -> 0 | R59: =M59+I59+E59+Q59 -> 0
A60: CL-S703 | E60: =SUM(B60:D60) -> 0 | I60: =SUM(F60:H60) -> 0 | L60: 1 | M60: =SUM(J60:L60) -> 1 | Q60: =SUM(N60:P60) -> 0 | R60: =M60+I60+E60+Q60 -> 1
A61: CL-S703R | E61: =SUM(B61:D61) -> 0 | I61: =SUM(F61:H61) -> 0 | M61: =SUM(J61:L61) -> 0 | Q61: =SUM(N61:P61) -> 0 | R61: =M61+I61+E61+Q61 -> 0
A62: CLE-720 | H62: 2 | L62: 1 | M62: =SUM(J62:L62) -> 1 | R62: =M62+I62+E62+Q62 -> 1
A63: CLE-730 | H63: 1 | R63: =M63+I63+E63+Q63 -> 0
A64: CLP 8301 | E64: =SUM(B64:D64) -> 0 | I64: =SUM(F64:H64) -> 0 | M64: =SUM(J64:L64) -> 0 | Q64: =SUM(N64:P64) -> 0 | R64: =M64+I64+E64+Q64 -> 0
A65: ZEBRA | E65: =SUM(B65:D65) -> 0 | I65: =SUM(F65:H65) -> 0 | M65: =SUM(J65:L65) -> 0 | Q65: =SUM(N65:P65) -> 0 | R65: =M65+I65+E65+Q65 -> 0
A66: INNE | E66: =SUM(B66:D66) -> 0 | I66: =SUM(F66:H66) -> 0 | M66: =SUM(J66:L66) -> 0 | Q66: =SUM(N66:P66) -> 0 | R66: =M66+I66+E66+Q66 -> 0
A67: SUMA: | B67: =SUM(B54:B66) -> 0 | C67: =SUM(C54:C66) -> 0 | D67: =SUM(D54:D66) -> 0 | E67: =SUM(B67:D67) -> 0 | F67: =SUM(F54:F66) -> 2 | G67: =SUM(G54:G66) -> 2 | H67: =SUM(H54:H66) -> 4 | I67: =SUM(F67:H67) -> 8 | J67: =SUM(J54:J66) -> 1 | K67: =SUM(K54:K66) -> 2 | L67: =SUM(L54:L66) -> 4 | M67: =SUM(J67:L67) -> 7 | N67: =SUM(N54:N66) -> 0 | O67: =SUM(O54:O66) -> 0 | P67: =SUM(P54:P66) -> 0 | Q67: =SUM(N67:P67) -> 0 | R67: =M67+I67+E67+Q67 -> 15
A69: Raport za miesiąc: | B69: lipiec | C69: sierpień | D69: wrzesień | E69: KW III | F69: kwiecień | G69: maj | H69: czerwiec | I69: KW II | J69: styczeń | K69: luty | L69: marzec | M69: Suma IKW | N69: paździer. | O69: listopad | P69: grudzień | Q69: KW IV | R69: Suma
A70: Ilość nowych Klientów: | B70: 0 | C70: 2 | F70: 4 | G70: 5 | H70: 0 | I70: =SUM(F70:H70) -> 9 | J70: 0 | K70: 4 | L70: 2 | M70: =SUM(J70:L70) -> 6 | R70: =M70+I70+E70+Q70 -> 15
A71: Ilość Klientów przekaz. z Gliwic lub zm. nazwę/NIP. | B71: 0 | C71: 0 | F71: 0 | G71: 0 | H71: 0 | I71: =SUM(F71:H71) -> 0 | J71: 1 | K71: 0 | L71: 0 | M71: =SUM(J71:L71) -> 1 | R71: =M71+I71+E71+Q71 -> 1
A72: Ilość Podmiotów na etapie współpracy Klient: | B72: 168 | C72: 172 | F72: 159 | G72: 166 | H72: 167 | J72: 146 | K72: 153 | L72: 155
A73: Ilość Podmiotów na etapie współpracy Handlowy: | B73: 27 | C73: 22 | F73: 20 | G73: 16 | H73: 23 | J73: 14 | K73: 11 | L73: 15
A74: Ilość Podmiotów na etapie współpracy Klient nieaktywny: | B74: 4 | C74: 4 | F74: 6 | G74: 5 | H74: 4 | J74: 11 | K74: 6 | L74: 7
A75: Ilość Podmiotów pod opieką: | B75: =SUM(B72:B74) -> 199 | C75: =SUM(C72:C74) -> 198 | F75: =SUM(F72:F74) -> 185 | G75: =SUM(G72:G74) -> 187 | H75: =SUM(H72:H74) -> 194 | J75: 171 | K75: 170 | L75: 177
A76: Ilość sprzedanych drukarek: | B76: 0 | C76: 0 | F76: 2 | G76: 2 | H76: 4 | I76: =SUM(F76:H76) -> 8 | J76: 1 | K76: 2 | L76: 4 | M76: =SUM(J76:L76) -> 7 | R76: =M76+I76+E76+Q76 -> 15
A77: Ilość ofert dodanych w danym miesiącu: | B77: 37 | C77: 22 | F77: 33 | G77: 34 | H77: 28 | I77: =SUM(F77:H77) -> 95 | J77: 39 | K77: 47 | L77: 47 | M77: =SUM(J77:L77) -> 133 | R77: =M77+I77+E77+Q77 -> 228
A78: Ilość ofert oczekujących na decyzję kontrahenta: | B78: 14 | C78: 4 | F78: 10 | G78: 6 | H78: 13 | J78: 16 | K78: 18 | L78: 14
A79: Ilość zaakceptowanych ofert przez kontrahenta: | B79: 8 | C79: 15 | F79: 13 | G79: 21 | H79: 10 | J79: 11 | K79: 15 | L79: 19
A80: Ilość odrzuconych ofert przez kontrahenta: | B80: 27 | C80: 18 | F80: 25 | G80: 17 | H80: 11 | J80: 20 | K80: 31 | L80: 32
A81: Ilość przekazanych podmiotów z Marketingu: | B81: 2 | C81: 3 | F81: 15 | G81: 11 | H81: 5 | I81: =SUM(F81:H81) -> 31 | J81: 4 | K81: 9 | L81: 10 | M81: =SUM(J81:L81) -> 23 | R81: =M81+I81+E81+Q81 -> 54
A82: Ilość przekazanych podmiotów do prowadzenia od KDH: | B82: 6 | C82: 1 | F82: 0 | G82: 2 | H82: 1 | I82: =SUM(F82:H82) -> 3 | J82: 0 | K82: 1 | L82: 0 | M82: =SUM(J82:L82) -> 1 | R82: =M82+I82+E82+Q82 -> 4
A83: Ilość odebranych podmiotów (zmiana prowadzącego): | B83: 0 | C83: 1 | F83: 0 | G83: 1 | H83: 0 | I83: =SUM(F83:H83) -> 1 | J83: 9 | K83: 0 | L83: 0 | M83: =SUM(J83:L83) -> 9 | R83: =M83+I83+E83+Q83 -> 10
A84: Ilość spotkań z Klientami: | B84: 0 | C84: 3 | F84: 4 | G84: 4 | H84: 6 | I84: =SUM(F84:H84) -> 14 | J84: 6 | K84: 7 | L84: 9 | M84: =SUM(J84:L84) -> 22 | R84: =M84+I84+E84+Q84 -> 36
A85: Ilość aktualnie otwartych wdrożeń: | B85: 45 | C85: 45 | F85: 47 | G85: 47 | H85: 48 | J85: 48 | K85: 54 | L85: 44
A86: Ilość wdrożeń dodanych w danym miesiącu: | B86: 11 | C86: 15 | F86: 25 | G86: 21 | H86: 19 | I86: =SUM(F86:H86) -> 65 | J86: 23 | K86: 25 | L86: 28 | M86: =SUM(J86:L86) -> 76 | R86: =M86+I86+E86+Q86 -> 141
A87: Ilość wdrożeń zamkniętych pozytywnie w danym mcu: | B87: 6 | C87: 11 | F87: 14 | G87: 19 | H87: 8 | I87: =SUM(F87:H87) -> 41 | J87: 9 | K87: 14 | L87: 20 | M87: =SUM(J87:L87) -> 43 | R87: =M87+I87+E87+Q87 -> 84
A88: Ilość wdrożeń zamkniętych negatywnie w danym mcu: | B88: 8 | C88: 7 | F88: 11 | G88: 4 | H88: 9 | I88: =SUM(F88:H88) -> 24 | J88: 8 | K88: 10 | L88: 21 | M88: =SUM(J88:L88) -> 39 | R88: =M88+I88+E88+Q88 -> 63 | S88: =R88/P90 -> 1
A89: Ilość aktualnie odłożonych wdrożeń: | B89: 1 | C89: 1 | F89: 1 | G89: 0 | H89: 0 | J89: 3 | K89: 1 | L89: 1 | S89: =R89/P90 -> 0
P90: =SUM(R88:R89) -> 63

Sheet PIOTR
A1: Piotr Choma | B1: PLAN III KW Piotr Choma | F1: PLAN II KW Piotr Choma | J1: PLAN I KW Piotr Choma | N1: PLAN IV KW Piotr Choma
A2: miesiąc | B2: lipiec | C2: sierpień | D2: wrzesień | E2: KW III | F2: kwiecień | G2: maj | H2: czerwiec | I2: KW II | J2: styczeń | K2: luty | L2: marzec | M2: KW I | N2: październik | O2: listopad | P2: grudzień | Q2: KW IV | R2: suma ROK
A4: Plan Sprzedaży Marża | B4: ='Target 2016'!I8 -> 40000 | C4: ='Target 2016'!J8 -> 50000 | D4: ='Target 2016'!K8 -> 60000 | E4: =SUM(B4:D4) -> 150000 | F4: ='Target 2016'!F8 -> 49500 | G4: ='Target 2016'!G8 -> 55000 | H4: ='Target 2016'!H8 -> 60500 | I4: =SUM(F4:H4) -> 165000 | J4: ='Target 2016'!C8 -> 45000 | K4: ='Target 2016'!D8 -> 50000 | L4: ='Target 2016'!E8 -> 55000 | M4: =SUM(J4:L4) -> 150000 | N4: ='Target 2016'!L8 -> 0 | O4: ='Target 2016'!M8 -> 0 | P4: ='Target 2016'!N8 -> 0 | Q4: =SUM(N4:P4) -> 0 | R4: =M4+I4+E4+Q4 -> 465000
A5: Sumaryczny Plan Sprzedaży Marża | B5: =B4 -> 40000 | C5: =C4+B5 -> 90000 | D5: =D4+C5 -> 150000 | F5: =F4 -> 49500 | G5: =G4+F5 -> 104500 | H5: =H4+G5 -> 165000 | J5: =J4 -> 45000 | K5: =K4+J5 -> 95000 | L5: =L4+K5 -> 150000 | N5: =N4 -> 0 | O5: =O4+N5 -> 0 | P5: =P4+O5 -> 0
A6: Miesięczna realizacja Planu Sprzedaży Marża | B6: =SUMIF(VII!A:A,$A$1,VII!I:I) -> 33404.013 | C6: =SUMIF(VIII!A:A,$A$1,VIII!I:I) -> 31896.875 | D6: =SUMIF(IX!A:A,$A$1,IX!I:I) -> 30502.93 | E6: =SUM(B6:D6) -> 95803.819 | F6: =SUMIF(IV!A:A,$A$1,IV!I:I) -> 62951.596 | G6: =SUMIF(V!A:A,$A$1,V!I:I) -> 38733.827 | H6: =SUMIF(VI!A:A,$A$1,VI!I:I) -> 48341.149 | I6: =SUM(F6:H6) -> 150026.57 | J6: =SUMIF(I!A:A,$A$1,I!I:I) -> 55676.273 | K6: =SUMIF(II!A:A,$A$1,II!I:I) -> 74124.188 | L6: =SUMIF(III!A:A,$A$1,III!I:I) -> 60442.576 | M6: =SUM(J6:L6) -> 190243.04 | N6: =SUMIF(X!A:A,$A$1,X!I:I) -> 0 | O6: =SUMIF(XI!A:A,$A$1,XI!I:I) -> 0 | P6: =SUMIF(XII!A:A,$A$1,XII!I:I) -> 0 | Q6: =SUM(N6:P6) -> 0 | R6: =M6+I6+E6+Q6 -> 436073.43
A7: Sumaryczna realizacja planu sprzedaży Marża | B7: =B6 -> 33404.013 | C7: =C6+B7 -> 65300.889 | D7: =D6+C7 -> 95803.819 | F7: =F6 -> 62951.596 | G7: =G6+F7 -> 101685.42 | H7: =H6+G7 -> 150026.57 | J7: =J6 -> 55676.273 | K7: =K6+J7 -> 129800.46 | L7: =L6+K7 -> 190243.04 | N7: =N6 -> 0 | O7: =O6+N7 -> 0 | P7: =P6+O7 -> 0
A8: Wysokość zrealizowania Miesięcznego Planu Sprzedaży Marża | B8: =B6/B4 -> 0.83510033 | C8: =C6/C4 -> 0.63793751 | D8: =D6/D4 -> 0.50838217 | F8: =F6/F4 -> 1.2717494 | G8: =G6/G4 -> 0.7042514 | H8: =H6/H4 -> 0.79902726 | J8: =J6/J4 -> 1.2372505 | K8: =K6/K4 -> 1.4824838 | L8: =L6/L4 -> 1.0989559 | N8: =N6/N4 -> #DIV/0! | O8: =O6/O4 -> #DIV/0! | P8: =P6/P4 -> #DIV/0!
A9: Wysokość zrealizowania Planu Sprzedaży Marża | B9: =B7/B5 -> 0.83510033 | C9: =C7/C5 -> 0.72556543 | D9: =D7/D5 -> 0.63869213 | F9: =F7/F5 -> 1.2717494 | G9: =G7/G5 -> 0.97306624 | H9: =H7/H5 -> 0.90925195 | J9: =J7/J5 -> 1.2372505 | K9: =K7/K5 -> 1.3663206 | L9: =L7/L5 -> 1.2682869 | N9: =N7/N5 -> #DIV/0! | O9: =O7/O5 -> #DIV/0! | P9: =P7/P5 -> #DIV/0!
A10: Różnica wskaźnika Marża | B10: =B7-B5 -> -6595.9867 | C10: =C7-C5 -> -24699.111 | D10: =D7-D5 -> -54196.181 | F10: =F7-F5 -> 13451.596 | G10: =G7-G5 -> -2814.5776 | H10: =H7-H5 -> -14973.428 | J10: =J7-J5 -> 10676.273 | K10: =K7-K5 -> 34800.46 | L10: =L7-L5 -> 40243.036 | N10: =N7-N5 -> 0 | O10: =O7-O5 -> 0 | P10: =P7-P5 -> 0
A11: Plan Sprzedaży Obrót | B11: ='Target 2016'!I18 -> 120000 | C11: ='Target 2016'!J18 -> 150000 | D11: ='Target 2016'!K18 -> 180000 | E11: =SUM(B11:D11) -> 450000 | F11: ='Target 2016'!F18 -> 144000 | G11: ='Target 2016'!G18 -> 160000 | H11: ='Target 2016'!H18 -> 176000 | I11: =SUM(F11:H11) -> 480000 | J11: ='Target 2016'!C18 -> 126000 | K11: ='Target 2016'!D18 -> 140000 | L11: ='Target 2016'!E18 -> 154000 | M11: =SUM(J11:L11) -> 420000 | N11: ='Target 2016'!L18 -> 0 | O11: ='Target 2016'!M18 -> 0 | P11: ='Target 2016'!N18 -> 0 | Q11: =SUM(N11:P11) -> 0 | R11: =M11+I11+E11+Q11 -> 1350000
A12: Sumaryczny Plan Sprzedaży Obrót | B12: =B11 -> 120000 | C12: =C11+B12 -> 270000 | D12: =D11+C12 -> 450000 | F12: =F11 -> 144000 | G12: =G11+F12 -> 304000 | H12: =H11+G12 -> 480000 | J12: =J11 -> 126000 | K12: =K11+J12 -> 266000 | L12: =L11+K12 -> 420000 | N12: =N11 -> 0 | O12: =O11+N12 -> 0 | P12: =P11+O12 -> 0
A13: Miesięczna realizacja Planu Sprzedaży Obrót | B13: =SUMIF(VII!A:A,$A$1,VII!G:G) -> 117762.13 | C13: =SUMIF(VIII!A:A,$A$1,VIII!G:G) -> 131032.59 | D13: =SUMIF(IX!A:A,$A$1,IX!G:G) -> 115509.02 | E13: =SUM(B13:D13) -> 364303.74 | F13: =SUMIF(IV!A:A,$A$1,IV!G:G) -> 181602.76 | G13: =SUMIF(V!A:A,$A$1,V!G:G) -> 120403.24 | H13: =SUMIF(VI!A:A,$A$1,VI!G:G) -> 189306.76 | I13: =SUM(F13:H13) -> 491312.76 | J13: =SUMIF(I!A:A,$A$1,I!G:G) -> 154514.29 | K13: =SUMIF(II!A:A,$A$1,II!G:G) -> 204506.79 | L13: =SUMIF(III!A:A,$A$1,III!G:G) -> 180282.54 | M13: =SUM(J13:L13) -> 539303.62 | N13: =SUMIF(X!A:A,$A$1,X!G:G) -> 0 | O13: =SUMIF(XI!A:A,$A$1,XI!G:G) -> 0 | P13: =SUMIF(XII!A:A,$A$1,XII!G:G) -> 0 | Q13: =SUM(N13:P13) -> 0 | R13: =M13+I13+E13+Q13 -> 1394920.1
A14: Sumaryczna realizacja planu sprzedaży Obrót | B14: =B13 -> 117762.13 | C14: =C13+B14 -> 248794.72 | D14: =D13+C14 -> 364303.74 | F14: =F13 -> 181602.76 | G14: =G13+F14 -> 302006 | H14: =H13+G14 -> 491312.76 | J14: =J13 -> 154514.29 | K14: =K13+J14 -> 359021.08 | L14: =L13+K14 -> 539303.62 | N14: =N13 -> 0 | O14: =O13+N14 -> 0 | P14: =P13+O14 -> 0
A15: Wysokość zrealizowania Miesięcznego Planu Sprzedaży Obrót | B15: =B13/B11 -> 0.98135108 | C15: =C13/C11 -> 0.8735506 | D15: =D13/D11 -> 0.64171678 | F15: =F13/F11 -> 1.2611303 | G15: =G13/G11 -> 0.75252025 | H15: =H13/H11 -> 1.0756066 | J15: =J13/J11 -> 1.2263039 | K15: =K13/K11 -> 1.4607628 | L15: =L13/L11 -> 1.1706658 | N15: =N13/N11 -> #DIV/0! | O15: =O13/O11 -> #DIV/0! | P15: =P13/P11 -> #DIV/0!
A16: Wysokość zrealizowania Planu Sprzedaży Obrót | B16: =B14/B12 -> 0.98135108 | C16: =C14/C12 -> 0.92146193 | D16: =D14/D12 -> 0.80956387 | F16: =F14/F12 -> 1.2611303 | G16: =G14/G12 -> 0.99344079 | H16: =H14/H12 -> 1.0235683 | J16: =J14/J12 -> 1.2263039 | K16: =K14/K12 -> 1.3497033 | L16: =L14/L12 -> 1.2840562 | N16: =N14/N12 -> #DIV/0! | O16: =O14/O12 -> #DIV/0! | P16: =P14/P12 -> #DIV/0!
A17: Różnica wskaźnika Obrót | B17: =B14-B12 -> -2237.87 | C17: =C14-C12 -> -21205.28 | D17: =D14-D12 -> -85696.26 | F17: =F14-F12 -> 37602.76 | G17: =G14-G12 -> -1994 | H17: =H14-H12 -> 11312.76 | J17: =J14-J12 -> 28514.29 | K17: =K14-K12 -> 93021.08 | L17: =L14-L12 -> 119303.62 | N17: =N14-N12 -> 0 | O17: =O14-O12 -> 0 | P17: =P14-P12 -> 0
A18: Wysokość Marży miesięcznej | B18: =B6/B13 -> 0.28365667 | C18: =C6/C13 -> 0.24342704 | D18: =D6/D13 -> 0.26407401 | F18: =F6/F13 -> 0.34664449 | G18: =G6/G13 -> 0.32170087 | H18: =H6/H13 -> 0.25535881 | J18: =J6/J13 -> 0.3603309 | K18: =K6/K13 -> 0.36245343 | L18: =L6/L13 -> 0.33526583 | N18: =N6/N13 -> #DIV/0! | O18: =O6/O13 -> #DIV/0! | P18: =P6/P13 -> #DIV/0!
A19: Wysokość Marży sumarycznej | B19: =B7/B14 -> 0.28365667 | C19: =C7/C14 -> 0.26246895 | D19: =D7/D14 -> 0.26297786 | F19: =F7/F14 -> 0.34664449 | G19: =G7/G14 -> 0.33670001 | H19: =H7/H14 -> 0.30535859 | J19: =J7/J14 -> 0.3603309 | K19: =K7/K14 -> 0.36153994 | L19: =L7/L14 -> 0.35275683 | N19: =N7/N14 -> #DIV/0! | O19: =O7/O14 -> #DIV/0! | P19: =P7/P14 -> #DIV/0!
J21: PREMIE
A22: Wynagrodzenie zasadnicze | B22: 4160 | C22: 4160 | D22: 4160 | F22: 4160 | G22: 4160 | H22: 4160 | J22: 3960 | K22: 4160 | L22: 4160 | N22: 4160 | O22: 4160 | P22: 4160
A23: Wskaźnik Plan Sprzedaży Marża | B23: =B5 -> 40000 | C23: =C5 -> 90000 | D23: =D5 -> 150000 | F23: =F5 -> 49500 | G23: =G5 -> 104500 | H23: =H5 -> 165000 | J23: =J5 -> 45000 | K23: =K5 -> 95000 | L23: =L5 -> 150000 | N23: =N5 -> 0 | O23: =O5 -> 0 | P23: =P5 -> 0
A24: Realizacja Wskaźnika Planu Sprzedaży Marża | B24: =B7 -> 33404.013 | C24: =C7 -> 65300.889 | D24: =D7 -> 95803.819 | F24: =F7 -> 62951.596 | G24: =G7 -> 101685.42 | H24: =H7 -> 150026.57 | J24: =J7 -> 55676.273 | K24: =K7 -> 129800.46 | L24: =L7 -> 190243.04 | N24: =N7 -> 0 | O24: =O7 -> 0 | P24: =P7 -> 0
A25: Poziom realizacji Wskaźnika Sprzedaży Marża | B25: =B24/B23 -> 0.83510033 | C25: =C24/C23 -> 0.72556543 | D25: =D24/D23 -> 0.63869213 | F25: =F24/F23 -> 1.2717494 | G25: =G24/G23 -> 0.97306624 | H25: =H24/H23 -> 0.90925195 | J25: =J24/J23 -> 1.2372505 | K25: =K24/K23 -> 1.3663206 | L25: =L24/L23 -> 1.2682869 | N25: =N24/N23 -> #DIV/0! | O25: =O24/O23 -> #DIV/0! | P25: =P24/P23 -> #DIV/0!
A26: Wysokość premii Wskaźnik Sprzedaży Marża | B26: =B22*0.2 -> 832 | C26: =C22*0.2 -> 832 | D26: =D22*0.2 -> 832 | F26: =F22*0.2 -> 832 | G26: =G22*0.2 -> 832 | H26: =H22*0.2 -> 832 | J26: =J22*0.2 -> 792 | K26: =K22*0.2 -> 832 | L26: =L22*0.2 -> 832 | N26: =N22*0.2 -> 832 | O26: =O22*0.2 -> 832 | P26: =P22*0.2 -> 832
A27: Mnożnik premii miesięcznej Wskaźnika Sprzedaży Marża | B27: =IF(B25<80%,0,IF(B25<90%,0.5,IF(B25<95%,0.75,1))) -> 0.5 | C27: =IF(C25<80%,0,IF(C25<90%,0.5,IF(C25<95%,0.75,1))) -> 0 | D27: =IF(D25<80%,0,IF(D25<90%,0.5,IF(D25<95%,0.75,1))) -> 0 | F27: =IF(F25<80%,0,IF(F25<90%,0.5,IF(F25<95%,0.75,1))) -> 1 | G27: =IF(G25<80%,0,IF(G25<90%,0.5,IF(G25<95%,0.75,1))) -> 1 | H27: =IF(H25<80%,0,IF(H25<90%,0.5,IF(H25<95%,0.75,1))) -> 0.75 | J27: =IF(J25<80%,0,IF(J25<90%,0.5,IF(J25<95%,0.75,1))) -> 1 | K27: =IF(K25<80%,0,IF(K25<90%,0.5,IF(K25<95%,0.75,1))) -> 1 | L27: =IF(L25<80%,0,IF(L25<90%,0.5,IF(L25<95%,0.75,1))) -> 1 | N27: =IF(N25<80%,0,IF(N25<90%,0.5,IF(N25<95%,0.75,1))) -> #DIV/0! | O27: =IF(O25<80%,0,IF(O25<90%,0.5,IF(O25<95%,0.75,1))) -> #DIV/0! | P27: =IF(P25<80%,0,IF(P25<90%,0.5,IF(P25<95%,0.75,1))) -> #DIV/0!
A28: Premia miesięczna za Wskaźnik Sprzedaży Marża | B28: =B27*B26 -> 416 | C28: =C27*C26 -> 0 | D28: =D27*D26 -> 0 | F28: =F27*F26 -> 832 | G28: =G27*G26 -> 832 | H28: =H27*H26 -> 624 | J28: =J27*J26 -> 792 | K28: =K27*K26 -> 832 | L28: =L27*L26 -> 832 | N28: =N27*N26 -> #DIV/0! | O28: =O27*O26 -> #DIV/0! | P28: =P27*P26 -> #DIV/0!
A29: Wskaźnik Plan Sprzedaży Obrót | B29: =B12 -> 120000 | C29: =C12 -> 270000 | D29: =D12 -> 450000 | F29: =F12 -> 144000 | G29: =G12 -> 304000 | H29: =H12 -> 480000 | J29: =J12 -> 126000 | K29: =K12 -> 266000 | L29: =L12 -> 420000 | N29: =N12 -> 0 | O29: =O12 -> 0 | P29: =P12 -> 0
A30: Realizacja Wskaźnika Planu Sprzedaży Obrót | B30: =B14 -> 117762.13 | C30: =C14 -> 248794.72 | D30: =D14 -> 364303.74 | F30: =F14 -> 181602.76 | G30: =G14 -> 302006 | H30: =H14 -> 491312.76 | J30: =J14 -> 154514.29 | K30: =K14 -> 359021.08 | L30: =L14 -> 539303.62 | N30: =N14 -> 0 | O30: =O14 -> 0 | P30: =P14 -> 0
A31: Poziom realizacji Wskaźnika Sprzedaży Obrót | B31: =B30/B29 -> 0.98135108 | C31: =C30/C29 -> 0.92146193 | D31: =D30/D29 -> 0.80956387 | F31: =F30/F29 -> 1.2611303 | G31: =G30/G29 -> 0.99344079 | H31: =H30/H29 -> 1.0235683 | J31: =J30/J29 -> 1.2263039 | K31: =K30/K29 -> 1.3497033 | L31: =L30/L29 -> 1.2840562 | N31: =N30/N29 -> #DIV/0! | O31: =O30/O29 -> #DIV/0! | P31: =P30/P29 -> #DIV/0!
A32: Wysokość premii Wskaźnik Sprzedaży Obrót | B32: =B22*0.2 -> 832 | C32: =C22*0.2 -> 832 | D32: =D22*0.2 -> 832 | F32: =F22*0.2 -> 832 | G32: =G22*0.2 -> 832 | H32: =H22*0.2 -> 832 | J32: =J22*0.2 -> 792 | K32: =K22*0.2 -> 832 | L32: =L22*0.2 -> 832 | N32: =N22*0.2 -> 832 | O32: =O22*0.2 -> 832 | P32: =P22*0.2 -> 832
A33: Mnożnik premii miesięcznej Wskaźnika Sprzedaży Obrót | B33: =IF(B31<80%,0,IF(B31<90%,0.5,IF(B31<95%,0.75,1))) -> 1 | C33: =IF(C31<80%,0,IF(C31<90%,0.5,IF(C31<95%,0.75,1))) -> 0.75 | D33: =IF(D31<80%,0,IF(D31<90%,0.5,IF(D31<95%,0.75,1))) -> 0.5 | F33: =IF(F31<80%,0,IF(F31<90%,0.5,IF(F31<95%,0.75,1))) -> 1 | G33: =IF(G31<80%,0,IF(G31<90%,0.5,IF(G31<95%,0.75,1))) -> 1 | H33: =IF(H31<80%,0,IF(H31<90%,0.5,IF(H31<95%,0.75,1))) -> 1 | J33: =IF(J31<80%,0,IF(J31<90%,0.5,IF(J31<95%,0.75,1))) -> 1 | K33: =IF(K31<80%,0,IF(K31<90%,0.5,IF(K31<95%,0.75,1))) -> 1 | L33: =IF(L31<80%,0,IF(L31<90%,0.5,IF(L31<95%,0.75,1))) -> 1 | N33: =IF(N31<80%,0,IF(N31<90%,0.5,IF(N31<95%,0.75,1))) -> #DIV/0! | O33: =IF(O31<80%,0,IF(O31<90%,0.5,IF(O31<95%,0.75,1))) -> #DIV/0! | P33: =IF(P31<80%,0,IF(P31<90%,0.5,IF(P31<95%,0.75,1))) -> #DIV/0!
A34: Premia miesięczna za Wskaźnik Sprzedaży Obrót | B34: =B33*B32 -> 832 | C34: =C33*C32 -> 624 | D34: =D33*D32 -> 416 | F34: =F33*F32 -> 832 | G34: =G33*G32 -> 832 | H34: =H33*H32 -> 832 | J34: =J33*J32 -> 792 | K34: =K33*K32 -> 832 | L34: =L33*L32 -> 832 | N34: =N33*N32 -> #DIV/0! | O34: =O33*O32 -> #DIV/0! | P34: =P33*P32 -> #DIV/0!
A35: Wskaźnik CRM | B35: 1 | C35: 1 | D35: 1 | F35: 1 | G35: 1 | H35: 1 | J35: 1 | K35: 1 | L35: 1 | N35: 1 | O35: 1 | P35: 1
A36: Wysokość premii CRM | B36: =B22*0.1 -> 416 | C36: =C22*0.1 -> 416 | D36: =D22*0.1 -> 416 | F36: =F22*0.1 -> 416 | G36: =G22*0.1 -> 416 | H36: =H22*0.1 -> 416 | J36: =J22*0.1 -> 396 | K36: =K22*0.1 -> 416 | L36: =L22*0.1 -> 416 | N36: =N22*0.1 -> 416 | O36: =O22*0.1 -> 416 | P36: =P22*0.1 -> 416
A37: Mnożnik premii Wskaźnik CRM | B37: 1 | C37: 1 | F37: 1 | G37: 1 | H37: 1 | J37: 1 | K37: 1 | L37: 1
A38: Premia miesięczna za Wskaźnik CRM | B38: =B37*B36 -> 416 | C38: =C37*C36 -> 416 | D38: =D37*D36 -> 0 | F38: =F37*F36 -> 416 | G38: =G37*G36 -> 416 | H38: =H37*H36 -> 416 | J38: =J37*J36 -> 396 | K38: =K37*K36 -> 416 | L38: =L37*L36 -> 416 | N38: =N37*N36 -> 0 | O38: =O37*O36 -> 0 | P38: =P37*P36 -> 0
A39: Suma Premii miesięcznych | B39: =B34+B28+B38 -> 1664 | C39: =C34+C28+C38 -> 1040 | D39: =D34+D28+D38 -> 416 | F39: =F34+F28+F38 -> 2080 | G39: =G34+G28+G38 -> 2080 | H39: =H34+H28+H38 -> 1872 | J39: =J34+J28+J38 -> 1980 | K39: =K34+K28+K38 -> 2080 | L39: =L34+L28+L38 -> 2080 | N39: =N34+N28+N38 -> #DIV/0! | O39: =O34+O28+O38 -> #DIV/0! | P39: =P34+P28+P38 -> #DIV/0!
A40: Wskaźnik Premia Kwartalna Marża | B40: =D5 -> 150000 | F40: =H5 -> 165000 | J40: =L5 -> 150000 | N40: =P5 -> 0
A41: Realizacja Wskaźnika Premia Kwartalna | B41: =D7 -> 95803.819 | F41: =H7 -> 150026.57 | J41: =L7 -> 190243.04 | N41: =P7 -> 0
A42: Poziom realizacji Wskaźnika Premia Kwartalna | B42: =B41/B40 -> 0.63869213 | F42: =F41/F40 -> 0.90925195 | J42: =J41/J40 -> 1.2682869 | N42: =N41/N40 -> #DIV/0!
A43: Wysokość premii kwartalnej. | B43: =D22/2 -> 2080 | F43: =H22/2 -> 2080 | J43: =L22/2 -> 2080 | N43: =P22/2 -> 2080
A44: Mnożnik premii kwartalnej | B44: =IF(B42<100%,0,IF(B42<110%,0.5,IF(B42<120%,0.7,1))) -> 0 | F44: =IF(F42<100%,0,IF(F42<110%,0.5,IF(F42<120%,0.7,1))) -> 0 | J44: =IF(J42<100%,0,IF(J42<110%,0.5,IF(J42<120%,0.7,1))) -> 1 | N44: =IF(N42<100%,0,IF(N42<110%,0.5,IF(N42<120%,0.7,1))) -> #DIV/0!
A45: Premia kwartalna | B45: =B44*B43 -> 0 | F45: =F44*F43 -> 0 | J45: =J44*J43 -> 2080 | N45: =N44*N43 -> #DIV/0!
A46: Wskaźnik Premia Kwartalna Obrót | B46: =E11 -> 450000 | F46: =I11 -> 480000 | J46: =M11 -> 420000 | N46: =Q11 -> 0
A47: Realizacja Wskaźnika Premia Kwartalna | B47: =D14 -> 364303.74 | F47: =H14 -> 491312.76 | J47: =L14 -> 539303.62 | N47: =P14 -> 0
A48: Poziom realizacji Wskaźnika Premia Kwartalna | B48: =B47/B46 -> 0.80956387 | F48: =F47/F46 -> 1.0235683 | J48: =J47/J46 -> 1.2840562 | N48: =N47/N46 -> #DIV/0!
A49: Wysokość premii kwartalnej. | B49: =D22/2 -> 2080 | F49: =H22/2 -> 2080 | J49: =L22/2 -> 2080 | N49: =P22/2 -> 2080
A50: Mnożnik premii kwartalnej | B50: =IF(B48<100%,0,IF(B48<110%,0.5,IF(B48<120%,0.7,1))) -> 0 | F50: =IF(F48<100%,0,IF(F48<110%,0.5,IF(F48<120%,0.7,1))) -> 0.5 | J50: =IF(J48<100%,0,IF(J48<110%,0.5,IF(J48<120%,0.7,1))) -> 1 | N50: =IF(N48<100%,0,IF(N48<110%,0.5,IF(N48<120%,0.7,1))) -> #DIV/0!
A51: Premia kwartalna | B51: =B50*B49 -> 0 | F51: =F50*F49 -> 1040 | J51: =J50*J49 -> 2080 | N51: =N50*N49 -> #DIV/0!
A53: SPRZEDAŻ DRUKAREK | B53: lipiec | C53: sierpień | D53: wrzesień | E53: KW III | F53: kwiecień | G53: maj | H53: czerwiec | I53: KW II | J53: styczeń | K53: luty | L53: marzec | M53: KW I | N53: październik | O53: listopad | P53: grudzień | Q53: KW IV | R53: suma ROK
A54: CL-S521 | E54: =SUM(B54:D54) -> 0 | I54: =SUM(F54:H54) -> 0 | M54: =SUM(J54:L54) -> 0 | Q54: =SUM(N54:P54) -> 0 | R54: =M54+I54+E54+Q54 -> 0
A55: CL-S621 | E55: =SUM(B55:D55) -> 0 | F55: 1 | I55: =SUM(F55:H55) -> 1 | M55: =SUM(J55:L55) -> 0 | Q55: =SUM(N55:P55) -> 0 | R55: =M55+I55+E55+Q55 -> 1
A56: CL-S6621 | E56: =SUM(B56:D56) -> 0 | G56: 1 | I56: =SUM(F56:H56) -> 1 | M56: =SUM(J56:L56) -> 0 | Q56: =SUM(N56:P56) -> 0 | R56: =M56+I56+E56+Q56 -> 1
A57: CL-S631 | E57: =SUM(B57:D57) -> 0 | I57: =SUM(F57:H57) -> 0 | M57: =SUM(J57:L57) -> 0 | Q57: =SUM(N57:P57) -> 0 | R57: =M57+I57+E57+Q57 -> 0
A58: CL-S700 | E58: =SUM(B58:D58) -> 0 | I58: =SUM(F58:H58) -> 0 | J58: 1 | M58: =SUM(J58:L58) -> 1 | Q58: =SUM(N58:P58) -> 0 | R58: =M58+I58+E58+Q58 -> 1
A59: CL-S700R | E59: =SUM(B59:D59) -> 0 | I59: =SUM(F59:H59) -> 0 | M59: =SUM(J59:L59) -> 0 | Q59: =SUM(N59:P59) -> 0 | R59: =M59+I59+E59+Q59 -> 0
A60: CL-S703 | E60: =SUM(B60:D60) -> 0 | I60: =SUM(F60:H60) -> 0 | M60: =SUM(J60:L60) -> 0 | Q60: =SUM(N60:P60) -> 0 | R60: =M60+I60+E60+Q60 -> 0
A61: CL-S703R | E61: =SUM(B61:D61) -> 0 | I61: =SUM(F61:H61) -> 0 | M61: =SUM(J61:L61) -> 0 | Q61: =SUM(N61:P61) -> 0 | R61: =M61+I61+E61+Q61 -> 0
A62: CLE-720 | C62: 1 | E62: =SUM(B62:D62) -> 1 | I62: =SUM(F62:H62) -> 0 | M62: =SUM(J62:L62) -> 0 | Q62: =SUM(N62:P62) -> 0 | R62: =M62+I62+E62+Q62 -> 1
A63: CLE-730 | C63: 1 | E63: =SUM(B63:D63) -> 1 | F63: 1 | I63: =SUM(F63:H63) -> 1 | M63: =SUM(J63:L63) -> 0 | Q63: =SUM(N63:P63) -> 0 | R63: =M63+I63+E63+Q63 -> 2
A64: CLP 8301 | E64: =SUM(B64:D64) -> 0 | I64: =SUM(F64:H64) -> 0 | M64: =SUM(J64:L64) -> 0 | Q64: =SUM(N64:P64) -> 0 | R64: =M64+I64+E64+Q64 -> 0
A65: ZEBRA | E65: =SUM(B65:D65) -> 0 | H65: 2 | I65: =SUM(F65:H65) -> 2 | M65: =SUM(J65:L65) -> 0 | Q65: =SUM(N65:P65) -> 0 | R65: =M65+I65+E65+Q65 -> 2
A66: INNE | E66: =SUM(B66:D66) -> 0 | I66: =SUM(F66:H66) -> 0 | M66: =SUM(J66:L66) -> 0 | Q66: =SUM(N66:P66) -> 0 | R66: =M66+I66+E66+Q66 -> 0
A67: SUMA: | B67: =SUM(B54:B66) -> 0 | C67: =SUM(C54:C66) -> 2 | D67: =SUM(D54:D66) -> 0 | E67: =SUM(B67:D67) -> 2 | F67: =SUM(F54:F66) -> 2 | G67: =SUM(G54:G66) -> 1 | H67: =SUM(H54:H66) -> 2 | I67: =SUM(F67:H67) -> 5 | J67: =SUM(J54:J66) -> 1 | K67: =SUM(K54:K66) -> 0 | L67: =SUM(L54:L66) -> 0 | M67: =SUM(J67:L67) -> 1 | N67: =SUM(N54:N66) -> 0 | O67: =SUM(O54:O66) -> 0 | P67: =SUM(P54:P66) -> 0 | Q67: =SUM(N67:P67) -> 0 | R67: =M67+I67+E67+Q67 -> 8
A69: Raport za miesiąc: | B69: lipiec | C69: sierpień | D69: wrzesień | E69: KW III | F69: kwiecień | G69: maj | H69: czerwiec | I69: KW II | J69: styczeń | K69: luty | L69: marzec | M69: Suma IKW | N69: paździer. | O69: listopad | P69: grudzień | Q69: KW IV | R69: Suma
A70: Ilość nowych Klientów: | B70: 2 | C70: 1 | E70: =SUM(B70:D70) -> 3 | F70: 1 | G70: 0 | H70: 0 | I70: =SUM(F70:H70) -> 1 | J70: 0 | K70: 1 | L70: 1 | M70: =SUM(J70:L70) -> 2 | Q70: =SUM(N70:P70) -> 0 | R70: =M70+I70+E70+Q70 -> 6
A71: Ilość Klientów przekaz. z Gliwic lub zm. nazwę/NIP. | B71: 0 | C71: 0 | E71: =SUM(B71:D71) -> 0 | F71: 0 | G71: 0 | H71: 1 | I71: =SUM(F71:H71) -> 1 | J71: 0 | K71: 0 | L71: 0 | M71: =SUM(J71:L71) -> 0 | Q71: =SUM(N71:P71) -> 0 | R71: =M71+I71+E71+Q71 -> 1
A72: Ilość Podmiotów na etapie współpracy Klient: | B72: 46 | C72: 47 | F72: 43 | G72: 43 | H72: 44 | J72: 39 | K72: 41 | L72: 42
A73: Ilość Podmiotów na etapie współpracy Handlowy: | B73: 26 | C73: 26 | F73: 36 | G73: 32 | H73: 27 | J73: 34 | K73: 36 | L73: 34
A74: Ilość Podmiotów na etapie współpracy Klient nieaktywny: | B74: 4 | C74: 4 | F74: 4 | G74: 4 | H74: 4 | J74: 8 | K74: 7 | L74: 5
A75: Ilość Podmiotów pod opieką: | B75: =SUM(B72:B74) -> 76 | C75: =SUM(C72:C74) -> 77 | F75: =SUM(F72:F74) -> 83 | G75: =SUM(G72:G74) -> 79 | H75: =SUM(H72:H74) -> 75 | J75: =SUM(J72:J74) -> 81 | K75: =SUM(K72:K74) -> 84 | L75: =SUM(L72:L74) -> 81
A76: Ilość sprzedanych drukarek: | B76: 0 | C76: 2 | E76: =SUM(B76:D76) -> 2 | F76: 2 | G76: 1 | H76: 2 | I76: =SUM(F76:H76) -> 5 | J76: 1 | K76: 0 | L76: 0 | M76: =SUM(J76:L76) -> 1 | Q76: =SUM(N76:P76) -> 0 | R76: =M76+I76+E76+Q76 -> 8
A77: Ilość ofert dodanych w danym miesiącu: | B77: 13 | C77: 30 | E77: =SUM(B77:D77) -> 43 | F77: 34 | G77: 32 | H77: 17 | I77: =SUM(F77:H77) -> 83 | J77: 25 | K77: 30 | L77: 32 | M77: =SUM(J77:L77) -> 87 | Q77: =SUM(N77:P77) -> 0 | R77: =M77+I77+E77+Q77 -> 213
A78: Ilość ofert oczekujących na decyzję kontrahenta: | B78: 7 | C78: 12 | F78: 42 | G78: 44 | H78: 15 | J78: 20 | K78: 37 | L78: 40
A79: Ilość zaakceptowanych ofert przez kontrahenta: | B79: 9 | C79: 18 | F79: 13 | G79: 16 | H79: 14 | J79: 6 | K79: 3 | L79: 11
A80: Ilość odrzuconych ofert przez kontrahenta: | B80: 13 | C80: 13 | F80: 13 | G80: 19 | H80: 26 | J80: 4 | K80: 14 | L80: 19
A81: Ilość przekazanych podmiotów z Marketingu: | B81: 1 | C81: 1 | E81: =SUM(B81:D81) -> 2 | F81: 1 | G81: 2 | H81: 0 | I81: =SUM(F81:H81) -> 3 | J81: 1 | K81: 3 | L81: 1 | M81: =SUM(J81:L81) -> 5 | Q81: =SUM(N81:P81) -> 0 | R81: =M81+I81+E81+Q81 -> 10
A82: Ilość przekazanych podmiotów do prowadzenia od KDH: | B82: 2 | C82: 0 | E82: =SUM(B82:D82) -> 2 | F82: 0 | G82: 1 | H82: 0 | I82: =SUM(F82:H82) -> 1 | J82: 0 | K82: 0 | L82: 0 | M82: =SUM(J82:L82) -> 0 | Q82: =SUM(N82:P82) -> 0 | R82: =M82+I82+E82+Q82 -> 3
A83: Ilość odebranych podmiotów (zmiana prowadzącego): | B83: 0 | C83: 0 | E83: =SUM(B83:D83) -> 0 | F83: 0 | G83: 1 | H83: 2 | I83: =SUM(F83:H83) -> 3 | J83: 0 | K83: 0 | L83: 1 | M83: =SUM(J83:L83) -> 1 | Q83: =SUM(N83:P83) -> 0 | R83: =M83+I83+E83+Q83 -> 4
A84: Ilość spotkań z Klientami: | B84: 2 | C84: 4 | E84: =SUM(B84:D84) -> 6 | F84: 11 | G84: 8 | H84: 2 | I84: =SUM(F84:H84) -> 21 | J84: 3 | K84: 10 | L84: 5 | M84: =SUM(J84:L84) -> 18 | Q84: =SUM(N84:P84) -> 0 | R84: =M84+I84+E84+Q84 -> 45
A85: Ilość aktualnie otwartych wdrożeń: | B85: 36 | C85: 36 | F85: 47 | G85: 50 | H85: 38 | J85: 40 | K85: 47 | L85: 48
A86: Ilość wdrożeń dodanych w danym miesiącu: | B86: 6 | C86: 6 | E86: =SUM(B86:D86) -> 12 | F86: 8 | G86: 12 | H86: 7 | I86: =SUM(F86:H86) -> 27 | J86: 12 | K86: 18 | L86: 14 | M86: =SUM(J86:L86) -> 44 | Q86: =SUM(N86:P86) -> 0 | R86: =M86+I86+E86+Q86 -> 83
A87: Ilość wdrożeń zamkniętych pozytywnie w danym mcu: | B87: 5 | C87: 3 | E87: =SUM(B87:D87) -> 8 | F87: 5 | G87: 3 | H87: 14 | I87: =SUM(F87:H87) -> 22 | J87: 3 | K87: 8 | L87: 8 | M87: =SUM(J87:L87) -> 19 | Q87: =SUM(N87:P87) -> 0 | R87: =M87+I87+E87+Q87 -> 49
A88: Ilość wdrożeń zamkniętych negatywnie w danym mcu: | B88: 3 | C88: 3 | E88: =SUM(B88:D88) -> 6 | F88: 4 | G88: 6 | H88: 6 | I88: =SUM(F88:H88) -> 16 | J88: 6 | K88: 7 | L88: 3 | M88: =SUM(J88:L88) -> 16 | Q88: =SUM(N88:P88) -> 0 | R88: =M88+I88+E88+Q88 -> 38 | S88: =R88/P90 -> 1
A89: Ilość aktualnie odłożonych wdrożeń: | B89: 2 | C89: 2 | F89: 3 | G89: 3 | H89: 2 | J89: 4 | K89: 4 | L89: 4 | S89: =R89/P90 -> 0
P90: =SUM(R88:R89) -> 38

Sheet KRZYSZTOF
A1: Krzysztof Szwajdych | B1: PLAN III KW Krzysztof Szwajdych | F1: PLAN II KW Krzysztof Szwajdych | J1: PLAN I KW Krzysztof Szwajdych | N1: PLAN III KW Krzysztof Szwajdych
A2: miesiąc | B2: lipiec | C2: sierpień | D2: wrzesień | E2: KW III | F2: kwiecień | G2: maj | H2: czerwiec | I2: KW II | J2: styczeń | K2: luty | L2: marzec | M2: KW I | N2: październik | O2: listopad | P2: grudzień | Q2: KW IV | R2: suma ROK
A4: Plan Sprzedaży Marża | B4: ='Target 2016'!I9 -> 30400 | C4: ='Target 2016'!J9 -> 38000 | D4: ='Target 2016'!K9 -> 45600 | E4: =SUM(B4:D4) -> 114000 | F4: ='Target 2016'!F9-2000 -> 34000 | G4: ='Target 2016'!G9 -> 40000 | H4: ='Target 2016'!H9+2000 -> 46000 | I4: =SUM(F4:H4) -> 120000 | J4: ='Target 2016'!C9 -> 34200 | K4: ='Target 2016'!D9 -> 38000 | L4: ='Target 2016'!E9 -> 41800 | M4: =SUM(J4:L4) -> 114000 | N4: ='Target 2016'!L9 -> 0 | O4: ='Target 2016'!M9 -> 0 | P4: ='Target 2016'!N9 -> 0 | Q4: =SUM(N4:P4) -> 0 | R4: =M4+I4+E4+Q4 -> 348000
A5: Sumaryczny Plan Sprzedaży Marża | B5: =B4 -> 30400 | C5: =C4+B5 -> 68400 | D5: =D4+C5 -> 114000 | F5: =F4 -> 34000 | G5: =G4+F5 -> 74000 | H5: =H4+G5 -> 120000 | J5: =J4 -> 34200 | K5: =K4+J5 -> 72200 | L5: =L4+K5 -> 114000 | N5: =N4 -> 0 | O5: =O4+N5 -> 0 | P5: =P4+O5 -> 0
A6: Miesięczna realizacja Planu Sprzedaży Marża | B6: =SUMIF(VII!A:A,$A$1,VII!I:I) -> 38073.892 | C6: =SUMIF(VIII!A:A,$A$1,VIII!I:I) -> 30659.553 | D6: =SUMIF(IX!A:A,$A$1,IX!I:I) -> 26347.618 | E6: =SUM(B6:D6) -> 95081.062 | F6: =SUMIF(IV!A:A,$A$1,IV!I:I) -> 30756.308 | G6: =SUMIF(V!A:A,$A$1,V!I:I) -> 36375.56 | H6: =SUMIF(VI!A:A,$A$1,VI!I:I) -> 43932.024 | I6: =SUM(F6:H6) -> 111063.89 | J6: =SUMIF(I!A:A,$A$1,I!I:I) -> 35638.708 | K6: =SUMIF(II!A:A,$A$1,II!I:I) -> 38843.96 | L6: =SUMIF(III!A:A,$A$1,III!I:I) -> 43480.079 | M6: =SUM(J6:L6) -> 117962.75 | N6: =SUMIF(X!A:A,$A$1,X!I:I) -> 0 | O6: =SUMIF(XI!A:A,$A$1,XI!I:I) -> 0 | P6: =SUMIF(XII!A:A,$A$1,XII!I:I) -> 0 | Q6: =SUM(N6:P6) -> 0 | R6: =M6+I6+E6+Q6 -> 324107.7
A7: Sumaryczna realizacja planu sprzedaży Marża | B7: =B6 -> 38073.892 | C7: =C6+B7 -> 68733.445 | D7: =D6+C7 -> 95081.062 | F7: =F6 -> 30756.308 | G7: =G6+F7 -> 67131.868 | H7: =H6+G7 -> 111063.89 | J7: =J6 -> 35638.708 | K7: =K6+J7 -> 74482.668 | L7: =L6+K7 -> 117962.75 | N7: =N6 -> 0 | O7: =O6+N7 -> 0 | P7: =P6+O7 -> 0
A8: Wysokość zrealizowania Miesięcznego Planu Sprzedaży Marża | B8: =B6/B4 -> 1.2524306 | C8: =C6/C4 -> 0.80683034 | D8: =D6/D4 -> 0.57779864 | F8: =F6/F4 -> 0.9045973 | G8: =G6/G4 -> 0.90938899 | H8: =H6/H4 -> 0.95504399 | J8: =J6/J4 -> 1.0420675 | K8: =K6/K4 -> 1.0222095 | L8: =L6/L4 -> 1.0401933 | N8: =N6/N4 -> #DIV/0! | O8: =O6/O4 -> #DIV/0! | P8: =P6/P4 -> #DIV/0!
A9: Wysokość zrealizowania Planu Sprzedaży Marża | B9: =B7/B5 -> 1.2524306 | C9: =C7/C5 -> 1.0048749 | D9: =D7/D5 -> 0.83404441 | F9: =F7/F5 -> 0.9045973 | G9: =G7/G5 -> 0.9071874 | H9: =H7/H5 -> 0.92553243 | J9: =J7/J5 -> 1.0420675 | K9: =K7/K5 -> 1.0316159 | L9: =L7/L5 -> 1.0347609 | N9: =N7/N5 -> #DIV/0! | O9: =O7/O5 -> #DIV/0! | P9: =P7/P5 -> #DIV/0!
A10: Różnica wskaźnika Marża | B10: =B7-B5 -> 7673.8916 | C10: =C7-C5 -> 333.4447 | D10: =D7-D5 -> -18918.938 | F10: =F7-F5 -> -3243.6918 | G10: =G7-G5 -> -6868.1322 | H10: =H7-H5 -> -8936.1085 | J10: =J7-J5 -> 1438.7084 | K10: =K7-K5 -> 2282.6684 | L10: =L7-L5 -> 3962.7473 | N10: =N7-N5 -> 0 | O10: =O7-O5 -> 0 | P10: =P7-P5 -> 0
A11: Plan Sprzedaży Obrót | B11: ='Target 2016'!I19 -> 100000 | C11: ='Target 2016'!J19 -> 125000 | D11: ='Target 2016'!K19 -> 150000 | E11: =SUM(B11:D11) -> 375000 | F11: ='Target 2016'!F19-5000 -> 107500 | G11: ='Target 2016'!G19 -> 125000 | H11: ='Target 2016'!H19+5000 -> 142500 | I11: =SUM(F11:H11) -> 375000 | J11: ='Target 2016'!C19 -> 108000 | K11: ='Target 2016'!D19 -> 120000 | L11: ='Target 2016'!E19 -> 132000 | M11: =SUM(J11:L11) -> 360000 | N11: ='Target 2016'!L19 -> 0 | O11: ='Target 2016'!M19 -> 0 | P11: ='Target 2016'!N19 -> 0 | Q11: =SUM(N11:P11) -> 0 | R11: =M11+I11+E11+Q11 -> 1110000
A12: Sumaryczny Plan Sprzedaży Obrót | B12: =B11 -> 100000 | C12: =C11+B12 -> 225000 | D12: =D11+C12 -> 375000 | F12: =F11 -> 107500 | G12: =G11+F12 -> 232500 | H12: =H11+G12 -> 375000 | J12: =J11 -> 108000 | K12: =K11+J12 -> 228000 | L12: =L11+K12 -> 360000 | N12: =N11 -> 0 | O12: =O11+N12 -> 0 | P12: =P11+O12 -> 0
A13: Miesięczna realizacja Planu Sprzedaży Obrót | B13: =SUMIF(VII!A:A,$A$1,VII!G:G) -> 119531.91 | C13: =SUMIF(VIII!A:A,$A$1,VIII!G:G) -> 104456.47 | D13: =SUMIF(IX!A:A,$A$1,IX!G:G) -> 79655.77 | E13: =SUM(B13:D13) -> 303644.15 | F13: =SUMIF(IV!A:A,$A$1,IV!G:G) -> 97918.82 | G13: =SUMIF(V!A:A,$A$1,V!G:G) -> 116193.17 | H13: =SUMIF(VI!A:A,$A$1,VI!G:G) -> 130569.51 | I13: =SUM(F13:H13) -> 344681.5 | J13: =SUMIF(I!A:A,$A$1,I!G:G) -> 106517.06 | K13: =SUMIF(II!A:A,$A$1,II!G:G) -> 125329.6 | L13: =SUMIF(III!A:A,$A$1,III!G:G) -> 147598.1 | M13: =SUM(J13:L13) -> 379444.76 | N13: =SUMIF(X!A:A,$A$1,X!G:G) -> 0 | O13: =SUMIF(XI!A:A,$A$1,XI!G:G) -> 0 | P13: =SUMIF(XII!A:A,$A$1,XII!G:G) -> 0 | Q13: =SUM(N13:P13) -> 0 | R13: =M13+I13+E13+Q13 -> 1027770.4
A14: Sumaryczna realizacja planu sprzedaży Obrót | B14: =B13 -> 119531.91 | C14: =C13+B14 -> 223988.38 | D14: =D13+C14 -> 303644.15 | F14: =F13 -> 97918.82 | G14: =G13+F14 -> 214111.99 | H14: =H13+G14 -> 344681.5 | J14: =J13 -> 106517.06 | K14: =K13+J14 -> 231846.66 | L14: =L13+K14 -> 379444.76 | N14: =N13 -> 0 | O14: =O13+N14 -> 0 | P14: =P13+O14 -> 0
A15: Wysokość zrealizowania Miesięcznego Planu Sprzedaży Obrót | B15: =B13/B11 -> 1.1953191 | C15: =C13/C11 -> 0.83565176 | D15: =D13/D11 -> 0.53103847 | F15: =F13/F11 -> 0.91087274 | G15: =G13/G11 -> 0.92954536 | H15: =H13/H11 -> 0.91627726 | J15: =J13/J11 -> 0.98626907 | K15: =K13/K11 -> 1.0444133 | L15: =L13/L11 -> 1.1181674 | N15: =N13/N11 -> #DIV/0! | O15: =O13/O11 -> #DIV/0! | P15: =P13/P11 -> #DIV/0!
A16: Wysokość zrealizowania Planu Sprzedaży Obrót | B16: =B14/B12 -> 1.1953191 | C16: =C14/C12 -> 0.99550391 | D16: =D14/D12 -> 0.80971773 | F16: =F14/F12 -> 0.91087274 | G16: =G14/G12 -> 0.92091178 | H16: =H14/H12 -> 0.91915067 | J16: =J14/J12 -> 0.98626907 | K16: =K14/K12 -> 1.0168713 | L16: =L14/L12 -> 1.0540132 | N16: =N14/N12 -> #DIV/0! | O16: =O14/O12 -> #DIV/0! | P16: =P14/P12 -> #DIV/0!
A17: Różnica wskaźnika Obrót | B17: =B14-B12 -> 19531.91 | C17: =C14-C12 -> -1011.62 | D17: =D14-D12 -> -71355.85 | F17: =F14-F12 -> -9581.18 | G17: =G14-G12 -> -18388.01 | H17: =H14-H12 -> -30318.5 | J17: =J14-J12 -> -1482.94 | K17: =K14-K12 -> 3846.66 | L17: =L14-L12 -> 19444.76 | N17: =N14-N12 -> 0 | O17: =O14-O12 -> 0 | P17: =P14-P12 -> 0
A18: Wysokość Marży miesięcznej | B18: =B6/B13 -> 0.31852492 | C18: =C6/C13 -> 0.29351512 | D18: =D6/D13 -> 0.33076848 | F18: =F6/F13 -> 0.31410007 | G18: =G6/G13 -> 0.31306108 | H18: =H6/H13 -> 0.33646464 | J18: =J6/J13 -> 0.33458216 | K18: =K6/K13 -> 0.30993444 | L18: =L6/L13 -> 0.29458427 | N18: =N6/N13 -> #DIV/0! | O18: =O6/O13 -> #DIV/0! | P18: =P6/P13 -> #DIV/0!
A19: Wysokość Marży sumarycznej | B19: =B7/B14 -> 0.31852492 | C19: =C7/C14 -> 0.30686165 | D19: =D7/D14 -> 0.31313319 | F19: =F7/F14 -> 0.31410007 | G19: =G7/G14 -> 0.31353624 | H19: =H7/H14 -> 0.32222179 | J19: =J7/J14 -> 0.33458216 | K19: =K7/K14 -> 0.32125832 | L19: =L7/L14 -> 0.31088253 | N19: =N7/N14 -> #DIV/0! | O19: =O7/O14 -> #DIV/0! | P19: =P7/P14 -> #DIV/0!
J21: PREMIE
A22: Wynagrodzenie zasadnicze | B22: 3100 | C22: 3100 | D22: 3100 | F22: 3100 | G22: 3100 | H22: 3100 | J22: 2900 | K22: 3100 | L22: 3100 | N22: 3100 | O22: 3100 | P22: 3100
A23: Wskaźnik Plan Sprzedaży Marża | B23: =B5 -> 30400 | C23: =C5 -> 68400 | D23: =D5 -> 114000 | F23: =F5 -> 34000 | G23: =G5 -> 74000 | H23: =H5 -> 120000 | J23: =J5 -> 34200 | K23: =K5 -> 72200 | L23: =L5 -> 114000 | N23: =N5 -> 0 | O23: =O5 -> 0 | P23: =P5 -> 0
A24: Realizacja Wskaźnika Planu Sprzedaży Marża | B24: =B7 -> 38073.892 | C24: =C7 -> 68733.445 | D24: =D7 -> 95081.062 | F24: =F7 -> 30756.308 | G24: =G7 -> 67131.868 | H24: =H7 -> 111063.89 | J24: =J7 -> 35638.708 | K24: =K7 -> 74482.668 | L24: =L7 -> 117962.75 | N24: =N7 -> 0 | O24: =O7 -> 0 | P24: =P7 -> 0
A25: Poziom realizacji Wskaźnika Sprzedaży Marża | B25: =B24/B23 -> 1.2524306 | C25: =C24/C23 -> 1.0048749 | D25: =D24/D23 -> 0.83404441 | F25: =F24/F23 -> 0.9045973 | G25: =G24/G23 -> 0.9071874 | H25: =H24/H23 -> 0.92553243 | J25: =J24/J23 -> 1.0420675 | K25: =K24/K23 -> 1.0316159 | L25: =L24/L23 -> 1.0347609 | N25: =N24/N23 -> #DIV/0! | O25: =O24/O23 -> #DIV/0! | P25: =P24/P23 -> #DIV/0!
A26: Wysokość premii Wskaźnik Sprzedaży Marża | B26: =B22*0.2 -> 620 | C26: =C22*0.2 -> 620 | D26: =D22*0.2 -> 620 | F26: =F22*0.2 -> 620 | G26: =G22*0.2 -> 620 | H26: =H22*0.2 -> 620 | J26: =J22*0.2 -> 580 | K26: =K22*0.2 -> 620 | L26: =L22*0.2 -> 620 | N26: =N22*0.2 -> 620 | O26: =O22*0.2 -> 620 | P26: =P22*0.2 -> 620
A27: Mnożnik premii miesięcznej Wskaźnika Sprzedaży Marża | B27: =IF(B25<80%,0,IF(B25<90%,0.5,IF(B25<95%,0.75,1))) -> 1 | C27: =IF(C25<80%,0,IF(C25<90%,0.5,IF(C25<95%,0.75,1))) -> 1 | D27: =IF(D25<80%,0,IF(D25<90%,0.5,IF(D25<95%,0.75,1))) -> 0.5 | F27: =IF(F25<80%,0,IF(F25<90%,0.5,IF(F25<95%,0.75,1))) -> 0.75 | G27: =IF(G25<80%,0,IF(G25<90%,0.5,IF(G25<95%,0.75,1))) -> 0.75 | H27: =IF(H25<80%,0,IF(H25<90%,0.5,IF(H25<95%,0.75,1))) -> 0.75 | J27: =IF(J25<80%,0,IF(J25<90%,0.5,IF(J25<95%,0.75,1))) -> 1 | K27: =IF(K25<80%,0,IF(K25<90%,0.5,IF(K25<95%,0.75,1))) -> 1 | L27: =IF(L25<80%,0,IF(L25<90%,0.5,IF(L25<95%,0.75,1))) -> 1 | N27: =IF(N25<80%,0,IF(N25<90%,0.5,IF(N25<95%,0.75,1))) -> #DIV/0! | O27: =IF(O25<80%,0,IF(O25<90%,0.5,IF(O25<95%,0.75,1))) -> #DIV/0! | P27: =IF(P25<80%,0,IF(P25<90%,0.5,IF(P25<95%,0.75,1))) -> #DIV/0!
A28: Premia miesięczna za Wskaźnik Sprzedaży Marża | B28: =B27*B26 -> 620 | C28: =C27*C26 -> 620 | D28: =D27*D26 -> 310 | F28: =F27*F26 -> 465 | G28: =G27*G26 -> 465 | H28: =H27*H26 -> 465 | J28: =J27*J26 -> 580 | K28: =K27*K26 -> 620 | L28: =L27*L26 -> 620 | N28: =N27*N26 -> #DIV/0! | O28: =O27*O26 -> #DIV/0! | P28: =P27*P26 -> #DIV/0!
A29: Wskaźnik Plan Sprzedaży Obrót | B29: =B12 -> 100000 | C29: =C12 -> 225000 | D29: =D12 -> 375000 | F29: =F12 -> 107500 | G29: =G12 -> 232500 | H29: =H12 -> 375000 | J29: =J12 -> 108000 | K29: =K12 -> 228000 | L29: =L12 -> 360000 | N29: =N12 -> 0 | O29: =O12 -> 0 | P29: =P12 -> 0
A30: Realizacja Wskaźnika Planu Sprzedaży Obrót | B30: =B14 -> 119531.91 | C30: =C14 -> 223988.38 | D30: =D14 -> 303644.15 | F30: =F14 -> 97918.82 | G30: =G14 -> 214111.99 | H30: =H14 -> 344681.5 | J30: =J14 -> 106517.06 | K30: =K14 -> 231846.66 | L30: =L14 -> 379444.76 | N30: =N14 -> 0 | O30: =O14 -> 0 | P30: =P14 -> 0
A31: Poziom realizacji Wskaźnika Sprzedaży Obrót | B31: =B30/B29 -> 1.1953191 | C31: =C30/C29 -> 0.99550391 | D31: =D30/D29 -> 0.80971773 | F31: =F30/F29 -> 0.91087274 | G31: =G30/G29 -> 0.92091178 | H31: =H30/H29 -> 0.91915067 | J31: =J30/J29 -> 0.98626907 | K31: =K30/K29 -> 1.0168713 | L31: =L30/L29 -> 1.0540132 | N31: =N30/N29 -> #DIV/0! | O31: =O30/O29 -> #DIV/0! | P31: =P30/P29 -> #DIV/0!
A32: Wysokość premii Wskaźnik Sprzedaży Obrót | B32: =B22*0.2 -> 620 | C32: =C22*0.2 -> 620 | D32: =D22*0.2 -> 620 | F32: =F22*0.2 -> 620 | G32: =G22*0.2 -> 620 | H32: =H22*0.2 -> 620 | J32: =J22*0.2 -> 580 | K32: =K22*0.2 -> 620 | L32: =L22*0.2 -> 620 | N32: =N22*0.2 -> 620 | O32: =O22*0.2 -> 620 | P32: =P22*0.2 -> 620
A33: Mnożnik premii miesięcznej Wskaźnika Sprzedaży Obrót | B33: =IF(B31<80%,0,IF(B31<90%,0.5,IF(B31<95%,0.75,1))) -> 1 | C33: =IF(C31<80%,0,IF(C31<90%,0.5,IF(C31<95%,0.75,1))) -> 1 | D33: =IF(D31<80%,0,IF(D31<90%,0.5,IF(D31<95%,0.75,1))) -> 0.5 | F33: =IF(F31<80%,0,IF(F31<90%,0.5,IF(F31<95%,0.75,1))) -> 0.75 | G33: =IF(G31<80%,0,IF(G31<90%,0.5,IF(G31<95%,0.75,1))) -> 0.75 | H33: =IF(H31<80%,0,IF(H31<90%,0.5,IF(H31<95%,0.75,1))) -> 0.75 | J33: =IF(J31<80%,0,IF(J31<90%,0.5,IF(J31<95%,0.75,1))) -> 1 | K33: =IF(K31<80%,0,IF(K31<90%,0.5,IF(K31<95%,0.75,1))) -> 1 | L33: =IF(L31<80%,0,IF(L31<90%,0.5,IF(L31<95%,0.75,1))) -> 1 | N33: =IF(N31<80%,0,IF(N31<90%,0.5,IF(N31<95%,0.75,1))) -> #DIV/0! | O33: =IF(O31<80%,0,IF(O31<90%,0.5,IF(O31<95%,0.75,1))) -> #DIV/0! | P33: =IF(P31<80%,0,IF(P31<90%,0.5,IF(P31<95%,0.75,1))) -> #DIV/0!
A34: Premia miesięczna za Wskaźnik Sprzedaży Obrót | B34: =B33*B32 -> 620 | C34: =C33*C32 -> 620 | D34: =D33*D32 -> 310 | F34: =F33*F32 -> 465 | G34: =G33*G32 -> 465 | H34: =H33*H32 -> 465 | J34: =J33*J32 -> 580 | K34: =K33*K32 -> 620 | L34: =L33*L32 -> 620 | N34: =N33*N32 -> #DIV/0! | O34: =O33*O32 -> #DIV/0! | P34: =P33*P32 -> #DIV/0!
A35: Wskaźnik CRM | J35: 1
A36: Wysokość premii CRM | B36: =B22*0.1 -> 310 | C36: =C22*0.1 -> 310 | D36: =D22*0.1 -> 310 | F36: =F22*0.1 -> 310 | G36: =G22*0.1 -> 310 | H36: =H22*0.1 -> 310 | J36: =J22*0.1 -> 290 | K36: =K22*0.1 -> 310 | L36: =L22*0.1 -> 310 | N36: =N22*0.1 -> 310 | O36: =O22*0.1 -> 310 | P36: =P22*0.1 -> 310
A37: Mnożnik premii Wskaźnik CRM | B37: 1 | C37: 1 | F37: 1 | G37: 1 | H37: 1 | J37: 1 | K37: 1 | L37: 1
A38: Premia miesięczna za Wskaźnik CRM | B38: =B37*B36 -> 310 | C38: =C37*C36 -> 310 | D38: =D37*D36 -> 0 | F38: =F37*F36 -> 310 | G38: =G37*G36 -> 310 | H38: =H37*H36 -> 310 | J38: =J37*J36 -> 290 | K38: =K37*K36 -> 310 | L38: =L37*L36 -> 310 | N38: =N37*N36 -> 0 | O38: =O37*O36 -> 0 | P38: =P37*P36 -> 0
A39: Suma Premii miesięcznych | B39: =B34+B28+B38 -> 1550 | C39: =C34+C28+C38 -> 1550 | D39: =D34+D28+D38 -> 620 | F39: =F34+F28+F38 -> 1240 | G39: =G34+G28+G38 -> 1240 | H39: =H34+H28+H38 -> 1240 | J39: =J34+J28+J38 -> 1450 | K39: =K34+K28+K38 -> 1550 | L39: =L34+L28+L38 -> 1550 | N39: =N34+N28+N38 -> #DIV/0! | O39: =O34+O28+O38 -> #DIV/0! | P39: =P34+P28+P38 -> #DIV/0!
A40: Wskaźnik Premia Kwartalna Marża | B40: =D5 -> 114000 | F40: =H5 -> 120000 | J40: =L5 -> 114000 | N40: =P5 -> 0
A41: Realizacja Wskaźnika Premia Kwartalna | B41: =D7 -> 95081.062 | F41: =H7 -> 111063.89 | J41: =L7 -> 117962.75 | N41: =P7 -> 0
A42: Poziom realizacji Wskaźnika Premia Kwartalna | B42: =B41/B40 -> 0.83404441 | F42: =F41/F40 -> 0.92553243 | J42: =J41/J40 -> 1.0347609 | N42: =N41/N40 -> #DIV/0!
A43: Wysokość premii kwartalnej. | B43: =D22/2 -> 1550 | F43: =H22/2 -> 1550 | J43: =L22/2 -> 1550 | N43: =P22/2 -> 1550
A44: Mnożnik premii kwartalnej | B44: =IF(B42<100%,0,IF(B42<110%,0.5,IF(B42<120%,0.7,1))) -> 0 | F44: =IF(F42<100%,0,IF(F42<110%,0.5,IF(F42<120%,0.7,1))) -> 0 | J44: =IF(J42<100%,0,IF(J42<110%,0.5,IF(J42<120%,0.7,1))) -> 0.5 | N44: =IF(N42<100%,0,IF(N42<110%,0.5,IF(N42<120%,0.7,1))) -> #DIV/0!
A45: Premia kwartalna | B45: =B44*B43 -> 0 | F45: =F44*F43 -> 0 | J45: =J44*J43 -> 775 | N45: =N44*N43 -> #DIV/0!
A46: Wskaźnik Premia Kwartalna Obrót | B46: =E11 -> 375000 | F46: =I11 -> 375000 | J46: =M11 -> 360000 | N46: =Q11 -> 0
A47: Realizacja Wskaźnika Premia Kwartalna | B47: =D14 -> 303644.15 | F47: =H14 -> 344681.5 | J47: =L14 -> 379444.76 | N47: =P14 -> 0
A48: Poziom realizacji Wskaźnika Premia Kwartalna | B48: =B47/B46 -> 0.80971773 | F48: =F47/F46 -> 0.91915067 | J48: =J47/J46 -> 1.0540132 | N48: =N47/N46 -> #DIV/0!
A49: Wysokość premii kwartalnej. | B49: =D22/2 -> 1550 | F49: =H22/2 -> 1550 | J49: =L22/2 -> 1550 | N49: =P22/2 -> 1550
A50: Mnożnik premii kwartalnej | B50: =IF(B48<100%,0,IF(B48<110%,0.5,IF(B48<120%,0.7,1))) -> 0 | F50: =IF(F48<100%,0,IF(F48<110%,0.5,IF(F48<120%,0.7,1))) -> 0 | J50: =IF(J48<100%,0,IF(J48<110%,0.5,IF(J48<120%,0.7,1))) -> 0.5 | N50: =IF(N48<100%,0,IF(N48<110%,0.5,IF(N48<120%,0.7,1))) -> #DIV/0!
A51: Premia kwartalna | B51: =B50*B49 -> 0 | F51: =F50*F49 -> 0 | J51: =J50*J49 -> 775 | N51: =N50*N49 -> #DIV/0!
A53: SPRZEDAŻ DRUKAREK | B53: lipiec | C53: sierpień | D53: wrzesień | E53: KW III | F53: kwiecień | G53: maj | H53: czerwiec | I53: KW II | J53: styczeń | K53: luty | L53: marzec | M53: KW I | N53: październik | O53: listopad | P53: grudzień | Q53: KW IV | R53: suma ROK
A54: CL-S521 | E54: =SUM(B54:D54) -> 0 | I54: =SUM(F54:H54) -> 0 | M54: =SUM(J54:L54) -> 0 | Q54: =SUM(N54:P54) -> 0 | R54: =M54+I54+E54+Q54 -> 0
A55: CL-S621 | B55: 1 | E55: =SUM(B55:D55) -> 1 | G55: 1 | I55: =SUM(F55:H55) -> 1 | M55: =SUM(J55:L55) -> 0 | Q55: =SUM(N55:P55) -> 0 | R55: =M55+I55+E55+Q55 -> 2
A56: CL-S6621 | C56: 1 | E56: =SUM(B56:D56) -> 1 | I56: =SUM(F56:H56) -> 0 | M56: =SUM(J56:L56) -> 0 | Q56: =SUM(N56:P56) -> 0 | R56: =M56+I56+E56+Q56 -> 1
A57: CL-S631 | E57: =SUM(B57:D57) -> 0 | F57: 1 | G57: 1 | I57: =SUM(F57:H57) -> 2 | K57: 1 | L57: 1 | M57: =SUM(J57:L57) -> 2 | Q57: =SUM(N57:P57) -> 0 | R57: =M57+I57+E57+Q57 -> 4
A58: CL-S700 | E58: =SUM(B58:D58) -> 0 | I58: =SUM(F58:H58) -> 0 | J58: 1 | K58: 1 | M58: =SUM(J58:L58) -> 2 | Q58: =SUM(N58:P58) -> 0 | R58: =M58+I58+E58+Q58 -> 2
A59: CL-S700R | E59: =SUM(B59:D59) -> 0 | I59: =SUM(F59:H59) -> 0 | M59: =SUM(J59:L59) -> 0 | Q59: =SUM(N59:P59) -> 0 | R59: =M59+I59+E59+Q59 -> 0
A60: CL-S703 | C60: 2 | E60: =SUM(B60:D60) -> 2 | I60: =SUM(F60:H60) -> 0 | M60: =SUM(J60:L60) -> 0 | Q60: =SUM(N60:P60) -> 0 | R60: =M60+I60+E60+Q60 -> 2
A61: CL-S703R | E61: =SUM(B61:D61) -> 0 | I61: =SUM(F61:H61) -> 0 | M61: =SUM(J61:L61) -> 0 | Q61: =SUM(N61:P61) -> 0 | R61: =M61+I61+E61+Q61 -> 0
A62: CLE-720 | K62: 1 | R62: =M62+I62+E62+Q62 -> 0
A63: CLE-730 | R63: =M63+I63+E63+Q63 -> 0
A64: CLP 8301 | E64: =SUM(B64:D64) -> 0 | I64: =SUM(F64:H64) -> 0 | M64: =SUM(J64:L64) -> 0 | Q64: =SUM(N64:P64) -> 0 | R64: =M64+I64+E64+Q64 -> 0
A65: ZEBRA | B65: 6 | E65: =SUM(B65:D65) -> 6 | H65: 1 | I65: =SUM(F65:H65) -> 1 | L65: 1 | M65: =SUM(J65:L65) -> 1 | Q65: =SUM(N65:P65) -> 0 | R65: =M65+I65+E65+Q65 -> 8
A66: INNE | E66: =SUM(B66:D66) -> 0 | I66: =SUM(F66:H66) -> 0 | M66: =SUM(J66:L66) -> 0 | Q66: =SUM(N66:P66) -> 0 | R66: =M66+I66+E66+Q66 -> 0
A67: SUMA: | B67: =SUM(B54:B66) -> 7 | C67: =SUM(C54:C66) -> 3 | D67: =SUM(D54:D66) -> 0 | E67: =SUM(B67:D67) -> 10 | F67: =SUM(F54:F66) -> 1 | G67: =SUM(G54:G66) -> 2 | H67: =SUM(H54:H66) -> 1 | I67: =SUM(F67:H67) -> 4 | J67: =SUM(J54:J66) -> 1 | K67: =SUM(K54:K66) -> 3 | L67: =SUM(L54:L66) -> 2 | M67: =SUM(J67:L67) -> 6 | N67: =SUM(N54:N66) -> 0 | O67: =SUM(O54:O66) -> 0 | P67: =SUM(P54:P66) -> 0 | Q67: =SUM(N67:P67) -> 0 | R67: =M67+I67+E67+Q67 -> 20
A69: Raport za miesiąc: | B69: lipiec | C69: sierpień | D69: wrzesień | E69: KW III | F69: kwiecień | G69: maj | H69: czerwiec | I69: KW II | J69: styczeń | K69: luty | L69: marzec | M69: Suma IKW | N69: paździer. | O69: listopad | P69: grudzień | Q69: KW IV | R69: Suma
A70: Ilość nowych Klientów: | B70: 2 | C70: 3 | E70: =SUM(B70:D70) -> 5 | F70: 2 | G70: 0 | H70: 4 | I70: =SUM(F70:H70) -> 6 | J70: 3 | K70: 2 | L70: 2 | M70: =SUM(J70:L70) -> 7 | Q70: =SUM(N70:P70) -> 0 | R70: =M70+I70+E70+Q70 -> 18
A71: Ilość Klientów przekaz. z Gliwic lub zm. nazwę/NIP. | B71: 1 | C71: 0 | E71: =SUM(B71:D71) -> 1 | F71: 0 | G71: 1 | H71: 0 | I71: =SUM(F71:H71) -> 1 | J71: 0 | K71: 0 | L71: 0 | M71: =SUM(J71:L71) -> 0 | Q71: =SUM(N71:P71) -> 0 | R71: =M71+I71+E71+Q71 -> 2
A72: Ilość Podmiotów na etapie współpracy Klient: | B72: 89 | C72: 91 | F72: 80 | G72: 81 | H72: 85 | J72: 71 | K72: 75 | L72: 78
A73: Ilość Podmiotów na etapie współpracy Handlowy: | B73: 68 | C73: 66 | F73: 70 | G73: 71 | H73: 65 | J73: 73 | K73: 69 | L73: 72
A74: Ilość Podmiotów na etapie współpracy Klient nieaktywny: | B74: 8 | C74: 8 | F74: 9 | G74: 10 | H74: 8 | J74: 13 | K74: 13 | L74: 11
A75: Ilość Podmiotów pod opieką: | B75: =SUM(B72:B74) -> 165 | C75: =SUM(C72:C74) -> 165 | F75: =SUM(F72:F74) -> 159 | G75: =SUM(G72:G74) -> 162 | H75: =SUM(H72:H74) -> 158 | J75: 157 | K75: 157 | L75: 161
A76: Ilość sprzedanych drukarek: | B76: 7 | C76: 3 | E76: =SUM(B76:D76) -> 10 | F76: 1 | G76: 2 | H76: 1 | I76: =SUM(F76:H76) -> 4 | J76: 1 | K76: 3 | L76: 2 | M76: =SUM(J76:L76) -> 6 | Q76: =SUM(N76:P76) -> 0 | R76: =M76+I76+E76+Q76 -> 20
A77: Ilość ofert dodanych w danym miesiącu: | B77: 14 | C77: 33 | E77: =SUM(B77:D77) -> 47 | F77: 18 | G77: 23 | H77: 27 | I77: =SUM(F77:H77) -> 68 | J77: 30 | K77: 28 | L77: 32 | M77: =SUM(J77:L77) -> 90 | Q77: =SUM(N77:P77) -> 0 | R77: =M77+I77+E77+Q77 -> 205
A78: Ilość ofert oczekujących na decyzję kontrahenta: | B78: 6 | C78: 11 | F78: 8 | G78: 18 | H78: 14 | J78: 14 | K78: 6 | L78: 12
A79: Ilość zaakceptowanych ofert przez kontrahenta: | B79: 7 | C79: 12 | F79: 9 | G79: 5 | H79: 6 | J79: 17 | K79: 12 | L79: 9
A80: Ilość odrzuconych ofert przez kontrahenta: | B80: 11 | C80: 23 | F80: 14 | G80: 7 | H80: 23 | J80: 14 | K80: 29 | L80: 17
A81: Ilość przekazanych podmiotów z Marketingu: | B81: 2 | C81: 7 | E81: =SUM(B81:D81) -> 9 | F81: 6 | G81: 8 | H81: 6 | I81: =SUM(F81:H81) -> 20 | J81: 4 | K81: 5 | L81: 7 | M81: =SUM(J81:L81) -> 16 | Q81: =SUM(N81:P81) -> 0 | R81: =M81+I81+E81+Q81 -> 45
A82: Ilość przekazanych podmiotów do prowadzenia od KDH: | B82: 0 | C82: 3 | E82: =SUM(B82:D82) -> 3 | F82: 0 | G82: 0 | H82: 0 | I82: =SUM(F82:H82) -> 0 | J82: 0 | K82: 0 | L82: 0 | M82: =SUM(J82:L82) -> 0 | Q82: =SUM(N82:P82) -> 0 | R82: =M82+I82+E82+Q82 -> 3
A83: Ilość odebranych podmiotów (zmiana prowadzącego): | B83: 0 | C83: 0 | E83: =SUM(B83:D83) -> 0 | F83: 1 | G83: 0 | H83: 3 | I83: =SUM(F83:H83) -> 4 | J83: 4 | K83: 0 | L83: 0 | M83: =SUM(J83:L83) -> 4 | Q83: =SUM(N83:P83) -> 0 | R83: =M83+I83+E83+Q83 -> 8
A84: Ilość spotkań z Klientami: | B84: 1 | C84: 7 | E84: =SUM(B84:D84) -> 8 | F84: 7 | G84: 5 | H84: 6 | I84: =SUM(F84:H84) -> 18 | J84: 7 | K84: 7 | L84: 4 | M84: =SUM(J84:L84) -> 18 | Q84: =SUM(N84:P84) -> 0 | R84: =M84+I84+E84+Q84 -> 44
A85: Ilość aktualnie otwartych wdrożeń: | B85: 65 | C85: 60 | F85: 66 | G85: 70 | H85: 60 | J85: 72 | K85: 71 | L85: 76
A86: Ilość wdrożeń dodanych w danym miesiącu: | B86: 16 | C86: 18 | E86: =SUM(B86:D86) -> 34 | F86: 12 | G86: 19 | H86: 12 | I86: =SUM(F86:H86) -> 43 | J86: 15 | K86: 13 | L86: 23 | M86: =SUM(J86:L86) -> 51 | Q86: =SUM(N86:P86) -> 0 | R86: =M86+I86+E86+Q86 -> 128
A87: Ilość wdrożeń zamkniętych pozytywnie w danym mcu: | B87: 7 | C87: 9 | E87: =SUM(B87:D87) -> 16 | F87: 9 | G87: 5 | H87: 5 | I87: =SUM(F87:H87) -> 19 | J87: 12 | K87: 9 | L87: 8 | M87: =SUM(J87:L87) -> 29 | Q87: =SUM(N87:P87) -> 0 | R87: =M87+I87+E87+Q87 -> 64
A88: Ilość wdrożeń zamkniętych negatywnie w danym mcu: | B88: 3 | C88: 14 | E88: =SUM(B88:D88) -> 17 | F88: 14 | G88: 11 | H88: 14 | I88: =SUM(F88:H88) -> 39 | J88: 3 | K88: 8 | L88: 10 | M88: =SUM(J88:L88) -> 21 | Q88: =SUM(N88:P88) -> 0 | R88: =M88+I88+E88+Q88 -> 77 | S88: =R88/P90 -> 1
A89: Ilość aktualnie odłożonych wdrożeń: | B89: 3 | C89: 3 | F89: 1 | G89: 1 | H89: 2 | J89: 6 | K89: 3 | L89: 3 | S89: =R89/P90 -> 0
P90: =SUM(R88:R89) -> 77

Sheet ŁUKASZ
A1: Łukasz Łuszczek | B1: PLAN II KW ŁUKASZ ŁUSZCZEK | F1: PLAN I KW ŁUKASZ ŁUSZCZEK | J1: PLAN IV KW ŁUKASZ ŁUSZCZEK | N1: PLAN III KW ŁUKASZ ŁUSZCZEK
A2: miesiąc | B2: kwiecień | C2: maj | D2: czerwiec | E2: KW II | F2: styczeń | G2: luty | H2: marzec | I2: KW I | J2: październik | K2: listopad | L2: grudzień | M2: KW IV | N2: lipiec | O2: sierpień | P2: wrzesień | Q2: KW III | R2: suma ROK
A4: Plan Sprzedaży Marża | B4: ='Target 2016'!F5 -> 27000 | C4: ='Target 2016'!G5 -> 30000 | D4: ='Target 2016'!H5 -> 33000 | E4: =SUM(B4:D4) -> 90000 | F4: ='Target 2016'!C5 -> 27000 | G4: ='Target 2016'!D5-1000 -> 29000 | H4: ='Target 2016'!E5+1000-250 -> 33750 | I4: =SUM(F4:H4) -> 89750 | J4: ='Target 2016'!L5 -> 0 | K4: ='Target 2016'!M5 -> 0 | L4: ='Target 2016'!N5 -> 0 | M4: =SUM(J4:L4) -> 0 | N4: ='Target 2016'!I5 -> 0 | O4: ='Target 2016'!J5 -> 0 | P4: ='Target 2016'!K5 -> 0 | Q4: =SUM(N4:P4) -> 0 | R4: =I4+E4+Q4+M4 -> 179750
A5: Sumaryczny Plan Sprzedaży Marża | B5: =B4 -> 27000 | C5: =C4+B5 -> 57000 | D5: =D4+C5 -> 90000 | F5: =F4 -> 27000 | G5: =G4+F5 -> 56000 | H5: =H4+G5 -> 89750 | J5: =J4 -> 0 | K5: =K4+J5 -> 0 | L5: =L4+K5 -> 0 | N5: =N4 -> 0 | O5: =O4+N5 -> 0 | P5: =P4+O5 -> 0
A6: Miesięczna realizacja Planu Sprzedaży Marża | B6: =SUMIF(IV!A:A,$A$1,IV!I:I) -> 31329.404 | C6: =SUMIF(V!A:A,$A$1,V!I:I) -> 25000.535 | D6: =SUMIF(VI!A:A,$A$1,VI!I:I) -> 36859.88 | E6: =SUM(B6:D6) -> 93189.818 | F6: =SUMIF(I!A:A,$A$1,I!I:I) -> 28173.059 | G6: =SUMIF(II!A:A,$A$1,II!I:I) -> 25506.038 | H6: =SUMIF(III!A:A,$A$1,III!I:I) -> 31618.244 | I6: =SUM(F6:H6) -> 85297.341 | J6: =SUMIF(X!A:A,$A$1,X!I:I) -> 0 | K6: =SUMIF(XI!A:A,$A$1,XI!I:I) -> 0 | L6: =SUMIF(XII!A:A,$A$1,XII!I:I) -> 0 | M6: =SUM(J6:L6) -> 0 | N6: =SUMIF(VII!A:A,$A$1,VII!I:I) -> 0 | O6: =SUMIF(VIII!A:A,$A$1,VIII!I:I) -> 0 | P6: =SUMIF(IX!A:A,$A$1,IX!I:I) -> 0 | Q6: =SUM(N6:P6) -> 0 | R6: =I6+E6+Q6+M6 -> 178487.16
A7: Sumaryczna realizacja planu sprzedaży Marża | B7: =B6 -> 31329.404 | C7: =C6+B7 -> 56329.939 | D7: =D6+C7 -> 93189.818 | F7: =F6 -> 28173.059 | G7: =G6+F7 -> 53679.097 | H7: =H6+G7 -> 85297.341 | J7: =J6 -> 0 | K7: =K6+J7 -> 0 | L7: =L6+K7 -> 0 | N7: =N6 -> 0 | O7: =O6+N7 -> 0 | P7: =P6+O7 -> 0
A8: Wysokość zrealizowania Miesięcznego Planu Sprzedaży Marża | B8: =B6/B4 -> 1.1603483 | C8: =C6/C4 -> 0.83335116 | D8: =D6/D4 -> 1.1169661 | F8: =F6/F4 -> 1.0434466 | G8: =G6/G4 -> 0.87951857 | H8: =H6/H4 -> 0.93683686 | J8: =J6/J4 -> #DIV/0! | K8: =K6/K4 -> #DIV/0! | L8: =L6/L4 -> #DIV/0! | N8: =N6/N4 -> #DIV/0! | O8: =O6/O4 -> #DIV/0! | P8: =P6/P4 -> #DIV/0!
A9: Wysokość zrealizowania Planu Sprzedaży Marża | B9: =B7/B5 -> 1.1603483 | C9: =C7/C5 -> 0.98824454 | D9: =D7/D5 -> 1.0354424 | F9: =F7/F5 -> 1.0434466 | G9: =G7/G5 -> 0.95855531 | H9: =H7/H5 -> 0.95038821 | J9: =J7/J5 -> #DIV/0! | K9: =K7/K5 -> #DIV/0! | L9: =L7/L5 -> #DIV/0! | N9: =N7/N5 -> #DIV/0! | O9: =O7/O5 -> #DIV/0! | P9: =P7/P5 -> #DIV/0!
A10: Różnica wskaźnika Marża | B10: =B7-B5 -> 4329.4039 | C10: =C7-C5 -> -670.0614 | D10: =D7-D5 -> 3189.8184 | F10: =F7-F5 -> 1173.0589 | G10: =G7-G5 -> -2320.9027 | H10: =H7-H5 -> -4452.6586 | J10: =J7-J5 -> 0 | K10: =K7-K5 -> 0 | L10: =L7-L5 -> 0 | N10: =N7-N5 -> 0 | O10: =O7-O5 -> 0 | P10: =P7-P5 -> 0
A11: Plan Sprzedaży Obrót | B11: ='Target 2016'!F15 -> 84600 | C11: ='Target 2016'!G15 -> 94000 | D11: ='Target 2016'!H15 -> 103400 | E11: =SUM(B11:D11) -> 282000 | F11: ='Target 2016'!C15 -> 83700 | G11: ='Target 2016'!D15 -> 93000 | H11: ='Target 2016'!E15-300 -> 102000 | I11: =SUM(F11:H11) -> 278700 | J11: ='Target 2016'!L15 -> 0 | K11: ='Target 2016'!M15 -> 0 | L11: ='Target 2016'!N15 -> 0 | M11: =SUM(J11:L11) -> 0 | N11: ='Target 2016'!I15 -> 0 | O11: ='Target 2016'!J15 -> 0 | P11: ='Target 2016'!K15 -> 0 | Q11: =SUM(N11:P11) -> 0 | R11: =I11+E11+Q11+M11 -> 560700
A12: Sumaryczny Plan Sprzedaży Obrót | B12: =B11 -> 84600 | C12: =C11+B12 -> 178600 | D12: =D11+C12 -> 282000 | F12: =F11 -> 83700 | G12: =G11+F12 -> 176700 | H12: =H11+G12 -> 278700 | J12: =J11 -> 0 | K12: =K11+J12 -> 0 | L12: =L11+K12 -> 0 | N12: =N11 -> 0 | O12: =O11+N12 -> 0 | P12: =P11+O12 -> 0
A13: Miesięczna realizacja Planu Sprzedaży Obrót | B13: =SUMIF(IV!A:A,$A$1,IV!G:G) -> 87222.83 | C13: =SUMIF(V!A:A,$A$1,V!G:G) -> 72790.51 | D13: =SUMIF(VI!A:A,$A$1,VI!G:G) -> 114066.59 | E13: =SUM(B13:D13) -> 274079.93 | F13: =SUMIF(I!A:A,$A$1,I!G:G) -> 79652.17 | G13: =SUMIF(II!A:A,$A$1,II!G:G) -> 90588.79 | H13: =SUMIF(III!A:A,$A$1,III!G:G) -> 94534.22 | I13: =SUM(F13:H13) -> 264775.18 | J13: =SUMIF(X!A:A,$A$1,X!G:G) -> 0 | K13: =SUMIF(XI!A:A,$A$1,XI!G:G) -> 0 | L13: =SUMIF(XII!A:A,$A$1,XII!G:G) -> 0 | M13: =SUM(J13:L13) -> 0 | N13: =SUMIF(VII!A:A,$A$1,VII!G:G) -> 0 | O13: =SUMIF(VIII!A:A,$A$1,VIII!G:G) -> 0 | P13: =SUMIF(IX!A:A,$A$1,IX!G:G) -> 0 | Q13: =SUM(N13:P13) -> 0 | R13: =I13+E13+Q13+M13 -> 538855.11
A14: Sumaryczna realizacja planu sprzedaży Obrót | B14: =B13 -> 87222.83 | C14: =C13+B14 -> 160013.34 | D14: =D13+C14 -> 274079.93 | F14: =F13 -> 79652.17 | G14: =G13+F14 -> 170240.96 | H14: =H13+G14 -> 264775.18 | J14: =J13 -> 0 | K14: =K13+J14 -> 0 | L14: =L13+K14 -> 0 | N14: =N13 -> 0 | O14: =O13+N14 -> 0 | P14: =P13+O14 -> 0
A15: Wysokość zrealizowania Miesięcznego Planu Sprzedaży Obrót | B15: =B13/B11 -> 1.0310027 | C15: =C13/C11 -> 0.77436713 | D15: =D13/D11 -> 1.1031585 | F15: =F13/F11 -> 0.95163883 | G15: =G13/G11 -> 0.97407301 | H15: =H13/H11 -> 0.92680608 | J15: =J13/J11 -> #DIV/0! | K15: =K13/K11 -> #DIV/0! | L15: =L13/L11 -> #DIV/0! | N15: =N13/N11 -> #DIV/0! | O15: =O13/O11 -> #DIV/0! | P15: =P13/P11 -> #DIV/0!
A16: Wysokość zrealizowania Planu Sprzedaży Obrót | B16: =B14/B12 -> 1.0310027 | C16: =C14/C12 -> 0.89593135 | D16: =D14/D12 -> 0.97191465 | F16: =F14/F12 -> 0.95163883 | G16: =G14/G12 -> 0.96344629 | H16: =H14/H12 -> 0.95003653 | J16: =J14/J12 -> #DIV/0! | K16: =K14/K12 -> #DIV/0! | L16: =L14/L12 -> #DIV/0! | N16: =N14/N12 -> #DIV/0! | O16: =O14/O12 -> #DIV/0! | P16: =P14/P12 -> #DIV/0!
A17: Różnica wskaźnika Obrót | B17: =B14-B12 -> 2622.83 | C17: =C14-C12 -> -18586.66 | D17: =D14-D12 -> -7920.07 | F17: =F14-F12 -> -4047.83 | G17: =G14-G12 -> -6459.04 | H17: =H14-H12 -> -13924.82 | J17: =J14-J12 -> 0 | K17: =K14-K12 -> 0 | L17: =L14-L12 -> 0 | N17: =N14-N12 -> 0 | O17: =O14-O12 -> 0 | P17: =P14-P12 -> 0
A18: Wysokość Marży miesięcznej | B18: =B6/B13 -> 0.35918812 | C18: =C6/C13 -> 0.34345871 | D18: =D6/D13 -> 0.32314352 | F18: =F6/F13 -> 0.35370108 | G18: =G6/G13 -> 0.28155844 | H18: =H6/H13 -> 0.33446348 | J18: =J6/J13 -> #DIV/0! | K18: =K6/K13 -> #DIV/0! | L18: =L6/L13 -> #DIV/0! | N18: =N6/N13 -> #DIV/0! | O18: =O6/O13 -> #DIV/0! | P18: =P6/P13 -> #DIV/0!
A19: Wysokość Marży sumarycznej | B19: =B7/B14 -> 0.35918812 | C19: =C7/C14 -> 0.35203277 | D19: =D7/D14 -> 0.34000964 | F19: =F7/F14 -> 0.35370108 | G19: =G7/G14 -> 0.31531247 | H19: =H7/H14 -> 0.32215006 | J19: =J7/J14 -> #DIV/0! | K19: =K7/K14 -> #DIV/0! | L19: =L7/L14 -> #DIV/0! | N19: =N7/N14 -> #DIV/0! | O19: =O7/O14 -> #DIV/0! | P19: =P7/P14 -> #DIV/0!
F21: PREMIE
A22: Wynagrodzenie zasadnicze | B22: 2800 | C22: 2800 | D22: 2800 | F22: 2630 | G22: 2800 | H22: 2800 | J22: 2630 | K22: 2800 | L22: 2800 | N22: 2800 | O22: 2800 | P22: 2800
A23: Wskaźnik Plan Sprzedaży Marża | B23: =B5 -> 27000 | C23: =C5 -> 57000 | D23: =D5 -> 90000 | F23: =F5 -> 27000 | G23: =G5 -> 56000 | H23: =H5 -> 89750 | J23: =J5 -> 0 | K23: =K5 -> 0 | L23: =L5 -> 0 | N23: =N5 -> 0 | O23: =O5 -> 0 | P23: =P5 -> 0
A24: Realizacja Wskaźnika Planu Sprzedaży Marża | B24: =B7 -> 31329.404 | C24: =C7 -> 56329.939 | D24: =D7 -> 93189.818 | F24: =F7 -> 28173.059 | G24: =G7 -> 53679.097 | H24: =H7 -> 85297.341 | J24: =J7 -> 0 | K24: =K7 -> 0 | L24: =L7 -> 0 | N24: =N7 -> 0 | O24: =O7 -> 0 | P24: =P7 -> 0
A25: Poziom realizacji Wskaźnika Sprzedaży Marża | B25: =B24/B23 -> 1.1603483 | C25: =C24/C23 -> 0.98824454 | D25: =D24/D23 -> 1.0354424 | F25: =F24/F23 -> 1.0434466 | G25: =G24/G23 -> 0.95855531 | H25: =H24/H23 -> 0.95038821 | J25: =J24/J23 -> #DIV/0! | K25: =K24/K23 -> #DIV/0! | L25: =L24/L23 -> #DIV/0! | N25: =N24/N23 -> #DIV/0! | O25: =O24/O23 -> #DIV/0! | P25: =P24/P23 -> #DIV/0!
A26: Wysokość premii Wskaźnik Sprzedaży Marża | B26: =B22*0.2 -> 560 | C26: =C22*0.2 -> 560 | D26: =D22*0.2 -> 560 | F26: =F22*0.2 -> 526 | G26: =G22*0.2 -> 560 | H26: =H22*0.2 -> 560 | J26: =J22*0.2 -> 526 | K26: =K22*0.2 -> 560 | L26: =L22*0.2 -> 560 | N26: =N22*0.2 -> 560 | O26: =O22*0.2 -> 560 | P26: =P22*0.2 -> 560
A27: Mnożnik premii miesięcznej Wskaźnika Sprzedaży Marża | B27: =IF(B25<80%,0,IF(B25<90%,0.5,IF(B25<95%,0.75,1))) -> 1 | C27: =IF(C25<80%,0,IF(C25<90%,0.5,IF(C25<95%,0.75,1))) -> 1 | D27: =IF(D25<80%,0,IF(D25<90%,0.5,IF(D25<95%,0.75,1))) -> 1 | F27: =IF(F25<80%,0,IF(F25<90%,0.5,IF(F25<95%,0.75,1))) -> 1 | G27: =IF(G25<80%,0,IF(G25<90%,0.5,IF(G25<95%,0.75,1))) -> 1 | H27: =IF(H25<80%,0,IF(H25<90%,0.5,IF(H25<95%,0.75,1))) -> 1 | J27: =IF(J25<80%,0,IF(J25<90%,0.5,IF(J25<95%,0.75,1))) -> #DIV/0! | K27: =IF(K25<80%,0,IF(K25<90%,0.5,IF(K25<95%,0.75,1))) -> #DIV/0! | L27: =IF(L25<80%,0,IF(L25<90%,0.5,IF(L25<95%,0.75,1))) -> #DIV/0! | N27: =IF(N25<80%,0,IF(N25<90%,0.5,IF(N25<95%,0.75,1))) -> #DIV/0! | O27: =IF(O25<80%,0,IF(O25<90%,0.5,IF(O25<95%,0.75,1))) -> #DIV/0! | P27: =IF(P25<80%,0,IF(P25<90%,0.5,IF(P25<95%,0.75,1))) -> #DIV/0!
A28: Premia miesięczna za Wskaźnik Sprzedaży Marża | B28: =B27*B26 -> 560 | C28: =C27*C26 -> 560 | D28: =D27*D26 -> 560 | F28: =F27*F26 -> 526 | G28: =G27*G26 -> 560 | H28: =H27*H26 -> 560 | J28: =J27*J26 -> #DIV/0! | K28: =K27*K26 -> #DIV/0! | L28: =L27*L26 -> #DIV/0! | N28: =N27*N26 -> #DIV/0! | O28: =O27*O26 -> #DIV/0! | P28: =P27*P26 -> #DIV/0!
A29: Wskaźnik Plan Sprzedaży Obrót | B29: =B12 -> 84600 | C29: =C12 -> 178600 | D29: =D12 -> 282000 | F29: =F12 -> 83700 | G29: =G12 -> 176700 | H29: =H12 -> 278700 | J29: =J12 -> 0 | K29: =K12 -> 0 | L29: =L12 -> 0 | N29: =N12 -> 0 | O29: =O12 -> 0 | P29: =P12 -> 0
A30: Realizacja Wskaźnika Planu Sprzedaży Obrót | B30: =B14 -> 87222.83 | C30: =C14 -> 160013.34 | D30: =D14 -> 274079.93 | F30: =F14 -> 79652.17 | G30: =G14 -> 170240.96 | H30: =H14 -> 264775.18 | J30: =J14 -> 0 | K30: =K14 -> 0 | L30: =L14 -> 0 | N30: =N14 -> 0 | O30: =O14 -> 0 | P30: =P14 -> 0
A31: Poziom realizacji Wskaźnika Sprzedaży Obrót | B31: =B30/B29 -> 1.0310027 | C31: =C30/C29 -> 0.89593135 | D31: =D30/D29 -> 0.97191465 | F31: =F30/F29 -> 0.95163883 | G31: =G30/G29 -> 0.96344629 | H31: =H30/H29 -> 0.95003653 | J31: =J30/J29 -> #DIV/0! | K31: =K30/K29 -> #DIV/0! | L31: =L30/L29 -> #DIV/0! | N31: =N30/N29 -> #DIV/0! | O31: =O30/O29 -> #DIV/0! | P31: =P30/P29 -> #DIV/0!
A32: Wysokość premii Wskaźnik Sprzedaży Obrót | B32: =B22*0.2 -> 560 | C32: =C22*0.2 -> 560 | D32: =D22*0.2 -> 560 | F32: =F22*0.2 -> 526 | G32: =G22*0.2 -> 560 | H32: =H22*0.2 -> 560 | J32: =J22*0.2 -> 526 | K32: =K22*0.2 -> 560 | L32: =L22*0.2 -> 560 | N32: =N22*0.2 -> 560 | O32: =O22*0.2 -> 560 | P32: =P22*0.2 -> 560
A33: Mnożnik premii miesięcznej Wskaźnika Sprzedaży Obrót | B33: =IF(B31<80%,0,IF(B31<90%,0.5,IF(B31<95%,0.75,1))) -> 1 | C33: =IF(C31<80%,0,IF(C31<90%,0.5,IF(C31<95%,0.75,1))) -> 0.5 | D33: =IF(D31<80%,0,IF(D31<90%,0.5,IF(D31<95%,0.75,1))) -> 1 | F33: =IF(F31<80%,0,IF(F31<90%,0.5,IF(F31<95%,0.75,1))) -> 1 | G33: =IF(G31<80%,0,IF(G31<90%,0.5,IF(G31<95%,0.75,1))) -> 1 | H33: =IF(H31<80%,0,IF(H31<90%,0.5,IF(H31<95%,0.75,1))) -> 1 | J33: =IF(J31<80%,0,IF(J31<90%,0.5,IF(J31<95%,0.75,1))) -> #DIV/0! | K33: =IF(K31<80%,0,IF(K31<90%,0.5,IF(K31<95%,0.75,1))) -> #DIV/0! | L33: =IF(L31<80%,0,IF(L31<90%,0.5,IF(L31<95%,0.75,1))) -> #DIV/0! | N33: =IF(N31<80%,0,IF(N31<90%,0.5,IF(N31<95%,0.75,1))) -> #DIV/0! | O33: =IF(O31<80%,0,IF(O31<90%,0.5,IF(O31<95%,0.75,1))) -> #DIV/0! | P33: =IF(P31<80%,0,IF(P31<90%,0.5,IF(P31<95%,0.75,1))) -> #DIV/0!
A34: Premia miesięczna za Wskaźnik Sprzedaży Obrót | B34: =B33*B32 -> 560 | C34: =C33*C32 -> 280 | D34: =D33*D32 -> 560 | F34: =F33*F32 -> 526 | G34: =G33*G32 -> 560 | H34: =H33*H32 -> 560 | J34: =J33*J32 -> #DIV/0! | K34: =K33*K32 -> #DIV/0! | L34: =L33*L32 -> #DIV/0! | N34: =N33*N32 -> #DIV/0! | O34: =O33*O32 -> #DIV/0! | P34: =P33*P32 -> #DIV/0!
A35: Wskaźnik CRM | B35: 1 | C35: 1 | D35: 1 | F35: 1 | G35: 1 | H35: 1 | J35: 1 | K35: 1 | L35: 1 | N35: 1 | O35: 1 | P35: 1
A36: Wysokość premii CRM | B36: =B22*0.1 -> 280 | C36: =C22*0.1 -> 280 | D36: =D22*0.1 -> 280 | F36: =F22*0.1 -> 263 | G36: =G22*0.1 -> 280 | H36: =H22*0.1 -> 280 | J36: =J22*0.1 -> 263 | K36: =K22*0.1 -> 280 | L36: =L22*0.1 -> 280 | N36: =N22*0.1 -> 280 | O36: =O22*0.1 -> 280 | P36: =P22*0.1 -> 280
A37: Mnożnik premii Wskaźnik CRM | B37: 1 | C37: 1 | F37: 1 | G37: 1 | H37: 1
A38: Premia miesięczna za Wskaźnik CRM | B38: =B37*B36 -> 280 | C38: =C37*C36 -> 280 | D38: =D37*D36 -> 0 | F38: =F37*F36 -> 263 | G38: =G37*G36 -> 280 | H38: =H37*H36 -> 280 | J38: =J37*J36 -> 0 | K38: =K37*K36 -> 0 | L38: =L37*L36 -> 0 | N38: =N37*N36 -> 0 | O38: =O37*O36 -> 0 | P38: =P37*P36 -> 0
A39: Suma Premii miesięcznych | B39: =B34+B28+B38 -> 1400 | C39: =C34+C28+C38 -> 1120 | D39: =D34+D28+D38 -> 1120 | F39: =F34+F28+F38 -> 1315 | G39: =G34+G28+G38 -> 1400 | H39: =H34+H28+H38 -> 1400 | J39: =J34+J28+J38 -> #DIV/0! | K39: =K34+K28+K38 -> #DIV/0! | L39: =L34+L28+L38 -> #DIV/0! | N39: =N34+N28+N38 -> #DIV/0! | O39: =O34+O28+O38 -> #DIV/0! | P39: =P34+P28+P38 -> #DIV/0!
A40: Wskaźnik Premia Kwartalna Marża | B40: =D5 -> 90000 | F40: =H5 -> 89750 | J40: =L5 -> 0 | N40: =P5 -> 0
A41: Realizacja Wskaźnika Premia Kwartalna | B41: =D7 -> 93189.818 | F41: =H7 -> 85297.341 | J41: =L7 -> 0 | N41: =P7 -> 0
A42: Poziom realizacji Wskaźnika Premia Kwartalna | B42: =B41/B40 -> 1.0354424 | F42: =F41/F40 -> 0.95038821 | J42: =J41/J40 -> #DIV/0! | N42: =N41/N40 -> #DIV/0!
A43: Wysokość premii kwartalnej. | B43: =D22*0.5 -> 1400 | F43: =H22*0.5 -> 1400 | J43: =L22*0.5 -> 1400 | N43: =P22*0.5 -> 1400
A44: Mnożnik premii kwartalnej | B44: =IF(B42<100%,0,IF(B42<110%,0.5,IF(B42<120%,0.7,1))) -> 0.5 | F44: =IF(F42<100%,0,IF(F42<110%,0.5,IF(F42<120%,0.7,1))) -> 0 | J44: =IF(J42<100%,0,IF(J42<110%,0.5,IF(J42<120%,0.7,1))) -> #DIV/0! | N44: =IF(N42<100%,0,IF(N42<110%,0.5,IF(N42<120%,0.7,1))) -> #DIV/0!
A45: Premia kwartalna | B45: =B44*B43 -> 700 | F45: =F44*F43 -> 0 | J45: =J44*J43 -> #DIV/0! | N45: =N44*N43 -> #DIV/0!
A46: Wskaźnik Premia Kwartalna Obrót | B46: =E11 -> 282000 | F46: =I11 -> 278700 | J46: =M11 -> 0 | N46: =Q11 -> 0
A47: Realizacja Wskaźnika Premia Kwartalna | B47: =D14 -> 274079.93 | F47: =H14 -> 264775.18 | J47: =L14 -> 0 | N47: =P14 -> 0
A48: Poziom realizacji Wskaźnika Premia Kwartalna | B48: =B47/B46 -> 0.97191465 | F48: =F47/F46 -> 0.95003653 | J48: =J47/J46 -> #DIV/0! | N48: =N47/N46 -> #DIV/0!
A49: Wysokość premii kwartalnej. | B49: =D22*0.5 -> 1400 | F49: =H22*0.5 -> 1400 | J49: =L22*0.5 -> 1400 | N49: =P22*0.5 -> 1400
A50: Mnożnik premii kwartalnej | B50: =IF(B48<100%,0,IF(B48<110%,0.5,IF(B48<120%,0.7,1))) -> 0 | F50: =IF(F48<100%,0,IF(F48<110%,0.5,IF(F48<120%,0.7,1))) -> 0 | J50: =IF(J48<100%,0,IF(J48<110%,0.5,IF(J48<120%,0.7,1))) -> #DIV/0! | N50: =IF(N48<100%,0,IF(N48<110%,0.5,IF(N48<120%,0.7,1))) -> #DIV/0!
A51: Premia kwartalna | B51: =B50*B49 -> 0 | F51: =F50*F49 -> 0 | J51: =J50*J49 -> #DIV/0! | N51: =N50*N49 -> #DIV/0!
A53: SPRZEDAŻ DRUKAREK | B53: kwiecień | C53: maj | D53: czerwiec | E53: KW II | F53: styczeń | G53: luty | H53: marzec | I53: KW I | J53: październik | K53: listopad | L53: grudzień | M53: KW IV | N53: lipiec | O53: sierpień | P53: wrzesień | Q53: KW III | R53: suma ROK
A54: CL-S521 | E54: =SUM(B54:D54) -> 0 | I54: =SUM(F54:H54) -> 0 | M54: =SUM(J54:L54) -> 0 | Q54: =SUM(N54:P54) -> 0 | R54: =I54+E54+Q54+M54 -> 0
A55: CL-S621 | B55: 1 | E55: =SUM(B55:D55) -> 1 | G55: 1 | H55: 2 | I55: =SUM(F55:H55) -> 3 | M55: =SUM(J55:L55) -> 0 | Q55: =SUM(N55:P55) -> 0 | R55: =I55+E55+Q55+M55 -> 4
A56: CL-S6621 | E56: =SUM(B56:D56) -> 0 | I56: =SUM(F56:H56) -> 0 | M56: =SUM(J56:L56) -> 0 | Q56: =SUM(N56:P56) -> 0 | R56: =I56+E56+Q56+M56 -> 0
A57: CL-S631 | B57: 1 | E57: =SUM(B57:D57) -> 1 | F57: 1 | H57: 1 | I57: =SUM(F57:H57) -> 2 | M57: =SUM(J57:L57) -> 0 | Q57: =SUM(N57:P57) -> 0 | R57: =I57+E57+Q57+M57 -> 3
A58: CL-S700 | E58: =SUM(B58:D58) -> 0 | G58: 1 | I58: =SUM(F58:H58) -> 1 | M58: =SUM(J58:L58) -> 0 | Q58: =SUM(N58:P58) -> 0 | R58: =I58+E58+Q58+M58 -> 1
A59: CL-S700R | E59: =SUM(B59:D59) -> 0 | I59: =SUM(F59:H59) -> 0 | M59: =SUM(J59:L59) -> 0 | Q59: =SUM(N59:P59) -> 0 | R59: =I59+E59+Q59+M59 -> 0
A60: CL-S703 | E60: =SUM(B60:D60) -> 0 | H60: 1 | I60: =SUM(F60:H60) -> 1 | M60: =SUM(J60:L60) -> 0 | Q60: =SUM(N60:P60) -> 0 | R60: =I60+E60+Q60+M60 -> 1
A61: CL-S703R | E61: =SUM(B61:D61) -> 0 | I61: =SUM(F61:H61) -> 0 | M61: =SUM(J61:L61) -> 0 | Q61: =SUM(N61:P61) -> 0 | R61: =I61+E61+Q61+M61 -> 0
A62: CLE-720 | H62: 1 | R62: =I62+E62+Q62+M62 -> 0
A63: CLE-730 | R63: =I63+E63+Q63+M63 -> 0
A64: CLP 8301 | E64: =SUM(B64:D64) -> 0 | I64: =SUM(F64:H64) -> 0 | M64: =SUM(J64:L64) -> 0 | Q64: =SUM(N64:P64) -> 0 | R64: =I64+E64+Q64+M64 -> 0
A65: ZEBRA | E65: =SUM(B65:D65) -> 0 | I65: =SUM(F65:H65) -> 0 | M65: =SUM(J65:L65) -> 0 | Q65: =SUM(N65:P65) -> 0 | R65: =I65+E65+Q65+M65 -> 0
A66: INNE | E66: =SUM(B66:D66) -> 0 | I66: =SUM(F66:H66) -> 0 | M66: =SUM(J66:L66) -> 0 | Q66: =SUM(N66:P66) -> 0 | R66: =I66+E66+Q66+M66 -> 0
A67: SUMA: | B67: =SUM(B54:B66) -> 2 | C67: =SUM(C54:C66) -> 0 | D67: =SUM(D54:D66) -> 0 | E67: =SUM(B67:D67) -> 2 | F67: =SUM(F54:F66) -> 1 | G67: =SUM(G54:G66) -> 2 | H67: =SUM(H54:H66) -> 5 | I67: =SUM(F67:H67) -> 8 | J67: =SUM(J54:J66) -> 0 | K67: =SUM(K54:K66) -> 0 | L67: =SUM(L54:L66) -> 0 | M67: =SUM(J67:L67) -> 0 | N67: =SUM(N54:N66) -> 0 | O67: =SUM(O54:O66) -> 0 | P67: =SUM(P54:P66) -> 0 | Q67: =SUM(N67:P67) -> 0 | R67: =I67+E67+Q67+M67 -> 10
A69: Raport za miesiąc: | B69: kwiecień | C69: maj | D69: czerwiec | E69: KW II | F69: styczeń | G69: luty | H69: marzec | I69: Suma IKW | J69: paździer. | K69: listopad | L69: grudzień | M69: KW IV | N69: lipiec | O69: sierpień | P69: wrzesień | Q69: KW III | R69: Suma
A70: Ilość nowych Klientów: | B70: 1 | C70: 0 | E70: =SUM(B70:D70) -> 1 | F70: 0 | G70: 1 | H70: 1 | I70: =SUM(F70:H70) -> 2 | M70: =SUM(J70:L70) -> 0 | Q70: =SUM(N70:P70) -> 0 | R70: =I70+E70+Q70+M70 -> 3
A71: Ilość Klientów przekaz. z Gliwic lub zm. nazwę/NIP. | B71: 0 | C71: 0 | E71: =SUM(B71:D71) -> 0 | F71: 0 | G71: 2 | H71: 0 | I71: =SUM(F71:H71) -> 2 | M71: =SUM(J71:L71) -> 0 | Q71: =SUM(N71:P71) -> 0 | R71: =I71+E71+Q71+M71 -> 2
A72: Ilość Podmiotów na etapie współpracy Klient: | B72: 103 | C72: 102 | F72: 98 | G72: 100 | H72: 102
A73: Ilość Podmiotów na etapie współpracy Handlowy: | B73: 46 | C73: 45 | F73: 54 | G73: 46 | H73: 48
A74: Ilość Podmiotów na etapie współpracy Klient nieaktywny: | B74: 11 | C74: 5 | F74: 24 | G74: 24 | H74: 19
A75: Ilość Podmiotów pod opieką: | B75: =SUM(B72:B74) -> 160 | C75: =SUM(C72:C74) -> 152 | F75: =SUM(F72:F74) -> 176 | G75: =SUM(G72:G74) -> 170 | H75: =SUM(H72:H74) -> 169
A76: Ilość sprzedanych drukarek: | B76: 2 | C76: 0 | E76: =SUM(B76:D76) -> 2 | F76: 1 | G76: 2 | H76: 5 | I76: =SUM(F76:H76) -> 8 | M76: =SUM(J76:L76) -> 0 | Q76: =SUM(N76:P76) -> 0 | R76: =I76+E76+Q76+M76 -> 10
A77: Ilość ofert dodanych w danym miesiącu: | B77: 13 | C77: 14 | E77: =SUM(B77:D77) -> 27 | F77: 15 | G77: 22 | H77: 30 | I77: =SUM(F77:H77) -> 67 | M77: =SUM(J77:L77) -> 0 | Q77: =SUM(N77:P77) -> 0 | R77: =I77+E77+Q77+M77 -> 94
A78: Ilość ofert oczekujących na decyzję kontrahenta: | B78: 3 | C78: 4 | F78: 3 | G78: 5 | H78: 11
A79: Ilość zaakceptowanych ofert przez kontrahenta: | B79: 5 | C79: 5 | F79: 4 | G79: 10 | H79: 8
A80: Ilość odrzuconych ofert przez kontrahenta: | B80: 21 | C80: 9 | F80: 16 | G80: 23 | H80: 14
A81: Ilość przekazanych podmiotów z Marketingu: | B81: 0 | C81: 0 | E81: =SUM(B81:D81) -> 0 | F81: 3 | G81: 5 | H81: 6 | I81: =SUM(F81:H81) -> 14 | M81: =SUM(J81:L81) -> 0 | Q81: =SUM(N81:P81) -> 0 | R81: =I81+E81+Q81+M81 -> 14
A82: Ilość przekazanych podmiotów do prowadzenia od KDH: | B82: 0 | C82: 0 | E82: =SUM(B82:D82) -> 0 | F82: 0 | G82: 0 | H82: 0 | I82: =SUM(F82:H82) -> 0 | M82: =SUM(J82:L82) -> 0 | Q82: =SUM(N82:P82) -> 0 | R82: =I82+E82+Q82+M82 -> 0
A83: Ilość odebranych podmiotów (zmiana prowadzącego): | B83: 1 | C83: 1 | E83: =SUM(B83:D83) -> 2 | F83: 7 | G83: 0 | H83: 0 | I83: =SUM(F83:H83) -> 7 | M83: =SUM(J83:L83) -> 0 | Q83: =SUM(N83:P83) -> 0 | R83: =I83+E83+Q83+M83 -> 9
A84: Ilość spotkań z Klientami: | B84: 3 | C84: 0 | E84: =SUM(B84:D84) -> 3 | F84: 3 | G84: 3 | H84: 5 | I84: =SUM(F84:H84) -> 11 | M84: =SUM(J84:L84) -> 0 | Q84: =SUM(N84:P84) -> 0 | R84: =I84+E84+Q84+M84 -> 14
A85: Ilość aktualnie otwartych wdrożeń: | B85: 31 | C85: 21 | F85: 44 | G85: 35 | H85: 45
A86: Ilość wdrożeń dodanych w danym miesiącu: | B86: 13 | C86: 7 | E86: =SUM(B86:D86) -> 20 | F86: 15 | G86: 16 | H86: 33 | I86: =SUM(F86:H86) -> 64 | M86: =SUM(J86:L86) -> 0 | Q86: =SUM(N86:P86) -> 0 | R86: =I86+E86+Q86+M86 -> 84
A87: Ilość wdrożeń zamkniętych pozytywnie w danym mcu: | B87: 6 | C87: 7 | E87: =SUM(B87:D87) -> 13 | F87: 3 | G87: 10 | H87: 11 | I87: =SUM(F87:H87) -> 24 | M87: =SUM(J87:L87) -> 0 | Q87: =SUM(N87:P87) -> 0 | R87: =I87+E87+Q87+M87 -> 37
A88: Ilość wdrożeń zamkniętych negatywnie w danym mcu: | B88: 18 | C88: 9 | E88: =SUM(B88:D88) -> 27 | F88: 7 | G88: 14 | H88: 10 | I88: =SUM(F88:H88) -> 31 | M88: =SUM(J88:L88) -> 0 | Q88: =SUM(N88:P88) -> 0 | R88: =I88+E88+Q88+M88 -> 58 | S88: =R88/L90 -> 1
A89: Ilość aktualnie odłożonych wdrożeń: | B89: 3 | C89: 23 | F89: 12 | G89: 14 | H89: 16 | S89: =R89/L90 -> 0
L90: =SUM(R88:R89) -> 58

Sheet DH
B1: PLANY SPRZEDAŻY 2016
A2: miesiąc | B2: styczeń | C2: luty | D2: marzec | E2: I KW | F2: kwiecień | G2: maj | H2: czerwiec | J2: lipiec | K2: sierpień | L2: wrzesień | N2: październik | O2: listopad | P2: grudzień | R2: suma
A3: Marża 2015 | B3: 190637.57 | C3: 201192.67 | D3: 200241.24 | E3: =SUM(B3:D3) -> 592071.48 | F3: 175004.07 | G3: 213845.5 | H3: 261707.83 | I3: =SUM(F3:H3) -> 650557.4 | J3: 190352.81 | K3: 159356.35 | L3: 191293.52 | M3: =SUM(J3:L3) -> 541002.68 | N3: 220516.53 | O3: 210140.41 | P3: 188726.79 | Q3: =SUM(N3:P3) -> 619383.73 | R3: =SUM(N3:P3,J3:L3,F3:H3,B3:D3) -> 2403015.3
A4: Sumaryczna Marża 2015 | B4: =B3 -> 190637.57 | C4: =C3+B4 -> 391830.24 | D4: =D3+C4 -> 592071.48 | F4: =F3+D4 -> 767075.55 | G4: =G3+F4 -> 980921.05 | H4: =H3+G4 -> 1242628.9 | J4: =J3+H4 -> 1432981.7 | K4: =K3+J4 -> 1592338 | L4: =L3+K4 -> 1783631.6 | N4: =N3+L4 -> 2004148.1 | O4: =O3+N4 -> 2214288.5 | P4: =P3+O4 -> 2403015.3 | S4: MINIMUM | T4: PLAN | U4: CEL
A5: Wzrost Marży 2015 w stos do Marży 2014 | B5: =B9/B4 -> 1.1163803 | C5: =C9/C4 -> 1.167583 | D5: =D9/D4 -> 1.2236249 | F5: =F9/F4 -> 1.2535588 | G5: =G9/G4 -> 1.1875178 | H5: =H9/H4 -> 1.1547375 | J5: =J9/J4 -> 1.1286262 | K5: =K9/K4 -> 1.1339511 | L5: =L9/L4 -> 1.1033819 | N5: =N9/N4 -> 0.98197669 | O5: =O9/O4 -> 0.88878514 | P5: =P9/P4 -> 0.81898218 | R5: =R6/R3 -> 1.0986197 | S5: =S6/R3 -> 1.0436887 | T5: =T6/R3 -> 1.0986197 | U5: =U6/R3 -> 1.1568799
A6: Plan Sprzedaży Marża | B6: ='Target 2016'!B35 -> 187440 | C6: ='Target 2016'!C35 -> 203280 | D6: ='Target 2016'!D35 -> 234960 | F6: ='Target 2016'!E35 -> 219120 | G6: ='Target 2016'!F35 -> 237600 | H6: ='Target 2016'!G35 -> 237600 | I6: =SUM(F6:H6) -> 694320 | J6: ='Target 2016'!H35 -> 198000 | K6: ='Target 2016'!I35 -> 200640 | L6: ='Target 2016'!J35 -> 232320 | N6: ='Target 2016'!K35 -> 237600 | O6: ='Target 2016'!L35 -> 232320 | P6: ='Target 2016'!M35 -> 219120 | R6: =B6+C6+D6+F6+G6+H6+J6+K6+L6+N6+O6+P6 -> 2640000 | S6: =DH!R6*0.95 -> 2508000 | T6: =R6 -> 2640000 | U6: ='Target 2016'!H39 -> 2780000
A7: Sumaryczny Plan Sprzedaży Marża | B7: =B6 -> 187440 | C7: =C6+B7 -> 390720 | D7: =D6+C7 -> 625680 | F7: =F6+D7 -> 844800 | G7: =G6+F7 -> 1082400 | H7: =H6+G7 -> 1320000 | J7: =J6+H7 -> 1518000 | K7: =K6+J7 -> 1718640 | L7: =L6+K7 -> 1950960 | N7: =N6+L7 -> 2188560 | O7: =O6+N7 -> 2420880 | P7: =P6+O7 -> 2640000
A8: Miesięczna realizacja Planu Sprzedaży Marża | B8: =TOMEK!J6+MIRU!J6+ŁUKASZ!F6+BARTEK!J6+PIOTR!J6+KRZYSZTOF!J6 -> 212824.03 | C8: =TOMEK!K6+MIRU!K6+ŁUKASZ!G6+BARTEK!K6+PIOTR!K6+KRZYSZTOF!K6 -> 244670.31 | D8: =TOMEK!L6+MIRU!L6+ŁUKASZ!H6+BARTEK!L6+PIOTR!L6+KRZYSZTOF!L6 -> 266979.07 | E8: =SUM(B8:D8) -> 724473.41 | F8: =TOMEK!F6+MIRU!F6+ŁUKASZ!B6+BARTEK!F6+PIOTR!F6+KRZYSZTOF!F6 -> 237100.9 | G8: =TOMEK!G6+MIRU!G6+ŁUKASZ!C6+BARTEK!G6+PIOTR!G6+KRZYSZTOF!G6 -> 203286.92 | H8: =TOMEK!H6+MIRU!H6+ŁUKASZ!D6+BARTEK!H6+PIOTR!H6+KRZYSZTOF!H6 -> 270048.9 | I8: =SUM(F8:H8) -> 710436.71 | J8: =TOMEK!B6+MIRU!B6+Artur!B6+BARTEK!B6+PIOTR!B6+KRZYSZTOF!B6 -> 182390.52 | K8: =TOMEK!C6+MIRU!C6+Artur!C6+BARTEK!C6+PIOTR!C6+KRZYSZTOF!C6 -> 188332.88 | L8: =TOMEK!D6+MIRU!D6+Artur!D6+BARTEK!D6+PIOTR!D6+KRZYSZTOF!D6 -> 162393.19 | M8: =SUM(J8:L8) -> 533116.6 | N8: =TOMEK!N6+MIRU!N6+Artur!J6+BARTEK!N6+PIOTR!N6+KRZYSZTOF!N6 -> 0 | O8: =TOMEK!O6+MIRU!O6+Artur!K6+BARTEK!O6+PIOTR!O6+KRZYSZTOF!O6 -> 0 | P8: =TOMEK!P6+MIRU!P6+Artur!L6+BARTEK!P6+PIOTR!P6+KRZYSZTOF!P6 -> 0 | R8: =B8+C8+D8+F8+G8+H8+J8+K8+L8+N8+O8+P8 -> 1968026.7 | S8: 1 | T8: 2 | U8: 3 | W8: 4 | X8: 5 | Y8: 6 | AA8: 7 | AB8: 8 | AC8: 9 | AE8: 10 | AF8: 11 | AG8: 12
A9: Sumaryczna realizacja planu sprzedaży Marża | B9: =B8 -> 212824.03 | C9: =C8+B9 -> 457494.34 | D9: =D8+C9 -> 724473.41 | F9: =F8+D9 -> 961574.3 | G9: =G8+F9 -> 1164861.2 | H9: =H8+G9 -> 1434910.1 | J9: =J8+H9 -> 1617300.6 | K9: =K8+J9 -> 1805633.5 | L9: =L8+K9 -> 1968026.7 | N9: =N8+L9 -> 1968026.7 | O9: =O8+N9 -> 1968026.7 | P9: =P8+O9 -> 1968026.7
A10: Wysokość zrealizowania Miesięcznego Planu Sprzedaży Marża | B10: =B8/B6 -> 1.1354248 | C10: =C8/C6 -> 1.2036123 | D10: =D8/D6 -> 1.1362745 | F10: =F8/F6 -> 1.0820596 | G10: =G8/G6 -> 0.85558466 | H10: =H8/H6 -> 1.1365694 | J10: =J8/J6 -> 0.92116426 | K10: =K8/K6 -> 0.93866069 | L10: =L8/L6 -> 0.69900651 | N10: =N8/N6 -> 0 | O10: =O8/O6 -> 0 | P10: =P8/P6 -> 0
A11: Różnica wskaźnika Marża | B11: =B9-B7 -> 25384.028 | C11: =C9-C7 -> 66774.339 | D11: =D9-D7 -> 98793.406 | F11: =F9-F7 -> 116774.3 | G11: =G9-G7 -> 82461.216 | H11: =H9-H7 -> 114910.12 | J11: =J9-J7 -> 99300.64 | K11: =K9-K7 -> 86993.521 | L11: =L9-L7 -> 17066.715 | N11: =N9-N7 -> -220533.29 | O11: =O9-O7 -> -452853.29 | P11: =P9-P7 -> -671973.29
A12: Wysokość zrealizowania Planu Sprzedaży Marża | B12: =B9/B7 -> 1.1354248 | C12: =C9/C7 -> 1.1709007 | D12: =D9/D7 -> 1.1578977 | F12: =F9/F7 -> 1.1382272 | G12: =G9/G7 -> 1.0761837 | H12: =H9/H7 -> 1.0870531 | J12: =J9/J7 -> 1.0654154 | K12: =K9/K7 -> 1.0506177 | L12: =L9/L7 -> 1.0087479 | N12: =N9/N7 -> 0.89923361 | O12: =O9/O7 -> 0.81293857 | P12: =P9/P7 -> 0.74546466
A13: Kwartalny Plan Sprzedaży Marża | B13: =TOMEK!J4+MIRU!J4+ŁUKASZ!F4+BARTEK!J4+PIOTR!J4+KRZYSZTOF!J4 -> 194600 | C13: =TOMEK!K4+MIRU!K4+ŁUKASZ!G4+BARTEK!K4+PIOTR!K4+KRZYSZTOF!K4+B13 -> 414100 | D13: =TOMEK!L4+MIRU!L4+ŁUKASZ!H4+BARTEK!L4+PIOTR!L4+KRZYSZTOF!L4+C13 -> 661250 | F13: =TOMEK!F4+MIRU!F4+ŁUKASZ!B4+BARTEK!F4+PIOTR!F4+KRZYSZTOF!F4 -> 200800 | G13: =TOMEK!G4+MIRU!G4+ŁUKASZ!C4+BARTEK!G4+PIOTR!G4+KRZYSZTOF!G4+F13 -> 432800 | H13: =TOMEK!H4+MIRU!H4+ŁUKASZ!D4+BARTEK!H4+PIOTR!H4+KRZYSZTOF!H4+G13 -> 696000 | J13: =TOMEK!B4+MIRU!B4+ŁUKASZ!N4+BARTEK!B4+PIOTR!B4+KRZYSZTOF!B4 -> 153600 | K13: =TOMEK!C4+MIRU!C4+ŁUKASZ!O4+BARTEK!C4+PIOTR!C4+KRZYSZTOF!C4+J13 -> 343100 | L13: =TOMEK!D4+MIRU!D4+ŁUKASZ!P4+BARTEK!D4+PIOTR!D4+KRZYSZTOF!D4+K13 -> 576000 | N13: =TOMEK!N4+MIRU!N4+ŁUKASZ!J4+BARTEK!N4+PIOTR!N4+KRZYSZTOF!N4 -> 0 | O13: =TOMEK!O4+MIRU!O4+ŁUKASZ!K4+BARTEK!O4+PIOTR!O4+KRZYSZTOF!O4+N13 -> 0 | P13: =TOMEK!P4+MIRU!P4+ŁUKASZ!L4+BARTEK!P4+PIOTR!P4+KRZYSZTOF!P4+O13 -> 0 | Q13: =SUM(N13:P13) -> 0
A14: Sumaryczna Kwartalna Realizacja Planu Sprzedaży Marża | B14: =B8/B13 -> 1.0936487 | C14: =(B8+C8)/C13 -> 1.1047919 | D14: =(D8+C8+B8)/D13 -> 1.095612 | F14: =F8/F13 -> 1.1807814 | G14: =(F8+G8)/G13 -> 1.0175319 | H14: =(H8+G8+F8)/H13 -> 1.0207424 | J14: =J8/J13 -> 1.1874383 | K14: =(J8+K8)/K13 -> 1.0805112 | L14: =(L8+K8+J8)/L13 -> 0.92554965 | N14: =N8/N13 -> #DIV/0! | O14: =(N8+O8)/O13 -> #DIV/0! | P14: =(P8+O8+N8)/P13 -> #DIV/0!
A16: Obrót 2015 | B16: 556197.74 | C16: 489816.52 | D16: 564565.84 | E16: =SUM(B16:D16) -> 1610580.1 | F16: 517433.3 | G16: 610650.07 | H16: 674374.76 | I16: =SUM(F16:H16) -> 1802458.1 | J16: 502599.45 | K16: 454167.44 | L16: 538074.42 | M16: =SUM(J16:L16) -> 1494841.3 | N16: 629841.97 | O16: 645502.23 | P16: 532673.47 | Q16: =SUM(N16:P16) -> 1808017.7 | R16: =SUM(N16:P16,J16:L16,F16:H16,B16:D16) -> 6715897.2
A17: Sumaryczny Obrót 2015 | B17: =B16 -> 556197.74 | C17: =C16+B17 -> 1046014.3 | D17: =D16+C17 -> 1610580.1 | F17: =F16+D17 -> 2128013.4 | G17: =G16+F17 -> 2738663.5 | H17: =H16+G17 -> 3413038.2 | J17: =J16+H17 -> 3915637.7 | K17: =K16+J17 -> 4369805.1 | L17: =L16+K17 -> 4907879.5 | N17: =N16+L17 -> 5537721.5 | O17: =O16+N17 -> 6183223.7 | P17: =P16+O17 -> 6715897.2 | S17: MINIMUM | T17: PLAN | U17: CEL
A18: Wzrost Obrotu 2015 w stos do Obrotu 2014 | B18: =B22/B17 -> 1.0702514 | C18: =C22/C17 -> 1.2348119 | D18: =D22/D17 -> 1.2776895 | F18: =F22/F17 -> 1.2875342 | G18: =G22/G17 -> 1.1953744 | H18: =H22/H17 -> 1.1868141 | J18: =J22/J17 -> 1.1685937 | K18: =K22/K17 -> 1.1816771 | L18: =L22/L17 -> 1.1483173 | N18: =N22/N17 -> 1.0177115 | O18: =O22/O17 -> 0.9114668 | P18: =P22/P17 -> 0.83917353 | Q18: =Q21/Q16 -> 0 | R18: =R19/R16 -> 1.1005231 | S18: =S19/R16 -> 1.0454969 | T18: =T19/R16 -> 1.1005231 | U18: =U19/R16 -> 1.1584454
A19: Plan Sprzedaży Obrót | B19: ='Target 2016'!B36 -> 524761 | C19: ='Target 2016'!C36 -> 569107 | D19: ='Target 2016'!D36 -> 657799 | F19: ='Target 2016'!E36 -> 613453 | G19: ='Target 2016'!F36 -> 665190 | H19: ='Target 2016'!G36 -> 665190 | J19: ='Target 2016'!H36 -> 554325 | K19: ='Target 2016'!I36 -> 561716 | L19: ='Target 2016'!J36 -> 650408 | N19: ='Target 2016'!K36 -> 665190 | O19: ='Target 2016'!L36 -> 650408 | P19: ='Target 2016'!M36 -> 613453 | R19: =B19+C19+D19+F19+G19+H19+J19+K19+L19+N19+O19+P19 -> 7391000 | S19: =DH!R19*0.95 -> 7021450 | T19: =R19 -> 7391000 | U19: ='Target 2016'!H40 -> 7780000
A20: Sumaryczny Plan Sprzedaży Obrót | B20: =B19 -> 524761 | C20: =C19+B20 -> 1093868 | D20: =D19+C20 -> 1751667 | F20: =F19+D20 -> 2365120 | G20: =G19+F20 -> 3030310 | H20: =H19+G20 -> 3695500 | J20: =J19+H20 -> 4249825 | K20: =K19+J20 -> 4811541 | L20: =L19+K20 -> 5461949 | N20: =N19+L20 -> 6127139 | O20: =O19+N20 -> 6777547 | P20: =P19+O20 -> 7391000
A21: Miesięczna realizacja Planu Sprzedaży Obrót | B21: =TOMEK!J13+MIRU!J13+ŁUKASZ!F13+BARTEK!J13+PIOTR!J13+KRZYSZTOF!J13 -> 595271.4 | C21: =TOMEK!K13+MIRU!K13+ŁUKASZ!G13+BARTEK!K13+PIOTR!K13+KRZYSZTOF!K13 -> 696359.46 | D21: =TOMEK!L13+MIRU!L13+ŁUKASZ!H13+BARTEK!L13+PIOTR!L13+KRZYSZTOF!L13 -> 766190.38 | F21: =TOMEK!F13+MIRU!F13+ŁUKASZ!B13+BARTEK!F13+PIOTR!F13+KRZYSZTOF!F13 -> 682068.81 | G21: =TOMEK!G13+MIRU!G13+ŁUKASZ!C13+BARTEK!G13+PIOTR!G13+KRZYSZTOF!G13 -> 533838.03 | H21: =TOMEK!H13+MIRU!H13+ŁUKASZ!D13+BARTEK!H13+PIOTR!H13+KRZYSZTOF!H13 -> 776913.93 | I21: =SUM(F21:H21) -> 1992820.8 | J21: =TOMEK!B13+MIRU!B13+Artur!B13+BARTEK!B13+PIOTR!B13+KRZYSZTOF!B13 -> 525147.41 | K21: =TOMEK!C13+MIRU!C13+Artur!C13+BARTEK!C13+PIOTR!C13+KRZYSZTOF!C13 -> 587909.09 | L21: =TOMEK!D13+MIRU!D13+Artur!D13+BARTEK!D13+PIOTR!D13+KRZYSZTOF!D13 -> 472104.63 | M21: =SUM(J21:L21) -> 1585161.1 | N21: =TOMEK!N13+MIRU!N13+Artur!J13+BARTEK!N13+PIOTR!N13+KRZYSZTOF!N13 -> 0 | O21: =TOMEK!O13+MIRU!O13+Artur!K13+BARTEK!O13+PIOTR!O13+KRZYSZTOF!O13 -> 0 | P21: =TOMEK!P13+MIRU!P13+Artur!L13+BARTEK!P13+PIOTR!P13+KRZYSZTOF!P13 -> 0 | R21: =B21+C21+D21+F21+G21+H21+J21+K21+L21+N21+O21+P21 -> 5635803.1
A22: Sumaryczna realizacja planu sprzedaży Obrót | B22: =B21 -> 595271.4 | C22: =C21+B22 -> 1291630.9 | D22: =D21+C22 -> 2057821.2 | F22: =F21+D22 -> 2739890 | G22: =G21+F22 -> 3273728.1 | H22: =H21+G22 -> 4050642 | J22: =J21+H22 -> 4575789.4 | K22: =K21+J22 -> 5163698.5 | L22: =L21+K22 -> 5635803.1 | N22: =N21+L22 -> 5635803.1 | O22: =O21+N22 -> 5635803.1 | P22: =P21+O22 -> 5635803.1
A23: Wysokość zrealizowania Miesięcznego Planu Sprzedaży Obrót | B23: =B21/B19 -> 1.1343667 | C23: =C21/C19 -> 1.2236002 | D23: =D21/D19 -> 1.1647789 | F23: =F21/F19 -> 1.1118518 | G23: =G21/G19 -> 0.80253466 | H23: =H21/H19 -> 1.1679579 | J23: =J21/J19 -> 0.94736375 | K23: =K21/K19 -> 1.0466305 | L23: =L21/L19 -> 0.7258592 | N23: =N21/N19 -> 0 | O23: =O21/O19 -> 0 | P23: =P21/P19 -> 0
A24: Wysokość zrealizowania Planu Sprzedaży Obrót | B24: =B22/B20 -> 1.1343667 | C24: =C22/C20 -> 1.1807923 | D24: =D22/D20 -> 1.1747788 | F24: =F22/F20 -> 1.1584571 | G24: =G22/G20 -> 1.0803278 | H24: =H22/H20 -> 1.0961012 | J24: =J22/J20 -> 1.0767007 | K24: =K22/K20 -> 1.0731902 | L24: =L22/L20 -> 1.0318301 | N24: =N22/N20 -> 0.9198099 | O24: =O22/O20 -> 0.83154025 | P24: =P22/P20 -> 0.76252241
A25: Różnica wskaźnika Obrót | B25: =B22-B20 -> 70510.4 | C25: =C22-C20 -> 197762.86 | D25: =D22-D20 -> 306154.24 | F25: =F22-F20 -> 374770.05 | G25: =G22-G20 -> 243418.08 | H25: =H22-H20 -> 355142.01 | J25: =J22-J20 -> 325964.42 | K25: =K22-K20 -> 352157.51 | L25: =L22-L20 -> 173854.14 | N25: =N22-N20 -> -491335.86 | O25: =O22-O20 -> -1141743.9 | P25: =P22-P20 -> -1755196.9
A26: Kwartalny Plan Sprzedaży Obrót | B26: =TOMEK!J11+MIRU!J11+ŁUKASZ!F11+BARTEK!J11+PIOTR!J11+KRZYSZTOF!J11 -> 546700 | C26: =TOMEK!K11+MIRU!K11+ŁUKASZ!G11+BARTEK!K11+PIOTR!K11+KRZYSZTOF!K11+B26 -> 1163700 | D26: =TOMEK!L11+MIRU!L11+ŁUKASZ!H11+BARTEK!L11+PIOTR!L11+KRZYSZTOF!L11+C26 -> 1850700 | F26: =TOMEK!F11+MIRU!F11+ŁUKASZ!B11+BARTEK!F11+PIOTR!F11+KRZYSZTOF!F11 -> 566050 | G26: =TOMEK!G11+MIRU!G11+ŁUKASZ!C11+BARTEK!G11+PIOTR!G11+KRZYSZTOF!G11+F26 -> 1215050 | H26: =TOMEK!H11+MIRU!H11+ŁUKASZ!D11+BARTEK!H11+PIOTR!H11+KRZYSZTOF!H11+G26 -> 1947000 | J26: =TOMEK!B11+MIRU!B11+ŁUKASZ!N11+BARTEK!B11+PIOTR!B11+KRZYSZTOF!B11 -> 426400 | K26: =TOMEK!C11+MIRU!C11+ŁUKASZ!O11+BARTEK!C11+PIOTR!C11+KRZYSZTOF!C11+J26 -> 964400 | L26: =TOMEK!D11+MIRU!D11+ŁUKASZ!P11+BARTEK!D11+PIOTR!D11+KRZYSZTOF!D11+K26 -> 1614000 | M26: =SUM(J26:L26) -> 3004800 | N26: =TOMEK!N11+MIRU!N11+ŁUKASZ!J11+BARTEK!N11+PIOTR!N11+KRZYSZTOF!N11 -> 0 | O26: =TOMEK!O11+MIRU!O11+ŁUKASZ!K11+BARTEK!O11+PIOTR!O11+KRZYSZTOF!O11+N26 -> 0 | P26: =TOMEK!P11+MIRU!P11+ŁUKASZ!L11+BARTEK!P11+PIOTR!P11+KRZYSZTOF!P11+O26 -> 0 | Q26: =SUM(N26:P26) -> 0
A27: Sumaryczna Kwartalna Realizacja Planu Sprzedaży Obrót | B27: =B21/B26 -> 1.0888447 | C27: =(C21+B21)/C26 -> 1.1099346 | D27: =(C21+B21+D21)/D26 -> 1.1119151 | F27: =F21/F26 -> 1.2049621 | G27: =(G21+F21)/G26 -> 1.0007052 | H27: =(G21+F21+H21)/H26 -> 1.023534 | J27: =J21/J26 -> 1.231584 | K27: =(K21+J21)/K26 -> 1.154144 | L27: =(K21+J21+L21)/L26 -> 0.98213205 | N27: =N21/N26 -> #DIV/0! | O27: =(O21+N21)/O26 -> #DIV/0! | P27: =(O21+N21+P21)/P26 -> #DIV/0!
A29: Wysokość Marży miesięcznej | B29: =B8/B21 -> 0.35752436 | C29: =C8/C21 -> 0.35135634 | D29: =D8/D21 -> 0.34845004 | F29: =F8/F21 -> 0.3476202 | G29: =G8/G21 -> 0.38080261 | H29: =H8/H21 -> 0.34759179 | J29: =J8/J21 -> 0.347313 | K29: =K8/K21 -> 0.32034354 | L29: =L8/L21 -> 0.34397712 | N29: =N8/N21 -> #DIV/0! | O29: =O8/O21 -> #DIV/0! | P29: =P8/P21 -> #DIV/0!
A30: Wysokość Marży sumarycznej | B30: =B9/B22 -> 0.35752436 | C30: =C9/C22 -> 0.35419898 | D30: =D9/D22 -> 0.35205847 | F30: =F9/F22 -> 0.35095361 | G30: =G9/G22 -> 0.35582101 | H30: =H9/H22 -> 0.35424264 | J30: =J9/J22 -> 0.35344735 | K30: =K9/K22 -> 0.34967834 | L30: =L9/L22 -> 0.34920076 | N30: =N9/N22 -> 0.34920076 | O30: =O9/O22 -> 0.34920076 | P30: =P9/P22 -> 0.34920076
B32: PREMIE
A33: Wynagrodzenie zasadnicze | B33: 6500 | C33: 7500 | D33: 7500 | F33: 7500 | G33: 7500 | H33: 7500 | J33: 7500 | K33: 7500 | L33: 7500 | N33: 7500 | O33: 7500 | P33: 7500
A34: Wskaźnik Plan Sprzedaży Marża | B34: =B7 -> 187440 | C34: =C7 -> 390720 | D34: =D7 -> 625680 | F34: =F7 -> 844800 | G34: =G7 -> 1082400 | H34: =H7 -> 1320000 | J34: =J7 -> 1518000 | K34: =K7 -> 1718640 | L34: =L7 -> 1950960 | N34: =N7 -> 2188560 | O34: =O7 -> 2420880 | P34: =P7 -> 2640000
A35: Realizacja Wskaźnika Planu Sprzedaży Marża | B35: =B9 -> 212824.03 | C35: =C9 -> 457494.34 | D35: =D9 -> 724473.41 | F35: =F9 -> 961574.3 | G35: =G9 -> 1164861.2 | H35: =H9 -> 1434910.1 | J35: =J9 -> 1617300.6 | K35: =K9 -> 1805633.5 | L35: =L9 -> 1968026.7 | N35: =N9 -> 1968026.7 | O35: =O9 -> 1968026.7 | P35: =P9 -> 1968026.7
A36: Poziom realizacji Wskaźnika Sprzedaży Marża | B36: =B35/B34 -> 1.1354248 | C36: =C35/C34 -> 1.1709007 | D36: =D35/D34 -> 1.1578977 | F36: =F35/F34 -> 1.1382272 | G36: =G35/G34 -> 1.0761837 | H36: =H35/H34 -> 1.0870531 | J36: =J35/J34 -> 1.0654154 | K36: =K35/K34 -> 1.0506177 | L36: =L35/L34 -> 1.0087479 | N36: =N35/N34 -> 0.89923361 | O36: =O35/O34 -> 0.81293857 | P36: =P35/P34 -> 0.74546466
A37: Wysokość premii Wskaźnik Sprzedaży Marża | B37: =B33*0.4 -> 2600 | C37: =C33*0.4 -> 3000 | D37: =D33*0.4 -> 3000 | F37: =F33*0.4 -> 3000 | G37: =G33*0.4 -> 3000 | H37: =H33*0.4 -> 3000 | J37: =J33*0.4 -> 3000 | K37: =K33*0.4 -> 3000 | L37: =L33*0.4 -> 3000 | N37: =N33*0.4 -> 3000 | O37: =O33*0.4 -> 3000 | P37: =P33*0.4 -> 3000
A38: Mnożnik premii miesięcznej Wskaźnika Sprzedaży Marża | B38: =IF(B36<80%,0,IF(B36<90%,0.5,IF(B36<95%,0.75,1))) -> 1 | C38: =IF(C36<80%,0,IF(C36<90%,0.5,IF(C36<95%,0.75,1))) -> 1 | D38: =IF(D36<80%,0,IF(D36<90%,0.5,IF(D36<95%,0.75,1))) -> 1 | F38: =IF(F36<80%,0,IF(F36<90%,0.5,IF(F36<95%,0.75,1))) -> 1 | G38: =IF(G36<80%,0,IF(G36<90%,0.5,IF(G36<95%,0.75,1))) -> 1 | H38: =IF(H36<80%,0,IF(H36<90%,0.5,IF(H36<95%,0.75,1))) -> 1 | J38: =IF(J36<80%,0,IF(J36<90%,0.5,IF(J36<95%,0.75,1))) -> 1 | K38: =IF(K36<80%,0,IF(K36<90%,0.5,IF(K36<95%,0.75,1))) -> 1 | L38: =IF(L36<80%,0,IF(L36<90%,0.5,IF(L36<95%,0.75,1))) -> 1 | N38: =IF(N36<80%,0,IF(N36<90%,0.5,IF(N36<95%,0.75,1))) -> 0.5 | O38: =IF(O36<80%,0,IF(O36<90%,0.5,IF(O36<95%,0.75,1))) -> 0.5 | P38: =IF(P36<80%,0,IF(P36<90%,0.5,IF(P36<95%,0.75,1))) -> 0
A39: Premia miesięczna za Wskaźnik Sprzedaży Marża | B39: =B38*B37 -> 2600 | C39: =C38*C37 -> 3000 | D39: =D38*D37 -> 3000 | F39: =F38*F37 -> 3000 | G39: =G38*G37 -> 3000 | H39: =H38*H37 -> 3000 | J39: =J38*J37 -> 3000 | K39: =K38*K37 -> 3000 | L39: =L38*L37 -> 3000 | N39: =N38*N37 -> 1500 | O39: =O38*O37 -> 1500 | P39: =P38*P37 -> 0
A40: Suma Premii miesięcznych | B40: =B39 -> 2600 | C40: =C39 -> 3000 | D40: =D39 -> 3000 | F40: =F39 -> 3000 | G40: =G39 -> 3000 | H40: =H39 -> 3000 | J40: =J39 -> 3000 | K40: =K39 -> 3000 | L40: =L39 -> 3000 | N40: =N39 -> 1500 | O40: =O39 -> 1500 | P40: =P39 -> 0
A41: Wskaźnik Premia dodatkowa | B41: =P7 -> 2640000
A42: Realizacja Wskaźnika Premia dodatklowa | B42: =P9 -> 1968026.7
A43: Poziom realizacji Wskaźnika Premia dodatklowa | B43: =B42/B41 -> 0.74546466
A44: Wysokość premii dodatklowej | B44: =P33 -> 7500
A45: Mnożnik premii dodatkowej | B45: =IF(B43<100%,0,IF(B43<105%,0.5,IF(B43<110%,1,IF(B43<120%,1.5,2)))) -> 0
A46: Premia dodatkowa | B46: =B44*B45 -> 0
A48: SPRZEDAŻ DRUKAREK
A49: CL-S521 | B49: =TOMEK!J54+MIRU!J22+ŁUKASZ!F54+BARTEK!J54+PIOTR!J54+KRZYSZTOF!J54 -> 1 | C49: =TOMEK!K54+MIRU!K22+ŁUKASZ!G54+BARTEK!K54+PIOTR!K54+KRZYSZTOF!K54 -> 0 | D49: =TOMEK!L54+MIRU!L22+ŁUKASZ!H54+BARTEK!L54+PIOTR!L54+KRZYSZTOF!L54 -> 0 | F49: =TOMEK!F54+MIRU!F22+ŁUKASZ!B54+BARTEK!F54+PIOTR!F54+KRZYSZTOF!F54 -> 0 | G49: =TOMEK!G54+MIRU!G22+ŁUKASZ!C54+BARTEK!G54+PIOTR!G54+KRZYSZTOF!G54+Artur!G54 -> 0 | H49: =TOMEK!H54+MIRU!H22+ŁUKASZ!D54+BARTEK!H54+PIOTR!H54+KRZYSZTOF!H54+Artur!H54 -> 0 | J49: =TOMEK!B54+MIRU!B22+Artur!B54+BARTEK!B54+PIOTR!B54+KRZYSZTOF!B54 -> 0 | K49: =TOMEK!C54+MIRU!C22+Artur!C54+BARTEK!C54+PIOTR!C54+KRZYSZTOF!C54 -> 0 | L49: =TOMEK!D54+MIRU!D22+Artur!D54+BARTEK!D54+PIOTR!D54+KRZYSZTOF!D54 -> 0 | N49: =TOMEK!N54+MIRU!N22+ŁUKASZ!J54+BARTEK!N54+PIOTR!N54+KRZYSZTOF!N54 -> 0 | O49: =TOMEK!O54+MIRU!O22+ŁUKASZ!K54+BARTEK!O54+PIOTR!O54+KRZYSZTOF!O54 -> 0 | P49: =TOMEK!P54+MIRU!P22+ŁUKASZ!L54+BARTEK!P54+PIOTR!P54+KRZYSZTOF!P54 -> 0 | R49: =SUM(B49:P49) -> 1
A50: CL-S621 | B50: =TOMEK!J55+MIRU!J23+ŁUKASZ!F55+BARTEK!J55+PIOTR!J55+KRZYSZTOF!J55 -> 1 | C50: =TOMEK!K55+MIRU!K23+ŁUKASZ!G55+BARTEK!K55+PIOTR!K55+KRZYSZTOF!K55 -> 3 | D50: =TOMEK!L55+MIRU!L23+ŁUKASZ!H55+BARTEK!L55+PIOTR!L55+KRZYSZTOF!L55 -> 5 | F50: =TOMEK!F55+MIRU!F23+ŁUKASZ!B55+BARTEK!F55+PIOTR!F55+KRZYSZTOF!F55 -> 4 | G50: =TOMEK!G55+MIRU!G23+ŁUKASZ!C55+BARTEK!G55+PIOTR!G55+KRZYSZTOF!G55+Artur!G55 -> 3 | H50: =TOMEK!H55+MIRU!H23+ŁUKASZ!D55+BARTEK!H55+PIOTR!H55+KRZYSZTOF!H55+Artur!H55 -> 1 | J50: =TOMEK!B55+MIRU!B23+Artur!B55+BARTEK!B55+PIOTR!B55+KRZYSZTOF!B55 -> 1 | K50: =TOMEK!C55+MIRU!C23+Artur!C55+BARTEK!C55+PIOTR!C55+KRZYSZTOF!C55 -> 2 | L50: =TOMEK!D55+MIRU!D23+Artur!D55+BARTEK!D55+PIOTR!D55+KRZYSZTOF!D55 -> 0 | N50: =TOMEK!N55+MIRU!N23+ŁUKASZ!J55+BARTEK!N55+PIOTR!N55+KRZYSZTOF!N55 -> 0 | O50: =TOMEK!O55+MIRU!O23+ŁUKASZ!K55+BARTEK!O55+PIOTR!O55+KRZYSZTOF!O55 -> 0 | P50: =TOMEK!P55+MIRU!P23+ŁUKASZ!L55+BARTEK!P55+PIOTR!P55+KRZYSZTOF!P55 -> 0 | R50: =SUM(B50:P50) -> 20
A51: CL-S6621 | B51: =TOMEK!J56+MIRU!J24+ŁUKASZ!F56+BARTEK!J56+PIOTR!J56+KRZYSZTOF!J56 -> 0 | C51: =TOMEK!K56+MIRU!K24+ŁUKASZ!G56+BARTEK!K56+PIOTR!K56+KRZYSZTOF!K56 -> 0 | D51: =TOMEK!L56+MIRU!L24+ŁUKASZ!H56+BARTEK!L56+PIOTR!L56+KRZYSZTOF!L56 -> 0 | F51: =TOMEK!F56+MIRU!F24+ŁUKASZ!B56+BARTEK!F56+PIOTR!F56+KRZYSZTOF!F56 -> 0 | G51: =TOMEK!G56+MIRU!G24+ŁUKASZ!C56+BARTEK!G56+PIOTR!G56+KRZYSZTOF!G56+Artur!G56 -> 1 | H51: =TOMEK!H56+MIRU!H24+ŁUKASZ!D56+BARTEK!H56+PIOTR!H56+KRZYSZTOF!H56+Artur!H56 -> 0 | J51: =TOMEK!B56+MIRU!B24+Artur!B56+BARTEK!B56+PIOTR!B56+KRZYSZTOF!B56 -> 0 | K51: =TOMEK!C56+MIRU!C24+Artur!C56+BARTEK!C56+PIOTR!C56+KRZYSZTOF!C56 -> 1 | L51: =TOMEK!D56+MIRU!D24+Artur!D56+BARTEK!D56+PIOTR!D56+KRZYSZTOF!D56 -> 0 | N51: =TOMEK!N56+MIRU!N24+ŁUKASZ!J56+BARTEK!N56+PIOTR!N56+KRZYSZTOF!N56 -> 0 | O51: =TOMEK!O56+MIRU!O24+ŁUKASZ!K56+BARTEK!O56+PIOTR!O56+KRZYSZTOF!O56 -> 0 | P51: =TOMEK!P56+MIRU!P24+ŁUKASZ!L56+BARTEK!P56+PIOTR!P56+KRZYSZTOF!P56 -> 0 | R51: =SUM(B51:P51) -> 2
A52: CL-S631 | B52: =TOMEK!J57+MIRU!J25+ŁUKASZ!F57+BARTEK!J57+PIOTR!J57+KRZYSZTOF!J57 -> 3 | C52: =TOMEK!K57+MIRU!K25+ŁUKASZ!G57+BARTEK!K57+PIOTR!K57+KRZYSZTOF!K57 -> 1 | D52: =TOMEK!L57+MIRU!L25+ŁUKASZ!H57+BARTEK!L57+PIOTR!L57+KRZYSZTOF!L57 -> 6 | F52: =TOMEK!F57+MIRU!F25+ŁUKASZ!B57+BARTEK!F57+PIOTR!F57+KRZYSZTOF!F57 -> 4 | G52: =TOMEK!G57+MIRU!G25+ŁUKASZ!C57+BARTEK!G57+PIOTR!G57+KRZYSZTOF!G57+Artur!G57 -> 4 | H52: =TOMEK!H57+MIRU!H25+ŁUKASZ!D57+BARTEK!H57+PIOTR!H57+KRZYSZTOF!H57+Artur!H57 -> 2 | J52: =TOMEK!B57+MIRU!B25+Artur!B57+BARTEK!B57+PIOTR!B57+KRZYSZTOF!B57 -> 1 | K52: =TOMEK!C57+MIRU!C25+Artur!C57+BARTEK!C57+PIOTR!C57+KRZYSZTOF!C57 -> 1 | L52: =TOMEK!D57+MIRU!D25+Artur!D57+BARTEK!D57+PIOTR!D57+KRZYSZTOF!D57 -> 0 | N52: =TOMEK!N57+MIRU!N25+ŁUKASZ!J57+BARTEK!N57+PIOTR!N57+KRZYSZTOF!N57 -> 0 | O52: =TOMEK!O57+MIRU!O25+ŁUKASZ!K57+BARTEK!O57+PIOTR!O57+KRZYSZTOF!O57 -> 0 | P52: =TOMEK!P57+MIRU!P25+ŁUKASZ!L57+BARTEK!P57+PIOTR!P57+KRZYSZTOF!P57 -> 0 | R52: =SUM(B52:P52) -> 22
A53: CL-S700 | B53: =TOMEK!J58+MIRU!J26+ŁUKASZ!F58+BARTEK!J58+PIOTR!J58+KRZYSZTOF!J58 -> 3 | C53: =TOMEK!K58+MIRU!K26+ŁUKASZ!G58+BARTEK!K58+PIOTR!K58+KRZYSZTOF!K58 -> 2 | D53: =TOMEK!L58+MIRU!L26+ŁUKASZ!H58+BARTEK!L58+PIOTR!L58+KRZYSZTOF!L58 -> 1 | F53: =TOMEK!F58+MIRU!F26+ŁUKASZ!B58+BARTEK!F58+PIOTR!F58+KRZYSZTOF!F58 -> 2 | G53: =TOMEK!G58+MIRU!G26+ŁUKASZ!C58+BARTEK!G58+PIOTR!G58+KRZYSZTOF!G58+Artur!G58 -> 0 | H53: =TOMEK!H58+MIRU!H26+ŁUKASZ!D58+BARTEK!H58+PIOTR!H58+KRZYSZTOF!H58+Artur!H58 -> 0 | J53: =TOMEK!B58+MIRU!B26+Artur!B58+BARTEK!B58+PIOTR!B58+KRZYSZTOF!B58 -> 0 | K53: =TOMEK!C58+MIRU!C26+Artur!C58+BARTEK!C58+PIOTR!C58+KRZYSZTOF!C58 -> 0 | L53: =TOMEK!D58+MIRU!D26+Artur!D58+BARTEK!D58+PIOTR!D58+KRZYSZTOF!D58 -> 0 | N53: =TOMEK!N58+MIRU!N26+ŁUKASZ!J58+BARTEK!N58+PIOTR!N58+KRZYSZTOF!N58 -> 0 | O53: =TOMEK!O58+MIRU!O26+ŁUKASZ!K58+BARTEK!O58+PIOTR!O58+KRZYSZTOF!O58 -> 0 | P53: =TOMEK!P58+MIRU!P26+ŁUKASZ!L58+BARTEK!P58+PIOTR!P58+KRZYSZTOF!P58 -> 0 | R53: =SUM(B53:P53) -> 8
A54: CL-S700R | B54: =TOMEK!J59+MIRU!J27+ŁUKASZ!F59+BARTEK!J59+PIOTR!J59+KRZYSZTOF!J59 -> 0 | C54: =TOMEK!K59+MIRU!K27+ŁUKASZ!G59+BARTEK!K59+PIOTR!K59+KRZYSZTOF!K59 -> 0 | D54: =TOMEK!L59+MIRU!L27+ŁUKASZ!H59+BARTEK!L59+PIOTR!L59+KRZYSZTOF!L59 -> 0 | F54: =TOMEK!F59+MIRU!F27+ŁUKASZ!B59+BARTEK!F59+PIOTR!F59+KRZYSZTOF!F59 -> 0 | G54: =TOMEK!G59+MIRU!G27+ŁUKASZ!C59+BARTEK!G59+PIOTR!G59+KRZYSZTOF!G59+Artur!G59 -> 0 | H54: =TOMEK!H59+MIRU!H27+ŁUKASZ!D59+BARTEK!H59+PIOTR!H59+KRZYSZTOF!H59+Artur!H59 -> 0 | J54: =TOMEK!B59+MIRU!B27+Artur!B59+BARTEK!B59+PIOTR!B59+KRZYSZTOF!B59 -> 0 | K54: =TOMEK!C59+MIRU!C27+Artur!C59+BARTEK!C59+PIOTR!C59+KRZYSZTOF!C59 -> 0 | L54: =TOMEK!D59+MIRU!D27+Artur!D59+BARTEK!D59+PIOTR!D59+KRZYSZTOF!D59 -> 0 | N54: =TOMEK!N59+MIRU!N27+ŁUKASZ!J59+BARTEK!N59+PIOTR!N59+KRZYSZTOF!N59 -> 0 | O54: =TOMEK!O59+MIRU!O27+ŁUKASZ!K59+BARTEK!O59+PIOTR!O59+KRZYSZTOF!O59 -> 0 | P54: =TOMEK!P59+MIRU!P27+ŁUKASZ!L59+BARTEK!P59+PIOTR!P59+KRZYSZTOF!P59 -> 0 | R54: =SUM(B54:P54) -> 0
A55: CL-S703 | B55: =TOMEK!J60+MIRU!J28+ŁUKASZ!F60+BARTEK!J60+PIOTR!J60+KRZYSZTOF!J60 -> 0 | C55: =TOMEK!K60+MIRU!K28+ŁUKASZ!G60+BARTEK!K60+PIOTR!K60+KRZYSZTOF!K60 -> 0 | D55: =TOMEK!L60+MIRU!L28+ŁUKASZ!H60+BARTEK!L60+PIOTR!L60+KRZYSZTOF!L60 -> 3 | F55: =TOMEK!F60+MIRU!F28+ŁUKASZ!B60+BARTEK!F60+PIOTR!F60+KRZYSZTOF!F60 -> 0 | G55: =TOMEK!G60+MIRU!G28+ŁUKASZ!C60+BARTEK!G60+PIOTR!G60+KRZYSZTOF!G60+Artur!G60 -> 0 | H55: =TOMEK!H60+MIRU!H28+ŁUKASZ!D60+BARTEK!H60+PIOTR!H60+KRZYSZTOF!H60+Artur!H60 -> 0 | J55: =TOMEK!B60+MIRU!B28+Artur!B60+BARTEK!B60+PIOTR!B60+KRZYSZTOF!B60 -> 2 | K55: =TOMEK!C60+MIRU!C28+Artur!C60+BARTEK!C60+PIOTR!C60+KRZYSZTOF!C60 -> 2 | L55: =TOMEK!D60+MIRU!D28+Artur!D60+BARTEK!D60+PIOTR!D60+KRZYSZTOF!D60 -> 0 | N55: =TOMEK!N60+MIRU!N28+ŁUKASZ!J60+BARTEK!N60+PIOTR!N60+KRZYSZTOF!N60 -> 0 | O55: =TOMEK!O60+MIRU!O28+ŁUKASZ!K60+BARTEK!O60+PIOTR!O60+KRZYSZTOF!O60 -> 0 | P55: =TOMEK!P60+MIRU!P28+ŁUKASZ!L60+BARTEK!P60+PIOTR!P60+KRZYSZTOF!P60 -> 0 | R55: =SUM(B55:P55) -> 7
A56: CL-S703R | B56: =TOMEK!J61+MIRU!J29+ŁUKASZ!F61+BARTEK!J61+PIOTR!J61+KRZYSZTOF!J61 -> 0 | C56: =TOMEK!K61+MIRU!K29+ŁUKASZ!G61+BARTEK!K61+PIOTR!K61+KRZYSZTOF!K61 -> 0 | D56: =TOMEK!L61+MIRU!L29+ŁUKASZ!H61+BARTEK!L61+PIOTR!L61+KRZYSZTOF!L61 -> 0 | F56: =TOMEK!F61+MIRU!F29+ŁUKASZ!B61+BARTEK!F61+PIOTR!F61+KRZYSZTOF!F61 -> 0 | G56: =TOMEK!G61+MIRU!G29+ŁUKASZ!C61+BARTEK!G61+PIOTR!G61+KRZYSZTOF!G61+Artur!G61 -> 0 | H56: =TOMEK!H61+MIRU!H29+ŁUKASZ!D61+BARTEK!H61+PIOTR!H61+KRZYSZTOF!H61+Artur!H61 -> 0 | J56: =TOMEK!B61+MIRU!B29+Artur!B61+BARTEK!B61+PIOTR!B61+KRZYSZTOF!B61 -> 0 | K56: =TOMEK!C61+MIRU!C29+Artur!C61+BARTEK!C61+PIOTR!C61+KRZYSZTOF!C61 -> 0 | L56: =TOMEK!D61+MIRU!D29+Artur!D61+BARTEK!D61+PIOTR!D61+KRZYSZTOF!D61 -> 0 | N56: =TOMEK!N61+MIRU!N29+ŁUKASZ!J61+BARTEK!N61+PIOTR!N61+KRZYSZTOF!N61 -> 0 | O56: =TOMEK!O61+MIRU!O29+ŁUKASZ!K61+BARTEK!O61+PIOTR!O61+KRZYSZTOF!O61 -> 0 | P56: =TOMEK!P61+MIRU!P29+ŁUKASZ!L61+BARTEK!P61+PIOTR!P61+KRZYSZTOF!P61 -> 0 | R56: =SUM(B56:P56) -> 0
A57: CLE-720 | B57: =TOMEK!J62+MIRU!J30+ŁUKASZ!F62+BARTEK!J62+PIOTR!J62+KRZYSZTOF!J62 -> 0 | C57: =TOMEK!K62+MIRU!K30+ŁUKASZ!G62+BARTEK!K62+PIOTR!K62+KRZYSZTOF!K62 -> 2 | D57: =TOMEK!L62+MIRU!L30+ŁUKASZ!H62+BARTEK!L62+PIOTR!L62+KRZYSZTOF!L62 -> 2 | F57: =TOMEK!F62+MIRU!F30+ŁUKASZ!B62+BARTEK!F62+PIOTR!F62+KRZYSZTOF!F62 -> 0 | G57: =TOMEK!G62+MIRU!G30+ŁUKASZ!C62+BARTEK!G62+PIOTR!G62+KRZYSZTOF!G62+Artur!G62 -> 0 | H57: =TOMEK!H62+MIRU!H30+ŁUKASZ!D62+BARTEK!H62+PIOTR!H62+KRZYSZTOF!H62+Artur!H62 -> 2 | J57: =TOMEK!B62+MIRU!B30+Artur!B62+BARTEK!B62+PIOTR!B62+KRZYSZTOF!B62 -> 0 | K57: =TOMEK!C62+MIRU!C30+Artur!C62+BARTEK!C62+PIOTR!C62+KRZYSZTOF!C62 -> 2 | L57: =TOMEK!D62+MIRU!D30+Artur!D62+BARTEK!D62+PIOTR!D62+KRZYSZTOF!D62 -> 0 | N57: =TOMEK!N62+MIRU!N30+ŁUKASZ!J62+BARTEK!N62+PIOTR!N62+KRZYSZTOF!N62 -> 0 | O57: =TOMEK!O62+MIRU!O30+ŁUKASZ!K62+BARTEK!O62+PIOTR!O62+KRZYSZTOF!O62 -> 0 | P57: =TOMEK!P62+MIRU!P30+ŁUKASZ!L62+BARTEK!P62+PIOTR!P62+KRZYSZTOF!P62 -> 0 | R57: =SUM(B57:P57) -> 8
A58: CLE-730 | B58: =TOMEK!J63+MIRU!J31+ŁUKASZ!F63+BARTEK!J63+PIOTR!J63+KRZYSZTOF!J63 -> 0 | C58: =TOMEK!K63+MIRU!K31+ŁUKASZ!G63+BARTEK!K63+PIOTR!K63+KRZYSZTOF!K63 -> 0 | D58: =TOMEK!L63+MIRU!L31+ŁUKASZ!H63+BARTEK!L63+PIOTR!L63+KRZYSZTOF!L63 -> 0 | F58: =TOMEK!F63+MIRU!F31+ŁUKASZ!B63+BARTEK!F63+PIOTR!F63+KRZYSZTOF!F63 -> 1 | G58: =TOMEK!G63+MIRU!G31+ŁUKASZ!C63+BARTEK!G63+PIOTR!G63+KRZYSZTOF!G63+Artur!G63 -> 0 | H58: =TOMEK!H63+MIRU!H31+ŁUKASZ!D63+BARTEK!H63+PIOTR!H63+KRZYSZTOF!H63+Artur!H63 -> 1 | J58: =TOMEK!B63+MIRU!B31+Artur!B63+BARTEK!B63+PIOTR!B63+KRZYSZTOF!B63 -> 0 | K58: =TOMEK!C63+MIRU!C31+Artur!C63+BARTEK!C63+PIOTR!C63+KRZYSZTOF!C63 -> 1 | L58: =TOMEK!D63+MIRU!D31+Artur!D63+BARTEK!D63+PIOTR!D63+KRZYSZTOF!D63 -> 0 | N58: =TOMEK!N63+MIRU!N31+ŁUKASZ!J63+BARTEK!N63+PIOTR!N63+KRZYSZTOF!N63 -> 0 | O58: =TOMEK!O63+MIRU!O31+ŁUKASZ!K63+BARTEK!O63+PIOTR!O63+KRZYSZTOF!O63 -> 0 | P58: =TOMEK!P63+MIRU!P31+ŁUKASZ!L63+BARTEK!P63+PIOTR!P63+KRZYSZTOF!P63 -> 0 | R58: =SUM(B58:P58) -> 3
A59: CLP 8301 | B59: =TOMEK!J64+MIRU!J32+ŁUKASZ!F64+BARTEK!J64+PIOTR!J64+KRZYSZTOF!J64 -> 0 | C59: =TOMEK!K64+MIRU!K32+ŁUKASZ!G64+BARTEK!K64+PIOTR!K64+KRZYSZTOF!K64 -> 0 | D59: =TOMEK!L64+MIRU!L32+ŁUKASZ!H64+BARTEK!L64+PIOTR!L64+KRZYSZTOF!L64 -> 0 | F59: =TOMEK!F64+MIRU!F32+ŁUKASZ!B64+BARTEK!F64+PIOTR!F64+KRZYSZTOF!F64 -> 0 | G59: =TOMEK!G64+MIRU!G32+ŁUKASZ!C64+BARTEK!G64+PIOTR!G64+KRZYSZTOF!G64+Artur!G64 -> 0 | H59: =TOMEK!H64+MIRU!H32+ŁUKASZ!D64+BARTEK!H64+PIOTR!H64+KRZYSZTOF!H64+Artur!H64 -> 0 | J59: =TOMEK!B64+MIRU!B32+Artur!B64+BARTEK!B64+PIOTR!B64+KRZYSZTOF!B64 -> 0 | K59: =TOMEK!C64+MIRU!C32+Artur!C64+BARTEK!C64+PIOTR!C64+KRZYSZTOF!C64 -> 0 | L59: =TOMEK!D64+MIRU!D32+Artur!D64+BARTEK!D64+PIOTR!D64+KRZYSZTOF!D64 -> 0 | N59: =TOMEK!N64+MIRU!N32+ŁUKASZ!J64+BARTEK!N64+PIOTR!N64+KRZYSZTOF!N64 -> 0 | O59: =TOMEK!O64+MIRU!O32+ŁUKASZ!K64+BARTEK!O64+PIOTR!O64+KRZYSZTOF!O64 -> 0 | P59: =TOMEK!P64+MIRU!P32+ŁUKASZ!L64+BARTEK!P64+PIOTR!P64+KRZYSZTOF!P64 -> 0 | R59: =SUM(B59:P59) -> 0
A60: ZEBRA | B60: =TOMEK!J65+MIRU!J33+ŁUKASZ!F65+BARTEK!J65+PIOTR!J65+KRZYSZTOF!J65 -> 0 | C60: =TOMEK!K65+MIRU!K33+ŁUKASZ!G65+BARTEK!K65+PIOTR!K65+KRZYSZTOF!K65 -> 1 | D60: =TOMEK!L65+MIRU!L33+ŁUKASZ!H65+BARTEK!L65+PIOTR!L65+KRZYSZTOF!L65 -> 1 | F60: =TOMEK!F65+MIRU!F33+ŁUKASZ!B65+BARTEK!F65+PIOTR!F65+KRZYSZTOF!F65 -> 0 | G60: =TOMEK!G65+MIRU!G33+ŁUKASZ!C65+BARTEK!G65+PIOTR!G65+KRZYSZTOF!G65+Artur!G65 -> 0 | H60: =TOMEK!H65+MIRU!H33+ŁUKASZ!D65+BARTEK!H65+PIOTR!H65+KRZYSZTOF!H65+Artur!H65 -> 3 | J60: =TOMEK!B65+MIRU!B33+Artur!B65+BARTEK!B65+PIOTR!B65+KRZYSZTOF!B65 -> 6 | K60: =TOMEK!C65+MIRU!C33+Artur!C65+BARTEK!C65+PIOTR!C65+KRZYSZTOF!C65 -> 0 | L60: =TOMEK!D65+MIRU!D33+Artur!D65+BARTEK!D65+PIOTR!D65+KRZYSZTOF!D65 -> 0 | N60: =TOMEK!N65+MIRU!N33+ŁUKASZ!J65+BARTEK!N65+PIOTR!N65+KRZYSZTOF!N65 -> 0 | O60: =TOMEK!O65+MIRU!O33+ŁUKASZ!K65+BARTEK!O65+PIOTR!O65+KRZYSZTOF!O65 -> 0 | P60: =TOMEK!P65+MIRU!P33+ŁUKASZ!L65+BARTEK!P65+PIOTR!P65+KRZYSZTOF!P65 -> 0 | R60: =SUM(B60:P60) -> 11
A61: INNE | B61: =TOMEK!J66+MIRU!J34+ŁUKASZ!F66+BARTEK!J66+PIOTR!J66+KRZYSZTOF!J66 -> 0 | C61: =TOMEK!K66+MIRU!K34+ŁUKASZ!G66+BARTEK!K66+PIOTR!K66+KRZYSZTOF!K66 -> 0 | D61: =TOMEK!L66+MIRU!L34+ŁUKASZ!H66+BARTEK!L66+PIOTR!L66+KRZYSZTOF!L66 -> 0 | F61: =TOMEK!F66+MIRU!F34+ŁUKASZ!B66+BARTEK!F66+PIOTR!F66+KRZYSZTOF!F66 -> 0 | G61: =TOMEK!G66+MIRU!G34+ŁUKASZ!C66+BARTEK!G66+PIOTR!G66+KRZYSZTOF!G66+Artur!G66 -> 0 | H61: =TOMEK!H66+MIRU!H34+ŁUKASZ!D66+BARTEK!H66+PIOTR!H66+KRZYSZTOF!H66+Artur!H66 -> 1 | J61: =TOMEK!B66+MIRU!B34+Artur!B66+BARTEK!B66+PIOTR!B66+KRZYSZTOF!B66 -> 0 | K61: =TOMEK!C66+MIRU!C34+Artur!C66+BARTEK!C66+PIOTR!C66+KRZYSZTOF!C66 -> 0 | L61: =TOMEK!D66+MIRU!D34+Artur!D66+BARTEK!D66+PIOTR!D66+KRZYSZTOF!D66 -> 0 | N61: =TOMEK!N66+MIRU!N34+ŁUKASZ!J66+BARTEK!N66+PIOTR!N66+KRZYSZTOF!N66 -> 0 | O61: =TOMEK!O66+MIRU!O34+ŁUKASZ!K66+BARTEK!O66+PIOTR!O66+KRZYSZTOF!O66 -> 0 | P61: =TOMEK!P66+MIRU!P34+ŁUKASZ!L66+BARTEK!P66+PIOTR!P66+KRZYSZTOF!P66 -> 0 | R61: =SUM(B61:P61) -> 1
A62: SUMA: | B62: =SUM(B49:B61) -> 8 | C62: =SUM(C49:C61) -> 9 | D62: =SUM(D49:D61) -> 18 | F62: =TOMEK!F67+MIRU!F35+ŁUKASZ!B67+BARTEK!F67+PIOTR!F67+KRZYSZTOF!F67 -> 11 | G62: =TOMEK!G67+MIRU!G35+ŁUKASZ!C67+BARTEK!G67+PIOTR!G67+KRZYSZTOF!G67+Artur!G67 -> 8 | H62: =TOMEK!H67+MIRU!H35+ŁUKASZ!D67+BARTEK!H67+PIOTR!H67+KRZYSZTOF!H67+Artur!H67 -> 10 | J62: =TOMEK!B67+MIRU!B35+Artur!B67+BARTEK!B67+PIOTR!B67+KRZYSZTOF!B67 -> 10 | K62: =TOMEK!C67+MIRU!C35+Artur!C67+BARTEK!C67+PIOTR!C67+KRZYSZTOF!C67 -> 9 | L62: =TOMEK!D67+MIRU!D35+Artur!D67+BARTEK!D67+PIOTR!D67+KRZYSZTOF!D67 -> 0 | N62: =TOMEK!N67+MIRU!N35+ŁUKASZ!J67+BARTEK!N67+PIOTR!N67+KRZYSZTOF!N67 -> 0 | O62: =TOMEK!O67+MIRU!O35+ŁUKASZ!K67+BARTEK!O67+PIOTR!O67+KRZYSZTOF!O67 -> 0 | P62: =TOMEK!P67+MIRU!P35+ŁUKASZ!L67+BARTEK!P67+PIOTR!P67+KRZYSZTOF!P67 -> 0 | R62: =SUM(R49:R61) -> 83
D63: =SUM(B62:D62) -> 35 | H63: =SUM(F62:H62) -> 29 | L63: =SUM(J62:L62) -> 19 | P63: =SUM(N62:P62) -> 0 | Q63: =SUM(D63:P63) -> 83
A64: Raport za miesiąc: | B64: styczeń | C64: luty | D64: marzec | E64: I KW | F64: kwiecień | G64: maj | H64: czerwiec | J64: lipiec | K64: sierpień | L64: wrzesień | N64: paździer. | O64: listopad | P64: grudzień | R64: Suma
A65: Ilość nowych Klientów: | B65: =TOMEK!J70+MIRU!J38+ŁUKASZ!F70+BARTEK!J70+PIOTR!J70+KRZYSZTOF!J70 -> 6 | C65: =TOMEK!K70+MIRU!K38+ŁUKASZ!G70+BARTEK!K70+PIOTR!K70+KRZYSZTOF!K70 -> 12 | D65: =TOMEK!L70+MIRU!L38+ŁUKASZ!H70+BARTEK!L70+PIOTR!L70+KRZYSZTOF!L70 -> 12 | E65: =SUM(B65:D65) -> 30 | F65: =TOMEK!F70+MIRU!F38+ŁUKASZ!B70+BARTEK!F70+PIOTR!F70+KRZYSZTOF!F70 -> 10 | G65: =TOMEK!G70+MIRU!G38+ŁUKASZ!C70+BARTEK!G70+PIOTR!G70+KRZYSZTOF!G70+Artur!G70 -> 8 | H65: =TOMEK!H70+MIRU!H38+ŁUKASZ!D70+BARTEK!H70+PIOTR!H70+KRZYSZTOF!H70+Artur!H70 -> 10 | J65: =TOMEK!B70+MIRU!B38+ŁUKASZ!N70+BARTEK!B70+PIOTR!B70+KRZYSZTOF!B70 -> 6 | K65: =TOMEK!C70+MIRU!C38+ŁUKASZ!O70+BARTEK!C70+PIOTR!C70+KRZYSZTOF!C70 -> 11 | L65: =TOMEK!D70+MIRU!D38+ŁUKASZ!P70+BARTEK!D70+PIOTR!D70+KRZYSZTOF!D70 -> 0 | N65: =TOMEK!N70+MIRU!N38+ŁUKASZ!J70+BARTEK!N70+PIOTR!N70+KRZYSZTOF!N70 -> 0 | O65: =TOMEK!O70+MIRU!O38+ŁUKASZ!K70+BARTEK!O70+PIOTR!O70+KRZYSZTOF!O70 -> 0 | P65: =TOMEK!P70+MIRU!P38+ŁUKASZ!L70+BARTEK!P70+PIOTR!P70+KRZYSZTOF!P70 -> 0 | R65: =SUM(B65:P65) -> 105
A66: Ilość Klientów przekaz. z Gliwic lub zm. nazwę/NIP. | B66: =TOMEK!J71+MIRU!J39+ŁUKASZ!F71+BARTEK!J71+PIOTR!J71+KRZYSZTOF!J71 -> 6 | C66: =TOMEK!K71+MIRU!K39+ŁUKASZ!G71+BARTEK!K71+PIOTR!K71+KRZYSZTOF!K71 -> 6 | D66: =TOMEK!L71+MIRU!L39+ŁUKASZ!H71+BARTEK!L71+PIOTR!L71+KRZYSZTOF!L71 -> 2 | E66: =SUM(B66:D66) -> 14 | F66: =TOMEK!F71+MIRU!F39+ŁUKASZ!B71+BARTEK!F71+PIOTR!F71+KRZYSZTOF!F71 -> 2 | G66: =TOMEK!G71+MIRU!G39+ŁUKASZ!C71+BARTEK!G71+PIOTR!G71+KRZYSZTOF!G71+Artur!G71 -> 2 | H66: =TOMEK!H71+MIRU!H39+ŁUKASZ!D71+BARTEK!H71+PIOTR!H71+KRZYSZTOF!H71+Artur!H71 -> 1 | J66: =TOMEK!B71+MIRU!B39+ŁUKASZ!N71+BARTEK!B71+PIOTR!B71+KRZYSZTOF!B71 -> 3 | K66: =TOMEK!C71+MIRU!C39+ŁUKASZ!O71+BARTEK!C71+PIOTR!C71+KRZYSZTOF!C71 -> 3 | L66: =TOMEK!D71+MIRU!D39+ŁUKASZ!P71+BARTEK!D71+PIOTR!D71+KRZYSZTOF!D71 -> 0 | N66: =TOMEK!N71+MIRU!N39+ŁUKASZ!J71+BARTEK!N71+PIOTR!N71+KRZYSZTOF!N71 -> 0 | O66: =TOMEK!O71+MIRU!O39+ŁUKASZ!K71+BARTEK!O71+PIOTR!O71+KRZYSZTOF!O71 -> 0 | P66: =TOMEK!P71+MIRU!P39+ŁUKASZ!L71+BARTEK!P71+PIOTR!P71+KRZYSZTOF!P71 -> 0 | R66: =SUM(B66:P66) -> 39
A67: Ilość Podmiotów na etapie współpracy Klient: | B67: =TOMEK!J72+MIRU!J40+ŁUKASZ!F72+BARTEK!J72+PIOTR!J72+KRZYSZTOF!J72 -> 990 | C67: =TOMEK!K72+MIRU!K40+ŁUKASZ!G72+BARTEK!K72+PIOTR!K72+KRZYSZTOF!K72 -> 1025 | D67: =TOMEK!L72+MIRU!L40+ŁUKASZ!H72+BARTEK!L72+PIOTR!L72+KRZYSZTOF!L72 -> 1045 | F67: =TOMEK!F72+MIRU!F40+ŁUKASZ!B72+BARTEK!F72+PIOTR!F72+KRZYSZTOF!F72 -> 1072 | G67: =TOMEK!G72+MIRU!G40+ŁUKASZ!C72+BARTEK!G72+PIOTR!G72+KRZYSZTOF!G72+Artur!G72 -> 1101 | H67: =TOMEK!H72+MIRU!H40+ŁUKASZ!D72+BARTEK!H72+PIOTR!H72+KRZYSZTOF!H72+Artur!H72 -> 1090 | J67: =TOMEK!B72+MIRU!B40+ŁUKASZ!N72+BARTEK!B72+PIOTR!B72+KRZYSZTOF!B72 -> 1031 | K67: =TOMEK!C72+MIRU!C40+ŁUKASZ!O72+BARTEK!C72+PIOTR!C72+KRZYSZTOF!C72 -> 1053 | L67: =TOMEK!D72+MIRU!D40+ŁUKASZ!P72+BARTEK!D72+PIOTR!D72+KRZYSZTOF!D72 -> 0 | N67: =TOMEK!N72+MIRU!N40+ŁUKASZ!J72+BARTEK!N72+PIOTR!N72+KRZYSZTOF!N72 -> 0 | O67: =TOMEK!O72+MIRU!O40+ŁUKASZ!K72+BARTEK!O72+PIOTR!O72+KRZYSZTOF!O72 -> 0 | P67: =TOMEK!P72+MIRU!P40+ŁUKASZ!L72+BARTEK!P72+PIOTR!P72+KRZYSZTOF!P72 -> 0
A68: Ilość Podmiotów na etapie współpracy Handlowy: | B68: =TOMEK!J73+MIRU!J41+ŁUKASZ!F73+BARTEK!J73+PIOTR!J73+KRZYSZTOF!J73 -> 184 | C68: =TOMEK!K73+MIRU!K41+ŁUKASZ!G73+BARTEK!K73+PIOTR!K73+KRZYSZTOF!K73 -> 165 | D68: =TOMEK!L73+MIRU!L41+ŁUKASZ!H73+BARTEK!L73+PIOTR!L73+KRZYSZTOF!L73 -> 177 | F68: =TOMEK!F73+MIRU!F41+ŁUKASZ!B73+BARTEK!F73+PIOTR!F73+KRZYSZTOF!F73 -> 181 | G68: =TOMEK!G73+MIRU!G41+ŁUKASZ!C73+BARTEK!G73+PIOTR!G73+KRZYSZTOF!G73+Artur!G73 -> 173 | H68: =TOMEK!H73+MIRU!H41+ŁUKASZ!D73+BARTEK!H73+PIOTR!H73+KRZYSZTOF!H73+Artur!H73 -> 131 | J68: =TOMEK!B73+MIRU!B41+ŁUKASZ!N73+BARTEK!B73+PIOTR!B73+KRZYSZTOF!B73 -> 136 | K68: =TOMEK!C73+MIRU!C41+ŁUKASZ!O73+BARTEK!C73+PIOTR!C73+KRZYSZTOF!C73 -> 129 | L68: =TOMEK!D73+MIRU!D41+ŁUKASZ!P73+BARTEK!D73+PIOTR!D73+KRZYSZTOF!D73 -> 0 | N68: =TOMEK!N73+MIRU!N41+ŁUKASZ!J73+BARTEK!N73+PIOTR!N73+KRZYSZTOF!N73 -> 0 | O68: =TOMEK!O73+MIRU!O41+ŁUKASZ!K73+BARTEK!O73+PIOTR!O73+KRZYSZTOF!O73 -> 0 | P68: =TOMEK!P73+MIRU!P41+ŁUKASZ!L73+BARTEK!P73+PIOTR!P73+KRZYSZTOF!P73 -> 0
A69: Ilość Podmiotów na etapie współpracy Klient nieaktywny: | B69: =SUM(B67:B68) -> 1174 | C69: =SUM(C67:C68) -> 1190 | D69: =SUM(D67:D68) -> 1222 | F69: =SUM(F67:F68) -> 1253 | G69: =SUM(G67:G68) -> 1274 | H69: =SUM(H67:H68) -> 1221 | J69: =SUM(J67:J68) -> 1167 | K69: =SUM(K67:K68) -> 1182 | L69: =SUM(L67:L68) -> 0 | N69: =SUM(N67:N68) -> 0 | O69: =SUM(O67:O68) -> 0 | P69: =SUM(P67:P68) -> 0
A70: Ilość Podmiotów pod opieką: | B70: =TOMEK!J75+MIRU!J43+ŁUKASZ!F75+BARTEK!J75+PIOTR!J75+KRZYSZTOF!J75 -> 1360 | C70: =TOMEK!K75+MIRU!K43+ŁUKASZ!G75+BARTEK!K75+PIOTR!K75+KRZYSZTOF!K75 -> 1271 | D70: =TOMEK!L75+MIRU!L43+ŁUKASZ!H75+BARTEK!L75+PIOTR!L75+KRZYSZTOF!L75 -> 1298 | F70: =TOMEK!F75+MIRU!F43+ŁUKASZ!B75+BARTEK!F75+PIOTR!F75+KRZYSZTOF!F75 -> 1313 | G70: =TOMEK!G75+MIRU!G43+ŁUKASZ!C75+BARTEK!G75+PIOTR!G75+KRZYSZTOF!G75+Artur!G75 -> 1328 | H70: =TOMEK!H75+MIRU!H43+ŁUKASZ!D75+BARTEK!H75+PIOTR!H75+KRZYSZTOF!H75+Artur!H75 -> 1267 | J70: =TOMEK!B75+MIRU!B43+ŁUKASZ!N75+BARTEK!B75+PIOTR!B75+KRZYSZTOF!B75 -> 1210 | K70: =TOMEK!C75+MIRU!C43+ŁUKASZ!O75+BARTEK!C75+PIOTR!C75+KRZYSZTOF!C75 -> 1229 | L70: =TOMEK!D75+MIRU!D43+ŁUKASZ!P75+BARTEK!D75+PIOTR!D75+KRZYSZTOF!D75 -> 0 | N70: =TOMEK!N75+MIRU!N43+ŁUKASZ!J75+BARTEK!N75+PIOTR!N75+KRZYSZTOF!N75 -> 0 | O70: =TOMEK!O75+MIRU!O43+ŁUKASZ!K75+BARTEK!O75+PIOTR!O75+KRZYSZTOF!O75 -> 0 | P70: =TOMEK!P75+MIRU!P43+ŁUKASZ!L75+BARTEK!P75+PIOTR!P75+KRZYSZTOF!P75 -> 0 | R70: =SUM(B70:P70) -> 10276
A71: Ilość sprzedanych drukarek: | B71: =TOMEK!J76+MIRU!J44+ŁUKASZ!F76+BARTEK!J76+PIOTR!J76+KRZYSZTOF!J76 -> 8 | C71: =TOMEK!K76+MIRU!K44+ŁUKASZ!G76+BARTEK!K76+PIOTR!K76+KRZYSZTOF!K76 -> 9 | D71: =TOMEK!L76+MIRU!L44+ŁUKASZ!H76+BARTEK!L76+PIOTR!L76+KRZYSZTOF!L76 -> 18 | E71: =SUM(B71:D71) -> 35 | F71: =TOMEK!F76+MIRU!F44+ŁUKASZ!B76+BARTEK!F76+PIOTR!F76+KRZYSZTOF!F76 -> 11 | G71: =TOMEK!G76+MIRU!G44+ŁUKASZ!C76+BARTEK!G76+PIOTR!G76+KRZYSZTOF!G76+Artur!G76 -> 8 | H71: =TOMEK!H76+MIRU!H44+ŁUKASZ!D76+BARTEK!H76+PIOTR!H76+KRZYSZTOF!H76+Artur!H76 -> 10 | I71: =SUM(F71:H71) -> 29 | J71: =TOMEK!B76+MIRU!B44+Artur!B76+BARTEK!B76+PIOTR!B76+KRZYSZTOF!B76 -> 10 | K71: =TOMEK!C76+MIRU!C44+Artur!C76+BARTEK!C76+PIOTR!C76+KRZYSZTOF!C76 -> 9 | L71: =TOMEK!D76+MIRU!D44+ŁUKASZ!P76+BARTEK!D76+PIOTR!D76+KRZYSZTOF!D76 -> 0 | M71: =SUM(J71:L71) -> 19 | N71: =TOMEK!N76+MIRU!N44+ŁUKASZ!J76+BARTEK!N76+PIOTR!N76+KRZYSZTOF!N76 -> 0 | O71: =TOMEK!O76+MIRU!O44+ŁUKASZ!K76+BARTEK!O76+PIOTR!O76+KRZYSZTOF!O76 -> 0 | P71: =TOMEK!P76+MIRU!P44+ŁUKASZ!L76+BARTEK!P76+PIOTR!P76+KRZYSZTOF!P76 -> 0 | Q71: =SUM(N71:P71) -> 0 | R71: =E71+I71+M71+Q71 -> 83
A72: Ilość ofert dodanych w danym miesiącu: | B72: =TOMEK!J77+MIRU!J45+ŁUKASZ!F77+BARTEK!J77+PIOTR!J77+KRZYSZTOF!J77 -> 125 | C72: =TOMEK!K77+MIRU!K45+ŁUKASZ!G77+BARTEK!K77+PIOTR!K77+KRZYSZTOF!K77 -> 158 | D72: =TOMEK!L77+MIRU!L45+ŁUKASZ!H77+BARTEK!L77+PIOTR!L77+KRZYSZTOF!L77 -> 167 | E72: =SUM(B72:D72) -> 450 | F72: =TOMEK!F77+MIRU!F45+ŁUKASZ!B77+BARTEK!F77+PIOTR!F77+KRZYSZTOF!F77 -> 112 | G72: =TOMEK!G77+MIRU!G45+ŁUKASZ!C77+BARTEK!G77+PIOTR!G77+KRZYSZTOF!G77+Artur!G77 -> 136 | H72: =TOMEK!H77+MIRU!H45+ŁUKASZ!D77+BARTEK!H77+PIOTR!H77+KRZYSZTOF!H77+Artur!H77 -> 124 | I72: =SUM(F72:H72) -> 372 | J72: =TOMEK!B77+MIRU!B45+ŁUKASZ!N77+BARTEK!B77+PIOTR!B77+KRZYSZTOF!B77 -> 92 | K72: =TOMEK!C77+MIRU!C45+ŁUKASZ!O77+BARTEK!C77+PIOTR!C77+KRZYSZTOF!C77 -> 121 | L72: =TOMEK!D77+MIRU!D45+ŁUKASZ!P77+BARTEK!D77+PIOTR!D77+KRZYSZTOF!D77 -> 0 | M72: =SUM(J72:L72) -> 213 | N72: =TOMEK!N77+MIRU!N45+ŁUKASZ!J77+BARTEK!N77+PIOTR!N77+KRZYSZTOF!N77 -> 0 | O72: =TOMEK!O77+MIRU!O45+ŁUKASZ!K77+BARTEK!O77+PIOTR!O77+KRZYSZTOF!O77 -> 0 | P72: =TOMEK!P77+MIRU!P45+ŁUKASZ!L77+BARTEK!P77+PIOTR!P77+KRZYSZTOF!P77 -> 0 | Q72: =SUM(N72:P72) -> 0 | R72: =E72+I72+M72+Q72 -> 1035
A73: Ilość ofert oczekujących na decyzję kontrahenta: | B73: =TOMEK!J78+MIRU!J46+ŁUKASZ!F78+BARTEK!J78+PIOTR!J78+KRZYSZTOF!J78 -> 57 | C73: =TOMEK!K78+MIRU!K46+ŁUKASZ!G78+BARTEK!K78+PIOTR!K78+KRZYSZTOF!K78 -> 72 | D73: =TOMEK!L78+MIRU!L46+ŁUKASZ!H78+BARTEK!L78+PIOTR!L78+KRZYSZTOF!L78 -> 89 | E73: =SUM(B73:D73) -> 218 | F73: =TOMEK!F78+MIRU!F46+ŁUKASZ!B78+BARTEK!F78+PIOTR!F78+KRZYSZTOF!F78 -> 71 | G73: =TOMEK!G78+MIRU!G46+ŁUKASZ!C78+BARTEK!G78+PIOTR!G78+KRZYSZTOF!G78+Artur!G78 -> 84 | H73: =TOMEK!H78+MIRU!H46+ŁUKASZ!D78+BARTEK!H78+PIOTR!H78+KRZYSZTOF!H78+Artur!H78 -> 57 | I73: =SUM(F73:H73) -> 212 | J73: =TOMEK!B78+MIRU!B46+ŁUKASZ!N78+BARTEK!B78+PIOTR!B78+KRZYSZTOF!B78 -> 46 | K73: =TOMEK!C78+MIRU!C46+ŁUKASZ!O78+BARTEK!C78+PIOTR!C78+KRZYSZTOF!C78 -> 46 | L73: =TOMEK!D78+MIRU!D46+ŁUKASZ!P78+BARTEK!D78+PIOTR!D78+KRZYSZTOF!D78 -> 0 | M73: =SUM(J73:L73) -> 92 | N73: =TOMEK!N78+MIRU!N46+ŁUKASZ!J78+BARTEK!N78+PIOTR!N78+KRZYSZTOF!N78 -> 0 | O73: =TOMEK!O78+MIRU!O46+ŁUKASZ!K78+BARTEK!O78+PIOTR!O78+KRZYSZTOF!O78 -> 0 | P73: =TOMEK!P78+MIRU!P46+ŁUKASZ!L78+BARTEK!P78+PIOTR!P78+KRZYSZTOF!P78 -> 0 | Q73: =SUM(N73:P73) -> 0 | R73: =E73+I73+M73+Q73 -> 522
A74: Ilość zaakceptowanych ofert przez kontrahenta: | B74: =TOMEK!J79+MIRU!J47+ŁUKASZ!F79+BARTEK!J79+PIOTR!J79+KRZYSZTOF!J79 -> 47 | C74: =TOMEK!K79+MIRU!K47+ŁUKASZ!G79+BARTEK!K79+PIOTR!K79+KRZYSZTOF!K79 -> 48 | D74: =TOMEK!L79+MIRU!L47+ŁUKASZ!H79+BARTEK!L79+PIOTR!L79+KRZYSZTOF!L79 -> 57 | E74: =SUM(B74:D74) -> 152 | F74: =TOMEK!F79+MIRU!F47+ŁUKASZ!B79+BARTEK!F79+PIOTR!F79+KRZYSZTOF!F79 -> 45 | G74: =TOMEK!G79+MIRU!G47+ŁUKASZ!C79+BARTEK!G79+PIOTR!G79+KRZYSZTOF!G79+Artur!G79 -> 57 | H74: =TOMEK!H79+MIRU!H47+ŁUKASZ!D79+BARTEK!H79+PIOTR!H79+KRZYSZTOF!H79+Artur!H79 -> 52 | I74: =SUM(F74:H74) -> 154 | J74: =TOMEK!B79+MIRU!B47+ŁUKASZ!N79+BARTEK!B79+PIOTR!B79+KRZYSZTOF!B79 -> 32 | K74: =TOMEK!C79+MIRU!C47+ŁUKASZ!O79+BARTEK!C79+PIOTR!C79+KRZYSZTOF!C79 -> 56 | L74: =TOMEK!D79+MIRU!D47+ŁUKASZ!P79+BARTEK!D79+PIOTR!D79+KRZYSZTOF!D79 -> 0 | M74: =SUM(J74:L74) -> 88 | N74: =TOMEK!N79+MIRU!N47+ŁUKASZ!J79+BARTEK!N79+PIOTR!N79+KRZYSZTOF!N79 -> 0 | O74: =TOMEK!O79+MIRU!O47+ŁUKASZ!K79+BARTEK!O79+PIOTR!O79+KRZYSZTOF!O79 -> 0 | P74: =TOMEK!P79+MIRU!P47+ŁUKASZ!L79+BARTEK!P79+PIOTR!P79+KRZYSZTOF!P79 -> 0 | Q74: =SUM(N74:P74) -> 0 | R74: =E74+I74+M74+Q74 -> 394
A75: Ilość odrzuconych ofert przez kontrahenta: | B75: =TOMEK!J80+MIRU!J48+ŁUKASZ!F80+BARTEK!J80+PIOTR!J80+KRZYSZTOF!J80 -> 61 | C75: =TOMEK!K80+MIRU!K48+ŁUKASZ!G80+BARTEK!K80+PIOTR!K80+KRZYSZTOF!K80 -> 116 | D75: =TOMEK!L80+MIRU!L48+ŁUKASZ!H80+BARTEK!L80+PIOTR!L80+KRZYSZTOF!L80 -> 93 | E75: =SUM(B75:D75) -> 270 | F75: =TOMEK!F80+MIRU!F48+ŁUKASZ!B80+BARTEK!F80+PIOTR!F80+KRZYSZTOF!F80 -> 87 | G75: =TOMEK!G80+MIRU!G48+ŁUKASZ!C80+BARTEK!G80+PIOTR!G80+KRZYSZTOF!G80+Artur!G80 -> 70 | H75: =TOMEK!H80+MIRU!H48+ŁUKASZ!D80+BARTEK!H80+PIOTR!H80+KRZYSZTOF!H80+Artur!H80 -> 86 | I75: =SUM(F75:H75) -> 243 | J75: =TOMEK!B80+MIRU!B48+ŁUKASZ!N80+BARTEK!B80+PIOTR!B80+KRZYSZTOF!B80 -> 61 | K75: =TOMEK!C80+MIRU!C48+ŁUKASZ!O80+BARTEK!C80+PIOTR!C80+KRZYSZTOF!C80 -> 81 | L75: =TOMEK!D80+MIRU!D48+ŁUKASZ!P80+BARTEK!D80+PIOTR!D80+KRZYSZTOF!D80 -> 0 | M75: =SUM(J75:L75) -> 142 | N75: =TOMEK!N80+MIRU!N48+ŁUKASZ!J80+BARTEK!N80+PIOTR!N80+KRZYSZTOF!N80 -> 0 | O75: =TOMEK!O80+MIRU!O48+ŁUKASZ!K80+BARTEK!O80+PIOTR!O80+KRZYSZTOF!O80 -> 0 | P75: =TOMEK!P80+MIRU!P48+ŁUKASZ!L80+BARTEK!P80+PIOTR!P80+KRZYSZTOF!P80 -> 0 | Q75: =SUM(N75:P75) -> 0 | R75: =E75+I75+M75+Q75 -> 655
A76: Ilość przekazanych podmiotów z Marketingu: | B76: =TOMEK!J81+MIRU!J49+ŁUKASZ!F81+BARTEK!J81+PIOTR!J81+KRZYSZTOF!J81 -> 36 | C76: =TOMEK!K81+MIRU!K49+ŁUKASZ!G81+BARTEK!K81+PIOTR!K81+KRZYSZTOF!K81 -> 49 | D76: =TOMEK!L81+MIRU!L49+ŁUKASZ!H81+BARTEK!L81+PIOTR!L81+KRZYSZTOF!L81 -> 52 | F76: =TOMEK!F81+MIRU!F49+ŁUKASZ!B81+BARTEK!F81+PIOTR!F81+KRZYSZTOF!F81 -> 52 | G76: =TOMEK!G81+MIRU!G49+ŁUKASZ!C81+BARTEK!G81+PIOTR!G81+KRZYSZTOF!G81+Artur!G81 -> 43 | H76: =TOMEK!H81+MIRU!H49+ŁUKASZ!D81+BARTEK!H81+PIOTR!H81+KRZYSZTOF!H81+Artur!H81 -> 29 | J76: =TOMEK!B81+MIRU!B49+ŁUKASZ!N81+BARTEK!B81+PIOTR!B81+KRZYSZTOF!B81 -> 16 | K76: =TOMEK!C81+MIRU!C49+ŁUKASZ!O81+BARTEK!C81+PIOTR!C81+KRZYSZTOF!C81 -> 34 | L76: =TOMEK!D81+MIRU!D49+ŁUKASZ!P81+BARTEK!D81+PIOTR!D81+KRZYSZTOF!D81 -> 0 | N76: =TOMEK!N81+MIRU!N49+ŁUKASZ!J81+BARTEK!N81+PIOTR!N81+KRZYSZTOF!N81 -> 0 | O76: =TOMEK!O81+MIRU!O49+ŁUKASZ!K81+BARTEK!O81+PIOTR!O81+KRZYSZTOF!O81 -> 0 | P76: =TOMEK!P81+MIRU!P49+ŁUKASZ!L81+BARTEK!P81+PIOTR!P81+KRZYSZTOF!P81 -> 0 | R76: =SUM(B76:P76) -> 311
A77: Ilość przekazanych podmiotów do prowadzenia od KDH: | B77: =TOMEK!J82+MIRU!J50+ŁUKASZ!F82+BARTEK!J82+PIOTR!J82+KRZYSZTOF!J82 -> 2 | C77: =TOMEK!K82+MIRU!K50+ŁUKASZ!G82+BARTEK!K82+PIOTR!K82+KRZYSZTOF!K82 -> 21 | D77: =TOMEK!L82+MIRU!L50+ŁUKASZ!H82+BARTEK!L82+PIOTR!L82+KRZYSZTOF!L82 -> 0 | F77: =TOMEK!F82+MIRU!F50+ŁUKASZ!B82+BARTEK!F82+PIOTR!F82+KRZYSZTOF!F82 -> 1 | G77: =TOMEK!G82+MIRU!G50+ŁUKASZ!C82+BARTEK!G82+PIOTR!G82+KRZYSZTOF!G82+Artur!G82 -> 4 | H77: =TOMEK!H82+MIRU!H50+ŁUKASZ!D82+BARTEK!H82+PIOTR!H82+KRZYSZTOF!H82+Artur!H82 -> 8 | J77: =TOMEK!B82+MIRU!B50+ŁUKASZ!N82+BARTEK!B82+PIOTR!B82+KRZYSZTOF!B82 -> 28 | K77: =TOMEK!C82+MIRU!C50+ŁUKASZ!O82+BARTEK!C82+PIOTR!C82+KRZYSZTOF!C82 -> 5 | L77: =TOMEK!D82+MIRU!D50+ŁUKASZ!P82+BARTEK!D82+PIOTR!D82+KRZYSZTOF!D82 -> 0 | N77: =TOMEK!N82+MIRU!N50+ŁUKASZ!J82+BARTEK!N82+PIOTR!N82+KRZYSZTOF!N82 -> 0 | O77: =TOMEK!O82+MIRU!O50+ŁUKASZ!K82+BARTEK!O82+PIOTR!O82+KRZYSZTOF!O82 -> 0 | P77: =TOMEK!P82+MIRU!P50+ŁUKASZ!L82+BARTEK!P82+PIOTR!P82+KRZYSZTOF!P82 -> 0 | R77: =SUM(B77:P77) -> 69
A78: Ilość odebranych podmiotów (zmiana prowadzącego): | B78: =TOMEK!J83+MIRU!J51+ŁUKASZ!F83+BARTEK!J83+PIOTR!J83+KRZYSZTOF!J83 -> 20 | C78: =TOMEK!K83+MIRU!K51+ŁUKASZ!G83+BARTEK!K83+PIOTR!K83+KRZYSZTOF!K83 -> 0 | D78: =TOMEK!L83+MIRU!L51+ŁUKASZ!H83+BARTEK!L83+PIOTR!L83+KRZYSZTOF!L83 -> 1 | F78: =TOMEK!F83+MIRU!F51+ŁUKASZ!B83+BARTEK!F83+PIOTR!F83+KRZYSZTOF!F83 -> 2 | G78: =TOMEK!G83+MIRU!G51+ŁUKASZ!C83+BARTEK!G83+PIOTR!G83+KRZYSZTOF!G83+Artur!G83 -> 3 | H78: =TOMEK!H83+MIRU!H51+ŁUKASZ!D83+BARTEK!H83+PIOTR!H83+KRZYSZTOF!H83+Artur!H83 -> 5 | J78: =TOMEK!B83+MIRU!B51+ŁUKASZ!N83+BARTEK!B83+PIOTR!B83+KRZYSZTOF!B83 -> 0 | K78: =TOMEK!C83+MIRU!C51+ŁUKASZ!O83+BARTEK!C83+PIOTR!C83+KRZYSZTOF!C83 -> 1 | L78: =TOMEK!D83+MIRU!D51+ŁUKASZ!P83+BARTEK!D83+PIOTR!D83+KRZYSZTOF!D83 -> 0 | N78: =TOMEK!N83+MIRU!N51+ŁUKASZ!J83+BARTEK!N83+PIOTR!N83+KRZYSZTOF!N83 -> 0 | O78: =TOMEK!O83+MIRU!O51+ŁUKASZ!K83+BARTEK!O83+PIOTR!O83+KRZYSZTOF!O83 -> 0 | P78: =TOMEK!P83+MIRU!P51+ŁUKASZ!L83+BARTEK!P83+PIOTR!P83+KRZYSZTOF!P83 -> 0 | R78: =SUM(B78:P78) -> 32 | T78: =SUM(N78:P80) -> 0
A79: Ilość spotkań z Klientami: | B79: =TOMEK!J84+MIRU!J52+ŁUKASZ!F84+BARTEK!J84+PIOTR!J84+KRZYSZTOF!J84 -> 21 | C79: =TOMEK!K84+MIRU!K52+ŁUKASZ!G84+BARTEK!K84+PIOTR!K84+KRZYSZTOF!K84 -> 31 | D79: =TOMEK!L84+MIRU!L52+ŁUKASZ!H84+BARTEK!L84+PIOTR!L84+KRZYSZTOF!L84 -> 24 | E79: =SUM(B79:D79) -> 76 | F79: =TOMEK!F84+MIRU!F52+ŁUKASZ!B84+BARTEK!F84+PIOTR!F84+KRZYSZTOF!F84 -> 25 | G79: =TOMEK!G84+MIRU!G52+ŁUKASZ!C84+BARTEK!G84+PIOTR!G84+KRZYSZTOF!G84+Artur!G84 -> 18 | H79: =TOMEK!H84+MIRU!H52+ŁUKASZ!D84+BARTEK!H84+PIOTR!H84+KRZYSZTOF!H84+Artur!H84 -> 19 | I79: =SUM(F79:H79) -> 62 | J79: =TOMEK!B84+MIRU!B52+ŁUKASZ!N84+BARTEK!B84+PIOTR!B84+KRZYSZTOF!B84 -> 3 | K79: =TOMEK!C84+MIRU!C52+ŁUKASZ!O84+BARTEK!C84+PIOTR!C84+KRZYSZTOF!C84 -> 14 | L79: =TOMEK!D84+MIRU!D52+ŁUKASZ!P84+BARTEK!D84+PIOTR!D84+KRZYSZTOF!D84 -> 0 | M79: =SUM(J79:L79) -> 17 | N79: =TOMEK!N84+MIRU!N52+ŁUKASZ!J84+BARTEK!N84+PIOTR!N84+KRZYSZTOF!N84 -> 0 | O79: =TOMEK!O84+MIRU!O52+ŁUKASZ!K84+BARTEK!O84+PIOTR!O84+KRZYSZTOF!O84 -> 0 | P79: =TOMEK!P84+MIRU!P52+ŁUKASZ!L84+BARTEK!P84+PIOTR!P84+KRZYSZTOF!P84 -> 0 | Q79: =SUM(N79:P79) -> 0 | R79: =SUM(B79:P79) -> 310
A80: Ilość aktualnie otwartych wdrożeń: | B80: =TOMEK!J85+MIRU!J53+ŁUKASZ!F85+BARTEK!J85+PIOTR!J85+KRZYSZTOF!J85 -> 223 | C80: =TOMEK!K85+MIRU!K53+ŁUKASZ!G85+BARTEK!K85+PIOTR!K85+KRZYSZTOF!K85 -> 226 | D80: =TOMEK!L85+MIRU!L53+ŁUKASZ!H85+BARTEK!L85+PIOTR!L85+KRZYSZTOF!L85 -> 236 | F80: =TOMEK!F85+MIRU!F53+ŁUKASZ!B85+BARTEK!F85+PIOTR!F85+KRZYSZTOF!F85 -> 213 | G80: =TOMEK!G85+MIRU!G53+ŁUKASZ!C85+BARTEK!G85+PIOTR!G85+KRZYSZTOF!G85+Artur!G85 -> 220 | H80: =TOMEK!H85+MIRU!H53+ŁUKASZ!D85+BARTEK!H85+PIOTR!H85+KRZYSZTOF!H85+Artur!H85 -> 192 | I80: =SUM(B80:H80) -> 1310 | J80: =TOMEK!B85+MIRU!B53+ŁUKASZ!N85+BARTEK!B85+PIOTR!B85+KRZYSZTOF!B85 -> 181 | K80: =TOMEK!C85+MIRU!C53+ŁUKASZ!O85+BARTEK!C85+PIOTR!C85+KRZYSZTOF!C85 -> 173 | L80: =TOMEK!D85+MIRU!D53+ŁUKASZ!P85+BARTEK!D85+PIOTR!D85+KRZYSZTOF!D85 -> 0 | N80: =TOMEK!N85+MIRU!N53+ŁUKASZ!J85+BARTEK!N85+PIOTR!N85+KRZYSZTOF!N85 -> 0 | O80: =TOMEK!O85+MIRU!O53+ŁUKASZ!K85+BARTEK!O85+PIOTR!O85+KRZYSZTOF!O85 -> 0 | P80: =TOMEK!P85+MIRU!P53+ŁUKASZ!L85+BARTEK!P85+PIOTR!P85+KRZYSZTOF!P85 -> 0 | R80: =SUM(B80:P80) -> 2974
A81: Ilość wdrożeń dodanych w danym miesiącu: | B81: =TOMEK!J86+MIRU!J54+ŁUKASZ!F86+BARTEK!J86+PIOTR!J86+KRZYSZTOF!J86 -> 97 | C81: =TOMEK!K86+MIRU!K54+ŁUKASZ!G86+BARTEK!K86+PIOTR!K86+KRZYSZTOF!K86 -> 120 | D81: =TOMEK!L86+MIRU!L54+ŁUKASZ!H86+BARTEK!L86+PIOTR!L86+KRZYSZTOF!L86 -> 131 | F81: =TOMEK!F86+MIRU!F54+ŁUKASZ!B86+BARTEK!F86+PIOTR!F86+KRZYSZTOF!F86 -> 86 | G81: =TOMEK!G86+MIRU!G54+ŁUKASZ!C86+BARTEK!G86+PIOTR!G86+KRZYSZTOF!G86+Artur!G86 -> 87 | H81: =TOMEK!H86+MIRU!H54+ŁUKASZ!D86+BARTEK!H86+PIOTR!H86+KRZYSZTOF!H86+Artur!H86 -> 70 | I81: =SUM(B81:H81) -> 591 | J81: =TOMEK!B86+MIRU!B54+ŁUKASZ!N86+BARTEK!B86+PIOTR!B86+KRZYSZTOF!B86 -> 53 | K81: =TOMEK!C86+MIRU!C54+ŁUKASZ!O86+BARTEK!C86+PIOTR!C86+KRZYSZTOF!C86 -> 66 | L81: =TOMEK!D86+MIRU!D54+ŁUKASZ!P86+BARTEK!D86+PIOTR!D86+KRZYSZTOF!D86 -> 0 | N81: =TOMEK!N86+MIRU!N54+ŁUKASZ!J86+BARTEK!N86+PIOTR!N86+KRZYSZTOF!N86 -> 0 | O81: =TOMEK!O86+MIRU!O54+ŁUKASZ!K86+BARTEK!O86+PIOTR!O86+KRZYSZTOF!O86 -> 0 | P81: =TOMEK!P86+MIRU!P54+ŁUKASZ!L86+BARTEK!P86+PIOTR!P86+KRZYSZTOF!P86 -> 0 | R81: =SUM(B81:P81) -> 1301
A82: Ilość wdrożeń zamkniętych pozytywnie w danym mcu: | B82: =TOMEK!J87+MIRU!J55+ŁUKASZ!F87+BARTEK!J87+PIOTR!J87+KRZYSZTOF!J87 -> 47 | C82: =TOMEK!K87+MIRU!K55+ŁUKASZ!G87+BARTEK!K87+PIOTR!K87+KRZYSZTOF!K87 -> 61 | D82: =TOMEK!L87+MIRU!L55+ŁUKASZ!H87+BARTEK!L87+PIOTR!L87+KRZYSZTOF!L87 -> 60 | E82: =SUM(B82:D82) -> 168 | F82: =TOMEK!F87+MIRU!F55+ŁUKASZ!B87+BARTEK!F87+PIOTR!F87+KRZYSZTOF!F87 -> 45 | G82: =TOMEK!G87+MIRU!G55+ŁUKASZ!C87+BARTEK!G87+PIOTR!G87+KRZYSZTOF!G87+Artur!G87 -> 41 | H82: =TOMEK!H87+MIRU!H55+ŁUKASZ!D87+BARTEK!H87+PIOTR!H87+KRZYSZTOF!H87+Artur!H87 -> 49 | I82: =SUM(F82:H82) -> 135 | J82: =TOMEK!B87+MIRU!B55+ŁUKASZ!N87+BARTEK!B87+PIOTR!B87+KRZYSZTOF!B87 -> 28 | K82: =TOMEK!C87+MIRU!C55+ŁUKASZ!O87+BARTEK!C87+PIOTR!C87+KRZYSZTOF!C87 -> 31 | L82: =TOMEK!D87+MIRU!D55+ŁUKASZ!P87+BARTEK!D87+PIOTR!D87+KRZYSZTOF!D87 -> 0 | M82: =SUM(J82:L82) -> 59 | N82: =TOMEK!N87+MIRU!N55+ŁUKASZ!J87+BARTEK!N87+PIOTR!N87+KRZYSZTOF!N87 -> 0 | O82: =TOMEK!O87+MIRU!O55+ŁUKASZ!K87+BARTEK!O87+PIOTR!O87+KRZYSZTOF!O87 -> 0 | P82: =TOMEK!P87+MIRU!P55+ŁUKASZ!L87+BARTEK!P87+PIOTR!P87+KRZYSZTOF!P87 -> 0 | Q82: =SUM(N82:P82) -> 0 | R82: =SUM(B82:P82) -> 724
A83: Ilość wdrożeń zamkniętych negatywnie w danym mcu: | B83: =TOMEK!J88+MIRU!J56+ŁUKASZ!F88+BARTEK!J88+PIOTR!J88+KRZYSZTOF!J88 -> 40 | C83: =TOMEK!K88+MIRU!K56+ŁUKASZ!G88+BARTEK!K88+PIOTR!K88+KRZYSZTOF!K88 -> 70 | D83: =TOMEK!L88+MIRU!L56+ŁUKASZ!H88+BARTEK!L88+PIOTR!L88+KRZYSZTOF!L88 -> 61 | E83: =SUM(B83:D83) -> 171 | F83: =TOMEK!F88+MIRU!F56+ŁUKASZ!B88+BARTEK!F88+PIOTR!F88+KRZYSZTOF!F88 -> 65 | G83: =TOMEK!G88+MIRU!G56+ŁUKASZ!C88+BARTEK!G88+PIOTR!G88+KRZYSZTOF!G88+Artur!G88 -> 46 | H83: =TOMEK!H88+MIRU!H56+ŁUKASZ!D88+BARTEK!H88+PIOTR!H88+KRZYSZTOF!H88+Artur!H88 -> 45 | I83: =SUM(F83:H83) -> 156 | J83: =TOMEK!B88+MIRU!B56+ŁUKASZ!N88+BARTEK!B88+PIOTR!B88+KRZYSZTOF!B88 -> 20 | K83: =TOMEK!C88+MIRU!C56+ŁUKASZ!O88+BARTEK!C88+PIOTR!C88+KRZYSZTOF!C88 -> 45 | L83: =TOMEK!D88+MIRU!D56+ŁUKASZ!P88+BARTEK!D88+PIOTR!D88+KRZYSZTOF!D88 -> 0 | M83: =SUM(J83:L83) -> 65 | N83: =TOMEK!N88+MIRU!N56+ŁUKASZ!J88+BARTEK!N88+PIOTR!N88+KRZYSZTOF!N88 -> 0 | O83: =TOMEK!O88+MIRU!O56+ŁUKASZ!K88+BARTEK!O88+PIOTR!O88+KRZYSZTOF!O88 -> 0 | P83: =TOMEK!P88+MIRU!P56+ŁUKASZ!L88+BARTEK!P88+PIOTR!P88+KRZYSZTOF!P88 -> 0 | Q83: =SUM(N83:P83) -> 0 | R83: =SUM(B83:P83) -> 784 | T83: =R83/P85 -> #DIV/0!
A84: Ilość aktualnie odłożonych wdrożeń: | B84: =TOMEK!J89+MIRU!J57+ŁUKASZ!F89+BARTEK!J89+PIOTR!J89+KRZYSZTOF!J89 -> 25 | C84: =TOMEK!K89+MIRU!K57+ŁUKASZ!G89+BARTEK!K89+PIOTR!K89+KRZYSZTOF!K89 -> 22 | D84: =TOMEK!L89+MIRU!L57+ŁUKASZ!H89+BARTEK!L89+PIOTR!L89+KRZYSZTOF!L89 -> 25 | F84: =TOMEK!F89+MIRU!F57+ŁUKASZ!B89+BARTEK!F89+PIOTR!F89+KRZYSZTOF!F89 -> 11 | G84: =TOMEK!G89+MIRU!G57+ŁUKASZ!C89+BARTEK!G89+PIOTR!G89+KRZYSZTOF!G89+Artur!G89 -> 30 | H84: =TOMEK!H89+MIRU!H57+ŁUKASZ!D89+BARTEK!H89+PIOTR!H89+KRZYSZTOF!H89+Artur!H89 -> 27 | I84: =SUM(B84:H84) -> 140 | J84: =TOMEK!B89+MIRU!B57+ŁUKASZ!N89+BARTEK!B89+PIOTR!B89+KRZYSZTOF!B89 -> 9 | K84: =TOMEK!C89+MIRU!C57+ŁUKASZ!O89+BARTEK!C89+PIOTR!C89+KRZYSZTOF!C89 -> 9 | L84: =TOMEK!D89+MIRU!D57+ŁUKASZ!P89+BARTEK!D89+PIOTR!D89+KRZYSZTOF!D89 -> 0 | N84: =TOMEK!N89+MIRU!N57+ŁUKASZ!J89+BARTEK!N89+PIOTR!N89+KRZYSZTOF!N89 -> 0 | O84: =TOMEK!O89+MIRU!O57+ŁUKASZ!K89+BARTEK!O89+PIOTR!O89+KRZYSZTOF!O89 -> 0 | P84: =TOMEK!P89+MIRU!P57+ŁUKASZ!L89+BARTEK!P89+PIOTR!P89+KRZYSZTOF!P89 -> 0 | R84: =SUM(B84:P84) -> 298 | T84: =R84/P85 -> #DIV/0!
D85: =SUM(B83:D83) -> 171 | H85: =SUM(F83:H83) -> 156 | L85: =SUM(J83:L83) -> 65 | O85: p | P85: =SUM(N83:P83) -> 0
D86: =SUM(B78:D80) -> 782 | H86: =SUM(F78:H80) -> 697 | L86: =SUM(J78:L80) -> 372 | O86: s | P86: =SUM(N78:P80) -> 0
D87: =SUM(B84:D84) -> 72 | H87: =SUM(F84:H84) -> 68 | L87: =SUM(J84:L84) -> 18 | O87: n | P87: =SUM(N84:P84) -> 0

Sheet WYPŁATY
A2: PREMIA MIESIĘCZNA
B3: STYCZEŃ | C3: LUTY | D3: MARZEC | F3: KWIECIEŃ | G3: MAJ | H3: CZERWIEC | J3: LIPIEC | K3: SIERPIEŃ | L3: WRZESIEŃ | N3: PAŹDZIERNIK | O3: LISTOPAD | P3: GRUDZIEŃ
A4: Tomasz Sypień | B4: =TOMEK!J39 -> 1300 | C4: =TOMEK!K39 -> 1400 | D4: =TOMEK!L39 -> 1400 | F4: =TOMEK!F39 -> 1400 | G4: =TOMEK!G39 -> 1400 | H4: =TOMEK!H39 -> 1400 | J4: =TOMEK!B39 -> 1400 | K4: =TOMEK!C39 -> 1400 | L4: =TOMEK!D39 -> 700 | N4: =TOMEK!N39 -> #DIV/0! | O4: =TOMEK!O39 -> #DIV/0! | P4: =TOMEK!P39 -> #DIV/0!
A5: Mirosław Zagaja | B5: =DH!B40 -> 2600 | C5: =DH!C40 -> 3000 | D5: =DH!D40 -> 3000 | F5: =DH!F40 -> 3000 | G5: =DH!G40 -> 3000 | H5: =DH!H40 -> 3000 | J5: =DH!J40 -> 3000 | K5: =DH!K40 -> 3000 | L5: =DH!L40 -> 3000 | N5: =DH!N40 -> 1500 | O5: =DH!O40 -> 1500 | P5: =DH!P40 -> 0
A6: Łukasz Łuszczek | B6: =ŁUKASZ!F39 -> 1315 | C6: =ŁUKASZ!G39 -> 1400 | D6: =ŁUKASZ!H39 -> 1400 | F6: =ŁUKASZ!B39 -> 1400 | G6: =ŁUKASZ!C39 -> 1120 | H6: =ŁUKASZ!D39 -> 1120 | J6: =ŁUKASZ!N39 -> #DIV/0! | K6: =ŁUKASZ!O39 -> #DIV/0! | L6: =ŁUKASZ!P39 -> #DIV/0! | N6: =ŁUKASZ!J39 -> #DIV/0! | O6: =ŁUKASZ!K39 -> #DIV/0! | P6: =ŁUKASZ!L39 -> #DIV/0!
A7: Artur Surówka | J7: =Artur!B39 -> 260 | K7: =Artur!C39 -> 780 | L7: =Artur!D39 -> 0 | N7: =Artur!N39 -> #DIV/0! | O7: =Artur!O39 -> #DIV/0! | P7: =Artur!P39 -> #DIV/0!
A8: Bartłomiej Biskupski | B8: =BARTEK!J39 -> 1215 | C8: =BARTEK!K39 -> 1400 | D8: =BARTEK!L39 -> 1400 | F8: =BARTEK!F39 -> 1400 | G8: =BARTEK!G39 -> 1400 | H8: =BARTEK!H39 -> 1400 | J8: =BARTEK!B39 -> 840 | K8: =BARTEK!C39 -> 1400 | L8: =BARTEK!D39 -> 560 | N8: =BARTEK!N39 -> #DIV/0! | O8: =BARTEK!O39 -> #DIV/0! | P8: =BARTEK!P39 -> #DIV/0!
A9: Piotr Choma | B9: =PIOTR!J39 -> 1980 | C9: =PIOTR!K39 -> 2080 | D9: =PIOTR!L39 -> 2080 | F9: =PIOTR!F39 -> 2080 | G9: =PIOTR!G39 -> 2080 | H9: =PIOTR!H39 -> 1872 | J9: =PIOTR!B39 -> 1664 | K9: =PIOTR!C39 -> 1040 | L9: =PIOTR!D39 -> 416 | N9: =PIOTR!N39 -> #DIV/0! | O9: =PIOTR!O39 -> #DIV/0! | P9: =PIOTR!P39 -> #DIV/0!
A10: Krzysztof Szwajdych | B10: =KRZYSZTOF!J39 -> 1450 | C10: =KRZYSZTOF!K39 -> 1550 | D10: =KRZYSZTOF!L39 -> 1550 | F10: =KRZYSZTOF!F39 -> 1240 | G10: =KRZYSZTOF!G39 -> 1240 | H10: =KRZYSZTOF!H39 -> 1240 | J10: =KRZYSZTOF!B39 -> 1550 | K10: =KRZYSZTOF!C39 -> 1550 | L10: =KRZYSZTOF!D39 -> 620 | N10: =KRZYSZTOF!N39 -> #DIV/0! | O10: =KRZYSZTOF!O39 -> #DIV/0! | P10: =KRZYSZTOF!P39 -> #DIV/0!
B11: =SUM(B4:B10) -> 9860 | C11: =SUM(C4:C10) -> 10830 | D11: =SUM(D4:D10) -> 10830 | E11: =SUM(E4:E10) -> 0 | F11: =SUM(F4:F10) -> 10520 | G11: =SUM(G4:G10) -> 10240 | H11: =SUM(H4:H10) -> 10032 | I11: =SUM(I4:I10) -> 0 | J11: =SUM(J7:J10,J4:J5) -> 8714 | K11: =SUM(K7:K10,K4:K5) -> 9170 | L11: =SUM(L7:L10,L4:L5) -> 5296 | M11: =SUM(M4:M10) -> 0
A12: PREMIA KWARTALNA
B13: I KWARTAŁ | F13: II KWARTAŁ | J13: III KWARTAŁ | N13: IV KWARTAŁ
A14: Tomasz Sypień | B14: =TOMEK!J45+TOMEK!J51 -> 1400 | F14: =TOMEK!F45+TOMEK!F51 -> 1960 | J14: =TOMEK!B51+TOMEK!B45 -> 0 | N14: =TOMEK!N45+TOMEK!N51 -> #DIV/0!
A15: Łukasz Łuszczek | B15: =ŁUKASZ!F45+ŁUKASZ!F51 -> 0 | F15: =ŁUKASZ!B45+ŁUKASZ!B51 -> 700 | J15: =ŁUKASZ!N51+ŁUKASZ!N45 -> #DIV/0! | N15: =ŁUKASZ!J45+ŁUKASZ!J51 -> #DIV/0!
A16: Artur Surówka | F16: =ŁUKASZ!B46+ŁUKASZ!B52 -> 282000 | J16: =Artur!B45+Artur!B51 -> 0 | N16: =Artur!N45+Artur!N51 -> #DIV/0!
A17: Bartłomiej Biskupski | B17: =BARTEK!J45+BARTEK!J51 -> 2800 | F17: =BARTEK!F45+BARTEK!F51 -> 1960 | J17: =BARTEK!B51+BARTEK!B45 -> 0 | N17: =BARTEK!N45+BARTEK!N51 -> #DIV/0!
