Workbook

Sheet TOMEK
A1: Tomasz Sypień | B1: PLAN III KW Tomasz Sypień | F1: PLAN II KW Tomasz Sypień | J1: PLAN I KW Tomasz Sypień | N1: PLAN IV KW Tomasz Sypień
A2: miesiąc | B2: lipiec | C2: sierpień | D2: wrzesień | E2: KW III | F2: kwiecień | G2: maj | H2: czerwiec | I2: KW II | J2: styczeń | K2: luty | L2: marzec | M2: KW I | N2: październik | O2: listopad | P2: grudzień | Q2: KW IV | R2: suma ROK
A4: Plan Sprzedaży Marża | B4: ='Target 2016'!I3 -> 30400 | C4: ='Target 2016'!J3 -> 38000 | D4: ='Target 2016'!K3 -> 45600 | E4: =SUM(B4:D4) -> 114000 | F4: ='Target 2016'!F3 -> 30000 | G4: ='Target 2016'!G3 -> 40000 | H4: ='Target 2016'!H3 -> 50000 | I4: =SUM(F4:H4) -> 120000 | J4: ='Target 2016'!C3 -> 30800 | K4: ='Target 2016'!D3 -> 38500 | L4: ='Target 2016'!E3 -> 46200 | M4: =SUM(J4:L4) -> 115500 | N4: ='Target 2016'!L3 -> 0 | O4: ='Target 2016'!M3 -> 0 | P4: ='Target 2016'!N3 -> 0 | Q4: =SUM(N4:P4) -> 0 | R4: =M4+I4+E4+Q4 -> 349500
A5: Sumaryczny Plan Sprzedaży Marża | B5: =B4 -> 30400 | C5: =C4+B5 -> 68400 | D5: =D4+C5 -> 114000 | F5: =F4 -> 30000 | G5: =G4+F5 -> 70000 | H5: =H4+G5 -> 120000 | J5: =J4 -> 30800 | K5: =K4+J5 -> 69300 | L5: =L4+K5 -> 115500 | N5: =N4 -> 0 | O5: =O4+N5 -> 0 | P5: =P4+O5 -> 0
A6: Miesięczna realizacja Planu Sprzedaży Marża | B6: =SUMIF(VII!A:A,$A$1,VII!I:I) -> 35060.779 | C6: =SUMIF(VIII!A:A,$A$1,VIII!I:I) -> 39659.166 | D6: =SUMIF(IX!A:A,$A$1,IX!I:I) -> 27343.554 | E6: =SUM(B6:D6) -> 102063.5 | F6: =SUMIF(IV!A:A,$A$1,IV!I:I) -> 45099.607 | G6: =SUMIF(V!A:A,$A$1,V!I:I) -> 43853.315 | H6: =SUMIF(VI!A:A,$A$1,VI!I:I) -> 43252.475 | I6: =SUM(F6:H6) -> 132205.4 | J6: =SUMIF(I!A:A,$A$1,I!I:I) -> 39466.514 | K6: =SUMIF(II!A:A,$A$1,II!I:I) -> 38311.112 | L6: =SUMIF(III!A:A,$A$1,III!I:I) -> 46376.267 | M6: =SUM(J6:L6) -> 124153.89 | N6: =SUMIF(X!A:A,$A$1,X!I:I) -> 0 | O6: =SUMIF(XI!A:A,$A$1,XI!I:I) -> 0 | P6: =SUMIF(XII!A:A,$A$1,XII!I:I) -> 0 | Q6: =SUM(N6:P6) -> 0 | R6: =M6+I6+E6+Q6 -> 358422.79
A7: Sumaryczna realizacja planu sprzedaży Marża | B7: =B6 -> 35060.779 | C7: =C6+B7 -> 74719.945 | D7: =D6+C7 -> 102063.5 | F7: =F6 -> 45099.607 | G7: =G6+F7 -> 88952.921 | H7: =H6+G7 -> 132205.4 | J7: =J6 -> 39466.514 | K7: =K6+J7 -> 77777.626 | L7: =L6+K7 -> 124153.89 | N7: =N6 -> 0 | O7: =O6+N7 -> 0 | P7: =P6+O7 -> 0
A8: Wysokość zrealizowania Miesięcznego Planu Sprzedaży Marża | B8: =B6/B4 -> 1.1533151 | C8: =C6/C4 -> 1.0436623 | D8: =D6/D4 -> 0.59963935 | F8: =F6/F4 -> 1.5033202 | G8: =G6/G4 -> 1.0963329 | H8: =H6/H4 -> 0.86504949 | J8: =J6/J4 -> 1.2813803 | K8: =K6/K4 -> 0.99509382 | L8: =L6/L4 -> 1.0038153 | N8: =N6/N4 -> #DIV/0! | O8: =O6/O4 -> #DIV/0! | P8: =P6/P4 -> #DIV/0!
A9: Wysokość zrealizowania Planu Sprzedaży Marża | B9: =B7/B5 -> 1.1533151 | C9: =C7/C5 -> 1.0923969 | D9: =D7/D5 -> 0.89529386 | F9: =F7/F5 -> 1.5033202 | G9: =G7/G5 -> 1.270756 | H9: =H7/H5 -> 1.1017116 | J9: =J7/J5 -> 1.2813803 | K9: =K7/K5 -> 1.1223323 | L9: =L7/L5 -> 1.0749255 | N9: =N7/N5 -> #DIV/0! | O9: =O7/O5 -> #DIV/0! | P9: =P7/P5 -> #DIV/0!
A10: Różnica wskaźnika Marża | B10: =B7-B5 -> 4660.779 | C10: =C7-C5 -> 6319.9454 | D10: =D7-D5 -> -11936.5 | F10: =F7-F5 -> 15099.607 | G10: =G7-G5 -> 18952.921 | H10: =H7-H5 -> 12205.396 | J10: =J7-J5 -> 8666.5138 | K10: =K7-K5 -> 8477.626 | L10: =L7-L5 -> 8653.8929 | N10: =N7-N5 -> 0 | O10: =O7-O5 -> 0 | P10: =P7-P5 -> 0
A11: Plan Sprzedaży Obrót | B11: ='Target 2016'!I13 -> 66400 | C11: ='Target 2016'!J13 -> 83000 | D11: ='Target 2016'!K13 -> 99600 | E11: =SUM(B11:D11) -> 249000 | F11: ='Target 2016'!F13 -> 65250 | G11: ='Target 2016'!G13 -> 87000 | H11: ='Target 2016'!H13 -> 108750 | I11: =SUM(F11:H11) -> 261000 | J11: ='Target 2016'!C13 -> 68800 | K11: ='Target 2016'!D13 -> 86000 | L11: ='Target 2016'!E13 -> 103200 | M11: =SUM(J11:L11) -> 258000 | N11: ='Target 2016'!L13 -> 0 | O11: ='Target 2016'!M13 -> 0 | P11: ='Target 2016'!N13 -> 0 | Q11: =SUM(N11:P11) -> 0 | R11: =M11+I11+E11+Q11 -> 768000
A12: Sumaryczny Plan Sprzedaży Obrót | B12: =B11 -> 66400 | C12: =C11+B12 -> 149400 | D12: =D11+C12 -> 249000 | F12: =F11 -> 65250 | G12: =G11+F12 -> 152250 | H12: =H11+G12 -> 261000 | J12: =J11 -> 68800 | K12: =K11+J12 -> 154800 | L12: =L11+K12 -> 258000 | N12: =N11 -> 0 | O12: =O11+N12 -> 0 | P12: =P11+O12 -> 0
A13: Miesięczna realizacja Planu Sprzedaży Obrót | B13: =SUMIF(VII!A:A,$A$1,VII!G:G) -> 86644.58 | C13: =SUMIF(VIII!A:A,$A$1,VIII!G:G) -> 87418.7 | D13: =SUMIF(IX!A:A,$A$1,IX!G:G) -> 60242.76 | E13: =SUM(B13:D13) -> 234306.04 | F13: =SUMIF(IV!A:A,$A$1,IV!G:G) -> 103269.14 | G13: =SUMIF(V!A:A,$A$1,V!G:G) -> 91680.19 | H13: =SUMIF(VI!A:A,$A$1,VI!G:G) -> 93501.43 | I13: =SUM(F13:H13) -> 288450.76 | J13: =SUMIF(I!A:A,$A$1,I!G:G) -> 92621.1 | K13: =SUMIF(II!A:A,$A$1,II!G:G) -> 79836.14 | L13: =SUMIF(III!A:A,$A$1,III!G:G) -> 98529.15 | M13: =SUM(J13:L13) -> 270986.39 | N13: =SUMIF(X!A:A,$A$1,X!G:G) -> 0 | O13: =SUMIF(XI!A:A,$A$1,XI!G:G) -> 0 | P13: =SUMIF(XII!A:A,$A$1,XII!G:G) -> 0 | Q13: =SUM(N13:P13) -> 0 | R13: =M13+I13+E13+Q13 -> 793743.19
A14: Sumaryczna realizacja planu sprzedaży Obrót | B14: =B13 -> 86644.58 | C14: =C13+B14 -> 174063.28 | D14: =D13+C14 -> 234306.04 | F14: =F13 -> 103269.14 | G14: =G13+F14 -> 194949.33 | H14: =H13+G14 -> 288450.76 | J14: =J13 -> 92621.1 | K14: =K13+J14 -> 172457.24 | L14: =L13+K14 -> 270986.39 | N14: =N13 -> 0 | O14: =O13+N14 -> 0 | P14: =P13+O14 -> 0
A15: Wysokość zrealizowania Miesięcznego Planu Sprzedaży Obrót | B15: =B13/B11 -> 1.3048883 | C15: =C13/C11 -> 1.0532373 | D15: =D13/D11 -> 0.60484699 | F15: =F13/F11 -> 1.5826688 | G15: =G13/G11 -> 1.0537953 | H15: =H13/H11 -> 0.85978326 | J15: =J13/J11 -> 1.3462369 | K15: =K13/K11 -> 0.92832721 | L15: =L13/L11 -> 0.95473983 | N15: =N13/N11 -> #DIV/0! | O15: =O13/O11 -> #DIV/0! | P15: =P13/P11 -> #DIV/0!
A16: Wysokość zrealizowania Planu Sprzedaży Obrót | B16: =B14/B12 -> 1.3048883 | C16: =C14/C12 -> 1.1650822 | D16: =D14/D12 -> 0.94098811 | F16: =F14/F12 -> 1.5826688 | G16: =G14/G12 -> 1.2804554 | H16: =H14/H12 -> 1.1051753 | J16: =J14/J12 -> 1.3462369 | K16: =K14/K12 -> 1.1140649 | L16: =L14/L12 -> 1.0503348 | N16: =N14/N12 -> #DIV/0! | O16: =O14/O12 -> #DIV/0! | P16: =P14/P12 -> #DIV/0!
A17: Różnica wskaźnika Obrót | B17: =B14-B12 -> 20244.58 | C17: =C14-C12 -> 24663.28 | D17: =D14-D12 -> -14693.96 | F17: =F14-F12 -> 38019.14 | G17: =G14-G12 -> 42699.33 | H17: =H14-H12 -> 27450.76 | J17: =J14-J12 -> 23821.1 | K17: =K14-K12 -> 17657.24 | L17: =L14-L12 -> 12986.39 | N17: =N14-N12 -> 0 | O17: =O14-O12 -> 0 | P17: =P14-P12 -> 0
A18: Wysokość Marży miesięcznej | B18: =B6/B13 -> 0.40465057 | C18: =C6/C13 -> 0.45366914 | D18: =D6/D13 -> 0.45388947 | F18: =F6/F13 -> 0.43671911 | G18: =G6/G13 -> 0.47832923 | H18: =H6/H13 -> 0.46258624 | J18: =J6/J13 -> 0.42610716 | K18: =K6/K13 -> 0.4798718 | L18: =L6/L13 -> 0.47068575 | N18: =N6/N13 -> #DIV/0! | O18: =O6/O13 -> #DIV/0! | P18: =P6/P13 -> #DIV/0!
A19: Wysokość Marży sumarycznej | B19: =B7/B14 -> 0.40465057 | C19: =C7/C14 -> 0.42926886 | D19: =D7/D14 -> 0.4355991 | F19: =F7/F14 -> 0.43671911 | G19: =G7/G14 -> 0.45628739 | H19: =H7/H14 -> 0.45832917 | J19: =J7/J14 -> 0.42610716 | K19: =K7/K14 -> 0.45099658 | L19: =L7/L14 -> 0.45815546 | N19: =N7/N14 -> #DIV/0! | O19: =O7/O14 -> #DIV/0! | P19: =P7/P14 -> #DIV/0!
A21: PREMIE
A22: Wynagrodzenie zasadnicze | B22: 2800 | C22: 2800 | D22: 2800 | F22: 2800 | G22: 2800 | H22: 2800 | J22: 2600 | K22: 2800 | L22: 2800 | N22: 2800 | O22: 2800 | P22: 2800
A23: Wskaźnik Plan Sprzedaży Marża | B23: =B5 -> 30400 | C23: =C5 -> 68400 | D23: =D5 -> 114000 | F23: =F5 -> 30000 | G23: =G5 -> 70000 | H23: =H5 -> 120000 | J23: =J5 -> 30800 | K23: =K5 -> 69300 | L23: =L5 -> 115500 | N23: =N5 -> 0 | O23: =O5 -> 0 | P23: =P5 -> 0
A24: Realizacja Wskaźnika Planu Sprzedaży Marża | B24: =B7 -> 35060.779 | C24: =C7 -> 74719.945 | D24: =D7 -> 102063.5 | F24: =F7 -> 45099.607 | G24: =G7 -> 88952.921 | H24: =H7 -> 132205.4 | J24: =J7 -> 39466.514 | K24: =K7 -> 77777.626 | L24: =L7 -> 124153.89 | N24: =N7 -> 0 | O24: =O7 -> 0 | P24: =P7 -> 0
A25: Poziom realizacji Wskaźnika Sprzedaży Marża | B25: =B24/B23 -> 1.1533151 | C25: =C24/C23 -> 1.0923969 | D25: =D24/D23 -> 0.89529386 | F25: =F24/F23 -> 1.5033202 | G25: =G24/G23 -> 1.270756 | H25: =H24/H23 -> 1.1017116 | J25: =J24/J23 -> 1.2813803 | K25: =K24/K23 -> 1.1223323 | L25: =L24/L23 -> 1.0749255 | N25: =N24/N23 -> #DIV/0! | O25: =O24/O23 -> #DIV/0! | P25: =P24/P23 -> #DIV/0!
A26: Wysokość premii Wskaźnik Sprzedaży Marża | B26: =B22*0.2 -> 560 | C26: =C22*0.2 -> 560 | D26: =D22*0.2 -> 560 | F26: =F22*0.2 -> 560 | G26: =G22*0.2 -> 560 | H26: =H22*0.2 -> 560 | J26: =J22*0.2 -> 520 | K26: =K22*0.2 -> 560 | L26: =L22*0.2 -> 560 | N26: =N22*0.2 -> 560 | O26: =O22*0.2 -> 560 | P26: =P22*0.2 -> 560
A27: Mnożnik premii miesięcznej Wskaźnika Sprzedaży Marża | B27: =IF(B25<80%,0,IF(B25<90%,0.5,IF(B25<95%,0.75,1))) -> 1 | C27: =IF(C25<80%,0,IF(C25<90%,0.5,IF(C25<95%,0.75,1))) -> 1 | D27: =IF(D25<80%,0,IF(D25<90%,0.5,IF(D25<95%,0.75,1))) -> 0.5 | F27: =IF(F25<80%,0,IF(F25<90%,0.5,IF(F25<95%,0.75,1))) -> 1 | G27: =IF(G25<80%,0,IF(G25<90%,0.5,IF(G25<95%,0.75,1))) -> 1 | H27: =IF(H25<80%,0,IF(H25<90%,0.5,IF(H25<95%,0.75,1))) -> 1 | J27: =IF(J25<80%,0,IF(J25<90%,0.5,IF(J25<95%,0.75,1))) -> 1 | K27: =IF(K25<80%,0,IF(K25<90%,0.5,IF(K25<95%,0.75,1))) -> 1 | L27: =IF(L25<80%,0,IF(L25<90%,0.5,IF(L25<95%,0.75,1))) -> 1 | N27: =IF(N25<80%,0,IF(N25<90%,0.5,IF(N25<95%,0.75,1))) -> #DIV/0! | O27: =IF(O25<80%,0,IF(O25<90%,0.5,IF(O25<95%,0.75,1))) -> #DIV/0! | P27: =IF(P25<80%,0,IF(P25<90%,0.5,IF(P25<95%,0.75,1))) -> #DIV/0!
A28: Premia miesięczna za Wskaźnik Sprzedaży Marża | B28: =B27*B26 -> 560 | C28: =C27*C26 -> 560 | D28: =D27*D26 -> 280 | F28: =F27*F26 -> 560 | G28: =G27*G26 -> 560 | H28: =H27*H26 -> 560 | J28: =J27*J26 -> 520 | K28: =K27*K26 -> 560 | L28: =L27*L26 -> 560 | N28: =N27*N26 -> #DIV/0! | O28: =O27*O26 -> #DIV/0! | P28: =P27*P26 -> #DIV/0!
A29: Wskaźnik Plan Sprzedaży Obrót | B29: =B12 -> 66400 | C29: =C12 -> 149400 | D29: =D12 -> 249000 | F29: =F12 -> 65250 | G29: =G12 -> 152250 | H29: =H12 -> 261000 | J29: =J12 -> 68800 | K29: =K12 -> 154800 | L29: =L12 -> 258000 | N29: =N12 -> 0 | O29: =O12 -> 0 | P29: =P12 -> 0
A30: Realizacja Wskaźnika Planu Sprzedaży Obrót | B30: =B14 -> 86644.58 | C30: =C14 -> 174063.28 | D30: =D14 -> 234306.04 | F30: =F14 -> 103269.14 | G30: =G14 -> 194949.33 | H30: =H14 -> 288450.76 | J30: =J14 -> 92621.1 | K30: =K14 -> 172457.24 | L30: =L14 -> 270986.39 | N30: =N14 -> 0 | O30: =O14 -> 0 | P30: =P14 -> 0
A31: Poziom realizacji Wskaźnika Sprzedaży Obrót | B31: =B30/B29 -> 1.3048883 | C31: =C30/C29 -> 1.1650822 | D31: =D30/D29 -> 0.94098811 | F31: =F30/F29 -> 1.5826688 | G31: =G30/G29 -> 1.2804554 | H31: =H30/H29 -> 1.1051753 | J31: =J30/J29 -> 1.3462369 | K31: =K30/K29 -> 1.1140649 | L31: =L30/L29 -> 1.0503348 | N31: =N30/N29 -> #DIV/0! | O31: =O30/O29 -> #DIV/0! | P31: =P30/P29 -> #DIV/0!
A32: Wysokość premii Wskaźnik Sprzedaży Obrót | B32: =B22*0.2 -> 560 | C32: =C22*0.2 -> 560 | D32: =D22*0.2 -> 560 | F32: =F22*0.2 -> 560 | G32: =G22*0.2 -> 560 | H32: =H22*0.2 -> 560 | J32: =J22*0.2 -> 520 | K32: =K22*0.2 -> 560 | L32: =L22*0.2 -> 560 | N32: =N22*0.2 -> 560 | O32: =O22*0.2 -> 560 | P32: =P22*0.2 -> 560
A33: Mnożnik premii miesięcznej Wskaźnika Sprzedaży Obrót | B33: =IF(B31<80%,0,IF(B31<90%,0.5,IF(B31<95%,0.75,1))) -> 1 | C33: =IF(C31<80%,0,IF(C31<90%,0.5,IF(C31<95%,0.75,1))) -> 1 | D33: =IF(D31<80%,0,IF(D31<90%,0.5,IF(D31<95%,0.75,1))) -> 0.75 | F33: =IF(F31<80%,0,IF(F31<90%,0.5,IF(F31<95%,0.75,1))) -> 1 | G33: =IF(G31<80%,0,IF(G31<90%,0.5,IF(G31<95%,0.75,1))) -> 1 | H33: =IF(H31<80%,0,IF(H31<90%,0.5,IF(H31<95%,0.75,1))) -> 1 | J33: =IF(J31<80%,0,IF(J31<90%,0.5,IF(J31<95%,0.75,1))) -> 1 | K33: =IF(K31<80%,0,IF(K31<90%,0.5,IF(K31<95%,0.75,1))) -> 1 | L33: =IF(L31<80%,0,IF(L31<90%,0.5,IF(L31<95%,0.75,1))) -> 1 | N33: =IF(N31<80%,0,IF(N31<90%,0.5,IF(N31<95%,0.75,1))) -> #DIV/0! | O33: =IF(O31<80%,0,IF(O31<90%,0.5,IF(O31<95%,0.75,1))) -> #DIV/0! | P33: =IF(P31<80%,0,IF(P31<90%,0.5,IF(P31<95%,0.75,1))) -> #DIV/0!
A34: Premia miesięczna za Wskaźnik Sprzedaży Obrót | B34: =B33*B32 -> 560 | C34: =C33*C32 -> 560 | D34: =D33*D32 -> 420 | F34: =F33*F32 -> 560 | G34: =G33*G32 -> 560 | H34: =H33*H32 -> 560 | J34: =J33*J32 -> 520 | K34: =K33*K32 -> 560 | L34: =L33*L32 -> 560 | N34: =N33*N32 -> #DIV/0! | O34: =O33*O32 -> #DIV/0! | P34: =P33*P32 -> #DIV/0!
A35: Wskaźnik CRM | B35: 1 | C35: 1 | D35: 1 | F35: 1 | G35: 1 | H35: 1 | J35: 1 | K35: 1 | L35: 1 | N35: 1 | O35: 1 | P35: 1
A36: Wysokość premii CRM | B36: =B22*0.1 -> 280 | C36: =C22*0.1 -> 280 | D36: =D22*0.1 -> 280 | F36: =F22*0.1 -> 280 | G36: =G22*0.1 -> 280 | H36: =H22*0.1 -> 280 | J36: =J22*0.1 -> 260 | K36: =K22*0.1 -> 280 | L36: =L22*0.1 -> 280 | N36: =N22*0.1 -> 280 | O36: =O22*0.1 -> 280 | P36: =P22*0.1 -> 280
A37: Mnożnik premii Wskaźnik CRM | B37: 1 | C37: 1 | F37: 1 | G37: 1 | H37: 1 | J37: 1 | K37: 1 | L37: 1
A38: Premia miesięczna za Wskaźnik CRM | B38: =B37*B36 -> 280 | C38: =C37*C36 -> 280 | D38: =D37*D36 -> 0 | F38: =F37*F36 -> 280 | G38: =G37*G36 -> 280 | H38: =H37*H36 -> 280 | J38: =J37*J36 -> 260 | K38: =K37*K36 -> 280 | L38: =L37*L36 -> 280 | N38: =N37*N36 -> 0 | O38: =O37*O36 -> 0 | P38: =P37*P36 -> 0
A39: Suma Premii miesięcznych | B39: =B34+B28+B38 -> 1400 | C39: =C34+C28+C38 -> 1400 | D39: =D34+D28+D38 -> 700 | F39: =F34+F28+F38 -> 1400 | G39: =G34+G28+G38 -> 1400 | H39: =H34+H28+H38 -> 1400 | J39: =J34+J28+J38 -> 1300 | K39: =K34+K28+K38 -> 1400 | L39: =L34+L28+L38 -> 1400 | N39: =N34+N28+N38 -> #DIV/0! | O39: =O34+O28+O38 -> #DIV/0! | P39: =P34+P28+P38 -> #DIV/0!
A40: Wskaźnik Premia Kwartalna Marża | B40: =D5 -> 114000 | F40: =H5 -> 120000 | J40: =L5 -> 115500 | N40: =P5 -> 0
A41: Realizacja Wskaźnika Premia Kwartalna | B41: =D7 -> 102063.5 | F41: =H7 -> 132205.4 | J41: =L7 -> 124153.89 | N41: =P7 -> 0
A42: Poziom realizacji Wskaźnika Premia Kwartalna | B42: =B41/B40 -> 0.89529386 | F42: =F41/F40 -> 1.1017116 | J42: =J41/J40 -> 1.0749255 | N42: =N41/N40 -> #DIV/0!
...

Sheet MIRU
A1: Mirosław Zagaja | J1: INDYWIDUALNY PLANY SPRZEDAŻY 2014 Mirosław Zagaja
A2: miesiąc | B2: lipiec | C2: sierpień | D2: wrzesień | F2: kwiecień | G2: maj | H2: czerwiec | J2: styczeń | K2: luty | L2: marzec | M2: KW I | N2: październik | O2: listopad | P2: grudzień | R2: suma
A4: Plan Sprzedaży Marża | B4: ='Target 2016'!I4 -> 24800 | C4: ='Target 2016'!J4 -> 31000 | D4: ='Target 2016'!K4 -> 37200 | E4: =SUM(B4:D4) -> 93000 | F4: ='Target 2016'!F4 -> 30600 | G4: ='Target 2016'!G4 -> 34000 | H4: ='Target 2016'!H4 -> 37400 | J4: ='Target 2016'!C4 -> 30600 | K4: ='Target 2016'!D4 -> 34000 | L4: ='Target 2016'!E4 -> 37400 | M4: =SUM(J4:L4) -> 102000 | N4: ='Target 2016'!L4 -> 0 | O4: ='Target 2016'!M4 -> 0 | P4: ='Target 2016'!N4 -> 0 | R4: =SUM(J4:M4) -> 204000
A5: Sumaryczny Plan Sprzedaży Marża | B5: =B4 -> 24800 | C5: =C4+B5 -> 55800 | D5: =D4+C5 -> 93000 | F5: =F4 -> 30600 | G5: =G4+F5 -> 64600 | H5: =H4+G5 -> 102000 | J5: =J4 -> 30600 | K5: =K4+J5 -> 64600 | L5: =L4+K5 -> 102000 | N5: =N4 -> 0 | O5: =O4+N5 -> 0 | P5: =P4+O5 -> 0
A6: Miesięczna realizacja Planu Sprzedaży Marża | B6: =SUMIF(VII!A:A,$A$1,VII!I:I) -> 33089.342 | C6: =SUMIF(VIII!A:A,$A$1,VIII!I:I) -> 20209.954 | D6: =SUMIF(IX!A:A,$A$1,IX!I:I) -> 27964.457 | F6: =SUMIF(IV!A:A,$A$1,IV!I:I) -> 28725.235 | G6: =SUMIF(V!A:A,$A$1,V!I:I) -> 29156.626 | H6: =SUMIF(VI!A:A,$A$1,VI!I:I) -> 51538.469 | J6: =SUMIF(I!A:A,$A$1,I!I:I) -> 25307.049 | K6: =SUMIF(II!A:A,$A$1,II!I:I) -> 31035.349 | L6: =SUMIF(III!A:A,$A$1,III!I:I) -> 40846.221 | M6: =SUM(J6:L6) -> 97188.619 | N6: =SUMIF(X!A:A,$A$1,X!I:I) -> 0 | O6: =SUMIF(XI!A:A,$A$1,XI!I:I) -> 0 | P6: =SUMIF(XII!A:A,$A$1,XII!I:I) -> 0 | R6: =J6+K6+L6+F6+G6+H6+B6+C6+D6+N6+O6+P6 -> 287872.7
A7: Sumaryczna realizacja planu sprzedaży Marża | B7: =B6 -> 33089.342 | C7: =C6+B7 -> 53299.296 | D7: =D6+C7 -> 81263.753 | F7: =F6 -> 28725.235 | G7: =G6+F7 -> 57881.861 | H7: =H6+G7 -> 109420.33 | J7: =J6 -> 25307.049 | K7: =K6+J7 -> 56342.398 | L7: =L6+K7 -> 97188.619 | N7: =N6 -> 0 | O7: =O6+N7 -> 0 | P7: =P6+O7 -> 0
A8: Wysokość zrealizowania Miesięcznego Planu Sprzedaży Marża | B8: =B6/B4 -> 1.3342477 | C8: =C6/C4 -> 0.65193402 | D8: =D6/D4 -> 0.75173271 | F8: =F6/F4 -> 0.93873317 | G8: =G6/G4 -> 0.85754783 | H8: =H6/H4 -> 1.3780339 | J8: =J6/J4 -> 0.82702775 | K8: =K6/K4 -> 0.91280437 | L8: =L6/L4 -> 1.0921449 | N8: =N6/N4 -> #DIV/0! | O8: =O6/O4 -> #DIV/0! | P8: =P6/P4 -> #DIV/0!
A9: Wysokość zrealizowania Planu Sprzedaży Marża | B9: =B7/B5 -> 1.3342477 | C9: =C7/C5 -> 0.95518453 | D9: =D7/D5 -> 0.8738038 | F9: =F7/F5 -> 0.93873317 | G9: =G7/G5 -> 0.89600404 | H9: =H7/H5 -> 1.0727483 | J9: =J7/J5 -> 0.82702775 | K9: =K7/K5 -> 0.87217334 | L9: =L7/L5 -> 0.95282959 | N9: =N7/N5 -> #DIV/0! | O9: =O7/O5 -> #DIV/0! | P9: =P7/P5 -> #DIV/0!
A10: Różnica wskaźnika Marża | B10: =B7-B5 -> 8289.342 | C10: =C7-C5 -> -2500.7035 | D10: =D7-D5 -> -11736.247 | F10: =F7-F5 -> -1874.765 | G10: =G7-G5 -> -6718.1389 | H10: =H7-H5 -> 7420.3304 | J10: =J7-J5 -> -5292.9509 | K10: =K7-K5 -> -8257.6023 | L10: =L7-L5 -> -4811.3815 | N10: =N7-N5 -> 0 | O10: =O7-O5 -> 0 | P10: =P7-P5 -> 0
A11: Plan Sprzedaży Obrót | B11: ='Target 2016'!I14 -> 60000 | C11: ='Target 2016'!J14 -> 75000 | D11: ='Target 2016'!K14 -> 90000 | E11: =SUM(B11:D11) -> 225000 | F11: ='Target 2016'!F14 -> 74700 | G11: ='Target 2016'!G14 -> 83000 | H11: ='Target 2016'!H14 -> 91300 | J11: ='Target 2016'!C14 -> 74700 | K11: ='Target 2016'!D14 -> 83000 | L11: ='Target 2016'!E14 -> 91300 | M11: =SUM(J11:L11) -> 249000 | N11: ='Target 2016'!L14 -> 0 | O11: ='Target 2016'!M14 -> 0 | P11: ='Target 2016'!N14 -> 0 | R11: =SUM(J11:M11) -> 498000
A12: Sumaryczny Plan Sprzedaży Obrót | B12: =B11 -> 60000 | C12: =C11+B12 -> 135000 | D12: =D11+C12 -> 225000 | F12: =F11 -> 74700 | G12: =G11+F12 -> 157700 | H12: =H11+G12 -> 249000 | J12: =J11 -> 74700 | K12: =K11+J12 -> 157700 | L12: =L11+K12 -> 249000 | N12: =N11 -> 0 | O12: =O11+N12 -> 0 | P12: =P11+O12 -> 0
A13: Miesięczna realizacja Planu Sprzedaży Obrót | B13: =SUMIF(VII!A:A,$A$1,VII!G:G) -> 67324.63 | C13: =SUMIF(VIII!A:A,$A$1,VIII!G:G) -> 58748.51 | D13: =SUMIF(IX!A:A,$A$1,IX!G:G) -> 63213.2 | F13: =SUMIF(IV!A:A,$A$1,IV!G:G) -> 80696.49 | G13: =SUMIF(V!A:A,$A$1,V!G:G) -> 60374.55 | H13: =SUMIF(VI!A:A,$A$1,VI!G:G) -> 115420.08 | J13: =SUMIF(I!A:A,$A$1,I!G:G) -> 56403.7 | K13: =SUMIF(II!A:A,$A$1,II!G:G) -> 79920.68 | L13: =SUMIF(III!A:A,$A$1,III!G:G) -> 100730.43 | M13: =SUM(J13:L13) -> 237054.81 | N13: =SUMIF(X!A:A,$A$1,X!G:G) -> 0 | O13: =SUMIF(XI!A:A,$A$1,XI!G:G) -> 0 | P13: =SUMIF(XII!A:A,$A$1,XII!G:G) -> 0 | R13: =SUM(J13:M13) -> 474109.62
A14: Sumaryczna realizacja planu sprzedaży Obrót | B14: =B13 -> 67324.63 | C14: =C13+B14 -> 126073.14 | D14: =D13+C14 -> 189286.34 | F14: =F13 -> 80696.49 | G14: =G13+F14 -> 141071.04 | H14: =H13+G14 -> 256491.12 | J14: =J13 -> 56403.7 | K14: =K13+J14 -> 136324.38 | L14: =L13+K14 -> 237054.81 | N14: =N13 -> 0 | O14: =O13+N14 -> 0 | P14: =P13+O14 -> 0
A15: Wysokość zrealizowania Miesięcznego Planu Sprzedaży Obrót | B15: =B13/B11 -> 1.1220772 | C15: =C13/C11 -> 0.78331347 | D15: =D13/D11 -> 0.70236889 | F15: =F13/F11 -> 1.0802743 | G15: =G13/G11 -> 0.72740422 | H15: =H13/H11 -> 1.2641849 | J15: =J13/J11 -> 0.75506961 | K15: =K13/K11 -> 0.96289976 | L15: =L13/L11 -> 1.1032906 | N15: =N13/N11 -> #DIV/0! | O15: =O13/O11 -> #DIV/0! | P15: =P13/P11 -> #DIV/0!
A16: Wysokość zrealizowania Planu Sprzedaży Obrót | B16: =B14/B12 -> 1.1220772 | C16: =C14/C12 -> 0.93387511 | D16: =D14/D12 -> 0.84127262 | F16: =F14/F12 -> 1.0802743 | G16: =G14/G12 -> 0.8945532 | H16: =H14/H12 -> 1.0300848 | J16: =J14/J12 -> 0.75506961 | K16: =K14/K12 -> 0.8644539 | L16: =L14/L12 -> 0.95202735 | N16: =N14/N12 -> #DIV/0! | O16: =O14/O12 -> #DIV/0! | P16: =P14/P12 -> #DIV/0!
A17: Różnica wskaźnika Obrót | B17: =B14-B12 -> 7324.63 | C17: =C14-C12 -> -8926.86 | D17: =D14-D12 -> -35713.66 | F17: =F14-F12 -> 5996.49 | G17: =G14-G12 -> -16628.96 | H17: =H14-H12 -> 7491.12 | J17: =J14-J12 -> -18296.3 | K17: =K14-K12 -> -21375.62 | L17: =L14-L12 -> -11945.19 | N17: =N14-N12 -> 0 | O17: =O14-O12 -> 0 | P17: =P14-P12 -> 0
A18: Wysokość Marży miesięcznej | B18: =B6/B13 -> 0.4914894 | C18: =C6/C13 -> 0.34400795 | D18: =D6/D13 -> 0.44238319 | F18: =F6/F13 -> 0.35596635 | G18: =G6/G13 -> 0.48292908 | H18: =H6/H13 -> 0.44652949 | J18: =J6/J13 -> 0.44867711 | K18: =K6/K13 -> 0.38832688 | L18: =L6/L13 -> 0.40550031 | N18: =N6/N13 -> #DIV/0! | O18: =O6/O13 -> #DIV/0! | P18: =P6/P13 -> #DIV/0!
A19: Wysokość Marży sumarycznej | B19: =B7/B14 -> 0.4914894 | C19: =C7/C14 -> 0.42276488 | D19: =D7/D14 -> 0.42931652 | F19: =F7/F14 -> 0.35596635 | G19: =G7/G14 -> 0.41030293 | H19: =H7/H14 -> 0.42660475 | J19: =J7/J14 -> 0.44867711 | K19: =K7/K14 -> 0.41329656 | L19: =L7/L14 -> 0.40998374 | N19: =N7/N14 -> #DIV/0! | O19: =O7/O14 -> #DIV/0! | P19: =P7/P14 -> #DIV/0!
A21: SPRZEDAŻ DRUKAREK
A22: CL-S521 | R22: =SUM(J22:M22) -> 0
A23: CL-S621 | R23: =SUM(J23:M23) -> 0
A24: CL-S6621 | R24: =SUM(J24:M24) -> 0
A25: CL-S631 | L25: 1 | R25: =SUM(J25:M25) -> 1
A26: CL-S700 | L26: 1 | R26: =SUM(J26:M26) -> 1
A27: CL-S700R | R27: =SUM(J27:M27) -> 0
A28: CL-S703 | R28: =SUM(J28:M28) -> 0
A29: CL-S703R | R29: =SUM(J29:M29) -> 0
A30: CLE-720 | R30: =M30+I30+E30+Q30 -> 0
A31: CLE-730 | R31: =M31+I31+E31+Q31 -> 0
A32: CLP 8301 | R32: =SUM(J32:M32) -> 0
A33: ZEBRA | R33: =SUM(J33:M33) -> 0
A34: INNE | H34: 1 | R34: =SUM(J34:M34) -> 0
A35: SUMA: | B35: =SUM(B22:B34) -> 0 | C35: =SUM(C22:C34) -> 0 | D35: =SUM(D22:D34) -> 0 | F35: =SUM(F22:F34) -> 0 | G35: =SUM(G22:G34) -> 0 | H35: =SUM(H22:H34) -> 1 | J35: =SUM(J22:J34) -> 0 | K35: =SUM(K22:K34) -> 0 | L35: =SUM(L22:L34) -> 2 | N35: =SUM(N22:N34) -> 0 | O35: =SUM(O22:O34) -> 0 | P35: =SUM(P22:P34) -> 0 | R35: =SUM(R22:R34) -> 2
A37: Raport za miesiąc: | B37: lipiec | C37: sierpień | D37: wrzesień | F37: kwiecień | G37: maj | H37: czerwiec | J37: styczeń | K37: luty | L37: marzec | N37: paździer. | O37: listopad | P37: grudzień | R37: Suma
A38: Ilość nowych Klientów: | B38: 0 | C38: 1 | E38: =SUM(B38:D38) -> 1 | F38: 0 | G38: 0 | H38: 0 | I38: =SUM(F38:H38) -> 0 | J38: 0 | K38: 0 | L38: 0 | M38: =SUM(J38:L38) -> 0 | Q38: =SUM(N38:P38) -> 0 | R38: =M38+I38+E38+Q38 -> 1
A39: Ilość Klientów przekaz. z Gliwic lub zm. nazwę/NIP. | B39: 0 | C39: 0 | E39: =SUM(B39:D39) -> 0 | F39: 0 | G39: 0 | H39: 0 | I39: =SUM(F39:H39) -> 0 | J39: 0 | K39: 0 | L39: 0 | M39: =SUM(J39:L39) -> 0 | Q39: =SUM(N39:P39) -> 0 | R39: =M39+I39+E39+Q39 -> 0
A40: Ilość Podmiotów na etapie współpracy Klient: | B40: 24 | C40: 25 | F40: 24 | G40: 24 | H40: 24 | J40: 24 | K40: 24 | L40: 24
A41: Ilość Podmiotów na etapie współpracy Handlowy: | B41: 0 | C41: 0 | F41: 0 | G41: 0 | H41: 0 | J41: 0 | K41: 0 | L41: 0
A42: Ilość Podmiotów na etapie współpracy Klient nieaktywny: | B42: 0 | C42: 0 | F42: 0 | G42: 0 | H42: 0 | J42: 0 | K42: 0 | L42: 0
A43: Ilość Podmiotów pod opieką: | B43: =SUM(B40:B42) -> 24 | C43: =SUM(C40:C42) -> 25 | F43: =SUM(F40:F42) -> 24 | G43: =SUM(G40:G42) -> 24 | H43: =SUM(H40:H42) -> 24 | J43: 24 | K43: 24 | L43: 24
...

Sheet Artur
A1: Artur Surówka | B1: PLAN III KW Artur Surówka | F1: PLAN II KW Artur Surówka | J1: PLAN I KW Artur Surówka | N1: PLAN IV KW Artur Surówka
A2: miesiąc | B2: lipiec | C2: sierpień | D2: wrzesień | E2: KW III | F2: kwiecień | G2: maj | H2: czerwiec | I2: KW II | J2: styczeń | K2: luty | L2: marzec | M2: KW I | N2: październik | O2: listopad | P2: grudzień | Q2: KW IV | R2: suma ROK
A4: Plan Sprzedaży Marża | B4: ='Target 2016'!I6 -> 28000 | C4: ='Target 2016'!J6 -> 35000 | D4: ='Target 2016'!K6 -> 42000 | E4: =SUM(B4:D4) -> 105000 | F4: ='Target 2016'!F6 -> 0 | G4: ='Target 2016'!G6 -> 0 | H4: ='Target 2016'!H6 -> 0 | J4: ='Target 2016'!C6 -> 0 | K4: ='Target 2016'!D6 -> 0 | L4: ='Target 2016'!E6 -> 0 | M4: =SUM(J4:L4) -> 0 | N4: ='Target 2016'!L6 -> 0 | O4: ='Target 2016'!M6 -> 0 | P4: ='Target 2016'!N6 -> 0 | Q4: =SUM(N4:P4) -> 0 | R4: =M4+I4+E4+Q4 -> 105000
A5: Sumaryczny Plan Sprzedaży Marża | B5: =B4 -> 28000 | C5: =C4+B5 -> 63000 | D5: =D4+C5 -> 105000 | F5: =F4 -> 0 | G5: =G4+F5 -> 0 | H5: =H4+G5 -> 0 | J5: =J4 -> 0 | K5: =K4+J5 -> 0 | L5: =L4+K5 -> 0 | N5: =N4 -> 0 | O5: =O4+N5 -> 0 | P5: =P4+O5 -> 0
A6: Miesięczna realizacja Planu Sprzedaży Marża | B6: =SUMIF(VII!A:A,$A$1,VII!I:I) -> 19310.639 | C6: =SUMIF(VIII!A:A,$A$1,VIII!I:I) -> 31754.799 | D6: =SUMIF(IX!A:A,$A$1,IX!I:I) -> 16632.234 | E6: =SUM(B6:D6) -> 67697.672 | F6: =SUMIF(IV!A:A,$A$1,IV!I:I) -> 0 | G6: =SUMIF(V!A:A,$A$1,V!I:I) -> 0 | H6: =SUMIF(VI!A:A,$A$1,VI!I:I) -> 0 | I6: =SUM(F6:H6) -> 0 | J6: =SUMIF(I!A:A,$A$1,I!I:I) -> 0 | K6: =SUMIF(II!A:A,$A$1,II!I:I) -> 0 | L6: =SUMIF(III!A:A,$A$1,III!I:I) -> 0 | M6: =SUM(J6:L6) -> 0 | N6: =SUMIF(X!A:A,$A$1,X!I:I) -> 0 | O6: =SUMIF(XI!A:A,$A$1,XI!I:I) -> 0 | P6: =SUMIF(XII!A:A,$A$1,XII!I:I) -> 0 | Q6: =SUM(N6:P6) -> 0 | R6: =M6+I6+E6+Q6 -> 67697.672
A7: Sumaryczna realizacja planu sprzedaży Marża | B7: =B6 -> 19310.639 | C7: =C6+B7 -> 51065.438 | D7: =D6+C7 -> 67697.672 | F7: =F6 -> 0 | G7: =G6+F7 -> 0 | H7: =H6+G7 -> 0 | J7: =J6 -> 0 | K7: =K6+J7 -> 0 | L7: =L6+K7 -> 0 | N7: =N6 -> 0 | O7: =O6+N7 -> 0 | P7: =P6+O7 -> 0
A8: Wysokość zrealizowania Miesięcznego Planu Sprzedaży Marża | B8: =B6/B4 -> 0.68966566 | C8: =C6/C4 -> 0.90727998 | D8: =D6/D4 -> 0.39600558 | F8: =F6/F4 -> #DIV/0! | G8: =G6/G4 -> #DIV/0! | H8: =H6/H4 -> #DIV/0! | J8: =J6/J4 -> #DIV/0! | K8: =K6/K4 -> #DIV/0! | L8: =L6/L4 -> #DIV/0! | N8: =N6/N4 -> #DIV/0! | O8: =O6/O4 -> #DIV/0! | P8: =P6/P4 -> #DIV/0!
A9: Wysokość zrealizowania Planu Sprzedaży Marża | B9: =B7/B5 -> 0.68966566 | C9: =C7/C5 -> 0.81056251 | D9: =D7/D5 -> 0.64473974 | F9: =F7/F5 -> #DIV/0! | G9: =G7/G5 -> #DIV/0! | H9: =H7/H5 -> #DIV/0! | J9: =J7/J5 -> #DIV/0! | K9: =K7/K5 -> #DIV/0! | L9: =L7/L5 -> #DIV/0! | N9: =N7/N5 -> #DIV/0! | O9: =O7/O5 -> #DIV/0! | P9: =P7/P5 -> #DIV/0!
A10: Różnica wskaźnika Marża | B10: =B7-B5 -> -8689.3615 | C10: =C7-C5 -> -11934.562 | D10: =D7-D5 -> -37302.328 | F10: =F7-F5 -> 0 | G10: =G7-G5 -> 0 | H10: =H7-H5 -> 0 | J10: =J7-J5 -> 0 | K10: =K7-K5 -> 0 | L10: =L7-L5 -> 0 | N10: =N7-N5 -> 0 | O10: =O7-O5 -> 0 | P10: =P7-P5 -> 0
A11: Plan Sprzedaży Obrót | B11: ='Target 2016'!I16 -> 84000 | C11: ='Target 2016'!J16 -> 105000 | D11: ='Target 2016'!K16 -> 126000 | E11: =SUM(B11:D11) -> 315000 | G11: ='Target 2016'!K15 -> 0 | H11: ='Target 2016'!L15 -> 0 | I11: =SUM(F11:H11) -> 0 | J11: ='Target 2016'!C16 -> 0 | K11: ='Target 2016'!D16 -> 0 | L11: ='Target 2016'!E16 -> 0 | M11: =SUM(J11:L11) -> 0 | N11: ='Target 2016'!L16 -> 0 | O11: ='Target 2016'!M16 -> 0 | P11: ='Target 2016'!N16 -> 0 | Q11: =SUM(N11:P11) -> 0 | R11: =M11+I11+E11+Q11 -> 315000
A12: Sumaryczny Plan Sprzedaży Obrót | B12: =B11 -> 84000 | C12: =C11+B12 -> 189000 | D12: =D11+C12 -> 315000 | F12: =F11 -> 0 | G12: =G11+F12 -> 0 | H12: =H11+G12 -> 0 | J12: =J11 -> 0 | K12: =K11+J12 -> 0 | L12: =L11+K12 -> 0 | N12: =N11 -> 0 | O12: =O11+N12 -> 0 | P12: =P11+O12 -> 0
A13: Miesięczna realizacja Planu Sprzedaży Obrót | B13: =SUMIF(VII!A:A,$A$1,VII!G:G) -> 69687.09 | C13: =SUMIF(VIII!A:A,$A$1,VIII!G:G) -> 89796.66 | D13: =SUMIF(IX!A:A,$A$1,IX!G:G) -> 57562.51 | E13: =SUM(B13:D13) -> 217046.26 | F13: =SUMIF(IV!A:A,$A$1,IV!G:G) -> 0 | G13: =SUMIF(V!A:A,$A$1,V!G:G) -> 0 | H13: =SUMIF(VI!A:A,$A$1,VI!G:G) -> 0 | I13: =SUM(F13:H13) -> 0 | J13: =SUMIF(I!A:A,$A$1,I!G:G) -> 0 | K13: =SUMIF(II!A:A,$A$1,II!G:G) -> 0 | L13: =SUMIF(III!A:A,$A$1,III!G:G) -> 0 | M13: =SUM(J13:L13) -> 0 | N13: =SUMIF(X!A:A,$A$1,X!G:G) -> 0 | O13: =SUMIF(XI!A:A,$A$1,XI!G:G) -> 0 | P13: =SUMIF(XII!A:A,$A$1,XII!G:G) -> 0 | Q13: =SUM(N13:P13) -> 0 | R13: =M13+I13+E13+Q13 -> 217046.26
A14: Sumaryczna realizacja planu sprzedaży Obrót | B14: =B13 -> 69687.09 | C14: =C13+B14 -> 159483.75 | D14: =D13+C14 -> 217046.26 | F14: =F13 -> 0 | G14: =G13+F14 -> 0 | H14: =H13+G14 -> 0 | J14: =J13 -> 0 | K14: =K13+J14 -> 0 | L14: =L13+K14 -> 0 | N14: =N13 -> 0 | O14: =O13+N14 -> 0 | P14: =P13+O14 -> 0
A15: Wysokość zrealizowania Miesięcznego Planu Sprzedaży Obrót | B15: =B13/B11 -> 0.82960821 | C15: =C13/C11 -> 0.85520629 | D15: =D13/D11 -> 0.45684532 | F15: =F13/F11 -> #DIV/0! | G15: =G13/G11 -> #DIV/0! | H15: =H13/H11 -> #DIV/0! | J15: =J13/J11 -> #DIV/0! | K15: =K13/K11 -> #DIV/0! | L15: =L13/L11 -> #DIV/0! | N15: =N13/N11 -> #DIV/0! | O15: =O13/O11 -> #DIV/0! | P15: =P13/P11 -> #DIV/0!
A16: Wysokość zrealizowania Planu Sprzedaży Obrót | B16: =B14/B12 -> 0.82960821 | C16: =C14/C12 -> 0.84382937 | D16: =D14/D12 -> 0.68903575 | F16: =F14/F12 -> #DIV/0! | G16: =G14/G12 -> #DIV/0! | H16: =H14/H12 -> #DIV/0! | J16: =J14/J12 -> #DIV/0! | K16: =K14/K12 -> #DIV/0! | L16: =L14/L12 -> #DIV/0! | N16: =N14/N12 -> #DIV/0! | O16: =O14/O12 -> #DIV/0! | P16: =P14/P12 -> #DIV/0!
A17: Różnica wskaźnika Obrót | B17: =B14-B12 -> -14312.91 | C17: =C14-C12 -> -29516.25 | D17: =D14-D12 -> -97953.74 | F17: =F14-F12 -> 0 | G17: =G14-G12 -> 0 | H17: =H14-H12 -> 0 | J17: =J14-J12 -> 0 | K17: =K14-K12 -> 0 | L17: =L14-L12 -> 0 | N17: =N14-N12 -> 0 | O17: =O14-O12 -> 0 | P17: =P14-P12 -> 0
A18: Wysokość Marży miesięcznej | B18: =B6/B13 -> 0.27710496 | C18: =C6/C13 -> 0.35363007 | D18: =D6/D13 -> 0.28894213 | F18: =F6/F13 -> #DIV/0! | G18: =G6/G13 -> #DIV/0! | H18: =H6/H13 -> #DIV/0! | J18: =J6/J13 -> #DIV/0! | K18: =K6/K13 -> #DIV/0! | L18: =L6/L13 -> #DIV/0! | N18: =N6/N13 -> #DIV/0! | O18: =O6/O13 -> #DIV/0! | P18: =P6/P13 -> #DIV/0!
A19: Wysokość Marży sumarycznej | B19: =B7/B14 -> 0.27710496 | C19: =C7/C14 -> 0.32019211 | D19: =D7/D14 -> 0.31190435 | F19: =F7/F14 -> #DIV/0! | G19: =G7/G14 -> #DIV/0! | H19: =H7/H14 -> #DIV/0! | J19: =J7/J14 -> #DIV/0! | K19: =K7/K14 -> #DIV/0! | L19: =L7/L14 -> #DIV/0! | N19: =N7/N14 -> #DIV/0! | O19: =O7/O14 -> #DIV/0! | P19: =P7/P14 -> #DIV/0!
J21: PREMIE
A22: Wynagrodzenie zasadnicze | B22: 2600 | C22: 2600 | D22: 2600 | F22: 2600 | G22: 2600 | H22: 2600 | J22: 2600 | K22: 2600 | L22: 2600 | N22: 2600 | O22: 2600 | P22: 2600
A23: Wskaźnik Plan Sprzedaży Marża | B23: =B5 -> 28000 | C23: =C5 -> 63000 | D23: =D5 -> 105000 | F23: =F5 -> 0 | G23: =G5 -> 0 | H23: =H5 -> 0 | J23: =J5 -> 0 | K23: =K5 -> 0 | L23: =L5 -> 0 | N23: =N5 -> 0 | O23: =O5 -> 0 | P23: =P5 -> 0
A24: Realizacja Wskaźnika Planu Sprzedaży Marża | B24: =B7 -> 19310.639 | C24: =C7 -> 51065.438 | D24: =D7 -> 67697.672 | F24: =F7 -> 0 | G24: =G7 -> 0 | H24: =H7 -> 0 | J24: =J7 -> 0 | K24: =K7 -> 0 | L24: =L7 -> 0 | N24: =N7 -> 0 | O24: =O7 -> 0 | P24: =P7 -> 0
A25: Poziom realizacji Wskaźnika Sprzedaży Marża | B25: =B24/B23 -> 0.68966566 | C25: =C24/C23 -> 0.81056251 | D25: =D24/D23 -> 0.64473974 | F25: =F24/F23 -> #DIV/0! | G25: =G24/G23 -> #DIV/0! | H25: =H24/H23 -> #DIV/0! | J25: =J24/J23 -> #DIV/0! | K25: =K24/K23 -> #DIV/0! | L25: =L24/L23 -> #DIV/0! | N25: =N24/N23 -> #DIV/0! | O25: =O24/O23 -> #DIV/0! | P25: =P24/P23 -> #DIV/0!
A26: Wysokość premii Wskaźnik Sprzedaży Marża | B26: =B22*0.2 -> 520 | C26: =C22*0.2 -> 520 | D26: =D22*0.2 -> 520 | F26: =F22*0.2 -> 520 | G26: =G22*0.2 -> 520 | H26: =H22*0.2 -> 520 | J26: =J22*0.2 -> 520 | K26: =K22*0.2 -> 520 | L26: =L22*0.2 -> 520 | N26: =N22*0.2 -> 520 | O26: =O22*0.2 -> 520 | P26: =P22*0.2 -> 520
A27: Mnożnik premii miesięcznej Wskaźnika Sprzedaży Marża | B27: =IF(B25<80%,0,IF(B25<90%,0.5,IF(B25<95%,0.75,1))) -> 0 | C27: =IF(C25<80%,0,IF(C25<90%,0.5,IF(C25<95%,0.75,1))) -> 0.5 | D27: =IF(D25<80%,0,IF(D25<90%,0.5,IF(D25<95%,0.75,1))) -> 0 | F27: =IF(F25<80%,0,IF(F25<90%,0.5,IF(F25<95%,0.75,1))) -> #DIV/0! | G27: =IF(G25<80%,0,IF(G25<90%,0.5,IF(G25<95%,0.75,1))) -> #DIV/0! | H27: =IF(H25<80%,0,IF(H25<90%,0.5,IF(H25<95%,0.75,1))) -> #DIV/0! | J27: =IF(J25<80%,0,IF(J25<90%,0.5,IF(J25<95%,0.75,1))) -> #DIV/0! | K27: =IF(K25<80%,0,IF(K25<90%,0.5,IF(K25<95%,0.75,1))) -> #DIV/0! | L27: =IF(L25<80%,0,IF(L25<90%,0.5,IF(L25<95%,0.75,1))) -> #DIV/0! | N27: =IF(N25<80%,0,IF(N25<90%,0.5,IF(N25<95%,0.75,1))) -> #DIV/0! | O27: =IF(O25<80%,0,IF(O25<90%,0.5,IF(O25<95%,0.75,1))) -> #DIV/0! | P27: =IF(P25<80%,0,IF(P25<90%,0.5,IF(P25<95%,0.75,1))) -> #DIV/0!
A28: Premia miesięczna za Wskaźnik Sprzedaży Marża | B28: =B27*B26 -> 0 | C28: =C27*C26 -> 260 | D28: =D27*D26 -> 0 | F28: =F27*F26 -> #DIV/0! | G28: =G27*G26 -> #DIV/0! | H28: =H27*H26 -> #DIV/0! | J28: =J27*J26 -> #DIV/0! | K28: =K27*K26 -> #DIV/0! | L28: =L27*L26 -> #DIV/0! | N28: =N27*N26 -> #DIV/0! | O28: =O27*O26 -> #DIV/0! | P28: =P27*P26 -> #DIV/0!
A29: Wskaźnik Plan Sprzedaży Obrót | B29: =B12 -> 84000 | C29: =C12 -> 189000 | D29: =D12 -> 315000 | F29: =F12 -> 0 | G29: =G12 -> 0 | H29: =H12 -> 0 | J29: =J12 -> 0 | K29: =K12 -> 0 | L29: =L12 -> 0 | N29: =N12 -> 0 | O29: =O12 -> 0 | P29: =P12 -> 0
A30: Realizacja Wskaźnika Planu Sprzedaży Obrót | B30: =B14 -> 69687.09 | C30: =C14 -> 159483.75 | D30: =D14 -> 217046.26 | F30: =F14 -> 0 | G30: =G14 -> 0 | H30: =H14 -> 0 | J30: =J14 -> 0 | K30: =K14 -> 0 | L30: =L14 -> 0 | N30: =N14 -> 0 | O30: =O14 -> 0 | P30: =P14 -> 0
A31: Poziom realizacji Wskaźnika Sprzedaży Obrót | B31: =B30/B29 -> 0.82960821 | C31: =C30/C29 -> 0.84382937 | D31: =D30/D29 -> 0.68903575 | F31: =F30/F29 -> #DIV/0! | G31: =G30/G29 -> #DIV/0! | H31: =H30/H29 -> #DIV/0! | J31: =J30/J29 -> #DIV/0! | K31: =K30/K29 -> #DIV/0! | L31: =L30/L29 -> #DIV/0! | N31: =N30/N29 -> #DIV/0! | O31: =O30/O29 -> #DIV/0! | P31: =P30/P29 -> #DIV/0!
A32: Wysokość premii Wskaźnik Sprzedaży Obrót | B32: =B22*0.2 -> 520 | C32: =C22*0.2 -> 520 | D32: =D22*0.2 -> 520 | F32: =F22*0.2 -> 520 | G32: =G22*0.2 -> 520 | H32: =H22*0.2 -> 520 | J32: =J22*0.2 -> 520 | K32: =K22*0.2 -> 520 | L32: =L22*0.2 -> 520 | N32: =N22*0.2 -> 520 | O32: =O22*0.2 -> 520 | P32: =P22*0.2 -> 520
A33: Mnożnik premii miesięcznej Wskaźnika Sprzedaży Obrót | B33: =IF(B31<80%,0,IF(B31<90%,0.5,IF(B31<95%,0.75,1))) -> 0.5 | C33: =IF(C31<80%,0,IF(C31<90%,0.5,IF(C31<95%,0.75,1))) -> 0.5 | D33: =IF(D31<80%,0,IF(D31<90%,0.5,IF(D31<95%,0.75,1))) -> 0 | F33: =IF(F31<80%,0,IF(F31<90%,0.5,IF(F31<95%,0.75,1))) -> #DIV/0! | G33: =IF(G31<80%,0,IF(G31<90%,0.5,IF(G31<95%,0.75,1))) -> #DIV/0! | H33: =IF(H31<80%,0,IF(H31<90%,0.5,IF(H31<95%,0.75,1))) -> #DIV/0! | J33: =IF(J31<80%,0,IF(J31<90%,0.5,IF(J31<95%,0.75,1))) -> #DIV/0! | K33: =IF(K31<80%,0,IF(K31<90%,0.5,IF(K31<95%,0.75,1))) -> #DIV/0! | L33: =IF(L31<80%,0,IF(L31<90%,0.5,IF(L31<95%,0.75,1))) -> #DIV/0! | N33: =IF(N31<80%,0,IF(N31<90%,0.5,IF(N31<95%,0.75,1))) -> #DIV/0! | O33: =IF(O31<80%,0,IF(O31<90%,0.5,IF(O31<95%,0.75,1))) -> #DIV/0! | P33: =IF(P31<80%,0,IF(P31<90%,0.5,IF(P31<95%,0.75,1))) -> #DIV/0!
A34: Premia miesięczna za Wskaźnik Sprzedaży Obrót | B34: =B33*B32 -> 260 | C34: =C33*C32 -> 260 | D34: =D33*D32 -> 0 | F34: =F33*F32 -> #DIV/0! | G34: =G33*G32 -> #DIV/0! | H34: =H33*H32 -> #DIV/0! | J34: =J33*J32 -> #DIV/0! | K34: =K33*K32 -> #DIV/0! | L34: =L33*L32 -> #DIV/0! | N34: =N33*N32 -> #DIV/0! | O34: =O33*O32 -> #DIV/0! | P34: =P33*P32 -> #DIV/0!
A35: Wskaźnik CRM | B35: 1 | C35: 1 | D35: 1 | F35: 1 | G35: 1 | H35: 1 | J35: 1 | K35: 1 | L35: 1 | N35: 1 | O35: 1 | P35: 1
A36: Wysokość premii CRM | B36: =B22*0.1 -> 260 | C36: =C22*0.1 -> 260 | D36: =D22*0.1 -> 260 | F36: =F22*0.1 -> 260 | G36: =G22*0.1 -> 260 | H36: =H22*0.1 -> 260 | J36: =J22*0.1 -> 260 | K36: =K22*0.1 -> 260 | L36: =L22*0.1 -> 260 | N36: =N22*0.1 -> 260 | O36: =O22*0.1 -> 260 | P36: =P22*0.1 -> 260
A37: Mnożnik premii Wskaźnik CRM | B37: 0 | C37: 1
A38: Premia miesięczna za Wskaźnik CRM | B38: =B37*B36 -> 0 | C38: =C37*C36 -> 260 | D38: =D37*D36 -> 0 | F38: =F37*F36 -> 0 | G38: =G37*G36 -> 0 | H38: =H37*H36 -> 0 | J38: =J37*J36 -> 0 | K38: =K37*K36 -> 0 | L38: =L37*L36 -> 0 | N38: =N37*N36 -> 0 | O38: =O37*O36 -> 0 | P38: =P37*P36 -> 0
A39: Suma Premii miesięcznych | B39: =B34+B28+B38 -> 260 | C39: =C34+C28+C38 -> 780 | D39: =D34+D28+D38 -> 0 | F39: =F34+F28+F38 -> #DIV/0! | G39: =G34+G28+G38 -> #DIV/0! | H39: =H34+H28+H38 -> #DIV/0! | J39: =J34+J28+J38 -> #DIV/0! | K39: =K34+K28+K38 -> #DIV/0! | L39: =L34+L28+L38 -> #DIV/0! | N39: =N34+N28+N38 -> #DIV/0! | O39: =O34+O28+O38 -> #DIV/0! | P39: =P34+P28+P38 -> #DIV/0!
A40: Wskaźnik Premia Kwartalna Marża | B40: =D5 -> 105000 | F40: =H5 -> 0 | J40: =L5 -> 0 | N40: =P5 -> 0
A41: Realizacja Wskaźnika Premia Kwartalna | B41: =D7 -> 67697.672 | F41: =H7 -> 0 | J41: =L7 -> 0 | N41: =P7 -> 0
A42: Poziom realizacji Wskaźnika Premia Kwartalna | B42: =B41/B40 -> 0.64473974 | F42: =F41/F40 -> #DIV/0! | J42: =J41/J40 -> #DIV/0! | N42: =N41/N40 -> #DIV/0!
...

Sheet BARTEK
A1: Bartłomiej Biskupski | B1: PLAN III KW BARTŁOMIEJ BISKUPSKI | F1: PLAN II KW BARTŁOMIEJ BISKUPSKI | J1: PLAN I KW BARTŁOMIEJ BISKUPSKI | N1: PLAN IV KW BARTŁOMIEJ BISKUPSKI
A2: miesiąc | B2: lipiec | C2: sierpień | D2: wrzesień | E2: KW III | F2: kwiecień | G2: maj | H2: czerwiec | I2: KW II | J2: styczeń | K2: luty | L2: marzec | M2: KW I | N2: październik | O2: listopad | P2: grudzień | Q2: KW IV | R2: suma ROK
A4: Plan Sprzedaży Marża | B4: ='Target 2016'!I7 -> 28000 | C4: ='Target 2016'!J7-2500 -> 32500 | D4: ='Target 2016'!K7+2500 -> 44500 | E4: =SUM(B4:D4) -> 105000 | F4: ='Target 2016'!F7 -> 29700 | G4: ='Target 2016'!G7 -> 33000 | H4: ='Target 2016'!H7 -> 36300 | I4: =SUM(F4:H4) -> 99000 | J4: ='Target 2016'!C7 -> 27000 | K4: ='Target 2016'!D7 -> 30000 | L4: ='Target 2016'!E7 -> 33000 | M4: =SUM(J4:L4) -> 90000 | N4: ='Target 2016'!L7 -> 0 | O4: ='Target 2016'!M7 -> 0 | P4: ='Target 2016'!N7 -> 0 | Q4: =SUM(N4:P4) -> 0 | R4: =M4+I4+E4+Q4 -> 294000
A5: Sumaryczny Plan Sprzedaży Marża | B5: =B4 -> 28000 | C5: =C4+B5 -> 60500 | D5: =D4+C5 -> 105000 | F5: =F4 -> 29700 | G5: =G4+F5 -> 62700 | H5: =H4+G5 -> 99000 | J5: =J4 -> 27000 | K5: =K4+J5 -> 57000 | L5: =L4+K5 -> 90000 | N5: =N4 -> 0 | O5: =O4+N5 -> 0 | P5: =P4+O5 -> 0
A6: Miesięczna realizacja Planu Sprzedaży Marża | B6: =SUMIF(VII!A:A,$A$1,VII!I:I) -> 23451.858 | C6: =SUMIF(VIII!A:A,$A$1,VIII!I:I) -> 34152.533 | D6: =SUMIF(IX!A:A,$A$1,IX!I:I) -> 33602.4 | E6: =SUM(B6:D6) -> 91206.791 | F6: =SUMIF(IV!A:A,$A$1,IV!I:I) -> 38238.745 | G6: =SUMIF(V!A:A,$A$1,V!I:I) -> 30167.054 | H6: =SUMIF(VI!A:A,$A$1,VI!I:I) -> 46124.904 | I6: =SUM(F6:H6) -> 114530.7 | J6: =SUMIF(I!A:A,$A$1,I!I:I) -> 28562.426 | K6: =SUMIF(II!A:A,$A$1,II!I:I) -> 36849.664 | L6: =SUMIF(III!A:A,$A$1,III!I:I) -> 44215.68 | M6: =SUM(J6:L6) -> 109627.77 | N6: =SUMIF(X!A:A,$A$1,X!I:I) -> 0 | O6: =SUMIF(XI!A:A,$A$1,XI!I:I) -> 0 | P6: =SUMIF(XII!A:A,$A$1,XII!I:I) -> 0 | Q6: =SUM(N6:P6) -> 0 | R6: =M6+I6+E6+Q6 -> 315365.26
A7: Sumaryczna realizacja planu sprzedaży Marża | B7: =B6 -> 23451.858 | C7: =C6+B7 -> 57604.391 | D7: =D6+C7 -> 91206.791 | F7: =F6 -> 38238.745 | G7: =G6+F7 -> 68405.799 | H7: =H6+G7 -> 114530.7 | J7: =J6 -> 28562.426 | K7: =K6+J7 -> 65412.089 | L7: =L6+K7 -> 109627.77 | N7: =N6 -> 0 | O7: =O6+N7 -> 0 | P7: =P6+O7 -> 0
A8: Wysokość zrealizowania Miesięcznego Planu Sprzedaży Marża | B8: =B6/B4 -> 0.83756636 | C8: =C6/C4 -> 1.0508472 | D8: =D6/D4 -> 0.75511011 | F8: =F6/F4 -> 1.2874998 | G8: =G6/G4 -> 0.91415314 | H8: =H6/H4 -> 1.2706585 | J8: =J6/J4 -> 1.0578676 | K8: =K6/K4 -> 1.2283221 | L8: =L6/L4 -> 1.3398691 | N8: =N6/N4 -> #DIV/0! | O8: =O6/O4 -> #DIV/0! | P8: =P6/P4 -> #DIV/0!
A9: Wysokość zrealizowania Planu Sprzedaży Marża | B9: =B7/B5 -> 0.83756636 | C9: =C7/C5 -> 0.95213869 | D9: =D7/D5 -> 0.8686361 | F9: =F7/F5 -> 1.2874998 | G9: =G7/G5 -> 1.0910016 | H9: =H7/H5 -> 1.1568758 | J9: =J7/J5 -> 1.0578676 | K9: =K7/K5 -> 1.1475805 | L9: =L7/L5 -> 1.2180863 | N9: =N7/N5 -> #DIV/0! | O9: =O7/O5 -> #DIV/0! | P9: =P7/P5 -> #DIV/0!
A10: Różnica wskaźnika Marża | B10: =B7-B5 -> -4548.1418 | C10: =C7-C5 -> -2895.6092 | D10: =D7-D5 -> -13793.209 | F10: =F7-F5 -> 8538.7455 | G10: =G7-G5 -> 5705.7992 | H10: =H7-H5 -> 15530.703 | J10: =J7-J5 -> 1562.4256 | K10: =K7-K5 -> 8412.0893 | L10: =L7-L5 -> 19627.769 | N10: =N7-N5 -> 0 | O10: =O7-O5 -> 0 | P10: =P7-P5 -> 0
A11: Plan Sprzedaży Obrót | B11: ='Target 2016'!I17-4000 -> 80000 | C11: ='Target 2016'!J17 -> 105000 | D11: ='Target 2016'!K17+4000 -> 130000 | E11: =SUM(B11:D11) -> 315000 | F11: ='Target 2016'!F17 -> 90000 | G11: ='Target 2016'!G17 -> 100000 | H11: ='Target 2016'!H17 -> 110000 | I11: =SUM(F11:H11) -> 300000 | J11: ='Target 2016'!C17 -> 85500 | K11: ='Target 2016'!D17 -> 95000 | L11: ='Target 2016'!E17 -> 104500 | M11: =SUM(J11:L11) -> 285000 | N11: ='Target 2016'!L17 -> 0 | O11: ='Target 2016'!M17 -> 0 | P11: ='Target 2016'!N17 -> 0 | Q11: =SUM(N11:P11) -> 0 | R11: =M11+I11+E11+Q11 -> 900000
A12: Sumaryczny Plan Sprzedaży Obrót | B12: =B11 -> 80000 | C12: =C11+B12 -> 185000 | D12: =D11+C12 -> 315000 | F12: =F11 -> 90000 | G12: =G11+F12 -> 190000 | H12: =H11+G12 -> 300000 | J12: =J11 -> 85500 | K12: =K11+J12 -> 180500 | L12: =L11+K12 -> 285000 | N12: =N11 -> 0 | O12: =O11+N12 -> 0 | P12: =P11+O12 -> 0
A13: Miesięczna realizacja Planu Sprzedaży Obrót | B13: =SUMIF(VII!A:A,$A$1,VII!G:G) -> 64197.07 | C13: =SUMIF(VIII!A:A,$A$1,VIII!G:G) -> 116456.16 | D13: =SUMIF(IX!A:A,$A$1,IX!G:G) -> 95921.37 | E13: =SUM(B13:D13) -> 276574.6 | F13: =SUMIF(IV!A:A,$A$1,IV!G:G) -> 131358.77 | G13: =SUMIF(V!A:A,$A$1,V!G:G) -> 72396.37 | H13: =SUMIF(VI!A:A,$A$1,VI!G:G) -> 134049.56 | I13: =SUM(F13:H13) -> 337804.7 | J13: =SUMIF(I!A:A,$A$1,I!G:G) -> 105563.08 | K13: =SUMIF(II!A:A,$A$1,II!G:G) -> 116177.46 | L13: =SUMIF(III!A:A,$A$1,III!G:G) -> 144515.94 | M13: =SUM(J13:L13) -> 366256.48 | N13: =SUMIF(X!A:A,$A$1,X!G:G) -> 0 | O13: =SUMIF(XI!A:A,$A$1,XI!G:G) -> 0 | P13: =SUMIF(XII!A:A,$A$1,XII!G:G) -> 0 | Q13: =SUM(N13:P13) -> 0 | R13: =M13+I13+E13+Q13 -> 980635.78
A14: Sumaryczna realizacja planu sprzedaży Obrót | B14: =B13 -> 64197.07 | C14: =C13+B14 -> 180653.23 | D14: =D13+C14 -> 276574.6 | F14: =F13 -> 131358.77 | G14: =G13+F14 -> 203755.14 | H14: =H13+G14 -> 337804.7 | J14: =J13 -> 105563.08 | K14: =K13+J14 -> 221740.54 | L14: =L13+K14 -> 366256.48 | N14: =N13 -> 0 | O14: =O13+N14 -> 0 | P14: =P13+O14 -> 0
A15: Wysokość zrealizowania Miesięcznego Planu Sprzedaży Obrót | B15: =B13/B11 -> 0.80246337 | C15: =C13/C11 -> 1.1091063 | D15: =D13/D11 -> 0.73785669 | F15: =F13/F11 -> 1.4595419 | G15: =G13/G11 -> 0.7239637 | H15: =H13/H11 -> 1.2186324 | J15: =J13/J11 -> 1.2346559 | K15: =K13/K11 -> 1.2229206 | L15: =L13/L11 -> 1.3829277 | N15: =N13/N11 -> #DIV/0! | O15: =O13/O11 -> #DIV/0! | P15: =P13/P11 -> #DIV/0!
A16: Wysokość zrealizowania Planu Sprzedaży Obrót | B16: =B14/B12 -> 0.80246337 | C16: =C14/C12 -> 0.97650395 | D16: =D14/D12 -> 0.8780146 | F16: =F14/F12 -> 1.4595419 | G16: =G14/G12 -> 1.0723955 | H16: =H14/H12 -> 1.1260157 | J16: =J14/J12 -> 1.2346559 | K16: =K14/K12 -> 1.2284794 | L16: =L14/L12 -> 1.2851105 | N16: =N14/N12 -> #DIV/0! | O16: =O14/O12 -> #DIV/0! | P16: =P14/P12 -> #DIV/0!
A17: Różnica wskaźnika Obrót | B17: =B14-B12 -> -15802.93 | C17: =C14-C12 -> -4346.77 | D17: =D14-D12 -> -38425.4 | F17: =F14-F12 -> 41358.77 | G17: =G14-G12 -> 13755.14 | H17: =H14-H12 -> 37804.7 | J17: =J14-J12 -> 20063.08 | K17: =K14-K12 -> 41240.54 | L17: =L14-L12 -> 81256.48 | N17: =N14-N12 -> 0 | O17: =O14-O12 -> 0 | P17: =P14-P12 -> 0
A18: Wysokość Marży miesięcznej | B18: =B6/B13 -> 0.36531041 | C18: =C6/C13 -> 0.29326514 | D18: =D6/D13 -> 0.35031193 | F18: =F6/F13 -> 0.29110158 | G18: =G6/G13 -> 0.4166929 | H18: =H6/H13 -> 0.34408844 | J18: =J6/J13 -> 0.27057211 | K18: =K6/K13 -> 0.31718428 | L18: =L6/L13 -> 0.30595711 | N18: =N6/N13 -> #DIV/0! | O18: =O6/O13 -> #DIV/0! | P18: =P6/P13 -> #DIV/0!
A19: Wysokość Marży sumarycznej | B19: =B7/B14 -> 0.36531041 | C19: =C7/C14 -> 0.31886721 | D19: =D7/D14 -> 0.32977284 | F19: =F7/F14 -> 0.29110158 | G19: =G7/G14 -> 0.33572551 | H19: =H7/H14 -> 0.33904414 | J19: =J7/J14 -> 0.27057211 | K19: =K7/K14 -> 0.29499382 | L19: =L7/L14 -> 0.29931967 | N19: =N7/N14 -> #DIV/0! | O19: =O7/O14 -> #DIV/0! | P19: =P7/P14 -> #DIV/0!
J21: PREMIE
A22: Wynagrodzenie zasadnicze | B22: 2800 | C22: 2800 | D22: 2800 | F22: 2800 | G22: 2800 | H22: 2800 | J22: 2430 | K22: 2800 | L22: 2800 | N22: 2800 | O22: 2800 | P22: 2800
A23: Wskaźnik Plan Sprzedaży Marża | B23: =B5 -> 28000 | C23: =C5 -> 60500 | D23: =D5 -> 105000 | F23: =F5 -> 29700 | G23: =G5 -> 62700 | H23: =H5 -> 99000 | J23: =J5 -> 27000 | K23: =K5 -> 57000 | L23: =L5 -> 90000 | N23: =N5 -> 0 | O23: =O5 -> 0 | P23: =P5 -> 0
A24: Realizacja Wskaźnika Planu Sprzedaży Marża | B24: =B7 -> 23451.858 | C24: =C7 -> 57604.391 | D24: =D7 -> 91206.791 | F24: =F7 -> 38238.745 | G24: =G7 -> 68405.799 | H24: =H7 -> 114530.7 | J24: =J7 -> 28562.426 | K24: =K7 -> 65412.089 | L24: =L7 -> 109627.77 | N24: =N7 -> 0 | O24: =O7 -> 0 | P24: =P7 -> 0
A25: Poziom realizacji Wskaźnika Sprzedaży Marża | B25: =B24/B23 -> 0.83756636 | C25: =C24/C23 -> 0.95213869 | D25: =D24/D23 -> 0.8686361 | F25: =F24/F23 -> 1.2874998 | G25: =G24/G23 -> 1.0910016 | H25: =H24/H23 -> 1.1568758 | J25: =J24/J23 -> 1.0578676 | K25: =K24/K23 -> 1.1475805 | L25: =L24/L23 -> 1.2180863 | N25: =N24/N23 -> #DIV/0! | O25: =O24/O23 -> #DIV/0! | P25: =P24/P23 -> #DIV/0!
A26: Wysokość premii Wskaźnik Sprzedaży Marża | B26: =B22*0.2 -> 560 | C26: =C22*0.2 -> 560 | D26: =D22*0.2 -> 560 | F26: =F22*0.2 -> 560 | G26: =G22*0.2 -> 560 | H26: =H22*0.2 -> 560 | J26: =J22*0.2 -> 486 | K26: =K22*0.2 -> 560 | L26: =L22*0.2 -> 560 | N26: =N22*0.2 -> 560 | O26: =O22*0.2 -> 560 | P26: =P22*0.2 -> 560
A27: Mnożnik premii miesięcznej Wskaźnika Sprzedaży Marża | B27: =IF(B25<80%,0,IF(B25<90%,0.5,IF(B25<95%,0.75,1))) -> 0.5 | C27: =IF(C25<80%,0,IF(C25<90%,0.5,IF(C25<95%,0.75,1))) -> 1 | D27: =IF(D25<80%,0,IF(D25<90%,0.5,IF(D25<95%,0.75,1))) -> 0.5 | F27: =IF(F25<80%,0,IF(F25<90%,0.5,IF(F25<95%,0.75,1))) -> 1 | G27: =IF(G25<80%,0,IF(G25<90%,0.5,IF(G25<95%,0.75,1))) -> 1 | H27: =IF(H25<80%,0,IF(H25<90%,0.5,IF(H25<95%,0.75,1))) -> 1 | J27: =IF(J25<80%,0,IF(J25<90%,0.5,IF(J25<95%,0.75,1))) -> 1 | K27: =IF(K25<80%,0,IF(K25<90%,0.5,IF(K25<95%,0.75,1))) -> 1 | L27: =IF(L25<80%,0,IF(L25<90%,0.5,IF(L25<95%,0.75,1))) -> 1 | N27: =IF(N25<80%,0,IF(N25<90%,0.5,IF(N25<95%,0.75,1))) -> #DIV/0! | O27: =IF(O25<80%,0,IF(O25<90%,0.5,IF(O25<95%,0.75,1))) -> #DIV/0! | P27: =IF(P25<80%,0,IF(P25<90%,0.5,IF(P25<95%,0.75,1))) -> #DIV/0!
A28: Premia miesięczna za Wskaźnik Sprzedaży Marża | B28: =B27*B26 -> 280 | C28: =C27*C26 -> 560 | D28: =D27*D26 -> 280 | F28: =F27*F26 -> 560 | G28: =G27*G26 -> 560 | H28: =H27*H26 -> 560 | J28: =J27*J26 -> 486 | K28: =K27*K26 -> 560 | L28: =L27*L26 -> 560 | N28: =N27*N26 -> #DIV/0! | O28: =O27*O26 -> #DIV/0! | P28: =P27*P26 -> #DIV/0!
A29: Wskaźnik Plan Sprzedaży Obrót | B29: =B12 -> 80000 | C29: =C12 -> 185000 | D29: =D12 -> 315000 | F29: =F12 -> 90000 | G29: =G12 -> 190000 | H29: =H12 -> 300000 | J29: =J12 -> 85500 | K29: =K12 -> 180500 | L29: =L12 -> 285000 | N29: =N12 -> 0 | O29: =O12 -> 0 | P29: =P12 -> 0
A30: Realizacja Wskaźnika Planu Sprzedaży Obrót | B30: =B14 -> 64197.07 | C30: =C14 -> 180653.23 | D30: =D14 -> 276574.6 | F30: =F14 -> 131358.77 | G30: =G14 -> 203755.14 | H30: =H14 -> 337804.7 | J30: =J14 -> 105563.08 | K30: =K14 -> 221740.54 | L30: =L14 -> 366256.48 | N30: =N14 -> 0 | O30: =O14 -> 0 | P30: =P14 -> 0
A31: Poziom realizacji Wskaźnika Sprzedaży Obrót | B31: =B30/B29 -> 0.80246337 | C31: =C30/C29 -> 0.97650395 | D31: =D30/D29 -> 0.8780146 | F31: =F30/F29 -> 1.4595419 | G31: =G30/G29 -> 1.0723955 | H31: =H30/H29 -> 1.1260157 | J31: =J30/J29 -> 1.2346559 | K31: =K30/K29 -> 1.2284794 | L31: =L30/L29 -> 1.2851105 | N31: =N30/N29 -> #DIV/0! | O31: =O30/O29 -> #DIV/0! | P31: =P30/P29 -> #DIV/0!
A32: Wysokość premii Wskaźnik Sprzedaży Obrót | B32: =B22*0.2 -> 560 | C32: =C22*0.2 -> 560 | D32: =D22*0.2 -> 560 | F32: =F22*0.2 -> 560 | G32: =G22*0.2 -> 560 | H32: =H22*0.2 -> 560 | J32: =J22*0.2 -> 486 | K32: =K22*0.2 -> 560 | L32: =L22*0.2 -> 560 | N32: =N22*0.2 -> 560 | O32: =O22*0.2 -> 560 | P32: =P22*0.2 -> 560
A33: Mnożnik premii miesięcznej Wskaźnika Sprzedaży Obrót | B33: =IF(B31<80%,0,IF(B31<90%,0.5,IF(B31<95%,0.75,1))) -> 0.5 | C33: =IF(C31<80%,0,IF(C31<90%,0.5,IF(C31<95%,0.75,1))) -> 1 | D33: =IF(D31<80%,0,IF(D31<90%,0.5,IF(D31<95%,0.75,1))) -> 0.5 | F33: =IF(F31<80%,0,IF(F31<90%,0.5,IF(F31<95%,0.75,1))) -> 1 | G33: =IF(G31<80%,0,IF(G31<90%,0.5,IF(G31<95%,0.75,1))) -> 1 | H33: =IF(H31<80%,0,IF(H31<90%,0.5,IF(H31<95%,0.75,1))) -> 1 | J33: =IF(J31<80%,0,IF(J31<90%,0.5,IF(J31<95%,0.75,1))) -> 1 | K33: =IF(K31<80%,0,IF(K31<90%,0.5,IF(K31<95%,0.75,1))) -> 1 | L33: =IF(L31<80%,0,IF(L31<90%,0.5,IF(L31<95%,0.75,1))) -> 1 | N33: =IF(N31<80%,0,IF(N31<90%,0.5,IF(N31<95%,0.75,1))) -> #DIV/0! | O33: =IF(O31<80%,0,IF(O31<90%,0.5,IF(O31<95%,0.75,1))) -> #DIV/0! | P33: =IF(P31<80%,0,IF(P31<90%,0.5,IF(P31<95%,0.75,1))) -> #DIV/0!
A34: Premia miesięczna za Wskaźnik Sprzedaży Obrót | B34: =B33*B32 -> 280 | C34: =C33*C32 -> 560 | D34: =D33*D32 -> 280 | F34: =F33*F32 -> 560 | G34: =G33*G32 -> 560 | H34: =H33*H32 -> 560 | J34: =J33*J32 -> 486 | K34: =K33*K32 -> 560 | L34: =L33*L32 -> 560 | N34: =N33*N32 -> #DIV/0! | O34: =O33*O32 -> #DIV/0! | P34: =P33*P32 -> #DIV/0!
A35: Wskaźnik CRM | B35: 1 | C35: 1 | D35: 1 | F35: 1 | G35: 1 | H35: 1 | J35: 1 | K35: 1 | L35: 1 | N35: 1 | O35: 1 | P35: 1
A36: Wysokość premii CRM | B36: =B22*0.1 -> 280 | C36: =C22*0.1 -> 280 | D36: =D22*0.1 -> 280 | F36: =F22*0.1 -> 280 | G36: =G22*0.1 -> 280 | H36: =H22*0.1 -> 280 | J36: =J22*0.1 -> 243 | K36: =K22*0.1 -> 280 | L36: =L22*0.1 -> 280 | N36: =N22*0.1 -> 280 | O36: =O22*0.1 -> 280 | P36: =P22*0.1 -> 280
A37: Mnożnik premii Wskaźnik CRM | B37: 1 | C37: 1 | F37: 1 | G37: 1 | H37: 1 | J37: 1 | K37: 1 | L37: 1
A38: Premia miesięczna za Wskaźnik CRM | B38: =B37*B36 -> 280 | C38: =C37*C36 -> 280 | D38: =D37*D36 -> 0 | F38: =F37*F36 -> 280 | G38: =G37*G36 -> 280 | H38: =H37*H36 -> 280 | J38: =J37*J36 -> 243 | K38: =K37*K36 -> 280 | L38: =L37*L36 -> 280 | N38: =N37*N36 -> 0 | O38: =O37*O36 -> 0 | P38: =P37*P36 -> 0
A39: Suma Premii miesięcznych | B39: =B34+B28+B38 -> 840 | C39: =C34+C28+C38 -> 1400 | D39: =D34+D28+D38 -> 560 | F39: =F34+F28+F38 -> 1400 | G39: =G34+G28+G38 -> 1400 | H39: =H34+H28+H38 -> 1400 | J39: =J34+J28+J38 -> 1215 | K39: =K34+K28+K38 -> 1400 | L39: =L34+L28+L38 -> 1400 | N39: =N34+N28+N38 -> #DIV/0! | O39: =O34+O28+O38 -> #DIV/0! | P39: =P34+P28+P38 -> #DIV/0!
A40: Wskaźnik Premia Kwartalna Marża | B40: =D5 -> 105000 | F40: =H5 -> 99000 | J40: =L5 -> 90000 | N40: =P5 -> 0
A41: Realizacja Wskaźnika Premia Kwartalna | B41: =D7 -> 91206.791 | F41: =H7 -> 114530.7 | J41: =L7 -> 109627.77 | N41: =P7 -> 0
A42: Poziom realizacji Wskaźnika Premia Kwartalna | B42: =B41/B40 -> 0.8686361 | F42: =F41/F40 -> 1.1568758 | J42: =J41/J40 -> 1.2180863 | N42: =N41/N40 -> #DIV/0!
...

Sheet PIOTR
A1: Piotr Choma | B1: PLAN III KW Piotr Choma | F1: PLAN II KW Piotr Choma | J1: PLAN I KW Piotr Choma | N1: PLAN IV KW Piotr Choma
A2: miesiąc | B2: lipiec | C2: sierpień | D2: wrzesień | E2: KW III | F2: kwiecień | G2: maj | H2: czerwiec | I2: KW II | J2: styczeń | K2: luty | L2: marzec | M2: KW I | N2: październik | O2: listopad | P2: grudzień | Q2: KW IV | R2: suma ROK
A4: Plan Sprzedaży Marża | B4: ='Target 2016'!I8 -> 40000 | C4: ='Target 2016'!J8 -> 50000 | D4: ='Target 2016'!K8 -> 60000 | E4: =SUM(B4:D4) -> 150000 | F4: ='Target 2016'!F8 -> 49500 | G4: ='Target 2016'!G8 -> 55000 | H4: ='Target 2016'!H8 -> 60500 | I4: =SUM(F4:H4) -> 165000 | J4: ='Target 2016'!C8 -> 45000 | K4: ='Target 2016'!D8 -> 50000 | L4: ='Target 2016'!E8 -> 55000 | M4: =SUM(J4:L4) -> 150000 | N4: ='Target 2016'!L8 -> 0 | O4: ='Target 2016'!M8 -> 0 | P4: ='Target 2016'!N8 -> 0 | Q4: =SUM(N4:P4) -> 0 | R4: =M4+I4+E4+Q4 -> 465000
A5: Sumaryczny Plan Sprzedaży Marża | B5: =B4 -> 40000 | C5: =C4+B5 -> 90000 | D5: =D4+C5 -> 150000 | F5: =F4 -> 49500 | G5: =G4+F5 -> 104500 | H5: =H4+G5 -> 165000 | J5: =J4 -> 45000 | K5: =K4+J5 -> 95000 | L5: =L4+K5 -> 150000 | N5: =N4 -> 0 | O5: =O4+N5 -> 0 | P5: =P4+O5 -> 0
A6: Miesięczna realizacja Planu Sprzedaży Marża | B6: =SUMIF(VII!A:A,$A$1,VII!I:I) -> 33404.013 | C6: =SUMIF(VIII!A:A,$A$1,VIII!I:I) -> 31896.875 | D6: =SUMIF(IX!A:A,$A$1,IX!I:I) -> 30502.93 | E6: =SUM(B6:D6) -> 95803.819 | F6: =SUMIF(IV!A:A,$A$1,IV!I:I) -> 62951.596 | G6: =SUMIF(V!A:A,$A$1,V!I:I) -> 38733.827 | H6: =SUMIF(VI!A:A,$A$1,VI!I:I) -> 48341.149 | I6: =SUM(F6:H6) -> 150026.57 | J6: =SUMIF(I!A:A,$A$1,I!I:I) -> 55676.273 | K6: =SUMIF(II!A:A,$A$1,II!I:I) -> 74124.188 | L6: =SUMIF(III!A:A,$A$1,III!I:I) -> 60442.576 | M6: =SUM(J6:L6) -> 190243.04 | N6: =SUMIF(X!A:A,$A$1,X!I:I) -> 0 | O6: =SUMIF(XI!A:A,$A$1,XI!I:I) -> 0 | P6: =SUMIF(XII!A:A,$A$1,XII!I:I) -> 0 | Q6: =SUM(N6:P6) -> 0 | R6: =M6+I6+E6+Q6 -> 436073.43
A7: Sumaryczna realizacja planu sprzedaży Marża | B7: =B6 -> 33404.013 | C7: =C6+B7 -> 65300.889 | D7: =D6+C7 -> 95803.819 | F7: =F6 -> 62951.596 | G7: =G6+F7 -> 101685.42 | H7: =H6+G7 -> 150026.57 | J7: =J6 -> 55676.273 | K7: =K6+J7 -> 129800.46 | L7: =L6+K7 -> 190243.04 | N7: =N6 -> 0 | O7: =O6+N7 -> 0 | P7: =P6+O7 -> 0
A8: Wysokość zrealizowania Miesięcznego Planu Sprzedaży Marża | B8: =B6/B4 -> 0.83510033 | C8: =C6/C4 -> 0.63793751 | D8: =D6/D4 -> 0.50838217 | F8: =F6/F4 -> 1.2717494 | G8: =G6/G4 -> 0.7042514 | H8: =H6/H4 -> 0.79902726 | J8: =J6/J4 -> 1.2372505 | K8: =K6/K4 -> 1.4824838 | L8: =L6/L4 -> 1.0989559 | N8: =N6/N4 -> #DIV/0! | O8: =O6/O4 -> #DIV/0! | P8: =P6/P4 -> #DIV/0!
A9: Wysokość zrealizowania Planu Sprzedaży Marża | B9: =B7/B5 -> 0.83510033 | C9: =C7/C5 -> 0.72556543 | D9: =D7/D5 -> 0.63869213 | F9: =F7/F5 -> 1.2717494 | G9: =G7/G5 -> 0.97306624 | H9: =H7/H5 -> 0.90925195 | J9: =J7/J5 -> 1.2372505 | K9: =K7/K5 -> 1.3663206 | L9: =L7/L5 -> 1.2682869 | N9: =N7/N5 -> #DIV/0! | O9: =O7/O5 -> #DIV/0! | P9: =P7/P5 -> #DIV/0!
A10: Różnica wskaźnika Marża | B10: =B7-B5 -> -6595.9867 | C10: =C7-C5 -> -24699.111 | D10: =D7-D5 -> -54196.181 | F10: =F7-F5 -> 13451.596 | G10: =G7-G5 -> -2814.5776 | H10: =H7-H5 -> -14973.428 | J10: =J7-J5 -> 10676.273 | K10: =K7-K5 -> 34800.46 | L10: =L7-L5 -> 40243.036 | N10: =N7-N5 -> 0 | O10: =O7-O5 -> 0 | P10: =P7-P5 -> 0
A11: Plan Sprzedaży Obrót | B11: ='Target 2016'!I18 -> 120000 | C11: ='Target 2016'!J18 -> 150000 | D11: ='Target 2016'!K18 -> 180000 | E11: =SUM(B11:D11) -> 450000 | F11: ='Target 2016'!F18 -> 144000 | G11: ='Target 2016'!G18 -> 160000 | H11: ='Target 2016'!H18 -> 176000 | I11: =SUM(F11:H11) -> 480000 | J11: ='Target 2016'!C18 -> 126000 | K11: ='Target 2016'!D18 -> 140000 | L11: ='Target 2016'!E18 -> 154000 | M11: =SUM(J11:L11) -> 420000 | N11: ='Target 2016'!L18 -> 0 | O11: ='Target 2016'!M18 -> 0 | P11: ='Target 2016'!N18 -> 0 | Q11: =SUM(N11:P11) -> 0 | R11: =M11+I11+E11+Q11 -> 1350000
A12: Sumaryczny Plan Sprzedaży Obrót | B12: =B11 -> 120000 | C12: =C11+B12 -> 270000 | D12: =D11+C12 -> 450000 | F12: =F11 -> 144000 | G12: =G11+F12 -> 304000 | H12: =H11+G12 -> 480000 | J12: =J11 -> 126000 | K12: =K11+J12 -> 266000 | L12: =L11+K12 -> 420000 | N12: =N11 -> 0 | O12: =O11+N12 -> 0 | P12: =P11+O12 -> 0
A13: Miesięczna realizacja Planu Sprzedaży Obrót | B13: =SUMIF(VII!A:A,$A$1,VII!G:G) -> 117762.13 | C13: =SUMIF(VIII!A:A,$A$1,VIII!G:G) -> 131032.59 | D13: =SUMIF(IX!A:A,$A$1,IX!G:G) -> 115509.02 | E13: =SUM(B13:D13) -> 364303.74 | F13: =SUMIF(IV!A:A,$A$1,IV!G:G) -> 181602.76 | G13: =SUMIF(V!A:A,$A$1,V!G:G) -> 120403.24 | H13: =SUMIF(VI!A:A,$A$1,VI!G:G) -> 189306.76 | I13: =SUM(F13:H13) -> 491312.76 | J13: =SUMIF(I!A:A,$A$1,I!G:G) -> 154514.29 | K13: =SUMIF(II!A:A,$A$1,II!G:G) -> 204506.79 | L13: =SUMIF(III!A:A,$A$1,III!G:G) -> 180282.54 | M13: =SUM(J13:L13) -> 539303.62 | N13: =SUMIF(X!A:A,$A$1,X!G:G) -> 0 | O13: =SUMIF(XI!A:A,$A$1,XI!G:G) -> 0 | P13: =SUMIF(XII!A:A,$A$1,XII!G:G) -> 0 | Q13: =SUM(N13:P13) -> 0 | R13: =M13+I13+E13+Q13 -> 1394920.1
A14: Sumaryczna realizacja planu sprzedaży Obrót | B14: =B13 -> 117762.13 | C14: =C13+B14 -> 248794.72 | D14: =D13+C14 -> 364303.74 | F14: =F13 -> 181602.76 | G14: =G13+F14 -> 302006 | H14: =H13+G14 -> 491312.76 | J14: =J13 -> 154514.29 | K14: =K13+J14 -> 359021.08 | L14: =L13+K14 -> 539303.62 | N14: =N13 -> 0 | O14: =O13+N14 -> 0 | P14: =P13+O14 -> 0
A15: Wysokość zrealizowania Miesięcznego Planu Sprzedaży Obrót | B15: =B13/B11 -> 0.98135108 | C15: =C13/C11 -> 0.8735506 | D15: =D13/D11 -> 0.64171678 | F15: =F13/F11 -> 1.2611303 | G15: =G13/G11 -> 0.75252025 | H15: =H13/H11 -> 1.0756066 | J15: =J13/J11 -> 1.2263039 | K15: =K13/K11 -> 1.4607628 | L15: =L13/L11 -> 1.1706658 | N15: =N13/N11 -> #DIV/0! | O15: =O13/O11 -> #DIV/0! | P15: =P13/P11 -> #DIV/0!
A16: Wysokość zrealizowania Planu Sprzedaży Obrót | B16: =B14/B12 -> 0.98135108 | C16: =C14/C12 -> 0.92146193 | D16: =D14/D12 -> 0.80956387 | F16: =F14/F12 -> 1.2611303 | G16: =G14/G12 -> 0.99344079 | H16: =H14/H12 -> 1.0235683 | J16: =J14/J12 -> 1.2263039 | K16: =K14/K12 -> 1.3497033 | L16: =L14/L12 -> 1.2840562 | N16: =N14/N12 -> #DIV/0! | O16: =O14/O12 -> #DIV/0! | P16: =P14/P12 -> #DIV/0!
A17: Różnica wskaźnika Obrót | B17: =B14-B12 -> -2237.87 | C17: =C14-C12 -> -21205.28 | D17: =D14-D12 -> -85696.26 | F17: =F14-F12 -> 37602.76 | G17: =G14-G12 -> -1994 | H17: =H14-H12 -> 11312.76 | J17: =J14-J12 -> 28514.29 | K17: =K14-K12 -> 93021.08 | L17: =L14-L12 -> 119303.62 | N17: =N14-N12 -> 0 | O17: =O14-O12 -> 0 | P17: =P14-P12 -> 0
A18: Wysokość Marży miesięcznej | B18: =B6/B13 -> 0.28365667 | C18: =C6/C13 -> 0.24342704 | D18: =D6/D13 -> 0.26407401 | F18: =F6/F13 -> 0.34664449 | G18: =G6/G13 -> 0.32170087 | H18: =H6/H13 -> 0.25535881 | J18: =J6/J13 -> 0.3603309 | K18: =K6/K13 -> 0.36245343 | L18: =L6/L13 -> 0.33526583 | N18: =N6/N13 -> #DIV/0! | O18: =O6/O13 -> #DIV/0! | P18: =P6/P13 -> #DIV/0!
A19: Wysokość Marży sumarycznej | B19: =B7/B14 -> 0.28365667 | C19: =C7/C14 -> 0.26246895 | D19: =D7/D14 -> 0.26297786 | F19: =F7/F14 -> 0.34664449 | G19: =G7/G14 -> 0.33670001 | H19: =H7/H14 -> 0.30535859 | J19: =J7/J14 -> 0.3603309 | K19: =K7/K14 -> 0.36153994 | L19: =L7/L14 -> 0.35275683 | N19: =N7/N14 -> #DIV/0! | O19: =O7/O14 -> #DIV/0! | P19: =P7/P14 -> #DIV/0!
J21: PREMIE
A22: Wynagrodzenie zasadnicze | B22: 4160 | C22: 4160 | D22: 4160 | F22: 4160 | G22: 4160 | H22: 4160 | J22: 3960 | K22: 4160 | L22: 4160 | N22: 4160 | O22: 4160 | P22: 4160
A23: Wskaźnik Plan Sprzedaży Marża | B23: =B5 -> 40000 | C23: =C5 -> 90000 | D23: =D5 -> 150000 | F23: =F5 -> 49500 | G23: =G5 -> 104500 | H23: =H5 -> 165000 | J23: =J5 -> 45000 | K23: =K5 -> 95000 | L23: =L5 -> 150000 | N23: =N5 -> 0 | O23: =O5 -> 0 | P23: =P5 -> 0
A24: Realizacja Wskaźnika Planu Sprzedaży Marża | B24: =B7 -> 33404.013 | C24: =C7 -> 65300.889 | D24: =D7 -> 95803.819 | F24: =F7 -> 62951.596 | G24: =G7 -> 101685.42 | H24: =H7 -> 150026.57 | J24: =J7 -> 55676.273 | K24: =K7 -> 129800.46 | L24: =L7 -> 190243.04 | N24: =N7 -> 0 | O24: =O7 -> 0 | P24: =P7 -> 0
A25: Poziom realizacji Wskaźnika Sprzedaży Marża | B25: =B24/B23 -> 0.83510033 | C25: =C24/C23 -> 0.72556543 | D25: =D24/D23 -> 0.63869213 | F25: =F24/F23 -> 1.2717494 | G25: =G24/G23 -> 0.97306624 | H25: =H24/H23 -> 0.90925195 | J25: =J24/J23 -> 1.2372505 | K25: =K24/K23 -> 1.3663206 | L25: =L24/L23 -> 1.2682869 | N25: =N24/N23 -> #DIV/0! | O25: =O24/O23 -> #DIV/0! | P25: =P24/P23 -> #DIV/0!
A26: Wysokość premii Wskaźnik Sprzedaży Marża | B26: =B22*0.2 -> 832 | C26: =C22*0.2 -> 832 | D26: =D22*0.2 -> 832 | F26: =F22*0.2 -> 832 | G26: =G22*0.2 -> 832 | H26: =H22*0.2 -> 832 | J26: =J22*0.2 -> 792 | K26: =K22*0.2 -> 832 | L26: =L22*0.2 -> 832 | N26: =N22*0.2 -> 832 | O26: =O22*0.2 -> 832 | P26: =P22*0.2 -> 832
A27: Mnożnik premii miesięcznej Wskaźnika Sprzedaży Marża | B27: =IF(B25<80%,0,IF(B25<90%,0.5,IF(B25<95%,0.75,1))) -> 0.5 | C27: =IF(C25<80%,0,IF(C25<90%,0.5,IF(C25<95%,0.75,1))) -> 0 | D27: =IF(D25<80%,0,IF(D25<90%,0.5,IF(D25<95%,0.75,1))) -> 0 | F27: =IF(F25<80%,0,IF(F25<90%,0.5,IF(F25<95%,0.75,1))) -> 1 | G27: =IF(G25<80%,0,IF(G25<90%,0.5,IF(G25<95%,0.75,1))) -> 1 | H27: =IF(H25<80%,0,IF(H25<90%,0.5,IF(H25<95%,0.75,1))) -> 0.75 | J27: =IF(J25<80%,0,IF(J25<90%,0.5,IF(J25<95%,0.75,1))) -> 1 | K27: =IF(K25<80%,0,IF(K25<90%,0.5,IF(K25<95%,0.75,1))) -> 1 | L27: =IF(L25<80%,0,IF(L25<90%,0.5,IF(L25<95%,0.75,1))) -> 1 | N27: =IF(N25<80%,0,IF(N25<90%,0.5,IF(N25<95%,0.75,1))) -> #DIV/0! | O27: =IF(O25<80%,0,IF(O25<90%,0.5,IF(O25<95%,0.75,1))) -> #DIV/0! | P27: =IF(P25<80%,0,IF(P25<90%,0.5,IF(P25<95%,0.75,1))) -> #DIV/0!
