Workbook

Sheet TOMEK
A1: Tomasz Sypień | B1: PLAN IV KW Tomasz Sypień | F1: PLAN III KW Tomasz Sypień | J1: PLAN II KW Tomasz Sypień | N1: PLAN I KW Tomasz Sypień
A2: miesiąc | B2: październik | C2: listopad | D2: grudzień | E2: KW IV | F2: lipiec | G2: sierpień | H2: wrzesień | I2: KW III | J2: kwiecień | K2: maj | L2: czerwiec | M2: KW II | N2: styczeń | O2: luty | P2: marzec | Q2: KW I | R2: suma ROK
A4: Plan Sprzedaży Marża | B4: ='Target 2017'!L3 -> 39000 | C4: ='Target 2017'!M3 -> 45500 | D4: ='Target 2017'!N3 -> 45500 | E4: =SUM(B4:D4) -> 130000 | F4: ='Target 2017'!I3 -> 36833.333 | G4: ='Target 2017'!J3 -> 43333.333 | H4: ='Target 2017'!K3 -> 49833.333 | I4: =SUM(F4:H4) -> 130000 | J4: ='Target 2017'!F3 -> 39100 | K4: ='Target 2017'!G3 -> 46000 | L4: ='Target 2017'!H3 -> 52900 | M4: =SUM(J4:L4) -> 138000 | N4: ='Target 2017'!C3 -> 36833.333 | O4: ='Target 2017'!D3 -> 43333.333 | P4: ='Target 2017'!E3 -> 49833.333 | Q4: =SUM(N4:P4) -> 130000 | R4: =Q4+M4+I4+E4 -> 528000
A5: Sumaryczny Plan Sprzedaży Marża | B5: =B4 -> 39000 | C5: =C4+B5 -> 84500 | D5: =D4+C5 -> 130000 | F5: =F4 -> 36833.333 | G5: =G4+F5 -> 80166.667 | H5: =H4+G5 -> 130000 | J5: =J4 -> 39100 | K5: =K4+J5 -> 85100 | L5: =L4+K5 -> 138000 | N5: =N4 -> 36833.333 | O5: =O4+N5 -> 80166.667 | P5: =P4+O5 -> 130000
A6: Miesięczna realizacja Planu Sprzedaży Marża | B6: =SUMIF(X!A:A,$A$1,X!I:I) -> 47657.547 | C6: =SUMIF(XI!A:A,$A$1,XI!I:I) -> 45487.109 | D6: =SUMIF(XII!A:A,$A$1,XII!I:I) -> 44107.023 | E6: =SUM(B6:D6) -> 137251.68 | F6: =SUMIF(VII!A:A,$A$1,VII!I:I) -> 51417.784 | G6: =SUMIF(VIII!A:A,$A$1,VIII!I:I) -> 44786.774 | H6: =SUMIF(IX!A:A,$A$1,IX!I:I) -> 49522.635 | I6: =SUM(F6:H6) -> 145727.19 | J6: =SUMIF(IV!A:A,$A$1,IV!I:I) -> 51582.647 | K6: =SUMIF(V!A:A,$A$1,V!I:I) -> 38971.372 | L6: =SUMIF(VI!A:A,$A$1,VI!I:I) -> 48776.893 | M6: =SUM(J6:L6) -> 139330.91 | N6: =SUMIF(I!A:A,$A$1,I!I:I) -> 38983.602 | O6: =SUMIF(II!A:A,$A$1,II!I:I) -> 45058.723 | P6: =SUMIF(III!A:A,$A$1,III!I:I) -> 49608.568 | Q6: =SUM(N6:P6) -> 133650.89 | R6: =Q6+M6+I6+E6 -> 555960.67
A7: Sumaryczna realizacja planu sprzedaży Marża | B7: =B6 -> 47657.547 | C7: =C6+B7 -> 93144.656 | D7: =D6+C7 -> 137251.68 | F7: =F6 -> 51417.784 | G7: =G6+F7 -> 96204.557 | H7: =H6+G7 -> 145727.19 | J7: =J6 -> 51582.647 | K7: =K6+J7 -> 90554.018 | L7: =L6+K7 -> 139330.91 | N7: =N6 -> 38983.602 | O7: =O6+N7 -> 84042.324 | P7: =P6+O7 -> 133650.89
A8: Wysokość zrealizowania Miesięcznego Planu Sprzedaży Marża | B8: =B6/B4 -> 1.2219884 | C8: =C6/C4 -> 0.99971668 | D8: =D6/D4 -> 0.96938513 | F8: =F6/F4 -> 1.3959579 | G8: =G6/G4 -> 1.0335409 | H8: =H6/H4 -> 0.99376524 | J8: =J6/J4 -> 1.3192493 | K8: =K6/K4 -> 0.84720373 | L8: =L6/L4 -> 0.92205847 | N8: =N6/N4 -> 1.0583783 | O8: =O6/O4 -> 1.0398167 | P8: =P6/P4 -> 0.99548967
A9: Wysokość zrealizowania Planu Sprzedaży Marża | B9: =B7/B5 -> 1.2219884 | C9: =C7/C5 -> 1.1023036 | D9: =D7/D5 -> 1.0557821 | F9: =F7/F5 -> 1.3959579 | G9: =G7/G5 -> 1.2000568 | H9: =H7/H5 -> 1.1209784 | J9: =J7/J5 -> 1.3192493 | K9: =K7/K5 -> 1.0640895 | L9: =L7/L5 -> 1.0096443 | N9: =N7/N5 -> 1.0583783 | O9: =O7/O5 -> 1.048345 | P9: =P7/P5 -> 1.0280838
A10: Różnica wskaźnika Marża | B10: =B7-B5 -> 8657.5468 | C10: =C7-C5 -> 8644.6557 | D10: =D7-D5 -> 7251.6791 | F10: =F7-F5 -> 14584.451 | G10: =G7-G5 -> 16037.891 | H10: =H7-H5 -> 15727.192 | J10: =J7-J5 -> 12482.647 | K10: =K7-K5 -> 5454.0181 | L10: =L7-L5 -> 1330.911 | N10: =N7-N5 -> 2150.2683 | O10: =O7-O5 -> 3875.6574 | P10: =P7-P5 -> 3650.8925
A11: Plan Sprzedaży Obrót | B11: ='Target 2017'!L13 -> 90000 | C11: ='Target 2017'!M13 -> 105000 | D11: ='Target 2017'!N13 -> 105000 | E11: =SUM(B11:D11) -> 300000 | F11: ='Target 2017'!I13 -> 80750 | G11: ='Target 2017'!J13 -> 95000 | H11: ='Target 2017'!K13 -> 109250 | I11: =SUM(F11:H11) -> 285000 | J11: ='Target 2017'!F13 -> 85000 | K11: ='Target 2017'!G13 -> 100000 | L11: ='Target 2017'!H13 -> 115000 | M11: =SUM(J11:L11) -> 300000 | N11: ='Target 2017'!C13 -> 79333.333 | O11: ='Target 2017'!D13 -> 93333.333 | P11: ='Target 2017'!E13 -> 107333.33 | Q11: =SUM(N11:P11) -> 280000 | R11: =Q11+M11+I11+E11 -> 1165000
A12: Sumaryczny Plan Sprzedaży Obrót | B12: =B11 -> 90000 | C12: =C11+B12 -> 195000 | D12: =D11+C12 -> 300000 | F12: =F11 -> 80750 | G12: =G11+F12 -> 175750 | H12: =H11+G12 -> 285000 | J12: =J11 -> 85000 | K12: =K11+J12 -> 185000 | L12: =L11+K12 -> 300000 | N12: =N11 -> 79333.333 | O12: =O11+N12 -> 172666.67 | P12: =P11+O12 -> 280000
A13: Miesięczna realizacja Planu Sprzedaży Obrót | B13: =SUMIF(X!A:A,$A$1,X!G:G) -> 120282.94 | C13: =SUMIF(XI!A:A,$A$1,XI!G:G) -> 100983.87 | D13: =SUMIF(XII!A:A,$A$1,XII!G:G) -> 114545.89 | E13: =SUM(B13:D13) -> 335812.7 | F13: =SUMIF(VII!A:A,$A$1,VII!G:G) -> 121453.12 | G13: =SUMIF(VIII!A:A,$A$1,VIII!G:G) -> 100373.63 | H13: =SUMIF(IX!A:A,$A$1,IX!G:G) -> 113018.48 | I13: =SUM(F13:H13) -> 334845.23 | J13: =SUMIF(IV!A:A,$A$1,IV!G:G) -> 138154.85 | K13: =SUMIF(V!A:A,$A$1,V!G:G) -> 84834.31 | L13: =SUMIF(VI!A:A,$A$1,VI!G:G) -> 114963.77 | M13: =SUM(J13:L13) -> 337952.93 | N13: =SUMIF(I!A:A,$A$1,I!G:G) -> 92816.9 | O13: =SUMIF(II!A:A,$A$1,II!G:G) -> 112235.87 | P13: =SUMIF(III!A:A,$A$1,III!G:G) -> 109614.17 | Q13: =SUM(N13:P13) -> 314666.94 | R13: =Q13+M13+I13+E13 -> 1323277.8
A14: Sumaryczna realizacja planu sprzedaży Obrót | B14: =B13 -> 120282.94 | C14: =C13+B14 -> 221266.81 | D14: =D13+C14 -> 335812.7 | F14: =F13 -> 121453.12 | G14: =G13+F14 -> 221826.75 | H14: =H13+G14 -> 334845.23 | J14: =J13 -> 138154.85 | K14: =K13+J14 -> 222989.16 | L14: =L13+K14 -> 337952.93 | N14: =N13 -> 92816.9 | O14: =O13+N14 -> 205052.77 | P14: =P13+O14 -> 314666.94
A15: Wysokość zrealizowania Miesięcznego Planu Sprzedaży Obrót | B15: =B13/B11 -> 1.3364771 | C15: =C13/C11 -> 0.96175114 | D15: =D13/D11 -> 1.0909132 | F15: =F13/F11 -> 1.5040634 | G15: =G13/G11 -> 1.0565645 | H15: =H13/H11 -> 1.0344941 | J15: =J13/J11 -> 1.6253512 | K15: =K13/K11 -> 0.8483431 | L15: =L13/L11 -> 0.99968496 | N15: =N13/N11 -> 1.1699609 | O15: =O13/O11 -> 1.2025272 | P15: =P13/P11 -> 1.02125
A16: Wysokość zrealizowania Planu Sprzedaży Obrót | B16: =B14/B12 -> 1.3364771 | C16: =C14/C12 -> 1.1347016 | D16: =D14/D12 -> 1.1193757 | F16: =F14/F12 -> 1.5040634 | G16: =G14/G12 -> 1.2621721 | H16: =H14/H12 -> 1.1748955 | J16: =J14/J12 -> 1.6253512 | K16: =K14/K12 -> 1.2053468 | L16: =L14/L12 -> 1.1265098 | N16: =N14/N12 -> 1.1699609 | O16: =O14/O12 -> 1.1875643 | P16: =P14/P12 -> 1.1238105
A17: Różnica wskaźnika Obrót | B17: =B14-B12 -> 30282.94 | C17: =C14-C12 -> 26266.81 | D17: =D14-D12 -> 35812.701 | F17: =F14-F12 -> 40703.12 | G17: =G14-G12 -> 46076.75 | H17: =H14-H12 -> 49845.23 | J17: =J14-J12 -> 53154.85 | K17: =K14-K12 -> 37989.16 | L17: =L14-L12 -> 37952.93 | N17: =N14-N12 -> 13483.567 | O17: =O14-O12 -> 32386.103 | P17: =P14-P12 -> 34666.94
A18: Wysokość Marży miesięcznej | B18: =B6/B13 -> 0.39621202 | C18: =C6/C13 -> 0.45043935 | D18: =D6/D13 -> 0.38505985 | F18: =F6/F13 -> 0.42335499 | G18: =G6/G13 -> 0.4462006 | H18: =H6/H13 -> 0.43818174 | J18: =J6/J13 -> 0.37336834 | K18: =K6/K13 -> 0.4593822 | L18: =L6/L13 -> 0.42428056 | N18: =N6/N13 -> 0.42000543 | O18: =O6/O13 -> 0.40146455 | P18: =P6/P13 -> 0.45257441
A19: Wysokość Marży sumarycznej | B19: =B7/B14 -> 0.39621202 | C19: =C7/C14 -> 0.42096081 | D19: =D7/D14 -> 0.40871497 | F19: =F7/F14 -> 0.42335499 | G19: =G7/G14 -> 0.43369232 | H19: =H7/H14 -> 0.43520761 | J19: =J7/J14 -> 0.37336834 | K19: =K7/K14 -> 0.40609157 | L19: =L7/L14 -> 0.41227904 | N19: =N7/N14 -> 0.42000543 | O19: =O7/O14 -> 0.40985705 | P19: =P7/P14 -> 0.42473764
A21: PREMIE
A22: Wynagrodzenie zasadnicze | B22: 3300 | C22: 3300 | D22: 3300 | F22: 3300 | G22: 3300 | H22: 3300 | J22: 3300 | K22: 3300 | L22: 3300 | N22: 2800 | O22: 3300 | P22: 3300
A23: Wskaźnik Plan Sprzedaży Marża | B23: =B5 -> 39000 | C23: =C5 -> 84500 | D23: =D5 -> 130000 | F23: =F5 -> 36833.333 | G23: =G5 -> 80166.667 | H23: =H5 -> 130000 | J23: =J5 -> 39100 | K23: =K5 -> 85100 | L23: =L5 -> 138000 | N23: =N5 -> 36833.333 | O23: =O5 -> 80166.667 | P23: =P5 -> 130000
A24: Realizacja Wskaźnika Planu Sprzedaży Marża | B24: =B7 -> 47657.547 | C24: =C7 -> 93144.656 | D24: =D7 -> 137251.68 | F24: =F7 -> 51417.784 | G24: =G7 -> 96204.557 | H24: =H7 -> 145727.19 | J24: =J7 -> 51582.647 | K24: =K7 -> 90554.018 | L24: =L7 -> 139330.91 | N24: =N7 -> 38983.602 | O24: =O7 -> 84042.324 | P24: =P7 -> 133650.89
A25: Poziom realizacji Wskaźnika Sprzedaży Marża | B25: =B24/B23 -> 1.2219884 | C25: =C24/C23 -> 1.1023036 | D25: =D24/D23 -> 1.0557821 | F25: =F24/F23 -> 1.3959579 | G25: =G24/G23 -> 1.2000568 | H25: =H24/H23 -> 1.1209784 | J25: =J24/J23 -> 1.3192493 | K25: =K24/K23 -> 1.0640895 | L25: =L24/L23 -> 1.0096443 | N25: =N24/N23 -> 1.0583783 | O25: =O24/O23 -> 1.048345 | P25: =P24/P23 -> 1.0280838
A26: Wysokość premii Wskaźnik Sprzedaży Marża | B26: =B22*0.2 -> 660 | C26: =C22*0.2 -> 660 | D26: =D22*0.2 -> 660 | F26: =F22*0.2 -> 660 | G26: =G22*0.2 -> 660 | H26: =H22*0.2 -> 660 | J26: =J22*0.2 -> 660 | K26: =K22*0.2 -> 660 | L26: =L22*0.2 -> 660 | N26: =N22*0.2 -> 560 | O26: =O22*0.2 -> 660 | P26: =P22*0.2 -> 660
A27: Mnożnik premii miesięcznej Wskaźnika Sprzedaży Marża | B27: =IF(B25<80%,0,IF(B25<90%,0.5,IF(B25<95%,0.75,1))) -> 1 | C27: =IF(C25<80%,0,IF(C25<90%,0.5,IF(C25<95%,0.75,1))) -> 1 | D27: =IF(D25<80%,0,IF(D25<90%,0.5,IF(D25<95%,0.75,1))) -> 1 | F27: =IF(F25<80%,0,IF(F25<90%,0.5,IF(F25<95%,0.75,1))) -> 1 | G27: =IF(G25<80%,0,IF(G25<90%,0.5,IF(G25<95%,0.75,1))) -> 1 | H27: =IF(H25<80%,0,IF(H25<90%,0.5,IF(H25<95%,0.75,1))) -> 1 | J27: =IF(J25<80%,0,IF(J25<90%,0.5,IF(J25<95%,0.75,1))) -> 1 | K27: =IF(K25<80%,0,IF(K25<90%,0.5,IF(K25<95%,0.75,1))) -> 1 | L27: =IF(L25<80%,0,IF(L25<90%,0.5,IF(L25<95%,0.75,1))) -> 1 | N27: =IF(N25<80%,0,IF(N25<90%,0.5,IF(N25<95%,0.75,1))) -> 1 | O27: =IF(O25<80%,0,IF(O25<90%,0.5,IF(O25<95%,0.75,1))) -> 1 | P27: =IF(P25<80%,0,IF(P25<90%,0.5,IF(P25<95%,0.75,1))) -> 1
A28: Premia miesięczna za Wskaźnik Sprzedaży Marża | B28: =B27*B26 -> 660 | C28: =C27*C26 -> 660 | D28: =D27*D26 -> 660 | F28: =F27*F26 -> 660 | G28: =G27*G26 -> 660 | H28: =H27*H26 -> 660 | J28: =J27*J26 -> 660 | K28: =K27*K26 -> 660 | L28: =L27*L26 -> 660 | N28: =N27*N26 -> 560 | O28: =O27*O26 -> 660 | P28: =P27*P26 -> 660
A29: Wskaźnik Plan Sprzedaży Obrót | B29: =B12 -> 90000 | C29: =C12 -> 195000 | D29: =D12 -> 300000 | F29: =F12 -> 80750 | G29: =G12 -> 175750 | H29: =H12 -> 285000 | J29: =J12 -> 85000 | K29: =K12 -> 185000 | L29: =L12 -> 300000 | N29: =N12 -> 79333.333 | O29: =O12 -> 172666.67 | P29: =P12 -> 280000
A30: Realizacja Wskaźnika Planu Sprzedaży Obrót | B30: =B14 -> 120282.94 | C30: =C14 -> 221266.81 | D30: =D14 -> 335812.7 | F30: =F14 -> 121453.12 | G30: =G14 -> 221826.75 | H30: =H14 -> 334845.23 | J30: =J14 -> 138154.85 | K30: =K14 -> 222989.16 | L30: =L14 -> 337952.93 | N30: =N14 -> 92816.9 | O30: =O14 -> 205052.77 | P30: =P14 -> 314666.94
A31: Poziom realizacji Wskaźnika Sprzedaży Obrót | B31: =B30/B29 -> 1.3364771 | C31: =C30/C29 -> 1.1347016 | D31: =D30/D29 -> 1.1193757 | F31: =F30/F29 -> 1.5040634 | G31: =G30/G29 -> 1.2621721 | H31: =H30/H29 -> 1.1748955 | J31: =J30/J29 -> 1.6253512 | K31: =K30/K29 -> 1.2053468 | L31: =L30/L29 -> 1.1265098 | N31: =N30/N29 -> 1.1699609 | O31: =O30/O29 -> 1.1875643 | P31: =P30/P29 -> 1.1238105
A32: Wysokość premii Wskaźnik Sprzedaży Obrót | B32: =B22*0.2 -> 660 | C32: =C22*0.2 -> 660 | D32: =D22*0.2 -> 660 | F32: =F22*0.2 -> 660 | G32: =G22*0.2 -> 660 | H32: =H22*0.2 -> 660 | J32: =J22*0.2 -> 660 | K32: =K22*0.2 -> 660 | L32: =L22*0.2 -> 660 | N32: =N22*0.2 -> 560 | O32: =O22*0.2 -> 660 | P32: =P22*0.2 -> 660
A33: Mnożnik premii miesięcznej Wskaźnika Sprzedaży Obrót | B33: =IF(B31<80%,0,IF(B31<90%,0.5,IF(B31<95%,0.75,1))) -> 1 | C33: =IF(C31<80%,0,IF(C31<90%,0.5,IF(C31<95%,0.75,1))) -> 1 | D33: =IF(D31<80%,0,IF(D31<90%,0.5,IF(D31<95%,0.75,1))) -> 1 | F33: =IF(F31<80%,0,IF(F31<90%,0.5,IF(F31<95%,0.75,1))) -> 1 | G33: =IF(G31<80%,0,IF(G31<90%,0.5,IF(G31<95%,0.75,1))) -> 1 | H33: =IF(H31<80%,0,IF(H31<90%,0.5,IF(H31<95%,0.75,1))) -> 1 | J33: =IF(J31<80%,0,IF(J31<90%,0.5,IF(J31<95%,0.75,1))) -> 1 | K33: =IF(K31<80%,0,IF(K31<90%,0.5,IF(K31<95%,0.75,1))) -> 1 | L33: =IF(L31<80%,0,IF(L31<90%,0.5,IF(L31<95%,0.75,1))) -> 1 | N33: =IF(N31<80%,0,IF(N31<90%,0.5,IF(N31<95%,0.75,1))) -> 1 | O33: =IF(O31<80%,0,IF(O31<90%,0.5,IF(O31<95%,0.75,1))) -> 1 | P33: =IF(P31<80%,0,IF(P31<90%,0.5,IF(P31<95%,0.75,1))) -> 1
A34: Premia miesięczna za Wskaźnik Sprzedaży Obrót | B34: =B33*B32 -> 660 | C34: =C33*C32 -> 660 | D34: =D33*D32 -> 660 | F34: =F33*F32 -> 660 | G34: =G33*G32 -> 660 | H34: =H33*H32 -> 660 | J34: =J33*J32 -> 660 | K34: =K33*K32 -> 660 | L34: =L33*L32 -> 660 | N34: =N33*N32 -> 560 | O34: =O33*O32 -> 660 | P34: =P33*P32 -> 660
A35: Wskaźnik CRM | B35: 1 | C35: 1 | D35: 1 | F35: 1 | G35: 1 | H35: 1 | J35: 1 | K35: 1 | L35: 1 | N35: 1 | O35: 1 | P35: 1
A36: Wysokość premii CRM | B36: =B22*0.1 -> 330 | C36: =C22*0.1 -> 330 | D36: =D22*0.1 -> 330 | F36: =F22*0.1 -> 330 | G36: =G22*0.1 -> 330 | H36: =H22*0.1 -> 330 | J36: =J22*0.1 -> 330 | K36: =K22*0.1 -> 330 | L36: =L22*0.1 -> 330 | N36: =N22*0.1 -> 280 | O36: =O22*0.1 -> 330 | P36: =P22*0.1 -> 330
A37: Mnożnik premii Wskaźnik CRM | B37: 1 | C37: 1 | D37: 1 | F37: 1 | G37: 1 | H37: 1 | J37: 1 | K37: 1 | L37: 1 | N37: 1 | O37: 1 | P37: 1
A38: Premia miesięczna za Wskaźnik CRM | B38: =B37*B36 -> 330 | C38: =C37*C36 -> 330 | D38: =D37*D36 -> 330 | F38: =F37*F36 -> 330 | G38: =G37*G36 -> 330 | H38: =H37*H36 -> 330 | J38: =J37*J36 -> 330 | K38: =K37*K36 -> 330 | L38: =L37*L36 -> 330 | N38: =N37*N36 -> 280 | O38: =O37*O36 -> 330 | P38: =P37*P36 -> 330
A39: Suma Premii miesięcznych | B39: =B34+B28+B38 -> 1650 | C39: =C34+C28+C38 -> 1650 | D39: =D34+D28+D38 -> 1650 | F39: =F34+F28+F38 -> 1650 | G39: =G34+G28+G38 -> 1650 | H39: =H34+H28+H38 -> 1650 | J39: =J34+J28+J38 -> 1650 | K39: =K34+K28+K38 -> 1650 | L39: =L34+L28+L38 -> 1650 | N39: =N34+N28+N38 -> 1400 | O39: =O34+O28+O38 -> 1650 | P39: =P34+P28+P38 -> 1650
A40: Wskaźnik Premia Kwartalna Marża | B40: =D5 -> 130000 | F40: =H5 -> 130000 | J40: =L5 -> 138000 | N40: =P5 -> 130000
A41: Realizacja Wskaźnika Premia Kwartalna | B41: =D7 -> 137251.68 | F41: =H7 -> 145727.19 | J41: =L7 -> 139330.91 | N41: =P7 -> 133650.89
A42: Poziom realizacji Wskaźnika Premia Kwartalna | B42: =B41/B40 -> 1.0557821 | F42: =F41/F40 -> 1.1209784 | J42: =J41/J40 -> 1.0096443 | N42: =N41/N40 -> 1.0280838
A43: Wysokość premii kwartalnej. | B43: =D22 -> 3300 | F43: =H22 -> 3300 | J43: =L22 -> 3300 | N43: =P22 -> 3300
A44: Mnożnik premii kwartalnej | B44: =IF(B42<100%,0,IF(B42<110%,0.5,IF(B42<120%,0.7,1))) -> 0.5 | F44: =IF(F42<100%,0,IF(F42<110%,0.5,IF(F42<120%,0.7,1))) -> 0.7 | J44: =IF(J42<100%,0,IF(J42<110%,0.5,IF(J42<120%,0.7,1))) -> 0.5 | N44: =IF(N42<100%,0,IF(N42<110%,0.5,IF(N42<120%,0.7,1))) -> 0.5
A45: Premia kwartalna | B45: =B44*B43 -> 1650 | F45: =F44*F43 -> 2310 | J45: =J44*J43 -> 1650 | N45: =N44*N43 -> 1650
A47: SPRZEDAŻ DRUKAREK | B47: październik | C47: listopad | D47: grudzień | E47: KW IV | F47: lipiec | G47: sierpień | H47: wrzesień | I47: KW III | J47: kwiecień | K47: maj | L47: czerwiec | M47: KW II | N47: styczeń | O47: luty | P47: marzec | Q47: KW I | R47: suma ROK
A48: CL-S521 | E48: =SUM(B48:D48) -> 0 | G48: 1 | I48: =SUM(F48:H48) -> 1 | M48: =SUM(J48:L48) -> 0 | Q48: =SUM(N48:P48) -> 0 | R48: =Q48+M48+I48+E48 -> 1
A49: CL-S621 | B49: 2 | D49: 2 | E49: =SUM(B49:D49) -> 4 | G49: 2 | H49: 2 | I49: =SUM(F49:H49) -> 4 | K49: 1 | M49: =SUM(J49:L49) -> 1 | N49: 2 | O49: 1 | P49: 1 | Q49: =SUM(N49:P49) -> 4 | R49: =Q49+M49+I49+E49 -> 13
A50: CL-S6621 | E50: =SUM(B50:D50) -> 0 | I50: =SUM(F50:H50) -> 0 | M50: =SUM(J50:L50) -> 0 | Q50: =SUM(N50:P50) -> 0 | R50: =Q50+M50+I50+E50 -> 0
A51: CL-S631 | B51: 1 | C51: 4 | E51: =SUM(B51:D51) -> 5 | F51: 1 | G51: 1 | I51: =SUM(F51:H51) -> 2 | M51: =SUM(J51:L51) -> 0 | O51: 2 | P51: 2 | Q51: =SUM(N51:P51) -> 4 | R51: =Q51+M51+I51+E51 -> 11
A52: CL-S700 | B52: 1 | C52: 1 | D52: 1 | E52: =SUM(B52:D52) -> 3 | I52: =SUM(F52:H52) -> 0 | M52: =SUM(J52:L52) -> 0 | O52: 1 | P52: 1 | Q52: =SUM(N52:P52) -> 2 | R52: =Q52+M52+I52+E52 -> 5
A53: CL-S700R | E53: =SUM(B53:D53) -> 0 | I53: =SUM(F53:H53) -> 0 | M53: =SUM(J53:L53) -> 0 | Q53: =SUM(N53:P53) -> 0 | R53: =Q53+M53+I53+E53 -> 0
A54: CL-S703 | B54: 1 | C54: 1 | D54: 2 | E54: =SUM(B54:D54) -> 4 | I54: =SUM(F54:H54) -> 0 | M54: =SUM(J54:L54) -> 0 | N54: 1 | Q54: =SUM(N54:P54) -> 1 | R54: =Q54+M54+I54+E54 -> 5
A55: CL-S703R | E55: =SUM(B55:D55) -> 0 | I55: =SUM(F55:H55) -> 0 | M55: =SUM(J55:L55) -> 0 | Q55: =SUM(N55:P55) -> 0 | R55: =Q55+M55+I55+E55 -> 0
A56: CLE-720 | F56: 2 | J56: 2 | K56: 2 | N56: 1 | O56: 1 | R56: =Q56+M56+I56+E56 -> 0
A57: CLE-730 | L57: 1 | R57: =Q57+M57+I57+E57 -> 0
A58: CLP 8301 | E58: =SUM(B58:D58) -> 0 | I58: =SUM(F58:H58) -> 0 | M58: =SUM(J58:L58) -> 0 | Q58: =SUM(N58:P58) -> 0 | R58: =Q58+M58+I58+E58 -> 0
A59: ZEBRA | E59: =SUM(B59:D59) -> 0 | F59: 1 | I59: =SUM(F59:H59) -> 1 | M59: =SUM(J59:L59) -> 0 | Q59: =SUM(N59:P59) -> 0 | R59: =Q59+M59+I59+E59 -> 1
A60: INNE | E60: =SUM(B60:D60) -> 0 | I60: =SUM(F60:H60) -> 0 | M60: =SUM(J60:L60) -> 0 | Q60: =SUM(N60:P60) -> 0 | R60: =Q60+M60+I60+E60 -> 0
A61: SUMA: | B61: =SUM(B48:B60) -> 5 | C61: =SUM(C48:C60) -> 6 | D61: =SUM(D48:D60) -> 5 | E61: =SUM(B61:D61) -> 16 | F61: =SUM(F48:F60) -> 4 | G61: =SUM(G48:G60) -> 4 | H61: =SUM(H48:H60) -> 2 | I61: =SUM(F61:H61) -> 10 | J61: =SUM(J48:J60) -> 2 | K61: =SUM(K48:K60) -> 3 | L61: =SUM(L48:L60) -> 1 | M61: =SUM(J61:L61) -> 6 | N61: =SUM(N48:N56) -> 4 | O61: =SUM(O48:O56) -> 5 | P61: =SUM(P48:P56) -> 4 | Q61: =SUM(N61:P61) -> 13 | R61: =Q61+M61+I61+E61 -> 45
A63: Raport za miesiąc: | B63: paździer. | C63: listopad | D63: grudzień | E63: KW IV | F63: lipiec | G63: sierpień | H63: wrzesień | I63: KW III | J63: kwiecień | K63: maj | L63: czerwiec | M63: KW II | N63: styczeń | O63: luty | P63: marzec | Q63: Suma IKW | R63: Suma
A64: Ilość nowych Klientów: | B64: 9 | C64: 8 | D64: 3 | E64: =SUM(B64:D64) -> 20 | F64: 0 | G64: 1 | H64: 4 | I64: =SUM(F64:H64) -> 5 | J64: 1 | K64: 2 | L64: 4 | M64: =SUM(J64:L64) -> 7 | N64: 4 | O64: 5 | P64: 3 | Q64: =SUM(N64:P64) -> 12 | R64: =Q64+M64+I64+E64 -> 44
A65: Ilość Klientów przekaz. z Gliwic lub zm. nazwę/NIP. | B65: 1 | C65: 0 | D65: 0 | E65: =SUM(B65:D65) -> 1 | F65: 1 | G65: 0 | H65: 1 | I65: =SUM(F65:H65) -> 2 | J65: 0 | K65: 1 | L65: 0 | M65: =SUM(J65:L65) -> 1 | N65: 1 | O65: 1 | P65: 1 | Q65: =SUM(N65:P65) -> 3 | R65: =Q65+M65+I65+E65 -> 7
A66: Ilość Podmiotów na etapie współpracy Klient: | B66: 686 | C66: 702 | D66: 707 | F66: 649 | G66: 658 | H66: 671 | J66: 610 | K66: 624 | L66: 634 | N66: 555 | O66: 578 | P66: 591
A67: Ilość Podmiotów na etapie współpracy Handlowy: | B67: 7 | C67: 13 | D67: 11 | F67: 9 | G67: 9 | H67: 11 | J67: 12 | K67: 10 | L67: 7 | N67: 13 | O67: 8 | P67: 8
A68: Ilość Podmiotów na etapie współpracy Klient nieaktywny: | B68: 203 | C68: 201 | D68: 200 | F68: 210 | G68: 209 | H68: 206 | J68: 236 | K68: 224 | L68: 220 | N68: 249 | O68: 243 | P68: 235
A69: Ilość Podmiotów pod opieką: | B69: 896 | C69: 916 | D69: 918 | F69: =SUM(F66:F68) -> 868 | G69: =SUM(G66:G68) -> 876 | H69: =SUM(H66:H68) -> 888 | J69: =SUM(J66:J68) -> 858 | K69: =SUM(K66:K68) -> 858 | L69: =SUM(L66:L68) -> 861 | N69: =SUM(N66:N68) -> 817 | O69: =SUM(O66:O68) -> 829 | P69: =SUM(P66:P68) -> 834
A70: Ilość sprzedanych drukarek: | B70: 5 | C70: 6 | D70: 5 | E70: =SUM(B70:D70) -> 16 | F70: 4 | G70: 4 | H70: 2 | I70: =SUM(F70:H70) -> 10 | J70: 2 | K70: 3 | L70: 1 | M70: =SUM(J70:L70) -> 6 | N70: 4 | O70: 5 | P70: 4 | Q70: =SUM(N70:P70) -> 13 | R70: =Q70+M70+I70+E70 -> 45
A71: Ilość ofert dodanych w danym miesiącu: | B71: 13 | C71: 8 | D71: 10 | E71: =SUM(B71:D71) -> 31 | F71: 16 | G71: 5 | H71: 4 | I71: =SUM(F71:H71) -> 25 | J71: 11 | K71: 25 | L71: 21 | M71: =SUM(J71:L71) -> 57 | N71: 27 | O71: 16 | P71: 21 | Q71: =SUM(N71:P71) -> 64 | R71: =Q71+M71+I71+E71 -> 177
A72: Ilość ofert oczekujących na decyzję kontrahenta: | B72: 3 | C72: 3 | D72: 4 | F72: 6 | G72: 5 | H72: 3 | J72: 5 | K72: 4 | L72: 6 | N72: 7 | O72: 8 | P72: 2
A73: Ilość zaakceptowanych ofert przez kontrahenta: | B73: 3 | C73: 3 | D73: 3 | F73: 5 | G73: 1 | H73: 2 | J73: 3 | K73: 6 | L73: 6 | N73: 11 | O73: 9 | P73: 12
A74: Ilość odrzuconych ofert przez kontrahenta: | B74: 11 | C74: 5 | D74: 6 | F74: 11 | G74: 5 | H74: 3 | J74: 5 | K74: 20 | L74: 13 | N74: 18 | O74: 5 | P74: 16
A75: Ilość przekazanych podmiotów z Marketingu: | B75: 26 | C75: 11 | D75: 11 | E75: =SUM(B75:D75) -> 48 | F75: 10 | G75: 5 | H75: 8 | I75: =SUM(F75:H75) -> 23 | J75: 9 | K75: 14 | L75: 8 | M75: =SUM(J75:L75) -> 31 | N75: 12 | O75: 9 | P75: 12 | Q75: =SUM(N75:P75) -> 33 | R75: =Q75+M75+I75+E75 -> 135
A76: Ilość przekazanych podmiotów do prowadzenia od KDH: | B76: 1 | C76: 4 | D76: 1 | E76: =SUM(B76:D76) -> 6 | F76: 0 | G76: 0 | H76: 2 | I76: =SUM(F76:H76) -> 2 | J76: 14 | K76: 0 | L76: 1 | M76: =SUM(J76:L76) -> 15 | N76: 0 | O76: 4 | P76: 11 | Q76: =SUM(N76:P76) -> 15 | R76: =Q76+M76+I76+E76 -> 38
A77: Ilość odebranych podmiotów (zmiana prowadzącego): | B77: 0 | C77: 0 | D77: 0 | E77: =SUM(B77:D77) -> 0 | F77: 0 | G77: 0 | H77: 0 | I77: =SUM(F77:H77) -> 0 | J77: 0 | K77: 0 | L77: 0 | M77: =SUM(J77:L77) -> 0 | N77: 0 | O77: 0 | P77: 0 | Q77: =SUM(N77:P77) -> 0 | R77: =Q77+M77+I77+E77 -> 0
A78: Ilość spotkań z Klientami: | B78: 3 | C78: 1 | D78: 2 | E78: =SUM(B78:D78) -> 6 | F78: 0 | G78: 0 | H78: 0 | I78: =SUM(F78:H78) -> 0 | J78: 0 | K78: 0 | L78: 1 | M78: =SUM(J78:L78) -> 1 | N78: 0 | O78: 0 | P78: 2 | Q78: =SUM(N78:P78) -> 2 | R78: =Q78+M78+I78+E78 -> 9
A79: Ilość aktualnie otwartych wdrożeń: | B79: 10 | C79: 8 | D79: 19 | F79: 18 | G79: 15 | H79: 16 | J79: 26 | K79: 20 | L79: 14 | N79: 17 | O79: 18 | P79: 16
A80: Ilość wdrożeń dodanych w danym miesiącu: | B80: 28 | C80: 19 | D80: 13 | E80: =SUM(B80:D80) -> 60 | F80: 13 | G80: 11 | H80: 18 | I80: =SUM(F80:H80) -> 42 | J80: 21 | K80: 24 | L80: 19 | M80: =SUM(J80:L80) -> 64 | N80: 31 | O80: 21 | P80: 23 | Q80: =SUM(N80:P80) -> 75 | R80: =Q80+M80+I80+E80 -> 241
A81: Ilość wdrożeń zamkniętych pozytywnie w danym mcu: | B81: 7 | C81: 9 | D81: 3 | E81: =SUM(B81:D81) -> 19 | F81: 4 | G81: 5 | H81: 6 | I81: =SUM(F81:H81) -> 15 | J81: 4 | K81: 8 | L81: 15 | M81: =SUM(J81:L81) -> 27 | N81: 13 | O81: 12 | P81: 9 | Q81: =SUM(N81:P81) -> 34 | R81: =Q81+M81+I81+E81 -> 95
A82: Ilość wdrożeń zamkniętych negatywnie w danym mcu: | B82: 26 | C82: 8 | D82: 5 | E82: =SUM(B82:D82) -> 39 | F82: 9 | G82: 11 | H82: 12 | I82: =SUM(F82:H82) -> 32 | J82: 9 | K82: 26 | L82: 10 | M82: =SUM(J82:L82) -> 45 | N82: 20 | O82: 12 | P82: 16 | Q82: =SUM(N82:P82) -> 48 | R82: =Q82+M82+I82+E82 -> 164 | S82: =R82/D84 -> 1
A83: Ilość aktualnie odłożonych wdrożeń: | B83: 4 | C83: 7 | D83: 7 | F83: 6 | G83: 5 | H83: 4 | J83: 4 | K83: 4 | L83: 4 | N83: 2 | O83: 1 | P83: 4 | S83: =R83/D84 -> 0
D84: =SUM(R82:R83) -> 164

Sheet MIRU
A1: Mirosław Zagaja | N1: INDYWIDUALNY PLANY SPRZEDAŻY 2014 Mirosław Zagaja
A2: miesiąc | B2: październik | C2: listopad | D2: grudzień | F2: lipiec | G2: sierpień | H2: wrzesień | J2: kwiecień | K2: maj | L2: czerwiec | N2: styczeń | O2: luty | P2: marzec | Q2: KW I | R2: suma
A4: Plan Sprzedaży Marża | B4: ='Target 2017'!L4 -> 31666.667 | C4: ='Target 2017'!M4 -> 35000 | D4: ='Target 2017'!N4 -> 33333.333 | F4: ='Target 2017'!I4 -> 31166.667 | G4: ='Target 2017'!J4 -> 36666.667 | H4: ='Target 2017'!K4 -> 42166.667 | I4: =SUM(F4:H4) -> 110000 | J4: ='Target 2017'!F4 -> 31166.667 | K4: ='Target 2017'!G4 -> 36666.667 | L4: ='Target 2017'!H4 -> 42166.667 | M4: =SUM(J4:L4) -> 110000 | N4: ='Target 2017'!C4 -> 30000 | O4: ='Target 2017'!D4 -> 33333.333 | P4: ='Target 2017'!E4 -> 36666.667 | Q4: =SUM(N4:P4) -> 100000 | R4: =SUM(N4:Q4) -> 200000
A5: Sumaryczny Plan Sprzedaży Marża | B5: =B4 -> 31666.667 | C5: =C4+B5 -> 66666.667 | D5: =D4+C5 -> 100000 | F5: =F4 -> 31166.667 | G5: =G4+F5 -> 67833.333 | H5: =H4+G5 -> 110000 | J5: =J4 -> 31166.667 | K5: =K4+J5 -> 67833.333 | L5: =L4+K5 -> 110000 | N5: =N4 -> 30000 | O5: =O4+N5 -> 63333.333 | P5: =P4+O5 -> 100000
A6: Miesięczna realizacja Planu Sprzedaży Marża | B6: =SUMIF(X!A:A,$A$1,X!I:I) -> 40498.26 | C6: =SUMIF(XI!A:A,$A$1,XI!I:I) -> 12335.667 | D6: =SUMIF(XII!A:A,$A$1,XII!I:I) -> 64654.914 | F6: =SUMIF(VII!A:A,$A$1,VII!I:I) -> 37868.17 | G6: =SUMIF(VIII!A:A,$A$1,VIII!I:I) -> 19068.266 | H6: =SUMIF(IX!A:A,$A$1,IX!I:I) -> 32385.378 | J6: =SUMIF(IV!A:A,$A$1,IV!I:I) -> 28997.444 | K6: =SUMIF(V!A:A,$A$1,V!I:I) -> 54801.471 | L6: =SUMIF(VI!A:A,$A$1,VI!I:I) -> 40637.181 | N6: =SUMIF(I!A:A,$A$1,I!I:I) -> 22982.052 | O6: =SUMIF(II!A:A,$A$1,II!I:I) -> 31821.018 | P6: =SUMIF(III!A:A,$A$1,III!I:I) -> 73100.851 | Q6: =SUM(N6:P6) -> 127903.92 | R6: =N6+O6+P6+J6+K6+L6+F6+G6+H6+B6+C6+D6 -> 459150.67
A7: Sumaryczna realizacja planu sprzedaży Marża | B7: =B6 -> 40498.26 | C7: =C6+B7 -> 52833.926 | D7: =D6+C7 -> 117488.84 | F7: =F6 -> 37868.17 | G7: =G6+F7 -> 56936.436 | H7: =H6+G7 -> 89321.814 | J7: =J6 -> 28997.444 | K7: =K6+J7 -> 83798.915 | L7: =L6+K7 -> 124436.1 | N7: =N6 -> 22982.052 | O7: =O6+N7 -> 54803.069 | P7: =P6+O7 -> 127903.92
A8: Wysokość zrealizowania Miesięcznego Planu Sprzedaży Marża | B8: =B6/B4 -> 1.2788924 | C8: =C6/C4 -> 0.35244762 | D8: =D6/D4 -> 1.9396474 | F8: =F6/F4 -> 1.2150215 | G8: =G6/G4 -> 0.52004361 | H8: =H6/H4 -> 0.76803269 | J8: =J6/J4 -> 0.93039926 | K8: =K6/K4 -> 1.4945856 | L8: =L6/L4 -> 0.96372762 | N8: =N6/N4 -> 0.7660684 | O8: =O6/O4 -> 0.95463053 | P8: =P6/P4 -> 1.9936596
A9: Wysokość zrealizowania Planu Sprzedaży Marża | B9: =B7/B5 -> 1.2788924 | C9: =C7/C5 -> 0.79250889 | D9: =D7/D5 -> 1.1748884 | F9: =F7/F5 -> 1.2150215 | G9: =G7/G5 -> 0.83935777 | H9: =H7/H5 -> 0.81201649 | J9: =J7/J5 -> 0.93039926 | K9: =K7/K5 -> 1.2353648 | L9: =L7/L5 -> 1.1312372 | N9: =N7/N5 -> 0.7660684 | O9: =O7/O5 -> 0.86531162 | P9: =P7/P5 -> 1.2790392
A10: Różnica wskaźnika Marża | B10: =B7-B5 -> 8831.593 | C10: =C7-C5 -> -13832.74 | D10: =D7-D5 -> 17488.84 | F10: =F7-F5 -> 6701.5034 | G10: =G7-G5 -> -10896.898 | H10: =H7-H5 -> -20678.186 | J10: =J7-J5 -> -2169.2232 | K10: =K7-K5 -> 15965.581 | L10: =L7-L5 -> 14436.096 | N10: =N7-N5 -> -7017.9481 | O10: =O7-O5 -> -8530.2639 | P10: =P7-P5 -> 27903.92
A11: Plan Sprzedaży Obrót | B11: ='Target 2017'!L14 -> 82333.333 | C11: ='Target 2017'!M14 -> 91000 | D11: ='Target 2017'!N14 -> 86666.667 | F11: ='Target 2017'!I14 -> 73666.667 | G11: ='Target 2017'!J14 -> 86666.667 | H11: ='Target 2017'!K14 -> 99666.667 | I11: =SUM(F11:H11) -> 260000 | J11: ='Target 2017'!F14 -> 73666.667 | K11: ='Target 2017'!G14 -> 86666.667 | L11: ='Target 2017'!H14 -> 99666.667 | N11: ='Target 2017'!C14 -> 72000 | O11: ='Target 2017'!D14 -> 80000 | P11: ='Target 2017'!E14 -> 88000 | Q11: =SUM(N11:P11) -> 240000 | R11: =SUM(N11:Q11) -> 480000
A12: Sumaryczny Plan Sprzedaży Obrót | B12: =B11 -> 82333.333 | C12: =C11+B12 -> 173333.33 | D12: =D11+C12 -> 260000 | F12: =F11 -> 73666.667 | G12: =G11+F12 -> 160333.33 | H12: =H11+G12 -> 260000 | J12: =J11 -> 73666.667 | K12: =K11+J12 -> 160333.33 | L12: =L11+K12 -> 260000 | N12: =N11 -> 72000 | O12: =O11+N12 -> 152000 | P12: =P11+O12 -> 240000
A13: Miesięczna realizacja Planu Sprzedaży Obrót | B13: =SUMIF(X!A:A,$A$1,X!G:G) -> 101206.22 | C13: =SUMIF(XI!A:A,$A$1,XI!G:G) -> 34580.44 | D13: =SUMIF(XII!A:A,$A$1,XII!G:G) -> 135213.8 | F13: =SUMIF(VII!A:A,$A$1,VII!G:G) -> 83205.62 | G13: =SUMIF(VIII!A:A,$A$1,VIII!G:G) -> 52478.08 | H13: =SUMIF(IX!A:A,$A$1,IX!G:G) -> 101905.87 | J13: =SUMIF(IV!A:A,$A$1,IV!G:G) -> 79851.85 | K13: =SUMIF(V!A:A,$A$1,V!G:G) -> 118999.17 | L13: =SUMIF(VI!A:A,$A$1,VI!G:G) -> 114819.72 | N13: =SUMIF(I!A:A,$A$1,I!G:G) -> 45519.79 | O13: =SUMIF(II!A:A,$A$1,II!G:G) -> 70446.38 | P13: =SUMIF(III!A:A,$A$1,III!G:G) -> 168125.31 | Q13: =SUM(N13:P13) -> 284091.48 | R13: =SUM(N13:Q13) -> 568182.96
A14: Sumaryczna realizacja planu sprzedaży Obrót | B14: =B13 -> 101206.22 | C14: =C13+B14 -> 135786.66 | D14: =D13+C14 -> 271000.46 | F14: =F13 -> 83205.62 | G14: =G13+F14 -> 135683.7 | H14: =H13+G14 -> 237589.57 | J14: =J13 -> 79851.85 | K14: =K13+J14 -> 198851.02 | L14: =L13+K14 -> 313670.74 | N14: =N13 -> 45519.79 | O14: =O13+N14 -> 115966.17 | P14: =P13+O14 -> 284091.48
A15: Wysokość zrealizowania Miesięcznego Planu Sprzedaży Obrót | B15: =B13/B11 -> 1.2292253 | C15: =C13/C11 -> 0.38000484 | D15: =D13/D11 -> 1.5601592 | F15: =F13/F11 -> 1.1294881 | G15: =G13/G11 -> 0.60551631 | H15: =H13/H11 -> 1.0224669 | J15: =J13/J11 -> 1.0839618 | K15: =K13/K11 -> 1.3730673 | L15: =L13/L11 -> 1.1520373 | N15: =N13/N11 -> 0.63221931 | O15: =O13/O11 -> 0.88057975 | P15: =P13/P11 -> 1.9105149
A16: Wysokość zrealizowania Planu Sprzedaży Obrót | B16: =B14/B12 -> 1.2292253 | C16: =C14/C12 -> 0.78338458 | D16: =D14/D12 -> 1.0423094 | F16: =F14/F12 -> 1.1294881 | G16: =G14/G12 -> 0.84626008 | H16: =H14/H12 -> 0.91380604 | J16: =J14/J12 -> 1.0839618 | K16: =K14/K12 -> 1.2402351 | L16: =L14/L12 -> 1.2064259 | N16: =N14/N12 -> 0.63221931 | O16: =O14/O12 -> 0.76293533 | P16: =P14/P12 -> 1.1837145
A17: Różnica wskaźnika Obrót | B17: =B14-B12 -> 18872.887 | C17: =C14-C12 -> -37546.673 | D17: =D14-D12 -> 11000.457 | F17: =F14-F12 -> 9538.9533 | G17: =G14-G12 -> -24649.633 | H17: =H14-H12 -> -22410.43 | J17: =J14-J12 -> 6185.1833 | K17: =K14-K12 -> 38517.687 | L17: =L14-L12 -> 53670.74 | N17: =N14-N12 -> -26480.21 | O17: =O14-O12 -> -36033.83 | P17: =P14-P12 -> 44091.48
A18: Wysokość Marży miesięcznej | B18: =B6/B13 -> 0.40015584 | C18: =C6/C13 -> 0.35672382 | D18: =D6/D13 -> 0.47816802 | F18: =F6/F13 -> 0.45511553 | G18: =G6/G13 -> 0.36335677 | H18: =H6/H13 -> 0.31779699 | J18: =J6/J13 -> 0.36314053 | K18: =K6/K13 -> 0.46051978 | L18: =L6/L13 -> 0.35392162 | N18: =N6/N13 -> 0.50488045 | O18: =O6/O13 -> 0.4517055 | P18: =P6/P13 -> 0.4347998
A19: Wysokość Marży sumarycznej | B19: =B7/B14 -> 0.40015584 | C19: =C7/C14 -> 0.38909512 | D19: =D7/D14 -> 0.43353743 | F19: =F7/F14 -> 0.45511553 | G19: =G7/G14 -> 0.4196262 | H19: =H7/H14 -> 0.37595006 | J19: =J7/J14 -> 0.36314053 | K19: =K7/K14 -> 0.42141556 | L19: =L7/L14 -> 0.39670929 | N19: =N7/N14 -> 0.50488045 | O19: =O7/O14 -> 0.47257808 | P19: =P7/P14 -> 0.4502209
A21: SPRZEDAŻ DRUKAREK
A22: CL-S521 | R22: =SUM(N22:Q22) -> 0
A23: CL-S621 | H23: 9 | K23: 7 | L23: 3 | R23: =SUM(N23:Q23) -> 0
A24: CL-S6621 | R24: =SUM(N24:Q24) -> 0
A25: CL-S631 | R25: =SUM(N25:Q25) -> 0
A26: CL-S700 | R26: =SUM(N26:Q26) -> 0
A27: CL-S700R | R27: =SUM(N27:Q27) -> 0
A28: CL-S703 | R28: =SUM(N28:Q28) -> 0
A29: CL-S703R | R29: =SUM(N29:Q29) -> 0
A30: CLE-720 | C30: 1 | R30: =Q30+M30+I30+E30 -> 0
A31: CLE-730 | R31: =Q31+M31+I31+E31 -> 0
A32: CLP 8301 | R32: =SUM(N32:Q32) -> 0
A33: ZEBRA | R33: =SUM(N33:Q33) -> 0
A34: INNE | D34: 1 | P34: 2 | R34: =SUM(N34:Q34) -> 2
A35: SUMA: | B35: =SUM(B22:B34) -> 0 | C35: =SUM(C22:C34) -> 1 | D35: =SUM(D22:D34) -> 1 | F35: =SUM(F22:F34) -> 0 | G35: =SUM(G22:G34) -> 0 | H35: =SUM(H22:H34) -> 9 | J35: =SUM(J22:J34) -> 0 | K35: =SUM(K22:K34) -> 7 | L35: =SUM(L22:L34) -> 3 | N35: =SUM(N22:N34) -> 0 | O35: =SUM(O22:O34) -> 0 | P35: =SUM(P22:P34) -> 2 | R35: =SUM(R22:R34) -> 2
A37: Raport za miesiąc: | B37: paździer. | C37: listopad | D37: grudzień | F37: lipiec | G37: sierpień | H37: wrzesień | J37: kwiecień | K37: maj | L37: czerwiec | N37: styczeń | O37: luty | P37: marzec | R37: Suma
A38: Ilość nowych Klientów: | B38: 0 | C38: 0 | D38: 0 | E38: =SUM(B38:D38) -> 0 | F38: 1 | G38: 0 | H38: 0 | I38: =SUM(F38:H38) -> 1 | J38: 0 | K38: 0 | L38: 0 | M38: =SUM(J38:L38) -> 0 | N38: 0 | O38: 0 | P38: 0 | Q38: =SUM(N38:P38) -> 0 | R38: =Q38+M38+I38+E38 -> 1
A39: Ilość Klientów przekaz. z Gliwic lub zm. nazwę/NIP. | B39: 0 | C39: 0 | D39: 0 | E39: =SUM(B39:D39) -> 0 | F39: 0 | G39: 0 | H39: 0 | I39: =SUM(F39:H39) -> 0 | J39: 0 | K39: 0 | L39: 0 | M39: =SUM(J39:L39) -> 0 | N39: 0 | O39: 0 | P39: 0 | Q39: =SUM(N39:P39) -> 0 | R39: =Q39+M39+I39+E39 -> 0
A40: Ilość Podmiotów na etapie współpracy Klient: | B40: 26 | C40: 26 | D40: 26 | F40: 26 | G40: 26 | H40: 26 | J40: 25 | K40: 25 | L40: 25 | N40: 25 | O40: 25 | P40: 25
A41: Ilość Podmiotów na etapie współpracy Handlowy: | B41: 3 | C41: 2 | D41: 0 | F41: 3 | G41: 3 | H41: 3 | J41: 3 | K41: 3 | L41: 3 | N41: 4 | O41: 4 | P41: 4
A42: Ilość Podmiotów na etapie współpracy Klient nieaktywny: | B42: 2 | C42: 2 | D42: 0 | F42: 2 | G42: 2 | H42: 2 | J42: 3 | K42: 2 | L42: 2 | N42: 4 | O42: 4 | P42: 4
A43: Ilość Podmiotów pod opieką: | B43: 31 | C43: 30 | D43: 26 | F43: =SUM(F40:F42) -> 31 | G43: =SUM(G40:G42) -> 31 | H43: =SUM(H40:H42) -> 31 | J43: =SUM(J40:J42) -> 31 | K43: =SUM(K40:K42) -> 30 | L43: =SUM(L40:L42) -> 30 | N43: =SUM(N40:N42) -> 33 | O43: =SUM(O40:O42) -> 33 | P43: =SUM(P40:P42) -> 33
A44: Ilość sprzedanych drukarek: | B44: 0 | C44: 1 | D44: 1 | E44: =SUM(B44:D44) -> 2 | F44: 0 | G44: 0 | H44: 9 | I44: =SUM(F44:H44) -> 9 | J44: 0 | K44: 7 | L44: 3 | M44: =SUM(J44:L44) -> 10 | N44: 0 | O44: 0 | P44: 2 | Q44: =SUM(N44:P44) -> 2 | R44: =Q44+M44+I44+E44 -> 23
A45: Ilość ofert dodanych w danym miesiącu: | B45: 2 | C45: 3 | D45: 0 | E45: =SUM(B45:D45) -> 5 | F45: 9 | G45: 1 | H45: 11 | I45: =SUM(F45:H45) -> 21 | J45: 4 | K45: 15 | L45: 5 | M45: =SUM(J45:L45) -> 24 | N45: 3 | O45: 7 | P45: 1 | Q45: =SUM(N45:P45) -> 11 | R45: =Q45+M45+I45+E45 -> 61
A46: Ilość ofert oczekujących na decyzję kontrahenta: | B46: 1 | C46: 1 | D46: 0 | F46: 8 | G46: 1 | H46: 1 | J46: 2 | K46: 11 | L46: 2 | N46: 3 | O46: 4 | P46: 1
A47: Ilość zaakceptowanych ofert przez kontrahenta: | B47: 6 | C47: 2 | D47: 1 | F47: 2 | G47: 2 | H47: 3 | J47: 2 | K47: 2 | L47: 7 | N47: 1 | O47: 2 | P47: 3
A48: Ilość odrzuconych ofert przez kontrahenta: | B48: 1 | C48: 1 | D48: 0 | F48: 2 | G48: 4 | H48: 5 | J48: 1 | K48: 3 | L48: 7 | N48: 2 | O48: 3 | P48: 3
A49: Ilość przekazanych podmiotów z Marketingu: | B49: 0 | C49: 0 | D49: 0 | E49: =SUM(B49:D49) -> 0 | F49: 0 | G49: 0 | H49: 0 | I49: =SUM(F49:H49) -> 0 | J49: 0 | K49: 0 | L49: 0 | M49: =SUM(J49:L49) -> 0 | N49: 0 | O49: 0 | P49: 0 | Q49: =SUM(N49:P49) -> 0 | R49: =Q49+M49+I49+E49 -> 0
A50: Ilość przekazanych podmiotów do prowadzenia od KDH: | B50: 0 | C50: 0 | D50: 0 | E50: =SUM(B50:D50) -> 0 | F50: 0 | G50: 0 | H50: 0 | I50: =SUM(F50:H50) -> 0 | J50: 0 | K50: 0 | L50: 0 | M50: =SUM(J50:L50) -> 0 | N50: 0 | O50: 0 | P50: 0 | Q50: =SUM(N50:P50) -> 0 | R50: =Q50+M50+I50+E50 -> 0
A51: Ilość odebranych podmiotów (zmiana prowadzącego): | B51: 0 | C51: 0 | D51: 0 | E51: =SUM(B51:D51) -> 0 | F51: 0 | G51: 0 | H51: 0 | I51: =SUM(F51:H51) -> 0 | J51: 0 | K51: 0 | L51: 0 | M51: =SUM(J51:L51) -> 0 | N51: 0 | O51: 0 | P51: 0 | Q51: =SUM(N51:P51) -> 0 | R51: =Q51+M51+I51+E51 -> 0
A52: Ilość spotkań z Klientami: | B52: 3 | C52: 3 | D52: 2 | E52: =SUM(B52:D52) -> 8 | F52: 2 | G52: 0 | H52: 2 | I52: =SUM(F52:H52) -> 4 | J52: 3 | K52: 1 | L52: 2 | M52: =SUM(J52:L52) -> 6 | N52: 0 | O52: 1 | P52: 1 | Q52: =SUM(N52:P52) -> 2 | R52: =Q52+M52+I52+E52 -> 20
A53: Ilość aktualnie otwartych wdrożeń: | B53: 12 | C53: 11 | D53: 9 | F53: 9 | G53: 9 | H53: 16 | J53: 9 | K53: 8 | L53: 13 | N53: 8 | O53: 14 | P53: 12
A54: Ilość wdrożeń dodanych w danym miesiącu: | B54: 2 | C54: 2 | D54: 0 | E54: =SUM(B54:D54) -> 4 | F54: 2 | G54: 3 | H54: 7 | I54: =SUM(F54:H54) -> 12 | J54: 1 | K54: 6 | L54: 3 | M54: =SUM(J54:L54) -> 10 | N54: 1 | O54: 7 | P54: 2 | Q54: =SUM(N54:P54) -> 10 | R54: =Q54+M54+I54+E54 -> 36
A55: Ilość wdrożeń zamkniętych pozytywnie w danym mcu: | B55: 2 | C55: 1 | D55: 2 | E55: =SUM(B55:D55) -> 5 | F55: 3 | G55: 2 | H55: 1 | I55: =SUM(F55:H55) -> 6 | J55: 3 | K55: 4 | L55: 1 | M55: =SUM(J55:L55) -> 8 | N55: 1 | O55: 1 | P55: 5 | Q55: =SUM(N55:P55) -> 7 | R55: =Q55+M55+I55+E55 -> 26
A56: Ilość wdrożeń zamkniętych negatywnie w danym mcu: | B56: 1 | C56: 2 | D56: 0 | E56: =SUM(B56:D56) -> 3 | F56: 2 | G56: 2 | H56: 0 | I56: =SUM(F56:H56) -> 4 | J56: 0 | K56: 0 | L56: 3 | M56: =SUM(J56:L56) -> 3 | N56: 0 | O56: 0 | P56: 0 | Q56: =SUM(N56:P56) -> 0 | R56: =Q56+M56+I56+E56 -> 10 | S56: =R56/D58 -> 1
A57: Ilość aktualnie odłożonych wdrożeń: | B57: 0 | C57: 0 | D57: 0 | F57: 0 | G57: 0 | H57: 0 | J57: 0 | K57: 0 | L57: 0 | N57: 0 | O57: 0 | P57: 0 | S57: =R57/D58 -> 0
D58: =SUM(R56:R57) -> 10

Sheet PIOTR L
A1: Piotr Lasia | B1: PLAN IV KW Piotr Lasia | F1: PLAN III KW Piotr Lasia | J1: PLAN II KW Piotr Lasia | N1: PLAN I KW Piotr Lasia
A2: miesiąc | B2: październik | C2: listopad | D2: grudzień | E2: KW IV | F2: lipiec | G2: sierpień | H2: wrzesień | I2: KW III | J2: kwiecień | K2: maj | L2: czerwiec | M2: KW II | N2: styczeń | O2: luty | P2: marzec | Q2: KW I | R2: suma ROK
A4: Plan Sprzedaży Marża | B4: ='Target 2017'!L6 -> 15833.333 | C4: ='Target 2017'!M6 -> 17500 | D4: ='Target 2017'!N6 -> 16666.667 | E4: =SUM(B4:D4) -> 50000 | F4: ='Target 2017'!I5 -> 15583.333 | G4: ='Target 2017'!J5-5000 -> 13333.333 | H4: ='Target 2017'!K5+5000 -> 26083.333 | I4: =SUM(F4:H4) -> 55000 | J4: ='Target 2017'!F5 -> 14166.667 | K4: ='Target 2017'!G5-2500 -> 14166.667 | L4: ='Target 2017'!H5+2500-4000 -> 17666.667 | M4: =SUM(J4:L4) -> 46000 | N4: ='Target 2017'!C5 -> 0 | O4: ='Target 2017'!D5 -> 0 | P4: ='Target 2017'!E5 -> 15000 | Q4: =SUM(N4:P4) -> 15000 | R4: =Q4+M4+I4+E4 -> 166000
A5: Sumaryczny Plan Sprzedaży Marża | B5: =B4 -> 15833.333 | C5: =C4+B5 -> 33333.333 | D5: =D4+C5 -> 50000 | F5: =F4 -> 15583.333 | G5: =G4+F5 -> 28916.667 | H5: =H4+G5 -> 55000 | J5: =J4 -> 14166.667 | K5: =K4+J5 -> 28333.333 | L5: =L4+K5 -> 46000 | N5: =N4 -> 0 | O5: =O4+N5 -> 0 | P5: =P4+O5 -> 15000
A6: Miesięczna realizacja Planu Sprzedaży Marża | B6: =SUMIF(X!A:A,$A$1,X!I:I) -> 19381.915 | C6: =SUMIF(XI!A:A,$A$1,XI!I:I) -> 17617.237 | D6: =SUMIF(XII!A:A,$A$1,XII!I:I) -> 15449.891 | E6: =SUM(B6:D6) -> 52449.043 | F6: =SUMIF(VII!A:A,$A$1,VII!I:I) -> 15909.077 | G6: =SUMIF(VIII!A:A,$A$1,VIII!I:I) -> 7625.371 | H6: =SUMIF(IX!A:A,$A$1,IX!I:I) -> 10306.304 | I6: =SUM(F6:H6) -> 33840.753 | J6: =SUMIF(IV!A:A,$A$1,IV!I:I) -> 15184.067 | K6: =SUMIF(V!A:A,$A$1,V!I:I) -> 7543.233 | L6: =SUMIF(VI!A:A,$A$1,VI!I:I) -> 14199.24 | M6: =SUM(J6:L6) -> 36926.541 | N6: =SUMIF(I!A:A,$A$1,I!I:I) -> 0 | O6: =SUMIF(II!A:A,$A$1,II!I:I) -> 6695.2705 | P6: =SUMIF(III!A:A,$A$1,III!I:I) -> 29066.292 | Q6: =SUM(N6:P6) -> 35761.562 | R6: =Q6+M6+I6+E6 -> 158977.9
A7: Sumaryczna realizacja planu sprzedaży Marża | B7: =B6 -> 19381.915 | C7: =C6+B7 -> 36999.153 | D7: =D6+C7 -> 52449.043 | F7: =F6 -> 15909.077 | G7: =G6+F7 -> 23534.448 | H7: =H6+G7 -> 33840.753 | J7: =J6 -> 15184.067 | K7: =K6+J7 -> 22727.3 | L7: =L6+K7 -> 36926.541 | N7: =N6 -> 0 | O7: =O6+N7 -> 6695.2705 | P7: =P6 -> 29066.292
A8: Wysokość zrealizowania Miesięcznego Planu Sprzedaży Marża | B8: =B6/B4 -> 1.224121 | C8: =C6/C4 -> 1.0066993 | D8: =D6/D4 -> 0.92699345 | F8: =F6/F4 -> 1.0209034 | G8: =G6/G4 -> 0.57190283 | H8: =H6/H4 -> 0.39512987 | J8: =J6/J4 -> 1.0718165 | K8: =K6/K4 -> 0.53246351 | L8: =L6/L4 -> 0.80373059 | N8: =N6/N4 -> #DIV/0! | O8: =O6/O4 -> #DIV/0! | P8: =P6/P4 -> 1.9377528
A9: Wysokość zrealizowania Planu Sprzedaży Marża | B9: =B7/B5 -> 1.224121 | C9: =C7/C5 -> 1.1099746 | D9: =D7/D5 -> 1.0489809 | F9: =F7/F5 -> 1.0209034 | G9: =G7/G5 -> 0.81387142 | H9: =H7/H5 -> 0.61528641 | J9: =J7/J5 -> 1.0718165 | K9: =K7/K5 -> 0.80214002 | L9: =L7/L5 -> 0.80275089 | N9: =N7/N5 -> #DIV/0! | O9: =O7/O5 -> #DIV/0! | P9: =P7/P5 -> 1.9377528
A10: Różnica wskaźnika Marża | B10: =B7-B5 -> 3548.5818 | C10: =C7-C5 -> 3665.8192 | D10: =D7-D5 -> 2449.0433 | F10: =F7-F5 -> 325.74417 | G10: =G7-G5 -> -5382.2182 | H10: =H7-H5 -> -21159.247 | J10: =J7-J5 -> 1017.4008 | K10: =K7-K5 -> -5606.0328 | L10: =L7-L5 -> -9073.4591 | N10: =N7-N5 -> 0 | O10: =O7-O5 -> 6695.2705 | P10: =P7-P5 -> 14066.292
A11: Plan Sprzedaży Obrót | B11: ='Target 2017'!L15 -> 41166.667 | C11: ='Target 2017'!M15 -> 45500 | D11: ='Target 2017'!N15 -> 43333.333 | E11: =SUM(B11:D11) -> 130000 | F11: ='Target 2017'!I15 -> 42500 | G11: ='Target 2017'!J15-10000 -> 40000 | H11: ='Target 2017'!K15+10000 -> 67500 | I11: =SUM(F11:H11) -> 150000 | J11: ='Target 2017'!F15 -> 38816.667 | K11: ='Target 2017'!G15-7000 -> 38666.667 | L11: ='Target 2017'!H15+7000-14000 -> 45516.667 | M11: =SUM(J11:L11) -> 123000 | N11: ='Target 2017'!C15 -> 0 | O11: ='Target 2017'!D15 -> 0 | P11: ='Target 2017'!E15 -> 42000 | Q11: =SUM(N11:P11) -> 42000 | R11: =Q11+M11+I11+E11 -> 445000
A12: Sumaryczny Plan Sprzedaży Obrót | B12: =B11 -> 41166.667 | C12: =C11+B12 -> 86666.667 | D12: =D11+C12 -> 130000 | F12: =F11 -> 42500 | G12: =G11+F12 -> 82500 | H12: =H11+G12 -> 150000 | J12: =J11 -> 38816.667 | K12: =K11+J12 -> 77483.333 | L12: =L11+K12 -> 123000 | N12: =N11 -> 0 | O12: =O11+N12 -> 0 | P12: =P11 -> 42000
A13: Miesięczna realizacja Planu Sprzedaży Obrót | B13: =SUMIF(X!A:A,$A$1,X!G:G) -> 56924.8 | C13: =SUMIF(XI!A:A,$A$1,XI!G:G) -> 45743.31 | D13: =SUMIF(XII!A:A,$A$1,XII!G:G) -> 43045.949 | E13: =SUM(B13:D13) -> 145714.06 | F13: =SUMIF(VII!A:A,$A$1,VII!G:G) -> 44021.21 | G13: =SUMIF(VIII!A:A,$A$1,VIII!G:G) -> 23675.17 | H13: =SUMIF(IX!A:A,$A$1,IX!G:G) -> 32990.25 | I13: =SUM(F13:H13) -> 100686.63 | J13: =SUMIF(IV!A:A,$A$1,IV!G:G) -> 44183.45 | K13: =SUMIF(V!A:A,$A$1,V!G:G) -> 18209.34 | L13: =SUMIF(VI!A:A,$A$1,VI!G:G) -> 36656.55 | M13: =SUM(J13:L13) -> 99049.34 | N13: =SUMIF(I!A:A,$A$1,I!G:G) -> 0 | O13: =SUMIF(II!A:A,$A$1,II!G:G) -> 19881.29 | P13: =SUMIF(III!A:A,$A$1,III!G:G) -> 75135.66 | Q13: =SUM(N13:P13) -> 95016.95 | R13: =Q13+M13+I13+E13 -> 440466.98
A14: Sumaryczna realizacja planu sprzedaży Obrót | B14: =B13 -> 56924.8 | C14: =C13+B14 -> 102668.11 | D14: =D13+C14 -> 145714.06 | F14: =F13 -> 44021.21 | G14: =G13+F14 -> 67696.38 | H14: =H13+G14 -> 100686.63 | J14: =J13 -> 44183.45 | K14: =K13+J14 -> 62392.79 | L14: =L13+K14 -> 99049.34 | N14: =N13 -> 0 | O14: =O13+N14 -> 19881.29 | P14: =P13 -> 75135.66
A15: Wysokość zrealizowania Miesięcznego Planu Sprzedaży Obrót | B15: =B13/B11 -> 1.3827887 | C15: =C13/C11 -> 1.0053475 | D15: =D13/D11 -> 0.99336806 | F15: =F13/F11 -> 1.0357932 | G15: =G13/G11 -> 0.59187925 | H15: =H13/H11 -> 0.48874444 | J15: =J13/J11 -> 1.1382598 | K15: =K13/K11 -> 0.47093121 | L15: =L13/L11 -> 0.80534346 | N15: =N13/N11 -> #DIV/0! | O15: =O13/O11 -> #DIV/0! | P15: =P13/P11 -> 1.7889443
A16: Wysokość zrealizowania Planu Sprzedaży Obrót | B16: =B14/B12 -> 1.3827887 | C16: =C14/C12 -> 1.184632 | D16: =D14/D12 -> 1.1208774 | F16: =F14/F12 -> 1.0357932 | G16: =G14/G12 -> 0.82056218 | H16: =H14/H12 -> 0.6712442 | J16: =J14/J12 -> 1.1382598 | K16: =K14/K12 -> 0.80524143 | L16: =L14/L12 -> 0.80527919 | N16: =N14/N12 -> #DIV/0! | O16: =O14/O12 -> #DIV/0! | P16: =P14/P12 -> 1.7889443
A17: Różnica wskaźnika Obrót | B17: =B14-B12 -> 15758.133 | C17: =C14-C12 -> 16001.443 | D17: =D14-D12 -> 15714.059 | F17: =F14-F12 -> 1521.21 | G17: =G14-G12 -> -14803.62 | H17: =H14-H12 -> -49313.37 | J17: =J14-J12 -> 5366.7833 | K17: =K14-K12 -> -15090.543 | L17: =L14-L12 -> -23950.66 | N17: =N14-N12 -> 0 | O17: =O14-O12 -> 19881.29 | P17: =P14-P12 -> 33135.66
A18: Wysokość Marży miesięcznej | B18: =B6/B13 -> 0.3404828 | C18: =C6/C13 -> 0.38513255 | D18: =D6/D13 -> 0.35891625 | F18: =F6/F13 -> 0.36139573 | G18: =G6/G13 -> 0.32208305 | H18: =H6/H13 -> 0.31240454 | J18: =J6/J13 -> 0.34365962 | K18: =K6/K13 -> 0.41425076 | L18: =L6/L13 -> 0.38735889 | N18: =N6/N13 -> #DIV/0! | O18: =O6/O13 -> 0.33676238 | P18: =P6/P13 -> 0.38685082
A19: Wysokość Marży sumarycznej | B19: =B7/B14 -> 0.3404828 | C19: =C7/C14 -> 0.36037629 | D19: =D7/D14 -> 0.35994497 | F19: =F7/F14 -> 0.36139573 | G19: =G7/G14 -> 0.34764708 | H19: =H7/H14 -> 0.33609976 | J19: =J7/J14 -> 0.34365962 | K19: =K7/K14 -> 0.36426165 | L19: =L7/L14 -> 0.37280956 | N19: =N7/N14 -> #DIV/0! | O19: =O7/O14 -> 0.33676238 | P19: =P7/P14 -> 0.38685082
N21: PREMIE
A22: Wynagrodzenie zasadnicze | B22: 2800 | C22: 2800 | D22: 2800 | F22: 2800 | G22: 2800 | H22: 2800 | J22: 2800 | K22: 2800 | L22: 2800 | N22: 2800 | O22: 2800 | P22: 2800
A23: Wskaźnik Plan Sprzedaży Marża | B23: =B5 -> 15833.333 | C23: =C5 -> 33333.333 | D23: =D5 -> 50000 | F23: =F5 -> 15583.333 | G23: =G5 -> 28916.667 | H23: =H5 -> 55000 | J23: =J5 -> 14166.667 | K23: =K5 -> 28333.333 | L23: =L5 -> 46000 | N23: =N5 -> 0 | O23: =O5 -> 0 | P23: =P5 -> 15000
A24: Realizacja Wskaźnika Planu Sprzedaży Marża | B24: =B7 -> 19381.915 | C24: =C7 -> 36999.153 | D24: =D7 -> 52449.043 | F24: =F7 -> 15909.077 | G24: =G7 -> 23534.448 | H24: =H7 -> 33840.753 | J24: =J7 -> 15184.067 | K24: =K7 -> 22727.3 | L24: =L7 -> 36926.541 | N24: =N7 -> 0 | O24: =O7 -> 6695.2705 | P24: =P7 -> 29066.292
A25: Poziom realizacji Wskaźnika Sprzedaży Marża | B25: =B24/B23 -> 1.224121 | C25: =C24/C23 -> 1.1099746 | D25: =D24/D23 -> 1.0489809 | F25: =F24/F23 -> 1.0209034 | G25: =G24/G23 -> 0.81387142 | H25: =H24/H23 -> 0.61528641 | J25: =J24/J23 -> 1.0718165 | K25: =K24/K23 -> 0.80214002 | L25: =L24/L23 -> 0.80275089 | N25: =N24/N23 -> #DIV/0! | O25: =O24/O23 -> #DIV/0! | P25: =P24/P23 -> 1.9377528
A26: Wysokość premii Wskaźnik Sprzedaży Marża | B26: =B22*0.2 -> 560 | C26: =C22*0.2 -> 560 | D26: =D22*0.2 -> 560 | F26: =F22*0.2 -> 560 | G26: =G22*0.2 -> 560 | H26: =H22*0.2 -> 560 | J26: =J22*0.2 -> 560 | K26: =K22*0.2 -> 560 | L26: =L22*0.2 -> 560 | N26: =N22*0.2 -> 560 | O26: =O22*0.2 -> 560 | P26: =P22*0.2 -> 560
A27: Mnożnik premii miesięcznej Wskaźnika Sprzedaży Marża | B27: =IF(B25<80%,0,IF(B25<90%,0.5,IF(B25<95%,0.75,1))) -> 1 | C27: =IF(C25<80%,0,IF(C25<90%,0.5,IF(C25<95%,0.75,1))) -> 1 | D27: =IF(D25<80%,0,IF(D25<90%,0.5,IF(D25<95%,0.75,1))) -> 1 | F27: =IF(F25<80%,0,IF(F25<90%,0.5,IF(F25<95%,0.75,1))) -> 1 | G27: =IF(G25<80%,0,IF(G25<90%,0.5,IF(G25<95%,0.75,1))) -> 0.5 | H27: =IF(H25<80%,0,IF(H25<90%,0.5,IF(H25<95%,0.75,1))) -> 0 | J27: =IF(J25<80%,0,IF(J25<90%,0.5,IF(J25<95%,0.75,1))) -> 1 | K27: =IF(K25<80%,0,IF(K25<90%,0.5,IF(K25<95%,0.75,1))) -> 0.5 | L27: =IF(L25<80%,0,IF(L25<90%,0.5,IF(L25<95%,0.75,1))) -> 0.5 | N27: =IF(N25<80%,0,IF(N25<90%,0.5,IF(N25<95%,0.75,1))) -> #DIV/0! | O27: =IF(O25<80%,0,IF(O25<90%,0.5,IF(O25<95%,0.75,1))) -> #DIV/0! | P27: =IF(P25<80%,0,IF(P25<90%,0.5,IF(P25<95%,0.75,1))) -> 1
A28: Premia miesięczna za Wskaźnik Sprzedaży Marża | B28: =B27*B26 -> 560 | C28: =C27*C26 -> 560 | D28: =D27*D26 -> 560 | F28: =F27*F26 -> 560 | G28: =G27*G26 -> 280 | H28: =H27*H26 -> 0 | J28: =J27*J26 -> 560 | K28: =K27*K26 -> 280 | L28: =L27*L26 -> 280 | N28: =N27*N26 -> #DIV/0! | O28: =O27*O26 -> #DIV/0! | P28: =P27*P26 -> 560
A29: Wskaźnik Plan Sprzedaży Obrót | B29: =B12 -> 41166.667 | C29: =C12 -> 86666.667 | D29: =D12 -> 130000 | F29: =F12 -> 42500 | G29: =G12 -> 82500 | H29: =H12 -> 150000 | J29: =J12 -> 38816.667 | K29: =K12 -> 77483.333 | L29: =L12 -> 123000 | N29: =N12 -> 0 | O29: =O12 -> 0 | P29: =P12 -> 42000
A30: Realizacja Wskaźnika Planu Sprzedaży Obrót | B30: =B14 -> 56924.8 | C30: =C14 -> 102668.11 | D30: =D14 -> 145714.06 | F30: =F14 -> 44021.21 | G30: =G14 -> 67696.38 | H30: =H14 -> 100686.63 | J30: =J14 -> 44183.45 | K30: =K14 -> 62392.79 | L30: =L14 -> 99049.34 | N30: =N14 -> 0 | O30: =O14 -> 19881.29 | P30: =P14 -> 75135.66
A31: Poziom realizacji Wskaźnika Sprzedaży Obrót | B31: =B30/B29 -> 1.3827887 | C31: =C30/C29 -> 1.184632 | D31: =D30/D29 -> 1.1208774 | F31: =F30/F29 -> 1.0357932 | G31: =G30/G29 -> 0.82056218 | H31: =H30/H29 -> 0.6712442 | J31: =J30/J29 -> 1.1382598 | K31: =K30/K29 -> 0.80524143 | L31: =L30/L29 -> 0.80527919 | N31: =N30/N29 -> #DIV/0! | O31: =O30/O29 -> #DIV/0! | P31: =P30/P29 -> 1.7889443
A32: Wysokość premii Wskaźnik Sprzedaży Obrót | B32: =B22*0.2 -> 560 | C32: =C22*0.2 -> 560 | D32: =D22*0.2 -> 560 | F32: =F22*0.2 -> 560 | G32: =G22*0.2 -> 560 | H32: =H22*0.2 -> 560 | J32: =J22*0.2 -> 560 | K32: =K22*0.2 -> 560 | L32: =L22*0.2 -> 560 | N32: =N22*0.2 -> 560 | O32: =O22*0.2 -> 560 | P32: =P22*0.2 -> 560
A33: Mnożnik premii miesięcznej Wskaźnika Sprzedaży Obrót | B33: =IF(B31<80%,0,IF(B31<90%,0.5,IF(B31<95%,0.75,1))) -> 1 | C33: =IF(C31<80%,0,IF(C31<90%,0.5,IF(C31<95%,0.75,1))) -> 1 | D33: =IF(D31<80%,0,IF(D31<90%,0.5,IF(D31<95%,0.75,1))) -> 1 | F33: =IF(F31<80%,0,IF(F31<90%,0.5,IF(F31<95%,0.75,1))) -> 1 | G33: =IF(G31<80%,0,IF(G31<90%,0.5,IF(G31<95%,0.75,1))) -> 0.5 | H33: =IF(H31<80%,0,IF(H31<90%,0.5,IF(H31<95%,0.75,1))) -> 0 | J33: =IF(J31<80%,0,IF(J31<90%,0.5,IF(J31<95%,0.75,1))) -> 1 | K33: =IF(K31<80%,0,IF(K31<90%,0.5,IF(K31<95%,0.75,1))) -> 0.5 | L33: =IF(L31<80%,0,IF(L31<90%,0.5,IF(L31<95%,0.75,1))) -> 0.5 | N33: =IF(N31<80%,0,IF(N31<90%,0.5,IF(N31<95%,0.75,1))) -> #DIV/0! | O33: =IF(O31<80%,0,IF(O31<90%,0.5,IF(O31<95%,0.75,1))) -> #DIV/0! | P33: =IF(P31<80%,0,IF(P31<90%,0.5,IF(P31<95%,0.75,1))) -> 1
A34: Premia miesięczna za Wskaźnik Sprzedaży Obrót | B34: =B33*B32 -> 560 | C34: =C33*C32 -> 560 | D34: =D33*D32 -> 560 | F34: =F33*F32 -> 560 | G34: =G33*G32 -> 280 | H34: =H33*H32 -> 0 | J34: =J33*J32 -> 560 | K34: =K33*K32 -> 280 | L34: =L33*L32 -> 280 | N34: =N33*N32 -> #DIV/0! | O34: =O33*O32 -> #DIV/0! | P34: =P33*P32 -> 560
A35: Wskaźnik CRM | B35: 1 | C35: 1 | D35: 1 | F35: 1 | G35: 1 | H35: 1 | J35: 1 | K35: 1 | L35: 1 | N35: 1 | O35: 1 | P35: 1
A36: Wysokość premii CRM | B36: =B22*0.1 -> 280 | C36: =C22*0.1 -> 280 | D36: =D22*0.1 -> 280 | F36: =F22*0.1 -> 280 | G36: =G22*0.1 -> 280 | H36: =H22*0.1 -> 280 | J36: =J22*0.1 -> 280 | K36: =K22*0.1 -> 280 | L36: =L22*0.1 -> 280 | N36: =N22*0.1 -> 280 | O36: =O22*0.1 -> 280 | P36: =P22*0.1 -> 280
A37: Mnożnik premii Wskaźnik CRM | B37: 1 | C37: 1 | D37: 1 | F37: 1 | G37: 1 | H37: 1 | J37: 1 | K37: 1 | L37: 1 | P37: 1
A38: Premia miesięczna za Wskaźnik CRM | B38: =B37*B36 -> 280 | C38: =C37*C36 -> 280 | D38: =D37*D36 -> 280 | F38: =F37*F36 -> 280 | G38: =G37*G36 -> 280 | H38: =H37*H36 -> 280 | J38: =J37*J36 -> 280 | K38: =K37*K36 -> 280 | L38: =L37*L36 -> 280 | N38: =N37*N36 -> 0 | O38: =O37*O36 -> 0 | P38: =P37*P36 -> 280
A39: Suma Premii miesięcznych | B39: =B34+B28+B38 -> 1400 | C39: =C34+C28+C38 -> 1400 | D39: =D34+D28+D38 -> 1400 | F39: =F34+F28+F38 -> 1400 | G39: =G34+G28+G38 -> 840 | H39: =H34+H28+H38 -> 280 | J39: =J34+J28+J38 -> 1400 | K39: =K34+K28+K38 -> 840 | L39: =L34+L28+L38 -> 840 | N39: =N34+N28+N38 -> #DIV/0! | O39: =O34+O28+O38 -> #DIV/0! | P39: =P34+P28+P38 -> 1400
A40: Wskaźnik Premia Kwartalna Marża | B40: =D5 -> 50000 | F40: =H5 -> 55000 | J40: =L5 -> 46000 | N40: =P5 -> 15000
A41: Realizacja Wskaźnika Premia Kwartalna | B41: =D7 -> 52449.043 | F41: =H7 -> 33840.753 | J41: =L7 -> 36926.541 | N41: =P7 -> 29066.292
A42: Poziom realizacji Wskaźnika Premia Kwartalna | B42: =B41/B40 -> 1.0489809 | F42: =F41/F40 -> 0.61528641 | J42: =J41/J40 -> 0.80275089 | N42: =N41/N40 -> 1.9377528
A43: Wysokość premii kwartalnej. | B43: =D22 -> 2800 | F43: =H22 -> 2800 | J43: =L22 -> 2800 | N43: =P22 -> 2800
A44: Mnożnik premii kwartalnej | B44: =IF(B42<100%,0,IF(B42<110%,0.5,IF(B42<120%,0.7,1))) -> 0.5 | F44: =IF(F42<100%,0,IF(F42<110%,0.5,IF(F42<120%,0.7,1))) -> 0 | J44: =IF(J42<100%,0,IF(J42<110%,0.5,IF(J42<120%,0.7,1))) -> 0 | N44: =IF(N42<100%,0,IF(N42<110%,0.5,IF(N42<120%,0.7,1))) -> 1
A45: Premia kwartalna | B45: =B44*B43 -> 1400 | F45: =F44*F43 -> 0 | J45: =J44*J43 -> 0 | N45: =N44*N43 -> 2800
A47: SPRZEDAŻ DRUKAREK | B47: październik | C47: listopad | D47: grudzień | E47: KW IV | F47: lipiec | G47: sierpień | H47: wrzesień | I47: KW III | J47: kwiecień | K47: maj | L47: czerwiec | M47: KW II | N47: styczeń | O47: luty | P47: marzec | Q47: KW I | R47: suma ROK
A48: CL-S521 | E48: =SUM(B48:D48) -> 0 | I48: =SUM(F48:H48) -> 0 | M48: =SUM(J48:L48) -> 0 | Q48: =SUM(N48:P48) -> 0 | R48: =Q48+M48+I48+E48 -> 0
A49: CL-S621 | B49: 1 | C49: 2 | E49: =SUM(B49:D49) -> 3 | G49: 1 | I49: =SUM(F49:H49) -> 1 | M49: =SUM(J49:L49) -> 0 | Q49: =SUM(N49:P49) -> 0 | R49: =Q49+M49+I49+E49 -> 4
A50: CL-S6621 | E50: =SUM(B50:D50) -> 0 | I50: =SUM(F50:H50) -> 0 | M50: =SUM(J50:L50) -> 0 | Q50: =SUM(N50:P50) -> 0 | R50: =Q50+M50+I50+E50 -> 0
A51: CL-S631 | B51: 1 | E51: =SUM(B51:D51) -> 1 | F51: 1 | H51: 1 | I51: =SUM(F51:H51) -> 2 | M51: =SUM(J51:L51) -> 0 | Q51: =SUM(N51:P51) -> 0 | R51: =Q51+M51+I51+E51 -> 3
A52: CL-S700 | D52: 1 | E52: =SUM(B52:D52) -> 1 | I52: =SUM(F52:H52) -> 0 | K52: 1 | M52: =SUM(J52:L52) -> 1 | Q52: =SUM(N52:P52) -> 0 | R52: =Q52+M52+I52+E52 -> 2
A53: CL-S700R | E53: =SUM(B53:D53) -> 0 | I53: =SUM(F53:H53) -> 0 | M53: =SUM(J53:L53) -> 0 | Q53: =SUM(N53:P53) -> 0 | R53: =Q53+M53+I53+E53 -> 0
A54: CL-S703 | E54: =SUM(B54:D54) -> 0 | G54: 1 | I54: =SUM(F54:H54) -> 1 | M54: =SUM(J54:L54) -> 0 | Q54: =SUM(N54:P54) -> 0 | R54: =Q54+M54+I54+E54 -> 1
A55: CL-S703R | E55: =SUM(B55:D55) -> 0 | I55: =SUM(F55:H55) -> 0 | M55: =SUM(J55:L55) -> 0 | Q55: =SUM(N55:P55) -> 0 | R55: =Q55+M55+I55+E55 -> 0
A56: CLE-720 | O56: 1 | R56: =Q56+M56+I56+E56 -> 0
A57: CLE-730 | R57: =Q57+M57+I57+E57 -> 0
A58: CLP 8301 | E58: =SUM(B58:D58) -> 0 | I58: =SUM(F58:H58) -> 0 | M58: =SUM(J58:L58) -> 0 | Q58: =SUM(N58:P58) -> 0 | R58: =Q58+M58+I58+E58 -> 0
A59: ZEBRA | E59: =SUM(B59:D59) -> 0 | I59: =SUM(F59:H59) -> 0 | M59: =SUM(J59:L59) -> 0 | Q59: =SUM(N59:P59) -> 0 | R59: =Q59+M59+I59+E59 -> 0
A60: INNE | E60: =SUM(B60:D60) -> 0 | I60: =SUM(F60:H60) -> 0 | M60: =SUM(J60:L60) -> 0 | Q60: =SUM(N60:P60) -> 0 | R60: =Q60+M60+I60+E60 -> 0
A61: SUMA: | B61: =SUM(B48:B60) -> 2 | C61: =SUM(C48:C60) -> 2 | D61: =SUM(D48:D60) -> 1 | E61: =SUM(B61:D61) -> 5 | F61: =SUM(F48:F60) -> 1 | G61: =SUM(G48:G60) -> 2 | H61: =SUM(H48:H60) -> 1 | I61: =SUM(F61:H61) -> 4 | J61: =SUM(J48:J60) -> 0 | K61: =SUM(K48:K60) -> 1 | L61: =SUM(L48:L60) -> 0 | M61: =SUM(J61:L61) -> 1 | N61: =SUM(N48:N60) -> 0 | O61: =SUM(O48:O60) -> 1 | P61: =SUM(P48:P60) -> 0 | Q61: =SUM(N61:P61) -> 1 | R61: =Q61+M61+I61+E61 -> 11
A63: Raport za miesiąc: | B63: paździer. | C63: listopad | D63: grudzień | E63: KW IV | F63: lipiec | G63: sierpień | H63: wrzesień | I63: KW III | J63: kwiecień | K63: maj | L63: czerwiec | M63: KW II | N63: styczeń | O63: luty | P63: marzec | Q63: Suma IKW | R63: Suma
A64: Ilość nowych Klientów: | B64: 2 | C64: 2 | D64: 0 | E64: =SUM(B64:D64) -> 4 | F64: 1 | G64: 2 | H64: 1 | I64: =SUM(F64:H64) -> 4 | J64: 0 | K64: 0 | L64: 1 | M64: =SUM(J64:L64) -> 1 | N64: 0 | O64: 1 | P64: 0 | Q64: =SUM(N64:P64) -> 1 | R64: =Q64+M64+I64+E64 -> 10
A65: Ilość Klientów przekaz. z Gliwic lub zm. nazwę/NIP. | B65: 0 | C65: 0 | D65: 1 | E65: =SUM(B65:D65) -> 1 | F65: 0 | G65: 0 | H65: 0 | I65: =SUM(F65:H65) -> 0 | J65: 1 | K65: 1 | L65: 0 | M65: =SUM(J65:L65) -> 2 | N65: 0 | O65: 1 | P65: 1 | Q65: =SUM(N65:P65) -> 2 | R65: =Q65+M65+I65+E65 -> 5
A66: Ilość Podmiotów na etapie współpracy Klient: | B66: 94 | C66: 97 | D66: 157 | F66: 85 | G66: 89 | H66: 91 | J66: 52 | K66: 54 | L66: 84 | N66: 16 | O66: 48 | P66: 49
A67: Ilość Podmiotów na etapie współpracy Handlowy: | B67: 39 | C67: 39 | D67: 38 | F67: 34 | G67: 37 | H67: 39 | J67: 27 | K67: 27 | L67: 32 | N67: 4 | O67: 11 | P67: 11
A68: Ilość Podmiotów na etapie współpracy Klient nieaktywny: | B68: 21 | C68: 21 | D68: 20 | F68: 23 | G68: 22 | H68: 22 | J68: 18 | K68: 16 | L68: 23 | N68: 1 | O68: 5 | P68: 6
A69: Ilość Podmiotów pod opieką: | B69: 154 | C69: 157 | D69: 215 | F69: =SUM(F66:F68) -> 142 | G69: =SUM(G66:G68) -> 148 | H69: =SUM(H66:H68) -> 152 | J69: =SUM(J66:J68) -> 97 | K69: =SUM(K66:K68) -> 97 | L69: =SUM(L66:L68) -> 139 | N69: =SUM(N66:N68) -> 21 | O69: =SUM(O66:O68) -> 64 | P69: =SUM(P66:P68) -> 66
A70: Ilość sprzedanych drukarek: | B70: 2 | C70: 2 | D70: 1 | E70: =SUM(B70:D70) -> 5 | F70: 1 | G70: 2 | H70: 1 | I70: =SUM(F70:H70) -> 4 | J70: 0 | K70: 1 | L70: 0 | M70: =SUM(J70:L70) -> 1 | N70: 0 | O70: 1 | P70: 0 | Q70: =SUM(N70:P70) -> 1 | R70: =Q70+M70+I70+E70 -> 11
A71: Ilość ofert dodanych w danym miesiącu: | B71: 23 | C71: 23 | D71: 15 | E71: =SUM(B71:D71) -> 61 | F71: 14 | G71: 38 | H71: 35 | I71: =SUM(F71:H71) -> 87 | J71: 23 | K71: 22 | L71: 32 | M71: =SUM(J71:L71) -> 77 | N71: 10 | O71: 17 | P71: 26 | Q71: =SUM(N71:P71) -> 53 | R71: =Q71+M71+I71+E71 -> 278
A72: Ilość ofert oczekujących na decyzję kontrahenta: | B72: 13 | C72: 7 | D72: 9 | F72: 5 | G72: 21 | H72: 24 | J72: 13 | K72: 11 | L72: 13 | N72: 7 | O72: 9 | P72: 7
A73: Ilość zaakceptowanych ofert przez kontrahenta: | B73: 15 | C73: 12 | D73: 0 | F73: 10 | G73: 5 | H73: 11 | J73: 9 | K73: 4 | L73: 18 | N73: 1 | O73: 3 | P73: 8
A74: Ilość odrzuconych ofert przez kontrahenta: | B74: 14 | C74: 23 | D74: 5 | F74: 12 | G74: 15 | H74: 22 | J74: 26 | K74: 9 | L74: 28 | N74: 2 | O74: 5 | P74: 4
A75: Ilość przekazanych podmiotów z Marketingu: | B75: 1 | C75: 2 | D75: 1 | E75: =SUM(B75:D75) -> 4 | F75: 2 | G75: 4 | H75: 1 | I75: =SUM(F75:H75) -> 7 | J75: 5 | K75: 1 | L75: 1 | M75: =SUM(J75:L75) -> 7 | N75: 2 | O75: 1 | P75: 3 | Q75: =SUM(N75:P75) -> 6 | R75: =Q75+M75+I75+E75 -> 24
A76: Ilość przekazanych podmiotów do prowadzenia od KDH: | B76: 3 | C76: 3 | D76: 2 | E76: =SUM(B76:D76) -> 8 | F76: 35 | G76: 3 | H76: 6 | I76: =SUM(F76:H76) -> 44 | J76: 17 | K76: 20 | L76: 11 | M76: =SUM(J76:L76) -> 48 | N76: 1 | O76: 17 | P76: 31 | Q76: =SUM(N76:P76) -> 49 | R76: =Q76+M76+I76+E76 -> 149
A77: Ilość odebranych podmiotów (zmiana prowadzącego): | B77: 0 | C77: 0 | D77: 0 | E77: =SUM(B77:D77) -> 0 | F77: 0 | G77: 0 | H77: 0 | I77: =SUM(F77:H77) -> 0 | J77: 0 | K77: 0 | L77: 0 | M77: =SUM(J77:L77) -> 0 | N77: 0 | O77: 0 | P77: 0 | Q77: =SUM(N77:P77) -> 0 | R77: =Q77+M77+I77+E77 -> 0
A78: Ilość spotkań z Klientami: | B78: 8 | C78: 1 | D78: 1 | E78: =SUM(B78:D78) -> 10 | F78: 8 | G78: 8 | H78: 5 | I78: =SUM(F78:H78) -> 21 | J78: 3 | K78: 4 | L78: 4 | M78: =SUM(J78:L78) -> 11 | N78: 1 | O78: 1 | P78: 2 | Q78: =SUM(N78:P78) -> 4 | R78: =Q78+M78+I78+E78 -> 46
A79: Ilość aktualnie otwartych wdrożeń: | B79: 27 | C79: 25 | D79: 31 | F79: 36 | G79: 33 | H79: 36 | J79: 27 | K79: 26 | L79: 33 | N79: 8 | O79: 26 | P79: 27
A80: Ilość wdrożeń dodanych w danym miesiącu: | B80: 1 | C80: 9 | D80: 5 | E80: =SUM(B80:D80) -> 15 | F80: 10 | G80: 20 | H80: 7 | I80: =SUM(F80:H80) -> 37 | J80: 18 | K80: 12 | L80: 15 | M80: =SUM(J80:L80) -> 45 | N80: 7 | O80: 16 | P80: 12 | Q80: =SUM(N80:P80) -> 35 | R80: =Q80+M80+I80+E80 -> 132
A81: Ilość wdrożeń zamkniętych pozytywnie w danym mcu: | B81: 5 | C81: 7 | D81: 2 | E81: =SUM(B81:D81) -> 14 | F81: 6 | G81: 6 | H81: 2 | I81: =SUM(F81:H81) -> 14 | J81: 6 | K81: 6 | L81: 8 | M81: =SUM(J81:L81) -> 20 | N81: 0 | O81: 5 | P81: 8 | Q81: =SUM(N81:P81) -> 13 | R81: =Q81+M81+I81+E81 -> 61
A82: Ilość wdrożeń zamkniętych negatywnie w danym mcu: | B82: 5 | C82: 4 | D82: 0 | E82: =SUM(B82:D82) -> 9 | F82: 1 | G82: 16 | H82: 4 | I82: =SUM(F82:H82) -> 21 | J82: 14 | K82: 9 | L82: 1 | M82: =SUM(J82:L82) -> 24 | N82: 3 | O82: 5 | P82: 10 | Q82: =SUM(N82:P82) -> 18 | R82: =Q82+M82+I82+E82 -> 72 | S82: =R82/D84 -> 1
A83: Ilość aktualnie odłożonych wdrożeń: | B83: 0 | C83: 0 | D83: 0 | F83: 0 | G83: 0 | H83: 0 | J83: 2 | K83: 1 | L83: 0 | N83: 0 | O83: 10 | P83: 3 | S83: =R83/D84 -> 0
D84: =SUM(R82:R83) -> 72

Sheet BARTEK
A1: Bartłomiej Biskupski | B1: PLAN IV KW BARTŁOMIEJ BISKUPSKI | F1: PLAN III KW BARTŁOMIEJ BISKUPSKI | J1: PLAN II KW BARTŁOMIEJ BISKUPSKI | N1: PLAN I KW BARTŁOMIEJ BISKUPSKI
A2: miesiąc | B2: październik | C2: listopad | D2: grudzień | E2: KW IV | F2: lipiec | G2: sierpień | H2: wrzesień | I2: KW III | J2: kwiecień | K2: maj | L2: czerwiec | M2: KW II | N2: styczeń | O2: luty | P2: marzec | Q2: KW I | R2: suma ROK
A4: Plan Sprzedaży Marża | B4: ='Target 2017'!L7 -> 41166.667 | C4: ='Target 2017'!M7 -> 45500 | D4: ='Target 2017'!N7 -> 43333.333 | E4: =SUM(B4:D4) -> 130000 | F4: ='Target 2017'!I7 -> 36266.667 | G4: ='Target 2017'!J7-5000 -> 37666.667 | H4: ='Target 2017'!K7+5000 -> 54066.667 | I4: =SUM(F4:H4) -> 128000 | J4: ='Target 2017'!F7 -> 37683.333 | K4: ='Target 2017'!G7 -> 44333.333 | L4: ='Target 2017'!H7 -> 50983.333 | M4: =SUM(J4:L4) -> 133000 | N4: ='Target 2017'!C7 -> 40500 | O4: ='Target 2017'!D7-2000 -> 43000 | P4: ='Target 2017'!E7+2000-5000 -> 46500 | Q4: =SUM(N4:P4) -> 130000 | R4: =Q4+M4+I4+E4 -> 521000
A5: Sumaryczny Plan Sprzedaży Marża | B5: =B4 -> 41166.667 | C5: =C4+B5 -> 86666.667 | D5: =D4+C5 -> 130000 | F5: =F4 -> 36266.667 | G5: =G4+F5 -> 73933.333 | H5: =H4+G5 -> 128000 | J5: =J4 -> 37683.333 | K5: =K4+J5 -> 82016.667 | L5: =L4+K5 -> 133000 | N5: =N4 -> 40500 | O5: =O4+N5 -> 83500 | P5: =P4+O5 -> 130000
A6: Miesięczna realizacja Planu Sprzedaży Marża | B6: =SUMIF(X!A:A,$A$1,X!I:I) -> 69440.921 | C6: =SUMIF(XI!A:A,$A$1,XI!I:I) -> 72399.137 | D6: =SUMIF(XII!A:A,$A$1,XII!I:I) -> 16984.502 | E6: =SUM(B6:D6) -> 158824.56 | F6: =SUMIF(VII!A:A,$A$1,VII!I:I) -> 41012.433 | G6: =SUMIF(VIII!A:A,$A$1,VIII!I:I) -> 29789.77 | H6: =SUMIF(IX!A:A,$A$1,IX!I:I) -> 59884.602 | I6: =SUM(F6:H6) -> 130686.8 | J6: =SUMIF(IV!A:A,$A$1,IV!I:I) -> 38282.853 | K6: =SUMIF(V!A:A,$A$1,V!I:I) -> 67856.705 | L6: =SUMIF(VI!A:A,$A$1,VI!I:I) -> 40269.135 | M6: =SUM(J6:L6) -> 146408.69 | N6: =SUMIF(I!A:A,$A$1,I!I:I) -> 40074.196 | O6: =SUMIF(II!A:A,$A$1,II!I:I) -> 35367.347 | P6: =SUMIF(III!A:A,$A$1,III!I:I) -> 48756.292 | Q6: =SUM(N6:P6) -> 124197.84 | R6: =Q6+M6+I6+E6 -> 560117.89
A7: Sumaryczna realizacja planu sprzedaży Marża | B7: =B6 -> 69440.921 | C7: =C6+B7 -> 141840.06 | D7: =D6+C7 -> 158824.56 | F7: =F6 -> 41012.433 | G7: =G6+F7 -> 70802.202 | H7: =H6+G7 -> 130686.8 | J7: =J6 -> 38282.853 | K7: =K6+J7 -> 106139.56 | L7: =L6+K7 -> 146408.69 | N7: =N6 -> 40074.196 | O7: =O6+N7 -> 75441.543 | P7: =P6+O7 -> 124197.84
A8: Wysokość zrealizowania Miesięcznego Planu Sprzedaży Marża | B8: =B6/B4 -> 1.686824 | C8: =C6/C4 -> 1.5911898 | D8: =D6/D4 -> 0.39195005 | F8: =F6/F4 -> 1.1308575 | G8: =G6/G4 -> 0.79087884 | H8: =H6/H4 -> 1.1076067 | J8: =J6/J4 -> 1.0159094 | K8: =K6/K4 -> 1.5306024 | L8: =L6/L4 -> 0.789849 | N8: =N6/N4 -> 0.98948632 | O8: =O6/O4 -> 0.82249645 | P8: =P6/P4 -> 1.0485224
A9: Wysokość zrealizowania Planu Sprzedaży Marża | B9: =B7/B5 -> 1.686824 | C9: =C7/C5 -> 1.6366161 | D9: =D7/D5 -> 1.2217274 | F9: =F7/F5 -> 1.1308575 | G9: =G7/G5 -> 0.95764927 | H9: =H7/H5 -> 1.0209907 | J9: =J7/J5 -> 1.0159094 | K9: =K7/K5 -> 1.2941218 | L9: =L7/L5 -> 1.1008172 | N9: =N7/N5 -> 0.98948632 | O9: =O7/O5 -> 0.90349154 | P9: =P7/P5 -> 0.95536796
A10: Różnica wskaźnika Marża | B10: =B7-B5 -> 28274.255 | C10: =C7-C5 -> 55173.392 | D10: =D7-D5 -> 28824.561 | F10: =F7-F5 -> 4745.7662 | G10: =G7-G5 -> -3131.1309 | H10: =H7-H5 -> 2686.8043 | J10: =J7-J5 -> 599.51977 | K10: =K7-K5 -> 24122.892 | L10: =L7-L5 -> 13408.694 | N10: =N7-N5 -> -425.804 | O10: =O7-O5 -> -8058.4566 | P10: =P7-P5 -> -5802.1646
A11: Plan Sprzedaży Obrót | B11: ='Target 2017'!L17 -> 136166.67 | C11: ='Target 2017'!M17 -> 150500 | D11: ='Target 2017'!N17 -> 143333.33 | E11: =SUM(B11:D11) -> 430000 | F11: ='Target 2017'!I17 -> 113333.33 | G11: ='Target 2017'!J17 -> 133333.33 | H11: ='Target 2017'!K17 -> 153333.33 | I11: =SUM(F11:H11) -> 400000 | J11: ='Target 2017'!F17 -> 113333.33 | K11: ='Target 2017'!G17 -> 133333.33 | L11: ='Target 2017'!H17 -> 153333.33 | M11: =SUM(J11:L11) -> 400000 | N11: ='Target 2017'!C17 -> 123000 | O11: ='Target 2017'!D17-15000 -> 121666.67 | P11: ='Target 2017'!E17+15000-10000 -> 155333.33 | Q11: =SUM(N11:P11) -> 400000 | R11: =Q11+M11+I11+E11 -> 1630000
A12: Sumaryczny Plan Sprzedaży Obrót | B12: =B11 -> 136166.67 | C12: =C11+B12 -> 286666.67 | D12: =D11+C12 -> 430000 | F12: =F11 -> 113333.33 | G12: =G11+F12 -> 246666.67 | H12: =H11+G12 -> 400000 | J12: =J11 -> 113333.33 | K12: =K11+J12 -> 246666.67 | L12: =L11+K12 -> 400000 | N12: =N11 -> 123000 | O12: =O11+N12 -> 244666.67 | P12: =P11+O12 -> 400000
A13: Miesięczna realizacja Planu Sprzedaży Obrót | B13: =SUMIF(X!A:A,$A$1,X!G:G) -> 204705.79 | C13: =SUMIF(XI!A:A,$A$1,XI!G:G) -> 235575.59 | D13: =SUMIF(XII!A:A,$A$1,XII!G:G) -> 45635.68 | E13: =SUM(B13:D13) -> 485917.06 | F13: =SUMIF(VII!A:A,$A$1,VII!G:G) -> 151692.36 | G13: =SUMIF(VIII!A:A,$A$1,VIII!G:G) -> 140030.16 | H13: =SUMIF(IX!A:A,$A$1,IX!G:G) -> 224657.98 | I13: =SUM(F13:H13) -> 516380.5 | J13: =SUMIF(IV!A:A,$A$1,IV!G:G) -> 124699.24 | K13: =SUMIF(V!A:A,$A$1,V!G:G) -> 257082.76 | L13: =SUMIF(VI!A:A,$A$1,VI!G:G) -> 150759.35 | M13: =SUM(J13:L13) -> 532541.35 | N13: =SUMIF(I!A:A,$A$1,I!G:G) -> 133265.91 | O13: =SUMIF(II!A:A,$A$1,II!G:G) -> 88689.13 | P13: =SUMIF(III!A:A,$A$1,III!G:G) -> 159158.05 | Q13: =SUM(N13:P13) -> 381113.09 | R13: =Q13+M13+I13+E13 -> 1915952
A14: Sumaryczna realizacja planu sprzedaży Obrót | B14: =B13 -> 204705.79 | C14: =C13+B14 -> 440281.38 | D14: =D13+C14 -> 485917.06 | F14: =F13 -> 151692.36 | G14: =G13+F14 -> 291722.52 | H14: =H13+G14 -> 516380.5 | J14: =J13 -> 124699.24 | K14: =K13+J14 -> 381782 | L14: =L13+K14 -> 532541.35 | N14: =N13 -> 133265.91 | O14: =O13+N14 -> 221955.04 | P14: =P13+O14 -> 381113.09
A15: Wysokość zrealizowania Miesięcznego Planu Sprzedaży Obrót | B15: =B13/B11 -> 1.5033473 | C15: =C13/C11 -> 1.5652863 | D15: =D13/D11 -> 0.31838846 | F15: =F13/F11 -> 1.338462 | G15: =G13/G11 -> 1.0502262 | H15: =H13/H11 -> 1.4651607 | J15: =J13/J11 -> 1.1002874 | K15: =K13/K11 -> 1.9281207 | L15: =L13/L11 -> 0.98321315 | N15: =N13/N11 -> 1.0834627 | O15: =O13/O11 -> 0.72895175 | P15: =P13/P11 -> 1.0246226
A16: Wysokość zrealizowania Planu Sprzedaży Obrót | B16: =B14/B12 -> 1.5033473 | C16: =C14/C12 -> 1.5358653 | D16: =D14/D12 -> 1.1300397 | F16: =F14/F12 -> 1.338462 | G16: =G14/G12 -> 1.1826589 | H16: =H14/H12 -> 1.2909512 | J16: =J14/J12 -> 1.1002874 | K16: =K14/K12 -> 1.5477649 | L16: =L14/L12 -> 1.3313534 | N16: =N14/N12 -> 1.0834627 | O16: =O14/O12 -> 0.90717319 | P16: =P14/P12 -> 0.95278272
A17: Różnica wskaźnika Obrót | B17: =B14-B12 -> 68539.123 | C17: =C14-C12 -> 153614.71 | D17: =D14-D12 -> 55917.06 | F17: =F14-F12 -> 38359.027 | G17: =G14-G12 -> 45055.853 | H17: =H14-H12 -> 116380.5 | J17: =J14-J12 -> 11365.907 | K17: =K14-K12 -> 135115.33 | L17: =L14-L12 -> 132541.35 | N17: =N14-N12 -> 10265.91 | O17: =O14-O12 -> -22711.627 | P17: =P14-P12 -> -18886.91
A18: Wysokość Marży miesięcznej | B18: =B6/B13 -> 0.33922305 | C18: =C6/C13 -> 0.30732869 | D18: =D6/D13 -> 0.37217594 | F18: =F6/F13 -> 0.27036584 | G18: =G6/G13 -> 0.21273824 | H18: =H6/H13 -> 0.26655898 | J18: =J6/J13 -> 0.30700149 | K18: =K6/K13 -> 0.26394888 | L18: =L6/L13 -> 0.26710871 | N18: =N6/N13 -> 0.30070853 | O18: =O6/O13 -> 0.39877883 | P18: =P6/P13 -> 0.30633884
A19: Wysokość Marży sumarycznej | B19: =B7/B14 -> 0.33922305 | C19: =C7/C14 -> 0.32215775 | D19: =D7/D14 -> 0.32685529 | F19: =F7/F14 -> 0.27036584 | G19: =G7/G14 -> 0.24270393 | H19: =H7/H14 -> 0.25308238 | J19: =J7/J14 -> 0.30700149 | K19: =K7/K14 -> 0.2780109 | L19: =L7/L14 -> 0.27492456 | N19: =N7/N14 -> 0.30070853 | O19: =O7/O14 -> 0.33989561 | P19: =P7/P14 -> 0.32588184
N21: PREMIE
A22: Wynagrodzenie zasadnicze | B22: 3300 | C22: 3300 | D22: 3300 | F22: 3300 | G22: 3300 | H22: 3300 | J22: 3300 | K22: 3300 | L22: 3300 | N22: 2800 | O22: 3300 | P22: 3300
A23: Wskaźnik Plan Sprzedaży Marża | B23: =B5 -> 41166.667 | C23: =C5 -> 86666.667 | D23: =D5 -> 130000 | F23: =F5 -> 36266.667 | G23: =G5 -> 73933.333 | H23: =H5 -> 128000 | J23: =J5 -> 37683.333 | K23: =K5 -> 82016.667 | L23: =L5 -> 133000 | N23: =N5 -> 40500 | O23: =O5 -> 83500 | P23: =P5 -> 130000
A24: Realizacja Wskaźnika Planu Sprzedaży Marża | B24: =B7 -> 69440.921 | C24: =C7 -> 141840.06 | D24: =D7 -> 158824.56 | F24: =F7 -> 41012.433 | G24: =G7 -> 70802.202 | H24: =H7 -> 130686.8 | J24: =J7 -> 38282.853 | K24: =K7 -> 106139.56 | L24: =L7 -> 146408.69 | N24: =N7 -> 40074.196 | O24: =O7 -> 75441.543 | P24: =P7 -> 124197.84
A25: Poziom realizacji Wskaźnika Sprzedaży Marża | B25: =B24/B23 -> 1.686824 | C25: =C24/C23 -> 1.6366161 | D25: =D24/D23 -> 1.2217274 | F25: =F24/F23 -> 1.1308575 | G25: =G24/G23 -> 0.95764927 | H25: =H24/H23 -> 1.0209907 | J25: =J24/J23 -> 1.0159094 | K25: =K24/K23 -> 1.2941218 | L25: =L24/L23 -> 1.1008172 | N25: =N24/N23 -> 0.98948632 | O25: =O24/O23 -> 0.90349154 | P25: =P24/P23 -> 0.95536796
A26: Wysokość premii Wskaźnik Sprzedaży Marża | B26: =B22*0.2 -> 660 | C26: =C22*0.2 -> 660 | D26: =D22*0.2 -> 660 | F26: =F22*0.2 -> 660 | G26: =G22*0.2 -> 660 | H26: =H22*0.2 -> 660 | J26: =J22*0.2 -> 660 | K26: =K22*0.2 -> 660 | L26: =L22*0.2 -> 660 | N26: =N22*0.2 -> 560 | O26: =O22*0.2 -> 660 | P26: =P22*0.2 -> 660
A27: Mnożnik premii miesięcznej Wskaźnika Sprzedaży Marża | B27: =IF(B25<80%,0,IF(B25<90%,0.5,IF(B25<95%,0.75,1))) -> 1 | C27: =IF(C25<80%,0,IF(C25<90%,0.5,IF(C25<95%,0.75,1))) -> 1 | D27: =IF(D25<80%,0,IF(D25<90%,0.5,IF(D25<95%,0.75,1))) -> 1 | F27: =IF(F25<80%,0,IF(F25<90%,0.5,IF(F25<95%,0.75,1))) -> 1 | G27: =IF(G25<80%,0,IF(G25<90%,0.5,IF(G25<95%,0.75,1))) -> 1 | H27: =IF(H25<80%,0,IF(H25<90%,0.5,IF(H25<95%,0.75,1))) -> 1 | J27: =IF(J25<80%,0,IF(J25<90%,0.5,IF(J25<95%,0.75,1))) -> 1 | K27: =IF(K25<80%,0,IF(K25<90%,0.5,IF(K25<95%,0.75,1))) -> 1 | L27: =IF(L25<80%,0,IF(L25<90%,0.5,IF(L25<95%,0.75,1))) -> 1 | N27: =IF(N25<80%,0,IF(N25<90%,0.5,IF(N25<95%,0.75,1))) -> 1 | O27: =IF(O25<80%,0,IF(O25<90%,0.5,IF(O25<95%,0.75,1))) -> 0.75 | P27: =IF(P25<80%,0,IF(P25<90%,0.5,IF(P25<95%,0.75,1))) -> 1
A28: Premia miesięczna za Wskaźnik Sprzedaży Marża | B28: =B27*B26 -> 660 | C28: =C27*C26 -> 660 | D28: =D27*D26 -> 660 | F28: =F27*F26 -> 660 | G28: =G27*G26 -> 660 | H28: =H27*H26 -> 660 | J28: =J27*J26 -> 660 | K28: =K27*K26 -> 660 | L28: =L27*L26 -> 660 | N28: =N27*N26 -> 560 | O28: =O27*O26 -> 495 | P28: =P27*P26 -> 660
A29: Wskaźnik Plan Sprzedaży Obrót | B29: =B12 -> 136166.67 | C29: =C12 -> 286666.67 | D29: =D12 -> 430000 | F29: =F12 -> 113333.33 | G29: =G12 -> 246666.67 | H29: =H12 -> 400000 | J29: =J12 -> 113333.33 | K29: =K12 -> 246666.67 | L29: =L12 -> 400000 | N29: =N12 -> 123000 | O29: =O12 -> 244666.67 | P29: =P12 -> 400000
A30: Realizacja Wskaźnika Planu Sprzedaży Obrót | B30: =B14 -> 204705.79 | C30: =C14 -> 440281.38 | D30: =D14 -> 485917.06 | F30: =F14 -> 151692.36 | G30: =G14 -> 291722.52 | H30: =H14 -> 516380.5 | J30: =J14 -> 124699.24 | K30: =K14 -> 381782 | L30: =L14 -> 532541.35 | N30: =N14 -> 133265.91 | O30: =O14 -> 221955.04 | P30: =P14 -> 381113.09
A31: Poziom realizacji Wskaźnika Sprzedaży Obrót | B31: =B30/B29 -> 1.5033473 | C31: =C30/C29 -> 1.5358653 | D31: =D30/D29 -> 1.1300397 | F31: =F30/F29 -> 1.338462 | G31: =G30/G29 -> 1.1826589 | H31: =H30/H29 -> 1.2909512 | J31: =J30/J29 -> 1.1002874 | K31: =K30/K29 -> 1.5477649 | L31: =L30/L29 -> 1.3313534 | N31: =N30/N29 -> 1.0834627 | O31: =O30/O29 -> 0.90717319 | P31: =P30/P29 -> 0.95278272
A32: Wysokość premii Wskaźnik Sprzedaży Obrót | B32: =B22*0.2 -> 660 | C32: =C22*0.2 -> 660 | D32: =D22*0.2 -> 660 | F32: =F22*0.2 -> 660 | G32: =G22*0.2 -> 660 | H32: =H22*0.2 -> 660 | J32: =J22*0.2 -> 660 | K32: =K22*0.2 -> 660 | L32: =L22*0.2 -> 660 | N32: =N22*0.2 -> 560 | O32: =O22*0.2 -> 660 | P32: =P22*0.2 -> 660
A33: Mnożnik premii miesięcznej Wskaźnika Sprzedaży Obrót | B33: =IF(B31<80%,0,IF(B31<90%,0.5,IF(B31<95%,0.75,1))) -> 1 | C33: =IF(C31<80%,0,IF(C31<90%,0.5,IF(C31<95%,0.75,1))) -> 1 | D33: =IF(D31<80%,0,IF(D31<90%,0.5,IF(D31<95%,0.75,1))) -> 1 | F33: =IF(F31<80%,0,IF(F31<90%,0.5,IF(F31<95%,0.75,1))) -> 1 | G33: =IF(G31<80%,0,IF(G31<90%,0.5,IF(G31<95%,0.75,1))) -> 1 | H33: =IF(H31<80%,0,IF(H31<90%,0.5,IF(H31<95%,0.75,1))) -> 1 | J33: =IF(J31<80%,0,IF(J31<90%,0.5,IF(J31<95%,0.75,1))) -> 1 | K33: =IF(K31<80%,0,IF(K31<90%,0.5,IF(K31<95%,0.75,1))) -> 1 | L33: =IF(L31<80%,0,IF(L31<90%,0.5,IF(L31<95%,0.75,1))) -> 1 | N33: =IF(N31<80%,0,IF(N31<90%,0.5,IF(N31<95%,0.75,1))) -> 1 | O33: =IF(O31<80%,0,IF(O31<90%,0.5,IF(O31<95%,0.75,1))) -> 0.75 | P33: =IF(P31<80%,0,IF(P31<90%,0.5,IF(P31<95%,0.75,1))) -> 1
A34: Premia miesięczna za Wskaźnik Sprzedaży Obrót | B34: =B33*B32 -> 660 | C34: =C33*C32 -> 660 | D34: =D33*D32 -> 660 | F34: =F33*F32 -> 660 | G34: =G33*G32 -> 660 | H34: =H33*H32 -> 660 | J34: =J33*J32 -> 660 | K34: =K33*K32 -> 660 | L34: =L33*L32 -> 660 | N34: =N33*N32 -> 560 | O34: =O33*O32 -> 495 | P34: =P33*P32 -> 660
A35: Wskaźnik CRM | B35: 1 | C35: 1 | D35: 1 | F35: 1 | G35: 1 | H35: 1 | J35: 1 | K35: 1 | L35: 1 | N35: 1 | O35: 1 | P35: 1
A36: Wysokość premii CRM | B36: =B22*0.1 -> 330 | C36: =C22*0.1 -> 330 | D36: =D22*0.1 -> 330 | F36: =F22*0.1 -> 330 | G36: =G22*0.1 -> 330 | H36: =H22*0.1 -> 330 | J36: =J22*0.1 -> 330 | K36: =K22*0.1 -> 330 | L36: =L22*0.1 -> 330 | N36: =N22*0.1 -> 280 | O36: =O22*0.1 -> 330 | P36: =P22*0.1 -> 330
A37: Mnożnik premii Wskaźnik CRM | B37: 1 | C37: 1 | D37: 1 | F37: 1 | G37: 1 | H37: 1 | J37: 1 | K37: 1 | L37: 1 | N37: 1 | O37: 1 | P37: 1
A38: Premia miesięczna za Wskaźnik CRM | B38: =B37*B36 -> 330 | C38: =C37*C36 -> 330 | D38: =D37*D36 -> 330 | F38: =F37*F36 -> 330 | G38: =G37*G36 -> 330 | H38: =H37*H36 -> 330 | J38: =J37*J36 -> 330 | K38: =K37*K36 -> 330 | L38: =L37*L36 -> 330 | N38: =N37*N36 -> 280 | O38: =O37*O36 -> 330 | P38: =P37*P36 -> 330
A39: Suma Premii miesięcznych | B39: =B34+B28+B38 -> 1650 | C39: =C34+C28+C38 -> 1650 | D39: =D34+D28+D38 -> 1650 | F39: =F34+F28+F38 -> 1650 | G39: =G34+G28+G38 -> 1650 | H39: =H34+H28+H38 -> 1650 | J39: =J34+J28+J38 -> 1650 | K39: =K34+K28+K38 -> 1650 | L39: =L34+L28+L38 -> 1650 | N39: =N34+N28+N38 -> 1400 | O39: =O34+O28+O38 -> 1320 | P39: =P34+P28+P38 -> 1650
A40: Wskaźnik Premia Kwartalna Marża | B40: =D5 -> 130000 | F40: =H5 -> 128000 | J40: =L5 -> 133000 | N40: =P5 -> 130000
A41: Realizacja Wskaźnika Premia Kwartalna | B41: =D7 -> 158824.56 | F41: =H7 -> 130686.8 | J41: =L7 -> 146408.69 | N41: =P7 -> 124197.84
A42: Poziom realizacji Wskaźnika Premia Kwartalna | B42: =B41/B40 -> 1.2217274 | F42: =F41/F40 -> 1.0209907 | J42: =J41/J40 -> 1.1008172 | N42: =N41/N40 -> 0.95536796
A43: Wysokość premii kwartalnej. | B43: =D22 -> 3300 | F43: =H22 -> 3300 | J43: =L22 -> 3300 | N43: =P22 -> 3300
A44: Mnożnik premii kwartalnej | B44: =IF(B42<100%,0,IF(B42<110%,0.5,IF(B42<120%,0.7,1))) -> 1 | F44: =IF(F42<100%,0,IF(F42<110%,0.5,IF(F42<120%,0.7,1))) -> 0.5 | J44: =IF(J42<100%,0,IF(J42<110%,0.5,IF(J42<120%,0.7,1))) -> 0.7 | N44: =IF(N42<100%,0,IF(N42<110%,0.5,IF(N42<120%,0.7,1))) -> 0
A45: Premia kwartalna | B45: =B44*B43 -> 3300 | F45: =F44*F43 -> 1650 | J45: =J44*J43 -> 2310 | N45: =N44*N43 -> 0
A47: SPRZEDAŻ DRUKAREK | B47: październik | C47: listopad | D47: grudzień | E47: KW IV | F47: lipiec | G47: sierpień | H47: wrzesień | I47: KW III | J47: kwiecień | K47: maj | L47: czerwiec | M47: KW II | N47: styczeń | O47: luty | P47: marzec | Q47: KW I | R47: suma ROK
A48: CL-S521 | E48: =SUM(B48:D48) -> 0 | I48: =SUM(F48:H48) -> 0 | M48: =SUM(J48:L48) -> 0 | Q48: =SUM(N48:P48) -> 0 | R48: =Q48+M48+I48+E48 -> 0
A49: CL-S621 | E49: =SUM(B49:D49) -> 0 | I49: =SUM(F49:H49) -> 0 | M49: =SUM(J49:L49) -> 0 | N49: 1 | Q49: =SUM(N49:P49) -> 1 | R49: =Q49+M49+I49+E49 -> 1
A50: CL-S6621 | E50: =SUM(B50:D50) -> 0 | I50: =SUM(F50:H50) -> 0 | L50: 1 | M50: =SUM(J50:L50) -> 1 | Q50: =SUM(N50:P50) -> 0 | R50: =Q50+M50+I50+E50 -> 1
A51: CL-S631 | C51: 1 | E51: =SUM(B51:D51) -> 1 | I51: =SUM(F51:H51) -> 0 | J51: 1 | K51: 1 | M51: =SUM(J51:L51) -> 2 | N51: 2 | P51: 1 | Q51: =SUM(N51:P51) -> 3 | R51: =Q51+M51+I51+E51 -> 6
A52: CL-S700 | E52: =SUM(B52:D52) -> 0 | I52: =SUM(F52:H52) -> 0 | M52: =SUM(J52:L52) -> 0 | Q52: =SUM(N52:P52) -> 0 | R52: =Q52+M52+I52+E52 -> 0
A53: CL-S700R | E53: =SUM(B53:D53) -> 0 | I53: =SUM(F53:H53) -> 0 | M53: =SUM(J53:L53) -> 0 | Q53: =SUM(N53:P53) -> 0 | R53: =Q53+M53+I53+E53 -> 0
A54: CL-S703 | B54: 1 | D54: 2 | E54: =SUM(B54:D54) -> 3 | I54: =SUM(F54:H54) -> 0 | M54: =SUM(J54:L54) -> 0 | N54: 1 | Q54: =SUM(N54:P54) -> 1 | R54: =Q54+M54+I54+E54 -> 4
A55: CL-S703R | E55: =SUM(B55:D55) -> 0 | I55: =SUM(F55:H55) -> 0 | M55: =SUM(J55:L55) -> 0 | Q55: =SUM(N55:P55) -> 0 | R55: =Q55+M55+I55+E55 -> 0
A56: CLE-720 | L56: 1 | P56: 1 | Q56: =SUM(N56:P56) -> 1 | R56: =Q56+M56+I56+E56 -> 1
A57: CLE-730 | K57: 1 | L57: 1 | R57: =Q57+M57+I57+E57 -> 0
A58: CLP 8301 | E58: =SUM(B58:D58) -> 0 | I58: =SUM(F58:H58) -> 0 | M58: =SUM(J58:L58) -> 0 | Q58: =SUM(N58:P58) -> 0 | R58: =Q58+M58+I58+E58 -> 0
A59: ZEBRA | C59: 3 | E59: =SUM(B59:D59) -> 3 | I59: =SUM(F59:H59) -> 0 | L59: 2 | M59: =SUM(J59:L59) -> 2 | Q59: =SUM(N59:P59) -> 0 | R59: =Q59+M59+I59+E59 -> 5
A60: INNE | D60: -1 | E60: =SUM(B60:D60) -> -1 | G60: 1 | H60: 1 | I60: =SUM(F60:H60) -> 2 | J60: 1 | M60: =SUM(J60:L60) -> 1 | P60: 1 | Q60: =SUM(N60:P60) -> 1 | R60: =Q60+M60+I60+E60 -> 3
A61: SUMA: | B61: =SUM(B48:B60) -> 1 | C61: =SUM(C48:C60) -> 4 | D61: =SUM(D48:D60) -> 1 | E61: =SUM(B61:D61) -> 6 | F61: =SUM(F48:F60) -> 0 | G61: =SUM(G48:G60) -> 1 | H61: =SUM(H48:H60) -> 1 | I61: =SUM(F61:H61) -> 2 | J61: =SUM(J48:J60) -> 2 | K61: =SUM(K48:K60) -> 2 | L61: =SUM(L48:L60) -> 5 | M61: =SUM(J61:L61) -> 9 | N61: =SUM(N48:N60) -> 4 | O61: =SUM(O48:O60) -> 0 | P61: =SUM(P48:P60) -> 3 | Q61: =SUM(N61:P61) -> 7 | R61: =Q61+M61+I61+E61 -> 24
A63: Raport za miesiąc: | B63: paździer. | C63: listopad | D63: grudzień | E63: KW IV | F63: lipiec | G63: sierpień | H63: wrzesień | I63: KW III | J63: kwiecień | K63: maj | L63: czerwiec | M63: KW II | N63: styczeń | O63: luty | P63: marzec | Q63: Suma IKW | R63: Suma
A64: Ilość nowych Klientów: | B64: 2 | C64: 0 | D64: 2 | F64: 3 | G64: 0 | H64: 2 | J64: 0 | K64: 2 | L64: 0 | M64: =SUM(J64:L64) -> 2 | N64: 2 | O64: 1 | P64: 5 | Q64: =SUM(N64:P64) -> 8 | R64: =Q64+M64+I64+E64 -> 10
A65: Ilość Klientów przekaz. z Gliwic lub zm. nazwę/NIP. | B65: 0 | C65: 0 | D65: 0 | F65: 0 | G65: 0 | H65: 0 | J65: 0 | K65: 1 | L65: 0 | M65: =SUM(J65:L65) -> 1 | N65: 0 | O65: 1 | P65: 0 | Q65: =SUM(N65:P65) -> 1 | R65: =Q65+M65+I65+E65 -> 2
A66: Ilość Podmiotów na etapie współpracy Klient: | B66: 138 | C66: 138 | D66: 105 | F66: 135 | G66: 135 | H66: 136 | J66: 153 | K66: 158 | L66: 131 | N66: 140 | O66: 142 | P66: 150
A67: Ilość Podmiotów na etapie współpracy Handlowy: | B67: 23 | C67: 24 | D67: 23 | F67: 26 | G67: 27 | H67: 24 | J67: 30 | K67: 28 | L67: 28 | N67: 29 | O67: 30 | P67: 32
A68: Ilość Podmiotów na etapie współpracy Klient nieaktywny: | B68: 44 | C68: 43 | D68: 41 | F68: 44 | G68: 45 | H68: 45 | J68: 46 | K68: 46 | L68: 45 | N68: 50 | O68: 49 | P68: 47
A69: Ilość Podmiotów pod opieką: | B69: 205 | C69: 205 | D69: 169 | F69: =SUM(F66:F68) -> 205 | G69: =SUM(G66:G68) -> 207 | H69: =SUM(H66:H68) -> 205 | J69: =SUM(J66:J68) -> 229 | K69: =SUM(K66:K68) -> 232 | L69: =SUM(L66:L68) -> 204 | N69: =SUM(N66:N68) -> 219 | O69: =SUM(O66:O68) -> 221 | P69: =SUM(P66:P68) -> 229
A70: Ilość sprzedanych drukarek: | B70: 1 | C70: 4 | D70: 1 | F70: 0 | G70: 1 | H70: 1 | J70: 2 | K70: 2 | L70: 5 | M70: =SUM(J70:L70) -> 9 | N70: 4 | O70: 0 | P70: 3 | Q70: =SUM(N70:P70) -> 7 | R70: =Q70+M70+I70+E70 -> 16
A71: Ilość ofert dodanych w danym miesiącu: | B71: 37 | C71: 32 | D71: 19 | F71: 20 | G71: 20 | H71: 32 | J71: 30 | K71: 33 | L71: 34 | M71: =SUM(J71:L71) -> 97 | N71: 38 | O71: 48 | P71: 51 | Q71: =SUM(N71:P71) -> 137 | R71: =Q71+M71+I71+E71 -> 234
A72: Ilość ofert oczekujących na decyzję kontrahenta: | B72: 17 | C72: 11 | D72: 2 | F72: 2 | G72: 11 | H72: 10 | J72: 4 | K72: 9 | L72: 18 | N72: 16 | O72: 11 | P72: 19
A73: Ilość zaakceptowanych ofert przez kontrahenta: | B73: 9 | C73: 14 | D73: 12 | F73: 9 | G73: 4 | H73: 12 | J73: 14 | K73: 11 | L73: 6 | N73: 13 | O73: 16 | P73: 19
A74: Ilość odrzuconych ofert przez kontrahenta: | B74: 20 | C74: 25 | D74: 14 | F74: 21 | G74: 11 | H74: 23 | J74: 29 | K74: 17 | L74: 21 | N74: 18 | O74: 37 | P74: 24
A75: Ilość przekazanych podmiotów z Marketingu: | B75: 3 | C75: 2 | D75: 1 | F75: 0 | G75: 2 | H75: 1 | J75: 2 | K75: 3 | L75: 0 | M75: =SUM(J75:L75) -> 5 | N75: 5 | O75: 2 | P75: 5 | Q75: =SUM(N75:P75) -> 12 | R75: =Q75+M75+I75+E75 -> 17
A76: Ilość przekazanych podmiotów do prowadzenia od KDH: | B76: 1 | C76: 1 | D76: 0 | F76: 1 | G76: 0 | H76: 0 | J76: 0 | K76: 0 | L76: 2 | M76: =SUM(J76:L76) -> 2 | N76: 3 | O76: 1 | P76: 2 | Q76: =SUM(N76:P76) -> 6 | R76: =Q76+M76+I76+E76 -> 8
A77: Ilość odebranych podmiotów (zmiana prowadzącego): | B77: 1 | C77: 0 | D77: 0 | F77: 0 | G77: 0 | H77: 2 | J77: 0 | K77: 0 | L77: 27 | M77: =SUM(J77:L77) -> 27 | N77: 0 | O77: 0 | P77: 0 | Q77: =SUM(N77:P77) -> 0 | R77: =Q77+M77+I77+E77 -> 27
A78: Ilość spotkań z Klientami: | B78: 11 | C78: 4 | D78: 9 | F78: 6 | G78: 9 | H78: 5 | J78: 4 | K78: 7 | L78: 7 | M78: =SUM(J78:L78) -> 18 | N78: 10 | O78: 5 | P78: 7 | Q78: =SUM(N78:P78) -> 22 | R78: =Q78+M78+I78+E78 -> 40
A79: Ilość aktualnie otwartych wdrożeń: | B79: 49 | C79: 49 | D79: 44 | F79: 49 | G79: 53 | H79: 43 | J79: 53 | K79: 60 | L79: 58 | N79: 56 | O79: 50 | P79: 61
A80: Ilość wdrożeń dodanych w danym miesiącu: | B80: 22 | C80: 17 | D80: 10 | F80: 7 | G80: 12 | H80: 23 | J80: 13 | K80: 21 | L80: 11 | M80: =SUM(J80:L80) -> 45 | N80: 28 | O80: 18 | P80: 32 | Q80: =SUM(N80:P80) -> 78 | R80: =Q80+M80+I80+E80 -> 123
A81: Ilość wdrożeń zamkniętych pozytywnie w danym mcu: | B81: 8 | C81: 10 | D81: 10 | F81: 6 | G81: 3 | H81: 10 | J81: 12 | K81: 8 | L81: 5 | M81: =SUM(J81:L81) -> 25 | N81: 11 | O81: 10 | P81: 18 | Q81: =SUM(N81:P81) -> 39 | R81: =Q81+M81+I81+E81 -> 64
A82: Ilość wdrożeń zamkniętych negatywnie w danym mcu: | B82: 9 | C82: 9 | D82: 6 | F82: 12 | G82: 6 | H82: 18 | J82: 13 | K82: 8 | L82: 9 | M82: =SUM(J82:L82) -> 30 | N82: 8 | O82: 14 | P82: 10 | Q82: =SUM(N82:P82) -> 32 | R82: =Q82+M82+I82+E82 -> 62 | S82: =R82/D84 -> 1
A83: Ilość aktualnie odłożonych wdrożeń: | B83: 1 | C83: 1 | D83: 1 | F83: 0 | G83: 0 | H83: 1 | J83: 0 | K83: 0 | L83: 0 | N83: 1 | O83: 1 | P83: 0 | S83: =R83/D84 -> 0
D84: =SUM(R82:R83) -> 62

Sheet PIOTR
A1: Piotr Choma | B1: PLAN IV KW Piotr Choma | F1: PLAN III KW Piotr Choma | J1: PLAN II KW Piotr Choma | N1: PLAN I KW Piotr Choma
A2: miesiąc | B2: październik | C2: listopad | D2: grudzień | E2: KW IV | F2: lipiec | G2: sierpień | H2: wrzesień | I2: KW III | J2: kwiecień | K2: maj | L2: czerwiec | M2: KW II | N2: styczeń | O2: luty | P2: marzec | Q2: KW I | R2: suma ROK
A4: Plan Sprzedaży Marża | B4: ='Target 2017'!L8 -> 63333.333 | C4: ='Target 2017'!M8 -> 70000 | D4: ='Target 2017'!N8 -> 66666.667 | E4: =SUM(B4:D4) -> 200000 | F4: ='Target 2017'!I8 -> 51000 | G4: ='Target 2017'!J8 -> 60000 | H4: ='Target 2017'!K8 -> 69000 | I4: =SUM(F4:H4) -> 180000 | J4: ='Target 2017'!F8 -> 56666.667 | K4: ='Target 2017'!G8-4000 -> 62666.667 | L4: ='Target 2017'!H8+4000-7000 -> 73666.667 | M4: =SUM(J4:L4) -> 193000 | N4: ='Target 2017'!C8 -> 61500 | O4: ='Target 2017'!D8 -> 68333.333 | P4: ='Target 2017'!E8-5000 -> 70166.667 | Q4: =SUM(N4:P4) -> 200000 | R4: =Q4+M4+I4+E4 -> 773000
A5: Sumaryczny Plan Sprzedaży Marża | B5: =B4 -> 63333.333 | C5: =C4+B5 -> 133333.33 | D5: =D4+C5 -> 200000 | F5: =F4 -> 51000 | G5: =G4+F5 -> 111000 | H5: =H4+G5 -> 180000 | J5: =J4 -> 56666.667 | K5: =K4+J5 -> 119333.33 | L5: =L4+K5 -> 193000 | N5: =N4 -> 61500 | O5: =O4+N5 -> 129833.33 | P5: =P4+O5 -> 200000
A6: Miesięczna realizacja Planu Sprzedaży Marża | B6: =SUMIF(X!A:A,$A$1,X!I:I) -> 83452.024 | C6: =SUMIF(XI!A:A,$A$1,XI!I:I) -> 58735.381 | D6: =SUMIF(XII!A:A,$A$1,XII!I:I) -> 54223.984 | E6: =SUM(B6:D6) -> 196411.39 | F6: =SUMIF(VII!A:A,$A$1,VII!I:I) -> 55710.494 | G6: =SUMIF(VIII!A:A,$A$1,VIII!I:I) -> 50242.033 | H6: =SUMIF(IX!A:A,$A$1,IX!I:I) -> 58946.687 | I6: =SUM(F6:H6) -> 164899.21 | J6: =SUMIF(IV!A:A,$A$1,IV!I:I) -> 61702.303 | K6: =SUMIF(V!A:A,$A$1,V!I:I) -> 46546.401 | L6: =SUMIF(VI!A:A,$A$1,VI!I:I) -> 46739.086 | M6: =SUM(J6:L6) -> 154987.79 | N6: =SUMIF(I!A:A,$A$1,I!I:I) -> 73844.613 | O6: =SUMIF(II!A:A,$A$1,II!I:I) -> 54888.69 | P6: =SUMIF(III!A:A,$A$1,III!I:I) -> 71709.633 | Q6: =SUM(N6:P6) -> 200442.94 | R6: =Q6+M6+I6+E6 -> 716741.33
A7: Sumaryczna realizacja planu sprzedaży Marża | B7: =B6 -> 83452.024 | C7: =C6+B7 -> 142187.41 | D7: =D6+C7 -> 196411.39 | F7: =F6 -> 55710.494 | G7: =G6+F7 -> 105952.53 | H7: =H6+G7 -> 164899.21 | J7: =J6 -> 61702.303 | K7: =K6+J7 -> 108248.7 | L7: =L6+K7 -> 154987.79 | N7: =N6 -> 73844.613 | O7: =O6+N7 -> 128733.3 | P7: =P6+O7 -> 200442.94
A8: Wysokość zrealizowania Miesięcznego Planu Sprzedaży Marża | B8: =B6/B4 -> 1.3176635 | C8: =C6/C4 -> 0.83907687 | D8: =D6/D4 -> 0.81335977 | F8: =F6/F4 -> 1.0923626 | G8: =G6/G4 -> 0.83736722 | H8: =H6/H4 -> 0.85429981 | J8: =J6/J4 -> 1.0888642 | K8: =K6/K4 -> 0.74276171 | L8: =L6/L4 -> 0.63446723 | N8: =N6/N4 -> 1.2007254 | O8: =O6/O4 -> 0.80324913 | P8: =P6/P4 -> 1.02199
A9: Wysokość zrealizowania Planu Sprzedaży Marża | B9: =B7/B5 -> 1.3176635 | C9: =C7/C5 -> 1.0664055 | D9: =D7/D5 -> 0.98205695 | F9: =F7/F5 -> 1.0923626 | G9: =G7/G5 -> 0.95452727 | H9: =H7/H5 -> 0.91610675 | J9: =J7/J5 -> 1.0888642 | K9: =K7/K5 -> 0.90711204 | L9: =L7/L5 -> 0.80304554 | N9: =N7/N5 -> 1.2007254 | O9: =O7/O5 -> 0.99152737 | P9: =P7/P5 -> 1.0022147
A10: Różnica wskaźnika Marża | B10: =B7-B5 -> 20118.691 | C10: =C7-C5 -> 8854.0722 | D10: =D7-D5 -> -3588.6101 | F10: =F7-F5 -> 4710.494 | G10: =G7-G5 -> -5047.4727 | H10: =H7-H5 -> -15100.786 | J10: =J7-J5 -> 5035.6361 | K10: =K7-K5 -> -11084.63 | L10: =L7-L5 -> -38012.211 | N10: =N7-N5 -> 12344.613 | O10: =O7-O5 -> -1100.0297 | P10: =P7-P5 -> 442.9367
A11: Plan Sprzedaży Obrót | B11: ='Target 2017'!L18 -> 221666.67 | C11: ='Target 2017'!M18 -> 245000 | D11: ='Target 2017'!N18 -> 233333.33 | E11: =SUM(B11:D11) -> 700000 | F11: ='Target 2017'!I18 -> 187000 | G11: ='Target 2017'!J18-5000 -> 215000 | H11: ='Target 2017'!K18+5000 -> 258000 | I11: =SUM(F11:H11) -> 660000 | J11: ='Target 2017'!F18 -> 185866.67 | K11: ='Target 2017'!G18 -> 218666.67 | L11: ='Target 2017'!H18 -> 251466.67 | M11: =SUM(J11:L11) -> 656000 | N11: ='Target 2017'!C18 -> 201000 | O11: ='Target 2017'!D18 -> 223333.33 | P11: ='Target 2017'!E18 -> 245666.67 | Q11: =SUM(N11:P11) -> 670000 | R11: =Q11+M11+I11+E11 -> 2686000
A12: Sumaryczny Plan Sprzedaży Obrót | B12: =B11 -> 221666.67 | C12: =C11+B12 -> 466666.67 | D12: =D11+C12 -> 700000 | F12: =F11 -> 187000 | G12: =G11+F12 -> 402000 | H12: =H11+G12 -> 660000 | J12: =J11 -> 185866.67 | K12: =K11+J12 -> 404533.33 | L12: =L11+K12 -> 656000 | N12: =N11 -> 201000 | O12: =O11+N12 -> 424333.33 | P12: =P11+O12 -> 670000
A13: Miesięczna realizacja Planu Sprzedaży Obrót | B13: =SUMIF(X!A:A,$A$1,X!G:G) -> 254079.93 | C13: =SUMIF(XI!A:A,$A$1,XI!G:G) -> 208919.28 | D13: =SUMIF(XII!A:A,$A$1,XII!G:G) -> 237261.31 | E13: =SUM(B13:D13) -> 700260.52 | F13: =SUMIF(VII!A:A,$A$1,VII!G:G) -> 222184.33 | G13: =SUMIF(VIII!A:A,$A$1,VIII!G:G) -> 161063.05 | H13: =SUMIF(IX!A:A,$A$1,IX!G:G) -> 193439.03 | I13: =SUM(F13:H13) -> 576686.41 | J13: =SUMIF(IV!A:A,$A$1,IV!G:G) -> 218004.05 | K13: =SUMIF(V!A:A,$A$1,V!G:G) -> 179012.98 | L13: =SUMIF(VI!A:A,$A$1,VI!G:G) -> 168018.47 | M13: =SUM(J13:L13) -> 565035.5 | N13: =SUMIF(I!A:A,$A$1,I!G:G) -> 238698.05 | O13: =SUMIF(II!A:A,$A$1,II!G:G) -> 199550.58 | P13: =SUMIF(III!A:A,$A$1,III!G:G) -> 251532.77 | Q13: =SUM(N13:P13) -> 689781.4 | R13: =Q13+M13+I13+E13 -> 2531763.8
A14: Sumaryczna realizacja planu sprzedaży Obrót | B14: =B13 -> 254079.93 | C14: =C13+B14 -> 462999.21 | D14: =D13+C14 -> 700260.52 | F14: =F13 -> 222184.33 | G14: =G13+F14 -> 383247.38 | H14: =H13+G14 -> 576686.41 | J14: =J13 -> 218004.05 | K14: =K13+J14 -> 397017.03 | L14: =L13+K14 -> 565035.5 | N14: =N13 -> 238698.05 | O14: =O13+N14 -> 438248.63 | P14: =P13+O14 -> 689781.4
A15: Wysokość zrealizowania Miesięcznego Planu Sprzedaży Obrót | B15: =B13/B11 -> 1.1462252 | C15: =C13/C11 -> 0.85273176 | D15: =D13/D11 -> 1.0168342 | F15: =F13/F11 -> 1.1881515 | G15: =G13/G11 -> 0.74913047 | H15: =H13/H11 -> 0.74976368 | J15: =J13/J11 -> 1.1729056 | K15: =K13/K11 -> 0.81865692 | L15: =L13/L11 -> 0.66815404 | N15: =N13/N11 -> 1.1875525 | O15: =O13/O11 -> 0.89351006 | P15: =P13/P11 -> 1.0238783
A16: Wysokość zrealizowania Planu Sprzedaży Obrót | B16: =B14/B12 -> 1.1462252 | C16: =C14/C12 -> 0.99214116 | D16: =D14/D12 -> 1.0003722 | F16: =F14/F12 -> 1.1881515 | G16: =G14/G12 -> 0.95335169 | H16: =H14/H12 -> 0.87376729 | J16: =J14/J12 -> 1.1729056 | K16: =K14/K12 -> 0.98141982 | L16: =L14/L12 -> 0.8613346 | N16: =N14/N12 -> 1.1875525 | O16: =O14/O12 -> 1.0327933 | P16: =P14/P12 -> 1.0295245
A17: Różnica wskaźnika Obrót | B17: =B14-B12 -> 32413.263 | C17: =C14-C12 -> -3667.4567 | D17: =D14-D12 -> 260.5225 | F17: =F14-F12 -> 35184.33 | G17: =G14-G12 -> -18752.62 | H17: =H14-H12 -> -83313.59 | J17: =J14-J12 -> 32137.383 | K17: =K14-K12 -> -7516.3033 | L17: =L14-L12 -> -90964.5 | N17: =N14-N12 -> 37698.05 | O17: =O14-O12 -> 13915.297 | P17: =P14-P12 -> 19781.4
A18: Wysokość Marży miesięcznej | B18: =B6/B13 -> 0.32844792 | C18: =C6/C13 -> 0.28113911 | D18: =D6/D13 -> 0.2285412 | F18: =F6/F13 -> 0.25073998 | G18: =G6/G13 -> 0.31194016 | H18: =H6/H13 -> 0.30473006 | J18: =J6/J13 -> 0.28303283 | K18: =K6/K13 -> 0.2600169 | L18: =L6/L13 -> 0.27817826 | N18: =N6/N13 -> 0.30936412 | O18: =O6/O13 -> 0.27506154 | P18: =P6/P13 -> 0.28509062
A19: Wysokość Marży sumarycznej | B19: =B7/B14 -> 0.32844792 | C19: =C7/C14 -> 0.30710075 | D19: =D7/D14 -> 0.28048331 | F19: =F7/F14 -> 0.25073998 | G19: =G7/G14 -> 0.27645989 | H19: =H7/H14 -> 0.28594261 | J19: =J7/J14 -> 0.28303283 | K19: =K7/K14 -> 0.27265506 | L19: =L7/L14 -> 0.27429744 | N19: =N7/N14 -> 0.30936412 | O19: =O7/O14 -> 0.29374491 | P19: =P7/P14 -> 0.29058907
N21: PREMIE
A22: Wynagrodzenie zasadnicze | B22: 4660 | C22: 4660 | D22: 4660 | F22: 4660 | G22: 4660 | H22: 4660 | J22: 4660 | K22: 4660 | L22: 4660 | N22: 4160 | O22: 4660 | P22: 4660
A23: Wskaźnik Plan Sprzedaży Marża | B23: =B5 -> 63333.333 | C23: =C5 -> 133333.33 | D23: =D5 -> 200000 | F23: =F5 -> 51000 | G23: =G5 -> 111000 | H23: =H5 -> 180000 | J23: =J5 -> 56666.667 | K23: =K5 -> 119333.33 | L23: =L5 -> 193000 | N23: =N5 -> 61500 | O23: =O5 -> 129833.33 | P23: =P5 -> 200000
A24: Realizacja Wskaźnika Planu Sprzedaży Marża | B24: =B7 -> 83452.024 | C24: =C7 -> 142187.41 | D24: =D7 -> 196411.39 | F24: =F7 -> 55710.494 | G24: =G7 -> 105952.53 | H24: =H7 -> 164899.21 | J24: =J7 -> 61702.303 | K24: =K7 -> 108248.7 | L24: =L7 -> 154987.79 | N24: =N7 -> 73844.613 | O24: =O7 -> 128733.3 | P24: =P7 -> 200442.94
A25: Poziom realizacji Wskaźnika Sprzedaży Marża | B25: =B24/B23 -> 1.3176635 | C25: =C24/C23 -> 1.0664055 | D25: =D24/D23 -> 0.98205695 | F25: =F24/F23 -> 1.0923626 | G25: =G24/G23 -> 0.95452727 | H25: =H24/H23 -> 0.91610675 | J25: =J24/J23 -> 1.0888642 | K25: =K24/K23 -> 0.90711204 | L25: =L24/L23 -> 0.80304554 | N25: =N24/N23 -> 1.2007254 | O25: =O24/O23 -> 0.99152737 | P25: =P24/P23 -> 1.0022147
A26: Wysokość premii Wskaźnik Sprzedaży Marża | B26: =B22*0.2 -> 932 | C26: =C22*0.2 -> 932 | D26: =D22*0.2 -> 932 | F26: =F22*0.2 -> 932 | G26: =G22*0.2 -> 932 | H26: =H22*0.2 -> 932 | J26: =J22*0.2 -> 932 | K26: =K22*0.2 -> 932 | L26: =L22*0.2 -> 932 | N26: =N22*0.2 -> 832 | O26: =O22*0.2 -> 932 | P26: =P22*0.2 -> 932
A27: Mnożnik premii miesięcznej Wskaźnika Sprzedaży Marża | B27: =IF(B25<80%,0,IF(B25<90%,0.5,IF(B25<95%,0.75,1))) -> 1 | C27: =IF(C25<80%,0,IF(C25<90%,0.5,IF(C25<95%,0.75,1))) -> 1 | D27: =IF(D25<80%,0,IF(D25<90%,0.5,IF(D25<95%,0.75,1))) -> 1 | F27: =IF(F25<80%,0,IF(F25<90%,0.5,IF(F25<95%,0.75,1))) -> 1 | G27: =IF(G25<80%,0,IF(G25<90%,0.5,IF(G25<95%,0.75,1))) -> 1 | H27: =IF(H25<80%,0,IF(H25<90%,0.5,IF(H25<95%,0.75,1))) -> 0.75 | J27: =IF(J25<80%,0,IF(J25<90%,0.5,IF(J25<95%,0.75,1))) -> 1 | K27: =IF(K25<80%,0,IF(K25<90%,0.5,IF(K25<95%,0.75,1))) -> 0.75 | L27: =IF(L25<80%,0,IF(L25<90%,0.5,IF(L25<95%,0.75,1))) -> 0.5 | N27: =IF(N25<80%,0,IF(N25<90%,0.5,IF(N25<95%,0.75,1))) -> 1 | O27: =IF(O25<80%,0,IF(O25<90%,0.5,IF(O25<95%,0.75,1))) -> 1 | P27: =IF(P25<80%,0,IF(P25<90%,0.5,IF(P25<95%,0.75,1))) -> 1
A28: Premia miesięczna za Wskaźnik Sprzedaży Marża | B28: =B27*B26 -> 932 | C28: =C27*C26 -> 932 | D28: =D27*D26 -> 932 | F28: =F27*F26 -> 932 | G28: =G27*G26 -> 932 | H28: =H27*H26 -> 699 | J28: =J27*J26 -> 932 | K28: =K27*K26 -> 699 | L28: =L27*L26 -> 466 | N28: =N27*N26 -> 832 | O28: =O27*O26 -> 932 | P28: =P27*P26 -> 932
A29: Wskaźnik Plan Sprzedaży Obrót | B29: =B12 -> 221666.67 | C29: =C12 -> 466666.67 | D29: =D12 -> 700000 | F29: =F12 -> 187000 | G29: =G12 -> 402000 | H29: =H12 -> 660000 | J29: =J12 -> 185866.67 | K29: =K12 -> 404533.33 | L29: =L12 -> 656000 | N29: =N12 -> 201000 | O29: =O12 -> 424333.33 | P29: =P12 -> 670000
A30: Realizacja Wskaźnika Planu Sprzedaży Obrót | B30: =B14 -> 254079.93 | C30: =C14 -> 462999.21 | D30: =D14 -> 700260.52 | F30: =F14 -> 222184.33 | G30: =G14 -> 383247.38 | H30: =H14 -> 576686.41 | J30: =J14 -> 218004.05 | K30: =K14 -> 397017.03 | L30: =L14 -> 565035.5 | N30: =N14 -> 238698.05 | O30: =O14 -> 438248.63 | P30: =P14 -> 689781.4
A31: Poziom realizacji Wskaźnika Sprzedaży Obrót | B31: =B30/B29 -> 1.1462252 | C31: =C30/C29 -> 0.99214116 | D31: =D30/D29 -> 1.0003722 | F31: =F30/F29 -> 1.1881515 | G31: =G30/G29 -> 0.95335169 | H31: =H30/H29 -> 0.87376729 | J31: =J30/J29 -> 1.1729056 | K31: =K30/K29 -> 0.98141982 | L31: =L30/L29 -> 0.8613346 | N31: =N30/N29 -> 1.1875525 | O31: =O30/O29 -> 1.0327933 | P31: =P30/P29 -> 1.0295245
A32: Wysokość premii Wskaźnik Sprzedaży Obrót | B32: =B22*0.2 -> 932 | C32: =C22*0.2 -> 932 | D32: =D22*0.2 -> 932 | F32: =F22*0.2 -> 932 | G32: =G22*0.2 -> 932 | H32: =H22*0.2 -> 932 | J32: =J22*0.2 -> 932 | K32: =K22*0.2 -> 932 | L32: =L22*0.2 -> 932 | N32: =N22*0.2 -> 832 | O32: =O22*0.2 -> 932 | P32: =P22*0.2 -> 932
A33: Mnożnik premii miesięcznej Wskaźnika Sprzedaży Obrót | B33: =IF(B31<80%,0,IF(B31<90%,0.5,IF(B31<95%,0.75,1))) -> 1 | C33: =IF(C31<80%,0,IF(C31<90%,0.5,IF(C31<95%,0.75,1))) -> 1 | D33: =IF(D31<80%,0,IF(D31<90%,0.5,IF(D31<95%,0.75,1))) -> 1 | F33: =IF(F31<80%,0,IF(F31<90%,0.5,IF(F31<95%,0.75,1))) -> 1 | G33: =IF(G31<80%,0,IF(G31<90%,0.5,IF(G31<95%,0.75,1))) -> 1 | H33: =IF(H31<80%,0,IF(H31<90%,0.5,IF(H31<95%,0.75,1))) -> 0.5 | J33: =IF(J31<80%,0,IF(J31<90%,0.5,IF(J31<95%,0.75,1))) -> 1 | K33: =IF(K31<80%,0,IF(K31<90%,0.5,IF(K31<95%,0.75,1))) -> 1 | L33: =IF(L31<80%,0,IF(L31<90%,0.5,IF(L31<95%,0.75,1))) -> 0.5 | N33: =IF(N31<80%,0,IF(N31<90%,0.5,IF(N31<95%,0.75,1))) -> 1 | O33: =IF(O31<80%,0,IF(O31<90%,0.5,IF(O31<95%,0.75,1))) -> 1 | P33: =IF(P31<80%,0,IF(P31<90%,0.5,IF(P31<95%,0.75,1))) -> 1
A34: Premia miesięczna za Wskaźnik Sprzedaży Obrót | B34: =B33*B32 -> 932 | C34: =C33*C32 -> 932 | D34: =D33*D32 -> 932 | F34: =F33*F32 -> 932 | G34: =G33*G32 -> 932 | H34: =H33*H32 -> 466 | J34: =J33*J32 -> 932 | K34: =K33*K32 -> 932 | L34: =L33*L32 -> 466 | N34: =N33*N32 -> 832 | O34: =O33*O32 -> 932 | P34: =P33*P32 -> 932
A35: Wskaźnik CRM | B35: 1 | C35: 1 | D35: 1 | F35: 1 | G35: 1 | H35: 1 | J35: 1 | K35: 1 | L35: 1 | N35: 1 | O35: 1 | P35: 1
A36: Wysokość premii CRM | B36: =B22*0.1 -> 466 | C36: =C22*0.1 -> 466 | D36: =D22*0.1 -> 466 | F36: =F22*0.1 -> 466 | G36: =G22*0.1 -> 466 | H36: =H22*0.1 -> 466 | J36: =J22*0.1 -> 466 | K36: =K22*0.1 -> 466 | L36: =L22*0.1 -> 466 | N36: =N22*0.1 -> 416 | O36: =O22*0.1 -> 466 | P36: =P22*0.1 -> 466
A37: Mnożnik premii Wskaźnik CRM | B37: 1 | C37: 1 | D37: 1 | F37: 1 | G37: 1 | H37: 1 | J37: 1 | K37: 0 | L37: 1 | N37: 1 | O37: 1 | P37: 1
A38: Premia miesięczna za Wskaźnik CRM | B38: =B37*B36 -> 466 | C38: =C37*C36 -> 466 | D38: =D37*D36 -> 466 | F38: =F37*F36 -> 466 | G38: =G37*G36 -> 466 | H38: =H37*H36 -> 466 | J38: =J37*J36 -> 466 | K38: =K37*K36 -> 0 | L38: =L37*L36 -> 466 | N38: =N37*N36 -> 416 | O38: =O37*O36 -> 466 | P38: =P37*P36 -> 466
A39: Suma Premii miesięcznych | B39: =B34+B28+B38 -> 2330 | C39: =C34+C28+C38 -> 2330 | D39: =D34+D28+D38 -> 2330 | F39: =F34+F28+F38 -> 2330 | G39: =G34+G28+G38 -> 2330 | H39: =H34+H28+H38 -> 1631 | J39: =J34+J28+J38 -> 2330 | K39: =K34+K28+K38 -> 1631 | L39: =L34+L28+L38 -> 1398 | N39: =N34+N28+N38 -> 2080 | O39: =O34+O28+O38 -> 2330 | P39: =P34+P28+P38 -> 2330
A40: Wskaźnik Premia Kwartalna Marża | B40: =D5 -> 200000 | F40: =H5 -> 180000 | J40: =L5 -> 193000 | N40: =P5 -> 200000
A41: Realizacja Wskaźnika Premia Kwartalna | B41: =D7 -> 196411.39 | F41: =H7 -> 164899.21 | J41: =L7 -> 154987.79 | N41: =P7 -> 200442.94
A42: Poziom realizacji Wskaźnika Premia Kwartalna | B42: =B41/B40 -> 0.98205695 | F42: =F41/F40 -> 0.91610675 | J42: =J41/J40 -> 0.80304554 | N42: =N41/N40 -> 1.0022147
A43: Wysokość premii kwartalnej. | B43: =D22 -> 4660 | F43: =H22 -> 4660 | J43: =L22 -> 4660 | N43: =P22 -> 4660
A44: Mnożnik premii kwartalnej | B44: =IF(B42<100%,0,IF(B42<110%,0.5,IF(B42<120%,0.7,1))) -> 0 | F44: =IF(F42<100%,0,IF(F42<110%,0.5,IF(F42<120%,0.7,1))) -> 0 | J44: =IF(J42<100%,0,IF(J42<110%,0.5,IF(J42<120%,0.7,1))) -> 0 | N44: =IF(N42<100%,0,IF(N42<110%,0.5,IF(N42<120%,0.7,1))) -> 0.5
A45: Premia kwartalna | B45: =B44*B43 -> 0 | F45: =F44*F43 -> 0 | J45: =J44*J43 -> 0 | N45: =N44*N43 -> 2330
A47: SPRZEDAŻ DRUKAREK | B47: październik | C47: listopad | D47: grudzień | E47: KW IV | F47: lipiec | G47: sierpień | H47: wrzesień | I47: KW III | J47: kwiecień | K47: maj | L47: czerwiec | M47: KW II | N47: styczeń | O47: luty | P47: marzec | Q47: KW I | R47: suma ROK
A48: CL-S521 | E48: =SUM(B48:D48) -> 0 | I48: =SUM(F48:H48) -> 0 | M48: =SUM(J48:L48) -> 0 | Q48: =SUM(N48:P48) -> 0 | R48: =Q48+M48+I48+E48 -> 0
A49: CL-S621 | B49: 1 | C49: 1 | E49: =SUM(B49:D49) -> 2 | F49: 3 | I49: =SUM(F49:H49) -> 3 | M49: =SUM(J49:L49) -> 0 | N49: 1 | Q49: =SUM(N49:P49) -> 1 | R49: =Q49+M49+I49+E49 -> 6
A50: CL-S6621 | E50: =SUM(B50:D50) -> 0 | I50: =SUM(F50:H50) -> 0 | M50: =SUM(J50:L50) -> 0 | Q50: =SUM(N50:P50) -> 0 | R50: =Q50+M50+I50+E50 -> 0
A51: CL-S631 | E51: =SUM(B51:D51) -> 0 | I51: =SUM(F51:H51) -> 0 | L51: 6 | M51: =SUM(J51:L51) -> 6 | N51: 1 | Q51: =SUM(N51:P51) -> 1 | R51: =Q51+M51+I51+E51 -> 7
A52: CL-S700 | E52: =SUM(B52:D52) -> 0 | I52: =SUM(F52:H52) -> 0 | M52: =SUM(J52:L52) -> 0 | Q52: =SUM(N52:P52) -> 0 | R52: =Q52+M52+I52+E52 -> 0
A53: CL-S700R | E53: =SUM(B53:D53) -> 0 | I53: =SUM(F53:H53) -> 0 | M53: =SUM(J53:L53) -> 0 | Q53: =SUM(N53:P53) -> 0 | R53: =Q53+M53+I53+E53 -> 0
A54: CL-S703 | E54: =SUM(B54:D54) -> 0 | F54: 1 | I54: =SUM(F54:H54) -> 1 | K54: 1 | M54: =SUM(J54:L54) -> 1 | Q54: =SUM(N54:P54) -> 0 | R54: =Q54+M54+I54+E54 -> 2
A55: CL-S703R | E55: =SUM(B55:D55) -> 0 | I55: =SUM(F55:H55) -> 0 | M55: =SUM(J55:L55) -> 0 | Q55: =SUM(N55:P55) -> 0 | R55: =Q55+M55+I55+E55 -> 0
A56: CLE-720 | E56: =SUM(B56:D56) -> 0 | I56: =SUM(F56:H56) -> 0 | M56: =SUM(J56:L56) -> 0 | Q56: =SUM(N56:P56) -> 0 | R56: =Q56+M56+I56+E56 -> 0
A57: CLE-730 | D57: 1 | E57: =SUM(B57:D57) -> 1 | I57: =SUM(F57:H57) -> 0 | J57: 6 | M57: =SUM(J57:L57) -> 6 | P57: 2 | Q57: =SUM(N57:P57) -> 2 | R57: =Q57+M57+I57+E57 -> 9
A58: CLP 8301 | E58: =SUM(B58:D58) -> 0 | I58: =SUM(F58:H58) -> 0 | M58: =SUM(J58:L58) -> 0 | Q58: =SUM(N58:P58) -> 0 | R58: =Q58+M58+I58+E58 -> 0
A59: ZEBRA | E59: =SUM(B59:D59) -> 0 | I59: =SUM(F59:H59) -> 0 | M59: =SUM(J59:L59) -> 0 | Q59: =SUM(N59:P59) -> 0 | R59: =Q59+M59+I59+E59 -> 0
A60: INNE | E60: =SUM(B60:D60) -> 0 | I60: =SUM(F60:H60) -> 0 | M60: =SUM(J60:L60) -> 0 | O60: 1 | P60: 1 | Q60: =SUM(N60:P60) -> 2 | R60: =Q60+M60+I60+E60 -> 2
A61: SUMA: | B61: =SUM(B48:B60) -> 1 | C61: =SUM(C48:C60) -> 1 | D61: =SUM(D48:D60) -> 1 | E61: =SUM(B61:D61) -> 3 | F61: =SUM(F48:F60) -> 4 | G61: =SUM(G48:G60) -> 0 | H61: =SUM(H48:H60) -> 0 | I61: =SUM(F61:H61) -> 4 | J61: =SUM(J48:J60) -> 6 | K61: =SUM(K48:K60) -> 1 | L61: =SUM(L48:L60) -> 6 | M61: =SUM(J61:L61) -> 13 | N61: =SUM(N48:N60) -> 2 | O61: =SUM(O48:O60) -> 1 | P61: =SUM(P48:P60) -> 3 | Q61: =SUM(N61:P61) -> 6 | R61: =Q61+M61+I61+E61 -> 26
A63: Raport za miesiąc: | B63: paździer. | C63: listopad | D63: grudzień | E63: KW IV | F63: lipiec | G63: sierpień | H63: wrzesień | I63: KW III | J63: kwiecień | K63: maj | L63: czerwiec | M63: KW II | N63: styczeń | O63: luty | P63: marzec | Q63: Suma IKW | R63: Suma
A64: Ilość nowych Klientów: | B64: 0 | C64: 2 | D64: 1 | E64: =SUM(B64:D64) -> 3 | F64: 2 | G64: 0 | H64: 2 | I64: =SUM(F64:H64) -> 4 | J64: 0 | K64: 0 | L64: 1 | M64: =SUM(J64:L64) -> 1 | N64: 1 | O64: 0 | P64: 1 | Q64: =SUM(N64:P64) -> 2 | R64: =Q64+M64+I64+E64 -> 10
A65: Ilość Klientów przekaz. z Gliwic lub zm. nazwę/NIP. | B65: 1 | C65: 0 | D65: 0 | E65: =SUM(B65:D65) -> 1 | F65: 0 | G65: 0 | H65: 0 | I65: =SUM(F65:H65) -> 0 | J65: 0 | K65: 0 | L65: 0 | M65: =SUM(J65:L65) -> 0 | N65: 0 | O65: 0 | P65: 0 | Q65: =SUM(N65:P65) -> 0 | R65: =Q65+M65+I65+E65 -> 1
A66: Ilość Podmiotów na etapie współpracy Klient: | B66: 59 | C66: 61 | D66: 62 | F66: 56 | G66: 56 | H66: 58 | J66: 53 | K66: 53 | L66: 54 | N66: 51 | O66: 52 | P66: 53
A67: Ilość Podmiotów na etapie współpracy Handlowy: | B67: 28 | C67: 30 | D67: 28 | F67: 27 | G67: 27 | H67: 27 | J67: 27 | K67: 28 | L67: 27 | N67: 27 | O67: 27 | P67: 27
A68: Ilość Podmiotów na etapie współpracy Klient nieaktywny: | B68: 5 | C68: 5 | D68: 5 | F68: 6 | G68: 5 | H68: 5 | J68: 7 | K68: 8 | L68: 6 | N68: 8 | O68: 7 | P68: 7
A69: Ilość Podmiotów pod opieką: | B69: 92 | C69: 96 | D69: 95 | F69: =SUM(F66:F68) -> 89 | G69: =SUM(G66:G68) -> 88 | H69: =SUM(H66:H68) -> 90 | J69: =SUM(J66:J68) -> 87 | K69: =SUM(K66:K68) -> 89 | L69: =SUM(L66:L68) -> 87 | N69: =SUM(N66:N68) -> 86 | O69: =SUM(O66:O68) -> 86 | P69: =SUM(P66:P68) -> 87
A70: Ilość sprzedanych drukarek: | B70: 1 | C70: 1 | D70: 1 | E70: =SUM(B70:D70) -> 3 | F70: 4 | G70: 0 | H70: 0 | I70: =SUM(F70:H70) -> 4 | J70: 6 | K70: 1 | L70: 6 | M70: =SUM(J70:L70) -> 13 | N70: 2 | O70: 1 | P70: 3 | Q70: =SUM(N70:P70) -> 6 | R70: =Q70+M70+I70+E70 -> 26
A71: Ilość ofert dodanych w danym miesiącu: | B71: 53 | C71: 30 | D71: 18 | E71: =SUM(B71:D71) -> 101 | F71: 29 | G71: 30 | H71: 19 | I71: =SUM(F71:H71) -> 78 | J71: 40 | K71: 33 | L71: 26 | M71: =SUM(J71:L71) -> 99 | N71: 48 | O71: 29 | P71: 36 | Q71: =SUM(N71:P71) -> 113 | R71: =Q71+M71+I71+E71 -> 391
A72: Ilość ofert oczekujących na decyzję kontrahenta: | B72: 38 | C72: 33 | D72: 17 | F72: 24 | G72: 29 | H72: 13 | J72: 45 | K72: 29 | L72: 22 | N72: 37 | O72: 32 | P72: 32
A73: Ilość zaakceptowanych ofert przez kontrahenta: | B73: 11 | C73: 19 | D73: 13 | F73: 16 | G73: 11 | H73: 10 | J73: 12 | K73: 22 | L73: 19 | N73: 17 | O73: 18 | P73: 15
A74: Ilość odrzuconych ofert przez kontrahenta: | B74: 16 | C74: 15 | D74: 17 | F74: 8 | G74: 17 | H74: 25 | J74: 12 | K74: 33 | L74: 14 | N74: 22 | O74: 15 | P74: 20
A75: Ilość przekazanych podmiotów z Marketingu: | B75: 2 | C75: 2 | D75: 0 | E75: =SUM(B75:D75) -> 4 | F75: 1 | G75: 1 | H75: 1 | I75: =SUM(F75:H75) -> 3 | J75: 0 | K75: 0 | L75: 1 | M75: =SUM(J75:L75) -> 1 | N75: 0 | O75: 0 | P75: 1 | Q75: =SUM(N75:P75) -> 1 | R75: =Q75+M75+I75+E75 -> 9
A76: Ilość przekazanych podmiotów do prowadzenia od KDH: | B76: 0 | C76: 1 | D76: 1 | E76: =SUM(B76:D76) -> 2 | F76: 2 | G76: 0 | H76: 1 | I76: =SUM(F76:H76) -> 3 | J76: 0 | K76: 0 | L76: 0 | M76: =SUM(J76:L76) -> 0 | N76: 3 | O76: 0 | P76: 1 | Q76: =SUM(N76:P76) -> 4 | R76: =Q76+M76+I76+E76 -> 9
A77: Ilość odebranych podmiotów (zmiana prowadzącego): | B77: 0 | C77: 1 | D77: 1 | E77: =SUM(B77:D77) -> 2 | F77: 0 | G77: 1 | H77: 0 | I77: =SUM(F77:H77) -> 1 | J77: 0 | K77: 0 | L77: 3 | M77: =SUM(J77:L77) -> 3 | N77: 2 | O77: 0 | P77: 0 | Q77: =SUM(N77:P77) -> 2 | R77: =Q77+M77+I77+E77 -> 8
A78: Ilość spotkań z Klientami: | B78: 9 | C78: 5 | D78: 6 | E78: =SUM(B78:D78) -> 20 | F78: 7 | G78: 8 | H78: 4 | I78: =SUM(F78:H78) -> 19 | J78: 4 | K78: 3 | L78: 4 | M78: =SUM(J78:L78) -> 11 | N78: 9 | O78: 5 | P78: 8 | Q78: =SUM(N78:P78) -> 22 | R78: =Q78+M78+I78+E78 -> 72
A79: Ilość aktualnie otwartych wdrożeń: | B79: 39 | C79: 41 | D79: 40 | F79: 34 | G79: 37 | H79: 42 | J79: 39 | K79: 36 | L79: 30 | N79: 41 | O79: 40 | P79: 41
A80: Ilość wdrożeń dodanych w danym miesiącu: | B80: 8 | C80: 12 | D80: 4 | E80: =SUM(B80:D80) -> 24 | F80: 14 | G80: 10 | H80: 10 | I80: =SUM(F80:H80) -> 34 | J80: 8 | K80: 3 | L80: 5 | M80: =SUM(J80:L80) -> 16 | N80: 18 | O80: 7 | P80: 8 | Q80: =SUM(N80:P80) -> 33 | R80: =Q80+M80+I80+E80 -> 107
A81: Ilość wdrożeń zamkniętych pozytywnie w danym mcu: | B81: 6 | C81: 4 | D81: 2 | E81: =SUM(B81:D81) -> 12 | F81: 9 | G81: 6 | H81: 2 | I81: =SUM(F81:H81) -> 17 | J81: 5 | K81: 4 | L81: 7 | M81: =SUM(J81:L81) -> 16 | N81: 12 | O81: 7 | P81: 8 | Q81: =SUM(N81:P81) -> 27 | R81: =Q81+M81+I81+E81 -> 72
A82: Ilość wdrożeń zamkniętych negatywnie w danym mcu: | B82: 4 | C82: 6 | D82: 3 | E82: =SUM(B82:D82) -> 13 | F82: 1 | G82: 3 | H82: 2 | I82: =SUM(F82:H82) -> 6 | J82: 2 | K82: 3 | L82: 4 | M82: =SUM(J82:L82) -> 9 | N82: 3 | O82: 3 | P82: 1 | Q82: =SUM(N82:P82) -> 7 | R82: =Q82+M82+I82+E82 -> 35 | S82: =R82/D84 -> #DIV/0!
A83: Ilość aktualnie odłożonych wdrożeń: | B83: 3 | C83: 3 | D83: 3 | F83: 2 | G83: 2 | H83: 2 | J83: 3 | K83: 3 | L83: 3 | N83: 2 | O83: 2 | P83: 2 | S83: =R83/D84 -> #DIV/0!

Sheet KRZYSZTOF
A1: Krzysztof Szwajdych | B1: PLAN III KW Krzysztof Szwajdych | F1: PLAN III KW Krzysztof Szwajdych | J1: PLAN II KW Krzysztof Szwajdych | N1: PLAN I KW Krzysztof Szwajdych
A2: miesiąc | B2: październik | C2: listopad | D2: grudzień | E2: KW IV | F2: lipiec | G2: sierpień | H2: wrzesień | I2: KW III | J2: kwiecień | K2: maj | L2: czerwiec | M2: KW II | N2: styczeń | O2: luty | P2: marzec | Q2: KW I | R2: suma ROK
A4: Plan Sprzedaży Marża | B4: ='Target 2017'!L9 -> 43383.333 | C4: ='Target 2017'!M9 -> 47950 | D4: ='Target 2017'!N9 -> 45666.667 | E4: =SUM(B4:D4) -> 137000 | F4: ='Target 2017'!I9 -> 37116.667 | G4: ='Target 2017'!J9 -> 43666.667 | H4: ='Target 2017'!K9 -> 50216.667 | I4: =SUM(F4:H4) -> 131000 | J4: ='Target 2017'!F9-2000 -> 35116.667 | K4: ='Target 2017'!G9 -> 43666.667 | L4: ='Target 2017'!H9+2000 -> 52216.667 | M4: =SUM(J4:L4) -> 131000 | N4: ='Target 2017'!C9 -> 41100 | O4: ='Target 2017'!D9 -> 45666.667 | P4: ='Target 2017'!E9 -> 50233.333 | Q4: =SUM(N4:P4) -> 137000 | R4: =Q4+M4+I4+E4 -> 536000
A5: Sumaryczny Plan Sprzedaży Marża | B5: =B4 -> 43383.333 | C5: =C4+B5 -> 91333.333 | D5: =D4+C5 -> 137000 | F5: =F4 -> 37116.667 | G5: =G4+F5 -> 80783.333 | H5: =H4+G5 -> 131000 | J5: =J4 -> 35116.667 | K5: =K4+J5 -> 78783.333 | L5: =L4+K5 -> 131000 | N5: =N4 -> 41100 | O5: =O4+N5 -> 86766.667 | P5: =P4+O5 -> 137000
A6: Miesięczna realizacja Planu Sprzedaży Marża | B6: =SUMIF(X!A:A,$A$1,X!I:I) -> 55025.001 | C6: =SUMIF(XI!A:A,$A$1,XI!I:I) -> 42693.323 | D6: =SUMIF(XII!A:A,$A$1,XII!I:I) -> 42364.598 | E6: =SUM(B6:D6) -> 140082.92 | F6: =SUMIF(VII!A:A,$A$1,VII!I:I) -> 41871.875 | G6: =SUMIF(VIII!A:A,$A$1,VIII!I:I) -> 35061.123 | H6: =SUMIF(IX!A:A,$A$1,IX!I:I) -> 41399.344 | I6: =SUM(F6:H6) -> 118332.34 | J6: =SUMIF(IV!A:A,$A$1,IV!I:I) -> 53736.066 | K6: =SUMIF(V!A:A,$A$1,V!I:I) -> 40807.929 | L6: =SUMIF(VI!A:A,$A$1,VI!I:I) -> 39827.142 | M6: =SUM(J6:L6) -> 134371.14 | N6: =SUMIF(I!A:A,$A$1,I!I:I) -> 40780.361 | O6: =SUMIF(II!A:A,$A$1,II!I:I) -> 52410.828 | P6: =SUMIF(III!A:A,$A$1,III!I:I) -> 47331.588 | Q6: =SUM(N6:P6) -> 140522.78 | R6: =Q6+M6+I6+E6 -> 533309.18
A7: Sumaryczna realizacja planu sprzedaży Marża | B7: =B6 -> 55025.001 | C7: =C6+B7 -> 97718.325 | D7: =D6+C7 -> 140082.92 | F7: =F6 -> 41871.875 | G7: =G6+F7 -> 76932.997 | H7: =H6+G7 -> 118332.34 | J7: =J6 -> 53736.066 | K7: =K6+J7 -> 94543.995 | L7: =L6+K7 -> 134371.14 | N7: =N6 -> 40780.361 | O7: =O6+N7 -> 93191.188 | P7: =P6+O7 -> 140522.78
A8: Wysokość zrealizowania Miesięcznego Planu Sprzedaży Marża | B8: =B6/B4 -> 1.2683442 | C8: =C6/C4 -> 0.89037171 | D8: =D6/D4 -> 0.92769192 | F8: =F6/F4 -> 1.1281152 | G8: =G6/G4 -> 0.80292647 | H8: =H6/H4 -> 0.82441442 | J8: =J6/J4 -> 1.5302155 | K8: =K6/K4 -> 0.93453273 | L8: =L6/L4 -> 0.76272855 | N8: =N6/N4 -> 0.99222289 | O8: =O6/O4 -> 1.1476824 | P8: =P6/P4 -> 0.94223467
A9: Wysokość zrealizowania Planu Sprzedaży Marża | B9: =B7/B5 -> 1.2683442 | C9: =C7/C5 -> 1.0699087 | D9: =D7/D5 -> 1.0225031 | F9: =F7/F5 -> 1.1281152 | G9: =G7/G5 -> 0.95233749 | H9: =H7/H5 -> 0.90330032 | J9: =J7/J5 -> 1.5302155 | K9: =K7/K5 -> 1.2000507 | L9: =L7/L5 -> 1.0257339 | N9: =N7/N5 -> 0.99222289 | O9: =O7/O5 -> 1.0740437 | P9: =P7/P5 -> 1.0257137
A10: Różnica wskaźnika Marża | B10: =B7-B5 -> 11641.668 | C10: =C7-C5 -> 6384.9912 | D10: =D7-D5 -> 3082.9222 | F10: =F7-F5 -> 4755.208 | G10: =G7-G5 -> -3850.336 | H10: =H7-H5 -> -12667.659 | J10: =J7-J5 -> 18619.399 | K10: =K7-K5 -> 15760.662 | L10: =L7-L5 -> 3371.1374 | N10: =N7-N5 -> -319.6394 | O10: =O7-O5 -> 6424.5216 | P10: =P7-P5 -> 3522.7765
A11: Plan Sprzedaży Obrót | B11: ='Target 2017'!L19 -> 133000 | C11: ='Target 2017'!M19-2000 -> 145000 | D11: ='Target 2017'!N19+2000 -> 142000 | E11: =SUM(B11:D11) -> 420000 | F11: ='Target 2017'!I19 -> 119000 | G11: ='Target 2017'!J19-20000 -> 120000 | H11: ='Target 2017'!K19+20000 -> 181000 | I11: =SUM(F11:H11) -> 420000 | J11: ='Target 2017'!F19-5000 -> 114566.67 | K11: ='Target 2017'!G19 -> 140666.67 | L11: ='Target 2017'!H19+5000-22000 -> 144766.67 | M11: =SUM(J11:L11) -> 400000 | N11: ='Target 2017'!C19 -> 129000 | O11: ='Target 2017'!D19 -> 143333.33 | P11: ='Target 2017'!E19-2000 -> 155666.67 | Q11: =SUM(N11:P11) -> 428000 | R11: =Q11+M11+I11+E11 -> 1668000
A12: Sumaryczny Plan Sprzedaży Obrót | B12: =B11 -> 133000 | C12: =C11+B12 -> 278000 | D12: =D11+C12 -> 420000 | F12: =F11 -> 119000 | G12: =G11+F12 -> 239000 | H12: =H11+G12 -> 420000 | J12: =J11 -> 114566.67 | K12: =K11+J12 -> 255233.33 | L12: =L11+K12 -> 400000 | N12: =N11 -> 129000 | O12: =O11+N12 -> 272333.33 | P12: =P11+O12 -> 428000
A13: Miesięczna realizacja Planu Sprzedaży Obrót | B13: =SUMIF(X!A:A,$A$1,X!G:G) -> 143183.62 | C13: =SUMIF(XI!A:A,$A$1,XI!G:G) -> 122683.42 | D13: =SUMIF(XII!A:A,$A$1,XII!G:G) -> 125196.64 | E13: =SUM(B13:D13) -> 391063.68 | F13: =SUMIF(VII!A:A,$A$1,VII!G:G) -> 121783.42 | G13: =SUMIF(VIII!A:A,$A$1,VIII!G:G) -> 96466.53 | H13: =SUMIF(IX!A:A,$A$1,IX!G:G) -> 117930.85 | I13: =SUM(F13:H13) -> 336180.8 | J13: =SUMIF(IV!A:A,$A$1,IV!G:G) -> 147887.82 | K13: =SUMIF(V!A:A,$A$1,V!G:G) -> 117088.24 | L13: =SUMIF(VI!A:A,$A$1,VI!G:G) -> 115405.72 | M13: =SUM(J13:L13) -> 380381.78 | N13: =SUMIF(I!A:A,$A$1,I!G:G) -> 125682.56 | O13: =SUMIF(II!A:A,$A$1,II!G:G) -> 145192.33 | P13: =SUMIF(III!A:A,$A$1,III!G:G) -> 136236.14 | Q13: =SUM(N13:P13) -> 407111.03 | R13: =Q13+M13+I13+E13 -> 1514737.3
A14: Sumaryczna realizacja planu sprzedaży Obrót | B14: =B13 -> 143183.62 | C14: =C13+B14 -> 265867.04 | D14: =D13+C14 -> 391063.68 | F14: =F13 -> 121783.42 | G14: =G13+F14 -> 218249.95 | H14: =H13+G14 -> 336180.8 | J14: =J13 -> 147887.82 | K14: =K13+J14 -> 264976.06 | L14: =L13+K14 -> 380381.78 | N14: =N13 -> 125682.56 | O14: =O13+N14 -> 270874.89 | P14: =P13+O14 -> 407111.03
A15: Wysokość zrealizowania Miesięcznego Planu Sprzedaży Obrót | B15: =B13/B11 -> 1.0765686 | C15: =C13/C11 -> 0.84609255 | D15: =D13/D11 -> 0.88166648 | F15: =F13/F11 -> 1.0233901 | G15: =G13/G11 -> 0.80388775 | H15: =H13/H11 -> 0.65155166 | J15: =J13/J11 -> 1.2908451 | K15: =K13/K11 -> 0.83238085 | L15: =L13/L11 -> 0.79718434 | N15: =N13/N11 -> 0.97428341 | O15: =O13/O11 -> 1.0129697 | P15: =P13/P11 -> 0.87517863
A16: Wysokość zrealizowania Planu Sprzedaży Obrót | B16: =B14/B12 -> 1.0765686 | C16: =C14/C12 -> 0.95635626 | D16: =D14/D12 -> 0.931104 | F16: =F14/F12 -> 1.0233901 | G16: =G14/G12 -> 0.91317971 | H16: =H14/H12 -> 0.80043048 | J16: =J14/J12 -> 1.2908451 | K16: =K14/K12 -> 1.0381718 | L16: =L14/L12 -> 0.95095445 | N16: =N14/N12 -> 0.97428341 | O16: =O14/O12 -> 0.99464464 | P16: =P14/P12 -> 0.951194
A17: Różnica wskaźnika Obrót | B17: =B14-B12 -> 10183.62 | C17: =C14-C12 -> -12132.96 | D17: =D14-D12 -> -28936.319 | F17: =F14-F12 -> 2783.42 | G17: =G14-G12 -> -20750.05 | H17: =H14-H12 -> -83819.2 | J17: =J14-J12 -> 33321.153 | K17: =K14-K12 -> 9742.7267 | L17: =L14-L12 -> -19618.22 | N17: =N14-N12 -> -3317.44 | O17: =O14-O12 -> -1458.4433 | P17: =P14-P12 -> -20888.97
A18: Wysokość Marży miesięcznej | B18: =B6/B13 -> 0.38429676 | C18: =C6/C13 -> 0.34799587 | D18: =D6/D13 -> 0.33838446 | F18: =F6/F13 -> 0.34382246 | G18: =G6/G13 -> 0.36345376 | H18: =H6/H13 -> 0.35104762 | J18: =J6/J13 -> 0.36335694 | K18: =K6/K13 -> 0.34852287 | L18: =L6/L13 -> 0.34510544 | N18: =N6/N13 -> 0.32447112 | O18: =O6/O13 -> 0.36097518 | P18: =P6/P13 -> 0.34742314
A19: Wysokość Marży sumarycznej | B19: =B7/B14 -> 0.38429676 | C19: =C7/C14 -> 0.36754584 | D19: =D7/D14 -> 0.35821 | F19: =F7/F14 -> 0.34382246 | G19: =G7/G14 -> 0.3524995 | H19: =H7/H14 -> 0.35199018 | J19: =J7/J14 -> 0.36335694 | K19: =K7/K14 -> 0.35680203 | L19: =L7/L14 -> 0.35325335 | N19: =N7/N14 -> 0.32447112 | O19: =O7/O14 -> 0.34403775 | P19: =P7/P14 -> 0.34517064
N21: PREMIE
A22: Wynagrodzenie zasadnicze | B22: 3600 | C22: 3600 | D22: 3600 | F22: 3600 | G22: 3600 | H22: 3600 | J22: 3600 | K22: 3600 | L22: 3600 | N22: 3100 | O22: 3600 | P22: 3600
A23: Wskaźnik Plan Sprzedaży Marża | B23: =B5 -> 43383.333 | C23: =C5 -> 91333.333 | D23: =D5 -> 137000 | F23: =F5 -> 37116.667 | G23: =G5 -> 80783.333 | H23: =H5 -> 131000 | J23: =J5 -> 35116.667 | K23: =K5 -> 78783.333 | L23: =L5 -> 131000 | N23: =N5 -> 41100 | O23: =O5 -> 86766.667 | P23: =P5 -> 137000
A24: Realizacja Wskaźnika Planu Sprzedaży Marża | B24: =B7 -> 55025.001 | C24: =C7 -> 97718.325 | D24: =D7 -> 140082.92 | F24: =F7 -> 41871.875 | G24: =G7 -> 76932.997 | H24: =H7 -> 118332.34 | J24: =J7 -> 53736.066 | K24: =K7 -> 94543.995 | L24: =L7 -> 134371.14 | N24: =N7 -> 40780.361 | O24: =O7 -> 93191.188 | P24: =P7 -> 140522.78
A25: Poziom realizacji Wskaźnika Sprzedaży Marża | B25: =B24/B23 -> 1.2683442 | C25: =C24/C23 -> 1.0699087 | D25: =D24/D23 -> 1.0225031 | F25: =F24/F23 -> 1.1281152 | G25: =G24/G23 -> 0.95233749 | H25: =H24/H23 -> 0.90330032 | J25: =J24/J23 -> 1.5302155 | K25: =K24/K23 -> 1.2000507 | L25: =L24/L23 -> 1.0257339 | N25: =N24/N23 -> 0.99222289 | O25: =O24/O23 -> 1.0740437 | P25: =P24/P23 -> 1.0257137
A26: Wysokość premii Wskaźnik Sprzedaży Marża | B26: =B22*0.2 -> 720 | C26: =C22*0.2 -> 720 | D26: =D22*0.2 -> 720 | F26: =F22*0.2 -> 720 | G26: =G22*0.2 -> 720 | H26: =H22*0.2 -> 720 | J26: =J22*0.2 -> 720 | K26: =K22*0.2 -> 720 | L26: =L22*0.2 -> 720 | N26: =N22*0.2 -> 620 | O26: =O22*0.2 -> 720 | P26: =P22*0.2 -> 720
A27: Mnożnik premii miesięcznej Wskaźnika Sprzedaży Marża | B27: =IF(B25<80%,0,IF(B25<90%,0.5,IF(B25<95%,0.75,1))) -> 1 | C27: =IF(C25<80%,0,IF(C25<90%,0.5,IF(C25<95%,0.75,1))) -> 1 | D27: =IF(D25<80%,0,IF(D25<90%,0.5,IF(D25<95%,0.75,1))) -> 1 | F27: =IF(F25<80%,0,IF(F25<90%,0.5,IF(F25<95%,0.75,1))) -> 1 | G27: =IF(G25<80%,0,IF(G25<90%,0.5,IF(G25<95%,0.75,1))) -> 1 | H27: =IF(H25<80%,0,IF(H25<90%,0.5,IF(H25<95%,0.75,1))) -> 0.75 | J27: =IF(J25<80%,0,IF(J25<90%,0.5,IF(J25<95%,0.75,1))) -> 1 | K27: =IF(K25<80%,0,IF(K25<90%,0.5,IF(K25<95%,0.75,1))) -> 1 | L27: =IF(L25<80%,0,IF(L25<90%,0.5,IF(L25<95%,0.75,1))) -> 1 | N27: =IF(N25<80%,0,IF(N25<90%,0.5,IF(N25<95%,0.75,1))) -> 1 | O27: =IF(O25<80%,0,IF(O25<90%,0.5,IF(O25<95%,0.75,1))) -> 1 | P27: =IF(P25<80%,0,IF(P25<90%,0.5,IF(P25<95%,0.75,1))) -> 1
A28: Premia miesięczna za Wskaźnik Sprzedaży Marża | B28: =B27*B26 -> 720 | C28: =C27*C26 -> 720 | D28: =D27*D26 -> 720 | F28: =F27*F26 -> 720 | G28: =G27*G26 -> 720 | H28: =H27*H26 -> 540 | J28: =J27*J26 -> 720 | K28: =K27*K26 -> 720 | L28: =L27*L26 -> 720 | N28: =N27*N26 -> 620 | O28: =O27*O26 -> 720 | P28: =P27*P26 -> 720
A29: Wskaźnik Plan Sprzedaży Obrót | B29: =B12 -> 133000 | C29: =C12 -> 278000 | D29: =D12 -> 420000 | F29: =F12 -> 119000 | G29: =G12 -> 239000 | H29: =H12 -> 420000 | J29: =J12 -> 114566.67 | K29: =K12 -> 255233.33 | L29: =L12 -> 400000 | N29: =N12 -> 129000 | O29: =O12 -> 272333.33 | P29: =P12 -> 428000
A30: Realizacja Wskaźnika Planu Sprzedaży Obrót | B30: =B14 -> 143183.62 | C30: =C14 -> 265867.04 | D30: =D14 -> 391063.68 | F30: =F14 -> 121783.42 | G30: =G14 -> 218249.95 | H30: =H14 -> 336180.8 | J30: =J14 -> 147887.82 | K30: =K14 -> 264976.06 | L30: =L14 -> 380381.78 | N30: =N14 -> 125682.56 | O30: =O14 -> 270874.89 | P30: =P14 -> 407111.03
A31: Poziom realizacji Wskaźnika Sprzedaży Obrót | B31: =B30/B29 -> 1.0765686 | C31: =C30/C29 -> 0.95635626 | D31: =D30/D29 -> 0.931104 | F31: =F30/F29 -> 1.0233901 | G31: =G30/G29 -> 0.91317971 | H31: =H30/H29 -> 0.80043048 | J31: =J30/J29 -> 1.2908451 | K31: =K30/K29 -> 1.0381718 | L31: =L30/L29 -> 0.95095445 | N31: =N30/N29 -> 0.97428341 | O31: =O30/O29 -> 0.99464464 | P31: =P30/P29 -> 0.951194
A32: Wysokość premii Wskaźnik Sprzedaży Obrót | B32: =B22*0.2 -> 720 | C32: =C22*0.2 -> 720 | D32: =D22*0.2 -> 720 | F32: =F22*0.2 -> 720 | G32: =G22*0.2 -> 720 | H32: =H22*0.2 -> 720 | J32: =J22*0.2 -> 720 | K32: =K22*0.2 -> 720 | L32: =L22*0.2 -> 720 | N32: =N22*0.2 -> 620 | O32: =O22*0.2 -> 720 | P32: =P22*0.2 -> 720
A33: Mnożnik premii miesięcznej Wskaźnika Sprzedaży Obrót | B33: =IF(B31<80%,0,IF(B31<90%,0.5,IF(B31<95%,0.75,1))) -> 1 | C33: =IF(C31<80%,0,IF(C31<90%,0.5,IF(C31<95%,0.75,1))) -> 1 | D33: =IF(D31<80%,0,IF(D31<90%,0.5,IF(D31<95%,0.75,1))) -> 0.75 | F33: =IF(F31<80%,0,IF(F31<90%,0.5,IF(F31<95%,0.75,1))) -> 1 | G33: =IF(G31<80%,0,IF(G31<90%,0.5,IF(G31<95%,0.75,1))) -> 0.75 | H33: =IF(H31<80%,0,IF(H31<90%,0.5,IF(H31<95%,0.75,1))) -> 0.5 | J33: =IF(J31<80%,0,IF(J31<90%,0.5,IF(J31<95%,0.75,1))) -> 1 | K33: =IF(K31<80%,0,IF(K31<90%,0.5,IF(K31<95%,0.75,1))) -> 1 | L33: =IF(L31<80%,0,IF(L31<90%,0.5,IF(L31<95%,0.75,1))) -> 1 | N33: =IF(N31<80%,0,IF(N31<90%,0.5,IF(N31<95%,0.75,1))) -> 1 | O33: =IF(O31<80%,0,IF(O31<90%,0.5,IF(O31<95%,0.75,1))) -> 1 | P33: =IF(P31<80%,0,IF(P31<90%,0.5,IF(P31<95%,0.75,1))) -> 1
A34: Premia miesięczna za Wskaźnik Sprzedaży Obrót | B34: =B33*B32 -> 720 | C34: =C33*C32 -> 720 | D34: =D33*D32 -> 540 | F34: =F33*F32 -> 720 | G34: =G33*G32 -> 540 | H34: =H33*H32 -> 360 | J34: =J33*J32 -> 720 | K34: =K33*K32 -> 720 | L34: =L33*L32 -> 720 | N34: =N33*N32 -> 620 | O34: =O33*O32 -> 720 | P34: =P33*P32 -> 720
A35: Wskaźnik CRM | N35: 1
A36: Wysokość premii CRM | B36: =B22*0.1 -> 360 | C36: =C22*0.1 -> 360 | D36: =D22*0.1 -> 360 | F36: =F22*0.1 -> 360 | G36: =G22*0.1 -> 360 | H36: =H22*0.1 -> 360 | J36: =J22*0.1 -> 360 | K36: =K22*0.1 -> 360 | L36: =L22*0.1 -> 360 | N36: =N22*0.1 -> 310 | O36: =O22*0.1 -> 360 | P36: =P22*0.1 -> 360
A37: Mnożnik premii Wskaźnik CRM | B37: 1 | C37: 1 | D37: 1 | F37: 1 | G37: 1 | H37: 1 | J37: 1 | K37: 0 | L37: 1 | N37: 1 | O37: 1 | P37: 1
A38: Premia miesięczna za Wskaźnik CRM | B38: =B37*B36 -> 360 | C38: =C37*C36 -> 360 | D38: =D37*D36 -> 360 | F38: =F37*F36 -> 360 | G38: =G37*G36 -> 360 | H38: =H37*H36 -> 360 | J38: =J37*J36 -> 360 | K38: =K37*K36 -> 0 | L38: =L37*L36 -> 360 | N38: =N37*N36 -> 310 | O38: =O37*O36 -> 360 | P38: =P37*P36 -> 360
A39: Suma Premii miesięcznych | B39: =B34+B28+B38 -> 1800 | C39: =C34+C28+C38 -> 1800 | D39: =D34+D28+D38 -> 1620 | F39: =F34+F28+F38 -> 1800 | G39: =G34+G28+G38 -> 1620 | H39: =H34+H28+H38 -> 1260 | J39: =J34+J28+J38 -> 1800 | K39: =K34+K28+K38 -> 1440 | L39: =L34+L28+L38 -> 1800 | N39: =N34+N28+N38 -> 1550 | O39: =O34+O28+O38 -> 1800 | P39: =P34+P28+P38 -> 1800
A40: Wskaźnik Premia Kwartalna Marża | B40: =D5 -> 137000 | F40: =H5 -> 131000 | J40: =L5 -> 131000 | N40: =P5 -> 137000
A41: Realizacja Wskaźnika Premia Kwartalna | B41: =D7 -> 140082.92 | F41: =H7 -> 118332.34 | J41: =L7 -> 134371.14 | N41: =P7 -> 140522.78
A42: Poziom realizacji Wskaźnika Premia Kwartalna | B42: =B41/B40 -> 1.0225031 | F42: =F41/F40 -> 0.90330032 | J42: =J41/J40 -> 1.0257339 | N42: =N41/N40 -> 1.0257137
A43: Wysokość premii kwartalnej. | B43: =D22 -> 3600 | F43: =H22 -> 3600 | J43: =L22 -> 3600 | N43: =P22 -> 3600
A44: Mnożnik premii kwartalnej | B44: =IF(B42<100%,0,IF(B42<110%,0.5,IF(B42<120%,0.7,1))) -> 0.5 | F44: =IF(F42<100%,0,IF(F42<110%,0.5,IF(F42<120%,0.7,1))) -> 0 | J44: =IF(J42<100%,0,IF(J42<110%,0.5,IF(J42<120%,0.7,1))) -> 0.5 | N44: =IF(N42<100%,0,IF(N42<110%,0.5,IF(N42<120%,0.7,1))) -> 0.5
A45: Premia kwartalna | B45: =B44*B43 -> 1800 | F45: =F44*F43 -> 0 | J45: =J44*J43 -> 1800 | N45: =N44*N43 -> 1800
A47: SPRZEDAŻ DRUKAREK | B47: październik | C47: listopad | D47: grudzień | E47: KW IV | F47: lipiec | G47: sierpień | H47: wrzesień | I47: KW III | J47: kwiecień | K47: maj | L47: czerwiec | M47: KW II | N47: styczeń | O47: luty | P47: marzec | Q47: KW I | R47: suma ROK
A48: CL-S521 | E48: =SUM(B48:D48) -> 0 | I48: =SUM(F48:H48) -> 0 | M48: =SUM(J48:L48) -> 0 | Q48: =SUM(N48:P48) -> 0 | R48: =Q48+M48+I48+E48 -> 0
A49: CL-S621 | D49: 1 | E49: =SUM(B49:D49) -> 1 | I49: =SUM(F49:H49) -> 0 | J49: 1 | K49: 1 | L49: 2 | M49: =SUM(J49:L49) -> 4 | N49: 1 | P49: 2 | Q49: =SUM(N49:P49) -> 3 | R49: =Q49+M49+I49+E49 -> 8
A50: CL-S6621 | E50: =SUM(B50:D50) -> 0 | I50: =SUM(F50:H50) -> 0 | M50: =SUM(J50:L50) -> 0 | Q50: =SUM(N50:P50) -> 0 | R50: =Q50+M50+I50+E50 -> 0
A51: CL-S631 | B51: 1 | C51: 1 | E51: =SUM(B51:D51) -> 2 | H51: 1 | I51: =SUM(F51:H51) -> 1 | J51: 1 | K51: 3 | M51: =SUM(J51:L51) -> 4 | N51: 2 | Q51: =SUM(N51:P51) -> 2 | R51: =Q51+M51+I51+E51 -> 9
A52: CL-S700 | B52: 1 | C52: 1 | E52: =SUM(B52:D52) -> 2 | I52: =SUM(F52:H52) -> 0 | M52: =SUM(J52:L52) -> 0 | Q52: =SUM(N52:P52) -> 0 | R52: =Q52+M52+I52+E52 -> 2
A53: CL-S700R | E53: =SUM(B53:D53) -> 0 | I53: =SUM(F53:H53) -> 0 | M53: =SUM(J53:L53) -> 0 | Q53: =SUM(N53:P53) -> 0 | R53: =Q53+M53+I53+E53 -> 0
A54: CL-S703 | E54: =SUM(B54:D54) -> 0 | I54: =SUM(F54:H54) -> 0 | J54: 1 | M54: =SUM(J54:L54) -> 1 | N54: 1 | P54: 1 | Q54: =SUM(N54:P54) -> 2 | R54: =Q54+M54+I54+E54 -> 3
A55: CL-S703R | E55: =SUM(B55:D55) -> 0 | I55: =SUM(F55:H55) -> 0 | M55: =SUM(J55:L55) -> 0 | Q55: =SUM(N55:P55) -> 0 | R55: =Q55+M55+I55+E55 -> 0
A56: CLE-720 | N56: 1 | R56: =Q56+M56+I56+E56 -> 0
A57: CLE-730 | D57: 1 | L57: 1 | R57: =Q57+M57+I57+E57 -> 0
A58: CLP 8301 | E58: =SUM(B58:D58) -> 0 | I58: =SUM(F58:H58) -> 0 | M58: =SUM(J58:L58) -> 0 | Q58: =SUM(N58:P58) -> 0 | R58: =Q58+M58+I58+E58 -> 0
A59: ZEBRA | E59: =SUM(B59:D59) -> 0 | I59: =SUM(F59:H59) -> 0 | M59: =SUM(J59:L59) -> 0 | Q59: =SUM(N59:P59) -> 0 | R59: =Q59+M59+I59+E59 -> 0
A60: INNE | E60: =SUM(B60:D60) -> 0 | I60: =SUM(F60:H60) -> 0 | M60: =SUM(J60:L60) -> 0 | Q60: =SUM(N60:P60) -> 0 | R60: =Q60+M60+I60+E60 -> 0
A61: SUMA: | B61: =SUM(B48:B60) -> 2 | C61: =SUM(C48:C60) -> 2 | D61: =SUM(D48:D60) -> 2 | E61: =SUM(B61:D61) -> 6 | F61: =SUM(F48:F60) -> 0 | G61: =SUM(G48:G60) -> 0 | H61: =SUM(H48:H60) -> 1 | I61: =SUM(F61:H61) -> 1 | J61: =SUM(J48:J60) -> 3 | K61: =SUM(K48:K60) -> 4 | L61: =SUM(L48:L60) -> 3 | M61: =SUM(J61:L61) -> 10 | N61: =SUM(N48:N60) -> 5 | O61: =SUM(O48:O60) -> 0 | P61: =SUM(P48:P60) -> 3 | Q61: =SUM(N61:P61) -> 8 | R61: =Q61+M61+I61+E61 -> 25
A63: Raport za miesiąc: | B63: paździer. | C63: listopad | D63: grudzień | E63: KW IV | F63: lipiec | G63: sierpień | H63: wrzesień | I63: KW III | J63: kwiecień | K63: maj | L63: czerwiec | M63: KW II | N63: styczeń | O63: luty | P63: marzec | Q63: Suma IKW | R63: Suma
A64: Ilość nowych Klientów: | B64: 0 | C64: 2 | D64: 2 | E64: =SUM(B64:D64) -> 4 | F64: 1 | G64: 0 | H64: 2 | I64: =SUM(F64:H64) -> 3 | J64: 2 | K64: 3 | L64: 0 | M64: =SUM(J64:L64) -> 5 | N64: 1 | O64: 0 | P64: 3 | Q64: =SUM(N64:P64) -> 4 | R64: =Q64+M64+I64+E64 -> 16
A65: Ilość Klientów przekaz. z Gliwic lub zm. nazwę/NIP. | B65: 0 | C65: 0 | D65: 0 | E65: =SUM(B65:D65) -> 0 | F65: 0 | G65: 0 | H65: 0 | I65: =SUM(F65:H65) -> 0 | J65: 0 | K65: 0 | L65: 0 | M65: =SUM(J65:L65) -> 0 | N65: 0 | O65: 1 | P65: 0 | Q65: =SUM(N65:P65) -> 1 | R65: =Q65+M65+I65+E65 -> 1
A66: Ilość Podmiotów na etapie współpracy Klient: | B66: 108 | C66: 111 | D66: 93 | F66: 105 | G66: 105 | H66: 107 | J66: 102 | K66: 104 | L66: 105 | N66: 93 | O66: 95 | P66: 98
A67: Ilość Podmiotów na etapie współpracy Handlowy: | B67: 68 | C67: 64 | D67: 58 | F67: 56 | G67: 54 | H67: 71 | J67: 60 | K67: 59 | L67: 57 | N67: 59 | O67: 62 | P67: 62
A68: Ilość Podmiotów na etapie współpracy Klient nieaktywny: | B68: 22 | C68: 21 | D68: 20 | F68: 21 | G68: 21 | H68: 22 | J68: 22 | K68: 21 | L68: 21 | N68: 22 | O68: 22 | P68: 21
A69: Ilość Podmiotów pod opieką: | B69: 198 | C69: 196 | D69: 171 | F69: =SUM(F66:F68) -> 182 | G69: =SUM(G66:G68) -> 180 | H69: =SUM(H66:H68) -> 200 | J69: =SUM(J66:J68) -> 184 | K69: =SUM(K66:K68) -> 184 | L69: =SUM(L66:L68) -> 183 | N69: =SUM(N66:N68) -> 174 | O69: =SUM(O66:O68) -> 179 | P69: =SUM(P66:P68) -> 181
A70: Ilość sprzedanych drukarek: | B70: 2 | C70: 2 | D70: 2 | E70: =SUM(B70:D70) -> 6 | F70: 0 | G70: 0 | H70: 1 | I70: =SUM(F70:H70) -> 1 | J70: 3 | K70: 4 | L70: 3 | M70: =SUM(J70:L70) -> 10 | N70: 5 | O70: 0 | P70: 3 | Q70: =SUM(N70:P70) -> 8 | R70: =Q70+M70+I70+E70 -> 25
A71: Ilość ofert dodanych w danym miesiącu: | B71: 38 | C71: 26 | D71: 23 | E71: =SUM(B71:D71) -> 87 | F71: 18 | G71: 23 | H71: 13 | I71: =SUM(F71:H71) -> 54 | J71: 19 | K71: 23 | L71: 13 | M71: =SUM(J71:L71) -> 55 | N71: 25 | O71: 28 | P71: 34 | Q71: =SUM(N71:P71) -> 87 | R71: =Q71+M71+I71+E71 -> 283
A72: Ilość ofert oczekujących na decyzję kontrahenta: | B72: 13 | C72: 11 | D72: 8 | F72: 11 | G72: 10 | H72: 4 | J72: 7 | K72: 11 | L72: 6 | N72: 7 | O72: 12 | P72: 12
A73: Ilość zaakceptowanych ofert przez kontrahenta: | B73: 12 | C73: 7 | D73: 8 | F73: 3 | G73: 8 | H73: 5 | J73: 7 | K73: 8 | L73: 5 | N73: 16 | O73: 9 | P73: 13
A74: Ilość odrzuconych ofert przez kontrahenta: | B74: 17 | C74: 21 | D74: 16 | F74: 18 | G74: 16 | H74: 15 | J74: 16 | K74: 10 | L74: 6 | N74: 7 | O74: 12 | P74: 25
A75: Ilość przekazanych podmiotów z Marketingu: | B75: 7 | C75: 8 | D75: 5 | E75: =SUM(B75:D75) -> 20 | F75: 1 | G75: 1 | H75: 3 | I75: =SUM(F75:H75) -> 5 | J75: 2 | K75: 1 | L75: 2 | M75: =SUM(J75:L75) -> 5 | N75: 0 | O75: 2 | P75: 2 | Q75: =SUM(N75:P75) -> 4 | R75: =Q75+M75+I75+E75 -> 34
A76: Ilość przekazanych podmiotów do prowadzenia od KDH: | B76: 1 | C76: 0 | D76: 1 | E76: =SUM(B76:D76) -> 2 | F76: 0 | G76: 1 | H76: 2 | I76: =SUM(F76:H76) -> 3 | J76: 2 | K76: 0 | L76: 0 | M76: =SUM(J76:L76) -> 2 | N76: 2 | O76: 0 | P76: 3 | Q76: =SUM(N76:P76) -> 5 | R76: =Q76+M76+I76+E76 -> 12
A77: Ilość odebranych podmiotów (zmiana prowadzącego): | B77: 0 | C77: 0 | D77: 1 | E77: =SUM(B77:D77) -> 1 | F77: 0 | G77: 0 | H77: 0 | I77: =SUM(F77:H77) -> 0 | J77: 0 | K77: 1 | L77: 3 | M77: =SUM(J77:L77) -> 4 | N77: 3 | O77: 1 | P77: 0 | Q77: =SUM(N77:P77) -> 4 | R77: =Q77+M77+I77+E77 -> 9
A78: Ilość spotkań z Klientami: | B78: 10 | C78: 5 | D78: 6 | E78: =SUM(B78:D78) -> 21 | F78: 14 | G78: 6 | H78: 4 | I78: =SUM(F78:H78) -> 24 | J78: 3 | K78: 6 | L78: 3 | M78: =SUM(J78:L78) -> 12 | N78: 4 | O78: 6 | P78: 8 | Q78: =SUM(N78:P78) -> 18 | R78: =Q78+M78+I78+E78 -> 75
A79: Ilość aktualnie otwartych wdrożeń: | B79: 55 | C79: 56 | D79: 50 | F79: 60 | G79: 53 | H79: 51 | J79: 62 | K79: 68 | L79: 63 | N79: 64 | O79: 67 | P79: 68
A80: Ilość wdrożeń dodanych w danym miesiącu: | B80: 17 | C80: 18 | D80: 10 | E80: =SUM(B80:D80) -> 45 | F80: 10 | G80: 16 | H80: 11 | I80: =SUM(F80:H80) -> 37 | J80: 6 | K80: 14 | L80: 7 | M80: =SUM(J80:L80) -> 27 | N80: 13 | O80: 14 | P80: 18 | Q80: =SUM(N80:P80) -> 45 | R80: =Q80+M80+I80+E80 -> 154
A81: Ilość wdrożeń zamkniętych pozytywnie w danym mcu: | B81: 9 | C81: 7 | D81: 7 | E81: =SUM(B81:D81) -> 23 | F81: 2 | G81: 6 | H81: 6 | I81: =SUM(F81:H81) -> 14 | J81: 4 | K81: 7 | L81: 5 | M81: =SUM(J81:L81) -> 16 | N81: 10 | O81: 10 | P81: 7 | Q81: =SUM(N81:P81) -> 27 | R81: =Q81+M81+I81+E81 -> 80
A82: Ilość wdrożeń zamkniętych negatywnie w danym mcu: | B82: 5 | C82: 10 | D82: 7 | E82: =SUM(B82:D82) -> 22 | F82: 12 | G82: 19 | H82: 8 | I82: =SUM(F82:H82) -> 39 | J82: 8 | K82: 2 | L82: 6 | M82: =SUM(J82:L82) -> 16 | N82: 3 | O82: 3 | P82: 13 | Q82: =SUM(N82:P82) -> 19 | R82: =Q82+M82+I82+E82 -> 96 | S82: =R82/D84 -> #DIV/0!
A83: Ilość aktualnie odłożonych wdrożeń: | B83: 1 | C83: 1 | D83: 1 | F83: 1 | G83: 1 | H83: 1 | J83: 2 | K83: 1 | L83: 0 | N83: 5 | O83: 3 | P83: 2 | S83: =R83/D84 -> #DIV/0!

Sheet Artur
A1: Artur Surówka | B1: PLAN I KW Artur Surówka | F1: PLAN IV KW Artur Surówka | J1: PLAN III KW Artur Surówka | N1: PLAN II KW Artur Surówka
A2: miesiąc | B2: styczeń | C2: luty | D2: marzec | E2: KW I | F2: październik | G2: listopad | H2: grudzień | I2: KW IV | J2: lipiec | K2: sierpień | L2: wrzesień | M2: KW III | N2: kwiecień | O2: maj | P2: czerwiec | Q2: KW II | R2: suma ROK
A4: Plan Sprzedaży Marża | B4: ='Target 2017'!C6 -> 15900 | C4: ='Target 2017'!D6 -> 17666.667 | D4: ='Target 2017'!E6 -> 19433.333 | E4: =SUM(B4:D4) -> 53000 | F4: ='Target 2017'!L6 -> 15833.333 | G4: ='Target 2017'!M6 -> 17500 | H4: ='Target 2017'!N6 -> 16666.667 | I4: =SUM(F4:H4) -> 50000 | J4: ='Target 2017'!I6 -> 0 | K4: ='Target 2017'!J6 -> 0 | L4: ='Target 2017'!K6 -> 0 | M4: =SUM(J4:L4) -> 0 | N4: ='Target 2017'!F6 -> 0 | O4: ='Target 2017'!G6 -> 0 | P4: ='Target 2017'!H6 -> 0 | R4: =E4+Q4+M4+I4 -> 103000
A5: Sumaryczny Plan Sprzedaży Marża | B5: =B4 -> 15900 | C5: =C4+B5 -> 33566.667 | D5: =D4+C5 -> 53000 | F5: =F4 -> 15833.333 | G5: =G4+F5 -> 33333.333 | H5: =H4+G5 -> 50000 | J5: =J4 -> 0 | K5: =K4+J5 -> 0 | L5: =L4+K5 -> 0 | N5: =N4 -> 0 | O5: =O4+N5 -> 0 | P5: =P4+O5 -> 0
A6: Miesięczna realizacja Planu Sprzedaży Marża | B6: =SUMIF(I!A:A,$A$1,I!I:I) -> 11223.575 | C6: =SUMIF(II!A:A,$A$1,II!I:I) -> 4449.2294 | D6: =SUMIF(III!A:A,$A$1,III!I:I) -> 3995.9048 | E6: =SUM(B6:D6) -> 19668.709 | F6: =SUMIF(X!A:A,$A$1,X!I:I) -> 0 | G6: =SUMIF(XI!A:A,$A$1,XI!I:I) -> 0 | H6: =SUMIF(XII!A:A,$A$1,XII!I:I) -> 0 | I6: =SUM(F6:H6) -> 0 | J6: =SUMIF(VII!A:A,$A$1,VII!I:I) -> 0 | K6: =SUMIF(VIII!A:A,$A$1,VIII!I:I) -> 0 | L6: =SUMIF(IX!A:A,$A$1,IX!I:I) -> 0 | M6: =SUM(J6:L6) -> 0 | N6: =SUMIF(IV!A:A,$A$1,IV!I:I) -> 0 | O6: =SUMIF(V!A:A,$A$1,V!I:I) -> 0 | P6: =SUMIF(VI!A:A,$A$1,VI!I:I) -> 0 | Q6: =SUM(N6:P6) -> 0 | R6: =E6+Q6+M6+I6 -> 19668.709
A7: Sumaryczna realizacja planu sprzedaży Marża | B7: =B6 -> 11223.575 | C7: =C6+B7 -> 15672.804 | D7: =D6+C7 -> 19668.709 | F7: =F6 -> 0 | G7: =G6+F7 -> 0 | H7: =H6+G7 -> 0 | J7: =J6 -> 0 | K7: =K6+J7 -> 0 | L7: =L6+K7 -> 0 | N7: =N6 -> 0 | O7: =O6+N7 -> 0 | P7: =P6+O7 -> 0
A8: Wysokość zrealizowania Miesięcznego Planu Sprzedaży Marża | B8: =B6/B4 -> 0.70588522 | C8: =C6/C4 -> 0.25184317 | D8: =D6/D4 -> 0.20562117 | F8: =F6/F4 -> 0 | G8: =G6/G4 -> 0 | H8: =H6/H4 -> 0 | J8: =J6/J4 -> #DIV/0! | K8: =K6/K4 -> #DIV/0! | L8: =L6/L4 -> #DIV/0! | N8: =N6/N4 -> #DIV/0! | O8: =O6/O4 -> #DIV/0! | P8: =P6/P4 -> #DIV/0!
A9: Wysokość zrealizowania Planu Sprzedaży Marża | B9: =B7/B5 -> 0.70588522 | C9: =C7/C5 -> 0.46691572 | D9: =D7/D5 -> 0.37110772 | F9: =F7/F5 -> 0 | G9: =G7/G5 -> 0 | H9: =H7/H5 -> 0 | J9: =J7/J5 -> #DIV/0! | K9: =K7/K5 -> #DIV/0! | L9: =L7/L5 -> #DIV/0! | N9: =N7/N5 -> #DIV/0! | O9: =O7/O5 -> #DIV/0! | P9: =P7/P5 -> #DIV/0!
A10: Różnica wskaźnika Marża | B10: =B7-B5 -> -4676.425 | C10: =C7-C5 -> -17893.862 | D10: =D7-D5 -> -33331.291 | F10: =F7-F5 -> -15833.333 | G10: =G7-G5 -> -33333.333 | H10: =H7-H5 -> -50000 | J10: =J7-J5 -> 0 | K10: =K7-K5 -> 0 | L10: =L7-L5 -> 0 | N10: =N7-N5 -> 0 | O10: =O7-O5 -> 0 | P10: =P7-P5 -> 0
A11: Plan Sprzedaży Obrót | B11: ='Target 2017'!C16 -> 43500 | C11: ='Target 2017'!D16 -> 48333.333 | D11: ='Target 2017'!E16 -> 53166.667 | E11: =SUM(B11:D11) -> 145000 | F11: ='Target 2017'!L16 -> 0 | G11: ='Target 2017'!M16 -> 0 | H11: ='Target 2017'!N16 -> 0 | I11: =SUM(F11:H11) -> 0 | J11: ='Target 2017'!I16 -> 0 | K11: ='Target 2017'!J16 -> 0 | L11: ='Target 2017'!K16 -> 0 | M11: =SUM(J11:L11) -> 0 | O11: ='Target 2017'!K15 -> 57500 | P11: ='Target 2017'!L15 -> 41166.667 | Q11: =SUM(N11:P11) -> 98666.667 | R11: =E11+Q11+M11+I11 -> 243666.67
A12: Sumaryczny Plan Sprzedaży Obrót | B12: =B11 -> 43500 | C12: =C11+B12 -> 91833.333 | D12: =D11+C12 -> 145000 | F12: =F11 -> 0 | G12: =G11+F12 -> 0 | H12: =H11+G12 -> 0 | J12: =J11 -> 0 | K12: =K11+J12 -> 0 | L12: =L11+K12 -> 0 | N12: =N11 -> 0 | O12: =O11+N12 -> 57500 | P12: =P11+O12 -> 98666.667
A13: Miesięczna realizacja Planu Sprzedaży Obrót | B13: =SUMIF(I!A:A,$A$1,I!G:G) -> 32397.93 | C13: =SUMIF(II!A:A,$A$1,II!G:G) -> 7701.63 | D13: =SUMIF(III!A:A,$A$1,III!G:G) -> 7832.41 | E13: =SUM(B13:D13) -> 47931.97 | F13: =SUMIF(X!A:A,$A$1,X!G:G) -> 0 | G13: =SUMIF(XI!A:A,$A$1,XI!G:G) -> 0 | H13: =SUMIF(XII!A:A,$A$1,XII!G:G) -> 0 | I13: =SUM(F13:H13) -> 0 | J13: =SUMIF(VII!A:A,$A$1,VII!G:G) -> 0 | K13: =SUMIF(VIII!A:A,$A$1,VIII!G:G) -> 0 | L13: =SUMIF(IX!A:A,$A$1,IX!G:G) -> 0 | M13: =SUM(J13:L13) -> 0 | N13: =SUMIF(IV!A:A,$A$1,IV!G:G) -> 0 | O13: =SUMIF(V!A:A,$A$1,V!G:G) -> 0 | P13: =SUMIF(VI!A:A,$A$1,VI!G:G) -> 0 | Q13: =SUM(N13:P13) -> 0 | R13: =E13+Q13+M13+I13 -> 47931.97
A14: Sumaryczna realizacja planu sprzedaży Obrót | B14: =B13 -> 32397.93 | C14: =C13+B14 -> 40099.56 | D14: =D13+C14 -> 47931.97 | F14: =F13 -> 0 | G14: =G13+F14 -> 0 | H14: =H13+G14 -> 0 | J14: =J13 -> 0 | K14: =K13+J14 -> 0 | L14: =L13+K14 -> 0 | N14: =N13 -> 0 | O14: =O13+N14 -> 0 | P14: =P13+O14 -> 0
A15: Wysokość zrealizowania Miesięcznego Planu Sprzedaży Obrót | B15: =B13/B11 -> 0.74478 | C15: =C13/C11 -> 0.15934407 | D15: =D13/D11 -> 0.14731806 | F15: =F13/F11 -> #DIV/0! | G15: =G13/G11 -> #DIV/0! | H15: =H13/H11 -> #DIV/0! | J15: =J13/J11 -> #DIV/0! | K15: =K13/K11 -> #DIV/0! | L15: =L13/L11 -> #DIV/0! | N15: =N13/N11 -> #DIV/0! | O15: =O13/O11 -> 0 | P15: =P13/P11 -> 0
A16: Wysokość zrealizowania Planu Sprzedaży Obrót | B16: =B14/B12 -> 0.74478 | C16: =C14/C12 -> 0.43665583 | D16: =D14/D12 -> 0.33056531 | F16: =F14/F12 -> #DIV/0! | G16: =G14/G12 -> #DIV/0! | H16: =H14/H12 -> #DIV/0! | J16: =J14/J12 -> #DIV/0! | K16: =K14/K12 -> #DIV/0! | L16: =L14/L12 -> #DIV/0! | N16: =N14/N12 -> #DIV/0! | O16: =O14/O12 -> 0 | P16: =P14/P12 -> 0
A17: Różnica wskaźnika Obrót | B17: =B14-B12 -> -11102.07 | C17: =C14-C12 -> -51733.773 | D17: =D14-D12 -> -97068.03 | F17: =F14-F12 -> 0 | G17: =G14-G12 -> 0 | H17: =H14-H12 -> 0 | J17: =J14-J12 -> 0 | K17: =K14-K12 -> 0 | L17: =L14-L12 -> 0 | N17: =N14-N12 -> 0 | O17: =O14-O12 -> -57500 | P17: =P14-P12 -> -98666.667
A18: Wysokość Marży miesięcznej | B18: =B6/B13 -> 0.34642877 | C18: =C6/C13 -> 0.57769971 | D18: =D6/D13 -> 0.51017564 | F18: =F6/F13 -> #DIV/0! | G18: =G6/G13 -> #DIV/0! | H18: =H6/H13 -> #DIV/0! | J18: =J6/J13 -> #DIV/0! | K18: =K6/K13 -> #DIV/0! | L18: =L6/L13 -> #DIV/0! | N18: =N6/N13 -> #DIV/0! | O18: =O6/O13 -> #DIV/0! | P18: =P6/P13 -> #DIV/0!
A19: Wysokość Marży sumarycznej | B19: =B7/B14 -> 0.34642877 | C19: =C7/C14 -> 0.39084729 | D19: =D7/D14 -> 0.41034636 | F19: =F7/F14 -> #DIV/0! | G19: =G7/G14 -> #DIV/0! | H19: =H7/H14 -> #DIV/0! | J19: =J7/J14 -> #DIV/0! | K19: =K7/K14 -> #DIV/0! | L19: =L7/L14 -> #DIV/0! | N19: =N7/N14 -> #DIV/0! | O19: =O7/O14 -> #DIV/0! | P19: =P7/P14 -> #DIV/0!
B21: PREMIE
A22: Wynagrodzenie zasadnicze | B22: 0 | C22: 0 | D22: 0 | F22: 0 | G22: 0 | H22: 0 | J22: 0 | K22: 0 | L22: 0 | N22: 0 | O22: 0 | P22: 0
A23: Wskaźnik Plan Sprzedaży Marża | B23: =B5 -> 15900 | C23: =C5 -> 33566.667 | D23: =D5 -> 53000 | F23: =F5 -> 15833.333 | G23: =G5 -> 33333.333 | H23: =H5 -> 50000 | J23: =J5 -> 0 | K23: =K5 -> 0 | L23: =L5 -> 0 | N23: =N5 -> 0 | O23: =O5 -> 0 | P23: =P5 -> 0
A24: Realizacja Wskaźnika Planu Sprzedaży Marża | B24: =B7 -> 11223.575 | C24: =C7 -> 15672.804 | D24: =D7 -> 19668.709 | F24: =F7 -> 0 | G24: =G7 -> 0 | H24: =H7 -> 0 | J24: =J7 -> 0 | K24: =K7 -> 0 | L24: =L7 -> 0 | N24: =N7 -> 0 | O24: =O7 -> 0 | P24: =P7 -> 0
A25: Poziom realizacji Wskaźnika Sprzedaży Marża | B25: =B24/B23 -> 0.70588522 | C25: =C24/C23 -> 0.46691572 | D25: =D24/D23 -> 0.37110772 | F25: =F24/F23 -> 0 | G25: =G24/G23 -> 0 | H25: =H24/H23 -> 0 | J25: =J24/J23 -> #DIV/0! | K25: =K24/K23 -> #DIV/0! | L25: =L24/L23 -> #DIV/0! | N25: =N24/N23 -> #DIV/0! | O25: =O24/O23 -> #DIV/0! | P25: =P24/P23 -> #DIV/0!
A26: Wysokość premii Wskaźnik Sprzedaży Marża | B26: =B22*0.2 -> 0 | C26: =C22*0.2 -> 0 | D26: =D22*0.2 -> 0 | F26: =F22*0.2 -> 0 | G26: =G22*0.2 -> 0 | H26: =H22*0.2 -> 0 | J26: =J22*0.2 -> 0 | K26: =K22*0.2 -> 0 | L26: =L22*0.2 -> 0 | N26: =N22*0.2 -> 0 | O26: =O22*0.2 -> 0 | P26: =P22*0.2 -> 0
A27: Mnożnik premii miesięcznej Wskaźnika Sprzedaży Marża | B27: =IF(B25<80%,0,IF(B25<90%,0.5,IF(B25<95%,0.75,1))) -> 0 | C27: =IF(C25<80%,0,IF(C25<90%,0.5,IF(C25<95%,0.75,1))) -> 0 | D27: =IF(D25<80%,0,IF(D25<90%,0.5,IF(D25<95%,0.75,1))) -> 0 | F27: =IF(F25<80%,0,IF(F25<90%,0.5,IF(F25<95%,0.75,1))) -> 0 | G27: =IF(G25<80%,0,IF(G25<90%,0.5,IF(G25<95%,0.75,1))) -> 0 | H27: =IF(H25<80%,0,IF(H25<90%,0.5,IF(H25<95%,0.75,1))) -> 0 | J27: =IF(J25<80%,0,IF(J25<90%,0.5,IF(J25<95%,0.75,1))) -> #DIV/0! | K27: =IF(K25<80%,0,IF(K25<90%,0.5,IF(K25<95%,0.75,1))) -> #DIV/0! | L27: =IF(L25<80%,0,IF(L25<90%,0.5,IF(L25<95%,0.75,1))) -> #DIV/0! | N27: =IF(N25<80%,0,IF(N25<90%,0.5,IF(N25<95%,0.75,1))) -> #DIV/0! | O27: =IF(O25<80%,0,IF(O25<90%,0.5,IF(O25<95%,0.75,1))) -> #DIV/0! | P27: =IF(P25<80%,0,IF(P25<90%,0.5,IF(P25<95%,0.75,1))) -> #DIV/0!
A28: Premia miesięczna za Wskaźnik Sprzedaży Marża | B28: =B27*B26 -> 0 | C28: =C27*C26 -> 0 | D28: =D27*D26 -> 0 | F28: =F27*F26 -> 0 | G28: =G27*G26 -> 0 | H28: =H27*H26 -> 0 | J28: =J27*J26 -> #DIV/0! | K28: =K27*K26 -> #DIV/0! | L28: =L27*L26 -> #DIV/0! | N28: =N27*N26 -> #DIV/0! | O28: =O27*O26 -> #DIV/0! | P28: =P27*P26 -> #DIV/0!
A29: Wskaźnik Plan Sprzedaży Obrót | B29: =B12 -> 43500 | C29: =C12 -> 91833.333 | D29: =D12 -> 145000 | F29: =F12 -> 0 | G29: =G12 -> 0 | H29: =H12 -> 0 | J29: =J12 -> 0 | K29: =K12 -> 0 | L29: =L12 -> 0 | N29: =N12 -> 0 | O29: =O12 -> 57500 | P29: =P12 -> 98666.667
A30: Realizacja Wskaźnika Planu Sprzedaży Obrót | B30: =B14 -> 32397.93 | C30: =C14 -> 40099.56 | D30: =D14 -> 47931.97 | F30: =F14 -> 0 | G30: =G14 -> 0 | H30: =H14 -> 0 | J30: =J14 -> 0 | K30: =K14 -> 0 | L30: =L14 -> 0 | N30: =N14 -> 0 | O30: =O14 -> 0 | P30: =P14 -> 0
A31: Poziom realizacji Wskaźnika Sprzedaży Obrót | B31: =B30/B29 -> 0.74478 | C31: =C30/C29 -> 0.43665583 | D31: =D30/D29 -> 0.33056531 | F31: =F30/F29 -> #DIV/0! | G31: =G30/G29 -> #DIV/0! | H31: =H30/H29 -> #DIV/0! | J31: =J30/J29 -> #DIV/0! | K31: =K30/K29 -> #DIV/0! | L31: =L30/L29 -> #DIV/0! | N31: =N30/N29 -> #DIV/0! | O31: =O30/O29 -> 0 | P31: =P30/P29 -> 0
A32: Wysokość premii Wskaźnik Sprzedaży Obrót | B32: =B22*0.2 -> 0 | C32: =C22*0.2 -> 0 | D32: =D22*0.2 -> 0 | F32: =F22*0.2 -> 0 | G32: =G22*0.2 -> 0 | H32: =H22*0.2 -> 0 | J32: =J22*0.2 -> 0 | K32: =K22*0.2 -> 0 | L32: =L22*0.2 -> 0 | N32: =N22*0.2 -> 0 | O32: =O22*0.2 -> 0 | P32: =P22*0.2 -> 0
A33: Mnożnik premii miesięcznej Wskaźnika Sprzedaży Obrót | B33: =IF(B31<80%,0,IF(B31<90%,0.5,IF(B31<95%,0.75,1))) -> 0 | C33: =IF(C31<80%,0,IF(C31<90%,0.5,IF(C31<95%,0.75,1))) -> 0 | D33: =IF(D31<80%,0,IF(D31<90%,0.5,IF(D31<95%,0.75,1))) -> 0 | F33: =IF(F31<80%,0,IF(F31<90%,0.5,IF(F31<95%,0.75,1))) -> #DIV/0! | G33: =IF(G31<80%,0,IF(G31<90%,0.5,IF(G31<95%,0.75,1))) -> #DIV/0! | H33: =IF(H31<80%,0,IF(H31<90%,0.5,IF(H31<95%,0.75,1))) -> #DIV/0! | J33: =IF(J31<80%,0,IF(J31<90%,0.5,IF(J31<95%,0.75,1))) -> #DIV/0! | K33: =IF(K31<80%,0,IF(K31<90%,0.5,IF(K31<95%,0.75,1))) -> #DIV/0! | L33: =IF(L31<80%,0,IF(L31<90%,0.5,IF(L31<95%,0.75,1))) -> #DIV/0! | N33: =IF(N31<80%,0,IF(N31<90%,0.5,IF(N31<95%,0.75,1))) -> #DIV/0! | O33: =IF(O31<80%,0,IF(O31<90%,0.5,IF(O31<95%,0.75,1))) -> 0 | P33: =IF(P31<80%,0,IF(P31<90%,0.5,IF(P31<95%,0.75,1))) -> 0
A34: Premia miesięczna za Wskaźnik Sprzedaży Obrót | B34: =B33*B32 -> 0 | C34: =C33*C32 -> 0 | D34: =D33*D32 -> 0 | F34: =F33*F32 -> #DIV/0! | G34: =G33*G32 -> #DIV/0! | H34: =H33*H32 -> #DIV/0! | J34: =J33*J32 -> #DIV/0! | K34: =K33*K32 -> #DIV/0! | L34: =L33*L32 -> #DIV/0! | N34: =N33*N32 -> #DIV/0! | O34: =O33*O32 -> 0 | P34: =P33*P32 -> 0
A35: Wskaźnik CRM | B35: 1 | C35: 1 | D35: 1 | F35: 1 | G35: 1 | H35: 1 | J35: 1 | K35: 1 | L35: 1 | N35: 1 | O35: 1 | P35: 1
A36: Wysokość premii CRM | B36: =B22*0.1 -> 0 | C36: =C22*0.1 -> 0 | D36: =D22*0.1 -> 0 | F36: =F22*0.1 -> 0 | G36: =G22*0.1 -> 0 | H36: =H22*0.1 -> 0 | J36: =J22*0.1 -> 0 | K36: =K22*0.1 -> 0 | L36: =L22*0.1 -> 0 | N36: =N22*0.1 -> 0 | O36: =O22*0.1 -> 0 | P36: =P22*0.1 -> 0
A37: Mnożnik premii Wskaźnik CRM
A38: Premia miesięczna za Wskaźnik CRM | B38: =B37*B36 -> 0 | C38: =C37*C36 -> 0 | D38: =D37*D36 -> 0 | F38: =F37*F36 -> 0 | G38: =G37*G36 -> 0 | H38: =H37*H36 -> 0 | J38: =J37*J36 -> 0 | K38: =K37*K36 -> 0 | L38: =L37*L36 -> 0 | N38: =N37*N36 -> 0 | O38: =O37*O36 -> 0 | P38: =P37*P36 -> 0
A39: Suma Premii miesięcznych | B39: =B34+B28+B38 -> 0 | C39: =C34+C28+C38 -> 0 | D39: =D34+D28+D38 -> 0 | F39: =F34+F28+F38 -> #DIV/0! | G39: =G34+G28+G38 -> #DIV/0! | H39: =H34+H28+H38 -> #DIV/0! | J39: =J34+J28+J38 -> #DIV/0! | K39: =K34+K28+K38 -> #DIV/0! | L39: =L34+L28+L38 -> #DIV/0! | N39: =N34+N28+N38 -> #DIV/0! | O39: =O34+O28+O38 -> #DIV/0! | P39: =P34+P28+P38 -> #DIV/0!
A40: Wskaźnik Premia Kwartalna Marża | B40: =D5 -> 53000 | F40: =H5 -> 50000 | J40: =L5 -> 0 | N40: =P5 -> 0
A41: Realizacja Wskaźnika Premia Kwartalna | B41: =D7 -> 19668.709 | F41: =H7 -> 0 | J41: =L7 -> 0 | N41: =P7 -> 0
A42: Poziom realizacji Wskaźnika Premia Kwartalna | B42: =B41/B40 -> 0.37110772 | F42: =F41/F40 -> 0 | J42: =J41/J40 -> #DIV/0! | N42: =N41/N40 -> #DIV/0!
A43: Wysokość premii kwartalnej. | B43: =D22 -> 0 | F43: =H22 -> 0 | J43: =L22 -> 0 | N43: =P22 -> 0
A44: Mnożnik premii kwartalnej | B44: =IF(B42<100%,0,IF(B42<110%,0.5,IF(B42<120%,0.7,1))) -> 0 | F44: =IF(F42<100%,0,IF(F42<110%,0.5,IF(F42<120%,0.7,1))) -> 0 | J44: =IF(J42<100%,0,IF(J42<110%,0.5,IF(J42<120%,0.7,1))) -> #DIV/0! | N44: =IF(N42<100%,0,IF(N42<110%,0.5,IF(N42<120%,0.7,1))) -> #DIV/0!
A45: Premia kwartalna | B45: =B44*B43 -> 0 | F45: =F44*F43 -> 0 | J45: =J44*J43 -> #DIV/0! | N45: =N44*N43 -> #DIV/0!
A47: SPRZEDAŻ DRUKAREK | B47: styczeń | C47: luty | D47: marzec | E47: KW I | F47: październik | G47: listopad | H47: grudzień | I47: KW IV | J47: lipiec | K47: sierpień | L47: wrzesień | M47: KW III | N47: kwiecień | O47: maj | P47: czerwiec | Q47: KW II | R47: suma ROK
A48: CL-S521 | E48: =SUM(B48:D48) -> 0 | I48: =SUM(F48:H48) -> 0 | M48: =SUM(J48:L48) -> 0 | Q48: =SUM(N48:P48) -> 0 | R48: =E48+Q48+M48+I48 -> 0
A49: CL-S621 | E49: =SUM(B49:D49) -> 0 | I49: =SUM(F49:H49) -> 0 | M49: =SUM(J49:L49) -> 0 | Q49: =SUM(N49:P49) -> 0 | R49: =E49+Q49+M49+I49 -> 0
A50: CL-S6621 | E50: =SUM(B50:D50) -> 0 | I50: =SUM(F50:H50) -> 0 | M50: =SUM(J50:L50) -> 0 | Q50: =SUM(N50:P50) -> 0 | R50: =E50+Q50+M50+I50 -> 0
A51: CL-S631 | E51: =SUM(B51:D51) -> 0 | I51: =SUM(F51:H51) -> 0 | M51: =SUM(J51:L51) -> 0 | Q51: =SUM(N51:P51) -> 0 | R51: =E51+Q51+M51+I51 -> 0
A52: CL-S700 | E52: =SUM(B52:D52) -> 0 | I52: =SUM(F52:H52) -> 0 | M52: =SUM(J52:L52) -> 0 | Q52: =SUM(N52:P52) -> 0 | R52: =E52+Q52+M52+I52 -> 0
A53: CL-S700R | E53: =SUM(B53:D53) -> 0 | I53: =SUM(F53:H53) -> 0 | M53: =SUM(J53:L53) -> 0 | Q53: =SUM(N53:P53) -> 0 | R53: =E53+Q53+M53+I53 -> 0
A54: CL-S703 | E54: =SUM(B54:D54) -> 0 | I54: =SUM(F54:H54) -> 0 | M54: =SUM(J54:L54) -> 0 | Q54: =SUM(N54:P54) -> 0 | R54: =E54+Q54+M54+I54 -> 0
A55: CL-S703R | E55: =SUM(B55:D55) -> 0 | I55: =SUM(F55:H55) -> 0 | M55: =SUM(J55:L55) -> 0 | Q55: =SUM(N55:P55) -> 0 | R55: =E55+Q55+M55+I55 -> 0
A56: CLE-720 | R56: =E56+Q56+M56+I56 -> 0
A57: CLE-730 | R57: =E57+Q57+M57+I57 -> 0
A58: CLP 8301 | E58: =SUM(B58:D58) -> 0 | I58: =SUM(F58:H58) -> 0 | M58: =SUM(J58:L58) -> 0 | Q58: =SUM(N58:P58) -> 0 | R58: =E58+Q58+M58+I58 -> 0
A59: ZEBRA | E59: =SUM(B59:D59) -> 0 | I59: =SUM(F59:H59) -> 0 | M59: =SUM(J59:L59) -> 0 | Q59: =SUM(N59:P59) -> 0 | R59: =E59+Q59+M59+I59 -> 0
A60: INNE | E60: =SUM(B60:D60) -> 0 | I60: =SUM(F60:H60) -> 0 | M60: =SUM(J60:L60) -> 0 | Q60: =SUM(N60:P60) -> 0 | R60: =E60+Q60+M60+I60 -> 0
A61: SUMA: | B61: =SUM(B48:B60) -> 0 | C61: =SUM(C48:C60) -> 0 | D61: =SUM(D48:D60) -> 0 | E61: =SUM(B61:D61) -> 0 | F61: =SUM(F48:F60) -> 0 | G61: =SUM(G48:G60) -> 0 | H61: =SUM(H48:H60) -> 0 | I61: =SUM(F61:H61) -> 0 | J61: =SUM(J48:J60) -> 0 | K61: =SUM(K48:K60) -> 0 | L61: =SUM(L48:L60) -> 0 | M61: =SUM(J61:L61) -> 0 | N61: =SUM(N48:N60) -> 0 | O61: =SUM(O48:O60) -> 0 | P61: =SUM(P48:P60) -> 0 | Q61: =SUM(N61:P61) -> 0 | R61: =E61+Q61+M61+I61 -> 0
A63: Raport za miesiąc: | B63: styczeń | C63: luty | D63: marzec | E63: Suma IKW | F63: paździer. | G63: listopad | H63: grudzień | I63: KW IV | J63: lipiec | K63: sierpień | L63: wrzesień | M63: KW III | N63: kwiecień | O63: maj | P63: czerwiec | Q63: KW II | R63: Suma
A64: Ilość nowych Klientów: | E64: =SUM(B64:D64) -> 0 | I64: =SUM(F64:H64) -> 0 | M64: =SUM(J64:L64) -> 0 | Q64: =SUM(N64:P64) -> 0 | R64: =E64+Q64+M64+I64 -> 0
A65: Ilość Klientów przekaz. z Gliwic lub zm. nazwę/NIP. | E65: =SUM(B65:D65) -> 0 | I65: =SUM(F65:H65) -> 0 | M65: =SUM(J65:L65) -> 0 | Q65: =SUM(N65:P65) -> 0 | R65: =E65+Q65+M65+I65 -> 0
A66: Ilość Podmiotów na etapie współpracy Klient:
A67: Ilość Podmiotów na etapie współpracy Handlowy:
A68: Ilość Podmiotów na etapie współpracy Klient nieaktywny:
A69: Ilość Podmiotów pod opieką:
A70: Ilość sprzedanych drukarek: | E70: =SUM(B70:D70) -> 0 | I70: =SUM(F70:H70) -> 0 | M70: =SUM(J70:L70) -> 0 | Q70: =SUM(N70:P70) -> 0 | R70: =E70+Q70+M70+I70 -> 0
A71: Ilość ofert dodanych w danym miesiącu: | E71: =SUM(B71:D71) -> 0 | I71: =SUM(F71:H71) -> 0 | M71: =SUM(J71:L71) -> 0 | Q71: =SUM(N71:P71) -> 0 | R71: =E71+Q71+M71+I71 -> 0
A72: Ilość ofert oczekujących na decyzję kontrahenta:
A73: Ilość zaakceptowanych ofert przez kontrahenta:
A74: Ilość odrzuconych ofert przez kontrahenta:
A75: Ilość przekazanych podmiotów z Marketingu: | E75: =SUM(B75:D75) -> 0 | I75: =SUM(F75:H75) -> 0 | M75: =SUM(J75:L75) -> 0 | Q75: =SUM(N75:P75) -> 0 | R75: =E75+Q75+M75+I75 -> 0
A76: Ilość przekazanych podmiotów do prowadzenia od KDH: | E76: =SUM(B76:D76) -> 0 | I76: =SUM(F76:H76) -> 0 | M76: =SUM(J76:L76) -> 0 | Q76: =SUM(N76:P76) -> 0 | R76: =E76+Q76+M76+I76 -> 0
A77: Ilość odebranych podmiotów (zmiana prowadzącego): | E77: =SUM(B77:D77) -> 0 | I77: =SUM(F77:H77) -> 0 | M77: =SUM(J77:L77) -> 0 | Q77: =SUM(N77:P77) -> 0 | R77: =E77+Q77+M77+I77 -> 0
A78: Ilość spotkań z Klientami: | E78: =SUM(B78:D78) -> 0 | I78: =SUM(F78:H78) -> 0 | M78: =SUM(J78:L78) -> 0 | Q78: =SUM(N78:P78) -> 0 | R78: =E78+Q78+M78+I78 -> 0
A79: Ilość aktualnie otwartych wdrożeń:
A80: Ilość wdrożeń dodanych w danym miesiącu: | E80: =SUM(B80:D80) -> 0 | I80: =SUM(F80:H80) -> 0 | M80: =SUM(J80:L80) -> 0 | Q80: =SUM(N80:P80) -> 0 | R80: =E80+Q80+M80+I80 -> 0
A81: Ilość wdrożeń zamkniętych pozytywnie w danym mcu: | E81: =SUM(B81:D81) -> 0 | I81: =SUM(F81:H81) -> 0 | M81: =SUM(J81:L81) -> 0 | Q81: =SUM(N81:P81) -> 0 | R81: =E81+Q81+M81+I81 -> 0
A82: Ilość wdrożeń zamkniętych negatywnie w danym mcu: | E82: =SUM(B82:D82) -> 0 | I82: =SUM(F82:H82) -> 0 | M82: =SUM(J82:L82) -> 0 | Q82: =SUM(N82:P82) -> 0 | R82: =E82+Q82+M82+I82 -> 0
A83: Ilość aktualnie odłożonych wdrożeń:
H84: =SUM(R82:R83) -> 0

Sheet DH
B1: PLANY SPRZEDAŻY 2017
A2: miesiąc | B2: styczeń | C2: luty | D2: marzec | E2: I KW | F2: kwiecień | G2: maj | H2: czerwiec | J2: lipiec | K2: sierpień | L2: wrzesień | N2: październik | O2: listopad | P2: grudzień | R2: suma
A3: Marża 2016 | B3: 212824.03 | C3: 244670.31 | D3: 266979.07 | E3: 724473.41 | F3: 237100.9 | G3: 203286.92 | H3: 270048.9 | I3: 710436.71 | J3: 182390.52 | K3: 188332.88 | L3: 229144.73 | M3: 599868.13 | N3: 216579.76 | O3: 203842.25 | P3: 212873.08 | Q3: =SUM(N3:P3) -> 633295.1 | R3: =SUM(N3:P3,J3:L3,F3:H3,B3:D3) -> 2668073.3
A4: Sumaryczna Marża 2016 | B4: =B3 -> 212824.03 | C4: =C3+B4 -> 457494.34 | D4: =D3+C4 -> 724473.41 | F4: =F3+D4 -> 961574.3 | G4: =G3+F4 -> 1164861.2 | H4: =H3+G4 -> 1434910.1 | J4: =J3+H4 -> 1617300.6 | K4: =K3+J4 -> 1805633.5 | L4: =L3+K4 -> 2034778.2 | N4: =N3+L4 -> 2251358 | O4: =O3+N4 -> 2455200.3 | P4: =P3+O4 -> 2668073.3 | S4: MINIMUM | T4: PLAN | U4: CEL
A5: Wzrost Marży 2017 w stos do Marży 2016 | B5: =B9/B4 -> 1.0707832 | C5: =C9/C4 -> 1.002372 | D5: =D9/D4 -> 1.0796099 | F5: =F9/F4 -> 1.0728594 | G5: =G9/G4 -> 1.1058494 | H5: =H9/H4 -> 1.058331 | J5: =J9/J4 -> 1.0897168 | K5: =K9/K4 -> 1.0793846 | L5: =L9/L4 -> 1.0818957 | N5: =N9/N4 -> 1.1179357 | O5: =O9/O4 -> 1.126646 | P5: =P9/P4 -> 1.1258785 | R5: =R8/R3 -> 1.1258785 | S5: =S6/R3 -> 1.0453985 | T5: =T6/R3 -> 1.1004195 | U5: =U6/R3 -> 1.1554405
A6: Plan Sprzedaży Marża | B6: ='Target 2017'!B35 -> 220200 | C6: ='Target 2017'!C35 -> 244666.67 | D6: ='Target 2017'!D35 -> 256900 | E6: =SUM(B6:D6) -> 721766.67 | F6: ='Target 2017'!E35 -> 244666.67 | G6: ='Target 2017'!F35 -> 256900 | H6: ='Target 2017'!G35 -> 269133.33 | I6: =SUM(F6:H6) -> 770700 | J6: ='Target 2017'!H35 -> 220200 | K6: ='Target 2017'!I35 -> 220200 | L6: ='Target 2017'!J35 -> 244666.67 | M6: =SUM(J6:L6) -> 685066.67 | N6: ='Target 2017'!K35 -> 256900 | O6: ='Target 2017'!L35 -> 256900 | P6: ='Target 2017'!M35 -> 244666.67 | Q6: =SUM(N6:P6) -> 758466.67 | R6: =B6+C6+D6+F6+G6+H6+J6+K6+L6+N6+O6+P6 -> 2936000 | S6: =DH!R6*0.95 -> 2789200 | T6: =R6 -> 2936000 | U6: ='Target 2017'!H39 -> 3082800
A7: Sumaryczny Plan Sprzedaży Marża | B7: =B6 -> 220200 | C7: =C6+B7 -> 464866.67 | D7: =D6+C7 -> 721766.67 | F7: =F6+D7 -> 966433.33 | G7: =G6+F7 -> 1223333.3 | H7: =H6+G7 -> 1492466.7 | J7: =J6+H7 -> 1712666.7 | K7: =K6+J7 -> 1932866.7 | L7: =L6+K7 -> 2177533.3 | N7: =N6+L7 -> 2434433.3 | O7: =O6+N7 -> 2691333.3 | P7: =P6+O7 -> 2936000
A8: Miesięczna realizacja Planu Sprzedaży Marża | B8: =TOMEK!N6+MIRU!N6+'PIOTR L'!N6+BARTEK!N6+PIOTR!N6+KRZYSZTOF!N6+Artur!B6 -> 227888.4 | C8: =TOMEK!O6+MIRU!O6+'PIOTR L'!O6+BARTEK!O6+PIOTR!O6+KRZYSZTOF!O6+Artur!C6 -> 230691.11 | D8: =TOMEK!P6+MIRU!P6+'PIOTR L'!P6+BARTEK!P6+PIOTR!P6+KRZYSZTOF!P6+Artur!D6 -> 323569.13 | E8: =SUM(B8:D8) -> 782148.63 | F8: =TOMEK!J6+MIRU!J6+'PIOTR L'!J6+BARTEK!J6+PIOTR!J6+KRZYSZTOF!J6++Artur!N6 -> 249485.38 | G8: =TOMEK!K6+MIRU!K6+'PIOTR L'!K6+BARTEK!K6+PIOTR!K6+KRZYSZTOF!K6+Artur!O6 -> 256527.11 | H8: =TOMEK!L6+MIRU!L6+'PIOTR L'!L6+BARTEK!L6+PIOTR!L6+KRZYSZTOF!L6+Artur!P6 -> 230448.68 | I8: =SUM(F8:H8) -> 736461.17 | J8: =TOMEK!F6+MIRU!F6+Artur!J6+BARTEK!F6+PIOTR!F6+KRZYSZTOF!F6+'PIOTR L'!F6 -> 243789.83 | K8: =TOMEK!G6+MIRU!G6+Artur!K6+BARTEK!G6+PIOTR!G6+KRZYSZTOF!G6+'PIOTR L'!G6 -> 186573.34 | L8: =TOMEK!H6+MIRU!H6+Artur!L6+BARTEK!H6+PIOTR!H6+KRZYSZTOF!H6+'PIOTR L'!H6 -> 252444.95 | M8: =SUM(J8:L8) -> 682808.12 | N8: =TOMEK!B6+MIRU!B6+Artur!F6+BARTEK!B6+PIOTR!B6+KRZYSZTOF!B6+'PIOTR L'!B6 -> 315455.67 | O8: =TOMEK!C6+MIRU!C6+Artur!G6+BARTEK!C6+PIOTR!C6+KRZYSZTOF!C6+'PIOTR L'!C6 -> 249267.85 | P8: =TOMEK!D6+MIRU!D6+Artur!H6+BARTEK!D6+PIOTR!D6+KRZYSZTOF!D6+'PIOTR L'!D6 -> 237784.91 | Q8: =SUM(N8:P8) -> 802508.44 | R8: =B8+C8+D8+F8+G8+H8+J8+K8+L8+N8+O8+P8 -> 3003926.4 | S8: 1 | T8: 2 | U8: 3 | W8: 4 | X8: 5 | Y8: 6 | AA8: 7 | AB8: 8 | AC8: 9 | AE8: 10 | AF8: 11 | AG8: 12
A9: Sumaryczna realizacja planu sprzedaży Marża | B9: =B8 -> 227888.4 | C9: =C8+B9 -> 458579.5 | D9: =D8+C9 -> 782148.63 | F9: =F8+D9 -> 1031634 | G9: =G8+F9 -> 1288161.1 | H9: =H8+G9 -> 1518609.8 | J9: =J8+H9 -> 1762399.6 | K9: =K8+J9 -> 1948973 | L9: =L8+K9 -> 2201417.9 | N9: =N8+L9 -> 2516873.6 | O9: =O8+N9 -> 2766141.4 | P9: =P8+O9 -> 3003926.4
A10: Wysokość zrealizowania Miesięcznego Planu Sprzedaży Marża | B10: =B8/B6 -> 1.0349155 | C10: =C8/C6 -> 0.94287918 | D10: =D8/D6 -> 1.2595139 | F10: =F8/F6 -> 1.019695 | G10: =G8/G6 -> 0.9985485 | H10: =H8/H6 -> 0.85626212 | J10: =J8/J6 -> 1.1071291 | K10: =K8/K6 -> 0.84729035 | L10: =L8/L6 -> 1.0317913 | N10: =N8/N6 -> 1.2279318 | O10: =O8/O6 -> 0.97029138 | P10: =P8/P6 -> 0.97187294
A11: Różnica wskaźnika Marża | B11: =B9-B7 -> 7688.3984 | C11: =C9-C7 -> -6287.163 | D11: =D9-D7 -> 60381.966 | F11: =F9-F7 -> 65200.679 | G11: =G9-G7 -> 64827.79 | H11: =H9-H7 -> 26143.134 | J11: =J9-J7 -> 49732.967 | K11: =K9-K7 -> 16106.303 | L11: =L9-L7 -> 23884.586 | N11: =N9-N7 -> 82440.255 | O11: =O9-O7 -> 74808.11 | P11: =P9-P7 -> 67926.355
A12: Wysokość zrealizowania Planu Sprzedaży Marża | B12: =B9/B7 -> 1.0349155 | C12: =C9/C7 -> 0.98647534 | D12: =D9/D7 -> 1.0836586 | F12: =F9/F7 -> 1.0674653 | G12: =G9/G7 -> 1.0529927 | H12: =H9/H7 -> 1.0175167 | J12: =J9/J7 -> 1.0290383 | K12: =K9/K7 -> 1.0083329 | L12: =L9/L7 -> 1.0109686 | N12: =N9/N7 -> 1.0338642 | O12: =O9/O7 -> 1.0277959 | P12: =P9/P7 -> 1.0231357
A13: Kwartalny Plan Sprzedaży Marża | B13: =TOMEK!N4+MIRU!N4+'PIOTR L'!N4+BARTEK!N4+PIOTR!N4+KRZYSZTOF!N4 -> 209933.33 | C13: =TOMEK!O4+MIRU!O4+'PIOTR L'!O4+BARTEK!O4+PIOTR!O4+KRZYSZTOF!O4+B13 -> 443600 | D13: =TOMEK!P4+MIRU!P4+'PIOTR L'!P4+BARTEK!P4+PIOTR!P4+KRZYSZTOF!P4+C13 -> 712000 | F13: =TOMEK!J4+MIRU!J4+'PIOTR L'!J4+BARTEK!J4+PIOTR!J4+KRZYSZTOF!J4 -> 213900 | G13: =TOMEK!K4+MIRU!K4+'PIOTR L'!K4+BARTEK!K4+PIOTR!K4+KRZYSZTOF!K4+F13 -> 461400 | H13: =TOMEK!L4+MIRU!L4+'PIOTR L'!L4+BARTEK!L4+PIOTR!L4+KRZYSZTOF!L4+G13 -> 751000 | J13: =TOMEK!F4+MIRU!F4+Artur!F4+BARTEK!F4+PIOTR!F4+KRZYSZTOF!F4 -> 208216.67 | K13: =TOMEK!G4+MIRU!G4+Artur!G4+BARTEK!G4+PIOTR!G4+KRZYSZTOF!G4+J13 -> 447050 | L13: =TOMEK!H4+MIRU!H4+Artur!H4+BARTEK!H4+PIOTR!H4+KRZYSZTOF!H4+K13 -> 729000 | N13: =TOMEK!B4+MIRU!B4+Artur!B4+BARTEK!B4+PIOTR!B4+KRZYSZTOF!B4 -> 234450 | O13: =TOMEK!C4+MIRU!C4+Artur!C4+BARTEK!C4+PIOTR!C4+KRZYSZTOF!C4+N13 -> 496066.67 | P13: =TOMEK!D4+MIRU!D4+Artur!D4+BARTEK!D4+PIOTR!D4+KRZYSZTOF!D4+O13 -> 750000 | Q13: =SUM(N13:P13) -> 1480516.7
A14: Sumaryczna Kwartalna Realizacja Planu Sprzedaży Marża | B14: =B8/B13 -> 1.0855275 | C14: =(B8+C8)/C13 -> 1.033768 | D14: =(D8+C8+B8)/D13 -> 1.0985234 | F14: =F8/F13 -> 1.1663646 | G14: =(F8+G8)/G13 -> 1.0966894 | H14: =(H8+G8+F8)/H13 -> 0.9806407 | J14: =J8/J13 -> 1.1708469 | K14: =(J8+K8)/K13 -> 0.96267346 | L14: =(L8+K8+J8)/L13 -> 0.93663665 | N14: =N8/N13 -> 1.3455136 | O14: =(N8+O8)/O13 -> 1.1384025 | P14: =(P8+O8+N8)/P13 -> 1.0700112
A16: Obrót 2016 | B16: 595271.4 | C16: 696359.46 | D16: 766190.38 | E16: 2057821.2 | F16: 682068.81 | G16: 533838.03 | H16: 776913.93 | I16: 1992820.8 | J16: 525147.41 | K16: 587909.09 | L16: 689455.24 | M16: 1802511.7 | N16: 672593.27 | O16: 631951.31 | P16: 608034.1 | Q16: 1912578.7 | R16: =SUM(N16:P16,J16:L16,F16:H16,B16:D16) -> 7765732.4
A17: Sumaryczny Obrót 2016 | B17: =B16 -> 595271.4 | C17: =C16+B17 -> 1291630.9 | D17: =D16+C17 -> 2057821.2 | F17: =F16+D17 -> 2739890 | G17: =G16+F17 -> 3273728.1 | H17: =H16+G17 -> 4050642 | J17: =J16+H17 -> 4575789.4 | K17: =K16+J17 -> 5163698.5 | L17: =L16+K17 -> 5853153.8 | N17: =N16+L17 -> 6525747 | O17: =O16+N17 -> 7157698.3 | P17: =P16+O17 -> 7765732.4 | S17: MINIMUM | T17: PLAN | U17: CEL
A18: Wzrost Obrotu 2017 w stos do Obrotu 2016 | B18: =B22/B17 -> 1.1228175 | C18: =C22/C17 -> 1.0158308 | D18: =D22/D17 -> 1.0786714 | F18: =F22/F17 -> 1.0848954 | G18: =G22/G17 -> 1.1447869 | H18: =H22/H17 -> 1.0981826 | J18: =J22/J17 -> 1.1348172 | K18: =K22/K17 -> 1.1167908 | L18: =L22/L17 -> 1.1191768 | N18: =N22/N17 -> 1.1387351 | O18: =O22/O17 -> 1.1427672 | P18: =P22/P17 -> 1.1435473 | Q18: =Q21/Q16 -> 1.2181295 | R18: =R21/R16 -> 1.1435473 | S18: =S19/R16 -> 1.0639241 | T18: =T19/R16 -> 1.1199201 | U18: =U19/R16 -> 1.1759161
A19: Plan Sprzedaży Obrót | B19: ='Target 2017'!B36 -> 652275 | C19: ='Target 2017'!C36 -> 724750 | D19: ='Target 2017'!D36 -> 760987.5 | F19: ='Target 2017'!E36 -> 724750 | G19: ='Target 2017'!F36 -> 760987.5 | H19: ='Target 2017'!G36 -> 797225 | J19: ='Target 2017'!H36 -> 652275 | K19: ='Target 2017'!I36 -> 652275 | L19: ='Target 2017'!J36 -> 724750 | N19: ='Target 2017'!K36 -> 760987.5 | O19: ='Target 2017'!L36 -> 760987.5 | P19: ='Target 2017'!M36 -> 724750 | R19: =B19+C19+D19+F19+G19+H19+J19+K19+L19+N19+O19+P19 -> 8697000 | S19: =DH!R19*0.95 -> 8262150 | T19: =R19 -> 8697000 | U19: ='Target 2017'!H40 -> 9131850
A20: Sumaryczny Plan Sprzedaży Obrót | B20: =B19 -> 652275 | C20: =C19+B20 -> 1377025 | D20: =D19+C20 -> 2138012.5 | F20: =F19+D20 -> 2862762.5 | G20: =G19+F20 -> 3623750 | H20: =H19+G20 -> 4420975 | J20: =J19+H20 -> 5073250 | K20: =K19+J20 -> 5725525 | L20: =L19+K20 -> 6450275 | N20: =N19+L20 -> 7211262.5 | O20: =O19+N20 -> 7972250 | P20: =P19+O20 -> 8697000
A21: Miesięczna realizacja Planu Sprzedaży Obrót | B21: =TOMEK!N13+MIRU!N13+'PIOTR L'!N13+BARTEK!N13+PIOTR!N13+KRZYSZTOF!N13+Artur!B13 -> 668381.14 | C21: =TOMEK!O13+MIRU!O13+'PIOTR L'!O13+BARTEK!O13+PIOTR!O13+KRZYSZTOF!O13+Artur!C13 -> 643697.21 | D21: =TOMEK!P13+MIRU!P13+'PIOTR L'!P13+BARTEK!P13+PIOTR!P13+KRZYSZTOF!P13+Artur!D13 -> 907634.51 | E21: =SUM(B21:D21) -> 2219712.9 | F21: =TOMEK!J13+MIRU!J13+'PIOTR L'!J13+BARTEK!J13+PIOTR!J13+KRZYSZTOF!J13+Artur!N13 -> 752781.26 | G21: =TOMEK!K13+MIRU!K13+'PIOTR L'!K13+BARTEK!K13+PIOTR!K13+KRZYSZTOF!K13 -> 775226.8 | H21: =TOMEK!L13+MIRU!L13+'PIOTR L'!L13+BARTEK!L13+PIOTR!L13+KRZYSZTOF!L13+Artur!P13 -> 700623.58 | I21: =SUM(F21:H21) -> 2228631.6 | J21: =TOMEK!F13+MIRU!F13+Artur!J13+BARTEK!F13+PIOTR!F13+KRZYSZTOF!F13+'PIOTR L'!F13 -> 744340.06 | K21: =TOMEK!G13+MIRU!G13+Artur!K13+BARTEK!G13+PIOTR!G13+KRZYSZTOF!G13+'PIOTR L'!G13 -> 574086.62 | L21: =TOMEK!H13+MIRU!H13+Artur!L13+BARTEK!H13+PIOTR!H13+KRZYSZTOF!H13+'PIOTR L'!H13 -> 783942.46 | M21: =SUM(J21:L21) -> 2102369.1 | N21: =TOMEK!B13+MIRU!B13+Artur!F13+BARTEK!B13+PIOTR!B13+KRZYSZTOF!B13+'PIOTR L'!B13 -> 880383.3 | O21: =TOMEK!C13+MIRU!C13+Artur!G13+BARTEK!C13+PIOTR!C13+KRZYSZTOF!C13+'PIOTR L'!C13 -> 748485.91 | P21: =TOMEK!D13+MIRU!D13+Artur!H13+BARTEK!D13+PIOTR!D13+KRZYSZTOF!D13+'PIOTR L'!D13 -> 700899.27 | Q21: =SUM(N21:P21) -> 2329768.5 | R21: =B21+C21+D21+F21+G21+H21+J21+K21+L21+N21+O21+P21 -> 8880482.1
A22: Sumaryczna realizacja planu sprzedaży Obrót | B22: =B21 -> 668381.14 | C22: =C21+B22 -> 1312078.4 | D22: =D21+C22 -> 2219712.9 | F22: =F21+D22 -> 2972494.1 | G22: =G21+F22 -> 3747720.9 | H22: =H21+G22 -> 4448344.5 | J22: =J21+H22 -> 5192684.6 | K22: =K21+J22 -> 5766771.2 | L22: =L21+K22 -> 6550713.6 | N22: =N21+L22 -> 7431096.9 | O22: =O21+N22 -> 8179582.8 | P22: =P21+O22 -> 8880482.1
A23: Wysokość zrealizowania Miesięcznego Planu Sprzedaży Obrót | B23: =B21/B19 -> 1.0246923 | C23: =C21/C19 -> 0.88816448 | D23: =D21/D19 -> 1.1927062 | F23: =F21/F19 -> 1.0386771 | G23: =G21/G19 -> 1.0187116 | H23: =H21/H19 -> 0.87882791 | J23: =J21/J19 -> 1.1411445 | K23: =K21/K19 -> 0.88012973 | L23: =L21/L19 -> 1.0816729 | N23: =N21/N19 -> 1.1568959 | O23: =O21/O19 -> 0.98357189 | P23: =P21/P19 -> 0.96709109
A24: Wysokość zrealizowania Planu Sprzedaży Obrót | B24: =B22/B20 -> 1.0246923 | C24: =C22/C20 -> 0.95283553 | D24: =D22/D20 -> 1.0382132 | F24: =F22/F20 -> 1.0383307 | G24: =G22/G20 -> 1.0342107 | H24: =H22/H20 -> 1.0061908 | J24: =J22/J20 -> 1.023542 | K24: =K22/K20 -> 1.0072039 | L24: =L22/L20 -> 1.0155712 | N24: =N22/N20 -> 1.0304849 | O24: =O22/O20 -> 1.0260068 | P24: =P22/P20 -> 1.0210972
A25: Różnica wskaźnika Obrót | B25: =B22-B20 -> 16106.14 | C25: =C22-C20 -> -64946.65 | D25: =D22-D20 -> 81700.36 | F25: =F22-F20 -> 109731.62 | G25: =G22-G20 -> 123970.92 | H25: =H22-H20 -> 27369.5 | J25: =J22-J20 -> 119434.56 | K25: =K22-K20 -> 41246.18 | L25: =L22-L20 -> 100438.64 | N25: =N22-N20 -> 219834.44 | O25: =O22-O20 -> 207332.85 | P25: =P22-P20 -> 183482.12
A26: Kwartalny Plan Sprzedaży Obrót | B26: =TOMEK!N11+MIRU!N11+'PIOTR L'!N11+BARTEK!N11+PIOTR!N11+KRZYSZTOF!N11 -> 604333.33 | C26: =TOMEK!O11+MIRU!O11+'PIOTR L'!O11+BARTEK!O11+PIOTR!O11+KRZYSZTOF!O11+B26 -> 1266000 | D26: =TOMEK!P11+MIRU!P11+'PIOTR L'!P11+BARTEK!P11+PIOTR!P11+KRZYSZTOF!P11+C26 -> 2060000 | F26: =TOMEK!J11+MIRU!J11+'PIOTR L'!J11+BARTEK!J11+PIOTR!J11+KRZYSZTOF!J11 -> 611250 | G26: =TOMEK!K11+MIRU!K11+'PIOTR L'!K11+BARTEK!K11+PIOTR!K11+KRZYSZTOF!K11+F26 -> 1329250 | H26: =TOMEK!L11+MIRU!L11+'PIOTR L'!L11+BARTEK!L11+PIOTR!L11+KRZYSZTOF!L11+G26 -> 2139000 | J26: =TOMEK!F11+MIRU!F11+Artur!F11+BARTEK!F11+PIOTR!F11+KRZYSZTOF!F11 -> 573750 | K26: =TOMEK!G11+MIRU!G11+Artur!G11+BARTEK!G11+PIOTR!G11+KRZYSZTOF!G11+J26 -> 1223750 | L26: =TOMEK!H11+MIRU!H11+Artur!H11+BARTEK!H11+PIOTR!H11+KRZYSZTOF!H11+K26 -> 2025000 | M26: =SUM(J26:L26) -> 3822500 | N26: =TOMEK!B11+MIRU!B11+Artur!B11+BARTEK!B11+PIOTR!B11+KRZYSZTOF!B11 -> 706666.67 | O26: =TOMEK!C11+MIRU!C11+Artur!C11+BARTEK!C11+PIOTR!C11+KRZYSZTOF!C11+N26 -> 1491500 | P26: =TOMEK!D11+MIRU!D11+Artur!D11+BARTEK!D11+PIOTR!D11+KRZYSZTOF!D11+O26 -> 2255000 | Q26: =SUM(N26:P26) -> 4453166.7
A27: Sumaryczna Kwartalna Realizacja Planu Sprzedaży Obrót | B27: =B21/B26 -> 1.1059809 | C27: =(C21+B21)/C26 -> 1.0363968 | D27: =(C21+B21+D21)/D26 -> 1.0775305 | F27: =F21/F26 -> 1.231544 | G27: =(G21+F21)/G26 -> 1.1495265 | H27: =(G21+F21+H21)/H26 -> 1.0419035 | J27: =J21/J26 -> 1.2973247 | K27: =(K21+J21)/K26 -> 1.077366 | L27: =(K21+J21+L21)/L26 -> 1.038207 | N27: =N21/N26 -> 1.2458254 | O27: =(O21+N21)/O26 -> 1.0921014 | P27: =(O21+N21+P21)/P26 -> 1.0331568
A29: Wysokość Marży miesięcznej | B29: =B8/B21 -> 0.34095576 | C29: =C8/C21 -> 0.3583845 | D29: =D8/D21 -> 0.35649716 | F29: =F8/F21 -> 0.33141816 | G29: =G8/G21 -> 0.33090589 | H29: =H8/H21 -> 0.32891939 | J29: =J8/J21 -> 0.32752481 | K29: =K8/K21 -> 0.32499161 | L29: =L8/L21 -> 0.32201974 | N29: =N8/N21 -> 0.35831628 | O29: =O8/O21 -> 0.33302946 | P29: =P8/P21 -> 0.3392569
A30: Wysokość Marży sumarycznej | B30: =B9/B22 -> 0.34095576 | C30: =C9/C22 -> 0.34950619 | D30: =D9/D22 -> 0.35236478 | F30: =F9/F22 -> 0.34706007 | G30: =G9/G22 -> 0.34371853 | H30: =H9/H22 -> 0.34138763 | J30: =J9/J22 -> 0.33940048 | K30: =K9/K22 -> 0.33796607 | L30: =L9/L22 -> 0.33605772 | N30: =N9/N22 -> 0.33869476 | O30: =O9/O22 -> 0.33817635 | P30: =P9/P22 -> 0.33826163
B32: PREMIE
A33: Wynagrodzenie zasadnicze | B33: 7500 | C33: 8000 | D33: 8000 | F33: 8000 | G33: 8000 | H33: 8000 | J33: 8000 | K33: 8000 | L33: 8000 | N33: 8000 | O33: 8000 | P33: 8000
A34: Wskaźnik Plan Sprzedaży Marża | B34: =B7 -> 220200 | C34: =C7 -> 464866.67 | D34: =D7 -> 721766.67 | F34: =F7 -> 966433.33 | G34: =G7 -> 1223333.3 | H34: =H7 -> 1492466.7 | J34: =J7 -> 1712666.7 | K34: =K7 -> 1932866.7 | L34: =L7 -> 2177533.3 | N34: =N7 -> 2434433.3 | O34: =O7 -> 2691333.3 | P34: =P7 -> 2936000
A35: Realizacja Wskaźnika Planu Sprzedaży Marża | B35: =B9 -> 227888.4 | C35: =C9 -> 458579.5 | D35: =D9 -> 782148.63 | F35: =F9 -> 1031634 | G35: =G9 -> 1288161.1 | H35: =H9 -> 1518609.8 | J35: =J9 -> 1762399.6 | K35: =K9 -> 1948973 | L35: =L9 -> 2201417.9 | N35: =N9 -> 2516873.6 | O35: =O9 -> 2766141.4 | P35: =P9 -> 3003926.4
A36: Poziom realizacji Wskaźnika Sprzedaży Marża | B36: =B35/B34 -> 1.0349155 | C36: =C35/C34 -> 0.98647534 | D36: =D35/D34 -> 1.0836586 | F36: =F35/F34 -> 1.0674653 | G36: =G35/G34 -> 1.0529927 | H36: =H35/H34 -> 1.0175167 | J36: =J35/J34 -> 1.0290383 | K36: =K35/K34 -> 1.0083329 | L36: =L35/L34 -> 1.0109686 | N36: =N35/N34 -> 1.0338642 | O36: =O35/O34 -> 1.0277959 | P36: =P35/P34 -> 1.0231357
A37: Wysokość premii Wskaźnik Sprzedaży Marża | B37: =B33*0.4 -> 3000 | C37: =C33*0.3 -> 2400 | D37: =D33*0.3 -> 2400 | F37: =F33*0.3 -> 2400 | G37: =G33*0.3 -> 2400 | H37: =H33*0.3 -> 2400 | J37: =J33*0.3 -> 2400 | K37: =K33*0.3 -> 2400 | L37: =L33*0.3 -> 2400 | N37: =N33*0.3 -> 2400 | O37: =O33*0.3 -> 2400 | P37: =P33*0.3 -> 2400
A38: Mnożnik premii miesięcznej Wskaźnika Sprzedaży Marża | B38: =IF(B36<80%,0,IF(B36<90%,0.5,IF(B36<95%,0.75,1))) -> 1 | C38: =IF(C36<80%,0,IF(C36<90%,0.5,IF(C36<95%,0.75,1))) -> 1 | D38: =IF(D36<80%,0,IF(D36<90%,0.5,IF(D36<95%,0.75,1))) -> 1 | F38: =IF(F36<80%,0,IF(F36<90%,0.5,IF(F36<95%,0.75,1))) -> 1 | G38: =IF(G36<80%,0,IF(G36<90%,0.5,IF(G36<95%,0.75,1))) -> 1 | H38: =IF(H36<80%,0,IF(H36<90%,0.5,IF(H36<95%,0.75,1))) -> 1 | J38: =IF(J36<80%,0,IF(J36<90%,0.5,IF(J36<95%,0.75,1))) -> 1 | K38: =IF(K36<80%,0,IF(K36<90%,0.5,IF(K36<95%,0.75,1))) -> 1 | L38: =IF(L36<80%,0,IF(L36<90%,0.5,IF(L36<95%,0.75,1))) -> 1 | N38: =IF(N36<80%,0,IF(N36<90%,0.5,IF(N36<95%,0.75,1))) -> 1 | O38: =IF(O36<80%,0,IF(O36<90%,0.5,IF(O36<95%,0.75,1))) -> 1 | P38: =IF(P36<80%,0,IF(P36<90%,0.5,IF(P36<95%,0.75,1))) -> 1
A39: Premia miesięczna za Wskaźnik Sprzedaży Marża | B39: =B38*B37 -> 3000 | C39: =C38*C37 -> 2400 | D39: =D38*D37 -> 2400 | F39: =F38*F37 -> 2400 | G39: =G38*G37 -> 2400 | H39: =H38*H37 -> 2400 | J39: =J38*J37 -> 2400 | K39: =K38*K37 -> 2400 | L39: =L38*L37 -> 2400 | N39: =N38*N37 -> 2400 | O39: =O38*O37 -> 2400 | P39: =P38*P37 -> 2400
A40: Suma Premii miesięcznych | B40: =B39 -> 3000 | C40: =C39 -> 2400 | D40: =D39 -> 2400 | F40: =F39 -> 2400 | G40: =G39 -> 2400 | H40: =H39 -> 2400 | J40: =J39 -> 2400 | K40: =K39 -> 2400 | L40: =L39 -> 2400 | N40: =N39 -> 2400 | O40: =O39 -> 2400 | P40: =P39 -> 2400
A42: SPRZEDAŻ DRUKAREK
A43: CL-S521 | B43: =TOMEK!N48+MIRU!N22+'PIOTR L'!N48+BARTEK!N48+PIOTR!N48+KRZYSZTOF!N48+Artur!B48 -> 0 | C43: =TOMEK!O48+MIRU!O22+'PIOTR L'!O48+BARTEK!O48+PIOTR!O48+KRZYSZTOF!O48+Artur!C48 -> 0 | D43: =TOMEK!P48+MIRU!P22+'PIOTR L'!P48+BARTEK!P48+PIOTR!P48+KRZYSZTOF!P48+Artur!D48 -> 0 | F43: =TOMEK!J48+MIRU!J22+'PIOTR L'!J48+BARTEK!J48+PIOTR!J48+KRZYSZTOF!J48+Artur!N48 -> 0 | G43: =TOMEK!K48+MIRU!K22+'PIOTR L'!K48+BARTEK!K48+PIOTR!K48+KRZYSZTOF!K48+Artur!O48 -> 0 | H43: =TOMEK!L48+MIRU!L22+'PIOTR L'!L48+BARTEK!L48+PIOTR!L48+KRZYSZTOF!L48+Artur!P48 -> 0 | J43: =TOMEK!F48+MIRU!F22+Artur!J48+BARTEK!F48+PIOTR!F48+KRZYSZTOF!F48+'PIOTR L'!F48 -> 0 | K43: =TOMEK!G48+MIRU!G22+Artur!K48+BARTEK!G48+PIOTR!G48+KRZYSZTOF!G48+'PIOTR L'!G48 -> 1 | L43: =TOMEK!H48+MIRU!H22+Artur!L48+BARTEK!H48+PIOTR!H48+KRZYSZTOF!H48+'PIOTR L'!H48 -> 0 | N43: =TOMEK!B48+MIRU!B22+'PIOTR L'!B48+BARTEK!B48+PIOTR!B48+KRZYSZTOF!B48+Artur!F48 -> 0 | O43: =TOMEK!C48+MIRU!C22+'PIOTR L'!C48+BARTEK!C48+PIOTR!C48+KRZYSZTOF!C48+Artur!G48 -> 0 | P43: =TOMEK!D48+MIRU!D22+'PIOTR L'!D48+BARTEK!D48+PIOTR!D48+KRZYSZTOF!D48+Artur!H48 -> 0 | R43: =SUM(B43:P43) -> 1
A44: CL-S621 | B44: =TOMEK!N49+MIRU!N23+'PIOTR L'!N49+BARTEK!N49+PIOTR!N49+KRZYSZTOF!N49+Artur!B49 -> 5 | C44: =TOMEK!O49+MIRU!O23+'PIOTR L'!O49+BARTEK!O49+PIOTR!O49+KRZYSZTOF!O49+Artur!C49 -> 1 | D44: =TOMEK!P49+MIRU!P23+'PIOTR L'!P49+BARTEK!P49+PIOTR!P49+KRZYSZTOF!P49+Artur!D49 -> 3 | F44: =TOMEK!J49+MIRU!J23+'PIOTR L'!J49+BARTEK!J49+PIOTR!J49+KRZYSZTOF!J49+Artur!N49 -> 1 | G44: =TOMEK!K49+MIRU!K23+'PIOTR L'!K49+BARTEK!K49+PIOTR!K49+KRZYSZTOF!K49+Artur!O49 -> 9 | H44: =TOMEK!L49+MIRU!L23+'PIOTR L'!L49+BARTEK!L49+PIOTR!L49+KRZYSZTOF!L49+Artur!P49 -> 5 | J44: =TOMEK!F49+MIRU!F23+Artur!J49+BARTEK!F49+PIOTR!F49+KRZYSZTOF!F49+'PIOTR L'!F49 -> 3 | K44: =TOMEK!G49+MIRU!G23+Artur!K49+BARTEK!G49+PIOTR!G49+KRZYSZTOF!G49+'PIOTR L'!G49 -> 3 | L44: =TOMEK!H49+MIRU!H23+Artur!L49+BARTEK!H49+PIOTR!H49+KRZYSZTOF!H49+'PIOTR L'!H49 -> 11 | N44: =TOMEK!B49+MIRU!B23+'PIOTR L'!B49+BARTEK!B49+PIOTR!B49+KRZYSZTOF!B49+Artur!F49 -> 4 | O44: =TOMEK!C49+MIRU!C23+'PIOTR L'!C49+BARTEK!C49+PIOTR!C49+KRZYSZTOF!C49+Artur!G49 -> 3 | P44: =TOMEK!D49+MIRU!D23+'PIOTR L'!D49+BARTEK!D49+PIOTR!D49+KRZYSZTOF!D49+Artur!H49 -> 3 | R44: =SUM(B44:P44) -> 51
A45: CL-S6621 | B45: =TOMEK!N50+MIRU!N24+'PIOTR L'!N50+BARTEK!N50+PIOTR!N50+KRZYSZTOF!N50+Artur!B50 -> 0 | C45: =TOMEK!O50+MIRU!O24+'PIOTR L'!O50+BARTEK!O50+PIOTR!O50+KRZYSZTOF!O50+Artur!C50 -> 0 | D45: =TOMEK!P50+MIRU!P24+'PIOTR L'!P50+BARTEK!P50+PIOTR!P50+KRZYSZTOF!P50+Artur!D50 -> 0 | F45: =TOMEK!J50+MIRU!J24+'PIOTR L'!J50+BARTEK!J50+PIOTR!J50+KRZYSZTOF!J50+Artur!N50 -> 0 | G45: =TOMEK!K50+MIRU!K24+'PIOTR L'!K50+BARTEK!K50+PIOTR!K50+KRZYSZTOF!K50+Artur!O50 -> 0 | H45: =TOMEK!L50+MIRU!L24+'PIOTR L'!L50+BARTEK!L50+PIOTR!L50+KRZYSZTOF!L50+Artur!P50 -> 1 | J45: =TOMEK!F50+MIRU!F24+Artur!J50+BARTEK!F50+PIOTR!F50+KRZYSZTOF!F50+'PIOTR L'!F50 -> 0 | K45: =TOMEK!G50+MIRU!G24+Artur!K50+BARTEK!G50+PIOTR!G50+KRZYSZTOF!G50+'PIOTR L'!G50 -> 0 | L45: =TOMEK!H50+MIRU!H24+Artur!L50+BARTEK!H50+PIOTR!H50+KRZYSZTOF!H50+'PIOTR L'!H50 -> 0 | N45: =TOMEK!B50+MIRU!B24+'PIOTR L'!B50+BARTEK!B50+PIOTR!B50+KRZYSZTOF!B50+Artur!F50 -> 0 | O45: =TOMEK!C50+MIRU!C24+'PIOTR L'!C50+BARTEK!C50+PIOTR!C50+KRZYSZTOF!C50+Artur!G50 -> 0 | P45: =TOMEK!D50+MIRU!D24+'PIOTR L'!D50+BARTEK!D50+PIOTR!D50+KRZYSZTOF!D50+Artur!H50 -> 0 | R45: =SUM(B45:P45) -> 1
A46: CL-S631 | B46: =TOMEK!N51+MIRU!N25+'PIOTR L'!N51+BARTEK!N51+PIOTR!N51+KRZYSZTOF!N51+Artur!B51 -> 5 | C46: =TOMEK!O51+MIRU!O25+'PIOTR L'!O51+BARTEK!O51+PIOTR!O51+KRZYSZTOF!O51+Artur!C51 -> 2 | D46: =TOMEK!P51+MIRU!P25+'PIOTR L'!P51+BARTEK!P51+PIOTR!P51+KRZYSZTOF!P51+Artur!D51 -> 3 | F46: =TOMEK!J51+MIRU!J25+'PIOTR L'!J51+BARTEK!J51+PIOTR!J51+KRZYSZTOF!J51+Artur!N51 -> 2 | G46: =TOMEK!K51+MIRU!K25+'PIOTR L'!K51+BARTEK!K51+PIOTR!K51+KRZYSZTOF!K51+Artur!O51 -> 4 | H46: =TOMEK!L51+MIRU!L25+'PIOTR L'!L51+BARTEK!L51+PIOTR!L51+KRZYSZTOF!L51+Artur!P51 -> 6 | J46: =TOMEK!F51+MIRU!F25+Artur!J51+BARTEK!F51+PIOTR!F51+KRZYSZTOF!F51+'PIOTR L'!F51 -> 2 | K46: =TOMEK!G51+MIRU!G25+Artur!K51+BARTEK!G51+PIOTR!G51+KRZYSZTOF!G51+'PIOTR L'!G51 -> 1 | L46: =TOMEK!H51+MIRU!H25+Artur!L51+BARTEK!H51+PIOTR!H51+KRZYSZTOF!H51+'PIOTR L'!H51 -> 2 | N46: =TOMEK!B51+MIRU!B25+'PIOTR L'!B51+BARTEK!B51+PIOTR!B51+KRZYSZTOF!B51+Artur!F51 -> 3 | O46: =TOMEK!C51+MIRU!C25+'PIOTR L'!C51+BARTEK!C51+PIOTR!C51+KRZYSZTOF!C51+Artur!G51 -> 6 | P46: =TOMEK!D51+MIRU!D25+'PIOTR L'!D51+BARTEK!D51+PIOTR!D51+KRZYSZTOF!D51+Artur!H51 -> 0 | R46: =SUM(B46:P46) -> 36
A47: CL-S700 | B47: =TOMEK!N52+MIRU!N26+'PIOTR L'!N52+BARTEK!N52+PIOTR!N52+KRZYSZTOF!N52+Artur!B52 -> 0 | C47: =TOMEK!O52+MIRU!O26+'PIOTR L'!O52+BARTEK!O52+PIOTR!O52+KRZYSZTOF!O52+Artur!C52 -> 1 | D47: =TOMEK!P52+MIRU!P26+'PIOTR L'!P52+BARTEK!P52+PIOTR!P52+KRZYSZTOF!P52+Artur!D52 -> 1 | F47: =TOMEK!J52+MIRU!J26+'PIOTR L'!J52+BARTEK!J52+PIOTR!J52+KRZYSZTOF!J52+Artur!N52 -> 0 | G47: =TOMEK!K52+MIRU!K26+'PIOTR L'!K52+BARTEK!K52+PIOTR!K52+KRZYSZTOF!K52+Artur!O52 -> 1 | H47: =TOMEK!L52+MIRU!L26+'PIOTR L'!L52+BARTEK!L52+PIOTR!L52+KRZYSZTOF!L52+Artur!P52 -> 0 | J47: =TOMEK!F52+MIRU!F26+Artur!J52+BARTEK!F52+PIOTR!F52+KRZYSZTOF!F52+'PIOTR L'!F52 -> 0 | K47: =TOMEK!G52+MIRU!G26+Artur!K52+BARTEK!G52+PIOTR!G52+KRZYSZTOF!G52+'PIOTR L'!G52 -> 0 | L47: =TOMEK!H52+MIRU!H26+Artur!L52+BARTEK!H52+PIOTR!H52+KRZYSZTOF!H52+'PIOTR L'!H52 -> 0 | N47: =TOMEK!B52+MIRU!B26+'PIOTR L'!B52+BARTEK!B52+PIOTR!B52+KRZYSZTOF!B52+Artur!F52 -> 2 | O47: =TOMEK!C52+MIRU!C26+'PIOTR L'!C52+BARTEK!C52+PIOTR!C52+KRZYSZTOF!C52+Artur!G52 -> 2 | P47: =TOMEK!D52+MIRU!D26+'PIOTR L'!D52+BARTEK!D52+PIOTR!D52+KRZYSZTOF!D52+Artur!H52 -> 2 | R47: =SUM(B47:P47) -> 9
A48: CL-S700R | B48: =TOMEK!N53+MIRU!N27+'PIOTR L'!N53+BARTEK!N53+PIOTR!N53+KRZYSZTOF!N53+Artur!B53 -> 0 | C48: =TOMEK!O53+MIRU!O27+'PIOTR L'!O53+BARTEK!O53+PIOTR!O53+KRZYSZTOF!O53+Artur!C53 -> 0 | D48: =TOMEK!P53+MIRU!P27+'PIOTR L'!P53+BARTEK!P53+PIOTR!P53+KRZYSZTOF!P53+Artur!D53 -> 0 | F48: =TOMEK!J53+MIRU!J27+'PIOTR L'!J53+BARTEK!J53+PIOTR!J53+KRZYSZTOF!J53+Artur!N53 -> 0 | G48: =TOMEK!K53+MIRU!K27+'PIOTR L'!K53+BARTEK!K53+PIOTR!K53+KRZYSZTOF!K53+Artur!O53 -> 0 | H48: =TOMEK!L53+MIRU!L27+'PIOTR L'!L53+BARTEK!L53+PIOTR!L53+KRZYSZTOF!L53+Artur!P53 -> 0 | J48: =TOMEK!F53+MIRU!F27+Artur!J53+BARTEK!F53+PIOTR!F53+KRZYSZTOF!F53+'PIOTR L'!F53 -> 0 | K48: =TOMEK!G53+MIRU!G27+Artur!K53+BARTEK!G53+PIOTR!G53+KRZYSZTOF!G53+'PIOTR L'!G53 -> 0 | L48: =TOMEK!H53+MIRU!H27+Artur!L53+BARTEK!H53+PIOTR!H53+KRZYSZTOF!H53+'PIOTR L'!H53 -> 0 | N48: =TOMEK!B53+MIRU!B27+'PIOTR L'!B53+BARTEK!B53+PIOTR!B53+KRZYSZTOF!B53+Artur!F53 -> 0 | O48: =TOMEK!C53+MIRU!C27+'PIOTR L'!C53+BARTEK!C53+PIOTR!C53+KRZYSZTOF!C53+Artur!G53 -> 0 | P48: =TOMEK!D53+MIRU!D27+'PIOTR L'!D53+BARTEK!D53+PIOTR!D53+KRZYSZTOF!D53+Artur!H53 -> 0 | R48: =SUM(B48:P48) -> 0
A49: CL-S703 | B49: =TOMEK!N54+MIRU!N28+'PIOTR L'!N54+BARTEK!N54+PIOTR!N54+KRZYSZTOF!N54+Artur!B54 -> 3 | C49: =TOMEK!O54+MIRU!O28+'PIOTR L'!O54+BARTEK!O54+PIOTR!O54+KRZYSZTOF!O54+Artur!C54 -> 0 | D49: =TOMEK!P54+MIRU!P28+'PIOTR L'!P54+BARTEK!P54+PIOTR!P54+KRZYSZTOF!P54+Artur!D54 -> 1 | F49: =TOMEK!J54+MIRU!J28+'PIOTR L'!J54+BARTEK!J54+PIOTR!J54+KRZYSZTOF!J54+Artur!N54 -> 1 | G49: =TOMEK!K54+MIRU!K28+'PIOTR L'!K54+BARTEK!K54+PIOTR!K54+KRZYSZTOF!K54+Artur!O54 -> 1 | H49: =TOMEK!L54+MIRU!L28+'PIOTR L'!L54+BARTEK!L54+PIOTR!L54+KRZYSZTOF!L54+Artur!P54 -> 0 | J49: =TOMEK!F54+MIRU!F28+Artur!J54+BARTEK!F54+PIOTR!F54+KRZYSZTOF!F54+'PIOTR L'!F54 -> 1 | K49: =TOMEK!G54+MIRU!G28+Artur!K54+BARTEK!G54+PIOTR!G54+KRZYSZTOF!G54+'PIOTR L'!G54 -> 1 | L49: =TOMEK!H54+MIRU!H28+Artur!L54+BARTEK!H54+PIOTR!H54+KRZYSZTOF!H54+'PIOTR L'!H54 -> 0 | N49: =TOMEK!B54+MIRU!B28+'PIOTR L'!B54+BARTEK!B54+PIOTR!B54+KRZYSZTOF!B54+Artur!F54 -> 2 | O49: =TOMEK!C54+MIRU!C28+'PIOTR L'!C54+BARTEK!C54+PIOTR!C54+KRZYSZTOF!C54+Artur!G54 -> 1 | P49: =TOMEK!D54+MIRU!D28+'PIOTR L'!D54+BARTEK!D54+PIOTR!D54+KRZYSZTOF!D54+Artur!H54 -> 4 | R49: =SUM(B49:P49) -> 15
A50: CL-S703R | B50: =TOMEK!N55+MIRU!N29+'PIOTR L'!N55+BARTEK!N55+PIOTR!N55+KRZYSZTOF!N55+Artur!B55 -> 0 | C50: =TOMEK!O55+MIRU!O29+'PIOTR L'!O55+BARTEK!O55+PIOTR!O55+KRZYSZTOF!O55+Artur!C55 -> 0 | D50: =TOMEK!P55+MIRU!P29+'PIOTR L'!P55+BARTEK!P55+PIOTR!P55+KRZYSZTOF!P55+Artur!D55 -> 0 | F50: =TOMEK!J55+MIRU!J29+'PIOTR L'!J55+BARTEK!J55+PIOTR!J55+KRZYSZTOF!J55+Artur!N55 -> 0 | G50: =TOMEK!K55+MIRU!K29+'PIOTR L'!K55+BARTEK!K55+PIOTR!K55+KRZYSZTOF!K55+Artur!O55 -> 0 | H50: =TOMEK!L55+MIRU!L29+'PIOTR L'!L55+BARTEK!L55+PIOTR!L55+KRZYSZTOF!L55+Artur!P55 -> 0 | J50: =TOMEK!F55+MIRU!F29+Artur!J55+BARTEK!F55+PIOTR!F55+KRZYSZTOF!F55+'PIOTR L'!F55 -> 0 | K50: =TOMEK!G55+MIRU!G29+Artur!K55+BARTEK!G55+PIOTR!G55+KRZYSZTOF!G55+'PIOTR L'!G55 -> 0 | L50: =TOMEK!H55+MIRU!H29+Artur!L55+BARTEK!H55+PIOTR!H55+KRZYSZTOF!H55+'PIOTR L'!H55 -> 0 | N50: =TOMEK!B55+MIRU!B29+'PIOTR L'!B55+BARTEK!B55+PIOTR!B55+KRZYSZTOF!B55+Artur!F55 -> 0 | O50: =TOMEK!C55+MIRU!C29+'PIOTR L'!C55+BARTEK!C55+PIOTR!C55+KRZYSZTOF!C55+Artur!G55 -> 0 | P50: =TOMEK!D55+MIRU!D29+'PIOTR L'!D55+BARTEK!D55+PIOTR!D55+KRZYSZTOF!D55+Artur!H55 -> 0 | R50: =SUM(B50:P50) -> 0
A51: CLE-720 | B51: =TOMEK!N56+MIRU!N30+'PIOTR L'!N56+BARTEK!N56+PIOTR!N56+KRZYSZTOF!N56+Artur!B56 -> 2 | C51: =TOMEK!O56+MIRU!O30+'PIOTR L'!O56+BARTEK!O56+PIOTR!O56+KRZYSZTOF!O56+Artur!C56 -> 2 | D51: =TOMEK!P56+MIRU!P30+'PIOTR L'!P56+BARTEK!P56+PIOTR!P56+KRZYSZTOF!P56+Artur!D56 -> 1 | F51: =TOMEK!J56+MIRU!J30+'PIOTR L'!J56+BARTEK!J56+PIOTR!J56+KRZYSZTOF!J56+Artur!N56 -> 2 | G51: =TOMEK!K56+MIRU!K30+'PIOTR L'!K56+BARTEK!K56+PIOTR!K56+KRZYSZTOF!K56+Artur!O56 -> 2 | H51: =TOMEK!L56+MIRU!L30+'PIOTR L'!L56+BARTEK!L56+PIOTR!L56+KRZYSZTOF!L56+Artur!P56 -> 1 | J51: =TOMEK!F56+MIRU!F30+Artur!J56+BARTEK!F56+PIOTR!F56+KRZYSZTOF!F56+'PIOTR L'!F56 -> 2 | K51: =TOMEK!G56+MIRU!G30+Artur!K56+BARTEK!G56+PIOTR!G56+KRZYSZTOF!G56+'PIOTR L'!G56 -> 0 | L51: =TOMEK!H56+MIRU!H30+Artur!L56+BARTEK!H56+PIOTR!H56+KRZYSZTOF!H56+'PIOTR L'!H56 -> 0 | N51: =TOMEK!B56+MIRU!B30+'PIOTR L'!B56+BARTEK!B56+PIOTR!B56+KRZYSZTOF!B56+Artur!F56 -> 0 | O51: =TOMEK!C56+MIRU!C30+'PIOTR L'!C56+BARTEK!C56+PIOTR!C56+KRZYSZTOF!C56+Artur!G56 -> 1 | P51: =TOMEK!D56+MIRU!D30+'PIOTR L'!D56+BARTEK!D56+PIOTR!D56+KRZYSZTOF!D56+Artur!H56 -> 0 | R51: =SUM(B51:P51) -> 13
A52: CLE-730 | B52: =TOMEK!N57+MIRU!N31+'PIOTR L'!N57+BARTEK!N57+PIOTR!N57+KRZYSZTOF!N57+Artur!B57 -> 0 | C52: =TOMEK!O57+MIRU!O31+'PIOTR L'!O57+BARTEK!O57+PIOTR!O57+KRZYSZTOF!O57+Artur!C57 -> 0 | D52: =TOMEK!P57+MIRU!P31+'PIOTR L'!P57+BARTEK!P57+PIOTR!P57+KRZYSZTOF!P57+Artur!D57 -> 2 | F52: =TOMEK!J57+MIRU!J31+'PIOTR L'!J57+BARTEK!J57+PIOTR!J57+KRZYSZTOF!J57+Artur!N57 -> 6 | G52: =TOMEK!K57+MIRU!K31+'PIOTR L'!K57+BARTEK!K57+PIOTR!K57+KRZYSZTOF!K57+Artur!O57 -> 1 | H52: =TOMEK!L57+MIRU!L31+'PIOTR L'!L57+BARTEK!L57+PIOTR!L57+KRZYSZTOF!L57+Artur!P57 -> 3 | J52: =TOMEK!F57+MIRU!F31+Artur!J57+BARTEK!F57+PIOTR!F57+KRZYSZTOF!F57+'PIOTR L'!F57 -> 0 | K52: =TOMEK!G57+MIRU!G31+Artur!K57+BARTEK!G57+PIOTR!G57+KRZYSZTOF!G57+'PIOTR L'!G57 -> 0 | L52: =TOMEK!H57+MIRU!H31+Artur!L57+BARTEK!H57+PIOTR!H57+KRZYSZTOF!H57+'PIOTR L'!H57 -> 0 | N52: =TOMEK!B57+MIRU!B31+'PIOTR L'!B57+BARTEK!B57+PIOTR!B57+KRZYSZTOF!B57+Artur!F57 -> 0 | O52: =TOMEK!C57+MIRU!C31+'PIOTR L'!C57+BARTEK!C57+PIOTR!C57+KRZYSZTOF!C57+Artur!G57 -> 0 | P52: =TOMEK!D57+MIRU!D31+'PIOTR L'!D57+BARTEK!D57+PIOTR!D57+KRZYSZTOF!D57+Artur!H57 -> 2 | R52: =SUM(B52:P52) -> 14
A53: CLP 8301 | B53: =TOMEK!N58+MIRU!N32+'PIOTR L'!N58+BARTEK!N58+PIOTR!N58+KRZYSZTOF!N58+Artur!B58 -> 0 | C53: =TOMEK!O58+MIRU!O32+'PIOTR L'!O58+BARTEK!O58+PIOTR!O58+KRZYSZTOF!O58+Artur!C58 -> 0 | D53: =TOMEK!P58+MIRU!P32+'PIOTR L'!P58+BARTEK!P58+PIOTR!P58+KRZYSZTOF!P58+Artur!D58 -> 0 | F53: =TOMEK!J58+MIRU!J32+'PIOTR L'!J58+BARTEK!J58+PIOTR!J58+KRZYSZTOF!J58+Artur!N58 -> 0 | G53: =TOMEK!K58+MIRU!K32+'PIOTR L'!K58+BARTEK!K58+PIOTR!K58+KRZYSZTOF!K58+Artur!O58 -> 0 | H53: =TOMEK!L58+MIRU!L32+'PIOTR L'!L58+BARTEK!L58+PIOTR!L58+KRZYSZTOF!L58+Artur!P58 -> 0 | J53: =TOMEK!F58+MIRU!F32+Artur!J58+BARTEK!F58+PIOTR!F58+KRZYSZTOF!F58+'PIOTR L'!F58 -> 0 | K53: =TOMEK!G58+MIRU!G32+Artur!K58+BARTEK!G58+PIOTR!G58+KRZYSZTOF!G58+'PIOTR L'!G58 -> 0 | L53: =TOMEK!H58+MIRU!H32+Artur!L58+BARTEK!H58+PIOTR!H58+KRZYSZTOF!H58+'PIOTR L'!H58 -> 0 | N53: =TOMEK!B58+MIRU!B32+'PIOTR L'!B58+BARTEK!B58+PIOTR!B58+KRZYSZTOF!B58+Artur!F58 -> 0 | O53: =TOMEK!C58+MIRU!C32+'PIOTR L'!C58+BARTEK!C58+PIOTR!C58+KRZYSZTOF!C58+Artur!G58 -> 0 | P53: =TOMEK!D58+MIRU!D32+'PIOTR L'!D58+BARTEK!D58+PIOTR!D58+KRZYSZTOF!D58+Artur!H58 -> 0 | R53: =SUM(B53:P53) -> 0
A54: ZEBRA | B54: =TOMEK!N59+MIRU!N33+'PIOTR L'!N59+BARTEK!N59+PIOTR!N59+KRZYSZTOF!N59+Artur!B59 -> 0 | C54: =TOMEK!O59+MIRU!O33+'PIOTR L'!O59+BARTEK!O59+PIOTR!O59+KRZYSZTOF!O59+Artur!C59 -> 0 | D54: =TOMEK!P59+MIRU!P33+'PIOTR L'!P59+BARTEK!P59+PIOTR!P59+KRZYSZTOF!P59+Artur!D59 -> 0 | F54: =TOMEK!J59+MIRU!J33+'PIOTR L'!J59+BARTEK!J59+PIOTR!J59+KRZYSZTOF!J59+Artur!N59 -> 0 | G54: =TOMEK!K59+MIRU!K33+'PIOTR L'!K59+BARTEK!K59+PIOTR!K59+KRZYSZTOF!K59+Artur!O59 -> 0 | H54: =TOMEK!L59+MIRU!L33+'PIOTR L'!L59+BARTEK!L59+PIOTR!L59+KRZYSZTOF!L59+Artur!P59 -> 2 | J54: =TOMEK!F59+MIRU!F33+Artur!J59+BARTEK!F59+PIOTR!F59+KRZYSZTOF!F59+'PIOTR L'!F59 -> 1 | K54: =TOMEK!G59+MIRU!G33+Artur!K59+BARTEK!G59+PIOTR!G59+KRZYSZTOF!G59+'PIOTR L'!G59 -> 0 | L54: =TOMEK!H59+MIRU!H33+Artur!L59+BARTEK!H59+PIOTR!H59+KRZYSZTOF!H59+'PIOTR L'!H59 -> 0 | N54: =TOMEK!B59+MIRU!B33+'PIOTR L'!B59+BARTEK!B59+PIOTR!B59+KRZYSZTOF!B59+Artur!F59 -> 0 | O54: =TOMEK!C59+MIRU!C33+'PIOTR L'!C59+BARTEK!C59+PIOTR!C59+KRZYSZTOF!C59+Artur!G59 -> 3 | P54: =TOMEK!D59+MIRU!D33+'PIOTR L'!D59+BARTEK!D59+PIOTR!D59+KRZYSZTOF!D59+Artur!H59 -> 0 | R54: =SUM(B54:P54) -> 6
A55: INNE | B55: =TOMEK!N60+MIRU!N34+'PIOTR L'!N60+BARTEK!N60+PIOTR!N60+KRZYSZTOF!N60+Artur!B60 -> 0 | C55: =TOMEK!O60+MIRU!O34+'PIOTR L'!O60+BARTEK!O60+PIOTR!O60+KRZYSZTOF!O60+Artur!C60 -> 1 | D55: =TOMEK!P60+MIRU!P34+'PIOTR L'!P60+BARTEK!P60+PIOTR!P60+KRZYSZTOF!P60+Artur!D60 -> 4 | F55: =TOMEK!J60+MIRU!J34+'PIOTR L'!J60+BARTEK!J60+PIOTR!J60+KRZYSZTOF!J60+Artur!N60 -> 1 | G55: =TOMEK!K60+MIRU!K34+'PIOTR L'!K60+BARTEK!K60+PIOTR!K60+KRZYSZTOF!K60+Artur!O60 -> 0 | H55: =TOMEK!L60+MIRU!L34+'PIOTR L'!L60+BARTEK!L60+PIOTR!L60+KRZYSZTOF!L60+Artur!P60 -> 0 | J55: =TOMEK!F60+MIRU!F34+Artur!J60+BARTEK!F60+PIOTR!F60+KRZYSZTOF!F60+'PIOTR L'!F60 -> 0 | K55: =TOMEK!G60+MIRU!G34+Artur!K60+BARTEK!G60+PIOTR!G60+KRZYSZTOF!G60+'PIOTR L'!G60 -> 1 | L55: =TOMEK!H60+MIRU!H34+Artur!L60+BARTEK!H60+PIOTR!H60+KRZYSZTOF!H60+'PIOTR L'!H60 -> 1 | N55: =TOMEK!B60+MIRU!B34+'PIOTR L'!B60+BARTEK!B60+PIOTR!B60+KRZYSZTOF!B60+Artur!F60 -> 0 | O55: =TOMEK!C60+MIRU!C34+'PIOTR L'!C60+BARTEK!C60+PIOTR!C60+KRZYSZTOF!C60+Artur!G60 -> 0 | P55: =TOMEK!D60+MIRU!D34+'PIOTR L'!D60+BARTEK!D60+PIOTR!D60+KRZYSZTOF!D60+Artur!H60 -> 0 | R55: =SUM(B55:P55) -> 8
A56: SUMA: | B56: =SUM(B43:B55) -> 15 | C56: =SUM(C43:C55) -> 7 | D56: =SUM(D43:D55) -> 15 | F56: =SUM(F43:F55) -> 13 | G56: =TOMEK!K61+MIRU!K35+'PIOTR L'!K61+BARTEK!K61+PIOTR!K61+KRZYSZTOF!K61+Artur!O61 -> 18 | H56: =TOMEK!L61+MIRU!L35+'PIOTR L'!L61+BARTEK!L61+PIOTR!L61+KRZYSZTOF!L61+Artur!P61 -> 18 | J56: =SUM(J43:J55) -> 9 | K56: =SUM(K43:K55) -> 7 | L56: =SUM(L43:L55) -> 14 | N56: =TOMEK!B61+MIRU!B35+'PIOTR L'!B61+BARTEK!B61+PIOTR!B61+KRZYSZTOF!B61+Artur!F61 -> 11 | O56: =TOMEK!C61+MIRU!C35+'PIOTR L'!C61+BARTEK!C61+PIOTR!C61+KRZYSZTOF!C61+Artur!G61 -> 16 | P56: =TOMEK!D61+MIRU!D35+'PIOTR L'!D61+BARTEK!D61+PIOTR!D61+KRZYSZTOF!D61+Artur!H61 -> 11 | R56: =SUM(R43:R55) -> 154
D57: =SUM(B56:D56) -> 37 | H57: =SUM(F56:H56) -> 49 | L57: =SUM(J56:L56) -> 30 | P57: =SUM(N56:P56) -> 38 | Q57: =SUM(D57:P57) -> 154
A58: Raport za miesiąc: | B58: styczeń | C58: luty | D58: marzec | E58: I KW | F58: kwiecień | G58: maj | H58: czerwiec | J58: lipiec | K58: sierpień | L58: wrzesień | N58: paździer. | O58: listopad | P58: grudzień | R58: Suma
A59: Ilość nowych Klientów: | B59: =TOMEK!N64+MIRU!N38+'PIOTR L'!N64+BARTEK!N64+PIOTR!N64+KRZYSZTOF!N64+Artur!B64 -> 8 | C59: =TOMEK!O64+MIRU!O38+'PIOTR L'!O64+BARTEK!O64+PIOTR!O64+KRZYSZTOF!O64+Artur!C64 -> 7 | D59: =TOMEK!P64+MIRU!P38+'PIOTR L'!P64+BARTEK!P64+PIOTR!P64+KRZYSZTOF!P64+Artur!D64 -> 12 | F59: =TOMEK!J64+MIRU!J38+'PIOTR L'!J64+BARTEK!J64+PIOTR!J64+KRZYSZTOF!J64+Artur!N64 -> 3 | G59: =TOMEK!K64+MIRU!K38+'PIOTR L'!K64+BARTEK!K64+PIOTR!K64+KRZYSZTOF!K64+Artur!O64 -> 7 | H59: =TOMEK!L64+MIRU!L38+'PIOTR L'!L64+BARTEK!L64+PIOTR!L64+KRZYSZTOF!L64+Artur!P64 -> 6 | J59: =TOMEK!F64+MIRU!F38+'PIOTR L'!F64+BARTEK!F64+PIOTR!F64+KRZYSZTOF!F64+Artur!J64 -> 8 | K59: =TOMEK!G64+MIRU!G38+'PIOTR L'!G64+BARTEK!G64+PIOTR!G64+KRZYSZTOF!G64+Artur!K64 -> 3 | L59: =TOMEK!H64+MIRU!H38+'PIOTR L'!H64+BARTEK!H64+PIOTR!H64+KRZYSZTOF!H64+Artur!L64 -> 11 | N59: =TOMEK!B64+MIRU!B38+'PIOTR L'!B64+BARTEK!B64+PIOTR!B64+KRZYSZTOF!B64+Artur!F64 -> 13 | O59: =TOMEK!C64+MIRU!C38+'PIOTR L'!C64+BARTEK!C64+PIOTR!C64+KRZYSZTOF!C64+Artur!G64 -> 14 | P59: =TOMEK!D64+MIRU!D38+'PIOTR L'!D64+BARTEK!D64+PIOTR!D64+KRZYSZTOF!D64+Artur!H64 -> 8 | R59: =SUM(B59:P59) -> 100
A60: Ilość Klientów przekaz. z Gliwic lub zm. nazwę/NIP. | B60: =TOMEK!N65+MIRU!N39+'PIOTR L'!N65+BARTEK!N65+PIOTR!N65+KRZYSZTOF!N65+Artur!B65 -> 1 | C60: =TOMEK!O65+MIRU!O39+'PIOTR L'!O65+BARTEK!O65+PIOTR!O65+KRZYSZTOF!O65+Artur!C65 -> 4 | D60: =TOMEK!P65+MIRU!P39+'PIOTR L'!P65+BARTEK!P65+PIOTR!P65+KRZYSZTOF!P65+Artur!D65 -> 2 | F60: =TOMEK!J65+MIRU!J39+'PIOTR L'!J65+BARTEK!J65+PIOTR!J65+KRZYSZTOF!J65+Artur!N65 -> 1 | G60: =TOMEK!K65+MIRU!K39+'PIOTR L'!K65+BARTEK!K65+PIOTR!K65+KRZYSZTOF!K65+Artur!O65 -> 3 | H60: =TOMEK!L65+MIRU!L39+'PIOTR L'!L65+BARTEK!L65+PIOTR!L65+KRZYSZTOF!L65+Artur!P65 -> 0 | J60: =TOMEK!F65+MIRU!F39+'PIOTR L'!F65+BARTEK!F65+PIOTR!F65+KRZYSZTOF!F65+Artur!J65 -> 1 | K60: =TOMEK!G65+MIRU!G39+'PIOTR L'!G65+BARTEK!G65+PIOTR!G65+KRZYSZTOF!G65+Artur!K65 -> 0 | L60: =TOMEK!H65+MIRU!H39+'PIOTR L'!H65+BARTEK!H65+PIOTR!H65+KRZYSZTOF!H65+Artur!L65 -> 1 | N60: =TOMEK!B65+MIRU!B39+'PIOTR L'!B65+BARTEK!B65+PIOTR!B65+KRZYSZTOF!B65+Artur!F65 -> 2 | O60: =TOMEK!C65+MIRU!C39+'PIOTR L'!C65+BARTEK!C65+PIOTR!C65+KRZYSZTOF!C65+Artur!G65 -> 0 | P60: =TOMEK!D65+MIRU!D39+'PIOTR L'!D65+BARTEK!D65+PIOTR!D65+KRZYSZTOF!D65+Artur!H65 -> 1 | R60: =SUM(B60:P60) -> 16
A61: Ilość Podmiotów na etapie współpracy Klient: | B61: =TOMEK!N66+MIRU!N40+'PIOTR L'!N66+BARTEK!N66+PIOTR!N66+KRZYSZTOF!N66+Artur!B66 -> 880 | C61: =TOMEK!O66+MIRU!O40+'PIOTR L'!O66+BARTEK!O66+PIOTR!O66+KRZYSZTOF!O66+Artur!C66 -> 940 | D61: =TOMEK!P66+MIRU!P40+'PIOTR L'!P66+BARTEK!P66+PIOTR!P66+KRZYSZTOF!P66+Artur!D66 -> 966 | F61: =TOMEK!J66+MIRU!J40+'PIOTR L'!J66+BARTEK!J66+PIOTR!J66+KRZYSZTOF!J66+Artur!N66 -> 995 | G61: =TOMEK!K66+MIRU!K40+'PIOTR L'!K66+BARTEK!K66+PIOTR!K66+KRZYSZTOF!K66+Artur!O66 -> 1018 | H61: =TOMEK!L66+MIRU!L40+'PIOTR L'!L66+BARTEK!L66+PIOTR!L66+KRZYSZTOF!L66+Artur!P66 -> 1033 | J61: =TOMEK!F66+MIRU!F40+'PIOTR L'!F66+BARTEK!F66+PIOTR!F66+KRZYSZTOF!F66+Artur!J66 -> 1056 | K61: =TOMEK!G66+MIRU!G40+'PIOTR L'!G66+BARTEK!G66+PIOTR!G66+KRZYSZTOF!G66+Artur!K66 -> 1069 | L61: =TOMEK!H66+MIRU!H40+'PIOTR L'!H66+BARTEK!H66+PIOTR!H66+KRZYSZTOF!H66+Artur!L66 -> 1089 | N61: =TOMEK!B66+MIRU!B40+'PIOTR L'!B66+BARTEK!B66+PIOTR!B66+KRZYSZTOF!B66+Artur!F66 -> 1111 | O61: =TOMEK!C66+MIRU!C40+'PIOTR L'!C66+BARTEK!C66+PIOTR!C66+KRZYSZTOF!C66+Artur!G66 -> 1135 | P61: =TOMEK!D66+MIRU!D40+'PIOTR L'!D66+BARTEK!D66+PIOTR!D66+KRZYSZTOF!D66+Artur!H66 -> 1150
A62: Ilość Podmiotów na etapie współpracy Handlowy: | B62: =TOMEK!N67+MIRU!N41+'PIOTR L'!N67+BARTEK!N67+PIOTR!N67+KRZYSZTOF!N67+Artur!B67 -> 136 | C62: =TOMEK!O67+MIRU!O41+'PIOTR L'!O67+BARTEK!O67+PIOTR!O67+KRZYSZTOF!O67+Artur!C67 -> 142 | D62: =TOMEK!P67+MIRU!P41+'PIOTR L'!P67+BARTEK!P67+PIOTR!P67+KRZYSZTOF!P67+Artur!D67 -> 144 | F62: =TOMEK!J67+MIRU!J41+'PIOTR L'!J67+BARTEK!J67+PIOTR!J67+KRZYSZTOF!J67+Artur!N67 -> 159 | G62: =TOMEK!K67+MIRU!K41+'PIOTR L'!K67+BARTEK!K67+PIOTR!K67+KRZYSZTOF!K67+Artur!O67 -> 155 | H62: =TOMEK!L67+MIRU!L41+'PIOTR L'!L67+BARTEK!L67+PIOTR!L67+KRZYSZTOF!L67+Artur!P67 -> 154 | J62: =TOMEK!F67+MIRU!F41+'PIOTR L'!F67+BARTEK!F67+PIOTR!F67+KRZYSZTOF!F67+Artur!J67 -> 155 | K62: =TOMEK!G67+MIRU!G41+'PIOTR L'!G67+BARTEK!G67+PIOTR!G67+KRZYSZTOF!G67+Artur!K67 -> 157 | L62: =TOMEK!H67+MIRU!H41+'PIOTR L'!H67+BARTEK!H67+PIOTR!H67+KRZYSZTOF!H67+Artur!L67 -> 175 | N62: =TOMEK!B67+MIRU!B41+'PIOTR L'!B67+BARTEK!B67+PIOTR!B67+KRZYSZTOF!B67+Artur!F67 -> 168 | O62: =TOMEK!C67+MIRU!C41+'PIOTR L'!C67+BARTEK!C67+PIOTR!C67+KRZYSZTOF!C67+Artur!G67 -> 172 | P62: =TOMEK!D67+MIRU!D41+'PIOTR L'!D67+BARTEK!D67+PIOTR!D67+KRZYSZTOF!D67+Artur!H67 -> 158
A63: Ilość Podmiotów na etapie współpracy Klient nieaktywny: | B63: =TOMEK!N68+MIRU!N42+'PIOTR L'!N68+BARTEK!N68+PIOTR!N68+KRZYSZTOF!N68+Artur!B68 -> 334 | C63: =TOMEK!O68+MIRU!O42+'PIOTR L'!O68+BARTEK!O68+PIOTR!O68+KRZYSZTOF!O68+Artur!C68 -> 330 | D63: =TOMEK!P68+MIRU!P42+'PIOTR L'!P68+BARTEK!P68+PIOTR!P68+KRZYSZTOF!P68+Artur!D68 -> 320 | F63: =TOMEK!J68+MIRU!J42+'PIOTR L'!J68+BARTEK!J68+PIOTR!J68+KRZYSZTOF!J68+Artur!N68 -> 332 | G63: =TOMEK!K68+MIRU!K42+'PIOTR L'!K68+BARTEK!K68+PIOTR!K68+KRZYSZTOF!K68+Artur!O68 -> 317 | H63: =TOMEK!L68+MIRU!L42+'PIOTR L'!L68+BARTEK!L68+PIOTR!L68+KRZYSZTOF!L68+Artur!P68 -> 317 | J63: =SUM(J61:J62) -> 1211 | K63: =SUM(K61:K62) -> 1226 | L63: =SUM(L61:L62) -> 1264 | N63: =SUM(N61:N62) -> 1279 | O63: =SUM(O61:O62) -> 1307 | P63: =SUM(P61:P62) -> 1308
A64: Ilość Podmiotów pod opieką: | B64: =TOMEK!N69+MIRU!N43+'PIOTR L'!N69+BARTEK!N69+PIOTR!N69+KRZYSZTOF!N69+Artur!B69 -> 1350 | C64: =TOMEK!O69+MIRU!O43+'PIOTR L'!O69+BARTEK!O69+PIOTR!O69+KRZYSZTOF!O69+Artur!C69 -> 1412 | D64: =TOMEK!P69+MIRU!P43+'PIOTR L'!P69+BARTEK!P69+PIOTR!P69+KRZYSZTOF!P69+Artur!D69 -> 1430 | F64: =TOMEK!J69+MIRU!J43+'PIOTR L'!J69+BARTEK!J69+PIOTR!J69+KRZYSZTOF!J69+Artur!N69 -> 1486 | G64: =TOMEK!K69+MIRU!K43+'PIOTR L'!K69+BARTEK!K69+PIOTR!K69+KRZYSZTOF!K69+Artur!O69 -> 1490 | H64: =TOMEK!L69+MIRU!L43+'PIOTR L'!L69+BARTEK!L69+PIOTR!L69+KRZYSZTOF!L69+Artur!P69 -> 1504 | J64: =TOMEK!F69+MIRU!F43+'PIOTR L'!F69+BARTEK!F69+PIOTR!F69+KRZYSZTOF!F69+Artur!J69 -> 1517 | K64: =TOMEK!G69+MIRU!G43+'PIOTR L'!G69+BARTEK!G69+PIOTR!G69+KRZYSZTOF!G69+Artur!K69 -> 1530 | L64: =TOMEK!H69+MIRU!H43+'PIOTR L'!H69+BARTEK!H69+PIOTR!H69+KRZYSZTOF!H69+Artur!L69 -> 1566 | N64: =TOMEK!B69+MIRU!B43+'PIOTR L'!B69+BARTEK!B69+PIOTR!B69+KRZYSZTOF!B69+Artur!F69 -> 1576 | O64: =TOMEK!C69+MIRU!C43+'PIOTR L'!C69+BARTEK!C69+PIOTR!C69+KRZYSZTOF!C69+Artur!G69 -> 1600 | P64: =TOMEK!D69+MIRU!D43+'PIOTR L'!D69+BARTEK!D69+PIOTR!D69+KRZYSZTOF!D69+Artur!H69 -> 1594 | R64: =SUM(B64:P64) -> 18055
A65: Ilość sprzedanych drukarek: | B65: =TOMEK!N70+MIRU!N44+'PIOTR L'!N70+BARTEK!N70+PIOTR!N70+KRZYSZTOF!N70+Artur!B70 -> 15 | C65: =TOMEK!O70+MIRU!O44+'PIOTR L'!O70+BARTEK!O70+PIOTR!O70+KRZYSZTOF!O70+Artur!C70 -> 7 | D65: =TOMEK!P70+MIRU!P44+'PIOTR L'!P70+BARTEK!P70+PIOTR!P70+KRZYSZTOF!P70+Artur!D70 -> 15 | F65: =TOMEK!J70+MIRU!J44+'PIOTR L'!J70+BARTEK!J70+PIOTR!J70+KRZYSZTOF!J70+Artur!N70 -> 13 | G65: =TOMEK!K70+MIRU!K44+'PIOTR L'!K70+BARTEK!K70+PIOTR!K70+KRZYSZTOF!K70+Artur!O70 -> 18 | H65: =TOMEK!L70+MIRU!L44+'PIOTR L'!L70+BARTEK!L70+PIOTR!L70+KRZYSZTOF!L70+Artur!P70 -> 18 | J65: =TOMEK!F70+MIRU!F44+'PIOTR L'!F70+BARTEK!F70+PIOTR!F70+KRZYSZTOF!F70+Artur!J70 -> 9 | K65: =TOMEK!G70+MIRU!G44+'PIOTR L'!G70+BARTEK!G70+PIOTR!G70+KRZYSZTOF!G70+Artur!K70 -> 7 | L65: =TOMEK!H70+MIRU!H44+'PIOTR L'!H70+BARTEK!H70+PIOTR!H70+KRZYSZTOF!H70+Artur!L70 -> 14 | N65: =TOMEK!B70+MIRU!B44+'PIOTR L'!B70+BARTEK!B70+PIOTR!B70+KRZYSZTOF!B70+Artur!F70 -> 11 | O65: =TOMEK!C70+MIRU!C44+'PIOTR L'!C70+BARTEK!C70+PIOTR!C70+KRZYSZTOF!C70+Artur!G70 -> 16 | P65: =TOMEK!D70+MIRU!D44+'PIOTR L'!D70+BARTEK!D70+PIOTR!D70+KRZYSZTOF!D70+Artur!H70 -> 11 | R65: =SUM(N65:P65,J65:L65,F65:H65,B65:D65) -> 154
A66: Ilość ofert dodanych w danym miesiącu: | B66: =TOMEK!N71+MIRU!N45+'PIOTR L'!N71+BARTEK!N71+PIOTR!N71+KRZYSZTOF!N71+Artur!B71 -> 151 | C66: =TOMEK!O71+MIRU!O45+'PIOTR L'!O71+BARTEK!O71+PIOTR!O71+KRZYSZTOF!O71+Artur!C71 -> 145 | D66: =TOMEK!P71+MIRU!P45+'PIOTR L'!P71+BARTEK!P71+PIOTR!P71+KRZYSZTOF!P71+Artur!D71 -> 169 | F66: =TOMEK!J71+MIRU!J45+'PIOTR L'!J71+BARTEK!J71+PIOTR!J71+KRZYSZTOF!J71+Artur!N71 -> 127 | G66: =TOMEK!K71+MIRU!K45+'PIOTR L'!K71+BARTEK!K71+PIOTR!K71+KRZYSZTOF!K71+Artur!O71 -> 151 | H66: =TOMEK!L71+MIRU!L45+'PIOTR L'!L71+BARTEK!L71+PIOTR!L71+KRZYSZTOF!L71+Artur!P71 -> 131 | J66: =TOMEK!F71+MIRU!F45+'PIOTR L'!F71+BARTEK!F71+PIOTR!F71+KRZYSZTOF!F71+Artur!J71 -> 106 | K66: =TOMEK!G71+MIRU!G45+'PIOTR L'!G71+BARTEK!G71+PIOTR!G71+KRZYSZTOF!G71+Artur!K71 -> 117 | L66: =TOMEK!H71+MIRU!H45+'PIOTR L'!H71+BARTEK!H71+PIOTR!H71+KRZYSZTOF!H71+Artur!L71 -> 114 | N66: =TOMEK!B71+MIRU!B45+'PIOTR L'!B71+BARTEK!B71+PIOTR!B71+KRZYSZTOF!B71+Artur!F71 -> 166 | O66: =TOMEK!C71+MIRU!C45+'PIOTR L'!C71+BARTEK!C71+PIOTR!C71+KRZYSZTOF!C71+Artur!G71 -> 122 | P66: =TOMEK!D71+MIRU!D45+'PIOTR L'!D71+BARTEK!D71+PIOTR!D71+KRZYSZTOF!D71+Artur!H71 -> 85 | R66: =E66+I66+M66+Q66 -> 0
A67: Ilość ofert oczekujących na decyzję kontrahenta: | B67: =TOMEK!N72+MIRU!N46+'PIOTR L'!N72+BARTEK!N72+PIOTR!N72+KRZYSZTOF!N72+Artur!B72 -> 77 | C67: =TOMEK!O72+MIRU!O46+'PIOTR L'!O72+BARTEK!O72+PIOTR!O72+KRZYSZTOF!O72+Artur!C72 -> 76 | D67: =TOMEK!P72+MIRU!P46+'PIOTR L'!P72+BARTEK!P72+PIOTR!P72+KRZYSZTOF!P72+Artur!D72 -> 73 | F67: =TOMEK!J72+MIRU!J46+'PIOTR L'!J72+BARTEK!J72+PIOTR!J72+KRZYSZTOF!J72+Artur!N72 -> 76 | G67: =TOMEK!K72+MIRU!K46+'PIOTR L'!K72+BARTEK!K72+PIOTR!K72+KRZYSZTOF!K72+Artur!O72 -> 75 | H67: =TOMEK!L72+MIRU!L46+'PIOTR L'!L72+BARTEK!L72+PIOTR!L72+KRZYSZTOF!L72+Artur!P72 -> 67 | J67: =TOMEK!F72+MIRU!F46+'PIOTR L'!F72+BARTEK!F72+PIOTR!F72+KRZYSZTOF!F72+Artur!J72 -> 56 | K67: =TOMEK!G72+MIRU!G46+'PIOTR L'!G72+BARTEK!G72+PIOTR!G72+KRZYSZTOF!G72+Artur!K72 -> 77 | L67: =TOMEK!H72+MIRU!H46+'PIOTR L'!H72+BARTEK!H72+PIOTR!H72+KRZYSZTOF!H72+Artur!L72 -> 55 | N67: =TOMEK!B72+MIRU!B46+'PIOTR L'!B72+BARTEK!B72+PIOTR!B72+KRZYSZTOF!B72+Artur!F72 -> 85 | O67: =TOMEK!C72+MIRU!C46+'PIOTR L'!C72+BARTEK!C72+PIOTR!C72+KRZYSZTOF!C72+Artur!G72 -> 66 | P67: =TOMEK!D72+MIRU!D46+'PIOTR L'!D72+BARTEK!D72+PIOTR!D72+KRZYSZTOF!D72+Artur!H72 -> 40 | R67: =E67+I67+M67+Q67 -> 0
A68: Ilość zaakceptowanych ofert przez kontrahenta: | B68: =TOMEK!N73+MIRU!N47+'PIOTR L'!N73+BARTEK!N73+PIOTR!N73+KRZYSZTOF!N73+Artur!B73 -> 59 | C68: =TOMEK!O73+MIRU!O47+'PIOTR L'!O73+BARTEK!O73+PIOTR!O73+KRZYSZTOF!O73+Artur!C73 -> 57 | D68: =TOMEK!P73+MIRU!P47+'PIOTR L'!P73+BARTEK!P73+PIOTR!P73+KRZYSZTOF!P73+Artur!D73 -> 70 | F68: =TOMEK!J73+MIRU!J47+'PIOTR L'!J73+BARTEK!J73+PIOTR!J73+KRZYSZTOF!J73+Artur!N73 -> 47 | G68: =TOMEK!K73+MIRU!K47+'PIOTR L'!K73+BARTEK!K73+PIOTR!K73+KRZYSZTOF!K73+Artur!O73 -> 53 | H68: =TOMEK!L73+MIRU!L47+'PIOTR L'!L73+BARTEK!L73+PIOTR!L73+KRZYSZTOF!L73+Artur!P73 -> 61 | J68: =TOMEK!F73+MIRU!F47+'PIOTR L'!F73+BARTEK!F73+PIOTR!F73+KRZYSZTOF!F73+Artur!J73 -> 45 | K68: =TOMEK!G73+MIRU!G47+'PIOTR L'!G73+BARTEK!G73+PIOTR!G73+KRZYSZTOF!G73+Artur!K73 -> 31 | L68: =TOMEK!H73+MIRU!H47+'PIOTR L'!H73+BARTEK!H73+PIOTR!H73+KRZYSZTOF!H73+Artur!L73 -> 43 | N68: =TOMEK!B73+MIRU!B47+'PIOTR L'!B73+BARTEK!B73+PIOTR!B73+KRZYSZTOF!B73+Artur!F73 -> 56 | O68: =TOMEK!C73+MIRU!C47+'PIOTR L'!C73+BARTEK!C73+PIOTR!C73+KRZYSZTOF!C73+Artur!G73 -> 57 | P68: =TOMEK!D73+MIRU!D47+'PIOTR L'!D73+BARTEK!D73+PIOTR!D73+KRZYSZTOF!D73+Artur!H73 -> 37 | R68: =E68+I68+M68+Q68 -> 0
A69: Ilość odrzuconych ofert przez kontrahenta: | B69: =TOMEK!N74+MIRU!N48+'PIOTR L'!N74+BARTEK!N74+PIOTR!N74+KRZYSZTOF!N74+Artur!B74 -> 69 | C69: =TOMEK!O74+MIRU!O48+'PIOTR L'!O74+BARTEK!O74+PIOTR!O74+KRZYSZTOF!O74+Artur!C74 -> 77 | D69: =TOMEK!P74+MIRU!P48+'PIOTR L'!P74+BARTEK!P74+PIOTR!P74+KRZYSZTOF!P74+Artur!D74 -> 92 | F69: =TOMEK!J74+MIRU!J48+'PIOTR L'!J74+BARTEK!J74+PIOTR!J74+KRZYSZTOF!J74+Artur!N74 -> 89 | G69: =TOMEK!K74+MIRU!K48+'PIOTR L'!K74+BARTEK!K74+PIOTR!K74+KRZYSZTOF!K74+Artur!O74 -> 92 | H69: =TOMEK!L74+MIRU!L48+'PIOTR L'!L74+BARTEK!L74+PIOTR!L74+KRZYSZTOF!L74+Artur!P74 -> 89 | J69: =TOMEK!F74+MIRU!F48+'PIOTR L'!F74+BARTEK!F74+PIOTR!F74+KRZYSZTOF!F74+Artur!J74 -> 72 | K69: =TOMEK!G74+MIRU!G48+'PIOTR L'!G74+BARTEK!G74+PIOTR!G74+KRZYSZTOF!G74+Artur!K74 -> 68 | L69: =TOMEK!H74+MIRU!H48+'PIOTR L'!H74+BARTEK!H74+PIOTR!H74+KRZYSZTOF!H74+Artur!L74 -> 93 | N69: =TOMEK!B74+MIRU!B48+'PIOTR L'!B74+BARTEK!B74+PIOTR!B74+KRZYSZTOF!B74+Artur!F74 -> 79 | O69: =TOMEK!C74+MIRU!C48+'PIOTR L'!C74+BARTEK!C74+PIOTR!C74+KRZYSZTOF!C74+Artur!G74 -> 90 | P69: =TOMEK!D74+MIRU!D48+'PIOTR L'!D74+BARTEK!D74+PIOTR!D74+KRZYSZTOF!D74+Artur!H74 -> 58 | R69: =E69+I69+M69+Q69 -> 0
A70: Ilość przekazanych podmiotów z Marketingu: | B70: =TOMEK!N75+MIRU!N49+'PIOTR L'!N75+BARTEK!N75+PIOTR!N75+KRZYSZTOF!N75+Artur!B75 -> 19 | C70: =TOMEK!O75+MIRU!O49+'PIOTR L'!O75+BARTEK!O75+PIOTR!O75+KRZYSZTOF!O75+Artur!C75 -> 14 | D70: =TOMEK!P75+MIRU!P49+'PIOTR L'!P75+BARTEK!P75+PIOTR!P75+KRZYSZTOF!P75+Artur!D75 -> 23 | F70: =TOMEK!J75+MIRU!J49+'PIOTR L'!J75+BARTEK!J75+PIOTR!J75+KRZYSZTOF!J75+Artur!N75 -> 18 | G70: =TOMEK!K75+MIRU!K49+'PIOTR L'!K75+BARTEK!K75+PIOTR!K75+KRZYSZTOF!K75+Artur!O75 -> 19 | H70: =TOMEK!L75+MIRU!L49+'PIOTR L'!L75+BARTEK!L75+PIOTR!L75+KRZYSZTOF!L75+Artur!P75 -> 12 | J70: =TOMEK!F75+MIRU!F49+'PIOTR L'!F75+BARTEK!F75+PIOTR!F75+KRZYSZTOF!F75+Artur!J75 -> 14 | K70: =TOMEK!G75+MIRU!G49+'PIOTR L'!G75+BARTEK!G75+PIOTR!G75+KRZYSZTOF!G75+Artur!K75 -> 13 | L70: =TOMEK!H75+MIRU!H49+'PIOTR L'!H75+BARTEK!H75+PIOTR!H75+KRZYSZTOF!H75+Artur!L75 -> 14 | N70: =TOMEK!B75+MIRU!B49+'PIOTR L'!B75+BARTEK!B75+PIOTR!B75+KRZYSZTOF!B75+Artur!F75 -> 39 | O70: =TOMEK!C75+MIRU!C49+'PIOTR L'!C75+BARTEK!C75+PIOTR!C75+KRZYSZTOF!C75+Artur!G75 -> 25 | P70: =TOMEK!D75+MIRU!D49+'PIOTR L'!D75+BARTEK!D75+PIOTR!D75+KRZYSZTOF!D75+Artur!H75 -> 18 | R70: =SUM(B70:P70) -> 228
A71: Ilość przekazanych podmiotów do prowadzenia od KDH: | B71: =TOMEK!N76+MIRU!N50+'PIOTR L'!N76+BARTEK!N76+PIOTR!N76+KRZYSZTOF!N76+Artur!B76 -> 9 | C71: =TOMEK!O76+MIRU!O50+'PIOTR L'!O76+BARTEK!O76+PIOTR!O76+KRZYSZTOF!O76+Artur!C76 -> 22 | D71: =TOMEK!P76+MIRU!P50+'PIOTR L'!P76+BARTEK!P76+PIOTR!P76+KRZYSZTOF!P76+Artur!D76 -> 48 | F71: =TOMEK!J76+MIRU!J50+'PIOTR L'!J76+BARTEK!J76+PIOTR!J76+KRZYSZTOF!J76+Artur!N76 -> 33 | G71: =TOMEK!K76+MIRU!K50+'PIOTR L'!K76+BARTEK!K76+PIOTR!K76+KRZYSZTOF!K76+Artur!O76 -> 20 | H71: =TOMEK!L76+MIRU!L50+'PIOTR L'!L76+BARTEK!L76+PIOTR!L76+KRZYSZTOF!L76+Artur!P76 -> 14 | J71: =TOMEK!F76+MIRU!F50+'PIOTR L'!F76+BARTEK!F76+PIOTR!F76+KRZYSZTOF!F76+Artur!J76 -> 38 | K71: =TOMEK!G76+MIRU!G50+'PIOTR L'!G76+BARTEK!G76+PIOTR!G76+KRZYSZTOF!G76+Artur!K76 -> 4 | L71: =TOMEK!H76+MIRU!H50+'PIOTR L'!H76+BARTEK!H76+PIOTR!H76+KRZYSZTOF!H76+Artur!L76 -> 11 | N71: =TOMEK!B76+MIRU!B50+'PIOTR L'!B76+BARTEK!B76+PIOTR!B76+KRZYSZTOF!B76+Artur!F76 -> 6 | O71: =TOMEK!C76+MIRU!C50+'PIOTR L'!C76+BARTEK!C76+PIOTR!C76+KRZYSZTOF!C76+Artur!G76 -> 9 | P71: =TOMEK!D76+MIRU!D50+'PIOTR L'!D76+BARTEK!D76+PIOTR!D76+KRZYSZTOF!D76+Artur!H76 -> 5 | R71: =SUM(B71:P71) -> 219
A72: Ilość odebranych podmiotów (zmiana prowadzącego): | B72: =TOMEK!N77+MIRU!N51+'PIOTR L'!N77+BARTEK!N77+PIOTR!N77+KRZYSZTOF!N77+Artur!B77 -> 5 | C72: =TOMEK!O77+MIRU!O51+'PIOTR L'!O77+BARTEK!O77+PIOTR!O77+KRZYSZTOF!O77+Artur!C77 -> 1 | D72: =TOMEK!P77+MIRU!P51+'PIOTR L'!P77+BARTEK!P77+PIOTR!P77+KRZYSZTOF!P77+Artur!D77 -> 0 | F72: =TOMEK!J77+MIRU!J51+'PIOTR L'!J77+BARTEK!J77+PIOTR!J77+KRZYSZTOF!J77+Artur!N77 -> 0 | G72: =TOMEK!K77+MIRU!K51+'PIOTR L'!K77+BARTEK!K77+PIOTR!K77+KRZYSZTOF!K77+Artur!O77 -> 1 | H72: =TOMEK!L77+MIRU!L51+'PIOTR L'!L77+BARTEK!L77+PIOTR!L77+KRZYSZTOF!L77+Artur!P77 -> 33 | J72: =TOMEK!F77+MIRU!F51+'PIOTR L'!F77+BARTEK!F77+PIOTR!F77+KRZYSZTOF!F77+Artur!J77 -> 0 | K72: =TOMEK!G77+MIRU!G51+'PIOTR L'!G77+BARTEK!G77+PIOTR!G77+KRZYSZTOF!G77+Artur!K77 -> 1 | L72: =TOMEK!H77+MIRU!H51+'PIOTR L'!H77+BARTEK!H77+PIOTR!H77+KRZYSZTOF!H77+Artur!L77 -> 2 | N72: =TOMEK!B77+MIRU!B51+'PIOTR L'!B77+BARTEK!B77+PIOTR!B77+KRZYSZTOF!B77+Artur!F77 -> 1 | O72: =TOMEK!C77+MIRU!C51+'PIOTR L'!C77+BARTEK!C77+PIOTR!C77+KRZYSZTOF!C77+Artur!G77 -> 1 | P72: =TOMEK!D77+MIRU!D51+'PIOTR L'!D77+BARTEK!D77+PIOTR!D77+KRZYSZTOF!D77+Artur!H77 -> 2 | R72: =SUM(B72:P72) -> 47 | T72: =SUM(N72:P74) -> 668
A73: Ilość spotkań z Klientami: | B73: =TOMEK!N78+MIRU!N52+'PIOTR L'!N78+BARTEK!N78+PIOTR!N78+KRZYSZTOF!N78+Artur!B78 -> 24 | C73: =TOMEK!O78+MIRU!O52+'PIOTR L'!O78+BARTEK!O78+PIOTR!O78+KRZYSZTOF!O78+Artur!C78 -> 18 | D73: =TOMEK!P78+MIRU!P52+'PIOTR L'!P78+BARTEK!P78+PIOTR!P78+KRZYSZTOF!P78+Artur!D78 -> 28 | F73: =TOMEK!J78+MIRU!J52+'PIOTR L'!J78+BARTEK!J78+PIOTR!J78+KRZYSZTOF!J78+Artur!N78 -> 17 | G73: =TOMEK!K78+MIRU!K52+'PIOTR L'!K78+BARTEK!K78+PIOTR!K78+KRZYSZTOF!K78+Artur!O78 -> 21 | H73: =TOMEK!L78+MIRU!L52+'PIOTR L'!L78+BARTEK!L78+PIOTR!L78+KRZYSZTOF!L78+Artur!P78 -> 21 | J73: =TOMEK!F78+MIRU!F52+'PIOTR L'!F78+BARTEK!F78+PIOTR!F78+KRZYSZTOF!F78+Artur!J78 -> 37 | K73: =TOMEK!G78+MIRU!G52+'PIOTR L'!G78+BARTEK!G78+PIOTR!G78+KRZYSZTOF!G78+Artur!K78 -> 31 | L73: =TOMEK!H78+MIRU!H52+'PIOTR L'!H78+BARTEK!H78+PIOTR!H78+KRZYSZTOF!H78+Artur!L78 -> 20 | N73: =TOMEK!B78+MIRU!B52+'PIOTR L'!B78+BARTEK!B78+PIOTR!B78+KRZYSZTOF!B78+Artur!F78 -> 44 | O73: =TOMEK!C78+MIRU!C52+'PIOTR L'!C78+BARTEK!C78+PIOTR!C78+KRZYSZTOF!C78+Artur!G78 -> 19 | P73: =TOMEK!D78+MIRU!D52+'PIOTR L'!D78+BARTEK!D78+PIOTR!D78+KRZYSZTOF!D78+Artur!H78 -> 26 | R73: =SUM(B73:P73) -> 306
A74: Ilość aktualnie otwartych wdrożeń: | B74: =TOMEK!N79+MIRU!N53+'PIOTR L'!N79+BARTEK!N79+PIOTR!N79+KRZYSZTOF!N79+Artur!B79 -> 194 | C74: =TOMEK!O79+MIRU!O53+'PIOTR L'!O79+BARTEK!O79+PIOTR!O79+KRZYSZTOF!O79+Artur!C79 -> 215 | D74: =TOMEK!P79+MIRU!P53+'PIOTR L'!P79+BARTEK!P79+PIOTR!P79+KRZYSZTOF!P79+Artur!D79 -> 225 | F74: =TOMEK!J79+MIRU!J53+'PIOTR L'!J79+BARTEK!J79+PIOTR!J79+KRZYSZTOF!J79+Artur!N79 -> 216 | G74: =TOMEK!K79+MIRU!K53+'PIOTR L'!K79+BARTEK!K79+PIOTR!K79+KRZYSZTOF!K79+Artur!O79 -> 218 | H74: =TOMEK!L79+MIRU!L53+'PIOTR L'!L79+BARTEK!L79+PIOTR!L79+KRZYSZTOF!L79+Artur!P79 -> 211 | J74: =TOMEK!F79+MIRU!F53+'PIOTR L'!F79+BARTEK!F79+PIOTR!F79+KRZYSZTOF!F79+Artur!J79 -> 206 | K74: =TOMEK!G79+MIRU!G53+'PIOTR L'!G79+BARTEK!G79+PIOTR!G79+KRZYSZTOF!G79+Artur!K79 -> 200 | L74: =TOMEK!H79+MIRU!H53+'PIOTR L'!H79+BARTEK!H79+PIOTR!H79+KRZYSZTOF!H79+Artur!L79 -> 204 | N74: =TOMEK!B79+MIRU!B53+'PIOTR L'!B79+BARTEK!B79+PIOTR!B79+KRZYSZTOF!B79+Artur!F79 -> 192 | O74: =TOMEK!C79+MIRU!C53+'PIOTR L'!C79+BARTEK!C79+PIOTR!C79+KRZYSZTOF!C79+Artur!G79 -> 190 | P74: =TOMEK!D79+MIRU!D53+'PIOTR L'!D79+BARTEK!D79+PIOTR!D79+KRZYSZTOF!D79+Artur!H79 -> 193 | R74: =SUM(B74:P74) -> 2464
A75: Ilość wdrożeń dodanych w danym miesiącu: | B75: =TOMEK!N80+MIRU!N54+'PIOTR L'!N80+BARTEK!N80+PIOTR!N80+KRZYSZTOF!N80+Artur!B80 -> 98 | C75: =TOMEK!O80+MIRU!O54+'PIOTR L'!O80+BARTEK!O80+PIOTR!O80+KRZYSZTOF!O80+Artur!C80 -> 83 | D75: =TOMEK!P80+MIRU!P54+'PIOTR L'!P80+BARTEK!P80+PIOTR!P80+KRZYSZTOF!P80+Artur!D80 -> 95 | F75: =TOMEK!J80+MIRU!J54+'PIOTR L'!J80+BARTEK!J80+PIOTR!J80+KRZYSZTOF!J80+Artur!N80 -> 67 | G75: =TOMEK!K80+MIRU!K54+'PIOTR L'!K80+BARTEK!K80+PIOTR!K80+KRZYSZTOF!K80+Artur!O80 -> 80 | H75: =TOMEK!L80+MIRU!L54+'PIOTR L'!L80+BARTEK!L80+PIOTR!L80+KRZYSZTOF!L80+Artur!P80 -> 60 | J75: =TOMEK!F80+MIRU!F54+'PIOTR L'!F80+BARTEK!F80+PIOTR!F80+KRZYSZTOF!F80+Artur!J80 -> 56 | K75: =TOMEK!G80+MIRU!G54+'PIOTR L'!G80+BARTEK!G80+PIOTR!G80+KRZYSZTOF!G80+Artur!K80 -> 72 | L75: =TOMEK!H80+MIRU!H54+'PIOTR L'!H80+BARTEK!H80+PIOTR!H80+KRZYSZTOF!H80+Artur!L80 -> 76 | N75: =TOMEK!B80+MIRU!B54+'PIOTR L'!B80+BARTEK!B80+PIOTR!B80+KRZYSZTOF!B80+Artur!F80 -> 78 | O75: =TOMEK!C80+MIRU!C54+'PIOTR L'!C80+BARTEK!C80+PIOTR!C80+KRZYSZTOF!C80+Artur!G80 -> 77 | P75: =TOMEK!D80+MIRU!D54+'PIOTR L'!D80+BARTEK!D80+PIOTR!D80+KRZYSZTOF!D80+Artur!H80 -> 42 | R75: =SUM(B75:P75) -> 884
A76: Ilość wdrożeń zamkniętych pozytywnie w danym mcu: | B76: =TOMEK!N81+MIRU!N55+'PIOTR L'!N81+BARTEK!N81+PIOTR!N81+KRZYSZTOF!N81+Artur!B81 -> 47 | C76: =TOMEK!O81+MIRU!O55+'PIOTR L'!O81+BARTEK!O81+PIOTR!O81+KRZYSZTOF!O81+Artur!C81 -> 45 | D76: =TOMEK!P81+MIRU!P55+'PIOTR L'!P81+BARTEK!P81+PIOTR!P81+KRZYSZTOF!P81+Artur!D81 -> 55 | F76: =TOMEK!J81+MIRU!J55+'PIOTR L'!J81+BARTEK!J81+PIOTR!J81+KRZYSZTOF!J81+Artur!N81 -> 34 | G76: =TOMEK!K81+MIRU!K55+'PIOTR L'!K81+BARTEK!K81+PIOTR!K81+KRZYSZTOF!K81+Artur!O81 -> 37 | H76: =TOMEK!L81+MIRU!L55+'PIOTR L'!L81+BARTEK!L81+PIOTR!L81+KRZYSZTOF!L81+Artur!P81 -> 41 | J76: =TOMEK!F81+MIRU!F55+'PIOTR L'!F81+BARTEK!F81+PIOTR!F81+KRZYSZTOF!F81+Artur!J81 -> 30 | K76: =TOMEK!G81+MIRU!G55+'PIOTR L'!G81+BARTEK!G81+PIOTR!G81+KRZYSZTOF!G81+Artur!K81 -> 28 | L76: =TOMEK!H81+MIRU!H55+'PIOTR L'!H81+BARTEK!H81+PIOTR!H81+KRZYSZTOF!H81+Artur!L81 -> 27 | N76: =TOMEK!B81+MIRU!B55+'PIOTR L'!B81+BARTEK!B81+PIOTR!B81+KRZYSZTOF!B81+Artur!F81 -> 37 | O76: =TOMEK!C81+MIRU!C55+'PIOTR L'!C81+BARTEK!C81+PIOTR!C81+KRZYSZTOF!C81+Artur!G81 -> 38 | P76: =TOMEK!D81+MIRU!D55+'PIOTR L'!D81+BARTEK!D81+PIOTR!D81+KRZYSZTOF!D81+Artur!H81 -> 26 | R76: =SUM(B76:P76) -> 445
