Workbook

Sheet TOMEK
A1: Tomasz Sypień | B1: PLAN IV KW Tomasz Sypień | F1: PLAN III KW Tomasz Sypień | J1: PLAN II KW Tomasz Sypień | N1: PLAN I KW Tomasz Sypień
A2: miesiąc | B2: październik | C2: listopad | D2: grudzień | E2: KW IV | F2: lipiec | G2: sierpień | H2: wrzesień | I2: KW III | J2: kwiecień | K2: maj | L2: czerwiec | M2: KW II | N2: styczeń | O2: luty | P2: marzec | Q2: KW I | R2: suma ROK
A4: Plan Sprzedaży Marża | B4: ='Target 2017'!L3 -> 39000 | C4: ='Target 2017'!M3 -> 45500 | D4: ='Target 2017'!N3 -> 45500 | E4: =SUM(B4:D4) -> 130000 | F4: ='Target 2017'!I3 -> 36833.333 | G4: ='Target 2017'!J3 -> 43333.333 | H4: ='Target 2017'!K3 -> 49833.333 | I4: =SUM(F4:H4) -> 130000 | J4: ='Target 2017'!F3 -> 39100 | K4: ='Target 2017'!G3 -> 46000 | L4: ='Target 2017'!H3 -> 52900 | M4: =SUM(J4:L4) -> 138000 | N4: ='Target 2017'!C3 -> 36833.333 | O4: ='Target 2017'!D3 -> 43333.333 | P4: ='Target 2017'!E3 -> 49833.333 | Q4: =SUM(N4:P4) -> 130000 | R4: =Q4+M4+I4+E4 -> 528000
A5: Sumaryczny Plan Sprzedaży Marża | B5: =B4 -> 39000 | C5: =C4+B5 -> 84500 | D5: =D4+C5 -> 130000 | F5: =F4 -> 36833.333 | G5: =G4+F5 -> 80166.667 | H5: =H4+G5 -> 130000 | J5: =J4 -> 39100 | K5: =K4+J5 -> 85100 | L5: =L4+K5 -> 138000 | N5: =N4 -> 36833.333 | O5: =O4+N5 -> 80166.667 | P5: =P4+O5 -> 130000
A6: Miesięczna realizacja Planu Sprzedaży Marża | B6: =SUMIF(X!A:A,$A$1,X!I:I) -> 47657.547 | C6: =SUMIF(XI!A:A,$A$1,XI!I:I) -> 45487.109 | D6: =SUMIF(XII!A:A,$A$1,XII!I:I) -> 44107.023 | E6: =SUM(B6:D6) -> 137251.68 | F6: =SUMIF(VII!A:A,$A$1,VII!I:I) -> 51417.784 | G6: =SUMIF(VIII!A:A,$A$1,VIII!I:I) -> 44786.774 | H6: =SUMIF(IX!A:A,$A$1,IX!I:I) -> 49522.635 | I6: =SUM(F6:H6) -> 145727.19 | J6: =SUMIF(IV!A:A,$A$1,IV!I:I) -> 51582.647 | K6: =SUMIF(V!A:A,$A$1,V!I:I) -> 38971.372 | L6: =SUMIF(VI!A:A,$A$1,VI!I:I) -> 48776.893 | M6: =SUM(J6:L6) -> 139330.91 | N6: =SUMIF(I!A:A,$A$1,I!I:I) -> 38983.602 | O6: =SUMIF(II!A:A,$A$1,II!I:I) -> 45058.723 | P6: =SUMIF(III!A:A,$A$1,III!I:I) -> 49608.568 | Q6: =SUM(N6:P6) -> 133650.89 | R6: =Q6+M6+I6+E6 -> 555960.67
A7: Sumaryczna realizacja planu sprzedaży Marża | B7: =B6 -> 47657.547 | C7: =C6+B7 -> 93144.656 | D7: =D6+C7 -> 137251.68 | F7: =F6 -> 51417.784 | G7: =G6+F7 -> 96204.557 | H7: =H6+G7 -> 145727.19 | J7: =J6 -> 51582.647 | K7: =K6+J7 -> 90554.018 | L7: =L6+K7 -> 139330.91 | N7: =N6 -> 38983.602 | O7: =O6+N7 -> 84042.324 | P7: =P6+O7 -> 133650.89
A8: Wysokość zrealizowania Miesięcznego Planu Sprzedaży Marża | B8: =B6/B4 -> 1.2219884 | C8: =C6/C4 -> 0.99971668 | D8: =D6/D4 -> 0.96938513 | F8: =F6/F4 -> 1.3959579 | G8: =G6/G4 -> 1.0335409 | H8: =H6/H4 -> 0.99376524 | J8: =J6/J4 -> 1.3192493 | K8: =K6/K4 -> 0.84720373 | L8: =L6/L4 -> 0.92205847 | N8: =N6/N4 -> 1.0583783 | O8: =O6/O4 -> 1.0398167 | P8: =P6/P4 -> 0.99548967
A9: Wysokość zrealizowania Planu Sprzedaży Marża | B9: =B7/B5 -> 1.2219884 | C9: =C7/C5 -> 1.1023036 | D9: =D7/D5 -> 1.0557821 | F9: =F7/F5 -> 1.3959579 | G9: =G7/G5 -> 1.2000568 | H9: =H7/H5 -> 1.1209784 | J9: =J7/J5 -> 1.3192493 | K9: =K7/K5 -> 1.0640895 | L9: =L7/L5 -> 1.0096443 | N9: =N7/N5 -> 1.0583783 | O9: =O7/O5 -> 1.048345 | P9: =P7/P5 -> 1.0280838
A10: Różnica wskaźnika Marża | B10: =B7-B5 -> 8657.5468 | C10: =C7-C5 -> 8644.6557 | D10: =D7-D5 -> 7251.6791 | F10: =F7-F5 -> 14584.451 | G10: =G7-G5 -> 16037.891 | H10: =H7-H5 -> 15727.192 | J10: =J7-J5 -> 12482.647 | K10: =K7-K5 -> 5454.0181 | L10: =L7-L5 -> 1330.911 | N10: =N7-N5 -> 2150.2683 | O10: =O7-O5 -> 3875.6574 | P10: =P7-P5 -> 3650.8925
A11: Plan Sprzedaży Obrót | B11: ='Target 2017'!L13 -> 90000 | C11: ='Target 2017'!M13 -> 105000 | D11: ='Target 2017'!N13 -> 105000 | E11: =SUM(B11:D11) -> 300000 | F11: ='Target 2017'!I13 -> 80750 | G11: ='Target 2017'!J13 -> 95000 | H11: ='Target 2017'!K13 -> 109250 | I11: =SUM(F11:H11) -> 285000 | J11: ='Target 2017'!F13 -> 85000 | K11: ='Target 2017'!G13 -> 100000 | L11: ='Target 2017'!H13 -> 115000 | M11: =SUM(J11:L11) -> 300000 | N11: ='Target 2017'!C13 -> 79333.333 | O11: ='Target 2017'!D13 -> 93333.333 | P11: ='Target 2017'!E13 -> 107333.33 | Q11: =SUM(N11:P11) -> 280000 | R11: =Q11+M11+I11+E11 -> 1165000
A12: Sumaryczny Plan Sprzedaży Obrót | B12: =B11 -> 90000 | C12: =C11+B12 -> 195000 | D12: =D11+C12 -> 300000 | F12: =F11 -> 80750 | G12: =G11+F12 -> 175750 | H12: =H11+G12 -> 285000 | J12: =J11 -> 85000 | K12: =K11+J12 -> 185000 | L12: =L11+K12 -> 300000 | N12: =N11 -> 79333.333 | O12: =O11+N12 -> 172666.67 | P12: =P11+O12 -> 280000
A13: Miesięczna realizacja Planu Sprzedaży Obrót | B13: =SUMIF(X!A:A,$A$1,X!G:G) -> 120282.94 | C13: =SUMIF(XI!A:A,$A$1,XI!G:G) -> 100983.87 | D13: =SUMIF(XII!A:A,$A$1,XII!G:G) -> 114545.89 | E13: =SUM(B13:D13) -> 335812.7 | F13: =SUMIF(VII!A:A,$A$1,VII!G:G) -> 121453.12 | G13: =SUMIF(VIII!A:A,$A$1,VIII!G:G) -> 100373.63 | H13: =SUMIF(IX!A:A,$A$1,IX!G:G) -> 113018.48 | I13: =SUM(F13:H13) -> 334845.23 | J13: =SUMIF(IV!A:A,$A$1,IV!G:G) -> 138154.85 | K13: =SUMIF(V!A:A,$A$1,V!G:G) -> 84834.31 | L13: =SUMIF(VI!A:A,$A$1,VI!G:G) -> 114963.77 | M13: =SUM(J13:L13) -> 337952.93 | N13: =SUMIF(I!A:A,$A$1,I!G:G) -> 92816.9 | O13: =SUMIF(II!A:A,$A$1,II!G:G) -> 112235.87 | P13: =SUMIF(III!A:A,$A$1,III!G:G) -> 109614.17 | Q13: =SUM(N13:P13) -> 314666.94 | R13: =Q13+M13+I13+E13 -> 1323277.8
A14: Sumaryczna realizacja planu sprzedaży Obrót | B14: =B13 -> 120282.94 | C14: =C13+B14 -> 221266.81 | D14: =D13+C14 -> 335812.7 | F14: =F13 -> 121453.12 | G14: =G13+F14 -> 221826.75 | H14: =H13+G14 -> 334845.23 | J14: =J13 -> 138154.85 | K14: =K13+J14 -> 222989.16 | L14: =L13+K14 -> 337952.93 | N14: =N13 -> 92816.9 | O14: =O13+N14 -> 205052.77 | P14: =P13+O14 -> 314666.94
A15: Wysokość zrealizowania Miesięcznego Planu Sprzedaży Obrót | B15: =B13/B11 -> 1.3364771 | C15: =C13/C11 -> 0.96175114 | D15: =D13/D11 -> 1.0909132 | F15: =F13/F11 -> 1.5040634 | G15: =G13/G11 -> 1.0565645 | H15: =H13/H11 -> 1.0344941 | J15: =J13/J11 -> 1.6253512 | K15: =K13/K11 -> 0.8483431 | L15: =L13/L11 -> 0.99968496 | N15: =N13/N11 -> 1.1699609 | O15: =O13/O11 -> 1.2025272 | P15: =P13/P11 -> 1.02125
A16: Wysokość zrealizowania Planu Sprzedaży Obrót | B16: =B14/B12 -> 1.3364771 | C16: =C14/C12 -> 1.1347016 | D16: =D14/D12 -> 1.1193757 | F16: =F14/F12 -> 1.5040634 | G16: =G14/G12 -> 1.2621721 | H16: =H14/H12 -> 1.1748955 | J16: =J14/J12 -> 1.6253512 | K16: =K14/K12 -> 1.2053468 | L16: =L14/L12 -> 1.1265098 | N16: =N14/N12 -> 1.1699609 | O16: =O14/O12 -> 1.1875643 | P16: =P14/P12 -> 1.1238105
A17: Różnica wskaźnika Obrót | B17: =B14-B12 -> 30282.94 | C17: =C14-C12 -> 26266.81 | D17: =D14-D12 -> 35812.701 | F17: =F14-F12 -> 40703.12 | G17: =G14-G12 -> 46076.75 | H17: =H14-H12 -> 49845.23 | J17: =J14-J12 -> 53154.85 | K17: =K14-K12 -> 37989.16 | L17: =L14-L12 -> 37952.93 | N17: =N14-N12 -> 13483.567 | O17: =O14-O12 -> 32386.103 | P17: =P14-P12 -> 34666.94
A18: Wysokość Marży miesięcznej | B18: =B6/B13 -> 0.39621202 | C18: =C6/C13 -> 0.45043935 | D18: =D6/D13 -> 0.38505985 | F18: =F6/F13 -> 0.42335499 | G18: =G6/G13 -> 0.4462006 | H18: =H6/H13 -> 0.43818174 | J18: =J6/J13 -> 0.37336834 | K18: =K6/K13 -> 0.4593822 | L18: =L6/L13 -> 0.42428056 | N18: =N6/N13 -> 0.42000543 | O18: =O6/O13 -> 0.40146455 | P18: =P6/P13 -> 0.45257441
A19: Wysokość Marży sumarycznej | B19: =B7/B14 -> 0.39621202 | C19: =C7/C14 -> 0.42096081 | D19: =D7/D14 -> 0.40871497 | F19: =F7/F14 -> 0.42335499 | G19: =G7/G14 -> 0.43369232 | H19: =H7/H14 -> 0.43520761 | J19: =J7/J14 -> 0.37336834 | K19: =K7/K14 -> 0.40609157 | L19: =L7/L14 -> 0.41227904 | N19: =N7/N14 -> 0.42000543 | O19: =O7/O14 -> 0.40985705 | P19: =P7/P14 -> 0.42473764
A21: PREMIE
A22: Wynagrodzenie zasadnicze | B22: 3300 | C22: 3300 | D22: 3300 | F22: 3300 | G22: 3300 | H22: 3300 | J22: 3300 | K22: 3300 | L22: 3300 | N22: 2800 | O22: 3300 | P22: 3300
A23: Wskaźnik Plan Sprzedaży Marża | B23: =B5 -> 39000 | C23: =C5 -> 84500 | D23: =D5 -> 130000 | F23: =F5 -> 36833.333 | G23: =G5 -> 80166.667 | H23: =H5 -> 130000 | J23: =J5 -> 39100 | K23: =K5 -> 85100 | L23: =L5 -> 138000 | N23: =N5 -> 36833.333 | O23: =O5 -> 80166.667 | P23: =P5 -> 130000
A24: Realizacja Wskaźnika Planu Sprzedaży Marża | B24: =B7 -> 47657.547 | C24: =C7 -> 93144.656 | D24: =D7 -> 137251.68 | F24: =F7 -> 51417.784 | G24: =G7 -> 96204.557 | H24: =H7 -> 145727.19 | J24: =J7 -> 51582.647 | K24: =K7 -> 90554.018 | L24: =L7 -> 139330.91 | N24: =N7 -> 38983.602 | O24: =O7 -> 84042.324 | P24: =P7 -> 133650.89
A25: Poziom realizacji Wskaźnika Sprzedaży Marża | B25: =B24/B23 -> 1.2219884 | C25: =C24/C23 -> 1.1023036 | D25: =D24/D23 -> 1.0557821 | F25: =F24/F23 -> 1.3959579 | G25: =G24/G23 -> 1.2000568 | H25: =H24/H23 -> 1.1209784 | J25: =J24/J23 -> 1.3192493 | K25: =K24/K23 -> 1.0640895 | L25: =L24/L23 -> 1.0096443 | N25: =N24/N23 -> 1.0583783 | O25: =O24/O23 -> 1.048345 | P25: =P24/P23 -> 1.0280838
A26: Wysokość premii Wskaźnik Sprzedaży Marża | B26: =B22*0.2 -> 660 | C26: =C22*0.2 -> 660 | D26: =D22*0.2 -> 660 | F26: =F22*0.2 -> 660 | G26: =G22*0.2 -> 660 | H26: =H22*0.2 -> 660 | J26: =J22*0.2 -> 660 | K26: =K22*0.2 -> 660 | L26: =L22*0.2 -> 660 | N26: =N22*0.2 -> 560 | O26: =O22*0.2 -> 660 | P26: =P22*0.2 -> 660
A27: Mnożnik premii miesięcznej Wskaźnika Sprzedaży Marża | B27: =IF(B25<80%,0,IF(B25<90%,0.5,IF(B25<95%,0.75,1))) -> 1 | C27: =IF(C25<80%,0,IF(C25<90%,0.5,IF(C25<95%,0.75,1))) -> 1 | D27: =IF(D25<80%,0,IF(D25<90%,0.5,IF(D25<95%,0.75,1))) -> 1 | F27: =IF(F25<80%,0,IF(F25<90%,0.5,IF(F25<95%,0.75,1))) -> 1 | G27: =IF(G25<80%,0,IF(G25<90%,0.5,IF(G25<95%,0.75,1))) -> 1 | H27: =IF(H25<80%,0,IF(H25<90%,0.5,IF(H25<95%,0.75,1))) -> 1 | J27: =IF(J25<80%,0,IF(J25<90%,0.5,IF(J25<95%,0.75,1))) -> 1 | K27: =IF(K25<80%,0,IF(K25<90%,0.5,IF(K25<95%,0.75,1))) -> 1 | L27: =IF(L25<80%,0,IF(L25<90%,0.5,IF(L25<95%,0.75,1))) -> 1 | N27: =IF(N25<80%,0,IF(N25<90%,0.5,IF(N25<95%,0.75,1))) -> 1 | O27: =IF(O25<80%,0,IF(O25<90%,0.5,IF(O25<95%,0.75,1))) -> 1 | P27: =IF(P25<80%,0,IF(P25<90%,0.5,IF(P25<95%,0.75,1))) -> 1
A28: Premia miesięczna za Wskaźnik Sprzedaży Marża | B28: =B27*B26 -> 660 | C28: =C27*C26 -> 660 | D28: =D27*D26 -> 660 | F28: =F27*F26 -> 660 | G28: =G27*G26 -> 660 | H28: =H27*H26 -> 660 | J28: =J27*J26 -> 660 | K28: =K27*K26 -> 660 | L28: =L27*L26 -> 660 | N28: =N27*N26 -> 560 | O28: =O27*O26 -> 660 | P28: =P27*P26 -> 660
A29: Wskaźnik Plan Sprzedaży Obrót | B29: =B12 -> 90000 | C29: =C12 -> 195000 | D29: =D12 -> 300000 | F29: =F12 -> 80750 | G29: =G12 -> 175750 | H29: =H12 -> 285000 | J29: =J12 -> 85000 | K29: =K12 -> 185000 | L29: =L12 -> 300000 | N29: =N12 -> 79333.333 | O29: =O12 -> 172666.67 | P29: =P12 -> 280000
A30: Realizacja Wskaźnika Planu Sprzedaży Obrót | B30: =B14 -> 120282.94 | C30: =C14 -> 221266.81 | D30: =D14 -> 335812.7 | F30: =F14 -> 121453.12 | G30: =G14 -> 221826.75 | H30: =H14 -> 334845.23 | J30: =J14 -> 138154.85 | K30: =K14 -> 222989.16 | L30: =L14 -> 337952.93 | N30: =N14 -> 92816.9 | O30: =O14 -> 205052.77 | P30: =P14 -> 314666.94
A31: Poziom realizacji Wskaźnika Sprzedaży Obrót | B31: =B30/B29 -> 1.3364771 | C31: =C30/C29 -> 1.1347016 | D31: =D30/D29 -> 1.1193757 | F31: =F30/F29 -> 1.5040634 | G31: =G30/G29 -> 1.2621721 | H31: =H30/H29 -> 1.1748955 | J31: =J30/J29 -> 1.6253512 | K31: =K30/K29 -> 1.2053468 | L31: =L30/L29 -> 1.1265098 | N31: =N30/N29 -> 1.1699609 | O31: =O30/O29 -> 1.1875643 | P31: =P30/P29 -> 1.1238105
A32: Wysokość premii Wskaźnik Sprzedaży Obrót | B32: =B22*0.2 -> 660 | C32: =C22*0.2 -> 660 | D32: =D22*0.2 -> 660 | F32: =F22*0.2 -> 660 | G32: =G22*0.2 -> 660 | H32: =H22*0.2 -> 660 | J32: =J22*0.2 -> 660 | K32: =K22*0.2 -> 660 | L32: =L22*0.2 -> 660 | N32: =N22*0.2 -> 560 | O32: =O22*0.2 -> 660 | P32: =P22*0.2 -> 660
A33: Mnożnik premii miesięcznej Wskaźnika Sprzedaży Obrót | B33: =IF(B31<80%,0,IF(B31<90%,0.5,IF(B31<95%,0.75,1))) -> 1 | C33: =IF(C31<80%,0,IF(C31<90%,0.5,IF(C31<95%,0.75,1))) -> 1 | D33: =IF(D31<80%,0,IF(D31<90%,0.5,IF(D31<95%,0.75,1))) -> 1 | F33: =IF(F31<80%,0,IF(F31<90%,0.5,IF(F31<95%,0.75,1))) -> 1 | G33: =IF(G31<80%,0,IF(G31<90%,0.5,IF(G31<95%,0.75,1))) -> 1 | H33: =IF(H31<80%,0,IF(H31<90%,0.5,IF(H31<95%,0.75,1))) -> 1 | J33: =IF(J31<80%,0,IF(J31<90%,0.5,IF(J31<95%,0.75,1))) -> 1 | K33: =IF(K31<80%,0,IF(K31<90%,0.5,IF(K31<95%,0.75,1))) -> 1 | L33: =IF(L31<80%,0,IF(L31<90%,0.5,IF(L31<95%,0.75,1))) -> 1 | N33: =IF(N31<80%,0,IF(N31<90%,0.5,IF(N31<95%,0.75,1))) -> 1 | O33: =IF(O31<80%,0,IF(O31<90%,0.5,IF(O31<95%,0.75,1))) -> 1 | P33: =IF(P31<80%,0,IF(P31<90%,0.5,IF(P31<95%,0.75,1))) -> 1
A34: Premia miesięczna za Wskaźnik Sprzedaży Obrót | B34: =B33*B32 -> 660 | C34: =C33*C32 -> 660 | D34: =D33*D32 -> 660 | F34: =F33*F32 -> 660 | G34: =G33*G32 -> 660 | H34: =H33*H32 -> 660 | J34: =J33*J32 -> 660 | K34: =K33*K32 -> 660 | L34: =L33*L32 -> 660 | N34: =N33*N32 -> 560 | O34: =O33*O32 -> 660 | P34: =P33*P32 -> 660
A35: Wskaźnik CRM | B35: 1 | C35: 1 | D35: 1 | F35: 1 | G35: 1 | H35: 1 | J35: 1 | K35: 1 | L35: 1 | N35: 1 | O35: 1 | P35: 1
A36: Wysokość premii CRM | B36: =B22*0.1 -> 330 | C36: =C22*0.1 -> 330 | D36: =D22*0.1 -> 330 | F36: =F22*0.1 -> 330 | G36: =G22*0.1 -> 330 | H36: =H22*0.1 -> 330 | J36: =J22*0.1 -> 330 | K36: =K22*0.1 -> 330 | L36: =L22*0.1 -> 330 | N36: =N22*0.1 -> 280 | O36: =O22*0.1 -> 330 | P36: =P22*0.1 -> 330
A37: Mnożnik premii Wskaźnik CRM | B37: 1 | C37: 1 | D37: 1 | F37: 1 | G37: 1 | H37: 1 | J37: 1 | K37: 1 | L37: 1 | N37: 1 | O37: 1 | P37: 1
A38: Premia miesięczna za Wskaźnik CRM | B38: =B37*B36 -> 330 | C38: =C37*C36 -> 330 | D38: =D37*D36 -> 330 | F38: =F37*F36 -> 330 | G38: =G37*G36 -> 330 | H38: =H37*H36 -> 330 | J38: =J37*J36 -> 330 | K38: =K37*K36 -> 330 | L38: =L37*L36 -> 330 | N38: =N37*N36 -> 280 | O38: =O37*O36 -> 330 | P38: =P37*P36 -> 330
A39: Suma Premii miesięcznych | B39: =B34+B28+B38 -> 1650 | C39: =C34+C28+C38 -> 1650 | D39: =D34+D28+D38 -> 1650 | F39: =F34+F28+F38 -> 1650 | G39: =G34+G28+G38 -> 1650 | H39: =H34+H28+H38 -> 1650 | J39: =J34+J28+J38 -> 1650 | K39: =K34+K28+K38 -> 1650 | L39: =L34+L28+L38 -> 1650 | N39: =N34+N28+N38 -> 1400 | O39: =O34+O28+O38 -> 1650 | P39: =P34+P28+P38 -> 1650
A40: Wskaźnik Premia Kwartalna Marża | B40: =D5 -> 130000 | F40: =H5 -> 130000 | J40: =L5 -> 138000 | N40: =P5 -> 130000
A41: Realizacja Wskaźnika Premia Kwartalna | B41: =D7 -> 137251.68 | F41: =H7 -> 145727.19 | J41: =L7 -> 139330.91 | N41: =P7 -> 133650.89
A42: Poziom realizacji Wskaźnika Premia Kwartalna | B42: =B41/B40 -> 1.0557821 | F42: =F41/F40 -> 1.1209784 | J42: =J41/J40 -> 1.0096443 | N42: =N41/N40 -> 1.0280838
...

Sheet MIRU
A1: Mirosław Zagaja | N1: INDYWIDUALNY PLANY SPRZEDAŻY 2014 Mirosław Zagaja
A2: miesiąc | B2: październik | C2: listopad | D2: grudzień | F2: lipiec | G2: sierpień | H2: wrzesień | J2: kwiecień | K2: maj | L2: czerwiec | N2: styczeń | O2: luty | P2: marzec | Q2: KW I | R2: suma
A4: Plan Sprzedaży Marża | B4: ='Target 2017'!L4 -> 31666.667 | C4: ='Target 2017'!M4 -> 35000 | D4: ='Target 2017'!N4 -> 33333.333 | F4: ='Target 2017'!I4 -> 31166.667 | G4: ='Target 2017'!J4 -> 36666.667 | H4: ='Target 2017'!K4 -> 42166.667 | I4: =SUM(F4:H4) -> 110000 | J4: ='Target 2017'!F4 -> 31166.667 | K4: ='Target 2017'!G4 -> 36666.667 | L4: ='Target 2017'!H4 -> 42166.667 | M4: =SUM(J4:L4) -> 110000 | N4: ='Target 2017'!C4 -> 30000 | O4: ='Target 2017'!D4 -> 33333.333 | P4: ='Target 2017'!E4 -> 36666.667 | Q4: =SUM(N4:P4) -> 100000 | R4: =SUM(N4:Q4) -> 200000
A5: Sumaryczny Plan Sprzedaży Marża | B5: =B4 -> 31666.667 | C5: =C4+B5 -> 66666.667 | D5: =D4+C5 -> 100000 | F5: =F4 -> 31166.667 | G5: =G4+F5 -> 67833.333 | H5: =H4+G5 -> 110000 | J5: =J4 -> 31166.667 | K5: =K4+J5 -> 67833.333 | L5: =L4+K5 -> 110000 | N5: =N4 -> 30000 | O5: =O4+N5 -> 63333.333 | P5: =P4+O5 -> 100000
A6: Miesięczna realizacja Planu Sprzedaży Marża | B6: =SUMIF(X!A:A,$A$1,X!I:I) -> 40498.26 | C6: =SUMIF(XI!A:A,$A$1,XI!I:I) -> 12335.667 | D6: =SUMIF(XII!A:A,$A$1,XII!I:I) -> 64654.914 | F6: =SUMIF(VII!A:A,$A$1,VII!I:I) -> 37868.17 | G6: =SUMIF(VIII!A:A,$A$1,VIII!I:I) -> 19068.266 | H6: =SUMIF(IX!A:A,$A$1,IX!I:I) -> 32385.378 | J6: =SUMIF(IV!A:A,$A$1,IV!I:I) -> 28997.444 | K6: =SUMIF(V!A:A,$A$1,V!I:I) -> 54801.471 | L6: =SUMIF(VI!A:A,$A$1,VI!I:I) -> 40637.181 | N6: =SUMIF(I!A:A,$A$1,I!I:I) -> 22982.052 | O6: =SUMIF(II!A:A,$A$1,II!I:I) -> 31821.018 | P6: =SUMIF(III!A:A,$A$1,III!I:I) -> 73100.851 | Q6: =SUM(N6:P6) -> 127903.92 | R6: =N6+O6+P6+J6+K6+L6+F6+G6+H6+B6+C6+D6 -> 459150.67
A7: Sumaryczna realizacja planu sprzedaży Marża | B7: =B6 -> 40498.26 | C7: =C6+B7 -> 52833.926 | D7: =D6+C7 -> 117488.84 | F7: =F6 -> 37868.17 | G7: =G6+F7 -> 56936.436 | H7: =H6+G7 -> 89321.814 | J7: =J6 -> 28997.444 | K7: =K6+J7 -> 83798.915 | L7: =L6+K7 -> 124436.1 | N7: =N6 -> 22982.052 | O7: =O6+N7 -> 54803.069 | P7: =P6+O7 -> 127903.92
A8: Wysokość zrealizowania Miesięcznego Planu Sprzedaży Marża | B8: =B6/B4 -> 1.2788924 | C8: =C6/C4 -> 0.35244762 | D8: =D6/D4 -> 1.9396474 | F8: =F6/F4 -> 1.2150215 | G8: =G6/G4 -> 0.52004361 | H8: =H6/H4 -> 0.76803269 | J8: =J6/J4 -> 0.93039926 | K8: =K6/K4 -> 1.4945856 | L8: =L6/L4 -> 0.96372762 | N8: =N6/N4 -> 0.7660684 | O8: =O6/O4 -> 0.95463053 | P8: =P6/P4 -> 1.9936596
A9: Wysokość zrealizowania Planu Sprzedaży Marża | B9: =B7/B5 -> 1.2788924 | C9: =C7/C5 -> 0.79250889 | D9: =D7/D5 -> 1.1748884 | F9: =F7/F5 -> 1.2150215 | G9: =G7/G5 -> 0.83935777 | H9: =H7/H5 -> 0.81201649 | J9: =J7/J5 -> 0.93039926 | K9: =K7/K5 -> 1.2353648 | L9: =L7/L5 -> 1.1312372 | N9: =N7/N5 -> 0.7660684 | O9: =O7/O5 -> 0.86531162 | P9: =P7/P5 -> 1.2790392
A10: Różnica wskaźnika Marża | B10: =B7-B5 -> 8831.593 | C10: =C7-C5 -> -13832.74 | D10: =D7-D5 -> 17488.84 | F10: =F7-F5 -> 6701.5034 | G10: =G7-G5 -> -10896.898 | H10: =H7-H5 -> -20678.186 | J10: =J7-J5 -> -2169.2232 | K10: =K7-K5 -> 15965.581 | L10: =L7-L5 -> 14436.096 | N10: =N7-N5 -> -7017.9481 | O10: =O7-O5 -> -8530.2639 | P10: =P7-P5 -> 27903.92
A11: Plan Sprzedaży Obrót | B11: ='Target 2017'!L14 -> 82333.333 | C11: ='Target 2017'!M14 -> 91000 | D11: ='Target 2017'!N14 -> 86666.667 | F11: ='Target 2017'!I14 -> 73666.667 | G11: ='Target 2017'!J14 -> 86666.667 | H11: ='Target 2017'!K14 -> 99666.667 | I11: =SUM(F11:H11) -> 260000 | J11: ='Target 2017'!F14 -> 73666.667 | K11: ='Target 2017'!G14 -> 86666.667 | L11: ='Target 2017'!H14 -> 99666.667 | N11: ='Target 2017'!C14 -> 72000 | O11: ='Target 2017'!D14 -> 80000 | P11: ='Target 2017'!E14 -> 88000 | Q11: =SUM(N11:P11) -> 240000 | R11: =SUM(N11:Q11) -> 480000
A12: Sumaryczny Plan Sprzedaży Obrót | B12: =B11 -> 82333.333 | C12: =C11+B12 -> 173333.33 | D12: =D11+C12 -> 260000 | F12: =F11 -> 73666.667 | G12: =G11+F12 -> 160333.33 | H12: =H11+G12 -> 260000 | J12: =J11 -> 73666.667 | K12: =K11+J12 -> 160333.33 | L12: =L11+K12 -> 260000 | N12: =N11 -> 72000 | O12: =O11+N12 -> 152000 | P12: =P11+O12 -> 240000
A13: Miesięczna realizacja Planu Sprzedaży Obrót | B13: =SUMIF(X!A:A,$A$1,X!G:G) -> 101206.22 | C13: =SUMIF(XI!A:A,$A$1,XI!G:G) -> 34580.44 | D13: =SUMIF(XII!A:A,$A$1,XII!G:G) -> 135213.8 | F13: =SUMIF(VII!A:A,$A$1,VII!G:G) -> 83205.62 | G13: =SUMIF(VIII!A:A,$A$1,VIII!G:G) -> 52478.08 | H13: =SUMIF(IX!A:A,$A$1,IX!G:G) -> 101905.87 | J13: =SUMIF(IV!A:A,$A$1,IV!G:G) -> 79851.85 | K13: =SUMIF(V!A:A,$A$1,V!G:G) -> 118999.17 | L13: =SUMIF(VI!A:A,$A$1,VI!G:G) -> 114819.72 | N13: =SUMIF(I!A:A,$A$1,I!G:G) -> 45519.79 | O13: =SUMIF(II!A:A,$A$1,II!G:G) -> 70446.38 | P13: =SUMIF(III!A:A,$A$1,III!G:G) -> 168125.31 | Q13: =SUM(N13:P13) -> 284091.48 | R13: =SUM(N13:Q13) -> 568182.96
A14: Sumaryczna realizacja planu sprzedaży Obrót | B14: =B13 -> 101206.22 | C14: =C13+B14 -> 135786.66 | D14: =D13+C14 -> 271000.46 | F14: =F13 -> 83205.62 | G14: =G13+F14 -> 135683.7 | H14: =H13+G14 -> 237589.57 | J14: =J13 -> 79851.85 | K14: =K13+J14 -> 198851.02 | L14: =L13+K14 -> 313670.74 | N14: =N13 -> 45519.79 | O14: =O13+N14 -> 115966.17 | P14: =P13+O14 -> 284091.48
A15: Wysokość zrealizowania Miesięcznego Planu Sprzedaży Obrót | B15: =B13/B11 -> 1.2292253 | C15: =C13/C11 -> 0.38000484 | D15: =D13/D11 -> 1.5601592 | F15: =F13/F11 -> 1.1294881 | G15: =G13/G11 -> 0.60551631 | H15: =H13/H11 -> 1.0224669 | J15: =J13/J11 -> 1.0839618 | K15: =K13/K11 -> 1.3730673 | L15: =L13/L11 -> 1.1520373 | N15: =N13/N11 -> 0.63221931 | O15: =O13/O11 -> 0.88057975 | P15: =P13/P11 -> 1.9105149
A16: Wysokość zrealizowania Planu Sprzedaży Obrót | B16: =B14/B12 -> 1.2292253 | C16: =C14/C12 -> 0.78338458 | D16: =D14/D12 -> 1.0423094 | F16: =F14/F12 -> 1.1294881 | G16: =G14/G12 -> 0.84626008 | H16: =H14/H12 -> 0.91380604 | J16: =J14/J12 -> 1.0839618 | K16: =K14/K12 -> 1.2402351 | L16: =L14/L12 -> 1.2064259 | N16: =N14/N12 -> 0.63221931 | O16: =O14/O12 -> 0.76293533 | P16: =P14/P12 -> 1.1837145
A17: Różnica wskaźnika Obrót | B17: =B14-B12 -> 18872.887 | C17: =C14-C12 -> -37546.673 | D17: =D14-D12 -> 11000.457 | F17: =F14-F12 -> 9538.9533 | G17: =G14-G12 -> -24649.633 | H17: =H14-H12 -> -22410.43 | J17: =J14-J12 -> 6185.1833 | K17: =K14-K12 -> 38517.687 | L17: =L14-L12 -> 53670.74 | N17: =N14-N12 -> -26480.21 | O17: =O14-O12 -> -36033.83 | P17: =P14-P12 -> 44091.48
A18: Wysokość Marży miesięcznej | B18: =B6/B13 -> 0.40015584 | C18: =C6/C13 -> 0.35672382 | D18: =D6/D13 -> 0.47816802 | F18: =F6/F13 -> 0.45511553 | G18: =G6/G13 -> 0.36335677 | H18: =H6/H13 -> 0.31779699 | J18: =J6/J13 -> 0.36314053 | K18: =K6/K13 -> 0.46051978 | L18: =L6/L13 -> 0.35392162 | N18: =N6/N13 -> 0.50488045 | O18: =O6/O13 -> 0.4517055 | P18: =P6/P13 -> 0.4347998
A19: Wysokość Marży sumarycznej | B19: =B7/B14 -> 0.40015584 | C19: =C7/C14 -> 0.38909512 | D19: =D7/D14 -> 0.43353743 | F19: =F7/F14 -> 0.45511553 | G19: =G7/G14 -> 0.4196262 | H19: =H7/H14 -> 0.37595006 | J19: =J7/J14 -> 0.36314053 | K19: =K7/K14 -> 0.42141556 | L19: =L7/L14 -> 0.39670929 | N19: =N7/N14 -> 0.50488045 | O19: =O7/O14 -> 0.47257808 | P19: =P7/P14 -> 0.4502209
A21: SPRZEDAŻ DRUKAREK
A22: CL-S521 | R22: =SUM(N22:Q22) -> 0
A23: CL-S621 | H23: 9 | K23: 7 | L23: 3 | R23: =SUM(N23:Q23) -> 0
A24: CL-S6621 | R24: =SUM(N24:Q24) -> 0
A25: CL-S631 | R25: =SUM(N25:Q25) -> 0
A26: CL-S700 | R26: =SUM(N26:Q26) -> 0
A27: CL-S700R | R27: =SUM(N27:Q27) -> 0
A28: CL-S703 | R28: =SUM(N28:Q28) -> 0
A29: CL-S703R | R29: =SUM(N29:Q29) -> 0
A30: CLE-720 | C30: 1 | R30: =Q30+M30+I30+E30 -> 0
A31: CLE-730 | R31: =Q31+M31+I31+E31 -> 0
A32: CLP 8301 | R32: =SUM(N32:Q32) -> 0
A33: ZEBRA | R33: =SUM(N33:Q33) -> 0
A34: INNE | D34: 1 | P34: 2 | R34: =SUM(N34:Q34) -> 2
A35: SUMA: | B35: =SUM(B22:B34) -> 0 | C35: =SUM(C22:C34) -> 1 | D35: =SUM(D22:D34) -> 1 | F35: =SUM(F22:F34) -> 0 | G35: =SUM(G22:G34) -> 0 | H35: =SUM(H22:H34) -> 9 | J35: =SUM(J22:J34) -> 0 | K35: =SUM(K22:K34) -> 7 | L35: =SUM(L22:L34) -> 3 | N35: =SUM(N22:N34) -> 0 | O35: =SUM(O22:O34) -> 0 | P35: =SUM(P22:P34) -> 2 | R35: =SUM(R22:R34) -> 2
A37: Raport za miesiąc: | B37: paździer. | C37: listopad | D37: grudzień | F37: lipiec | G37: sierpień | H37: wrzesień | J37: kwiecień | K37: maj | L37: czerwiec | N37: styczeń | O37: luty | P37: marzec | R37: Suma
A38: Ilość nowych Klientów: | B38: 0 | C38: 0 | D38: 0 | E38: =SUM(B38:D38) -> 0 | F38: 1 | G38: 0 | H38: 0 | I38: =SUM(F38:H38) -> 1 | J38: 0 | K38: 0 | L38: 0 | M38: =SUM(J38:L38) -> 0 | N38: 0 | O38: 0 | P38: 0 | Q38: =SUM(N38:P38) -> 0 | R38: =Q38+M38+I38+E38 -> 1
A39: Ilość Klientów przekaz. z Gliwic lub zm. nazwę/NIP. | B39: 0 | C39: 0 | D39: 0 | E39: =SUM(B39:D39) -> 0 | F39: 0 | G39: 0 | H39: 0 | I39: =SUM(F39:H39) -> 0 | J39: 0 | K39: 0 | L39: 0 | M39: =SUM(J39:L39) -> 0 | N39: 0 | O39: 0 | P39: 0 | Q39: =SUM(N39:P39) -> 0 | R39: =Q39+M39+I39+E39 -> 0
A40: Ilość Podmiotów na etapie współpracy Klient: | B40: 26 | C40: 26 | D40: 26 | F40: 26 | G40: 26 | H40: 26 | J40: 25 | K40: 25 | L40: 25 | N40: 25 | O40: 25 | P40: 25
A41: Ilość Podmiotów na etapie współpracy Handlowy: | B41: 3 | C41: 2 | D41: 0 | F41: 3 | G41: 3 | H41: 3 | J41: 3 | K41: 3 | L41: 3 | N41: 4 | O41: 4 | P41: 4
A42: Ilość Podmiotów na etapie współpracy Klient nieaktywny: | B42: 2 | C42: 2 | D42: 0 | F42: 2 | G42: 2 | H42: 2 | J42: 3 | K42: 2 | L42: 2 | N42: 4 | O42: 4 | P42: 4
A43: Ilość Podmiotów pod opieką: | B43: 31 | C43: 30 | D43: 26 | F43: =SUM(F40:F42) -> 31 | G43: =SUM(G40:G42) -> 31 | H43: =SUM(H40:H42) -> 31 | J43: =SUM(J40:J42) -> 31 | K43: =SUM(K40:K42) -> 30 | L43: =SUM(L40:L42) -> 30 | N43: =SUM(N40:N42) -> 33 | O43: =SUM(O40:O42) -> 33 | P43: =SUM(P40:P42) -> 33
...

Sheet PIOTR L
A1: Piotr Lasia | B1: PLAN IV KW Piotr Lasia | F1: PLAN III KW Piotr Lasia | J1: PLAN II KW Piotr Lasia | N1: PLAN I KW Piotr Lasia
A2: miesiąc | B2: październik | C2: listopad | D2: grudzień | E2: KW IV | F2: lipiec | G2: sierpień | H2: wrzesień | I2: KW III | J2: kwiecień | K2: maj | L2: czerwiec | M2: KW II | N2: styczeń | O2: luty | P2: marzec | Q2: KW I | R2: suma ROK
A4: Plan Sprzedaży Marża | B4: ='Target 2017'!L6 -> 15833.333 | C4: ='Target 2017'!M6 -> 17500 | D4: ='Target 2017'!N6 -> 16666.667 | E4: =SUM(B4:D4) -> 50000 | F4: ='Target 2017'!I5 -> 15583.333 | G4: ='Target 2017'!J5-5000 -> 13333.333 | H4: ='Target 2017'!K5+5000 -> 26083.333 | I4: =SUM(F4:H4) -> 55000 | J4: ='Target 2017'!F5 -> 14166.667 | K4: ='Target 2017'!G5-2500 -> 14166.667 | L4: ='Target 2017'!H5+2500-4000 -> 17666.667 | M4: =SUM(J4:L4) -> 46000 | N4: ='Target 2017'!C5 -> 0 | O4: ='Target 2017'!D5 -> 0 | P4: ='Target 2017'!E5 -> 15000 | Q4: =SUM(N4:P4) -> 15000 | R4: =Q4+M4+I4+E4 -> 166000
A5: Sumaryczny Plan Sprzedaży Marża | B5: =B4 -> 15833.333 | C5: =C4+B5 -> 33333.333 | D5: =D4+C5 -> 50000 | F5: =F4 -> 15583.333 | G5: =G4+F5 -> 28916.667 | H5: =H4+G5 -> 55000 | J5: =J4 -> 14166.667 | K5: =K4+J5 -> 28333.333 | L5: =L4+K5 -> 46000 | N5: =N4 -> 0 | O5: =O4+N5 -> 0 | P5: =P4+O5 -> 15000
A6: Miesięczna realizacja Planu Sprzedaży Marża | B6: =SUMIF(X!A:A,$A$1,X!I:I) -> 19381.915 | C6: =SUMIF(XI!A:A,$A$1,XI!I:I) -> 17617.237 | D6: =SUMIF(XII!A:A,$A$1,XII!I:I) -> 15449.891 | E6: =SUM(B6:D6) -> 52449.043 | F6: =SUMIF(VII!A:A,$A$1,VII!I:I) -> 15909.077 | G6: =SUMIF(VIII!A:A,$A$1,VIII!I:I) -> 7625.371 | H6: =SUMIF(IX!A:A,$A$1,IX!I:I) -> 10306.304 | I6: =SUM(F6:H6) -> 33840.753 | J6: =SUMIF(IV!A:A,$A$1,IV!I:I) -> 15184.067 | K6: =SUMIF(V!A:A,$A$1,V!I:I) -> 7543.233 | L6: =SUMIF(VI!A:A,$A$1,VI!I:I) -> 14199.24 | M6: =SUM(J6:L6) -> 36926.541 | N6: =SUMIF(I!A:A,$A$1,I!I:I) -> 0 | O6: =SUMIF(II!A:A,$A$1,II!I:I) -> 6695.2705 | P6: =SUMIF(III!A:A,$A$1,III!I:I) -> 29066.292 | Q6: =SUM(N6:P6) -> 35761.562 | R6: =Q6+M6+I6+E6 -> 158977.9
A7: Sumaryczna realizacja planu sprzedaży Marża | B7: =B6 -> 19381.915 | C7: =C6+B7 -> 36999.153 | D7: =D6+C7 -> 52449.043 | F7: =F6 -> 15909.077 | G7: =G6+F7 -> 23534.448 | H7: =H6+G7 -> 33840.753 | J7: =J6 -> 15184.067 | K7: =K6+J7 -> 22727.3 | L7: =L6+K7 -> 36926.541 | N7: =N6 -> 0 | O7: =O6+N7 -> 6695.2705 | P7: =P6 -> 29066.292
A8: Wysokość zrealizowania Miesięcznego Planu Sprzedaży Marża | B8: =B6/B4 -> 1.224121 | C8: =C6/C4 -> 1.0066993 | D8: =D6/D4 -> 0.92699345 | F8: =F6/F4 -> 1.0209034 | G8: =G6/G4 -> 0.57190283 | H8: =H6/H4 -> 0.39512987 | J8: =J6/J4 -> 1.0718165 | K8: =K6/K4 -> 0.53246351 | L8: =L6/L4 -> 0.80373059 | N8: =N6/N4 -> #DIV/0! | O8: =O6/O4 -> #DIV/0! | P8: =P6/P4 -> 1.9377528
A9: Wysokość zrealizowania Planu Sprzedaży Marża | B9: =B7/B5 -> 1.224121 | C9: =C7/C5 -> 1.1099746 | D9: =D7/D5 -> 1.0489809 | F9: =F7/F5 -> 1.0209034 | G9: =G7/G5 -> 0.81387142 | H9: =H7/H5 -> 0.61528641 | J9: =J7/J5 -> 1.0718165 | K9: =K7/K5 -> 0.80214002 | L9: =L7/L5 -> 0.80275089 | N9: =N7/N5 -> #DIV/0! | O9: =O7/O5 -> #DIV/0! | P9: =P7/P5 -> 1.9377528
A10: Różnica wskaźnika Marża | B10: =B7-B5 -> 3548.5818 | C10: =C7-C5 -> 3665.8192 | D10: =D7-D5 -> 2449.0433 | F10: =F7-F5 -> 325.74417 | G10: =G7-G5 -> -5382.2182 | H10: =H7-H5 -> -21159.247 | J10: =J7-J5 -> 1017.4008 | K10: =K7-K5 -> -5606.0328 | L10: =L7-L5 -> -9073.4591 | N10: =N7-N5 -> 0 | O10: =O7-O5 -> 6695.2705 | P10: =P7-P5 -> 14066.292
A11: Plan Sprzedaży Obrót | B11: ='Target 2017'!L15 -> 41166.667 | C11: ='Target 2017'!M15 -> 45500 | D11: ='Target 2017'!N15 -> 43333.333 | E11: =SUM(B11:D11) -> 130000 | F11: ='Target 2017'!I15 -> 42500 | G11: ='Target 2017'!J15-10000 -> 40000 | H11: ='Target 2017'!K15+10000 -> 67500 | I11: =SUM(F11:H11) -> 150000 | J11: ='Target 2017'!F15 -> 38816.667 | K11: ='Target 2017'!G15-7000 -> 38666.667 | L11: ='Target 2017'!H15+7000-14000 -> 45516.667 | M11: =SUM(J11:L11) -> 123000 | N11: ='Target 2017'!C15 -> 0 | O11: ='Target 2017'!D15 -> 0 | P11: ='Target 2017'!E15 -> 42000 | Q11: =SUM(N11:P11) -> 42000 | R11: =Q11+M11+I11+E11 -> 445000
A12: Sumaryczny Plan Sprzedaży Obrót | B12: =B11 -> 41166.667 | C12: =C11+B12 -> 86666.667 | D12: =D11+C12 -> 130000 | F12: =F11 -> 42500 | G12: =G11+F12 -> 82500 | H12: =H11+G12 -> 150000 | J12: =J11 -> 38816.667 | K12: =K11+J12 -> 77483.333 | L12: =L11+K12 -> 123000 | N12: =N11 -> 0 | O12: =O11+N12 -> 0 | P12: =P11 -> 42000
A13: Miesięczna realizacja Planu Sprzedaży Obrót | B13: =SUMIF(X!A:A,$A$1,X!G:G) -> 56924.8 | C13: =SUMIF(XI!A:A,$A$1,XI!G:G) -> 45743.31 | D13: =SUMIF(XII!A:A,$A$1,XII!G:G) -> 43045.949 | E13: =SUM(B13:D13) -> 145714.06 | F13: =SUMIF(VII!A:A,$A$1,VII!G:G) -> 44021.21 | G13: =SUMIF(VIII!A:A,$A$1,VIII!G:G) -> 23675.17 | H13: =SUMIF(IX!A:A,$A$1,IX!G:G) -> 32990.25 | I13: =SUM(F13:H13) -> 100686.63 | J13: =SUMIF(IV!A:A,$A$1,IV!G:G) -> 44183.45 | K13: =SUMIF(V!A:A,$A$1,V!G:G) -> 18209.34 | L13: =SUMIF(VI!A:A,$A$1,VI!G:G) -> 36656.55 | M13: =SUM(J13:L13) -> 99049.34 | N13: =SUMIF(I!A:A,$A$1,I!G:G) -> 0 | O13: =SUMIF(II!A:A,$A$1,II!G:G) -> 19881.29 | P13: =SUMIF(III!A:A,$A$1,III!G:G) -> 75135.66 | Q13: =SUM(N13:P13) -> 95016.95 | R13: =Q13+M13+I13+E13 -> 440466.98
A14: Sumaryczna realizacja planu sprzedaży Obrót | B14: =B13 -> 56924.8 | C14: =C13+B14 -> 102668.11 | D14: =D13+C14 -> 145714.06 | F14: =F13 -> 44021.21 | G14: =G13+F14 -> 67696.38 | H14: =H13+G14 -> 100686.63 | J14: =J13 -> 44183.45 | K14: =K13+J14 -> 62392.79 | L14: =L13+K14 -> 99049.34 | N14: =N13 -> 0 | O14: =O13+N14 -> 19881.29 | P14: =P13 -> 75135.66
A15: Wysokość zrealizowania Miesięcznego Planu Sprzedaży Obrót | B15: =B13/B11 -> 1.3827887 | C15: =C13/C11 -> 1.0053475 | D15: =D13/D11 -> 0.99336806 | F15: =F13/F11 -> 1.0357932 | G15: =G13/G11 -> 0.59187925 | H15: =H13/H11 -> 0.48874444 | J15: =J13/J11 -> 1.1382598 | K15: =K13/K11 -> 0.47093121 | L15: =L13/L11 -> 0.80534346 | N15: =N13/N11 -> #DIV/0! | O15: =O13/O11 -> #DIV/0! | P15: =P13/P11 -> 1.7889443
A16: Wysokość zrealizowania Planu Sprzedaży Obrót | B16: =B14/B12 -> 1.3827887 | C16: =C14/C12 -> 1.184632 | D16: =D14/D12 -> 1.1208774 | F16: =F14/F12 -> 1.0357932 | G16: =G14/G12 -> 0.82056218 | H16: =H14/H12 -> 0.6712442 | J16: =J14/J12 -> 1.1382598 | K16: =K14/K12 -> 0.80524143 | L16: =L14/L12 -> 0.80527919 | N16: =N14/N12 -> #DIV/0! | O16: =O14/O12 -> #DIV/0! | P16: =P14/P12 -> 1.7889443
A17: Różnica wskaźnika Obrót | B17: =B14-B12 -> 15758.133 | C17: =C14-C12 -> 16001.443 | D17: =D14-D12 -> 15714.059 | F17: =F14-F12 -> 1521.21 | G17: =G14-G12 -> -14803.62 | H17: =H14-H12 -> -49313.37 | J17: =J14-J12 -> 5366.7833 | K17: =K14-K12 -> -15090.543 | L17: =L14-L12 -> -23950.66 | N17: =N14-N12 -> 0 | O17: =O14-O12 -> 19881.29 | P17: =P14-P12 -> 33135.66
A18: Wysokość Marży miesięcznej | B18: =B6/B13 -> 0.3404828 | C18: =C6/C13 -> 0.38513255 | D18: =D6/D13 -> 0.35891625 | F18: =F6/F13 -> 0.36139573 | G18: =G6/G13 -> 0.32208305 | H18: =H6/H13 -> 0.31240454 | J18: =J6/J13 -> 0.34365962 | K18: =K6/K13 -> 0.41425076 | L18: =L6/L13 -> 0.38735889 | N18: =N6/N13 -> #DIV/0! | O18: =O6/O13 -> 0.33676238 | P18: =P6/P13 -> 0.38685082
A19: Wysokość Marży sumarycznej | B19: =B7/B14 -> 0.3404828 | C19: =C7/C14 -> 0.36037629 | D19: =D7/D14 -> 0.35994497 | F19: =F7/F14 -> 0.36139573 | G19: =G7/G14 -> 0.34764708 | H19: =H7/H14 -> 0.33609976 | J19: =J7/J14 -> 0.34365962 | K19: =K7/K14 -> 0.36426165 | L19: =L7/L14 -> 0.37280956 | N19: =N7/N14 -> #DIV/0! | O19: =O7/O14 -> 0.33676238 | P19: =P7/P14 -> 0.38685082
N21: PREMIE
A22: Wynagrodzenie zasadnicze | B22: 2800 | C22: 2800 | D22: 2800 | F22: 2800 | G22: 2800 | H22: 2800 | J22: 2800 | K22: 2800 | L22: 2800 | N22: 2800 | O22: 2800 | P22: 2800
A23: Wskaźnik Plan Sprzedaży Marża | B23: =B5 -> 15833.333 | C23: =C5 -> 33333.333 | D23: =D5 -> 50000 | F23: =F5 -> 15583.333 | G23: =G5 -> 28916.667 | H23: =H5 -> 55000 | J23: =J5 -> 14166.667 | K23: =K5 -> 28333.333 | L23: =L5 -> 46000 | N23: =N5 -> 0 | O23: =O5 -> 0 | P23: =P5 -> 15000
A24: Realizacja Wskaźnika Planu Sprzedaży Marża | B24: =B7 -> 19381.915 | C24: =C7 -> 36999.153 | D24: =D7 -> 52449.043 | F24: =F7 -> 15909.077 | G24: =G7 -> 23534.448 | H24: =H7 -> 33840.753 | J24: =J7 -> 15184.067 | K24: =K7 -> 22727.3 | L24: =L7 -> 36926.541 | N24: =N7 -> 0 | O24: =O7 -> 6695.2705 | P24: =P7 -> 29066.292
A25: Poziom realizacji Wskaźnika Sprzedaży Marża | B25: =B24/B23 -> 1.224121 | C25: =C24/C23 -> 1.1099746 | D25: =D24/D23 -> 1.0489809 | F25: =F24/F23 -> 1.0209034 | G25: =G24/G23 -> 0.81387142 | H25: =H24/H23 -> 0.61528641 | J25: =J24/J23 -> 1.0718165 | K25: =K24/K23 -> 0.80214002 | L25: =L24/L23 -> 0.80275089 | N25: =N24/N23 -> #DIV/0! | O25: =O24/O23 -> #DIV/0! | P25: =P24/P23 -> 1.9377528
A26: Wysokość premii Wskaźnik Sprzedaży Marża | B26: =B22*0.2 -> 560 | C26: =C22*0.2 -> 560 | D26: =D22*0.2 -> 560 | F26: =F22*0.2 -> 560 | G26: =G22*0.2 -> 560 | H26: =H22*0.2 -> 560 | J26: =J22*0.2 -> 560 | K26: =K22*0.2 -> 560 | L26: =L22*0.2 -> 560 | N26: =N22*0.2 -> 560 | O26: =O22*0.2 -> 560 | P26: =P22*0.2 -> 560
A27: Mnożnik premii miesięcznej Wskaźnika Sprzedaży Marża | B27: =IF(B25<80%,0,IF(B25<90%,0.5,IF(B25<95%,0.75,1))) -> 1 | C27: =IF(C25<80%,0,IF(C25<90%,0.5,IF(C25<95%,0.75,1))) -> 1 | D27: =IF(D25<80%,0,IF(D25<90%,0.5,IF(D25<95%,0.75,1))) -> 1 | F27: =IF(F25<80%,0,IF(F25<90%,0.5,IF(F25<95%,0.75,1))) -> 1 | G27: =IF(G25<80%,0,IF(G25<90%,0.5,IF(G25<95%,0.75,1))) -> 0.5 | H27: =IF(H25<80%,0,IF(H25<90%,0.5,IF(H25<95%,0.75,1))) -> 0 | J27: =IF(J25<80%,0,IF(J25<90%,0.5,IF(J25<95%,0.75,1))) -> 1 | K27: =IF(K25<80%,0,IF(K25<90%,0.5,IF(K25<95%,0.75,1))) -> 0.5 | L27: =IF(L25<80%,0,IF(L25<90%,0.5,IF(L25<95%,0.75,1))) -> 0.5 | N27: =IF(N25<80%,0,IF(N25<90%,0.5,IF(N25<95%,0.75,1))) -> #DIV/0! | O27: =IF(O25<80%,0,IF(O25<90%,0.5,IF(O25<95%,0.75,1))) -> #DIV/0! | P27: =IF(P25<80%,0,IF(P25<90%,0.5,IF(P25<95%,0.75,1))) -> 1
A28: Premia miesięczna za Wskaźnik Sprzedaży Marża | B28: =B27*B26 -> 560 | C28: =C27*C26 -> 560 | D28: =D27*D26 -> 560 | F28: =F27*F26 -> 560 | G28: =G27*G26 -> 280 | H28: =H27*H26 -> 0 | J28: =J27*J26 -> 560 | K28: =K27*K26 -> 280 | L28: =L27*L26 -> 280 | N28: =N27*N26 -> #DIV/0! | O28: =O27*O26 -> #DIV/0! | P28: =P27*P26 -> 560
A29: Wskaźnik Plan Sprzedaży Obrót | B29: =B12 -> 41166.667 | C29: =C12 -> 86666.667 | D29: =D12 -> 130000 | F29: =F12 -> 42500 | G29: =G12 -> 82500 | H29: =H12 -> 150000 | J29: =J12 -> 38816.667 | K29: =K12 -> 77483.333 | L29: =L12 -> 123000 | N29: =N12 -> 0 | O29: =O12 -> 0 | P29: =P12 -> 42000
A30: Realizacja Wskaźnika Planu Sprzedaży Obrót | B30: =B14 -> 56924.8 | C30: =C14 -> 102668.11 | D30: =D14 -> 145714.06 | F30: =F14 -> 44021.21 | G30: =G14 -> 67696.38 | H30: =H14 -> 100686.63 | J30: =J14 -> 44183.45 | K30: =K14 -> 62392.79 | L30: =L14 -> 99049.34 | N30: =N14 -> 0 | O30: =O14 -> 19881.29 | P30: =P14 -> 75135.66
A31: Poziom realizacji Wskaźnika Sprzedaży Obrót | B31: =B30/B29 -> 1.3827887 | C31: =C30/C29 -> 1.184632 | D31: =D30/D29 -> 1.1208774 | F31: =F30/F29 -> 1.0357932 | G31: =G30/G29 -> 0.82056218 | H31: =H30/H29 -> 0.6712442 | J31: =J30/J29 -> 1.1382598 | K31: =K30/K29 -> 0.80524143 | L31: =L30/L29 -> 0.80527919 | N31: =N30/N29 -> #DIV/0! | O31: =O30/O29 -> #DIV/0! | P31: =P30/P29 -> 1.7889443
A32: Wysokość premii Wskaźnik Sprzedaży Obrót | B32: =B22*0.2 -> 560 | C32: =C22*0.2 -> 560 | D32: =D22*0.2 -> 560 | F32: =F22*0.2 -> 560 | G32: =G22*0.2 -> 560 | H32: =H22*0.2 -> 560 | J32: =J22*0.2 -> 560 | K32: =K22*0.2 -> 560 | L32: =L22*0.2 -> 560 | N32: =N22*0.2 -> 560 | O32: =O22*0.2 -> 560 | P32: =P22*0.2 -> 560
A33: Mnożnik premii miesięcznej Wskaźnika Sprzedaży Obrót | B33: =IF(B31<80%,0,IF(B31<90%,0.5,IF(B31<95%,0.75,1))) -> 1 | C33: =IF(C31<80%,0,IF(C31<90%,0.5,IF(C31<95%,0.75,1))) -> 1 | D33: =IF(D31<80%,0,IF(D31<90%,0.5,IF(D31<95%,0.75,1))) -> 1 | F33: =IF(F31<80%,0,IF(F31<90%,0.5,IF(F31<95%,0.75,1))) -> 1 | G33: =IF(G31<80%,0,IF(G31<90%,0.5,IF(G31<95%,0.75,1))) -> 0.5 | H33: =IF(H31<80%,0,IF(H31<90%,0.5,IF(H31<95%,0.75,1))) -> 0 | J33: =IF(J31<80%,0,IF(J31<90%,0.5,IF(J31<95%,0.75,1))) -> 1 | K33: =IF(K31<80%,0,IF(K31<90%,0.5,IF(K31<95%,0.75,1))) -> 0.5 | L33: =IF(L31<80%,0,IF(L31<90%,0.5,IF(L31<95%,0.75,1))) -> 0.5 | N33: =IF(N31<80%,0,IF(N31<90%,0.5,IF(N31<95%,0.75,1))) -> #DIV/0! | O33: =IF(O31<80%,0,IF(O31<90%,0.5,IF(O31<95%,0.75,1))) -> #DIV/0! | P33: =IF(P31<80%,0,IF(P31<90%,0.5,IF(P31<95%,0.75,1))) -> 1
A34: Premia miesięczna za Wskaźnik Sprzedaży Obrót | B34: =B33*B32 -> 560 | C34: =C33*C32 -> 560 | D34: =D33*D32 -> 560 | F34: =F33*F32 -> 560 | G34: =G33*G32 -> 280 | H34: =H33*H32 -> 0 | J34: =J33*J32 -> 560 | K34: =K33*K32 -> 280 | L34: =L33*L32 -> 280 | N34: =N33*N32 -> #DIV/0! | O34: =O33*O32 -> #DIV/0! | P34: =P33*P32 -> 560
A35: Wskaźnik CRM | B35: 1 | C35: 1 | D35: 1 | F35: 1 | G35: 1 | H35: 1 | J35: 1 | K35: 1 | L35: 1 | N35: 1 | O35: 1 | P35: 1
A36: Wysokość premii CRM | B36: =B22*0.1 -> 280 | C36: =C22*0.1 -> 280 | D36: =D22*0.1 -> 280 | F36: =F22*0.1 -> 280 | G36: =G22*0.1 -> 280 | H36: =H22*0.1 -> 280 | J36: =J22*0.1 -> 280 | K36: =K22*0.1 -> 280 | L36: =L22*0.1 -> 280 | N36: =N22*0.1 -> 280 | O36: =O22*0.1 -> 280 | P36: =P22*0.1 -> 280
A37: Mnożnik premii Wskaźnik CRM | B37: 1 | C37: 1 | D37: 1 | F37: 1 | G37: 1 | H37: 1 | J37: 1 | K37: 1 | L37: 1 | P37: 1
A38: Premia miesięczna za Wskaźnik CRM | B38: =B37*B36 -> 280 | C38: =C37*C36 -> 280 | D38: =D37*D36 -> 280 | F38: =F37*F36 -> 280 | G38: =G37*G36 -> 280 | H38: =H37*H36 -> 280 | J38: =J37*J36 -> 280 | K38: =K37*K36 -> 280 | L38: =L37*L36 -> 280 | N38: =N37*N36 -> 0 | O38: =O37*O36 -> 0 | P38: =P37*P36 -> 280
A39: Suma Premii miesięcznych | B39: =B34+B28+B38 -> 1400 | C39: =C34+C28+C38 -> 1400 | D39: =D34+D28+D38 -> 1400 | F39: =F34+F28+F38 -> 1400 | G39: =G34+G28+G38 -> 840 | H39: =H34+H28+H38 -> 280 | J39: =J34+J28+J38 -> 1400 | K39: =K34+K28+K38 -> 840 | L39: =L34+L28+L38 -> 840 | N39: =N34+N28+N38 -> #DIV/0! | O39: =O34+O28+O38 -> #DIV/0! | P39: =P34+P28+P38 -> 1400
A40: Wskaźnik Premia Kwartalna Marża | B40: =D5 -> 50000 | F40: =H5 -> 55000 | J40: =L5 -> 46000 | N40: =P5 -> 15000
A41: Realizacja Wskaźnika Premia Kwartalna | B41: =D7 -> 52449.043 | F41: =H7 -> 33840.753 | J41: =L7 -> 36926.541 | N41: =P7 -> 29066.292
A42: Poziom realizacji Wskaźnika Premia Kwartalna | B42: =B41/B40 -> 1.0489809 | F42: =F41/F40 -> 0.61528641 | J42: =J41/J40 -> 0.80275089 | N42: =N41/N40 -> 1.9377528
...

Sheet BARTEK
A1: Bartłomiej Biskupski | B1: PLAN IV KW BARTŁOMIEJ BISKUPSKI | F1: PLAN III KW BARTŁOMIEJ BISKUPSKI | J1: PLAN II KW BARTŁOMIEJ BISKUPSKI | N1: PLAN I KW BARTŁOMIEJ BISKUPSKI
A2: miesiąc | B2: październik | C2: listopad | D2: grudzień | E2: KW IV | F2: lipiec | G2: sierpień | H2: wrzesień | I2: KW III | J2: kwiecień | K2: maj | L2: czerwiec | M2: KW II | N2: styczeń | O2: luty | P2: marzec | Q2: KW I | R2: suma ROK
A4: Plan Sprzedaży Marża | B4: ='Target 2017'!L7 -> 41166.667 | C4: ='Target 2017'!M7 -> 45500 | D4: ='Target 2017'!N7 -> 43333.333 | E4: =SUM(B4:D4) -> 130000 | F4: ='Target 2017'!I7 -> 36266.667 | G4: ='Target 2017'!J7-5000 -> 37666.667 | H4: ='Target 2017'!K7+5000 -> 54066.667 | I4: =SUM(F4:H4) -> 128000 | J4: ='Target 2017'!F7 -> 37683.333 | K4: ='Target 2017'!G7 -> 44333.333 | L4: ='Target 2017'!H7 -> 50983.333 | M4: =SUM(J4:L4) -> 133000 | N4: ='Target 2017'!C7 -> 40500 | O4: ='Target 2017'!D7-2000 -> 43000 | P4: ='Target 2017'!E7+2000-5000 -> 46500 | Q4: =SUM(N4:P4) -> 130000 | R4: =Q4+M4+I4+E4 -> 521000
A5: Sumaryczny Plan Sprzedaży Marża | B5: =B4 -> 41166.667 | C5: =C4+B5 -> 86666.667 | D5: =D4+C5 -> 130000 | F5: =F4 -> 36266.667 | G5: =G4+F5 -> 73933.333 | H5: =H4+G5 -> 128000 | J5: =J4 -> 37683.333 | K5: =K4+J5 -> 82016.667 | L5: =L4+K5 -> 133000 | N5: =N4 -> 40500 | O5: =O4+N5 -> 83500 | P5: =P4+O5 -> 130000
A6: Miesięczna realizacja Planu Sprzedaży Marża | B6: =SUMIF(X!A:A,$A$1,X!I:I) -> 69440.921 | C6: =SUMIF(XI!A:A,$A$1,XI!I:I) -> 72399.137 | D6: =SUMIF(XII!A:A,$A$1,XII!I:I) -> 16984.502 | E6: =SUM(B6:D6) -> 158824.56 | F6: =SUMIF(VII!A:A,$A$1,VII!I:I) -> 41012.433 | G6: =SUMIF(VIII!A:A,$A$1,VIII!I:I) -> 29789.77 | H6: =SUMIF(IX!A:A,$A$1,IX!I:I) -> 59884.602 | I6: =SUM(F6:H6) -> 130686.8 | J6: =SUMIF(IV!A:A,$A$1,IV!I:I) -> 38282.853 | K6: =SUMIF(V!A:A,$A$1,V!I:I) -> 67856.705 | L6: =SUMIF(VI!A:A,$A$1,VI!I:I) -> 40269.135 | M6: =SUM(J6:L6) -> 146408.69 | N6: =SUMIF(I!A:A,$A$1,I!I:I) -> 40074.196 | O6: =SUMIF(II!A:A,$A$1,II!I:I) -> 35367.347 | P6: =SUMIF(III!A:A,$A$1,III!I:I) -> 48756.292 | Q6: =SUM(N6:P6) -> 124197.84 | R6: =Q6+M6+I6+E6 -> 560117.89
A7: Sumaryczna realizacja planu sprzedaży Marża | B7: =B6 -> 69440.921 | C7: =C6+B7 -> 141840.06 | D7: =D6+C7 -> 158824.56 | F7: =F6 -> 41012.433 | G7: =G6+F7 -> 70802.202 | H7: =H6+G7 -> 130686.8 | J7: =J6 -> 38282.853 | K7: =K6+J7 -> 106139.56 | L7: =L6+K7 -> 146408.69 | N7: =N6 -> 40074.196 | O7: =O6+N7 -> 75441.543 | P7: =P6+O7 -> 124197.84
A8: Wysokość zrealizowania Miesięcznego Planu Sprzedaży Marża | B8: =B6/B4 -> 1.686824 | C8: =C6/C4 -> 1.5911898 | D8: =D6/D4 -> 0.39195005 | F8: =F6/F4 -> 1.1308575 | G8: =G6/G4 -> 0.79087884 | H8: =H6/H4 -> 1.1076067 | J8: =J6/J4 -> 1.0159094 | K8: =K6/K4 -> 1.5306024 | L8: =L6/L4 -> 0.789849 | N8: =N6/N4 -> 0.98948632 | O8: =O6/O4 -> 0.82249645 | P8: =P6/P4 -> 1.0485224
A9: Wysokość zrealizowania Planu Sprzedaży Marża | B9: =B7/B5 -> 1.686824 | C9: =C7/C5 -> 1.6366161 | D9: =D7/D5 -> 1.2217274 | F9: =F7/F5 -> 1.1308575 | G9: =G7/G5 -> 0.95764927 | H9: =H7/H5 -> 1.0209907 | J9: =J7/J5 -> 1.0159094 | K9: =K7/K5 -> 1.2941218 | L9: =L7/L5 -> 1.1008172 | N9: =N7/N5 -> 0.98948632 | O9: =O7/O5 -> 0.90349154 | P9: =P7/P5 -> 0.95536796
A10: Różnica wskaźnika Marża | B10: =B7-B5 -> 28274.255 | C10: =C7-C5 -> 55173.392 | D10: =D7-D5 -> 28824.561 | F10: =F7-F5 -> 4745.7662 | G10: =G7-G5 -> -3131.1309 | H10: =H7-H5 -> 2686.8043 | J10: =J7-J5 -> 599.51977 | K10: =K7-K5 -> 24122.892 | L10: =L7-L5 -> 13408.694 | N10: =N7-N5 -> -425.804 | O10: =O7-O5 -> -8058.4566 | P10: =P7-P5 -> -5802.1646
A11: Plan Sprzedaży Obrót | B11: ='Target 2017'!L17 -> 136166.67 | C11: ='Target 2017'!M17 -> 150500 | D11: ='Target 2017'!N17 -> 143333.33 | E11: =SUM(B11:D11) -> 430000 | F11: ='Target 2017'!I17 -> 113333.33 | G11: ='Target 2017'!J17 -> 133333.33 | H11: ='Target 2017'!K17 -> 153333.33 | I11: =SUM(F11:H11) -> 400000 | J11: ='Target 2017'!F17 -> 113333.33 | K11: ='Target 2017'!G17 -> 133333.33 | L11: ='Target 2017'!H17 -> 153333.33 | M11: =SUM(J11:L11) -> 400000 | N11: ='Target 2017'!C17 -> 123000 | O11: ='Target 2017'!D17-15000 -> 121666.67 | P11: ='Target 2017'!E17+15000-10000 -> 155333.33 | Q11: =SUM(N11:P11) -> 400000 | R11: =Q11+M11+I11+E11 -> 1630000
A12: Sumaryczny Plan Sprzedaży Obrót | B12: =B11 -> 136166.67 | C12: =C11+B12 -> 286666.67 | D12: =D11+C12 -> 430000 | F12: =F11 -> 113333.33 | G12: =G11+F12 -> 246666.67 | H12: =H11+G12 -> 400000 | J12: =J11 -> 113333.33 | K12: =K11+J12 -> 246666.67 | L12: =L11+K12 -> 400000 | N12: =N11 -> 123000 | O12: =O11+N12 -> 244666.67 | P12: =P11+O12 -> 400000
A13: Miesięczna realizacja Planu Sprzedaży Obrót | B13: =SUMIF(X!A:A,$A$1,X!G:G) -> 204705.79 | C13: =SUMIF(XI!A:A,$A$1,XI!G:G) -> 235575.59 | D13: =SUMIF(XII!A:A,$A$1,XII!G:G) -> 45635.68 | E13: =SUM(B13:D13) -> 485917.06 | F13: =SUMIF(VII!A:A,$A$1,VII!G:G) -> 151692.36 | G13: =SUMIF(VIII!A:A,$A$1,VIII!G:G) -> 140030.16 | H13: =SUMIF(IX!A:A,$A$1,IX!G:G) -> 224657.98 | I13: =SUM(F13:H13) -> 516380.5 | J13: =SUMIF(IV!A:A,$A$1,IV!G:G) -> 124699.24 | K13: =SUMIF(V!A:A,$A$1,V!G:G) -> 257082.76 | L13: =SUMIF(VI!A:A,$A$1,VI!G:G) -> 150759.35 | M13: =SUM(J13:L13) -> 532541.35 | N13: =SUMIF(I!A:A,$A$1,I!G:G) -> 133265.91 | O13: =SUMIF(II!A:A,$A$1,II!G:G) -> 88689.13 | P13: =SUMIF(III!A:A,$A$1,III!G:G) -> 159158.05 | Q13: =SUM(N13:P13) -> 381113.09 | R13: =Q13+M13+I13+E13 -> 1915952
A14: Sumaryczna realizacja planu sprzedaży Obrót | B14: =B13 -> 204705.79 | C14: =C13+B14 -> 440281.38 | D14: =D13+C14 -> 485917.06 | F14: =F13 -> 151692.36 | G14: =G13+F14 -> 291722.52 | H14: =H13+G14 -> 516380.5 | J14: =J13 -> 124699.24 | K14: =K13+J14 -> 381782 | L14: =L13+K14 -> 532541.35 | N14: =N13 -> 133265.91 | O14: =O13+N14 -> 221955.04 | P14: =P13+O14 -> 381113.09
A15: Wysokość zrealizowania Miesięcznego Planu Sprzedaży Obrót | B15: =B13/B11 -> 1.5033473 | C15: =C13/C11 -> 1.5652863 | D15: =D13/D11 -> 0.31838846 | F15: =F13/F11 -> 1.338462 | G15: =G13/G11 -> 1.0502262 | H15: =H13/H11 -> 1.4651607 | J15: =J13/J11 -> 1.1002874 | K15: =K13/K11 -> 1.9281207 | L15: =L13/L11 -> 0.98321315 | N15: =N13/N11 -> 1.0834627 | O15: =O13/O11 -> 0.72895175 | P15: =P13/P11 -> 1.0246226
A16: Wysokość zrealizowania Planu Sprzedaży Obrót | B16: =B14/B12 -> 1.5033473 | C16: =C14/C12 -> 1.5358653 | D16: =D14/D12 -> 1.1300397 | F16: =F14/F12 -> 1.338462 | G16: =G14/G12 -> 1.1826589 | H16: =H14/H12 -> 1.2909512 | J16: =J14/J12 -> 1.1002874 | K16: =K14/K12 -> 1.5477649 | L16: =L14/L12 -> 1.3313534 | N16: =N14/N12 -> 1.0834627 | O16: =O14/O12 -> 0.90717319 | P16: =P14/P12 -> 0.95278272
A17: Różnica wskaźnika Obrót | B17: =B14-B12 -> 68539.123 | C17: =C14-C12 -> 153614.71 | D17: =D14-D12 -> 55917.06 | F17: =F14-F12 -> 38359.027 | G17: =G14-G12 -> 45055.853 | H17: =H14-H12 -> 116380.5 | J17: =J14-J12 -> 11365.907 | K17: =K14-K12 -> 135115.33 | L17: =L14-L12 -> 132541.35 | N17: =N14-N12 -> 10265.91 | O17: =O14-O12 -> -22711.627 | P17: =P14-P12 -> -18886.91
A18: Wysokość Marży miesięcznej | B18: =B6/B13 -> 0.33922305 | C18: =C6/C13 -> 0.30732869 | D18: =D6/D13 -> 0.37217594 | F18: =F6/F13 -> 0.27036584 | G18: =G6/G13 -> 0.21273824 | H18: =H6/H13 -> 0.26655898 | J18: =J6/J13 -> 0.30700149 | K18: =K6/K13 -> 0.26394888 | L18: =L6/L13 -> 0.26710871 | N18: =N6/N13 -> 0.30070853 | O18: =O6/O13 -> 0.39877883 | P18: =P6/P13 -> 0.30633884
A19: Wysokość Marży sumarycznej | B19: =B7/B14 -> 0.33922305 | C19: =C7/C14 -> 0.32215775 | D19: =D7/D14 -> 0.32685529 | F19: =F7/F14 -> 0.27036584 | G19: =G7/G14 -> 0.24270393 | H19: =H7/H14 -> 0.25308238 | J19: =J7/J14 -> 0.30700149 | K19: =K7/K14 -> 0.2780109 | L19: =L7/L14 -> 0.27492456 | N19: =N7/N14 -> 0.30070853 | O19: =O7/O14 -> 0.33989561 | P19: =P7/P14 -> 0.32588184
N21: PREMIE
A22: Wynagrodzenie zasadnicze | B22: 3300 | C22: 3300 | D22: 3300 | F22: 3300 | G22: 3300 | H22: 3300 | J22: 3300 | K22: 3300 | L22: 3300 | N22: 2800 | O22: 3300 | P22: 3300
A23: Wskaźnik Plan Sprzedaży Marża | B23: =B5 -> 41166.667 | C23: =C5 -> 86666.667 | D23: =D5 -> 130000 | F23: =F5 -> 36266.667 | G23: =G5 -> 73933.333 | H23: =H5 -> 128000 | J23: =J5 -> 37683.333 | K23: =K5 -> 82016.667 | L23: =L5 -> 133000 | N23: =N5 -> 40500 | O23: =O5 -> 83500 | P23: =P5 -> 130000
A24: Realizacja Wskaźnika Planu Sprzedaży Marża | B24: =B7 -> 69440.921 | C24: =C7 -> 141840.06 | D24: =D7 -> 158824.56 | F24: =F7 -> 41012.433 | G24: =G7 -> 70802.202 | H24: =H7 -> 130686.8 | J24: =J7 -> 38282.853 | K24: =K7 -> 106139.56 | L24: =L7 -> 146408.69 | N24: =N7 -> 40074.196 | O24: =O7 -> 75441.543 | P24: =P7 -> 124197.84
A25: Poziom realizacji Wskaźnika Sprzedaży Marża | B25: =B24/B23 -> 1.686824 | C25: =C24/C23 -> 1.6366161 | D25: =D24/D23 -> 1.2217274 | F25: =F24/F23 -> 1.1308575 | G25: =G24/G23 -> 0.95764927 | H25: =H24/H23 -> 1.0209907 | J25: =J24/J23 -> 1.0159094 | K25: =K24/K23 -> 1.2941218 | L25: =L24/L23 -> 1.1008172 | N25: =N24/N23 -> 0.98948632 | O25: =O24/O23 -> 0.90349154 | P25: =P24/P23 -> 0.95536796
A26: Wysokość premii Wskaźnik Sprzedaży Marża | B26: =B22*0.2 -> 660 | C26: =C22*0.2 -> 660 | D26: =D22*0.2 -> 660 | F26: =F22*0.2 -> 660 | G26: =G22*0.2 -> 660 | H26: =H22*0.2 -> 660 | J26: =J22*0.2 -> 660 | K26: =K22*0.2 -> 660 | L26: =L22*0.2 -> 660 | N26: =N22*0.2 -> 560 | O26: =O22*0.2 -> 660 | P26: =P22*0.2 -> 660
A27: Mnożnik premii miesięcznej Wskaźnika Sprzedaży Marża | B27: =IF(B25<80%,0,IF(B25<90%,0.5,IF(B25<95%,0.75,1))) -> 1 | C27: =IF(C25<80%,0,IF(C25<90%,0.5,IF(C25<95%,0.75,1))) -> 1 | D27: =IF(D25<80%,0,IF(D25<90%,0.5,IF(D25<95%,0.75,1))) -> 1 | F27: =IF(F25<80%,0,IF(F25<90%,0.5,IF(F25<95%,0.75,1))) -> 1 | G27: =IF(G25<80%,0,IF(G25<90%,0.5,IF(G25<95%,0.75,1))) -> 1 | H27: =IF(H25<80%,0,IF(H25<90%,0.5,IF(H25<95%,0.75,1))) -> 1 | J27: =IF(J25<80%,0,IF(J25<90%,0.5,IF(J25<95%,0.75,1))) -> 1 | K27: =IF(K25<80%,0,IF(K25<90%,0.5,IF(K25<95%,0.75,1))) -> 1 | L27: =IF(L25<80%,0,IF(L25<90%,0.5,IF(L25<95%,0.75,1))) -> 1 | N27: =IF(N25<80%,0,IF(N25<90%,0.5,IF(N25<95%,0.75,1))) -> 1 | O27: =IF(O25<80%,0,IF(O25<90%,0.5,IF(O25<95%,0.75,1))) -> 0.75 | P27: =IF(P25<80%,0,IF(P25<90%,0.5,IF(P25<95%,0.75,1))) -> 1
A28: Premia miesięczna za Wskaźnik Sprzedaży Marża | B28: =B27*B26 -> 660 | C28: =C27*C26 -> 660 | D28: =D27*D26 -> 660 | F28: =F27*F26 -> 660 | G28: =G27*G26 -> 660 | H28: =H27*H26 -> 660 | J28: =J27*J26 -> 660 | K28: =K27*K26 -> 660 | L28: =L27*L26 -> 660 | N28: =N27*N26 -> 560 | O28: =O27*O26 -> 495 | P28: =P27*P26 -> 660
A29: Wskaźnik Plan Sprzedaży Obrót | B29: =B12 -> 136166.67 | C29: =C12 -> 286666.67 | D29: =D12 -> 430000 | F29: =F12 -> 113333.33 | G29: =G12 -> 246666.67 | H29: =H12 -> 400000 | J29: =J12 -> 113333.33 | K29: =K12 -> 246666.67 | L29: =L12 -> 400000 | N29: =N12 -> 123000 | O29: =O12 -> 244666.67 | P29: =P12 -> 400000
A30: Realizacja Wskaźnika Planu Sprzedaży Obrót | B30: =B14 -> 204705.79 | C30: =C14 -> 440281.38 | D30: =D14 -> 485917.06 | F30: =F14 -> 151692.36 | G30: =G14 -> 291722.52 | H30: =H14 -> 516380.5 | J30: =J14 -> 124699.24 | K30: =K14 -> 381782 | L30: =L14 -> 532541.35 | N30: =N14 -> 133265.91 | O30: =O14 -> 221955.04 | P30: =P14 -> 381113.09
A31: Poziom realizacji Wskaźnika Sprzedaży Obrót | B31: =B30/B29 -> 1.5033473 | C31: =C30/C29 -> 1.5358653 | D31: =D30/D29 -> 1.1300397 | F31: =F30/F29 -> 1.338462 | G31: =G30/G29 -> 1.1826589 | H31: =H30/H29 -> 1.2909512 | J31: =J30/J29 -> 1.1002874 | K31: =K30/K29 -> 1.5477649 | L31: =L30/L29 -> 1.3313534 | N31: =N30/N29 -> 1.0834627 | O31: =O30/O29 -> 0.90717319 | P31: =P30/P29 -> 0.95278272
A32: Wysokość premii Wskaźnik Sprzedaży Obrót | B32: =B22*0.2 -> 660 | C32: =C22*0.2 -> 660 | D32: =D22*0.2 -> 660 | F32: =F22*0.2 -> 660 | G32: =G22*0.2 -> 660 | H32: =H22*0.2 -> 660 | J32: =J22*0.2 -> 660 | K32: =K22*0.2 -> 660 | L32: =L22*0.2 -> 660 | N32: =N22*0.2 -> 560 | O32: =O22*0.2 -> 660 | P32: =P22*0.2 -> 660
A33: Mnożnik premii miesięcznej Wskaźnika Sprzedaży Obrót | B33: =IF(B31<80%,0,IF(B31<90%,0.5,IF(B31<95%,0.75,1))) -> 1 | C33: =IF(C31<80%,0,IF(C31<90%,0.5,IF(C31<95%,0.75,1))) -> 1 | D33: =IF(D31<80%,0,IF(D31<90%,0.5,IF(D31<95%,0.75,1))) -> 1 | F33: =IF(F31<80%,0,IF(F31<90%,0.5,IF(F31<95%,0.75,1))) -> 1 | G33: =IF(G31<80%,0,IF(G31<90%,0.5,IF(G31<95%,0.75,1))) -> 1 | H33: =IF(H31<80%,0,IF(H31<90%,0.5,IF(H31<95%,0.75,1))) -> 1 | J33: =IF(J31<80%,0,IF(J31<90%,0.5,IF(J31<95%,0.75,1))) -> 1 | K33: =IF(K31<80%,0,IF(K31<90%,0.5,IF(K31<95%,0.75,1))) -> 1 | L33: =IF(L31<80%,0,IF(L31<90%,0.5,IF(L31<95%,0.75,1))) -> 1 | N33: =IF(N31<80%,0,IF(N31<90%,0.5,IF(N31<95%,0.75,1))) -> 1 | O33: =IF(O31<80%,0,IF(O31<90%,0.5,IF(O31<95%,0.75,1))) -> 0.75 | P33: =IF(P31<80%,0,IF(P31<90%,0.5,IF(P31<95%,0.75,1))) -> 1
A34: Premia miesięczna za Wskaźnik Sprzedaży Obrót | B34: =B33*B32 -> 660 | C34: =C33*C32 -> 660 | D34: =D33*D32 -> 660 | F34: =F33*F32 -> 660 | G34: =G33*G32 -> 660 | H34: =H33*H32 -> 660 | J34: =J33*J32 -> 660 | K34: =K33*K32 -> 660 | L34: =L33*L32 -> 660 | N34: =N33*N32 -> 560 | O34: =O33*O32 -> 495 | P34: =P33*P32 -> 660
A35: Wskaźnik CRM | B35: 1 | C35: 1 | D35: 1 | F35: 1 | G35: 1 | H35: 1 | J35: 1 | K35: 1 | L35: 1 | N35: 1 | O35: 1 | P35: 1
A36: Wysokość premii CRM | B36: =B22*0.1 -> 330 | C36: =C22*0.1 -> 330 | D36: =D22*0.1 -> 330 | F36: =F22*0.1 -> 330 | G36: =G22*0.1 -> 330 | H36: =H22*0.1 -> 330 | J36: =J22*0.1 -> 330 | K36: =K22*0.1 -> 330 | L36: =L22*0.1 -> 330 | N36: =N22*0.1 -> 280 | O36: =O22*0.1 -> 330 | P36: =P22*0.1 -> 330
A37: Mnożnik premii Wskaźnik CRM | B37: 1 | C37: 1 | D37: 1 | F37: 1 | G37: 1 | H37: 1 | J37: 1 | K37: 1 | L37: 1 | N37: 1 | O37: 1 | P37: 1
A38: Premia miesięczna za Wskaźnik CRM | B38: =B37*B36 -> 330 | C38: =C37*C36 -> 330 | D38: =D37*D36 -> 330 | F38: =F37*F36 -> 330 | G38: =G37*G36 -> 330 | H38: =H37*H36 -> 330 | J38: =J37*J36 -> 330 | K38: =K37*K36 -> 330 | L38: =L37*L36 -> 330 | N38: =N37*N36 -> 280 | O38: =O37*O36 -> 330 | P38: =P37*P36 -> 330
A39: Suma Premii miesięcznych | B39: =B34+B28+B38 -> 1650 | C39: =C34+C28+C38 -> 1650 | D39: =D34+D28+D38 -> 1650 | F39: =F34+F28+F38 -> 1650 | G39: =G34+G28+G38 -> 1650 | H39: =H34+H28+H38 -> 1650 | J39: =J34+J28+J38 -> 1650 | K39: =K34+K28+K38 -> 1650 | L39: =L34+L28+L38 -> 1650 | N39: =N34+N28+N38 -> 1400 | O39: =O34+O28+O38 -> 1320 | P39: =P34+P28+P38 -> 1650
A40: Wskaźnik Premia Kwartalna Marża | B40: =D5 -> 130000 | F40: =H5 -> 128000 | J40: =L5 -> 133000 | N40: =P5 -> 130000
A41: Realizacja Wskaźnika Premia Kwartalna | B41: =D7 -> 158824.56 | F41: =H7 -> 130686.8 | J41: =L7 -> 146408.69 | N41: =P7 -> 124197.84
A42: Poziom realizacji Wskaźnika Premia Kwartalna | B42: =B41/B40 -> 1.2217274 | F42: =F41/F40 -> 1.0209907 | J42: =J41/J40 -> 1.1008172 | N42: =N41/N40 -> 0.95536796
...

Sheet PIOTR
A1: Piotr Choma | B1: PLAN IV KW Piotr Choma | F1: PLAN III KW Piotr Choma | J1: PLAN II KW Piotr Choma | N1: PLAN I KW Piotr Choma
A2: miesiąc | B2: październik | C2: listopad | D2: grudzień | E2: KW IV | F2: lipiec | G2: sierpień | H2: wrzesień | I2: KW III | J2: kwiecień | K2: maj | L2: czerwiec | M2: KW II | N2: styczeń | O2: luty | P2: marzec | Q2: KW I | R2: suma ROK
A4: Plan Sprzedaży Marża | B4: ='Target 2017'!L8 -> 63333.333 | C4: ='Target 2017'!M8 -> 70000 | D4: ='Target 2017'!N8 -> 66666.667 | E4: =SUM(B4:D4) -> 200000 | F4: ='Target 2017'!I8 -> 51000 | G4: ='Target 2017'!J8 -> 60000 | H4: ='Target 2017'!K8 -> 69000 | I4: =SUM(F4:H4) -> 180000 | J4: ='Target 2017'!F8 -> 56666.667 | K4: ='Target 2017'!G8-4000 -> 62666.667 | L4: ='Target 2017'!H8+4000-7000 -> 73666.667 | M4: =SUM(J4:L4) -> 193000 | N4: ='Target 2017'!C8 -> 61500 | O4: ='Target 2017'!D8 -> 68333.333 | P4: ='Target 2017'!E8-5000 -> 70166.667 | Q4: =SUM(N4:P4) -> 200000 | R4: =Q4+M4+I4+E4 -> 773000
A5: Sumaryczny Plan Sprzedaży Marża | B5: =B4 -> 63333.333 | C5: =C4+B5 -> 133333.33 | D5: =D4+C5 -> 200000 | F5: =F4 -> 51000 | G5: =G4+F5 -> 111000 | H5: =H4+G5 -> 180000 | J5: =J4 -> 56666.667 | K5: =K4+J5 -> 119333.33 | L5: =L4+K5 -> 193000 | N5: =N4 -> 61500 | O5: =O4+N5 -> 129833.33 | P5: =P4+O5 -> 200000
A6: Miesięczna realizacja Planu Sprzedaży Marża | B6: =SUMIF(X!A:A,$A$1,X!I:I) -> 83452.024 | C6: =SUMIF(XI!A:A,$A$1,XI!I:I) -> 58735.381 | D6: =SUMIF(XII!A:A,$A$1,XII!I:I) -> 54223.984 | E6: =SUM(B6:D6) -> 196411.39 | F6: =SUMIF(VII!A:A,$A$1,VII!I:I) -> 55710.494 | G6: =SUMIF(VIII!A:A,$A$1,VIII!I:I) -> 50242.033 | H6: =SUMIF(IX!A:A,$A$1,IX!I:I) -> 58946.687 | I6: =SUM(F6:H6) -> 164899.21 | J6: =SUMIF(IV!A:A,$A$1,IV!I:I) -> 61702.303 | K6: =SUMIF(V!A:A,$A$1,V!I:I) -> 46546.401 | L6: =SUMIF(VI!A:A,$A$1,VI!I:I) -> 46739.086 | M6: =SUM(J6:L6) -> 154987.79 | N6: =SUMIF(I!A:A,$A$1,I!I:I) -> 73844.613 | O6: =SUMIF(II!A:A,$A$1,II!I:I) -> 54888.69 | P6: =SUMIF(III!A:A,$A$1,III!I:I) -> 71709.633 | Q6: =SUM(N6:P6) -> 200442.94 | R6: =Q6+M6+I6+E6 -> 716741.33
A7: Sumaryczna realizacja planu sprzedaży Marża | B7: =B6 -> 83452.024 | C7: =C6+B7 -> 142187.41 | D7: =D6+C7 -> 196411.39 | F7: =F6 -> 55710.494 | G7: =G6+F7 -> 105952.53 | H7: =H6+G7 -> 164899.21 | J7: =J6 -> 61702.303 | K7: =K6+J7 -> 108248.7 | L7: =L6+K7 -> 154987.79 | N7: =N6 -> 73844.613 | O7: =O6+N7 -> 128733.3 | P7: =P6+O7 -> 200442.94
A8: Wysokość zrealizowania Miesięcznego Planu Sprzedaży Marża | B8: =B6/B4 -> 1.3176635 | C8: =C6/C4 -> 0.83907687 | D8: =D6/D4 -> 0.81335977 | F8: =F6/F4 -> 1.0923626 | G8: =G6/G4 -> 0.83736722 | H8: =H6/H4 -> 0.85429981 | J8: =J6/J4 -> 1.0888642 | K8: =K6/K4 -> 0.74276171 | L8: =L6/L4 -> 0.63446723 | N8: =N6/N4 -> 1.2007254 | O8: =O6/O4 -> 0.80324913 | P8: =P6/P4 -> 1.02199
A9: Wysokość zrealizowania Planu Sprzedaży Marża | B9: =B7/B5 -> 1.3176635 | C9: =C7/C5 -> 1.0664055 | D9: =D7/D5 -> 0.98205695 | F9: =F7/F5 -> 1.0923626 | G9: =G7/G5 -> 0.95452727 | H9: =H7/H5 -> 0.91610675 | J9: =J7/J5 -> 1.0888642 | K9: =K7/K5 -> 0.90711204 | L9: =L7/L5 -> 0.80304554 | N9: =N7/N5 -> 1.2007254 | O9: =O7/O5 -> 0.99152737 | P9: =P7/P5 -> 1.0022147
A10: Różnica wskaźnika Marża | B10: =B7-B5 -> 20118.691 | C10: =C7-C5 -> 8854.0722 | D10: =D7-D5 -> -3588.6101 | F10: =F7-F5 -> 4710.494 | G10: =G7-G5 -> -5047.4727 | H10: =H7-H5 -> -15100.786 | J10: =J7-J5 -> 5035.6361 | K10: =K7-K5 -> -11084.63 | L10: =L7-L5 -> -38012.211 | N10: =N7-N5 -> 12344.613 | O10: =O7-O5 -> -1100.0297 | P10: =P7-P5 -> 442.9367
A11: Plan Sprzedaży Obrót | B11: ='Target 2017'!L18 -> 221666.67 | C11: ='Target 2017'!M18 -> 245000 | D11: ='Target 2017'!N18 -> 233333.33 | E11: =SUM(B11:D11) -> 700000 | F11: ='Target 2017'!I18 -> 187000 | G11: ='Target 2017'!J18-5000 -> 215000 | H11: ='Target 2017'!K18+5000 -> 258000 | I11: =SUM(F11:H11) -> 660000 | J11: ='Target 2017'!F18 -> 185866.67 | K11: ='Target 2017'!G18 -> 218666.67 | L11: ='Target 2017'!H18 -> 251466.67 | M11: =SUM(J11:L11) -> 656000 | N11: ='Target 2017'!C18 -> 201000 | O11: ='Target 2017'!D18 -> 223333.33 | P11: ='Target 2017'!E18 -> 245666.67 | Q11: =SUM(N11:P11) -> 670000 | R11: =Q11+M11+I11+E11 -> 2686000
A12: Sumaryczny Plan Sprzedaży Obrót | B12: =B11 -> 221666.67 | C12: =C11+B12 -> 466666.67 | D12: =D11+C12 -> 700000 | F12: =F11 -> 187000 | G12: =G11+F12 -> 402000 | H12: =H11+G12 -> 660000 | J12: =J11 -> 185866.67 | K12: =K11+J12 -> 404533.33 | L12: =L11+K12 -> 656000 | N12: =N11 -> 201000 | O12: =O11+N12 -> 424333.33 | P12: =P11+O12 -> 670000
A13: Miesięczna realizacja Planu Sprzedaży Obrót | B13: =SUMIF(X!A:A,$A$1,X!G:G) -> 254079.93 | C13: =SUMIF(XI!A:A,$A$1,XI!G:G) -> 208919.28 | D13: =SUMIF(XII!A:A,$A$1,XII!G:G) -> 237261.31 | E13: =SUM(B13:D13) -> 700260.52 | F13: =SUMIF(VII!A:A,$A$1,VII!G:G) -> 222184.33 | G13: =SUMIF(VIII!A:A,$A$1,VIII!G:G) -> 161063.05 | H13: =SUMIF(IX!A:A,$A$1,IX!G:G) -> 193439.03 | I13: =SUM(F13:H13) -> 576686.41 | J13: =SUMIF(IV!A:A,$A$1,IV!G:G) -> 218004.05 | K13: =SUMIF(V!A:A,$A$1,V!G:G) -> 179012.98 | L13: =SUMIF(VI!A:A,$A$1,VI!G:G) -> 168018.47 | M13: =SUM(J13:L13) -> 565035.5 | N13: =SUMIF(I!A:A,$A$1,I!G:G) -> 238698.05 | O13: =SUMIF(II!A:A,$A$1,II!G:G) -> 199550.58 | P13: =SUMIF(III!A:A,$A$1,III!G:G) -> 251532.77 | Q13: =SUM(N13:P13) -> 689781.4 | R13: =Q13+M13+I13+E13 -> 2531763.8
A14: Sumaryczna realizacja planu sprzedaży Obrót | B14: =B13 -> 254079.93 | C14: =C13+B14 -> 462999.21 | D14: =D13+C14 -> 700260.52 | F14: =F13 -> 222184.33 | G14: =G13+F14 -> 383247.38 | H14: =H13+G14 -> 576686.41 | J14: =J13 -> 218004.05 | K14: =K13+J14 -> 397017.03 | L14: =L13+K14 -> 565035.5 | N14: =N13 -> 238698.05 | O14: =O13+N14 -> 438248.63 | P14: =P13+O14 -> 689781.4
A15: Wysokość zrealizowania Miesięcznego Planu Sprzedaży Obrót | B15: =B13/B11 -> 1.1462252 | C15: =C13/C11 -> 0.85273176 | D15: =D13/D11 -> 1.0168342 | F15: =F13/F11 -> 1.1881515 | G15: =G13/G11 -> 0.74913047 | H15: =H13/H11 -> 0.74976368 | J15: =J13/J11 -> 1.1729056 | K15: =K13/K11 -> 0.81865692 | L15: =L13/L11 -> 0.66815404 | N15: =N13/N11 -> 1.1875525 | O15: =O13/O11 -> 0.89351006 | P15: =P13/P11 -> 1.0238783
A16: Wysokość zrealizowania Planu Sprzedaży Obrót | B16: =B14/B12 -> 1.1462252 | C16: =C14/C12 -> 0.99214116 | D16: =D14/D12 -> 1.0003722 | F16: =F14/F12 -> 1.1881515 | G16: =G14/G12 -> 0.95335169 | H16: =H14/H12 -> 0.87376729 | J16: =J14/J12 -> 1.1729056 | K16: =K14/K12 -> 0.98141982 | L16: =L14/L12 -> 0.8613346 | N16: =N14/N12 -> 1.1875525 | O16: =O14/O12 -> 1.0327933 | P16: =P14/P12 -> 1.0295245
A17: Różnica wskaźnika Obrót | B17: =B14-B12 -> 32413.263 | C17: =C14-C12 -> -3667.4567 | D17: =D14-D12 -> 260.5225 | F17: =F14-F12 -> 35184.33 | G17: =G14-G12 -> -18752.62 | H17: =H14-H12 -> -83313.59 | J17: =J14-J12 -> 32137.383 | K17: =K14-K12 -> -7516.3033 | L17: =L14-L12 -> -90964.5 | N17: =N14-N12 -> 37698.05 | O17: =O14-O12 -> 13915.297 | P17: =P14-P12 -> 19781.4
