Workbook

Sheet 2018
A1: Nazwa | B1: Netto | C1: Zysk | D1: Marża
A2: SPLAST | B2: 369897.41 | C2: 79268.321 | D2: 21.4298 | E2: =IF(COUNTIF('Wzrost 2017 2018'!A:A,A2)=1,"OK","brak w bazie") -> OK
A3: EXPRAN | B3: 333652.88 | C3: 64762.531 | D3: 19.4101 | E3: =IF(COUNTIF('Wzrost 2017 2018'!A:A,A3)=1,"OK","brak w bazie") -> OK
A4: ROYALCAN2 | B4: 242535.22 | C4: 111629.77 | D4: 46.0262 | E4: =IF(COUNTIF('Wzrost 2017 2018'!A:A,A4)=1,"OK","brak w bazie") -> OK
A5: HUSQVARNA | B5: 225691.84 | C5: 98568.538 | D5: 43.6739 | E5: =IF(COUNTIF('Wzrost 2017 2018'!A:A,A5)=1,"OK","brak w bazie") -> OK
A6: WAY2WEB | B6: 201933.88 | C6: 47653.94 | D6: 23.5987 | E6: =IF(COUNTIF('Wzrost 2017 2018'!A:A,A6)=1,"OK","brak w bazie") -> OK
A7: ARCELOR | B7: 178683 | C7: 54319.81 | D7: 30.4 | E7: =IF(COUNTIF('Wzrost 2017 2018'!A:A,A7)=1,"OK","brak w bazie") -> OK
A8: BRUKBET | B8: 173611.64 | C8: 33040.314 | D8: 19.0311 | E8: =IF(COUNTIF('Wzrost 2017 2018'!A:A,A8)=1,"OK","brak w bazie") -> OK
A9: U JEDRUSI2 | B9: 143507.58 | C9: 34371.3 | D9: 23.9508 | E9: =IF(COUNTIF('Wzrost 2017 2018'!A:A,A9)=1,"OK","brak w bazie") -> OK
A10: OLIMPLABOR | B10: 143438 | C10: 14999 | D10: 10.4567 | E10: =IF(COUNTIF('Wzrost 2017 2018'!A:A,A10)=1,"OK","brak w bazie") -> OK
A11: DRUMET | B11: 120282.62 | C11: 27499.989 | D11: 22.8628 | E11: =IF(COUNTIF('Wzrost 2017 2018'!A:A,A11)=1,"OK","brak w bazie") -> OK
A12: TECH | B12: 117257.97 | C12: 48110.696 | D12: 41.0297 | E12: =IF(COUNTIF('Wzrost 2017 2018'!A:A,A12)=1,"OK","brak w bazie") -> OK
A13: MĄCZKA | B13: 117117.31 | C13: 28960.071 | D13: 24.7274 | E13: =IF(COUNTIF('Wzrost 2017 2018'!A:A,A13)=1,"OK","brak w bazie") -> OK
... A739: LOMI2 | B739: 585.97 | C739: 349.65 | D739: 59.6702 | E739: =IF(COUNTIF('Wzrost 2017 2018'!A:A,A739)=1,"OK","brak w bazie") -> OK

Sheet 2018 BEZ CLP
A1: Nazwa | B1: Netto | C1: Zysk | D1: Marża
A2: SPLAST | B2: 369897.41 | C2: 79268.321 | D2: 21.4298 | E2: =IF(COUNTIF('Wzrost 2017 2018'!A:A,A2)=1,"OK","brak w bazie") -> OK
A3: EXPRAN | B3: 304072.49 | C3: 59798.651 | D3: 19.6659 | E3: =IF(COUNTIF('Wzrost 2017 2018'!A:A,A3)=1,"OK","brak w bazie") -> OK
A4: ROYALCAN2 | B4: 242535.22 | C4: 111629.77 | D4: 46.0262 | E4: =IF(COUNTIF('Wzrost 2017 2018'!A:A,A4)=1,"OK","brak w bazie") -> OK
A5: HUSQVARNA | B5: 225691.84 | C5: 98568.538 | D5: 43.6739 | E5: =IF(COUNTIF('Wzrost 2017 2018'!A:A,A5)=1,"OK","brak w bazie") -> OK
A6: WAY2WEB | B6: 194295.12 | C6: 43876.85 | D6: 22.5825 | E6: =IF(COUNTIF('Wzrost 2017 2018'!A:A,A6)=1,"OK","brak w bazie") -> OK
A7: ARCELOR | B7: 177378 | C7: 53961.1 | D7: 30.4215 | E7: =IF(COUNTIF('Wzrost 2017 2018'!A:A,A7)=1,"OK","brak w bazie") -> OK
A8: BRUKBET | B8: 153959.61 | C8: 32250.664 | D8: 20.9474 | E8: =IF(COUNTIF('Wzrost 2017 2018'!A:A,A8)=1,"OK","brak w bazie") -> OK
A9: U JEDRUSI2 | B9: 143507.58 | C9: 34371.3 | D9: 23.9508 | E9: =IF(COUNTIF('Wzrost 2017 2018'!A:A,A9)=1,"OK","brak w bazie") -> OK
A10: DRUMET | B10: 120282.62 | C10: 27499.989 | D10: 22.8628 | E10: =IF(COUNTIF('Wzrost 2017 2018'!A:A,A10)=1,"OK","brak w bazie") -> OK
A11: MĄCZKA | B11: 117117.31 | C11: 28960.071 | D11: 24.7274 | E11: =IF(COUNTIF('Wzrost 2017 2018'!A:A,A11)=1,"OK","brak w bazie") -> OK
A12: TECH | B12: 108579.77 | C12: 47245.116 | D12: 43.5118 | E12: =IF(COUNTIF('Wzrost 2017 2018'!A:A,A12)=1,"OK","brak w bazie") -> OK
A13: RCKIK SZCZ | B13: 100079.5 | C13: 63384.66 | D13: 63.3343 | E13: =IF(COUNTIF('Wzrost 2017 2018'!A:A,A13)=1,"OK","brak w bazie") -> OK
... A708: AWEX | B708: 0 | C708: 0 | D708: 0 | E708: =IF(COUNTIF('Wzrost 2017 2018'!A:A,A708)=1,"OK","brak w bazie") -> OK

Sheet 2017
A1: Nazwa | B1: Netto | C1: Zysk | D1: Marża
A2: SPLAST | B2: 373445.3 | C2: 78933.604 | D2: 21.1365 | E2: =IF(COUNTIF('Wzrost 2017 2018'!A:A,A2)=1,"OK","brak w bazie") -> OK
A3: HUSQVARNA | B3: 258220.41 | C3: 114991.84 | D3: 44.5324 | E3: =IF(COUNTIF('Wzrost 2017 2018'!A:A,A3)=1,"OK","brak w bazie") -> OK
A4: WAY2WEB | B4: 220991.59 | C4: 56535.771 | D4: 25.5827 | E4: =IF(COUNTIF('Wzrost 2017 2018'!A:A,A4)=1,"OK","brak w bazie") -> OK
A5: EXPRAN | B5: 214589.58 | C5: 35600.645 | D5: 16.5901 | E5: =IF(COUNTIF('Wzrost 2017 2018'!A:A,A5)=1,"OK","brak w bazie") -> OK
A6: U JEDRUSI2 | B6: 154010.41 | C6: 37866.44 | D6: 24.5869 | E6: =IF(COUNTIF('Wzrost 2017 2018'!A:A,A6)=1,"OK","brak w bazie") -> OK
A7: ARCELOR | B7: 146213.08 | C7: 51003.41 | D7: 34.8829 | E7: =IF(COUNTIF('Wzrost 2017 2018'!A:A,A7)=1,"OK","brak w bazie") -> OK
A8: DRUMET | B8: 141696.06 | C8: 31028.999 | D8: 21.8982 | E8: =IF(COUNTIF('Wzrost 2017 2018'!A:A,A8)=1,"OK","brak w bazie") -> OK
A9: TECH | B9: 117319.74 | C9: 51967.164 | D9: 44.2953 | E9: =IF(COUNTIF('Wzrost 2017 2018'!A:A,A9)=1,"OK","brak w bazie") -> OK
A10: BRUKBET | B10: 108686.3 | C10: 19299.029 | D10: 17.7566 | E10: =IF(COUNTIF('Wzrost 2017 2018'!A:A,A10)=1,"OK","brak w bazie") -> OK
A11: RCKIK BYDG | B11: 108643.46 | C11: 48122.533 | D11: 44.2939 | E11: =IF(COUNTIF('Wzrost 2017 2018'!A:A,A11)=1,"OK","brak w bazie") -> OK
A12: TEVA | B12: 104646.86 | C12: 28000.325 | D12: 26.7569 | E12: =IF(COUNTIF('Wzrost 2017 2018'!A:A,A12)=1,"OK","brak w bazie") -> OK
A13: MĄCZKA | B13: 98827.83 | C13: 23317.258 | D13: 23.5938 | E13: =IF(COUNTIF('Wzrost 2017 2018'!A:A,A13)=1,"OK","brak w bazie") -> OK
... A750: MULARSKI2 | B750: 0 | C750: 0 | D750: 0 | E750: =IF(COUNTIF('Wzrost 2017 2018'!A:A,A750)=1,"OK","brak w bazie") -> OK

Sheet 2017 BEZ CLP
A1: Nazwa | B1: Netto | C1: Zysk | D1: Marża
A2: SPLAST | B2: 373445.3 | C2: 78933.604 | D2: 21.1365 | E2: =IF(COUNTIF('Wzrost 2017 2018'!A:A,A2)=1,"OK","brak w bazie") -> OK
A3: HUSQVARNA | B3: 258220.41 | C3: 114991.84 | D3: 44.5324 | E3: =IF(COUNTIF('Wzrost 2017 2018'!A:A,A3)=1,"OK","brak w bazie") -> OK
A4: WAY2WEB | B4: 220991.59 | C4: 56535.771 | D4: 25.5827 | E4: =IF(COUNTIF('Wzrost 2017 2018'!A:A,A4)=1,"OK","brak w bazie") -> OK
A5: EXPRAN | B5: 214589.58 | C5: 35600.645 | D5: 16.5901 | E5: =IF(COUNTIF('Wzrost 2017 2018'!A:A,A5)=1,"OK","brak w bazie") -> OK
A6: U JEDRUSI2 | B6: 154010.41 | C6: 37866.44 | D6: 24.5869 | E6: =IF(COUNTIF('Wzrost 2017 2018'!A:A,A6)=1,"OK","brak w bazie") -> OK
A7: ARCELOR | B7: 146213.08 | C7: 51003.41 | D7: 34.8829 | E7: =IF(COUNTIF('Wzrost 2017 2018'!A:A,A7)=1,"OK","brak w bazie") -> OK
A8: DRUMET | B8: 141696.06 | C8: 31028.999 | D8: 21.8982 | E8: =IF(COUNTIF('Wzrost 2017 2018'!A:A,A8)=1,"OK","brak w bazie") -> OK
A9: TECH | B9: 113601.52 | C9: 51628.144 | D9: 45.4467 | E9: =IF(COUNTIF('Wzrost 2017 2018'!A:A,A9)=1,"OK","brak w bazie") -> OK
A10: BRUKBET | B10: 108686.3 | C10: 19299.029 | D10: 17.7566 | E10: =IF(COUNTIF('Wzrost 2017 2018'!A:A,A10)=1,"OK","brak w bazie") -> OK
A11: TEVA | B11: 101727.54 | C11: 27531.035 | D11: 27.0635 | E11: =IF(COUNTIF('Wzrost 2017 2018'!A:A,A11)=1,"OK","brak w bazie") -> OK
A12: MĄCZKA | B12: 98827.83 | C12: 23317.258 | D12: 23.5938 | E12: =IF(COUNTIF('Wzrost 2017 2018'!A:A,A12)=1,"OK","brak w bazie") -> OK
A13: DUBIELVIT2 | B13: 89186.67 | C13: 18207.833 | D13: 20.4154 | E13: =IF(COUNTIF('Wzrost 2017 2018'!A:A,A13)=1,"OK","brak w bazie") -> OK
... A734: BODNAR | B734: -298.15 | C734: -156.27 | D734: -52.4132 | E734: =IF(COUNTIF('Wzrost 2017 2018'!A:A,A734)=1,"OK","brak w bazie") -> OK

Sheet Wzrost 2017 2018
A1: ADRIANNO | B1: Tomasz Sypień; | C1: =SUMIF('2017'!A:A,A1,'2017'!B:B) -> 2915 | D1: =SUMIF('2017'!A:A,A1,'2017'!C:C) -> 581.41 | E1: =D1/C1 -> 0.19945455 | F1: =SUMIF('2018'!A:A,A1,'2018'!B:B) -> 0 | G1: =SUMIF('2018'!A:A,A1,'2018'!C:C) -> 0 | H1: =G1/F1 -> #DIV/0! | I1: =F1/C1-1 -> -1 | J1: =G1/D1-1 -> -1
A2: AG | B2: Tomasz Sypień; | C2: =SUMIF('2017'!A:A,A2,'2017'!B:B) -> 8644.27 | D2: =SUMIF('2017'!A:A,A2,'2017'!C:C) -> 5701.9205 | E2: =D2/C2 -> 0.65961851 | F2: =SUMIF('2018'!A:A,A2,'2018'!B:B) -> 6991.21 | G2: =SUMIF('2018'!A:A,A2,'2018'!C:C) -> 4136.09 | H2: =G2/F2 -> 0.5916129 | I2: =F2/C2-1 -> -0.19123188 | J2: =G2/D2-1 -> -0.27461458
A3: BANERASTYL | B3: Tomasz Sypień; | C3: =SUMIF('2017'!A:A,A3,'2017'!B:B) -> 4941.6 | D3: =SUMIF('2017'!A:A,A3,'2017'!C:C) -> 1656.25 | E3: =D3/C3 -> 0.33516472 | F3: =SUMIF('2018'!A:A,A3,'2018'!B:B) -> 5262.01 | G3: =SUMIF('2018'!A:A,A3,'2018'!C:C) -> 2005.83 | H3: =G3/F3 -> 0.38119084 | I3: =F3/C3-1 -> 0.064839323 | J3: =G3/D3-1 -> 0.21106717
A4: ASKO | B4: Tomasz Sypień; | C4: =SUMIF('2017'!A:A,A4,'2017'!B:B) -> 1568.4 | D4: =SUMIF('2017'!A:A,A4,'2017'!C:C) -> 493.28 | E4: =D4/C4 -> 0.3145116 | F4: =SUMIF('2018'!A:A,A4,'2018'!B:B) -> 953.46 | G4: =SUMIF('2018'!A:A,A4,'2018'!C:C) -> 307.06 | H4: =G4/F4 -> 0.32204812 | I4: =F4/C4-1 -> -0.3920811 | J4: =G4/D4-1 -> -0.37751379
A5: ZAKŁADOPTY | B5: Tomasz Sypień; | C5: =SUMIF('2017'!A:A,A5,'2017'!B:B) -> 0 | D5: =SUMIF('2017'!A:A,A5,'2017'!C:C) -> 0 | E5: =D5/C5 -> #DIV/0! | F5: =SUMIF('2018'!A:A,A5,'2018'!B:B) -> 193.02 | G5: =SUMIF('2018'!A:A,A5,'2018'!C:C) -> 96.54 | H5: =G5/F5 -> 0.50015542 | I5: =F5/C5-1 -> #DIV/0! | J5: =G5/D5-1 -> #DIV/0!
A6: EBATABIS | B6: Tomasz Sypień; | C6: =SUMIF('2017'!A:A,A6,'2017'!B:B) -> 3010.2 | D6: =SUMIF('2017'!A:A,A6,'2017'!C:C) -> 1385.985 | E6: =D6/C6 -> 0.46042954 | F6: =SUMIF('2018'!A:A,A6,'2018'!B:B) -> 1056.97 | G6: =SUMIF('2018'!A:A,A6,'2018'!C:C) -> 490.29 | H6: =G6/F6 -> 0.46386369 | I6: =F6/C6-1 -> -0.64887051 | J6: =G6/D6-1 -> -0.64625158
A7: WESSLING | B7: Tomasz Sypień; | C7: =SUMIF('2017'!A:A,A7,'2017'!B:B) -> 570.03 | D7: =SUMIF('2017'!A:A,A7,'2017'!C:C) -> 259.21 | E7: =D7/C7 -> 0.45473045 | F7: =SUMIF('2018'!A:A,A7,'2018'!B:B) -> 935.03 | G7: =SUMIF('2018'!A:A,A7,'2018'!C:C) -> 371.912 | H7: =G7/F7 -> 0.39775408 | I7: =F7/C7-1 -> 0.64031718 | J7: =G7/D7-1 -> 0.43479032
A8: ECELEMENTS | B8: Tomasz Sypień; | C8: =SUMIF('2017'!A:A,A8,'2017'!B:B) -> 627.86 | D8: =SUMIF('2017'!A:A,A8,'2017'!C:C) -> 388.05 | E8: =D8/C8 -> 0.61805179 | F8: =SUMIF('2018'!A:A,A8,'2018'!B:B) -> 374.91 | G8: =SUMIF('2018'!A:A,A8,'2018'!C:C) -> 234.905 | H8: =G8/F8 -> 0.62656371 | I8: =F8/C8-1 -> -0.40287644 | J8: =G8/D8-1 -> -0.39465275
A9: GANAR | B9: Tomasz Sypień; | C9: =SUMIF('2017'!A:A,A9,'2017'!B:B) -> 104.85 | D9: =SUMIF('2017'!A:A,A9,'2017'!C:C) -> 64.483 | E9: =D9/C9 -> 0.61500238 | F9: =SUMIF('2018'!A:A,A9,'2018'!B:B) -> 273.04 | G9: =SUMIF('2018'!A:A,A9,'2018'!C:C) -> 172.08 | H9: =G9/F9 -> 0.63023733 | I9: =F9/C9-1 -> 1.6041011 | J9: =G9/D9-1 -> 1.6686103
A10: GÓRAL | B10: Tomasz Sypień; | C10: =SUMIF('2017'!A:A,A10,'2017'!B:B) -> 7529.6 | D10: =SUMIF('2017'!A:A,A10,'2017'!C:C) -> 2726.23 | E10: =D10/C10 -> 0.36206837 | F10: =SUMIF('2018'!A:A,A10,'2018'!B:B) -> 0 | G10: =SUMIF('2018'!A:A,A10,'2018'!C:C) -> 0 | H10: =G10/F10 -> #DIV/0! | I10: =F10/C10-1 -> -1 | J10: =G10/D10-1 -> -1
A11: HIT | B11: Tomasz Sypień; | C11: =SUMIF('2017'!A:A,A11,'2017'!B:B) -> 0 | D11: =SUMIF('2017'!A:A,A11,'2017'!C:C) -> 0 | E11: =D11/C11 -> #DIV/0! | F11: =SUMIF('2018'!A:A,A11,'2018'!B:B) -> 0 | G11: =SUMIF('2018'!A:A,A11,'2018'!C:C) -> 0 | H11: =G11/F11 -> #DIV/0! | I11: =F11/C11-1 -> #DIV/0! | J11: =G11/D11-1 -> #DIV/0!
A12: JANUS | B12: Tomasz Sypień; | C12: =SUMIF('2017'!A:A,A12,'2017'!B:B) -> 74.08 | D12: =SUMIF('2017'!A:A,A12,'2017'!C:C) -> 44.96 | E12: =D12/C12 -> 0.60691145 | F12: =SUMIF('2018'!A:A,A12,'2018'!B:B) -> 265.93 | G12: =SUMIF('2018'!A:A,A12,'2018'!C:C) -> 138.35 | H12: =G12/F12 -> 0.52024969 | I12: =F12/C12-1 -> 2.5897678 | J12: =G12/D12-1 -> 2.0771797
... A193: UKSKATOWIC | B193: Tomasz Sypień; | C193: =SUMIF('2017'!A:A,A193,'2017'!B:B) -> 3084 | D193: =SUMIF('2017'!A:A,A193,'2017'!C:C) -> 952.62 | E193: =D193/C193 -> 0.30889105 | F193: =SUMIF('2018'!A:A,A193,'2018'!B:B) -> 0 | G193: =SUMIF('2018'!A:A,A193,'2018'!C:C) -> 0 | H193: =G193/F193 -> #DIV/0! | I193: =F193/C193-1 -> -1 | J193: =G193/D193-1 -> -1
A194: MIPROMET2 | B194: Tomasz Sypień;
A195: UMRUDASLAS | B195: Tomasz Sypień; | C195: =SUMIF('2017'!A:A,A195,'2017'!B:B) -> 0 | D195: =SUMIF('2017'!A:A,A195,'2017'!C:C) -> 0 | E195: =D195/C195 -> #DIV/0! | F195: =SUMIF('2018'!A:A,A195,'2018'!B:B) -> 1507.8 | G195: =SUMIF('2018'!A:A,A195,'2018'!C:C) -> 766.04 | H195: =G195/F195 -> 0.50805147 | I195: =F195/C195-1 -> #DIV/0! | J195: =G195/D195-1 -> #DIV/0!
A196: ZAMEL | B196: Tomasz Sypień; | C196: =SUMIF('2017'!A:A,A196,'2017'!B:B) -> 0 | D196: =SUMIF('2017'!A:A,A196,'2017'!C:C) -> 0 | E196: =D196/C196 -> #DIV/0! | F196: =SUMIF('2018'!A:A,A196,'2018'!B:B) -> 6248.39 | G196: =SUMIF('2018'!A:A,A196,'2018'!C:C) -> 1614.23 | H196: =G196/F196 -> 0.25834335 | I196: =F196/C196-1 -> #DIV/0! | J196: =G196/D196-1 -> #DIV/0!
A197: ALUBRASS2 | B197: Tomasz Sypień; | C197: =SUMIF('2017'!A:A,A197,'2017'!B:B) -> 137.89 | D197: =SUMIF('2017'!A:A,A197,'2017'!C:C) -> 87.256 | E197: =D197/C197 -> 0.63279426 | F197: =SUMIF('2018'!A:A,A197,'2018'!B:B) -> 0 | G197: =SUMIF('2018'!A:A,A197,'2018'!C:C) -> 0 | H197: =G197/F197 -> #DIV/0! | I197: =F197/C197-1 -> -1 | J197: =G197/D197-1 -> -1
A198: AUTOELEKTR2 | B198: Tomasz Sypień; | C198: =SUMIF('2017'!A:A,A198,'2017'!B:B) -> 2927.4 | D198: =SUMIF('2017'!A:A,A198,'2017'!C:C) -> 1426.759 | E198: =D198/C198 -> 0.48738095 | F198: =SUMIF('2018'!A:A,A198,'2018'!B:B) -> 0 | G198: =SUMIF('2018'!A:A,A198,'2018'!C:C) -> 0 | H198: =G198/F198 -> #DIV/0! | I198: =F198/C198-1 -> -1 | J198: =G198/D198-1 -> -1
A199: RABEX | B199: Tomasz Sypień; | C199: =SUMIF('2017'!A:A,A199,'2017'!B:B) -> 0 | D199: =SUMIF('2017'!A:A,A199,'2017'!C:C) -> 0 | E199: =D199/C199 -> #DIV/0! | F199: =SUMIF('2018'!A:A,A199,'2018'!B:B) -> 162.66 | G199: =SUMIF('2018'!A:A,A199,'2018'!C:C) -> 91.16 | H199: =G199/F199 -> 0.5604328 | I199: =F199/C199-1 -> #DIV/0! | J199: =G199/D199-1 -> #DIV/0!
A200: HOMEOFNATU | B200: Tomasz Sypień; | C200: =SUMIF('2017'!A:A,A200,'2017'!B:B) -> 0 | D200: =SUMIF('2017'!A:A,A200,'2017'!C:C) -> 0 | E200: =D200/C200 -> #DIV/0! | F200: =SUMIF('2018'!A:A,A200,'2018'!B:B) -> 250.36 | G200: =SUMIF('2018'!A:A,A200,'2018'!C:C) -> 84.57 | H200: =G200/F200 -> 0.33779358 | I200: =F200/C200-1 -> #DIV/0! | J200: =G200/D200-1 -> #DIV/0!
A201: SUBARUIMPO | B201: Tomasz Sypień; | C201: =SUMIF('2017'!A:A,A201,'2017'!B:B) -> 0 | D201: =SUMIF('2017'!A:A,A201,'2017'!C:C) -> 0 | E201: =D201/C201 -> #DIV/0! | F201: =SUMIF('2018'!A:A,A201,'2018'!B:B) -> 779.4 | G201: =SUMIF('2018'!A:A,A201,'2018'!C:C) -> 413.1 | H201: =G201/F201 -> 0.53002309 | I201: =F201/C201-1 -> #DIV/0! | J201: =G201/D201-1 -> #DIV/0!
A202: DELFINPPHU | B202: Tomasz Sypień; | C202: =SUMIF('2017'!A:A,A202,'2017'!B:B) -> 56.36 | D202: =SUMIF('2017'!A:A,A202,'2017'!C:C) -> 31.157 | E202: =D202/C202 -> 0.55282115 | F202: =SUMIF('2018'!A:A,A202,'2018'!B:B) -> 78.25 | G202: =SUMIF('2018'!A:A,A202,'2018'!C:C) -> 43.576 | H202: =G202/F202 -> 0.55688179 | I202: =F202/C202-1 -> 0.38839603 | J202: =G202/D202-1 -> 0.39859422
A203: AUTOMATSP2 | B203: Tomasz Sypień; | C203: =SUMIF('2017'!A:A,A203,'2017'!B:B) -> 0 | D203: =SUMIF('2017'!A:A,A203,'2017'!C:C) -> 0 | E203: =D203/C203 -> #DIV/0! | F203: =SUMIF('2018'!A:A,A203,'2018'!B:B) -> 0 | G203: =SUMIF('2018'!A:A,A203,'2018'!C:C) -> 0 | H203: =G203/F203 -> #DIV/0! | I203: =F203/C203-1 -> #DIV/0! | J203: =G203/D203-1 -> #DIV/0!
A204: ECC | B204: Tomasz Sypień; | C204: =SUMIF('2017'!A:A,A204,'2017'!B:B) -> 1472.93 | D204: =SUMIF('2017'!A:A,A204,'2017'!C:C) -> 448.62 | E204: =D204/C204 -> 0.30457659 | F204: =SUMIF('2018'!A:A,A204,'2018'!B:B) -> 1990 | G204: =SUMIF('2018'!A:A,A204,'2018'!C:C) -> 507.26 | H204: =G204/F204 -> 0.25490452 | I204: =F204/C204-1 -> 0.35104859 | J204: =G204/D204-1 -> 0.13071196
A205: LOLO | B205: Tomasz Sypień; | C205: =SUMIF('2017'!A:A,A205,'2017'!B:B) -> 1217.1 | D205: =SUMIF('2017'!A:A,A205,'2017'!C:C) -> 692.54 | E205: =D205/C205 -> 0.5690083 | F205: =SUMIF('2018'!A:A,A205,'2018'!B:B) -> 362.32 | G205: =SUMIF('2018'!A:A,A205,'2018'!C:C) -> 201.97 | H205: =G205/F205 -> 0.55743542 | I205: =F205/C205-1 -> -0.70230877 | J205: =G205/D205-1 -> -0.70836342
A206: NAVOTECH2 | B206: Tomasz Sypień; | C206: =SUMIF('2017'!A:A,A206,'2017'!B:B) -> 1373.92 | D206: =SUMIF('2017'!A:A,A206,'2017'!C:C) -> 611.44 | E206: =D206/C206 -> 0.44503319 | F206: =SUMIF('2018'!A:A,A206,'2018'!B:B) -> 93.84 | G206: =SUMIF('2018'!A:A,A206,'2018'!C:C) -> 31.14 | H206: =G206/F206 -> 0.33184143 | I206: =F206/C206-1 -> -0.93169908 | J206: =G206/D206-1 -> -0.94907105
... A1055: CIECHSARZY | B1055: Agnieszka Zagaja; | C1055: =SUMIF('2017'!A:A,A1055,'2017'!B:B) -> 0 | D1055: =SUMIF('2017'!A:A,A1055,'2017'!C:C) -> 0 | E1055: =D1055/C1055 -> #DIV/0! | F1055: =SUMIF('2018'!A:A,A1055,'2018'!B:B) -> 264.58 | G1055: =SUMIF('2018'!A:A,A1055,'2018'!C:C) -> 71.716 | H1055: =G1055/F1055 -> 0.27105601 | I1055: =F1055/C1055-1 -> #DIV/0! | J1055: =G1055/D1055-1 -> #DIV/0!
A1056: ETISOFTWAW | C1056: =SUMIF('2017'!A:A,A1056,'2017'!B:B) -> 0 | D1056: =SUMIF('2017'!A:A,A1056,'2017'!C:C) -> 0 | E1056: =D1056/C1056 -> #DIV/0! | F1056: =SUMIF('2018'!A:A,A1056,'2018'!B:B) -> 108.48 | G1056: =SUMIF('2018'!A:A,A1056,'2018'!C:C) -> 18.08 | H1056: =G1056/F1056 -> 0.16666667 | I1056: =F1056/C1056-1 -> #DIV/0! | J1056: =G1056/D1056-1 -> #DIV/0!

Sheet WZROST 2017 2018 BEZ CLP 
A1: ADRIANNO | B1: Tomasz Sypień; | C1: =SUMIF('2017 BEZ CLP'!A:A,A1,'2017 BEZ CLP'!B:B) -> 65 | D1: =SUMIF('2017 BEZ CLP'!A:A,A1,'2017 BEZ CLP'!C:C) -> 61.75 | E1: =D1/C1 -> 0.95 | F1: =SUMIF('2018 BEZ CLP'!A:A,A1,'2018 BEZ CLP'!B:B) -> 0 | G1: =SUMIF('2018 BEZ CLP'!A:A,A1,'2018 BEZ CLP'!C:C) -> 0 | H1: =G1/F1 -> #DIV/0! | I1: =F1/C1-1 -> -1 | J1: =G1/D1-1 -> -1
A2: AG | B2: Tomasz Sypień; | C2: =SUMIF('2017 BEZ CLP'!A:A,A2,'2017 BEZ CLP'!B:B) -> 8644.27 | D2: =SUMIF('2017 BEZ CLP'!A:A,A2,'2017 BEZ CLP'!C:C) -> 5701.9205 | E2: =D2/C2 -> 0.65961851 | F2: =SUMIF('2018 BEZ CLP'!A:A,A2,'2018 BEZ CLP'!B:B) -> 6991.21 | G2: =SUMIF('2018 BEZ CLP'!A:A,A2,'2018 BEZ CLP'!C:C) -> 4136.09 | H2: =G2/F2 -> 0.5916129 | I2: =F2/C2-1 -> -0.19123188 | J2: =G2/D2-1 -> -0.27461458
A3: BANERASTYL | B3: Tomasz Sypień; | C3: =SUMIF('2017 BEZ CLP'!A:A,A3,'2017 BEZ CLP'!B:B) -> 4941.6 | D3: =SUMIF('2017 BEZ CLP'!A:A,A3,'2017 BEZ CLP'!C:C) -> 1656.25 | E3: =D3/C3 -> 0.33516472 | F3: =SUMIF('2018 BEZ CLP'!A:A,A3,'2018 BEZ CLP'!B:B) -> 5262.01 | G3: =SUMIF('2018 BEZ CLP'!A:A,A3,'2018 BEZ CLP'!C:C) -> 2005.83 | H3: =G3/F3 -> 0.38119084 | I3: =F3/C3-1 -> 0.064839323 | J3: =G3/D3-1 -> 0.21106717
A4: ASKO | B4: Tomasz Sypień; | C4: =SUMIF('2017 BEZ CLP'!A:A,A4,'2017 BEZ CLP'!B:B) -> 1568.4 | D4: =SUMIF('2017 BEZ CLP'!A:A,A4,'2017 BEZ CLP'!C:C) -> 493.28 | E4: =D4/C4 -> 0.3145116 | F4: =SUMIF('2018 BEZ CLP'!A:A,A4,'2018 BEZ CLP'!B:B) -> 953.46 | G4: =SUMIF('2018 BEZ CLP'!A:A,A4,'2018 BEZ CLP'!C:C) -> 307.06 | H4: =G4/F4 -> 0.32204812 | I4: =F4/C4-1 -> -0.3920811 | J4: =G4/D4-1 -> -0.37751379
A5: ZAKŁADOPTY | B5: Tomasz Sypień; | C5: =SUMIF('2017 BEZ CLP'!A:A,A5,'2017 BEZ CLP'!B:B) -> 0 | D5: =SUMIF('2017 BEZ CLP'!A:A,A5,'2017 BEZ CLP'!C:C) -> 0 | E5: =D5/C5 -> #DIV/0! | F5: =SUMIF('2018 BEZ CLP'!A:A,A5,'2018 BEZ CLP'!B:B) -> 193.02 | G5: =SUMIF('2018 BEZ CLP'!A:A,A5,'2018 BEZ CLP'!C:C) -> 96.54 | H5: =G5/F5 -> 0.50015542 | I5: =F5/C5-1 -> #DIV/0! | J5: =G5/D5-1 -> #DIV/0!
A6: EBATABIS | B6: Tomasz Sypień; | C6: =SUMIF('2017 BEZ CLP'!A:A,A6,'2017 BEZ CLP'!B:B) -> 3010.2 | D6: =SUMIF('2017 BEZ CLP'!A:A,A6,'2017 BEZ CLP'!C:C) -> 1385.985 | E6: =D6/C6 -> 0.46042954 | F6: =SUMIF('2018 BEZ CLP'!A:A,A6,'2018 BEZ CLP'!B:B) -> 1056.97 | G6: =SUMIF('2018 BEZ CLP'!A:A,A6,'2018 BEZ CLP'!C:C) -> 490.29 | H6: =G6/F6 -> 0.46386369 | I6: =F6/C6-1 -> -0.64887051 | J6: =G6/D6-1 -> -0.64625158
A7: WESSLING | B7: Tomasz Sypień; | C7: =SUMIF('2017 BEZ CLP'!A:A,A7,'2017 BEZ CLP'!B:B) -> 570.03 | D7: =SUMIF('2017 BEZ CLP'!A:A,A7,'2017 BEZ CLP'!C:C) -> 259.21 | E7: =D7/C7 -> 0.45473045 | F7: =SUMIF('2018 BEZ CLP'!A:A,A7,'2018 BEZ CLP'!B:B) -> 935.03 | G7: =SUMIF('2018 BEZ CLP'!A:A,A7,'2018 BEZ CLP'!C:C) -> 371.912 | H7: =G7/F7 -> 0.39775408 | I7: =F7/C7-1 -> 0.64031718 | J7: =G7/D7-1 -> 0.43479032
A8: ECELEMENTS | B8: Tomasz Sypień; | C8: =SUMIF('2017 BEZ CLP'!A:A,A8,'2017 BEZ CLP'!B:B) -> 627.86 | D8: =SUMIF('2017 BEZ CLP'!A:A,A8,'2017 BEZ CLP'!C:C) -> 388.05 | E8: =D8/C8 -> 0.61805179 | F8: =SUMIF('2018 BEZ CLP'!A:A,A8,'2018 BEZ CLP'!B:B) -> 374.91 | G8: =SUMIF('2018 BEZ CLP'!A:A,A8,'2018 BEZ CLP'!C:C) -> 234.905 | H8: =G8/F8 -> 0.62656371 | I8: =F8/C8-1 -> -0.40287644 | J8: =G8/D8-1 -> -0.39465275
A9: GANAR | B9: Tomasz Sypień; | C9: =SUMIF('2017 BEZ CLP'!A:A,A9,'2017 BEZ CLP'!B:B) -> 104.85 | D9: =SUMIF('2017 BEZ CLP'!A:A,A9,'2017 BEZ CLP'!C:C) -> 64.483 | E9: =D9/C9 -> 0.61500238 | F9: =SUMIF('2018 BEZ CLP'!A:A,A9,'2018 BEZ CLP'!B:B) -> 273.04 | G9: =SUMIF('2018 BEZ CLP'!A:A,A9,'2018 BEZ CLP'!C:C) -> 172.08 | H9: =G9/F9 -> 0.63023733 | I9: =F9/C9-1 -> 1.6041011 | J9: =G9/D9-1 -> 1.6686103
A10: GÓRAL | B10: Tomasz Sypień; | C10: =SUMIF('2017 BEZ CLP'!A:A,A10,'2017 BEZ CLP'!B:B) -> 1631.45 | D10: =SUMIF('2017 BEZ CLP'!A:A,A10,'2017 BEZ CLP'!C:C) -> 828.12 | E10: =D10/C10 -> 0.50759754 | F10: =SUMIF('2018 BEZ CLP'!A:A,A10,'2018 BEZ CLP'!B:B) -> 0 | G10: =SUMIF('2018 BEZ CLP'!A:A,A10,'2018 BEZ CLP'!C:C) -> 0 | H10: =G10/F10 -> #DIV/0! | I10: =F10/C10-1 -> -1 | J10: =G10/D10-1 -> -1
A11: HIT | B11: Tomasz Sypień; | C11: =SUMIF('2017 BEZ CLP'!A:A,A11,'2017 BEZ CLP'!B:B) -> 0 | D11: =SUMIF('2017 BEZ CLP'!A:A,A11,'2017 BEZ CLP'!C:C) -> 0 | E11: =D11/C11 -> #DIV/0! | F11: =SUMIF('2018 BEZ CLP'!A:A,A11,'2018 BEZ CLP'!B:B) -> 0 | G11: =SUMIF('2018 BEZ CLP'!A:A,A11,'2018 BEZ CLP'!C:C) -> 0 | H11: =G11/F11 -> #DIV/0! | I11: =F11/C11-1 -> #DIV/0! | J11: =G11/D11-1 -> #DIV/0!
A12: JANUS | B12: Tomasz Sypień; | C12: =SUMIF('2017 BEZ CLP'!A:A,A12,'2017 BEZ CLP'!B:B) -> 74.08 | D12: =SUMIF('2017 BEZ CLP'!A:A,A12,'2017 BEZ CLP'!C:C) -> 44.96 | E12: =D12/C12 -> 0.60691145 | F12: =SUMIF('2018 BEZ CLP'!A:A,A12,'2018 BEZ CLP'!B:B) -> 265.93 | G12: =SUMIF('2018 BEZ CLP'!A:A,A12,'2018 BEZ CLP'!C:C) -> 138.35 | H12: =G12/F12 -> 0.52024969 | I12: =F12/C12-1 -> 2.5897678 | J12: =G12/D12-1 -> 2.0771797
... A1055: CIECHSARZY | B1055: Agnieszka Zagaja; | C1055: =SUMIF('2017 BEZ CLP'!A:A,A1055,'2017 BEZ CLP'!B:B) -> 0 | D1055: =SUMIF('2017 BEZ CLP'!A:A,A1055,'2017 BEZ CLP'!C:C) -> 0 | E1055: =D1055/C1055 -> #DIV/0! | F1055: =SUMIF('2018 BEZ CLP'!A:A,A1055,'2018 BEZ CLP'!B:B) -> 264.58 | G1055: =SUMIF('2018 BEZ CLP'!A:A,A1055,'2018 BEZ CLP'!C:C) -> 71.716 | H1055: =G1055/F1055 -> 0.27105601 | I1055: =F1055/C1055-1 -> #DIV/0! | J1055: =G1055/D1055-1 -> #DIV/0!
A1056: ETISOFTWAW | C1056: =SUMIF('2017 BEZ CLP'!A:A,A1056,'2017 BEZ CLP'!B:B) -> 0 | D1056: =SUMIF('2017 BEZ CLP'!A:A,A1056,'2017 BEZ CLP'!C:C) -> 0 | E1056: =D1056/C1056 -> #DIV/0! | F1056: =SUMIF('2018 BEZ CLP'!A:A,A1056,'2018 BEZ CLP'!B:B) -> 108.48 | G1056: =SUMIF('2018 BEZ CLP'!A:A,A1056,'2018 BEZ CLP'!C:C) -> 18.08 | H1056: =G1056/F1056 -> 0.16666667 | I1056: =F1056/C1056-1 -> #DIV/0! | J1056: =G1056/D1056-1 -> #DIV/0!

Sheet wzrosty
B2: 2017 | D2: 2018 | F2: WZROST
B3: OBRÓT | C3: MARŻA | D3: OBRÓT | E3: MARŻA | F3: OBRÓT | G3: MARŻA
B4: =SUM('2017'!B:B) -> 5766771.2 | C4: =SUM('2017'!C:C) -> 1966375.5 | D4: =SUM('2018'!B:B) -> 6330680.1 | E4: =SUM('2018'!C:C) -> 2111229.7 | F4: =D4/B4-1 -> 0.097785893 | G4: =E4/C4-1 -> 0.073665595
B6: 2017 | D6: 2018 | F6: WZROST
B7: OBRÓT BEZ CLP | C7: MARŻA BEZ CLP | D7: OBRÓT BEZ CLP | E7: MARŻA BEZ CLP | F7: OBRÓT | G7: MARŻA
B8: =SUM('2017 BEZ CLP'!B:B) -> 5301763.6 | C8: =SUM('2017 BEZ CLP'!C:C) -> 1855318.3 | D8: =SUM('2018 BEZ CLP'!B:B) -> 5727497.9 | E8: =SUM('2018 BEZ CLP'!C:C) -> 2015803.1 | F8: =D8/B8-1 -> 0.080300516 | G8: =E8/C8-1 -> 0.086499874
B11: 2017 | D11: 2018 | F11: WZROST
B12: OBRÓT | C12: MARŻA | D12: OBRÓT | E12: MARŻA | F12: OBRÓT | G12: MARŻA
A13: Piotr Lasia; | B13: =SUMIF('Wzrost 2017 2018'!B:B,wzrosty!A13,'Wzrost 2017 2018'!C:C) -> 381564.7 | C13: =SUMIF('Wzrost 2017 2018'!B:B,wzrosty!A13,'Wzrost 2017 2018'!D:D) -> 144173.53 | D13: =SUMIF('Wzrost 2017 2018'!B:B,wzrosty!A13,'Wzrost 2017 2018'!F:F) -> 373751.16 | E13: =SUMIF('Wzrost 2017 2018'!B:B,wzrosty!A13,'Wzrost 2017 2018'!G:G) -> 139143.07 | F13: =D13/B13-1 -> -0.020477628 | G13: =E13/C13-1 -> -0.034891716 | H13: =E13/D13 -> 0.372288
A14: Bartłomiej Biskupski; | B14: =SUMIF('Wzrost 2017 2018'!B:B,wzrosty!A14,'Wzrost 2017 2018'!C:C) -> 1125476.2 | C14: =SUMIF('Wzrost 2017 2018'!B:B,wzrosty!A14,'Wzrost 2017 2018'!D:D) -> 320197.54 | D14: =SUMIF('Wzrost 2017 2018'!B:B,wzrosty!A14,'Wzrost 2017 2018'!F:F) -> 1247682 | E14: =SUMIF('Wzrost 2017 2018'!B:B,wzrosty!A14,'Wzrost 2017 2018'!G:G) -> 377515.96 | F14: =D14/B14-1 -> 0.10858146 | G14: =E14/C14-1 -> 0.17900958 | H14: =E14/D14 -> 0.30257386
A15: Krzysztof Szwajdych; | B15: =SUMIF('Wzrost 2017 2018'!B:B,wzrosty!A15,'Wzrost 2017 2018'!C:C) -> 994241.99 | C15: =SUMIF('Wzrost 2017 2018'!B:B,wzrosty!A15,'Wzrost 2017 2018'!D:D) -> 348022.22 | D15: =SUMIF('Wzrost 2017 2018'!B:B,wzrosty!A15,'Wzrost 2017 2018'!F:F) -> 1051525.6 | E15: =SUMIF('Wzrost 2017 2018'!B:B,wzrosty!A15,'Wzrost 2017 2018'!G:G) -> 351192.26 | F15: =D15/B15-1 -> 0.05761534 | G15: =E15/C15-1 -> 0.0091087311 | H15: =E15/D15 -> 0.33398356
A16: Mirosław Zagaja; | B16: =SUMIF('Wzrost 2017 2018'!B:B,wzrosty!A16,'Wzrost 2017 2018'!C:C) -> 723403.17 | C16: =SUMIF('Wzrost 2017 2018'!B:B,wzrosty!A16,'Wzrost 2017 2018'!D:D) -> 308567.86 | D16: =SUMIF('Wzrost 2017 2018'!B:B,wzrosty!A16,'Wzrost 2017 2018'!F:F) -> 812401.54 | E16: =SUMIF('Wzrost 2017 2018'!B:B,wzrosty!A16,'Wzrost 2017 2018'!G:G) -> 306869.27 | F16: =D16/B16-1 -> 0.12302734 | G16: =E16/C16-1 -> -0.0055047428 | H16: =E16/D16 -> 0.37773103
A17: Piotr Choma; | B17: =SUMIF('Wzrost 2017 2018'!B:B,wzrosty!A17,'Wzrost 2017 2018'!C:C) -> 1637803.4 | C17: =SUMIF('Wzrost 2017 2018'!B:B,wzrosty!A17,'Wzrost 2017 2018'!D:D) -> 461258.27 | D17: =SUMIF('Wzrost 2017 2018'!B:B,wzrosty!A17,'Wzrost 2017 2018'!F:F) -> 2012008.7 | E17: =SUMIF('Wzrost 2017 2018'!B:B,wzrosty!A17,'Wzrost 2017 2018'!G:G) -> 587272.62 | F17: =D17/B17-1 -> 0.22848002 | G17: =E17/C17-1 -> 0.27319695 | H17: =E17/D17 -> 0.29188374
A18: Tomasz Sypień; | B18: =SUMIF('Wzrost 2017 2018'!B:B,wzrosty!A18,'Wzrost 2017 2018'!C:C) -> 903457.59 | C18: =SUMIF('Wzrost 2017 2018'!B:B,wzrosty!A18,'Wzrost 2017 2018'!D:D) -> 383879.42 | D18: =SUMIF('Wzrost 2017 2018'!B:B,wzrosty!A18,'Wzrost 2017 2018'!F:F) -> 820120.94 | E18: =SUMIF('Wzrost 2017 2018'!B:B,wzrosty!A18,'Wzrost 2017 2018'!G:G) -> 348270.74 | F18: =D18/B18-1 -> -0.092241906 | G18: =E18/C18-1 -> -0.092760081 | H18: =E18/D18 -> 0.42465778
A19: Agnieszka Zagaja; | B19: =SUMIF('Wzrost 2017 2018'!B:B,wzrosty!A19,'Wzrost 2017 2018'!C:C) -> 0 | C19: =SUMIF('Wzrost 2017 2018'!B:B,wzrosty!A19,'Wzrost 2017 2018'!D:D) -> 0 | D19: =SUMIF('Wzrost 2017 2018'!B:B,wzrosty!A19,'Wzrost 2017 2018'!F:F) -> 12347.22 | E19: =SUMIF('Wzrost 2017 2018'!B:B,wzrosty!A19,'Wzrost 2017 2018'!G:G) -> 702.896 | H19: =E19/D19 -> 0.05692747
A20: brak | B20: =SUMIF('Wzrost 2017 2018'!B:B,wzrosty!A20,'Wzrost 2017 2018'!C:C) -> 0 | C20: =SUMIF('Wzrost 2017 2018'!B:B,wzrosty!A20,'Wzrost 2017 2018'!D:D) -> 0 | D20: =SUMIF('Wzrost 2017 2018'!B:B,wzrosty!A20,'Wzrost 2017 2018'!F:F) -> 0 | E20: =SUMIF('Wzrost 2017 2018'!B:B,wzrosty!A20,'Wzrost 2017 2018'!G:G) -> 0
A21: Suma: | B21: =SUM(B13:B20) -> 5765947 | C21: =SUM(C13:C20) -> 1966098.8 | D21: =SUM(D13:D20) -> 6329837.2 | E21: =SUM(E13:E20) -> 2110966.8 | F21: =D21/B21-1 -> 0.097796629 | G21: =E21/C21-1 -> 0.073682959 | H21: =E21/D21 -> 0.33349465
B23: 2017 bez drukarek programów urządzeń | D23: 2018 bez drukarek programów urządzeń | F23: WZROST
B24: OBRÓT | C24: MARŻA | D24: OBRÓT | E24: MARŻA | F24: OBRÓT | G24: MARŻA
A25: Piotr Lasia; | B25: =SUMIF('WZROST 2017 2018 BEZ CLP '!B:B,wzrosty!A25,'WZROST 2017 2018 BEZ CLP '!C:C) -> 341231.9 | C25: =SUMIF('WZROST 2017 2018 BEZ CLP '!B:B,wzrosty!A25,'WZROST 2017 2018 BEZ CLP '!D:D) -> 134287.94 | D25: =SUMIF('WZROST 2017 2018 BEZ CLP '!B:B,wzrosty!A25,'WZROST 2017 2018 BEZ CLP '!F:F) -> 351149.33 | E25: =SUMIF('WZROST 2017 2018 BEZ CLP '!B:B,wzrosty!A25,'WZROST 2017 2018 BEZ CLP '!G:G) -> 135199.14 | F25: =D25/B25-1 -> 0.029063607 | G25: =E25/C25-1 -> 0.0067854044
A26: Bartłomiej Biskupski; | B26: =SUMIF('WZROST 2017 2018 BEZ CLP '!B:B,wzrosty!A26,'WZROST 2017 2018 BEZ CLP '!C:C) -> 978897.83 | C26: =SUMIF('WZROST 2017 2018 BEZ CLP '!B:B,wzrosty!A26,'WZROST 2017 2018 BEZ CLP '!D:D) -> 299472.1 | D26: =SUMIF('WZROST 2017 2018 BEZ CLP '!B:B,wzrosty!A26,'WZROST 2017 2018 BEZ CLP '!F:F) -> 1152511.7 | E26: =SUMIF('WZROST 2017 2018 BEZ CLP '!B:B,wzrosty!A26,'WZROST 2017 2018 BEZ CLP '!G:G) -> 356979.58 | F26: =D26/B26-1 -> 0.17735652 | G26: =E26/C26-1 -> 0.19202953
A27: Krzysztof Szwajdych; | B27: =SUMIF('WZROST 2017 2018 BEZ CLP '!B:B,wzrosty!A27,'WZROST 2017 2018 BEZ CLP '!C:C) -> 955332.27 | C27: =SUMIF('WZROST 2017 2018 BEZ CLP '!B:B,wzrosty!A27,'WZROST 2017 2018 BEZ CLP '!D:D) -> 340840.49 | D27: =SUMIF('WZROST 2017 2018 BEZ CLP '!B:B,wzrosty!A27,'WZROST 2017 2018 BEZ CLP '!F:F) -> 964365.38 | E27: =SUMIF('WZROST 2017 2018 BEZ CLP '!B:B,wzrosty!A27,'WZROST 2017 2018 BEZ CLP '!G:G) -> 335242.85 | F27: =D27/B27-1 -> 0.0094554641 | G27: =E27/C27-1 -> -0.016423046
A28: Mirosław Zagaja; | B28: =SUMIF('WZROST 2017 2018 BEZ CLP '!B:B,wzrosty!A28,'WZROST 2017 2018 BEZ CLP '!C:C) -> 639803.17 | C28: =SUMIF('WZROST 2017 2018 BEZ CLP '!B:B,wzrosty!A28,'WZROST 2017 2018 BEZ CLP '!D:D) -> 265305.9 | D28: =SUMIF('WZROST 2017 2018 BEZ CLP '!B:B,wzrosty!A28,'WZROST 2017 2018 BEZ CLP '!F:F) -> 775459.51 | E28: =SUMIF('WZROST 2017 2018 BEZ CLP '!B:B,wzrosty!A28,'WZROST 2017 2018 BEZ CLP '!G:G) -> 300758.5 | F28: =D28/B28-1 -> 0.21202824 | G28: =E28/C28-1 -> 0.13362915
A29: Piotr Choma; | B29: =SUMIF('WZROST 2017 2018 BEZ CLP '!B:B,wzrosty!A29,'WZROST 2017 2018 BEZ CLP '!C:C) -> 1567030.6 | C29: =SUMIF('WZROST 2017 2018 BEZ CLP '!B:B,wzrosty!A29,'WZROST 2017 2018 BEZ CLP '!D:D) -> 449969.47 | D29: =SUMIF('WZROST 2017 2018 BEZ CLP '!B:B,wzrosty!A29,'WZROST 2017 2018 BEZ CLP '!F:F) -> 1787906.4 | E29: =SUMIF('WZROST 2017 2018 BEZ CLP '!B:B,wzrosty!A29,'WZROST 2017 2018 BEZ CLP '!G:G) -> 560783.23 | F29: =D29/B29-1 -> 0.14095183 | G29: =E29/C29-1 -> 0.24626951
A30: Tomasz Sypień; | B30: =SUMIF('WZROST 2017 2018 BEZ CLP '!B:B,wzrosty!A30,'WZROST 2017 2018 BEZ CLP '!C:C) -> 819467.79 | C30: =SUMIF('WZROST 2017 2018 BEZ CLP '!B:B,wzrosty!A30,'WZROST 2017 2018 BEZ CLP '!D:D) -> 365442.4 | D30: =SUMIF('WZROST 2017 2018 BEZ CLP '!B:B,wzrosty!A30,'WZROST 2017 2018 BEZ CLP '!F:F) -> 694939.56 | E30: =SUMIF('WZROST 2017 2018 BEZ CLP '!B:B,wzrosty!A30,'WZROST 2017 2018 BEZ CLP '!G:G) -> 326329.52 | F30: =D30/B30-1 -> -0.15196232 | G30: =E30/C30-1 -> -0.10702887
A31: Agnieszka Zagaja; | B31: =SUMIF('WZROST 2017 2018 BEZ CLP '!B:B,wzrosty!A31,'WZROST 2017 2018 BEZ CLP '!C:C) -> 0 | C31: =SUMIF('WZROST 2017 2018 BEZ CLP '!B:B,wzrosty!A31,'WZROST 2017 2018 BEZ CLP '!D:D) -> 0 | D31: =SUMIF('WZROST 2017 2018 BEZ CLP '!B:B,wzrosty!A31,'WZROST 2017 2018 BEZ CLP '!F:F) -> 1057.48 | E31: =SUMIF('WZROST 2017 2018 BEZ CLP '!B:B,wzrosty!A31,'WZROST 2017 2018 BEZ CLP '!G:G) -> 492.196
A32: brak | B32: =SUMIF('WZROST 2017 2018 BEZ CLP '!B:B,wzrosty!A32,'WZROST 2017 2018 BEZ CLP '!C:C) -> 0 | C32: =SUMIF('WZROST 2017 2018 BEZ CLP '!B:B,wzrosty!A32,'WZROST 2017 2018 BEZ CLP '!D:D) -> 0 | D32: =SUMIF('WZROST 2017 2018 BEZ CLP '!B:B,wzrosty!A32,'WZROST 2017 2018 BEZ CLP '!F:F) -> 0 | E32: =SUMIF('WZROST 2017 2018 BEZ CLP '!B:B,wzrosty!A32,'WZROST 2017 2018 BEZ CLP '!G:G) -> 0
A33: Suma: | B33: =SUM(B25:B32) -> 5301763.6 | C33: =SUM(C25:C32) -> 1855318.3 | D33: =SUM(D25:D32) -> 5727389.4 | E33: =SUM(E25:E32) -> 2015785 | F33: =D33/B33-1 -> 0.080280055 | G33: =E33/C33-1 -> 0.086490129
