Workbook
Name OLE_LINK3: stanowiska!$A$16

Sheet TOMEK
A1: Tomasz Sypień | B1: PLAN IV KW Tomasz Sypień | F1: PLAN III KW Tomasz Sypień | J1: PLAN II KW Tomasz Sypień | N1: PLAN I KW Tomasz Sypień
A2: miesiąc | B2: październik | C2: listopad | D2: grudzień | E2: KW IV | F2: lipiec | G2: sierpień | H2: wrzesień | I2: KW III | J2: kwiecień | K2: maj | L2: czerwiec | M2: KW II | N2: styczeń | O2: luty | P2: marzec | Q2: KW I | R2: suma ROK
A4: Plan Sprzedaży Marża | B4: ='Target 2021'!L3 -> 42433.333 | C4: ='Target 2021'!M3 -> 46900 | D4: ='Target 2021'!N3 -> 44666.667 | E4: =SUM(B4:D4) -> 134000 | F4: ='Target 2021'!I3 -> 43500 | G4: ='Target 2021'!J3 -> 48333.333 | H4: ='Target 2021'!K3 -> 53166.667 | I4: =SUM(F4:H4) -> 145000 | J4: ='Target 2021'!F3 -> 41100 | K4: ='Target 2021'!G3 -> 45666.667 | L4: ='Target 2021'!H3 -> 50233.333 | M4: =SUM(J4:L4) -> 137000 | N4: ='Target 2021'!C3 -> 43500 | O4: ='Target 2021'!D3 -> 48333.333 | P4: ='Target 2021'!E3 -> 53166.667 | Q4: =SUM(N4:P4) -> 145000 | R4: =Q4+M4+I4+E4 -> 561000
A5: Sumaryczny Plan Sprzedaży Marża | B5: =B4 -> 42433.333 | C5: =C4+B5 -> 89333.333 | D5: =D4+C5 -> 134000 | F5: =F4 -> 43500 | G5: =G4+F5 -> 91833.333 | H5: =H4+G5 -> 145000 | J5: =J4 -> 41100 | K5: =K4+J5 -> 86766.667 | L5: =L4+K5 -> 137000 | N5: =N4 -> 43500 | O5: =O4+N5 -> 91833.333 | P5: =P4+O5 -> 145000 | R5: =R6/R4 -> 1.0335362
A6: Miesięczna realizacja Planu Sprzedaży Marża | B6: =SUMIF(X!A:A,$A$1,X!I:I) -> 48243.363 | C6: =SUMIF(XI!A:A,$A$1,XI!I:I) -> 53871.69 | D6: =SUMIF(XII!A:A,$A$1,XII!I:I) -> 53549.701 | E6: =SUM(B6:D6) -> 155664.75 | F6: =SUMIF(VII!A:A,$A$1,VII!I:I) -> 58039.165 | G6: =SUMIF(VIII!A:A,$A$1,VIII!I:I) -> 37496.672 | H6: =SUMIF(IX!A:A,$A$1,IX!I:I) -> 43611.758 | I6: =SUM(F6:H6) -> 139147.6 | J6: =SUMIF(IV!A:A,$A$1,IV!I:I) -> 41620.274 | K6: =SUMIF(V!A:A,$A$1,V!I:I) -> 41858.379 | L6: =SUMIF(VI!A:A,$A$1,VI!I:I) -> 61416.543 | M6: =SUM(J6:L6) -> 144895.2 | N6: =SUMIF(I!A:A,$A$1,I!I:I) -> 46452.277 | O6: =SUMIF(II!A:A,$A$1,II!I:I) -> 45967.407 | P6: =SUMIF(III!A:A,$A$1,III!I:I) -> 47686.574 | Q6: =SUM(N6:P6) -> 140106.26 | R6: =Q6+M6+I6+E6 -> 579813.8
A7: Sumaryczna realizacja planu sprzedaży Marża | B7: =B6 -> 48243.363 | C7: =C6+B7 -> 102115.05 | D7: =D6+C7 -> 155664.75 | F7: =F6 -> 58039.165 | G7: =G6+F7 -> 95535.837 | H7: =H6+G7 -> 139147.6 | J7: =J6 -> 41620.274 | K7: =K6+J7 -> 83478.653 | L7: =L6+K7 -> 144895.2 | N7: =N6 -> 46452.277 | O7: =O6+N7 -> 92419.685 | P7: =P6+O7 -> 140106.26
A8: Wysokość zrealizowania Miesięcznego Planu Sprzedaży Marża | B8: =B6/B4 -> 1.1369214 | C8: =C6/C4 -> 1.1486501 | D8: =D6/D4 -> 1.1988739 | F8: =F6/F4 -> 1.3342337 | G8: =G6/G4 -> 0.77579321 | H8: =H6/H4 -> 0.82028385 | J8: =J6/J4 -> 1.0126587 | K8: =K6/K4 -> 0.91660684 | L8: =L6/L4 -> 1.2226253 | N8: =N6/N4 -> 1.0678684 | O8: =O6/O4 -> 0.95104981 | P8: =P6/P4 -> 0.89692616
A9: Wysokość zrealizowania Planu Sprzedaży Marża | B9: =B7/B5 -> 1.1369214 | C9: =C7/C5 -> 1.1430789 | D9: =D7/D5 -> 1.1616773 | F9: =F7/F5 -> 1.3342337 | G9: =G7/G5 -> 1.0403176 | H9: =H7/H5 -> 0.95963859 | J9: =J7/J5 -> 1.0126587 | K9: =K7/K5 -> 0.96210511 | L9: =L7/L5 -> 1.0576292 | N9: =N7/N5 -> 1.0678684 | O9: =O7/O5 -> 1.006385 | P9: =P7/P5 -> 0.96625006
A10: Różnica wskaźnika Marża | B10: =B7-B5 -> 5810.03 | C10: =C7-C5 -> 12781.719 | D10: =D7-D5 -> 21664.754 | F10: =F7-F5 -> 14539.165 | G10: =G7-G5 -> 3702.5039 | H10: =H7-H5 -> -5852.405 | J10: =J7-J5 -> 520.2744 | K10: =K7-K5 -> -3288.0134 | L10: =L7-L5 -> 7895.1966 | N10: =N7-N5 -> 2952.2773 | O10: =O7-O5 -> 586.35127 | P10: =P7-P5 -> -4893.7412
A11: Miesięczny Obrót | B11: =SUMIF(X!A:A,$A$1,X!G:G) -> 147058.27 | C11: =SUMIF(XI!A:A,$A$1,XI!G:G) -> 134258.95 | D11: =SUMIF(XII!A:A,$A$1,XII!G:G) -> 124716.12 | E11: =SUM(B11:D11) -> 406033.34 | F11: =SUMIF(VII!A:A,$A$1,VII!G:G) -> 143765.12 | G11: =SUMIF(VIII!A:A,$A$1,VIII!G:G) -> 99803.906 | H11: =SUMIF(IX!A:A,$A$1,IX!G:G) -> 106174.15 | I11: =SUM(F11:H11) -> 349743.18 | J11: =SUMIF(IV!A:A,$A$1,IV!G:G) -> 112925.76 | K11: =SUMIF(V!A:A,$A$1,V!G:G) -> 100350.34 | L11: =SUMIF(VI!A:A,$A$1,VI!G:G) -> 179356.23 | M11: =SUM(J11:L11) -> 392632.34 | N11: =SUMIF(I!A:A,$A$1,I!G:G) -> 113213.96 | O11: =SUMIF(II!A:A,$A$1,II!G:G) -> 129347.31 | P11: =SUMIF(III!A:A,$A$1,III!G:G) -> 130401.56 | Q11: =SUM(N11:P11) -> 372962.84 | R11: =Q11+M11+I11+E11 -> 1521371.7
A12: Sumaryczny Obrót | B12: =B11 -> 147058.27 | C12: =C11+B12 -> 281317.22 | D12: =D11+C12 -> 406033.34 | F12: =F11 -> 143765.12 | G12: =G11+F12 -> 243569.03 | H12: =H11+G12 -> 349743.18 | J12: =J11 -> 112925.76 | K12: =K11+J12 -> 213276.1 | L12: =L11+K12 -> 392632.34 | N12: =N11 -> 113213.96 | O12: =O11+N12 -> 242561.27 | P12: =P11+O12 -> 372962.84
A13: Wysokość Marży miesięcznej | B13: =B6/B11 -> 0.32805612 | C13: =C6/C11 -> 0.40125212 | D13: =D6/D11 -> 0.42937274 | F13: =F6/F11 -> 0.40370824 | G13: =G6/G11 -> 0.37570345 | H13: =H6/H11 -> 0.41075684 | J13: =J6/J11 -> 0.36856316 | K13: =K6/K11 -> 0.41712243 | L13: =L6/L11 -> 0.3424277 | N13: =N6/N11 -> 0.4103052 | O13: =O6/O11 -> 0.35537969 | P13: =P6/P11 -> 0.36569021
A14: Wysokość Marży sumarycznej | B14: =B7/B12 -> 0.32805612 | C14: =C7/C12 -> 0.36298899 | D14: =D7/D12 -> 0.38337925 | F14: =F7/F12 -> 0.40370824 | G14: =G7/G12 -> 0.3922331 | H14: =H7/H12 -> 0.39785649 | J14: =J7/J12 -> 0.36856316 | K14: =K7/K12 -> 0.39141119 | L14: =L7/L12 -> 0.36903531 | N14: =N7/N12 -> 0.4103052 | O14: =O7/O12 -> 0.38101583 | P14: =P7/P12 -> 0.37565743
A16: PREMIE
A17: Wynagrodzenie zasadnicze | B17: 4500 | C17: 4500 | D17: 4500 | F17: 4500 | G17: 4500 | H17: 4500 | J17: 4500 | K17: 4500 | L17: 4500 | N17: 4100 | O17: 4500 | P17: 4500
A18: Wskaźnik Plan Sprzedaży Marża | B18: =B5 -> 42433.333 | C18: =C5 -> 89333.333 | D18: =D5 -> 134000 | F18: =F5 -> 43500 | G18: =G5 -> 91833.333 | H18: =H5 -> 145000 | J18: =J5 -> 41100 | K18: =K5 -> 86766.667 | L18: =L5 -> 137000 | N18: =N5 -> 43500 | O18: =O5 -> 91833.333 | P18: =P5 -> 145000
A19: Realizacja Wskaźnika Planu Sprzedaży Marża | B19: =B7 -> 48243.363 | C19: =C7 -> 102115.05 | D19: =D7 -> 155664.75 | F19: =F7 -> 58039.165 | G19: =G7 -> 95535.837 | H19: =H7 -> 139147.6 | J19: =J7 -> 41620.274 | K19: =K7 -> 83478.653 | L19: =L7 -> 144895.2 | N19: =N7 -> 46452.277 | O19: =O7 -> 92419.685 | P19: =P7 -> 140106.26
A20: Poziom realizacji Wskaźnika Sprzedaży Marża | B20: =B19/B18 -> 1.1369214 | C20: =C19/C18 -> 1.1430789 | D20: =D19/D18 -> 1.1616773 | F20: =F19/F18 -> 1.3342337 | G20: =G19/G18 -> 1.0403176 | H20: =H19/H18 -> 0.95963859 | J20: =J19/J18 -> 1.0126587 | K20: =K19/K18 -> 0.96210511 | L20: =L19/L18 -> 1.0576292 | N20: =N19/N18 -> 1.0678684 | O20: =O19/O18 -> 1.006385 | P20: =P19/P18 -> 0.96625006
A21: Wysokość premii Wskaźnik Sprzedaży Marża | B21: =B17*0.35 -> 1575 | C21: =C17*0.35 -> 1575 | D21: =D17*0.35 -> 1575 | F21: =F17*0.35 -> 1575 | G21: =G17*0.35 -> 1575 | H21: =H17*0.35 -> 1575 | J21: =J17*0.35 -> 1575 | K21: =K17*0.35 -> 1575 | L21: =L17*0.35 -> 1575 | N21: =N17*0.35 -> 1435 | O21: =O17*0.35 -> 1575 | P21: =P17*0.35 -> 1575
A22: Mnożnik premii miesięcznej Wskaźnika Sprzedaży Marża | B22: =IF(B20<80%,0,IF(B20<90%,0.5,IF(B20<95%,0.75,1))) -> 1 | C22: =IF(C20<80%,0,IF(C20<90%,0.5,IF(C20<95%,0.75,1))) -> 1 | D22: =IF(D20<80%,0,IF(D20<90%,0.5,IF(D20<95%,0.75,1))) -> 1 | F22: =IF(F20<80%,0,IF(F20<90%,0.5,IF(F20<95%,0.75,1))) -> 1 | G22: =IF(G20<80%,0,IF(G20<90%,0.5,IF(G20<95%,0.75,1))) -> 1 | H22: =IF(H20<80%,0,IF(H20<90%,0.5,IF(H20<95%,0.75,1))) -> 1 | J22: =IF(J20<80%,0,IF(J20<90%,0.5,IF(J20<95%,0.75,1))) -> 1 | K22: =IF(K20<80%,0,IF(K20<90%,0.5,IF(K20<95%,0.75,1))) -> 1 | L22: =IF(L20<80%,0,IF(L20<90%,0.5,IF(L20<95%,0.75,1))) -> 1 | N22: =IF(N20<80%,0,IF(N20<90%,0.5,IF(N20<95%,0.75,1))) -> 1 | O22: =IF(O20<80%,0,IF(O20<90%,0.5,IF(O20<95%,0.75,1))) -> 1 | P22: =IF(P20<80%,0,IF(P20<90%,0.5,IF(P20<95%,0.75,1))) -> 1
A23: Premia miesięczna za Wskaźnik Sprzedaży Marża | B23: =B22*B21 -> 1575 | C23: =C22*C21 -> 1575 | D23: =D22*D21 -> 1575 | F23: =F22*F21 -> 1575 | G23: =G22*G21 -> 1575 | H23: =H22*H21 -> 1575 | J23: =J22*J21 -> 1575 | K23: =K22*K21 -> 1575 | L23: =L22*L21 -> 1575 | N23: =N22*N21 -> 1435 | O23: =O22*O21 -> 1575 | P23: =P22*P21 -> 1575
A24: Wskaźnik CRM | N24: 1 | O24: 1 | P24: 1
A25: Wysokość premii CRM | B25: =B17*0.05 -> 225 | C25: =C17*0.05 -> 225 | D25: =D17*0.05 -> 225 | F25: =F17*0.05 -> 225 | G25: =G17*0.05 -> 225 | H25: =H17*0.05 -> 225 | J25: =J17*0.05 -> 225 | K25: =K17*0.05 -> 225 | L25: =L17*0.05 -> 225 | N25: =N17*0.05 -> 205 | O25: =O17*0.05 -> 225 | P25: =P17*0.05 -> 225
A26: Mnożnik premii Wskaźnik CRM | B26: 1 | C26: 1 | D26: 1 | F26: 1 | G26: 1 | H26: 1 | J26: 1 | K26: 1 | L26: 1 | N26: 1 | O26: 1 | P26: 1
A27: Premia miesięczna za Wskaźnik CRM | B27: =B26*B25 -> 225 | C27: =C26*C25 -> 225 | D27: =D26*D25 -> 225 | F27: =F26*F25 -> 225 | G27: =G26*G25 -> 225 | H27: =H26*H25 -> 225 | J27: =J26*J25 -> 225 | K27: =K26*K25 -> 225 | L27: =L26*L25 -> 225 | N27: =N26*N25 -> 205 | O27: =O26*O25 -> 225 | P27: =P26*P25 -> 225
A28: Suma Premii miesięcznych | B28: =B23+B27 -> 1800 | C28: =C23+C27 -> 1800 | D28: =D23+D27 -> 1800 | F28: =F23+F27 -> 1800 | G28: =G23+G27 -> 1800 | H28: =H23+H27 -> 1800 | J28: =J23+J27 -> 1800 | K28: =K23+K27 -> 1800 | L28: =L23+L27 -> 1800 | N28: =N23+N27 -> 1640 | O28: =O23+O27 -> 1800 | P28: =P23+P27 -> 1800 | R28: =SUM(B28:Q28) -> 21440
A29: Wskaźnik Premia Kwartalna Marża | B29: =D5 -> 134000 | F29: =H5 -> 145000 | J29: =L5 -> 137000 | N29: =P5 -> 145000
A30: Realizacja Wskaźnika Premia Kwartalna | B30: =D7 -> 155664.75 | F30: =H7 -> 139147.6 | J30: =L7 -> 144895.2 | N30: =P7 -> 140106.26
A31: Poziom realizacji Wskaźnika Premia Kwartalna | B31: =B30/B29 -> 1.1616773 | F31: =F30/F29 -> 0.95963859 | J31: =J30/J29 -> 1.0576292 | N31: =N30/N29 -> 0.96625006
A32: Wysokość premii kwartalnej. | B32: =D17 -> 4500 | F32: =H17 -> 4500 | J32: =L17 -> 4500 | N32: =P17 -> 4500
A33: Mnożnik premii kwartalnej | B33: =IF(B31<100%,0,IF(B31<105%,0.5,IF(B31<110%,0.7,1))) -> 1 | F33: =IF(F31<100%,0,IF(F31<105%,0.5,IF(F31<110%,0.7,1))) -> 0 | J33: =IF(J31<100%,0,IF(J31<105%,0.5,IF(J31<110%,0.7,1))) -> 0.7 | N33: =IF(N31<100%,0,IF(N31<105%,0.5,IF(N31<110%,0.7,1))) -> 0
A34: Premia kwartalna | B34: =B33*B32 -> 4500 | F34: =F33*F32 -> 0 | J34: =J33*J32 -> 3150 | N34: =N33*N32 -> 0 | R34: =SUM(B34:Q34) -> 7650
A36: Raport za miesiąc: | B36: paździer. | C36: listopad | D36: grudzień | E36: Suma | F36: lipiec | G36: sierpień | H36: wrzesień | I36: Suma | J36: kwiecień | K36: maj | L36: czerwiec | M36: Suma | N36: styczeń | O36: luty | P36: marzec | Q36: Suma | R36: Suma
A37: Ilość nowych Klientów: | B37: 2 | C37: 1 | D37: 1 | E37: =SUM(B37:D37) -> 4 | F37: 5 | G37: 0 | H37: 1 | I37: =SUM(F37:H37) -> 6 | J37: 0 | K37: 1 | L37: 0 | M37: =SUM(J37:L37) -> 1 | N37: 1 | O37: 3 | P37: 2 | Q37: =SUM(N37:P37) -> 6 | R37: =M37+I37+E37+Q37 -> 17
A38: Ilość Podmiotów na etapie współpracy Klient: | B38: 542 | C38: 548 | D38: 552 | F38: 523 | G38: 525 | H38: 533 | J38: 496 | K38: 504 | L38: 509 | N38: 469 | O38: 484 | P38: 489
A39: Ilość Podmiotów na etapie współpracy Handlowy: | B39: 6 | C39: 1 | D39: 4 | F39: 7 | G39: 6 | H39: 5 | J39: 11 | K39: 12 | L39: 10 | N39: 12 | O39: 11 | P39: 12
A40: Ilość Podmiotów na etapie współpracy Klient nieaktywny: | B40: 664 | C40: 660 | D40: 656 | F40: 677 | G40: 676 | H40: 672 | J40: 689 | K40: 685 | L40: 685 | N40: 683 | O40: 675 | P40: 676
A41: Ilość Podmiotów pod opieką: | B41: =SUM(B38:B40) -> 1212 | C41: =SUM(C38:C40) -> 1209 | D41: =SUM(D38:D40) -> 1212 | F41: 1207 | G41: 1207 | H41: 1210 | J41: 1196 | K41: 1201 | L41: 1204 | N41: 1164 | O41: 1170 | P41: 1177
A42: Ilość sprzedanych drukarek: | B42: 4 | C42: 3 | D42: 4 | E42: =SUM(B42:D42) -> 11 | F42: 8 | G42: 2 | H42: 3 | I42: =SUM(F42:H42) -> 13 | J42: 3 | K42: 1 | L42: 7 | M42: =SUM(J42:L42) -> 11 | N42: 3 | O42: 5 | P42: 5 | Q42: =SUM(N42:P42) -> 13 | R42: =M42+I42+E42+Q42 -> 48
A43: Ilość ofert dodanych w danym miesiącu: | B43: 16 | C43: 14 | D43: 17 | E43: =SUM(B43:D43) -> 47 | F43: 10 | G43: 15 | H43: 23 | I43: =SUM(F43:H43) -> 48 | J43: 9 | K43: 9 | L43: 5 | M43: =SUM(J43:L43) -> 23 | N43: 7 | O43: 17 | P43: 11 | Q43: =SUM(N43:P43) -> 35 | R43: =M43+I43+E43+Q43 -> 153
A44: Ilość ofert oczekujących na decyzję kontrahenta: | B44: 3 | C44: 1 | D44: 2 | F44: 4 | G44: 4 | H44: 2 | J44: 3 | K44: 1 | L44: 1 | N44: 5 | O44: 4 | P44: 1
A45: Ilość zaakceptowanych ofert przez kontrahenta: | B45: 11 | C45: 6 | D45: 9 | E45: =SUM(B45:D45) -> 26 | F45: 4 | G45: 7 | H45: 12 | I45: =SUM(F45:H45) -> 23 | J45: 5 | K45: 6 | L45: 1 | M45: =SUM(J45:L45) -> 12 | N45: 2 | O45: 10 | P45: 7 | Q45: =SUM(N45:P45) -> 19 | R45: =M45+I45+E45+Q45 -> 80
A46: Ilość odrzuconych ofert przez kontrahenta: | B46: 6 | C46: 10 | D46: 7 | E46: =SUM(B46:D46) -> 23 | F46: 3 | G46: 8 | H46: 11 | I46: =SUM(F46:H46) -> 22 | J46: 2 | K46: 5 | L46: 4 | M46: =SUM(J46:L46) -> 11 | N46: 1 | O46: 7 | P46: 7 | Q46: =SUM(N46:P46) -> 15 | R46: =M46+I46+E46+Q46 -> 71
A47: Ilość przekazanych podmiotów: | B47: 6 | C47: 3 | D47: 5 | E47: =SUM(B47:D47) -> 14 | F47: 6 | G47: 1 | H47: 5 | I47: =SUM(F47:H47) -> 12 | J47: 3 | K47: 3 | L47: 5 | M47: =SUM(J47:L47) -> 11 | N47: 22 | O47: 11 | P47: 9 | Q47: =SUM(N47:P47) -> 42 | R47: =M47+I47+E47+Q47 -> 79
A48: Ilość odebranych podmiotów (zmiana prowadzącego): | B48: 0 | C48: 0 | D48: 0 | E48: =SUM(B48:D48) -> 0 | F48: 0 | G48: 0 | H48: 0 | I48: =SUM(F48:H48) -> 0 | J48: 0 | K48: 0 | L48: 0 | M48: =SUM(J48:L48) -> 0 | N48: 0 | O48: 0 | P48: 0 | Q48: =SUM(N48:P48) -> 0 | R48: =M48+I48+E48+Q48 -> 0
A49: Ilość spotkań z Klientami: | B49: 0 | C49: 0 | D49: 0 | E49: =SUM(B49:D49) -> 0 | F49: 0 | G49: 0 | H49: 0 | I49: =SUM(F49:H49) -> 0 | J49: 0 | K49: 0 | L49: 0 | M49: =SUM(J49:L49) -> 0 | N49: 0 | O49: 0 | P49: 0 | Q49: =SUM(N49:P49) -> 0 | R49: =M49+I49+E49+Q49 -> 0
A50: Ilość aktualnie otwartych wdrożeń: | B50: 5 | C50: 3 | D50: 11 | F50: 6 | G50: 8 | H50: 6 | J50: 5 | K50: 10 | L50: 6 | N50: 11 | O50: 10 | P50: 5
A51: Ilość wdrożeń dodanych w danym miesiącu: | B51: 7 | C51: 4 | D51: 11 | E51: =SUM(B51:D51) -> 22 | F51: 8 | G51: 12 | H51: 8 | I51: =SUM(F51:H51) -> 28 | J51: 6 | K51: 4 | L51: 14 | M51: =SUM(J51:L51) -> 24 | N51: 9 | O51: 12 | P51: 6 | Q51: =SUM(N51:P51) -> 27 | R51: =M51+I51+E51+Q51 -> 101
A52: Ilość wdrożeń zamkniętych pozytywnie w danym mcu: | B52: 4 | C52: 1 | D52: 4 | E52: =SUM(B52:D52) -> 9 | F52: 5 | G52: 5 | H52: 6 | I52: =SUM(F52:H52) -> 16 | J52: 6 | K52: 2 | L52: 5 | M52: =SUM(J52:L52) -> 13 | N52: 1 | O52: 6 | P52: 4 | Q52: =SUM(N52:P52) -> 11 | R52: =M52+I52+E52+Q52 -> 49
A53: Ilość wdrożeń zamkniętych negatywnie w danym mcu: | B53: 5 | C53: 8 | D53: 0 | E53: =SUM(B53:D53) -> 13 | F53: 4 | G53: 5 | H53: 4 | I53: =SUM(F53:H53) -> 13 | J53: 2 | K53: 1 | L53: 10 | M53: =SUM(J53:L53) -> 13 | N53: 7 | O53: 7 | P53: 6 | Q53: =SUM(N53:P53) -> 20 | R53: =M53+I53+E53+Q53 -> 59
A54: Ilość aktualnie odłożonych wdrożeń: | B54: 3 | C54: 1 | D54: 1 | F54: 3 | G54: 3 | H54: 3 | J54: 4 | K54: 4 | L54: 4 | N54: 3 | O54: 3 | P54: 4

Sheet MIRU
A1: Mirosław Zagaja | M1: INDYWIDUALNY PLANY SPRZEDAŻY 2014 Mirosław Zagaja
A2: miesiąc | B2: październik | C2: listopad | D2: grudzień | F2: lipiec | G2: sierpień | H2: wrzesień | J2: kwiecień | K2: maj | L2: czerwiec | M2: styczeń | N2: luty | O2: marzec | P2: KW I | R2: suma
A4: Plan Sprzedaży Marża | B4: ='Target 2021'!L4 -> 34833.333 | C4: ='Target 2021'!M4 -> 38500 | D4: ='Target 2021'!N4 -> 36666.667 | F4: ='Target 2021'!I4 -> 31950 | G4: ='Target 2021'!J4 -> 35500 | H4: ='Target 2021'!K4 -> 39050 | I4: =SUM(F4:H4) -> 106500 | J4: ='Target 2021'!F4 -> 32100 | K4: ='Target 2021'!G4 -> 35666.667 | L4: ='Target 2021'!H4 -> 39233.333 | M4: ='Target 2021'!C4 -> 36000 | N4: ='Target 2021'!D4 -> 40000 | O4: ='Target 2021'!E4 -> 44000 | P4: =SUM(M4:O4) -> 120000 | Q4: =SUM(J4:L4) -> 107000 | R4: =M4+N4+O4+J4+K4+L4+F4+G4+H4+B4+C4+D4 -> 443500
A5: Sumaryczny Plan Sprzedaży Marża | B5: =B4 -> 34833.333 | C5: =C4+B5 -> 73333.333 | D5: =D4+C5 -> 110000 | F5: =F4 -> 31950 | G5: =G4+F5 -> 67450 | H5: =H4+G5 -> 106500 | J5: =J4 -> 32100 | K5: =K4+J5 -> 67766.667 | L5: =L4+K5 -> 107000 | M5: =M4 -> 36000 | N5: =N4+M5 -> 76000 | O5: =O4+N5 -> 120000 | R5: =R6/R4 -> 0.77776451
A6: Miesięczna realizacja Planu Sprzedaży Marża | B6: =SUMIF(X!A:A,$A$1,X!I:I) -> 28885.004 | C6: =SUMIF(XI!A:A,$A$1,XI!I:I) -> 21640.979 | D6: =SUMIF(XII!A:A,$A$1,XII!I:I) -> 55940.227 | F6: =SUMIF(VII!A:A,$A$1,VII!I:I) -> 23588.777 | G6: =SUMIF(VIII!A:A,$A$1,VIII!I:I) -> 31016.723 | H6: =SUMIF(IX!A:A,$A$1,IX!I:I) -> 17085.273 | J6: =SUMIF(IV!A:A,$A$1,IV!I:I) -> 20627.725 | K6: =SUMIF(V!A:A,$A$1,V!I:I) -> 22153.711 | L6: =SUMIF(VI!A:A,$A$1,VI!I:I) -> 34007.383 | M6: =SUMIF(I!A:A,$A$1,I!I:I) -> 26507.623 | N6: =SUMIF(II!A:A,$A$1,II!I:I) -> 29745.588 | O6: =SUMIF(III!A:A,$A$1,III!I:I) -> 33739.547 | P6: =SUM(M6:O6) -> 89992.758 | R6: =M6+N6+O6+J6+K6+L6+F6+G6+H6+B6+C6+D6 -> 344938.56
A7: Sumaryczna realizacja planu sprzedaży Marża | B7: =B6 -> 28885.004 | C7: =C6+B7 -> 50525.982 | D7: =D6+C7 -> 106466.21 | F7: =F6 -> 23588.777 | G7: =G6+F7 -> 54605.5 | H7: =H6+G7 -> 71690.773 | J7: =J6 -> 20627.725 | K7: =K6+J7 -> 42781.435 | L7: =L6+K7 -> 76788.818 | M7: =M6 -> 26507.623 | N7: =N6+M7 -> 56253.211 | O7: =O6+N7 -> 89992.758
A8: Wysokość zrealizowania Miesięcznego Planu Sprzedaży Marża | B8: =B6/B4 -> 0.82923456 | C8: =C6/C4 -> 0.56210334 | D8: =D6/D4 -> 1.5256425 | F8: =F6/F4 -> 0.73830289 | G8: =G6/G4 -> 0.8737105 | H8: =H6/H4 -> 0.43752301 | J8: =J6/J4 -> 0.64260824 | K8: =K6/K4 -> 0.62113208 | L8: =L6/L4 -> 0.8667982 | M8: =M6/M4 -> 0.73632286 | N8: =N6/N4 -> 0.7436397 | O8: =O6/O4 -> 0.76680788
A9: Wysokość zrealizowania Planu Sprzedaży Marża | B9: =B7/B5 -> 0.82923456 | C9: =C7/C5 -> 0.68899067 | D9: =D7/D5 -> 0.96787463 | F9: =F7/F5 -> 0.73830289 | G9: =G7/G5 -> 0.80957005 | H9: =H7/H5 -> 0.6731528 | J9: =J7/J5 -> 0.64260824 | K9: =K7/K5 -> 0.631305 | L9: =L7/L5 -> 0.71765251 | M9: =M7/M5 -> 0.73632286 | N9: =N7/N5 -> 0.74017383 | O9: =O7/O5 -> 0.74993965
A10: Różnica wskaźnika Marża | B10: =B7-B5 -> -5948.3294 | C10: =C7-C5 -> -22807.351 | D10: =D7-D5 -> -3533.791 | F10: =F7-F5 -> -8361.2227 | G10: =G7-G5 -> -12844.5 | H10: =H7-H5 -> -34809.227 | J10: =J7-J5 -> -11472.275 | K10: =K7-K5 -> -24985.231 | L10: =L7-L5 -> -30211.182 | M10: =M7-M5 -> -9492.377 | N10: =N7-N5 -> -19746.789 | O10: =O7-O5 -> -30007.242
A11: Miesięczny Obrót | B11: =SUMIF(X!A:A,$A$1,X!G:G) -> 109943.29 | C11: =SUMIF(XI!A:A,$A$1,XI!G:G) -> 73362.039 | D11: =SUMIF(XII!A:A,$A$1,XII!G:G) -> 173449.56 | F11: =SUMIF(VII!A:A,$A$1,VII!G:G) -> 82455.609 | G11: =SUMIF(VIII!A:A,$A$1,VIII!G:G) -> 99166.57 | H11: =SUMIF(IX!A:A,$A$1,IX!G:G) -> 62456.172 | J11: =SUMIF(IV!A:A,$A$1,IV!G:G) -> 68708.82 | K11: =SUMIF(V!A:A,$A$1,V!G:G) -> 89520.273 | L11: =SUMIF(VI!A:A,$A$1,VI!G:G) -> 95160.406 | M11: =SUMIF(I!A:A,$A$1,I!G:G) -> 83877.383 | N11: =SUMIF(II!A:A,$A$1,II!G:G) -> 98597.656 | O11: =SUMIF(III!A:A,$A$1,III!G:G) -> 114692.55 | P11: =SUM(M11:O11) -> 297167.59 | R11: =SUM(M11:P11) -> 594335.17
A12: Sumaryczny Obrót | B12: =B11 -> 109943.29 | C12: =C11+B12 -> 183305.33 | D12: =D11+C12 -> 356754.89 | F12: =F11 -> 82455.609 | G12: =G11+F12 -> 181622.18 | H12: =H11+G12 -> 244078.35 | J12: =J11 -> 68708.82 | K12: =K11+J12 -> 158229.09 | L12: =L11+K12 -> 253389.5 | M12: =M11 -> 83877.383 | N12: =N11+M12 -> 182475.04 | O12: =O11+N12 -> 297167.59
A13: Wysokość Marży miesięcznej | B13: =B6/B11 -> 0.26272639 | C13: =C6/C11 -> 0.29498878 | D13: =D6/D11 -> 0.32251581 | F13: =F6/F11 -> 0.2860785 | G13: =G6/G11 -> 0.31277398 | H13: =H6/H11 -> 0.27355621 | J13: =J6/J11 -> 0.30021946 | K13: =K6/K11 -> 0.24747144 | L13: =L6/L11 -> 0.35736904 | M13: =M6/M11 -> 0.31602826 | N13: =N6/N11 -> 0.30168656 | O13: =O6/O11 -> 0.29417384
A14: Wysokość Marży sumarycznej | B14: =B7/B12 -> 0.26272639 | C14: =C7/C12 -> 0.27563837 | D14: =D7/D12 -> 0.29842957 | F14: =F7/F12 -> 0.2860785 | G14: =G7/G12 -> 0.30065436 | H14: =H7/H12 -> 0.29372033 | J14: =J7/J12 -> 0.30021946 | K14: =K7/K12 -> 0.27037654 | L14: =L7/L12 -> 0.30304657 | M14: =M7/M12 -> 0.31602826 | N14: =N7/N12 -> 0.30827894 | O14: =O7/O12 -> 0.30283504
A16: Raport za miesiąc: | B16: paździer. | C16: listopad | D16: grudzień | E16: Suma | F16: lipiec | G16: sierpień | H16: wrzesień | I16: Suma | J16: kwiecień | K16: maj | L16: czerwiec | M16: styczeń | N16: luty | O16: marzec | P16: Suma | Q16: Suma | R16: Suma
A17: Ilość nowych Klientów: | B17: 0 | C17: 0 | D17: 0 | E17: =SUM(B17:D17) -> 0 | F17: 0 | G17: 0 | H17: 0 | I17: =SUM(F17:H17) -> 0 | J17: 0 | K17: 0 | L17: 0 | M17: 0 | N17: 0 | O17: 0 | P17: =SUM(M17:O17) -> 0 | Q17: =SUM(J17:L17) -> 0 | R17: =Q17+I17+E17+P17 -> 0
A18: Ilość Podmiotów na etapie współpracy Klient: | B18: 28 | C18: 28 | D18: 28 | F18: 28 | G18: 28 | H18: 28 | J18: 28 | K18: 28 | L18: 28 | M18: 30 | N18: 30 | O18: 29
A19: Ilość Podmiotów na etapie współpracy Handlowy: | B19: 0 | C19: 0 | D19: 0 | F19: 0 | G19: 0 | H19: 0 | J19: 0 | K19: 0 | L19: 0 | M19: 0 | N19: 0 | O19: 0
A20: Ilość Podmiotów na etapie współpracy Klient nieaktywny: | B20: 0 | C20: 0 | D20: 0 | F20: 0 | G20: 0 | H20: 0 | J20: 0 | K20: 0 | L20: 0 | M20: 0 | N20: 0 | O20: 0
A21: Ilość Podmiotów pod opieką: | B21: =SUM(B17:B20) -> 28 | C21: =SUM(C17:C20) -> 28 | D21: =SUM(D17:D20) -> 28 | F21: 28 | G21: 28 | H21: 28 | J21: 28 | K21: 28 | L21: 28 | M21: 30 | N21: 30 | O21: 29
A22: Ilość sprzedanych drukarek: | B22: 0 | C22: 14 | D22: 0 | E22: =SUM(B22:D22) -> 14 | F22: 1 | G22: 0 | H22: 1 | I22: =SUM(F22:H22) -> 2 | J22: 0 | K22: 0 | L22: 0 | M22: 0 | N22: 0 | O22: 1 | P22: =SUM(M22:O22) -> 1 | Q22: =SUM(J22:L22) -> 0 | R22: =Q22+I22+E22+P22 -> 17
A23: Ilość ofert dodanych w danym miesiącu: | B23: 9 | C23: 13 | D23: 2 | E23: =SUM(B23:D23) -> 24 | F23: 6 | G23: 11 | H23: 4 | I23: =SUM(F23:H23) -> 21 | J23: 5 | K23: 3 | L23: 4 | M23: 8 | N23: 3 | O23: 4 | P23: =SUM(M23:O23) -> 15 | Q23: =SUM(J23:L23) -> 12 | R23: =Q23+I23+E23+P23 -> 72
A24: Ilość ofert oczekujących na decyzję kontrahenta: | B24: 2 | C24: 4 | D24: 0 | F24: 2 | G24: 4 | H24: 2 | J24: 2 | K24: 3 | L24: 1 | M24: 5 | N24: 2 | O24: 2
A25: Ilość zaakceptowanych ofert przez kontrahenta: | B25: 7 | C25: 7 | D25: 6 | E25: =SUM(B25:D25) -> 20 | F25: 4 | G25: 2 | H25: 4 | I25: =SUM(F25:H25) -> 10 | J25: 4 | K25: 1 | L25: 1 | M25: 3 | N25: 3 | O25: 3 | P25: =SUM(M25:O25) -> 9 | Q25: =SUM(J25:L25) -> 6 | R25: =Q25+I25+E25+P25 -> 45
A26: Ilość odrzuconych ofert przez kontrahenta: | B26: 4 | C26: 4 | D26: 0 | E26: =SUM(B26:D26) -> 8 | F26: 4 | G26: 4 | H26: 3 | I26: =SUM(F26:H26) -> 11 | J26: 1 | K26: 1 | L26: 2 | M26: 4 | N26: 1 | O26: 5 | P26: =SUM(M26:O26) -> 10 | Q26: =SUM(J26:L26) -> 4 | R26: =Q26+I26+E26+P26 -> 33
A27: Ilość przekazanych podmiotów: | B27: 0 | C27: 0 | D27: 0 | E27: =SUM(B27:D27) -> 0 | F27: 0 | G27: 0 | H27: 0 | I27: =SUM(F27:H27) -> 0 | J27: 0 | K27: 0 | L27: 0 | M27: 0 | N27: 0 | O27: 0 | P27: =SUM(M27:O27) -> 0 | Q27: =SUM(J27:L27) -> 0 | R27: =Q27+I27+E27+P27 -> 0
A28: Ilość odebranych podmiotów (zmiana prowadzącego): | B28: 1 | C28: 0 | D28: 0 | E28: =SUM(B28:D28) -> 1 | F28: 0 | G28: 0 | H28: 0 | I28: =SUM(F28:H28) -> 0 | J28: 0 | K28: 0 | L28: 0 | M28: 0 | N28: 0 | O28: 0 | P28: =SUM(M28:O28) -> 0 | Q28: =SUM(J28:L28) -> 0 | R28: =Q28+I28+E28+P28 -> 1
A29: Ilość spotkań z Klientami: | B29: 0 | C29: 1 | D29: 1 | E29: =SUM(B29:D29) -> 2 | F29: 0 | G29: 2 | H29: 0 | I29: =SUM(F29:H29) -> 2 | J29: 1 | K29: 0 | L29: 4 | M29: 0 | N29: 1 | O29: 0 | P29: =SUM(M29:O29) -> 1 | Q29: =SUM(J29:L29) -> 5 | R29: =Q29+I29+E29+P29 -> 10
A30: Ilość aktualnie otwartych wdrożeń: | B30: 9 | C30: 8 | D30: 6 | F30: 12 | G30: 10 | H30: 9 | J30: 9 | K30: 9 | L30: 10 | M30: 12 | N30: 11 | O30: 9
A31: Ilość wdrożeń dodanych w danym miesiącu: | B31: 0 | C31: 2 | D31: 4 | E31: =SUM(B31:D31) -> 6 | F31: 3 | G31: 0 | H31: 2 | I31: =SUM(F31:H31) -> 5 | J31: 0 | K31: 0 | L31: 1 | M31: 0 | N31: 0 | O31: 0 | P31: =SUM(M31:O31) -> 0 | Q31: =SUM(J31:L31) -> 1 | R31: =Q31+I31+E31+P31 -> 12
A32: Ilość wdrożeń zamkniętych pozytywnie w danym mcu: | B32: 0 | C32: 3 | D32: 5 | E32: =SUM(B32:D32) -> 8 | F32: 0 | G32: 1 | H32: 2 | I32: =SUM(F32:H32) -> 3 | J32: 0 | K32: 0 | L32: 0 | M32: 0 | N32: 1 | O32: 0 | P32: =SUM(M32:O32) -> 1 | Q32: =SUM(J32:L32) -> 0 | R32: =Q32+I32+E32+P32 -> 12
A33: Ilość wdrożeń zamkniętych negatywnie w danym mcu: | B33: 0 | C33: 1 | D33: 0 | E33: =SUM(B33:D33) -> 1 | F33: 1 | G33: 1 | H33: 0 | I33: =SUM(F33:H33) -> 2 | J33: 0 | K33: 0 | L33: 0 | M33: 0 | N33: 0 | O33: 0 | P33: =SUM(M33:O33) -> 0 | Q33: =SUM(J33:L33) -> 0 | R33: =Q33+I33+E33+P33 -> 3
A34: Ilość aktualnie odłożonych wdrożeń: | B34: 0 | C34: 0 | D34: 0 | F34: 0 | G34: 0 | H34: 0 | J34: 0 | K34: 0 | L34: 0 | M34: 0 | N34: 0 | O34: 0

Sheet BARTEK
A1: Bartłomiej Biskupski | B1: PLAN IV KW BARTŁOMIEJ BISKUPSKI | F1: PLAN III KW BARTŁOMIEJ BISKUPSKI | J1: PLAN II KW BARTŁOMIEJ BISKUPSKI | N1: PLAN I KW BARTŁOMIEJ BISKUPSKI
A2: miesiąc | B2: październik | C2: listopad | D2: grudzień | E2: KW IV | F2: lipiec | G2: sierpień | H2: wrzesień | I2: KW III | J2: kwiecień | K2: maj | L2: czerwiec | M2: KW II | N2: styczeń | O2: luty | P2: marzec | Q2: KW I | R2: suma ROK
A4: Plan Sprzedaży Marża | B4: ='Target 2021'!L7 -> 60166.667 | C4: ='Target 2021'!M7 -> 66500 | D4: ='Target 2021'!N7 -> 63333.333 | E4: =SUM(B4:D4) -> 190000 | F4: ='Target 2021'!I7 -> 63000 | G4: ='Target 2021'!J7-4000 -> 66000 | H4: ='Target 2021'!K7+3000+4000 -> 84000 | I4: =SUM(F4:H4) -> 213000 | J4: ='Target 2021'!F7 -> 61500 | K4: ='Target 2021'!G7 -> 68333.333 | L4: ='Target 2021'!H7-4000 -> 71166.667 | M4: =SUM(J4:L4) -> 201000 | N4: ='Target 2021'!C7-6700 -> 54500 | O4: ='Target 2021'!D7-5000 -> 63000 | P4: ='Target 2021'!E7+6700+5000 -> 86500 | Q4: =SUM(N4:P4) -> 204000 | R4: =Q4+M4+I4+E4 -> 808000
A5: Sumaryczny Plan Sprzedaży Marża | B5: =B4 -> 60166.667 | C5: =C4+B5 -> 126666.67 | D5: =D4+C5 -> 190000 | F5: =F4 -> 63000 | G5: =G4+F5 -> 129000 | H5: =H4+G5 -> 213000 | J5: =J4 -> 61500 | K5: =K4+J5 -> 129833.33 | L5: =L4+K5 -> 201000 | N5: =N4 -> 54500 | O5: =O4+N5 -> 117500 | P5: =P4+O5 -> 204000 | R5: =R6/R4 -> 0.92169753
A6: Miesięczna realizacja Planu Sprzedaży Marża | B6: =SUMIF(X!A:A,$A$1,X!I:I) -> 58474.131 | C6: =SUMIF(XI!A:A,$A$1,XI!I:I) -> 70566.398 | D6: =SUMIF(XII!A:A,$A$1,XII!I:I) -> 68388.283 | E6: =SUM(B6:D6) -> 197428.81 | F6: =SUMIF(VII!A:A,$A$1,VII!I:I) -> 67795.89 | G6: =SUMIF(VIII!A:A,$A$1,VIII!I:I) -> 55693.687 | H6: =SUMIF(IX!A:A,$A$1,IX!I:I) -> 79028.11 | I6: =SUM(F6:H6) -> 202517.69 | J6: =SUMIF(IV!A:A,$A$1,IV!I:I) -> 68381.764 | K6: =SUMIF(V!A:A,$A$1,V!I:I) -> 67462.391 | L6: =SUMIF(VI!A:A,$A$1,VI!I:I) -> 45131.943 | M6: =SUM(J6:L6) -> 180976.1 | N6: =SUMIF(I!A:A,$A$1,I!I:I) -> 49214.051 | O6: =SUMIF(II!A:A,$A$1,II!I:I) -> 46091.911 | P6: =SUMIF(III!A:A,$A$1,III!I:I) -> 68503.047 | Q6: =SUM(N6:P6) -> 163809.01 | R6: =Q6+M6+I6+E6 -> 744731.61
A7: Sumaryczna realizacja planu sprzedaży Marża | B7: =B6 -> 58474.131 | C7: =C6+B7 -> 129040.53 | D7: =D6+C7 -> 197428.81 | F7: =F6 -> 67795.89 | G7: =G6+F7 -> 123489.58 | H7: =H6+G7 -> 202517.69 | J7: =J6 -> 68381.764 | K7: =K6+J7 -> 135844.15 | L7: =L6+K7 -> 180976.1 | N7: =N6 -> 49214.051 | O7: =O6+N7 -> 95305.962 | P7: =P6+O7 -> 163809.01
A8: Wysokość zrealizowania Miesięcznego Planu Sprzedaży Marża | B8: =B6/B4 -> 0.97186921 | C8: =C6/C4 -> 1.0611488 | D8: =D6/D4 -> 1.079815 | E8: =E4*1.05 -> 199500 | F8: =F6/F4 -> 1.0761252 | G8: =G6/G4 -> 0.84384374 | H8: =H6/H4 -> 0.94081084 | J8: =J6/J4 -> 1.1118986 | K8: =K6/K4 -> 0.9872545 | L8: =L6/L4 -> 0.63417251 | N8: =N6/N4 -> 0.90301011 | O8: =O6/O4 -> 0.73161763 | P8: =P6/P4 -> 0.79194274 | Q8: =N5*0.9 -> 49050
A9: Wysokość zrealizowania Planu Sprzedaży Marża | B9: =B7/B5 -> 0.97186921 | C9: =C7/C5 -> 1.018741 | D9: =D7/D5 -> 1.039099 | E9: =E8-E6 -> 2071.1879 | F9: =F7/F5 -> 1.0761252 | G9: =G7/G5 -> 0.95728354 | H9: =H7/H5 -> 0.95078726 | J9: =J7/J5 -> 1.1118986 | K9: =K7/K5 -> 1.0462964 | L9: =L7/L5 -> 0.9003786 | N9: =N7/N5 -> 0.90301011 | O9: =O7/O5 -> 0.81111457 | P9: =P7/P5 -> 0.80298534
A10: Różnica wskaźnika Marża | B10: =B7-B5 -> -1692.5361 | C10: =C7-C5 -> 2373.8623 | D10: =D7-D5 -> 7428.8121 | F10: =F7-F5 -> 4795.8897 | G10: =G7-G5 -> -5510.4236 | H10: =H7-H5 -> -10482.313 | J10: =J7-J5 -> 6881.7638 | K10: =K7-K5 -> 6010.8211 | L10: =L7-L5 -> -20023.902 | N10: =N7-N5 -> -5285.9492 | O10: =O7-O5 -> -22194.038 | P10: =P7-P5 -> -40190.992
A11: Miesięczny Obrót | B11: =SUMIF(X!A:A,$A$1,X!G:G) -> 169157.69 | C11: =SUMIF(XI!A:A,$A$1,XI!G:G) -> 167411.38 | D11: =SUMIF(XII!A:A,$A$1,XII!G:G) -> 215811.16 | E11: =SUM(B11:D11) -> 552380.22 | F11: =SUMIF(VII!A:A,$A$1,VII!G:G) -> 214979.72 | G11: =SUMIF(VIII!A:A,$A$1,VIII!G:G) -> 246649.64 | H11: =SUMIF(IX!A:A,$A$1,IX!G:G) -> 222187.92 | I11: =SUM(F11:H11) -> 683817.28 | J11: =SUMIF(IV!A:A,$A$1,IV!G:G) -> 177010.75 | K11: =SUMIF(V!A:A,$A$1,V!G:G) -> 238140.2 | L11: =SUMIF(VI!A:A,$A$1,VI!G:G) -> 140238.08 | M11: =SUM(J11:L11) -> 555389.03 | N11: =SUMIF(I!A:A,$A$1,I!G:G) -> 153605.17 | O11: =SUMIF(II!A:A,$A$1,II!G:G) -> 141858.27 | P11: =SUMIF(III!A:A,$A$1,III!G:G) -> 200199.95 | Q11: =SUM(N11:P11) -> 495663.39 | R11: =Q11+M11+I11+E11 -> 2287249.9
A12: Sumaryczny Obrót | B12: =B11 -> 169157.69 | C12: =C11+B12 -> 336569.06 | D12: =D11+C12 -> 552380.22 | F12: =F11 -> 214979.72 | G12: =G11+F12 -> 461629.36 | H12: =H11+G12 -> 683817.28 | J12: =J11 -> 177010.75 | K12: =K11+J12 -> 415150.95 | L12: =L11+K12 -> 555389.03 | N12: =N11 -> 153605.17 | O12: =O11+N12 -> 295463.44 | P12: =P11+O12 -> 495663.39
A13: Wysokość Marży miesięcznej | B13: =B6/B11 -> 0.34567823 | C13: =C6/C11 -> 0.42151496 | D13: =D6/D11 -> 0.31688947 | F13: =F6/F11 -> 0.31535947 | G13: =G6/G11 -> 0.2258008 | H13: =H6/H11 -> 0.3556814 | J13: =J6/J11 -> 0.38631419 | K13: =K6/K11 -> 0.28328854 | L13: =L6/L11 -> 0.32182374 | N13: =N6/N11 -> 0.32039319 | O13: =O6/O11 -> 0.32491523 | P13: =P6/P11 -> 0.34217314
A14: Wysokość Marży sumarycznej | B14: =B7/B12 -> 0.34567823 | C14: =C7/C12 -> 0.38339985 | D14: =D7/D12 -> 0.3574147 | F14: =F7/F12 -> 0.31535947 | G14: =G7/G12 -> 0.26750806 | H14: =H7/H12 -> 0.2961576 | J14: =J7/J12 -> 0.38631419 | K14: =K7/K12 -> 0.32721629 | L14: =L7/L12 -> 0.32585465 | N14: =N7/N12 -> 0.32039319 | O14: =O7/O12 -> 0.32256432 | P14: =P7/P12 -> 0.33048438
N16: PREMIE
A17: Wynagrodzenie zasadnicze | B17: 5000 | C17: 5000 | D17: 5000 | F17: 5000 | G17: 5000 | H17: 5000 | J17: 5000 | K17: 5000 | L17: 5000 | N17: 4600 | O17: 5000 | P17: 5000
A18: Wskaźnik Plan Sprzedaży Marża | B18: =B5 -> 60166.667 | C18: =C5 -> 126666.67 | D18: =D5 -> 190000 | F18: =F5 -> 63000 | G18: =G5 -> 129000 | H18: =H5 -> 213000 | J18: =J5 -> 61500 | K18: =K5 -> 129833.33 | L18: =L5 -> 201000 | N18: =N5 -> 54500 | O18: =O5 -> 117500 | P18: =P5 -> 204000
A19: Realizacja Wskaźnika Planu Sprzedaży Marża | B19: =B7 -> 58474.131 | C19: =C7 -> 129040.53 | D19: =D7 -> 197428.81 | F19: =F7 -> 67795.89 | G19: =G7 -> 123489.58 | H19: =H7 -> 202517.69 | J19: =J7 -> 68381.764 | K19: =K7 -> 135844.15 | L19: =L7 -> 180976.1 | N19: =N7 -> 49214.051 | O19: =O7 -> 95305.962 | P19: =P7 -> 163809.01
A20: Poziom realizacji Wskaźnika Sprzedaży Marża | B20: =B19/B18 -> 0.97186921 | C20: =C19/C18 -> 1.018741 | D20: =D19/D18 -> 1.039099 | F20: =F19/F18 -> 1.0761252 | G20: =G19/G18 -> 0.95728354 | H20: =H19/H18 -> 0.95078726 | J20: =J19/J18 -> 1.1118986 | K20: =K19/K18 -> 1.0462964 | L20: =L19/L18 -> 0.9003786 | N20: =N19/N18 -> 0.90301011 | O20: =O19/O18 -> 0.81111457 | P20: =P19/P18 -> 0.80298534
A21: Wysokość premii Wskaźnik Sprzedaży Marża | B21: =B17*0.35 -> 1750 | C21: =C17*0.35 -> 1750 | D21: =D17*0.35 -> 1750 | F21: =F17*0.35 -> 1750 | G21: =G17*0.35 -> 1750 | H21: =H17*0.35 -> 1750 | J21: =J17*0.35 -> 1750 | K21: =K17*0.35 -> 1750 | L21: =L17*0.35 -> 1750 | N21: =N17*0.35 -> 1610 | O21: =O17*0.35 -> 1750 | P21: =P17*0.35 -> 1750
A22: Mnożnik premii miesięcznej Wskaźnika Sprzedaży Marża | B22: =IF(B20<80%,0,IF(B20<90%,0.5,IF(B20<95%,0.75,1))) -> 1 | C22: =IF(C20<80%,0,IF(C20<90%,0.5,IF(C20<95%,0.75,1))) -> 1 | D22: =IF(D20<80%,0,IF(D20<90%,0.5,IF(D20<95%,0.75,1))) -> 1 | F22: =IF(F20<80%,0,IF(F20<90%,0.5,IF(F20<95%,0.75,1))) -> 1 | G22: =IF(G20<80%,0,IF(G20<90%,0.5,IF(G20<95%,0.75,1))) -> 1 | H22: =IF(H20<80%,0,IF(H20<90%,0.5,IF(H20<95%,0.75,1))) -> 1 | J22: =IF(J20<80%,0,IF(J20<90%,0.5,IF(J20<95%,0.75,1))) -> 1 | K22: =IF(K20<80%,0,IF(K20<90%,0.5,IF(K20<95%,0.75,1))) -> 1 | L22: =IF(L20<80%,0,IF(L20<90%,0.5,IF(L20<95%,0.75,1))) -> 0.75 | N22: =IF(N20<80%,0,IF(N20<90%,0.5,IF(N20<95%,0.75,1))) -> 0.75 | O22: =IF(O20<80%,0,IF(O20<90%,0.5,IF(O20<95%,0.75,1))) -> 0.5 | P22: =IF(P20<80%,0,IF(P20<90%,0.5,IF(P20<95%,0.75,1))) -> 0.5
A23: Premia miesięczna za Wskaźnik Sprzedaży Marża | B23: =B22*B21 -> 1750 | C23: =C22*C21 -> 1750 | D23: =D22*D21 -> 1750 | F23: =F22*F21 -> 1750 | G23: =G22*G21 -> 1750 | H23: =H22*H21 -> 1750 | J23: =J22*J21 -> 1750 | K23: =K22*K21 -> 1750 | L23: =L22*L21 -> 1312.5 | N23: =N22*N21 -> 1207.5 | O23: =O22*O21 -> 875 | P23: =P22*P21 -> 875
A24: Wskaźnik CRM | B24: 1 | C24: 1 | D24: 1 | F24: 1 | G24: 1 | H24: 1 | J24: 1 | K24: 1 | L24: 1 | N24: 1 | O24: 1 | P24: 1
A25: Wysokość premii CRM | B25: =B17*0.05 -> 250 | C25: =C17*0.05 -> 250 | D25: =D17*0.05 -> 250 | F25: =F17*0.05 -> 250 | G25: =G17*0.05 -> 250 | H25: =H17*0.05 -> 250 | J25: =J17*0.05 -> 250 | K25: =K17*0.05 -> 250 | L25: =L17*0.05 -> 250 | N25: =N17*0.05 -> 230 | O25: =O17*0.05 -> 250 | P25: =P17*0.05 -> 250
A26: Mnożnik premii Wskaźnik CRM | B26: 1 | C26: 1 | D26: 1 | F26: 1 | G26: 1 | H26: 1 | J26: 0.5 | K26: 1 | L26: 1 | N26: 1 | O26: 1 | P26: 0.5
A27: Premia miesięczna za Wskaźnik CRM | B27: =B26*B25 -> 250 | C27: =C26*C25 -> 250 | D27: =D26*D25 -> 250 | F27: =F26*F25 -> 250 | G27: =G26*G25 -> 250 | H27: =H26*H25 -> 250 | J27: =J26*J25 -> 125 | K27: =K26*K25 -> 250 | L27: =L26*L25 -> 250 | N27: =N26*N25 -> 230 | O27: =O26*O25 -> 250 | P27: =P26*P25 -> 125
A28: Suma Premii miesięcznych | B28: =B23+B27 -> 2000 | C28: =C23+C27 -> 2000 | D28: =D23+D27 -> 2000 | F28: =F23+F27 -> 2000 | G28: =G23+G27 -> 2000 | H28: =H23+H27 -> 2000 | J28: =J23+J27 -> 1875 | K28: =K23+K27 -> 2000 | L28: =L23+L27 -> 1562.5 | N28: =N23+N27 -> 1437.5 | O28: =O23+O27 -> 1125 | P28: =P23+P27 -> 1000 | R28: =SUM(B28:P28) -> 21000
A29: Wskaźnik Premia Kwartalna Marża | B29: =D5 -> 190000 | F29: =H5 -> 213000 | J29: =L5 -> 201000 | N29: =P5 -> 204000
A30: Realizacja Wskaźnika Premia Kwartalna | B30: =D7 -> 197428.81 | F30: =H7 -> 202517.69 | J30: =L7 -> 180976.1 | N30: =P7 -> 163809.01
A31: Poziom realizacji Wskaźnika Premia Kwartalna | B31: =B30/B29 -> 1.039099 | F31: =F30/F29 -> 0.95078726 | J31: =J30/J29 -> 0.9003786 | N31: =N30/N29 -> 0.80298534
A32: Wysokość premii kwartalnej. | B32: =D17 -> 5000 | F32: =H17 -> 5000 | J32: =L17 -> 5000 | N32: =P17 -> 5000
A33: Mnożnik premii kwartalnej | B33: =IF(B31<100%,0,IF(B31<105%,0.5,IF(B31<110%,0.7,1))) -> 0.5 | F33: =IF(F31<100%,0,IF(F31<105%,0.5,IF(F31<110%,0.7,1))) -> 0 | J33: =IF(J31<100%,0,IF(J31<105%,0.5,IF(J31<110%,0.7,1))) -> 0 | N33: =IF(N31<100%,0,IF(N31<105%,0.5,IF(N31<110%,0.7,1))) -> 0
A34: Premia kwartalna | B34: =B33*B32 -> 2500 | F34: =F33*F32 -> 0 | J34: =J33*J32 -> 0 | N34: =N33*N32 -> 0 | R34: =SUM(B34:P34) -> 2500
A36: Raport za miesiąc: | B36: paździer. | C36: listopad | D36: grudzień | E36: Suma | F36: lipiec | G36: sierpień | H36: wrzesień | I36: Suma | J36: kwiecień | K36: maj | L36: czerwiec | M36: Suma | N36: styczeń | O36: luty | P36: marzec | Q36: Suma | R36: Suma
A37: Ilość nowych Klientów: | B37: 1 | C37: 0 | D37: 1 | E37: =SUM(B37:D37) -> 2 | F37: 4 | G37: 1 | H37: 2 | I37: =SUM(F37:H37) -> 7 | J37: 0 | K37: 0 | L37: 0 | M37: =SUM(J37:L37) -> 0 | N37: 1 | O37: 1 | P37: 0 | Q37: =SUM(N37:P37) -> 2 | R37: =M37+I37+E37+Q37 -> 11
A38: Ilość Podmiotów na etapie współpracy Klient: | B38: 83 | C38: 84 | D38: 85 | F38: 77 | G38: 79 | H38: 81 | J38: 73 | K38: 73 | L38: 73 | N38: 67 | O38: 69 | P38: 71
A39: Ilość Podmiotów na etapie współpracy Handlowy: | B39: 9 | C39: 12 | D39: 11 | F39: 24 | G39: 25 | H39: 20 | J39: 18 | K39: 22 | L39: 25 | N39: 18 | O39: 17 | P39: 17
A40: Ilość Podmiotów na etapie współpracy Klient nieaktywny: | B40: 11 | C40: 9 | D40: 9 | F40: 24 | G40: 23 | H40: 23 | J40: 21 | K40: 22 | L40: 23 | N40: 22 | O40: 21 | P40: 22
A41: Ilość Podmiotów pod opieką: | B41: =SUM(B38:B40) -> 103 | C41: =SUM(C38:C40) -> 105 | D41: =SUM(D38:D40) -> 105 | F41: 125 | G41: 127 | H41: 124 | J41: 112 | K41: 117 | L41: 121 | N41: 107 | O41: 107 | P41: 110
A42: Ilość sprzedanych drukarek: | B42: 2 | C42: 1 | D42: 5 | E42: =SUM(B42:D42) -> 8 | F42: 4 | G42: 20 | H42: 1 | I42: =SUM(F42:H42) -> 25 | J42: 1 | K42: 0 | L42: 1 | M42: =SUM(J42:L42) -> 2 | N42: 2 | O42: 1 | P42: 2 | Q42: =SUM(N42:P42) -> 5 | R42: =M42+I42+E42+Q42 -> 40
A43: Ilość ofert dodanych w danym miesiącu: | B43: 19 | C43: 19 | D43: 30 | E43: =SUM(B43:D43) -> 68 | F43: 27 | G43: 19 | H43: 20 | I43: =SUM(F43:H43) -> 66 | J43: 39 | K43: 23 | L43: 32 | M43: =SUM(J43:L43) -> 94 | N43: 32 | O43: 42 | P43: 39 | Q43: =SUM(N43:P43) -> 113 | R43: =M43+I43+E43+Q43 -> 341
A44: Ilość ofert oczekujących na decyzję kontrahenta: | B44: 10 | C44: 10 | D44: 5 | F44: 3 | G44: 9 | H44: 3 | J44: 15 | K44: 10 | L44: 9 | N44: 12 | O44: 18 | P44: 20
A45: Ilość zaakceptowanych ofert przez kontrahenta: | B45: 7 | C45: 6 | D45: 21 | E45: =SUM(B45:D45) -> 34 | F45: 15 | G45: 10 | H45: 14 | I45: =SUM(F45:H45) -> 39 | J45: 24 | K45: 10 | L45: 13 | M45: =SUM(J45:L45) -> 47 | N45: 7 | O45: 23 | P45: 20 | Q45: =SUM(N45:P45) -> 50 | R45: =M45+I45+E45+Q45 -> 170
A46: Ilość odrzuconych ofert przez kontrahenta: | B46: 5 | C46: 11 | D46: 16 | E46: =SUM(B46:D46) -> 32 | F46: 19 | G46: 5 | H46: 12 | I46: =SUM(F46:H46) -> 36 | J46: 20 | K46: 19 | L46: 17 | M46: =SUM(J46:L46) -> 56 | N46: 20 | O46: 11 | P46: 18 | Q46: =SUM(N46:P46) -> 49 | R46: =M46+I46+E46+Q46 -> 173
A47: Ilość przekazanych podmiotów: | B47: 3 | C47: 2 | D47: 1 | E47: =SUM(B47:D47) -> 6 | F47: 4 | G47: 1 | H47: 0 | I47: =SUM(F47:H47) -> 5 | J47: 4 | K47: 1 | L47: 3 | M47: =SUM(J47:L47) -> 8 | N47: 2 | O47: 2 | P47: 1 | Q47: =SUM(N47:P47) -> 5 | R47: =M47+I47+E47+Q47 -> 24
A48: Ilość odebranych podmiotów (zmiana prowadzącego): | B48: 0 | C48: 0 | D48: 0 | E48: =SUM(B48:D48) -> 0 | F48: 0 | G48: 0 | H48: 0 | I48: =SUM(F48:H48) -> 0 | J48: 0 | K48: 0 | L48: 0 | M48: =SUM(J48:L48) -> 0 | N48: 0 | O48: 0 | P48: 0 | Q48: =SUM(N48:P48) -> 0 | R48: =M48+I48+E48+Q48 -> 0
A49: Ilość spotkań z Klientami: | B49: 1 | C49: 5 | D49: 3 | E49: =SUM(B49:D49) -> 9 | F49: 2 | G49: 4 | H49: 1 | I49: =SUM(F49:H49) -> 7 | J49: 1 | K49: 0 | L49: 6 | M49: =SUM(J49:L49) -> 7 | N49: 1 | O49: 0 | P49: 0 | Q49: =SUM(N49:P49) -> 1 | R49: =M49+I49+E49+Q49 -> 24
A50: Ilość aktualnie otwartych wdrożeń: | B50: 23 | C50: 26 | D50: 28 | F50: 28 | G50: 27 | H50: 23 | J50: 32 | K50: 30 | L50: 33 | N50: 39 | O50: 38 | P50: 29
A51: Ilość wdrożeń dodanych w danym miesiącu: | B51: 13 | C51: 10 | D51: 17 | E51: =SUM(B51:D51) -> 40 | F51: 11 | G51: 12 | H51: 10 | I51: =SUM(F51:H51) -> 33 | J51: 17 | K51: 11 | L51: 17 | M51: =SUM(J51:L51) -> 45 | N51: 11 | O51: 15 | P51: 12 | Q51: =SUM(N51:P51) -> 38 | R51: =M51+I51+E51+Q51 -> 156
A52: Ilość wdrożeń zamkniętych pozytywnie w danym mcu: | B52: 7 | C52: 3 | D52: 13 | E52: =SUM(B52:D52) -> 23 | F52: 9 | G52: 6 | H52: 5 | I52: =SUM(F52:H52) -> 20 | J52: 7 | K52: 4 | L52: 8 | M52: =SUM(J52:L52) -> 19 | N52: 2 | O52: 11 | P52: 12 | Q52: =SUM(N52:P52) -> 25 | R52: =M52+I52+E52+Q52 -> 87
A53: Ilość wdrożeń zamkniętych negatywnie w danym mcu: | B53: 7 | C53: 4 | D53: 1 | E53: =SUM(B53:D53) -> 12 | F53: 8 | G53: 7 | H53: 9 | I53: =SUM(F53:H53) -> 24 | J53: 9 | K53: 10 | L53: 7 | M53: =SUM(J53:L53) -> 26 | N53: 4 | O53: 5 | P53: 9 | Q53: =SUM(N53:P53) -> 18 | R53: =M53+I53+E53+Q53 -> 80
A54: Ilość aktualnie odłożonych wdrożeń: | B54: 2 | C54: 2 | D54: 2 | F54: 2 | G54: 2 | H54: 2 | J54: 4 | K54: 4 | L54: 3 | N54: 3 | O54: 4 | P54: 4

Sheet PIOTR
A1: Piotr Choma | B1: PLAN IV KW Piotr Choma | F1: PLAN III KW Piotr Choma | J1: PLAN II KW Piotr Choma | N1: PLAN I KW Piotr Choma
A2: miesiąc | B2: październik | C2: listopad | D2: grudzień | E2: KW IV | F2: lipiec | G2: sierpień | H2: wrzesień | I2: KW III | J2: kwiecień | K2: maj | L2: czerwiec | M2: KW II | N2: styczeń | O2: luty | P2: marzec | Q2: KW I | R2: suma ROK
A4: Plan Sprzedaży Marża | B4: ='Target 2021'!L8-12000 -> 68750 | C4: ='Target 2021'!M8-23000 -> 66250 | D4: ='Target 2021'!N8+12000+23000 -> 120000 | E4: =SUM(B4:D4) -> 255000 | F4: ='Target 2021'!I8 -> 70500 | G4: ='Target 2021'!J8-1000 -> 77333.333 | H4: ='Target 2021'!K8+5000+1000 -> 92166.667 | I4: =SUM(F4:H4) -> 240000 | J4: ='Target 2021'!F8 -> 73500 | K4: ='Target 2021'!G8-2000 -> 79666.667 | L4: ='Target 2021'!H8+2000-5000 -> 86833.333 | M4: =SUM(J4:L4) -> 240000 | N4: ='Target 2021'!C8 -> 71400 | O4: ='Target 2021'!D8 -> 79333.333 | P4: ='Target 2021'!E8 -> 87266.667 | Q4: =SUM(N4:P4) -> 238000 | R4: =Q4+M4+I4+E4 -> 973000
A5: Sumaryczny Plan Sprzedaży Marża | B5: =B4 -> 68750 | C5: =C4+B5 -> 135000 | D5: =D4+C5 -> 255000 | F5: =F4 -> 70500 | G5: =G4+F5 -> 147833.33 | H5: =H4+G5 -> 240000 | J5: =J4 -> 73500 | K5: =K4+J5 -> 153166.67 | L5: =L4+K5 -> 240000 | N5: =N4 -> 71400 | O5: =O4+N5 -> 150733.33 | P5: =P4+O5 -> 238000 | R5: =R6/R4 -> 0.91521475
A6: Miesięczna realizacja Planu Sprzedaży Marża | B6: =SUMIF(X!A:A,$A$1,X!I:I) -> 62422.597 | C6: =SUMIF(XI!A:A,$A$1,XI!I:I) -> 66483.164 | D6: =SUMIF(XII!A:A,$A$1,XII!I:I) -> 116592.61 | E6: =SUM(B6:D6) -> 245498.37 | F6: =SUMIF(VII!A:A,$A$1,VII!I:I) -> 71647.117 | G6: =SUMIF(VIII!A:A,$A$1,VIII!I:I) -> 61722.895 | H6: =SUMIF(IX!A:A,$A$1,IX!I:I) -> 60502.816 | I6: =SUM(F6:H6) -> 193872.83 | J6: =SUMIF(IV!A:A,$A$1,IV!I:I) -> 71769.632 | K6: =SUMIF(V!A:A,$A$1,V!I:I) -> 73763.5 | L6: =SUMIF(VI!A:A,$A$1,VI!I:I) -> 72068.012 | M6: =SUM(J6:L6) -> 217601.14 | N6: =SUMIF(I!A:A,$A$1,I!I:I) -> 83846.695 | O6: =SUMIF(II!A:A,$A$1,II!I:I) -> 65079.807 | P6: =SUMIF(III!A:A,$A$1,III!I:I) -> 84605.109 | Q6: =SUM(N6:P6) -> 233531.61 | R6: =Q6+M6+I6+E6 -> 890503.95
A7: Sumaryczna realizacja planu sprzedaży Marża | B7: =B6 -> 62422.597 | C7: =C6+B7 -> 128905.76 | D7: =D6+C7 -> 245498.37 | F7: =F6 -> 71647.117 | G7: =G6+F7 -> 133370.01 | H7: =H6+G7 -> 193872.83 | J7: =J6 -> 71769.632 | K7: =K6+J7 -> 145533.13 | L7: =L6+K7 -> 217601.14 | N7: =N6 -> 83846.695 | O7: =O6+N7 -> 148926.5 | P7: =P6+O7 -> 233531.61
A8: Wysokość zrealizowania Miesięcznego Planu Sprzedaży Marża | B8: =B6/B4 -> 0.90796505 | C8: =C6/C4 -> 1.0035195 | D8: =D6/D4 -> 0.97160506 | F8: =F6/F4 -> 1.0162712 | G8: =G6/G4 -> 0.79814088 | H8: =H6/H4 -> 0.65645009 | J8: =J6/J4 -> 0.97645758 | K8: =K6/K4 -> 0.92590167 | L8: =L6/L4 -> 0.82995792 | N8: =N6/N4 -> 1.1743235 | O8: =O6/O4 -> 0.8203337 | P8: =P6/P4 -> 0.96950087
A9: Wysokość zrealizowania Planu Sprzedaży Marża | B9: =B7/B5 -> 0.90796505 | C9: =C7/C5 -> 0.95485749 | D9: =D7/D5 -> 0.9627387 | F9: =F7/F5 -> 1.0162712 | G9: =G7/G5 -> 0.90216468 | H9: =H7/H5 -> 0.80780345 | J9: =J7/J5 -> 0.97645758 | K9: =K7/K5 -> 0.95016191 | L9: =L7/L5 -> 0.90667143 | N9: =N7/N5 -> 1.1743235 | O9: =O7/O5 -> 0.98801306 | P9: =P7/P5 -> 0.98122526
A10: Różnica wskaźnika Marża | B10: =B7-B5 -> -6327.4027 | C10: =C7-C5 -> -6094.2386 | D10: =D7-D5 -> -9501.6311 | F10: =F7-F5 -> 1147.1172 | G10: =G7-G5 -> -14463.322 | H10: =H7-H5 -> -46127.172 | J10: =J7-J5 -> -1730.3681 | K10: =K7-K5 -> -7633.5348 | L10: =L7-L5 -> -22398.856 | N10: =N7-N5 -> 12446.695 | O10: =O7-O5 -> -1806.8308 | P10: =P7-P5 -> -4468.3881
A11: Miesięczny Obrót | B11: =SUMIF(X!A:A,$A$1,X!G:G) -> 199106.41 | C11: =SUMIF(XI!A:A,$A$1,XI!G:G) -> 209845.3 | D11: =SUMIF(XII!A:A,$A$1,XII!G:G) -> 330831.72 | E11: =SUM(B11:D11) -> 739783.42 | F11: =SUMIF(VII!A:A,$A$1,VII!G:G) -> 212738.05 | G11: =SUMIF(VIII!A:A,$A$1,VIII!G:G) -> 197491.27 | H11: =SUMIF(IX!A:A,$A$1,IX!G:G) -> 189834.75 | I11: =SUM(F11:H11) -> 600064.06 | J11: =SUMIF(IV!A:A,$A$1,IV!G:G) -> 211151.3 | K11: =SUMIF(V!A:A,$A$1,V!G:G) -> 231363.41 | L11: =SUMIF(VI!A:A,$A$1,VI!G:G) -> 244813.69 | M11: =SUM(J11:L11) -> 687328.39 | N11: =SUMIF(I!A:A,$A$1,I!G:G) -> 249591.78 | O11: =SUMIF(II!A:A,$A$1,II!G:G) -> 240161.83 | P11: =SUMIF(III!A:A,$A$1,III!G:G) -> 245824.34 | Q11: =SUM(N11:P11) -> 735577.95 | R11: =Q11+M11+I11+E11 -> 2762753.8
A12: Sumaryczny Obrót | B12: =B11 -> 199106.41 | C12: =C11+B12 -> 408951.7 | D12: =D11+C12 -> 739783.42 | F12: =F11 -> 212738.05 | G12: =G11+F12 -> 410229.31 | H12: =H11+G12 -> 600064.06 | J12: =J11 -> 211151.3 | K12: =K11+J12 -> 442514.7 | L12: =L11+K12 -> 687328.39 | N12: =N11 -> 249591.78 | O12: =O11+N12 -> 489753.61 | P12: =P11+O12 -> 735577.95
A13: Wysokość Marży miesięcznej | B13: =B6/B11 -> 0.31351376 | C13: =C6/C11 -> 0.31681989 | D13: =D6/D11 -> 0.3524227 | F13: =F6/F11 -> 0.33678563 | G13: =G6/G11 -> 0.31253481 | H13: =H6/H11 -> 0.31871307 | J13: =J6/J11 -> 0.33989671 | K13: =K6/K11 -> 0.31882095 | L13: =L6/L11 -> 0.29437902 | N13: =N6/N11 -> 0.33593532 | O13: =O6/O11 -> 0.27098314 | P13: =P6/P11 -> 0.34416896
A14: Wysokość Marży sumarycznej | B14: =B7/B12 -> 0.31351376 | C14: =C7/C12 -> 0.31521023 | D14: =D7/D12 -> 0.33185168 | F14: =F7/F12 -> 0.33678563 | G14: =G7/G12 -> 0.32511088 | H14: =H7/H12 -> 0.32308688 | J14: =J7/J12 -> 0.33989671 | K14: =K7/K12 -> 0.32887751 | L14: =L7/L12 -> 0.31658978 | N14: =N7/N12 -> 0.33593532 | O14: =O7/O12 -> 0.30408454 | P14: =P7/P12 -> 0.31748044
N16: PREMIE
A17: Wynagrodzenie zasadnicze | B17: 5700 | C17: 5700 | D17: 5700 | F17: 5700 | G17: 5700 | H17: 5700 | J17: 5700 | K17: 5700 | L17: 5700 | N17: 5300 | O17: 5700 | P17: 5700
A18: Wskaźnik Plan Sprzedaży Marża | B18: =B5 -> 68750 | C18: =C5 -> 135000 | D18: =D5 -> 255000 | F18: =F5 -> 70500 | G18: =G5 -> 147833.33 | H18: =H5 -> 240000 | J18: =J5 -> 73500 | K18: =K5 -> 153166.67 | L18: =L5 -> 240000 | N18: =N5 -> 71400 | O18: =O5 -> 150733.33 | P18: =P5 -> 238000
A19: Realizacja Wskaźnika Planu Sprzedaży Marża | B19: =B7 -> 62422.597 | C19: =C7 -> 128905.76 | D19: =D7 -> 245498.37 | F19: =F7 -> 71647.117 | G19: =G7 -> 133370.01 | H19: =H7 -> 193872.83 | J19: =J7 -> 71769.632 | K19: =K7 -> 145533.13 | L19: =L7 -> 217601.14 | N19: =N7 -> 83846.695 | O19: =O7 -> 148926.5 | P19: =P7 -> 233531.61
A20: Poziom realizacji Wskaźnika Sprzedaży Marża | B20: =B19/B18 -> 0.90796505 | C20: =C19/C18 -> 0.95485749 | D20: =D19/D18 -> 0.9627387 | F20: =F19/F18 -> 1.0162712 | G20: =G19/G18 -> 0.90216468 | H20: =H19/H18 -> 0.80780345 | J20: =J19/J18 -> 0.97645758 | K20: =K19/K18 -> 0.95016191 | L20: =L19/L18 -> 0.90667143 | N20: =N19/N18 -> 1.1743235 | O20: =O19/O18 -> 0.98801306 | P20: =P19/P18 -> 0.98122526
A21: Wysokość premii Wskaźnik Sprzedaży Marża | B21: =B17*0.35 -> 1995 | C21: =C17*0.35 -> 1995 | D21: =D17*0.35 -> 1995 | F21: =F17*0.35 -> 1995 | G21: =G17*0.35 -> 1995 | H21: =H17*0.35 -> 1995 | J21: =J17*0.35 -> 1995 | K21: =K17*0.35 -> 1995 | L21: =L17*0.35 -> 1995 | N21: =N17*0.35 -> 1855 | O21: =O17*0.35 -> 1995 | P21: =P17*0.35 -> 1995
A22: Mnożnik premii miesięcznej Wskaźnika Sprzedaży Marża | B22: =IF(B20<80%,0,IF(B20<90%,0.5,IF(B20<95%,0.75,1))) -> 0.75 | C22: =IF(C20<80%,0,IF(C20<90%,0.5,IF(C20<95%,0.75,1))) -> 1 | D22: =IF(D20<80%,0,IF(D20<90%,0.5,IF(D20<95%,0.75,1))) -> 1 | F22: =IF(F20<80%,0,IF(F20<90%,0.5,IF(F20<95%,0.75,1))) -> 1 | G22: =IF(G20<80%,0,IF(G20<90%,0.5,IF(G20<95%,0.75,1))) -> 0.75 | H22: =IF(H20<80%,0,IF(H20<90%,0.5,IF(H20<95%,0.75,1))) -> 0.5 | J22: =IF(J20<80%,0,IF(J20<90%,0.5,IF(J20<95%,0.75,1))) -> 1 | K22: =IF(K20<80%,0,IF(K20<90%,0.5,IF(K20<95%,0.75,1))) -> 1 | L22: =IF(L20<80%,0,IF(L20<90%,0.5,IF(L20<95%,0.75,1))) -> 0.75 | N22: =IF(N20<80%,0,IF(N20<90%,0.5,IF(N20<95%,0.75,1))) -> 1 | O22: =IF(O20<80%,0,IF(O20<90%,0.5,IF(O20<95%,0.75,1))) -> 1 | P22: =IF(P20<80%,0,IF(P20<90%,0.5,IF(P20<95%,0.75,1))) -> 1
A23: Premia miesięczna za Wskaźnik Sprzedaży Marża | B23: =B22*B21 -> 1496.25 | C23: =C22*C21 -> 1995 | D23: =D22*D21 -> 1995 | F23: =F22*F21 -> 1995 | G23: =G22*G21 -> 1496.25 | H23: =H22*H21 -> 997.5 | J23: =J22*J21 -> 1995 | K23: =K22*K21 -> 1995 | L23: =L22*L21 -> 1496.25 | N23: =N22*N21 -> 1855 | O23: =O22*O21 -> 1995 | P23: =P22*P21 -> 1995
A24: Wskaźnik CRM | B24: 1 | C24: 1 | D24: 1 | F24: 1 | G24: 1 | H24: 1 | J24: 1 | K24: 1 | L24: 1 | N24: 1 | O24: 1 | P24: 1
A25: Wysokość premii CRM | B25: =B17*0.05 -> 285 | C25: =C17*0.05 -> 285 | D25: =D17*0.05 -> 285 | F25: =F17*0.05 -> 285 | G25: =G17*0.05 -> 285 | H25: =H17*0.05 -> 285 | J25: =J17*0.05 -> 285 | K25: =K17*0.05 -> 285 | L25: =L17*0.05 -> 285 | N25: =N17*0.05 -> 265 | O25: =O17*0.05 -> 285 | P25: =P17*0.05 -> 285
A26: Mnożnik premii Wskaźnik CRM | B26: 1 | C26: 1 | D26: 1 | F26: 1 | G26: 1 | H26: 1 | J26: 0.5 | K26: 1 | L26: 1 | N26: 1 | O26: 1 | P26: 0.75
A27: Premia miesięczna za Wskaźnik CRM | B27: =B26*B25 -> 285 | C27: =C26*C25 -> 285 | D27: =D26*D25 -> 285 | F27: =F26*F25 -> 285 | G27: =G26*G25 -> 285 | H27: =H26*H25 -> 285 | J27: =J26*J25 -> 142.5 | K27: =K26*K25 -> 285 | L27: =L26*L25 -> 285 | N27: =N26*N25 -> 265 | O27: =O26*O25 -> 285 | P27: =P26*P25 -> 213.75
A28: Suma Premii miesięcznych | B28: =B23+B27 -> 1781.25 | C28: =C23+C27 -> 2280 | D28: =D23+D27 -> 2280 | F28: =F23+F27 -> 2280 | G28: =G23+G27 -> 1781.25 | H28: =H23+H27 -> 1282.5 | J28: =J23+J27 -> 2137.5 | K28: =K23+K27 -> 2280 | L28: =L23+L27 -> 1781.25 | N28: =N23+N27 -> 2120 | O28: =O23+O27 -> 2280 | P28: =P23+P27 -> 2208.75 | R28: =SUM(B28:P28) -> 24492.5
A29: Wskaźnik Premia Kwartalna Marża | B29: =D5 -> 255000 | F29: =H5 -> 240000 | J29: =L5 -> 240000 | N29: =P5 -> 238000
A30: Realizacja Wskaźnika Premia Kwartalna | B30: =D7 -> 245498.37 | F30: =H7 -> 193872.83 | J30: =L7 -> 217601.14 | N30: =P7 -> 233531.61
A31: Poziom realizacji Wskaźnika Premia Kwartalna | B31: =B30/B29 -> 0.9627387 | F31: =F30/F29 -> 0.80780345 | J31: =J30/J29 -> 0.90667143 | N31: =N30/N29 -> 0.98122526
A32: Wysokość premii kwartalnej. | B32: =D17 -> 5700 | F32: =H17 -> 5700 | J32: =L17 -> 5700 | N32: =P17 -> 5700
A33: Mnożnik premii kwartalnej | B33: =IF(B31<100%,0,IF(B31<105%,0.5,IF(B31<110%,0.7,1))) -> 0 | F33: =IF(F31<100%,0,IF(F31<105%,0.5,IF(F31<110%,0.7,1))) -> 0 | J33: =IF(J31<100%,0,IF(J31<105%,0.5,IF(J31<110%,0.7,1))) -> 0 | N33: =IF(N31<100%,0,IF(N31<105%,0.5,IF(N31<110%,0.7,1))) -> 0
A34: Premia kwartalna | B34: =B33*B32 -> 0 | F34: =F33*F32 -> 0 | J34: =J33*J32 -> 0 | N34: =N33*N32 -> 0
A36: Raport za miesiąc: | B36: paździer. | C36: listopad | D36: grudzień | E36: Suma | F36: lipiec | G36: sierpień | H36: wrzesień | I36: Suma | J36: kwiecień | K36: maj | L36: czerwiec | M36: Suma | N36: styczeń | O36: luty | P36: marzec | Q36: Suma | R36: Suma
A37: Ilość nowych Klientów: | B37: 2 | C37: 1 | D37: 1 | E37: =SUM(B37:D37) -> 4 | F37: 1 | G37: 0 | H37: 0 | I37: =SUM(F37:H37) -> 1 | J37: 1 | K37: 0 | L37: 0 | M37: =SUM(J37:L37) -> 1 | N37: 0 | O37: 1 | P37: 1 | Q37: =SUM(N37:P37) -> 2 | R37: =M37+I37+E37+Q37 -> 8
A38: Ilość Podmiotów na etapie współpracy Klient: | B38: 68 | C38: 71 | D38: 71 | F38: 66 | G38: 66 | H38: 66 | J38: 63 | K38: 63 | L38: 65 | N38: 59 | O38: 60 | P38: 62
A39: Ilość Podmiotów na etapie współpracy Handlowy: | B39: 42 | C39: 40 | D39: 40 | F39: 43 | G39: 43 | H39: 43 | J39: 42 | K39: 42 | L39: 44 | N39: 46 | O39: 46 | P39: 44
A40: Ilość Podmiotów na etapie współpracy Klient nieaktywny: | B40: 24 | C40: 23 | D40: 24 | F40: 24 | G40: 24 | H40: 24 | J40: 26 | K40: 26 | L40: 24 | N40: 27 | O40: 27 | P40: 26
A41: Ilość Podmiotów pod opieką: | B41: =SUM(B38:B40) -> 134 | C41: 134 | D41: =SUM(D38:D40) -> 135 | F41: 133 | G41: 133 | H41: 133 | J41: 131 | K41: 131 | L41: 133 | N41: 132 | O41: 133 | P41: 132
A42: Ilość sprzedanych drukarek: | B42: 1 | C42: 2 | D42: 1 | E42: =SUM(B42:D42) -> 4 | F42: 1 | G42: 4 | H42: 2 | I42: =SUM(F42:H42) -> 7 | J42: 0 | K42: 3 | L42: 2 | M42: =SUM(J42:L42) -> 5 | N42: 4 | O42: 2 | P42: 1 | Q42: =SUM(N42:P42) -> 7 | R42: =M42+I42+E42+Q42 -> 23
A43: Ilość ofert dodanych w danym miesiącu: | B43: 29 | C43: 24 | D43: 20 | E43: =SUM(B43:D43) -> 73 | F43: 20 | G43: 29 | H43: 29 | I43: =SUM(F43:H43) -> 78 | J43: 19 | K43: 21 | L43: 34 | M43: =SUM(J43:L43) -> 74 | N43: 22 | O43: 50 | P43: 46 | Q43: =SUM(N43:P43) -> 118 | R43: =M43+I43+E43+Q43 -> 343
A44: Ilość ofert oczekujących na decyzję kontrahenta: | B44: 12 | C44: 14 | D44: 14 | F44: 13 | G44: 19 | H44: 28 | J44: 18 | K44: 25 | L44: 26 | N44: 23 | O44: 35 | P44: 31
A45: Ilość zaakceptowanych ofert przez kontrahenta: | B45: 29 | C45: 12 | D45: 16 | E45: =SUM(B45:D45) -> 57 | F45: 14 | G45: 17 | H45: 12 | I45: =SUM(F45:H45) -> 43 | J45: 20 | K45: 9 | L45: 14 | M45: =SUM(J45:L45) -> 43 | N45: 11 | O45: 25 | P45: 25 | Q45: =SUM(N45:P45) -> 61 | R45: =M45+I45+E45+Q45 -> 204
A46: Ilość odrzuconych ofert przez kontrahenta: | B46: 15 | C46: 9 | D46: 5 | E46: =SUM(B46:D46) -> 29 | F46: 21 | G46: 10 | H46: 11 | I46: =SUM(F46:H46) -> 42 | J46: 13 | K46: 6 | L46: 13 | M46: =SUM(J46:L46) -> 32 | N46: 7 | O46: 13 | P46: 25 | Q46: =SUM(N46:P46) -> 45 | R46: =M46+I46+E46+Q46 -> 148
A47: Ilość przekazanych podmiotów: | B47: 1 | C47: 1 | D47: 2 | E47: =SUM(B47:D47) -> 4 | F47: 2 | G47: 0 | H47: 0 | I47: =SUM(F47:H47) -> 2 | J47: 0 | K47: 0 | L47: 1 | M47: =SUM(J47:L47) -> 1 | N47: 1 | O47: 1 | P47: 1 | Q47: =SUM(N47:P47) -> 3 | R47: =M47+I47+E47+Q47 -> 10
A48: Ilość odebranych podmiotów (zmiana prowadzącego): | B48: 0 | C48: 0 | D48: 0 | E48: =SUM(B48:D48) -> 0 | F48: 0 | G48: 0 | H48: 0 | I48: =SUM(F48:H48) -> 0 | J48: 0 | K48: 0 | L48: 0 | M48: =SUM(J48:L48) -> 0 | N48: 0 | O48: 0 | P48: 0 | Q48: =SUM(N48:P48) -> 0 | R48: =M48+I48+E48+Q48 -> 0
A49: Ilość spotkań z Klientami: | B49: 2 | C49: 0 | D49: 4 | E49: =SUM(B49:D49) -> 6 | F49: 3 | G49: 0 | H49: 1 | I49: =SUM(F49:H49) -> 4 | J49: 0 | K49: 0 | L49: 2 | M49: =SUM(J49:L49) -> 2 | N49: 3 | O49: 0 | P49: 1 | Q49: =SUM(N49:P49) -> 4 | R49: =M49+I49+E49+Q49 -> 16
A50: Ilość aktualnie otwartych wdrożeń: | B50: 30 | C50: 32 | D50: 36 | F50: 33 | G50: 32 | H50: 32 | J50: 37 | K50: 38 | L50: 36 | N50: 36 | O50: 42 | P50: 38
A51: Ilość wdrożeń dodanych w danym miesiącu: | B51: 6 | C51: 3 | D51: 7 | E51: =SUM(B51:D51) -> 16 | F51: 4 | G51: 5 | H51: 5 | I51: =SUM(F51:H51) -> 14 | J51: 4 | K51: 2 | L51: 7 | M51: =SUM(J51:L51) -> 13 | N51: 1 | O51: 9 | P51: 13 | Q51: =SUM(N51:P51) -> 23 | R51: =M51+I51+E51+Q51 -> 66
A52: Ilość wdrożeń zamkniętych pozytywnie w danym mcu: | B52: 8 | C52: 0 | D52: 5 | E52: =SUM(B52:D52) -> 13 | F52: 4 | G52: 2 | H52: 2 | I52: =SUM(F52:H52) -> 8 | J52: 2 | K52: 2 | L52: 6 | M52: =SUM(J52:L52) -> 10 | N52: 2 | O52: 2 | P52: 5 | Q52: =SUM(N52:P52) -> 9 | R52: =M52+I52+E52+Q52 -> 40
A53: Ilość wdrożeń zamkniętych negatywnie w danym mcu: | B53: 1 | C53: 1 | D53: 0 | E53: =SUM(B53:D53) -> 2 | F53: 3 | G53: 6 | H53: 1 | I53: =SUM(F53:H53) -> 10 | J53: 4 | K53: 0 | L53: 4 | M53: =SUM(J53:L53) -> 8 | N53: 1 | O53: 1 | P53: 10 | Q53: =SUM(N53:P53) -> 12 | R53: =M53+I53+E53+Q53 -> 32
A54: Ilość aktualnie odłożonych wdrożeń: | B54: 3 | C54: 3 | D54: 2 | F54: 5 | G54: 4 | H54: 4 | J54: 5 | K54: 5 | L54: 5 | N54: 4 | O54: 4 | P54: 6

Sheet KRZYSZTOF
A1: Krzysztof Szwajdych | B1: PLAN IV KW Krzysztof Szwajdych | F1: PLAN III KW Krzysztof Szwajdych | J1: PLAN II KW Krzysztof Szwajdych | N1: PLAN I KW Krzysztof Szwajdych
A2: miesiąc | B2: październik | C2: listopad | D2: grudzień | E2: KW IV | F2: lipiec | G2: sierpień | H2: wrzesień | I2: KW III | J2: kwiecień | K2: maj | L2: czerwiec | M2: KW II | N2: styczeń | O2: luty | P2: marzec | Q2: KW I | R2: suma ROK
A4: Plan Sprzedaży Marża | B4: ='Target 2021'!L9 -> 55416.667 | C4: ='Target 2021'!M9 -> 61250 | D4: ='Target 2021'!N9 -> 58333.333 | E4: =SUM(B4:D4) -> 175000 | F4: ='Target 2021'!I9 -> 50100 | G4: ='Target 2021'!J9 -> 55666.667 | H4: ='Target 2021'!K9 -> 61233.333 | I4: =SUM(F4:H4) -> 167000 | J4: ='Target 2021'!F9 -> 51000 | K4: ='Target 2021'!G9-1000 -> 55666.667 | L4: ='Target 2021'!H9+1000 -> 63333.333 | M4: =SUM(J4:L4) -> 170000 | N4: ='Target 2021'!C9-6500 -> 40600 | O4: ='Target 2021'!D9-7000 -> 45333.333 | P4: ='Target 2021'!E9+6500+7000 -> 71066.667 | Q4: =SUM(N4:P4) -> 157000 | R4: =Q4+M4+I4+E4 -> 669000
A5: Sumaryczny Plan Sprzedaży Marża | B5: =B4 -> 55416.667 | C5: =C4+B5 -> 116666.67 | D5: =D4+C5 -> 175000 | F5: =F4 -> 50100 | G5: =G4+F5 -> 105766.67 | H5: =H4+G5 -> 167000 | J5: =J4 -> 51000 | K5: =K4+J5 -> 106666.67 | L5: =L4+K5 -> 170000 | N5: =N4 -> 40600 | O5: =O4+N5 -> 85933.333 | P5: =P4+O5 -> 157000 | R5: =R6/R4 -> 1.0382733
A6: Miesięczna realizacja Planu Sprzedaży Marża | B6: =SUMIF(X!A:A,$A$1,X!I:I) -> 60656.168 | C6: =SUMIF(XI!A:A,$A$1,XI!I:I) -> 72131.047 | D6: =SUMIF(XII!A:A,$A$1,XII!I:I) -> 53325.698 | E6: =SUM(B6:D6) -> 186112.91 | F6: =SUMIF(VII!A:A,$A$1,VII!I:I) -> 53341.637 | G6: =SUMIF(VIII!A:A,$A$1,VIII!I:I) -> 65808.539 | H6: =SUMIF(IX!A:A,$A$1,IX!I:I) -> 50214.785 | I6: =SUM(F6:H6) -> 169364.96 | J6: =SUMIF(IV!A:A,$A$1,IV!I:I) -> 67325.867 | K6: =SUMIF(V!A:A,$A$1,V!I:I) -> 53389.668 | L6: =SUMIF(VI!A:A,$A$1,VI!I:I) -> 60601.934 | M6: =SUM(J6:L6) -> 181317.47 | N6: =SUMIF(I!A:A,$A$1,I!I:I) -> 32792.316 | O6: =SUMIF(II!A:A,$A$1,II!I:I) -> 49170.18 | P6: =SUMIF(III!A:A,$A$1,III!I:I) -> 75847.023 | Q6: =SUM(N6:P6) -> 157809.52 | R6: =Q6+M6+I6+E6 -> 694604.86
A7: Sumaryczna realizacja planu sprzedaży Marża | B7: =B6 -> 60656.168 | C7: =C6+B7 -> 132787.21 | D7: =D6+C7 -> 186112.91 | F7: =F6 -> 53341.637 | G7: =G6+F7 -> 119150.18 | H7: =H6+G7 -> 169364.96 | J7: =J6 -> 67325.867 | K7: =K6+J7 -> 120715.54 | L7: =L6+K7 -> 181317.47 | N7: =N6 -> 32792.316 | O7: =O6+N7 -> 81962.496 | P7: =P6+O7 -> 157809.52
A8: Wysokość zrealizowania Miesięcznego Planu Sprzedaży Marża | B8: =B6/B4 -> 1.0945474 | C8: =C6/C4 -> 1.1776497 | D8: =D6/D4 -> 0.91415481 | F8: =F6/F4 -> 1.0647033 | G8: =G6/G4 -> 1.1821893 | H8: =H6/H4 -> 0.82005637 | J8: =J6/J4 -> 1.320115 | K8: =K6/K4 -> 0.95909583 | L8: =L6/L4 -> 0.95687264 | N8: =N6/N4 -> 0.80769252 | O8: =O6/O4 -> 1.0846363 | P8: =P6/P4 -> 1.0672658
A9: Wysokość zrealizowania Planu Sprzedaży Marża | B9: =B7/B5 -> 1.0945474 | C9: =C7/C5 -> 1.1381761 | D9: =D7/D5 -> 1.0635024 | F9: =F7/F5 -> 1.0647033 | G9: =G7/G5 -> 1.1265381 | H9: =H7/H5 -> 1.0141614 | J9: =J7/J5 -> 1.320115 | K9: =K7/K5 -> 1.1317081 | L9: =L7/L5 -> 1.0665733 | N9: =N7/N5 -> 0.80769252 | O9: =O7/O5 -> 0.95379165 | P9: =P7/P5 -> 1.0051562
A10: Różnica wskaźnika Marża | B10: =B7-B5 -> 5239.5013 | C10: =C7-C5 -> 16120.548 | D10: =D7-D5 -> 11112.912 | F10: =F7-F5 -> 3241.6367 | G10: =G7-G5 -> 13383.509 | H10: =H7-H5 -> 2364.961 | J10: =J7-J5 -> 16325.867 | K10: =K7-K5 -> 14048.869 | L10: =L7-L5 -> 11317.469 | N10: =N7-N5 -> -7807.6836 | O10: =O7-O5 -> -3970.8372 | P10: =P7-P5 -> 809.5195
A11: Miesięczny Obrót | B11: =SUMIF(X!A:A,$A$1,X!G:G) -> 180654.52 | C11: =SUMIF(XI!A:A,$A$1,XI!G:G) -> 205932.14 | D11: =SUMIF(XII!A:A,$A$1,XII!G:G) -> 154222.08 | E11: =SUM(B11:D11) -> 540808.73 | F11: =SUMIF(VII!A:A,$A$1,VII!G:G) -> 164323.3 | G11: =SUMIF(VIII!A:A,$A$1,VIII!G:G) -> 204883.86 | H11: =SUMIF(IX!A:A,$A$1,IX!G:G) -> 143866.69 | I11: =SUM(F11:H11) -> 513073.84 | J11: =SUMIF(IV!A:A,$A$1,IV!G:G) -> 193424.17 | K11: =SUMIF(V!A:A,$A$1,V!G:G) -> 156350.06 | L11: =SUMIF(VI!A:A,$A$1,VI!G:G) -> 189587.98 | M11: =SUM(J11:L11) -> 539362.22 | N11: =SUMIF(I!A:A,$A$1,I!G:G) -> 102962.12 | O11: =SUMIF(II!A:A,$A$1,II!G:G) -> 159385.72 | P11: =SUMIF(III!A:A,$A$1,III!G:G) -> 207223.06 | Q11: =SUM(N11:P11) -> 469570.9 | R11: =Q11+M11+I11+E11 -> 2062815.7
A12: Sumaryczny Obrót | B12: =B11 -> 180654.52 | C12: =C11+B12 -> 386586.66 | D12: =D11+C12 -> 540808.73 | F12: =F11 -> 164323.3 | G12: =G11+F12 -> 369207.16 | H12: =H11+G12 -> 513073.84 | J12: =J11 -> 193424.17 | K12: =K11+J12 -> 349774.23 | L12: =L11+K12 -> 539362.22 | N12: =N11 -> 102962.12 | O12: =O11+N12 -> 262347.84 | P12: =P11+O12 -> 469570.9
A13: Wysokość Marży miesięcznej | B13: =B6/B11 -> 0.33575783 | C13: =C6/C11 -> 0.3502661 | D13: =D6/D11 -> 0.34577214 | F13: =F6/F11 -> 0.32461396 | G13: =G6/G11 -> 0.32119924 | H13: =H6/H11 -> 0.34903692 | J13: =J6/J11 -> 0.3480737 | K13: =K6/K11 -> 0.34147519 | L13: =L6/L11 -> 0.31965071 | N13: =N6/N11 -> 0.31848914 | O13: =O6/O11 -> 0.30849803 | P13: =P6/P11 -> 0.36601632
A14: Wysokość Marży sumarycznej | B14: =B7/B12 -> 0.33575783 | C14: =C7/C12 -> 0.34348629 | D14: =D7/D12 -> 0.34413814 | F14: =F7/F12 -> 0.32461396 | G14: =G7/G12 -> 0.32271903 | H14: =H7/H12 -> 0.33009861 | J14: =J7/J12 -> 0.3480737 | K14: =K7/K12 -> 0.34512415 | L14: =L7/L12 -> 0.33617013 | N14: =N7/N12 -> 0.31848914 | O14: =O7/O12 -> 0.31241918 | P14: =P7/P12 -> 0.33607176
N16: PREMIE
A17: Wynagrodzenie zasadnicze | B17: 4700 | C17: 4700 | D17: 4700 | F17: 4700 | G17: 4700 | H17: 4700 | J17: 4700 | K17: 4700 | L17: 4700 | N17: 4300 | O17: 4700 | P17: 4700
A18: Wskaźnik Plan Sprzedaży Marża | B18: =B5 -> 55416.667 | C18: =C5 -> 116666.67 | D18: =D5 -> 175000 | F18: =F5 -> 50100 | G18: =G5 -> 105766.67 | H18: =H5 -> 167000 | J18: =J5 -> 51000 | K18: =K5 -> 106666.67 | L18: =L5 -> 170000 | N18: =N5 -> 40600 | O18: =O5 -> 85933.333 | P18: =P5 -> 157000
A19: Realizacja Wskaźnika Planu Sprzedaży Marża | B19: =B7 -> 60656.168 | C19: =C7 -> 132787.21 | D19: =D7 -> 186112.91 | F19: =F7 -> 53341.637 | G19: =G7 -> 119150.18 | H19: =H7 -> 169364.96 | J19: =J7 -> 67325.867 | K19: =K7 -> 120715.54 | L19: =L7 -> 181317.47 | N19: =N7 -> 32792.316 | O19: =O7 -> 81962.496 | P19: =P7 -> 157809.52
A20: Poziom realizacji Wskaźnika Sprzedaży Marża | B20: =B19/B18 -> 1.0945474 | C20: =C19/C18 -> 1.1381761 | D20: =D19/D18 -> 1.0635024 | F20: =F19/F18 -> 1.0647033 | G20: =G19/G18 -> 1.1265381 | H20: =H19/H18 -> 1.0141614 | J20: =J19/J18 -> 1.320115 | K20: =K19/K18 -> 1.1317081 | L20: =L19/L18 -> 1.0665733 | N20: =N19/N18 -> 0.80769252 | O20: =O19/O18 -> 0.95379165 | P20: =P19/P18 -> 1.0051562
A21: Wysokość premii Wskaźnik Sprzedaży Marża | B21: =B17*0.35 -> 1645 | C21: =C17*0.35 -> 1645 | D21: =D17*0.35 -> 1645 | F21: =F17*0.35 -> 1645 | G21: =G17*0.35 -> 1645 | H21: =H17*0.35 -> 1645 | J21: =J17*0.35 -> 1645 | K21: =K17*0.35 -> 1645 | L21: =L17*0.35 -> 1645 | N21: =N17*0.35 -> 1505 | O21: =O17*0.35 -> 1645 | P21: =P17*0.35 -> 1645
A22: Mnożnik premii miesięcznej Wskaźnika Sprzedaży Marża | B22: =IF(B20<80%,0,IF(B20<90%,0.5,IF(B20<95%,0.75,1))) -> 1 | C22: =IF(C20<80%,0,IF(C20<90%,0.5,IF(C20<95%,0.75,1))) -> 1 | D22: =IF(D20<80%,0,IF(D20<90%,0.5,IF(D20<95%,0.75,1))) -> 1 | F22: =IF(F20<80%,0,IF(F20<90%,0.5,IF(F20<95%,0.75,1))) -> 1 | G22: =IF(G20<80%,0,IF(G20<90%,0.5,IF(G20<95%,0.75,1))) -> 1 | H22: =IF(H20<80%,0,IF(H20<90%,0.5,IF(H20<95%,0.75,1))) -> 1 | J22: =IF(J20<80%,0,IF(J20<90%,0.5,IF(J20<95%,0.75,1))) -> 1 | K22: =IF(K20<80%,0,IF(K20<90%,0.5,IF(K20<95%,0.75,1))) -> 1 | L22: =IF(L20<80%,0,IF(L20<90%,0.5,IF(L20<95%,0.75,1))) -> 1 | N22: =IF(N20<80%,0,IF(N20<90%,0.5,IF(N20<95%,0.75,1))) -> 0.5 | O22: =IF(O20<80%,0,IF(O20<90%,0.5,IF(O20<95%,0.75,1))) -> 1 | P22: =IF(P20<80%,0,IF(P20<90%,0.5,IF(P20<95%,0.75,1))) -> 1
A23: Premia miesięczna za Wskaźnik Sprzedaży Marża | B23: =B22*B21 -> 1645 | C23: =C22*C21 -> 1645 | D23: =D22*D21 -> 1645 | F23: =F22*F21 -> 1645 | G23: =G22*G21 -> 1645 | H23: =H22*H21 -> 1645 | J23: =J22*J21 -> 1645 | K23: =K22*K21 -> 1645 | L23: =L22*L21 -> 1645 | N23: =N22*N21 -> 752.5 | O23: =O22*O21 -> 1645 | P23: =P22*P21 -> 1645
A24: Wskaźnik CRM | B24: 1 | C24: 1 | D24: 1 | F24: 1 | G24: 1 | H24: 1 | J24: 1 | K24: 1 | L24: 1 | N24: 1 | O24: 1 | P24: 1
A25: Wysokość premii CRM | B25: =B17*0.05 -> 235 | C25: =C17*0.05 -> 235 | D25: =D17*0.05 -> 235 | F25: =F17*0.05 -> 235 | G25: =G17*0.05 -> 235 | H25: =H17*0.05 -> 235 | J25: =J17*0.05 -> 235 | K25: =K17*0.05 -> 235 | L25: =L17*0.05 -> 235 | N25: =N17*0.05 -> 215 | O25: =O17*0.05 -> 235 | P25: =P17*0.05 -> 235
A26: Mnożnik premii Wskaźnik CRM | B26: 1 | C26: 1 | D26: 1 | F26: 1 | G26: 1 | H26: 1 | J26: 1 | K26: 1 | L26: 1 | N26: 1 | O26: 1 | P26: 1
A27: Premia miesięczna za Wskaźnik CRM | B27: =B26*B25 -> 235 | C27: =C26*C25 -> 235 | D27: =D26*D25 -> 235 | F27: =F26*F25 -> 235 | G27: =G26*G25 -> 235 | H27: =H26*H25 -> 235 | J27: =J26*J25 -> 235 | K27: =K26*K25 -> 235 | L27: =L26*L25 -> 235 | N27: =N26*N25 -> 215 | O27: =O26*O25 -> 235 | P27: =P26*P25 -> 235
A28: Suma Premii miesięcznych | B28: =B23+B27 -> 1880 | C28: =C23+C27 -> 1880 | D28: =D23+D27 -> 1880 | F28: =F23+F27 -> 1880 | G28: =G23+G27 -> 1880 | H28: =H23+H27 -> 1880 | J28: =J23+J27 -> 1880 | K28: =K23+K27 -> 1880 | L28: =L23+L27 -> 1880 | N28: =N23+N27 -> 967.5 | O28: =O23+O27 -> 1880 | P28: =P23+P27 -> 1880 | R28: =SUM(B28:Q28) -> 21647.5
A29: Wskaźnik Premia Kwartalna Marża | B29: =D5 -> 175000 | F29: =H5 -> 167000 | J29: =L5 -> 170000 | N29: =P5 -> 157000
A30: Realizacja Wskaźnika Premia Kwartalna | B30: =D7 -> 186112.91 | F30: =H7 -> 169364.96 | J30: =L7 -> 181317.47 | N30: =P7 -> 157809.52
A31: Poziom realizacji Wskaźnika Premia Kwartalna | B31: =B30/B29 -> 1.0635024 | F31: =F30/F29 -> 1.0141614 | J31: =J30/J29 -> 1.0665733 | N31: =N30/N29 -> 1.0051562
A32: Wysokość premii kwartalnej. | B32: =D17 -> 4700 | F32: =H17 -> 4700 | J32: =L17 -> 4700 | N32: =P17 -> 4700
A33: Mnożnik premii kwartalnej | B33: =IF(B31<100%,0,IF(B31<105%,0.5,IF(B31<110%,0.7,1))) -> 0.7 | F33: =IF(F31<100%,0,IF(F31<105%,0.5,IF(F31<110%,0.7,1))) -> 0.5 | J33: =IF(J31<100%,0,IF(J31<105%,0.5,IF(J31<110%,0.7,1))) -> 0.7 | N33: =IF(N31<100%,0,IF(N31<105%,0.5,IF(N31<110%,0.7,1))) -> 0.5
A34: Premia kwartalna | B34: =B33*B32 -> 3290 | F34: =F33*F32 -> 2350 | J34: =J33*J32 -> 3290 | N34: =N33*N32 -> 2350 | R34: =SUM(B34:Q34) -> 11280
A36: Raport za miesiąc: | B36: paździer. | C36: listopad | D36: grudzień | E36: Suma | F36: lipiec | G36: sierpień | H36: wrzesień | I36: Suma | J36: kwiecień | K36: maj | L36: czerwiec | M36: Suma | N36: styczeń | O36: luty | P36: marzec | Q36: Suma | R36: Suma
A37: Ilość nowych Klientów: | B37: 2 | C37: 2 | D37: 1 | E37: =SUM(B37:D37) -> 5 | F37: 2 | G37: 0 | H37: 0 | I37: =SUM(F37:H37) -> 2 | J37: 1 | K37: 2 | L37: 1 | M37: =SUM(J37:L37) -> 4 | N37: 0 | O37: 1 | P37: 1 | Q37: =SUM(N37:P37) -> 2 | R37: =M37+I37+E37+Q37 -> 13
A38: Ilość Podmiotów na etapie współpracy Klient: | B38: 140 | C38: 143 | D38: 145 | F38: 136 | G38: 137 | H38: 137 | J38: 126 | K38: 129 | L38: 131 | N38: 123 | O38: 124 | P38: 125
A39: Ilość Podmiotów na etapie współpracy Handlowy: | B39: 35 | C39: 37 | D39: 35 | F39: 37 | G39: 36 | H39: 36 | J39: 32 | K39: 32 | L39: 36 | N39: 32 | O39: 33 | P39: 31
A40: Ilość Podmiotów na etapie współpracy Klient nieaktywny: | B40: 36 | C40: 34 | D40: 35 | F40: 36 | G40: 37 | H40: 37 | J40: 38 | K40: 39 | L40: 38 | N40: 40 | O40: 40 | P40: 39
A41: Ilość Podmiotów pod opieką: | B41: =SUM(B38:B40) -> 211 | C41: =SUM(C38:C40) -> 214 | D41: =SUM(D38:D40) -> 215 | F41: 209 | G41: 210 | H41: 210 | J41: 196 | K41: 200 | L41: 205 | N41: 195 | O41: 197 | P41: 195
A42: Ilość sprzedanych drukarek: | B42: 1 | C42: 5 | D42: 1 | E42: =SUM(B42:D42) -> 7 | F42: 8 | G42: 3 | H42: 7 | I42: =SUM(F42:H42) -> 18 | J42: 6 | K42: 1 | L42: 2 | M42: =SUM(J42:L42) -> 9 | N42: 2 | O42: 8 | P42: 2 | Q42: =SUM(N42:P42) -> 12 | R42: =M42+I42+E42+Q42 -> 46
A43: Ilość ofert dodanych w danym miesiącu: | B43: 43 | C43: 44 | D43: 34 | E43: =SUM(B43:D43) -> 121 | F43: 37 | G43: 18 | H43: 47 | I43: =SUM(F43:H43) -> 102 | J43: 45 | K43: 31 | L43: 49 | M43: =SUM(J43:L43) -> 125 | N43: 35 | O43: 55 | P43: 43 | Q43: =SUM(N43:P43) -> 133 | R43: =M43+I43+E43+Q43 -> 481
A44: Ilość ofert oczekujących na decyzję kontrahenta: | B44: 10 | C44: 8 | D44: 19 | F44: 9 | G44: 3 | H44: 12 | J44: 12 | K44: 9 | L44: 15 | N44: 15 | O44: 13 | P44: 12
A45: Ilość zaakceptowanych ofert przez kontrahenta: | B45: 21 | C45: 28 | D45: 13 | E45: =SUM(B45:D45) -> 62 | F45: 20 | G45: 11 | H45: 24 | I45: =SUM(F45:H45) -> 55 | J45: 26 | K45: 17 | L45: 24 | M45: =SUM(J45:L45) -> 67 | N45: 15 | O45: 36 | P45: 22 | Q45: =SUM(N45:P45) -> 73 | R45: =M45+I45+E45+Q45 -> 257
A46: Ilość odrzuconych ofert przez kontrahenta: | B46: 21 | C46: 25 | D46: 11 | E46: =SUM(B46:D46) -> 57 | F46: 21 | G46: 10 | H46: 16 | I46: =SUM(F46:H46) -> 47 | J46: 19 | K46: 11 | L46: 26 | M46: =SUM(J46:L46) -> 56 | N46: 15 | O46: 20 | P46: 25 | Q46: =SUM(N46:P46) -> 60 | R46: =M46+I46+E46+Q46 -> 220
A47: Ilość przekazanych podmiotów: | B47: 0 | C47: 4 | D47: 1 | E47: =SUM(B47:D47) -> 5 | F47: 5 | G47: 4 | H47: 0 | I47: =SUM(F47:H47) -> 9 | J47: 2 | K47: 3 | L47: 4 | M47: =SUM(J47:L47) -> 9 | N47: 2 | O47: 2 | P47: 1 | Q47: =SUM(N47:P47) -> 5 | R47: =M47+I47+E47+Q47 -> 28
A48: Ilość odebranych podmiotów (zmiana prowadzącego): | B48: 0 | C48: 0 | D48: 0 | E48: =SUM(B48:D48) -> 0 | F48: 0 | G48: 0 | H48: 0 | I48: =SUM(F48:H48) -> 0 | J48: 0 | K48: 0 | L48: 1 | M48: =SUM(J48:L48) -> 1 | N48: 0 | O48: 0 | P48: 1 | Q48: =SUM(N48:P48) -> 1 | R48: =M48+I48+E48+Q48 -> 2
A49: Ilość spotkań z Klientami: | B49: 0 | C49: 1 | D49: 1 | E49: =SUM(B49:D49) -> 2 | F49: 0 | G49: 3 | H49: 1 | I49: =SUM(F49:H49) -> 4 | J49: 0 | K49: 4 | L49: 3 | M49: =SUM(J49:L49) -> 7 | N49: 1 | O49: 0 | P49: 0 | Q49: =SUM(N49:P49) -> 1 | R49: =M49+I49+E49+Q49 -> 14
A50: Ilość aktualnie otwartych wdrożeń: | B50: 30 | C50: 30 | D50: 35 | F50: 33 | G50: 27 | H50: 31 | J50: 40 | K50: 41 | L50: 39 | N50: 39 | O50: 41 | P50: 42
A51: Ilość wdrożeń dodanych w danym miesiącu: | B51: 6 | C51: 12 | D51: 9 | E51: =SUM(B51:D51) -> 27 | F51: 12 | G51: 5 | H51: 11 | I51: =SUM(F51:H51) -> 28 | J51: 14 | K51: 10 | L51: 17 | M51: =SUM(J51:L51) -> 41 | N51: 14 | O51: 19 | P51: 19 | Q51: =SUM(N51:P51) -> 52 | R51: =M51+I51+E51+Q51 -> 148
A52: Ilość wdrożeń zamkniętych pozytywnie w danym mcu: | B52: 4 | C52: 6 | D52: 4 | E52: =SUM(B52:D52) -> 14 | F52: 4 | G52: 1 | H52: 5 | I52: =SUM(F52:H52) -> 10 | J52: 9 | K52: 7 | L52: 9 | M52: =SUM(J52:L52) -> 25 | N52: 8 | O52: 11 | P52: 10 | Q52: =SUM(N52:P52) -> 29 | R52: =M52+I52+E52+Q52 -> 78
A53: Ilość wdrożeń zamkniętych negatywnie w danym mcu: | B53: 4 | C53: 5 | D53: 0 | E53: =SUM(B53:D53) -> 9 | F53: 14 | G53: 5 | H53: 7 | I53: =SUM(F53:H53) -> 26 | J53: 7 | K53: 1 | L53: 12 | M53: =SUM(J53:L53) -> 20 | N53: 16 | O53: 6 | P53: 8 | Q53: =SUM(N53:P53) -> 30 | R53: =M53+I53+E53+Q53 -> 85
A54: Ilość aktualnie odłożonych wdrożeń: | B54: 1 | C54: 1 | D54: 1 | F54: 1 | G54: 1 | H54: 1 | J54: 1 | K54: 1 | L54: 1 | N54: 0 | O54: 0 | P54: 0

Sheet DH
A1: brak opiekuna | B1: PLANY SPRZEDAŻY 2021
A2: miesiąc | B2: styczeń | C2: luty | D2: marzec | E2: I KW | F2: kwiecień | G2: maj | H2: czerwiec | J2: lipiec | K2: sierpień | L2: wrzesień | N2: październik | O2: listopad | P2: grudzień | R2: suma
A3: Marża 2020 | B3: 322882.94 | C3: 292994.15 | D3: 273950.21 | E3: 889827.3 | F3: 241835.05 | G3: 185291.82 | H3: 232994.43 | I3: 660121.31 | J3: 278072.12 | K3: 214511.37 | L3: 245209.71 | M3: 737793.2 | N3: 323357.45 | O3: 229441.75 | P3: 272547.16 | Q3: 825346.36 | R3: 3113088.2 | T3: =R8*1.1 -> 3580052.1
A4: Sumaryczna Marża 2020 | B4: =B3 -> 322882.94 | C4: =C3+B4 -> 615877.09 | D4: =D3+C4 -> 889827.3 | F4: =F3+D4 -> 1131662.4 | G4: =G3+F4 -> 1316954.2 | H4: =H3+G4 -> 1549948.6 | J4: =J3+H4 -> 1828020.7 | K4: =K3+J4 -> 2042532.1 | L4: =L3+K4 -> 2287741.8 | N4: =N3+L4 -> 2611099.3 | O4: =O3+N4 -> 2840541 | P4: =P3+O4 -> 3113088.2 | S4: MINIMUM | T4: PLAN | U4: CEL
A5: Wzrost Marży 2021 w stos do Marży 2020 | B5: =B9/B4-1 -> -0.26037292 | C5: =C9/C4-1 -> -0.22895678 | D5: =D9/D4-1 -> -0.11752634 | E5: =E8/E3-1 -> -0.11752634 | F5: =F9/F4-1 -> -0.067765741 | G5: =G9/G4-1 -> -0.0025453529 | H5: =H9/H4-1 -> 0.023793866 | I5: =I8/I3-1 -> 0.21429003 | J5: =J9/J4-1 -> 0.018172515 | K5: =K9/K4-1 -> 0.034489975 | L5: =L9/L4-1 -> 0.033080617 | M5: =M8/M3-1 -> 0.052590132 | N5: =N9/N4-1 -> 0.0042142125 | O5: =O9/O4-1 -> 0.023324871 | P5: =P9/P4-1 -> 0.045454738 | Q5: =Q8/Q3-1 -> 0.079754028 | R5: =R8/R3-1 -> 0.045454738 | S5: =S6/R3 -> 1.0540337 | T5: =T6/R3 -> 1.1095092 | U5: =U6/R3 -> 1.1649847
A6: Plan Sprzedaży Marża | B6: ='Target 2021'!B35-7700 -> 251350 | C6: ='Target 2021'!C35-13000 -> 274833.33 | D6: ='Target 2021'!D35+7700 -> 309925 | E6: =SUM(B6:D6) -> 836108.33 | F6: ='Target 2021'!E35+13000 -> 300833.33 | G6: ='Target 2021'!F35 -> 302225 | H6: ='Target 2021'!G35 -> 316616.67 | I6: =SUM(F6:H6) -> 919675 | J6: ='Target 2021'!H35 -> 259050 | K6: ='Target 2021'!I35 -> 259050 | L6: ='Target 2021'!J35 -> 287833.33 | M6: =SUM(J6:L6) -> 805933.33 | N6: ='Target 2021'!K35 -> 302225 | O6: ='Target 2021'!L35 -> 302225 | P6: ='Target 2021'!M35 -> 287833.33 | Q6: =SUM(N6:P6) -> 892283.33 | R6: =B6+C6+D6+F6+G6+H6+J6+K6+L6+N6+O6+P6 -> 3454000 | S6: =DH!R6*0.95 -> 3281300 | T6: =R6 -> 3454000 | U6: ='Target 2021'!H39 -> 3626700
A7: Sumaryczny Plan Sprzedaży Marża | B7: =B6 -> 251350 | C7: =C6+B7 -> 526183.33 | D7: =D6+C7 -> 836108.33 | F7: =F6+D7 -> 1136941.7 | G7: =G6+F7 -> 1439166.7 | H7: =H6+G7 -> 1755783.3 | J7: =J6+H7 -> 2014833.3 | K7: =K6+J7 -> 2273883.3 | L7: =L6+K7 -> 2561716.7 | N7: =N6+L7 -> 2863941.7 | O7: =O6+N7 -> 3166166.7 | P7: =P6+O7 -> 3454000 | V7: =T6/T19 -> 0.32280374
A8: Miesięczna realizacja Planu Sprzedaży Marża | B8: =TOMEK!N6+MIRU!M6+'1'!N6+BARTEK!N6+PIOTR!N6+KRZYSZTOF!N6+'0'!N6 -> 238812.96 | C8: =TOMEK!O6+MIRU!N6+'1'!O6+BARTEK!O6+PIOTR!O6+KRZYSZTOF!O6+'0'!O6 -> 236054.89 | D8: =TOMEK!P6+MIRU!O6+'1'!P6+BARTEK!P6+PIOTR!P6+KRZYSZTOF!P6+'0'!P6 -> 310381.3 | E8: =SUM(B8:D8) -> 785249.16 | F8: =TOMEK!J6+MIRU!J6+'1'!J6+BARTEK!J6+PIOTR!J6+KRZYSZTOF!J6++'0'!J6 -> 269725.26 | G8: =TOMEK!K6+MIRU!K6+'1'!K6+BARTEK!K6+PIOTR!K6+KRZYSZTOF!K6+'0'!K6 -> 258627.65 | H8: =TOMEK!L6+MIRU!L6+'1'!L6+BARTEK!L6+PIOTR!L6+KRZYSZTOF!L6+'0'!L6 -> 273225.82 | I8: =SUM(F8:H8) -> 801578.73 | J8: =TOMEK!F6+MIRU!F6+'0'!F6+BARTEK!F6+PIOTR!F6+KRZYSZTOF!F6+'1'!F6 -> 274412.59 | K8: =TOMEK!G6+MIRU!G6+'0'!G6+BARTEK!G6+PIOTR!G6+KRZYSZTOF!G6+'1'!G6+SUMIF(VIII!A:A,$A$1,VIII!I:I) -> 251738.51 | L8: =TOMEK!H6+MIRU!H6+'0'!H6+BARTEK!H6+PIOTR!H6+KRZYSZTOF!H6+'1'!H6 -> 250442.74 | M8: =SUM(J8:L8) -> 776593.84 | N8: =TOMEK!B6+MIRU!B6+'0'!B6+BARTEK!B6+PIOTR!B6+KRZYSZTOF!B6+'1'!B6 -> 258681.26 | O8: =TOMEK!C6+MIRU!C6+'0'!C6+BARTEK!C6+PIOTR!C6+KRZYSZTOF!C6+'1'!C6 -> 284693.28 | P8: =TOMEK!D6+MIRU!D6+'0'!D6+BARTEK!D6+PIOTR!D6+KRZYSZTOF!D6+'1'!D6 -> 347796.52 | Q8: =SUM(N8:P8) -> 891171.06 | R8: =B8+C8+D8+F8+G8+H8+J8+K8+L8+N8+O8+P8 -> 3254592.8 | S8: =R8-R3 -> 141504.61 | T8: =T6-R8 -> 199407.22 | U8: 3 | W8: 4 | X8: 5 | Y8: 6 | AA8: 7 | AB8: 8 | AC8: 9 | AE8: 10 | AF8: 11 | AG8: 12
A9: Sumaryczna realizacja planu sprzedaży Marża | B9: =B8 -> 238812.96 | C9: =C8+B9 -> 474867.86 | D9: =D8+C9 -> 785249.16 | F9: =F8+D9 -> 1054974.4 | G9: =G8+F9 -> 1313602.1 | H9: =H8+G9 -> 1586827.9 | I9: =I8/I3-1 -> 0.21429003 | J9: =J8+H9 -> 1861240.5 | K9: =K8+J9 -> 2112979 | L9: =L8+K9 -> 2363421.7 | M9: =M8/M3-1 -> 0.052590132 | N9: =N8+L9 -> 2622103 | O9: =O8+N9 -> 2906796.3 | P9: =P8+O9 -> 3254592.8 | Q9: =P7*0.95-P9 -> 26707.217
A10: Wysokość zrealizowania Miesięcznego Planu Sprzedaży Marża | B10: =B8/B6 -> 0.9501212 | C10: =C8/C6 -> 0.85890198 | D10: =D8/D6 -> 1.0014723 | E10: =D7*0.9 -> 752497.5 | F10: =F8/F6 -> 0.89659367 | G10: =G8/G6 -> 0.85574538 | H10: =H8/H6 -> 0.86295462 | J10: =J8/J6 -> 1.0593036 | K10: =K8/K6 -> 0.97177578 | L10: =L8/L6 -> 0.87009639 | M10: =L4-L9 -> -75679.912 | N10: =N8/N6 -> 0.85592278 | O10: =O8/O6 -> 0.94199116 | P10: =P8/P6 -> 1.2083261 | Q10: =P4-P9 -> -141504.61 | X10: 2019 | Y10: =R3/12 -> 259424.01
A11: Różnica wskaźnika Marża | B11: =B9-B7 -> -12537.037 | C11: =C9-C7 -> -51315.478 | D11: =D9-D7 -> -50859.177 | E11: =E10-C9 -> 277629.64 | F11: =F9-F7 -> -81967.248 | G11: =G9-G7 -> -125564.6 | H11: =H9-H7 -> -168955.45 | I11: =H7*0.9-H9 -> -6622.8824 | J11: =J9-J7 -> -153592.86 | K11: =K9-K7 -> -160904.35 | L11: =L9-L7 -> -198294.94 | M11: =J7*0.9-J9 -> -47890.469 | N11: =N9-N7 -> -241838.68 | O11: =O9-O7 -> -259370.4 | P11: =P9-P7 -> -199407.22 | X11: 2020 | Y11: =D9/3 -> 261749.72 | Z11: =1-Y10/Y11 -> 0.0088852218
A12: Wysokość zrealizowania Planu Sprzedaży Marża | B12: =B9/B7 -> 0.9501212 | C12: =C9/C7 -> 0.90247605 | D12: =D9/D7 -> 0.93917155 | F12: =F9/F7 -> 0.92790549 | G12: =G9/G7 -> 0.91275187 | H12: =H9/H7 -> 0.90377204 | J12: =J9/J7 -> 0.92376895 | K12: =K9/K7 -> 0.92923808 | L12: =L9/L7 -> 0.92259295 | N12: =N9/N7 -> 0.9155574 | O12: =O9/O7 -> 0.91808062 | P12: =P9/P7 -> 0.94226774 | X12: IV | Y12: =F8 -> 269725.26 | Z12: =1-Y11/Y12 -> 0.029569136
A13: Kwartalny Plan Sprzedaży Marża | B13: =TOMEK!N4+MIRU!M4+'1'!N4+BARTEK!N4+PIOTR!N4+KRZYSZTOF!N4 -> 246000 | C13: =TOMEK!O4+MIRU!N4+'1'!O4+BARTEK!O4+PIOTR!O4+KRZYSZTOF!O4+B13 -> 522000 | D13: =TOMEK!P4+MIRU!O4+'1'!P4+BARTEK!P4+PIOTR!P4+KRZYSZTOF!P4+C13 -> 864000 | F13: =TOMEK!J4+MIRU!J4+'1'!J4+BARTEK!J4+PIOTR!J4+KRZYSZTOF!J4 -> 259200 | G13: =TOMEK!K4+MIRU!K4+'1'!K4+BARTEK!K4+PIOTR!K4+KRZYSZTOF!K4+F13 -> 544200 | H13: =TOMEK!L4+MIRU!L4+'1'!L4+BARTEK!L4+PIOTR!L4+KRZYSZTOF!L4+G13 -> 855000 | J13: =TOMEK!F4+MIRU!F4+'0'!B4+BARTEK!F4+PIOTR!F4+KRZYSZTOF!F4 -> 259050 | K13: =TOMEK!G4+MIRU!G4+'0'!C4+BARTEK!G4+PIOTR!G4+KRZYSZTOF!G4+J13 -> 541883.33 | L13: =TOMEK!H4+MIRU!H4+'0'!D4+BARTEK!H4+PIOTR!H4+KRZYSZTOF!H4+K13 -> 871500 | N13: =TOMEK!B4+MIRU!B4+'0'!N4+BARTEK!B4+PIOTR!B4+KRZYSZTOF!B4 -> 261600 | O13: =TOMEK!C4+MIRU!C4+'0'!O4+BARTEK!C4+PIOTR!C4+KRZYSZTOF!C4+N13 -> 541000 | P13: =TOMEK!D4+MIRU!D4+'0'!P4+BARTEK!D4+PIOTR!D4+KRZYSZTOF!D4+O13 -> 864000 | Q13: =SUM(N13:P13) -> 1666600 | Z13: =1-Y10/Y12 -> 0.03819163
A14: Sumaryczna Kwartalna Realizacja Planu Sprzedaży Marża | B14: =B8/B13 -> 0.9707844 | C14: =(B8+C8)/C13 -> 0.90970854 | D14: =(D8+C8+B8)/D13 -> 0.90885319 | F14: =F8/F13 -> 1.0406067 | G14: =(F8+G8)/G13 -> 0.97088003 | H14: =(H8+G8+F8)/H13 -> 0.93751898 | J14: =J8/J13 -> 1.0593036 | K14: =(J8+K8)/K13 -> 0.97096749 | L14: =(L8+K8+J8)/L13 -> 0.89110022 | N14: =N8/N13 -> 0.98884275 | O14: =(N8+O8)/O13 -> 1.0043892 | P14: =(P8+O8+N8)/P13 -> 1.031448
A16: Obrót 2020 | B16: 956402.48 | C16: 947401.39 | D16: 841720.55 | E16: 2745524.4 | F16: 770190.66 | G16: 550307.67 | H16: 749067.73 | I16: 2069566.1 | J16: 852824.4 | K16: 703125.82 | L16: 732890.87 | M16: 2288841.1 | N16: 955205.79 | O16: 730577.06 | P16: 858525.27 | Q16: 2544308.1 | R16: 9648239.7
A17: Sumaryczny Obrót 2020 | B17: =B16 -> 956402.48 | C17: =C16+B17 -> 1903803.9 | D17: =D16+C17 -> 2745524.4 | F17: =F16+D17 -> 3515715.1 | G17: =G16+F17 -> 4066022.8 | H17: =H16+G17 -> 4815090.5 | J17: =J16+H17 -> 5667914.9 | K17: =K16+J17 -> 6371040.7 | L17: =L16+K17 -> 7103931.6 | N17: =N16+L17 -> 8059137.4 | O17: =O16+N17 -> 8789714.4 | P17: =P16+O17 -> 9648239.7 | S17: MINIMUM | T17: PLAN | U17: CEL
A18: Wzrost Obrotu 2021 w stos do Obrotu 2020 | B18: =B22/B17-1 -> -0.26469198 | C18: =C22/C17-1 -> -0.22649533 | D18: =D22/D17-1 -> -0.13643359 | F18: =F22/F17-1 -> -0.10852746 | G18: =G22/G17-1 -> -0.028562311 | H18: =H22/H17-1 -> -0.0033325124 | J18: =J22/J17-1 -> -0.008929025 | K18: =K22/K17-1 -> 0.014795144 | L18: =L22/L17-1 -> 0.012090386 | N18: =N22/N17-1 -> -0.0078663945 | O18: =O22/O17-1 -> -0.00035992184 | P18: =P22/P17-1 -> 0.014234903 | Q18: =Q21/Q16 -> 1.0202226 | R18: =R21/R16 -> 1.0142349 | S18: =S19/R16 -> 1.0535601 | T18: =T19/R16 -> 1.1090106 | U18: =U19/R16 -> 1.1644611
A19: Plan Sprzedaży Obrót | B19: ='Target 2021'!B36 -> 802500 | C19: ='Target 2021'!C36 -> 891666.67 | D19: ='Target 2021'!D36 -> 936250 | F19: ='Target 2021'!E36 -> 891666.67 | G19: ='Target 2021'!F36 -> 936250 | H19: ='Target 2021'!G36 -> 980833.33 | J19: ='Target 2021'!H36 -> 802500 | K19: ='Target 2021'!I36 -> 802500 | L19: ='Target 2021'!J36 -> 891666.67 | N19: ='Target 2021'!K36 -> 936250 | O19: ='Target 2021'!L36 -> 936250 | P19: ='Target 2021'!M36 -> 891666.67 | R19: =B19+C19+D19+F19+G19+H19+J19+K19+L19+N19+O19+P19 -> 10700000 | S19: =DH!R19*0.95 -> 10165000 | T19: 10700000 | U19: ='Target 2021'!H40 -> 11235000
A20: Sumaryczny Plan Sprzedaży Obrót | B20: =B19 -> 802500 | C20: =C19+B20 -> 1694166.7 | D20: =D19+C20 -> 2630416.7 | F20: =F19+D20 -> 3522083.3 | G20: =G19+F20 -> 4458333.3 | H20: =H19+G20 -> 5439166.7 | I20: =H17-H22 -> 16046.349 | J20: =J19+H20 -> 6241666.7 | K20: =K19+J20 -> 7044166.7 | L20: =L19+K20 -> 7935833.3 | N20: =N19+L20 -> 8872083.3 | O20: =O19+N20 -> 9808333.3 | P20: =P19+O20 -> 10700000 | T20: =T19-R21 -> 914418.54
A21: Miesięczna realizacja Planu Sprzedaży Obrót | B21: =TOMEK!N11+MIRU!M11+'1'!N13+BARTEK!N11+PIOTR!N11+KRZYSZTOF!N11+'0'!N13 -> 703250.41 | C21: =TOMEK!O11+MIRU!N11+'1'!O13+BARTEK!O11+PIOTR!O11+KRZYSZTOF!O11+'0'!O13 -> 769350.78 | D21: =TOMEK!P11+MIRU!O11+'1'!P13+BARTEK!P11+PIOTR!P11+KRZYSZTOF!P11+'0'!P13 -> 898341.47 | E21: =SUM(B21:D21) -> 2370942.7 | F21: =TOMEK!J11+MIRU!J11+'1'!J13+BARTEK!J11+PIOTR!J11+KRZYSZTOF!J11+'0'!J13 -> 763220.8 | G21: =TOMEK!K11+MIRU!K11+'1'!K13+BARTEK!K11+PIOTR!K11+KRZYSZTOF!K11+'0'!K13 -> 815724.29 | H21: =TOMEK!L11+MIRU!L11+'1'!L13+BARTEK!L11+PIOTR!L11+KRZYSZTOF!L11+'0'!L13 -> 849156.39 | I21: =SUM(F21:H21) -> 2428101.5 | J21: =TOMEK!F11+MIRU!F11+'0'!F13+BARTEK!F11+PIOTR!F11+KRZYSZTOF!F11+'1'!F13 -> 818261.8 | K21: =TOMEK!G11+MIRU!G11+'0'!G13+BARTEK!G11+PIOTR!G11+KRZYSZTOF!G11+'1'!G13+SUMIF(VIII!A:A,$A$1,VIII!G:G) -> 847995.24 | L21: =TOMEK!H11+MIRU!H11+'0'!H13+BARTEK!H11+PIOTR!H11+KRZYSZTOF!H11+'1'!H13 -> 724519.68 | M21: =SUM(J21:L21) -> 2390776.7 | N21: =TOMEK!B11+MIRU!B11+'0'!B13+BARTEK!B11+PIOTR!B11+KRZYSZTOF!B11+'1'!B13 -> 805920.16 | O21: =TOMEK!C11+MIRU!C11+'0'!C13+BARTEK!C11+PIOTR!C11+KRZYSZTOF!C11+'1'!C13 -> 790809.8 | P21: =TOMEK!D11+MIRU!D11+'0'!D13+BARTEK!D11+PIOTR!D11+KRZYSZTOF!D11+'1'!D13 -> 999030.63 | Q21: =SUM(N21:P21) -> 2595760.6 | R21: =B21+C21+D21+F21+G21+H21+J21+K21+L21+N21+O21+P21 -> 9785581.5
A22: Sumaryczna realizacja planu sprzedaży Obrót | B22: =B21 -> 703250.41 | C22: =C21+B22 -> 1472601.2 | D22: =D21+C22 -> 2370942.7 | F22: =F21+D22 -> 3134163.5 | G22: =G21+F22 -> 3949887.8 | H22: =H21+G22 -> 4799044.1 | J22: =J21+H22 -> 5617305.9 | K22: =K21+J22 -> 6465301.2 | L22: =L21+K22 -> 7189820.9 | N22: =N21+L22 -> 7995741 | O22: =O21+N22 -> 8786550.8 | P22: =P21+O22 -> 9785581.5
A23: Wysokość zrealizowania Miesięcznego Planu Sprzedaży Obrót | B23: =B21/B19 -> 0.8763245 | C23: =C21/C19 -> 0.86282331 | D23: =D21/D19 -> 0.95951025 | F23: =F21/F19 -> 0.85594856 | G23: =G21/G19 -> 0.8712676 | H23: =H21/H19 -> 0.86574993 | I23: =G17-G22 -> 116135 | J23: =J21/J19 -> 1.0196409 | K23: =K21/K19 -> 1.0566919 | L23: =L21/L19 -> 0.81254544 | N23: =N21/N19 -> 0.8607959 | O23: =O21/O19 -> 0.84465667 | P23: =P21/P19 -> 1.1204082 | Q23: =P17-P22 -> -137341.76
A24: Wysokość zrealizowania Planu Sprzedaży Obrót | B24: =B22/B20 -> 0.8763245 | C24: =C22/C20 -> 0.86921861 | D24: =D22/D20 -> 0.90135631 | F24: =F22/F20 -> 0.88986068 | G24: =G22/G20 -> 0.88595613 | H24: =H22/H20 -> 0.88231239 | J24: =J22/J20 -> 0.89996891 | K24: =K22/K20 -> 0.91782343 | L24: =L22/L20 -> 0.90599444 | N24: =N22/N20 -> 0.90122474 | O24: =O22/O20 -> 0.89582506 | P24: =P22/P20 -> 0.91454032
A25: Różnica wskaźnika Obrót | B25: =B22-B20 -> -99249.586 | C25: =C22-C20 -> -221565.47 | D25: =D22-D20 -> -259474 | F25: =F22-F20 -> -387919.87 | G25: =G22-G20 -> -508445.58 | H25: =H22-H20 -> -640122.53 | J25: =J22-J20 -> -624360.73 | K25: =K22-K20 -> -578865.49 | L25: =L22-L20 -> -746012.47 | N25: =N22-N20 -> -876342.31 | O25: =O22-O20 -> -1021782.5 | P25: =P22-P20 -> -914418.54
V26: =#REF!/E8-1 -> #REF! | W26: =#REF!/E8-1 -> #REF!
A27: Wysokość Marży miesięcznej | B27: =B8/B21 -> 0.33958453 | C27: =C8/C21 -> 0.30682349 | D27: =D8/D21 -> 0.34550481 | F27: =F8/F21 -> 0.35340397 | G27: =G8/G21 -> 0.31705277 | H27: =H8/H21 -> 0.32176148 | J27: =J8/J21 -> 0.33536038 | K27: =K8/K21 -> 0.29686312 | L27: =L8/L21 -> 0.34566727 | N27: =N8/N21 -> 0.32097629 | O27: =O8/O21 -> 0.36000221 | P27: =P8/P21 -> 0.34813399
A28: Wysokość Marży sumarycznej | B28: =B9/B22 -> 0.33958453 | C28: =C9/C22 -> 0.32246874 | D28: =D9/D22 -> 0.33119702 | F28: =F9/F22 -> 0.33660479 | G28: =G9/G22 -> 0.33256694 | H28: =H9/H22 -> 0.33065499 | J28: =J9/J22 -> 0.33134041 | K28: =K9/K22 -> 0.32681834 | L28: =L9/L22 -> 0.32871775 | N28: =N9/N22 -> 0.32793746 | O28: =O9/O22 -> 0.33082336
B30: PREMIE
A31: Wynagrodzenie zasadnicze | B31: 8000 | C31: 8400 | D31: 8400 | F31: 8400 | G31: 8400 | H31: 8400 | J31: 8400 | K31: 8400 | L31: 8400 | N31: 8400 | O31: 8400 | P31: 8400
A32: Wskaźnik Plan Sprzedaży Marża | B32: =B7 -> 251350 | C32: =C7 -> 526183.33 | D32: =D7 -> 836108.33 | F32: =F7 -> 1136941.7 | G32: =G7 -> 1439166.7 | H32: =H7 -> 1755783.3 | J32: =J7 -> 2014833.3 | K32: =K7 -> 2273883.3 | L32: =L7 -> 2561716.7 | N32: =N7 -> 2863941.7 | O32: =O7 -> 3166166.7 | P32: =P7 -> 3454000
A33: Realizacja Wskaźnika Planu Sprzedaży Marża | B33: =B9 -> 238812.96 | C33: =C9 -> 474867.86 | D33: =D9 -> 785249.16 | F33: =F9 -> 1054974.4 | G33: =G9 -> 1313602.1 | H33: =H9 -> 1586827.9 | J33: =J9 -> 1861240.5 | K33: =K9 -> 2112979 | L33: =L9 -> 2363421.7 | N33: =N9 -> 2622103 | O33: =O9 -> 2906796.3 | P33: =P9 -> 3254592.8
A34: Poziom realizacji Wskaźnika Sprzedaży Marża | B34: =B33/B32 -> 0.9501212 | C34: =C33/C32 -> 0.90247605 | D34: =D33/D32 -> 0.93917155 | F34: =F33/F32 -> 0.92790549 | G34: =G33/G32 -> 0.91275187 | H34: =H33/H32 -> 0.90377204 | J34: =J33/J32 -> 0.92376895 | K34: =K33/K32 -> 0.92923808 | L34: =L33/L32 -> 0.92259295 | N34: =N33/N32 -> 0.9155574 | O34: =O33/O32 -> 0.91808062 | P34: =P33/P32 -> 0.94226774
A35: Wysokość premii Wskaźnik Sprzedaży Marża | B35: =B31*0.3 -> 2400 | C35: =C31*0.3 -> 2520 | D35: =D31*0.3 -> 2520 | F35: =F31*0.3 -> 2520 | G35: =G31*0.3 -> 2520 | H35: =H31*0.3 -> 2520 | J35: =J31*0.3 -> 2520 | K35: =K31*0.3 -> 2520 | L35: =L31*0.3 -> 2520 | N35: =N31*0.3 -> 2520 | O35: =O31*0.3 -> 2520 | P35: =P31*0.3 -> 2520
A36: Mnożnik premii miesięcznej Wskaźnika Sprzedaży Marża | B36: =IF(B34<80%,0,IF(B34<90%,0.5,IF(B34<95%,0.75,1))) -> 1 | C36: =IF(C34<80%,0,IF(C34<90%,0.5,IF(C34<95%,0.75,1))) -> 0.75 | D36: =IF(D34<80%,0,IF(D34<90%,0.5,IF(D34<95%,0.75,1))) -> 0.75 | F36: =IF(F34<80%,0,IF(F34<90%,0.5,IF(F34<95%,0.75,1))) -> 0.75 | G36: =IF(G34<80%,0,IF(G34<90%,0.5,IF(G34<95%,0.75,1))) -> 0.75 | H36: =IF(H34<80%,0,IF(H34<90%,0.5,IF(H34<95%,0.75,1))) -> 0.75 | J36: =IF(J34<80%,0,IF(J34<90%,0.5,IF(J34<95%,0.75,1))) -> 0.75 | K36: =IF(K34<80%,0,IF(K34<90%,0.5,IF(K34<95%,0.75,1))) -> 0.75 | L36: =IF(L34<80%,0,IF(L34<90%,0.5,IF(L34<95%,0.75,1))) -> 0.75 | N36: =IF(N34<80%,0,IF(N34<90%,0.5,IF(N34<95%,0.75,1))) -> 0.75 | O36: =IF(O34<80%,0,IF(O34<90%,0.5,IF(O34<95%,0.75,1))) -> 0.75 | P36: =IF(P34<80%,0,IF(P34<90%,0.5,IF(P34<95%,0.75,1))) -> 0.75
A37: Premia miesięczna za Wskaźnik Sprzedaży Marża | B37: =B36*B35 -> 2400 | C37: =C36*C35 -> 1890 | D37: =D36*D35 -> 1890 | F37: =F36*F35 -> 1890 | G37: =G36*G35 -> 1890 | H37: =H36*H35 -> 1890 | J37: =J36*J35 -> 1890 | K37: =K36*K35 -> 1890 | L37: =L36*L35 -> 1890 | N37: =N36*N35 -> 1890 | O37: =O36*O35 -> 1890 | P37: =P36*P35 -> 1890
A38: Suma Premii miesięcznych | B38: =B37 -> 2400 | C38: =C37 -> 1890 | D38: =D37 -> 1890 | F38: =F37 -> 1890 | G38: =G37 -> 1890 | H38: =H37 -> 1890 | J38: =J37 -> 1890 | K38: =K37 -> 1890 | L38: =L37 -> 1890 | N38: =N37 -> 1890 | O38: =O37 -> 1890 | P38: =P37 -> 1890
A40: Raport za miesiąc: | B40: styczeń | C40: luty | D40: marzec | E40: Suma | F40: kwiecień | G40: maj | H40: czerwiec | I40: Suma | J40: lipiec | K40: sierpień | L40: wrzesień | M40: Suma | N40: paździer. | O40: listopad | P40: grudzień | Q40: Suma | R40: Suma
A41: Ilość nowych Klientów: | B41: =TOMEK!N37+MIRU!M17+'1'!N48+BARTEK!N37+PIOTR!N37+KRZYSZTOF!N37+'0'!N48 -> 2 | C41: =TOMEK!O37+MIRU!N17+'1'!O48+BARTEK!O37+PIOTR!O37+KRZYSZTOF!O37+'0'!O48 -> 6 | D41: =TOMEK!P37+MIRU!O17+'1'!P48+BARTEK!P37+PIOTR!P37+KRZYSZTOF!P37+'0'!P48 -> 4 | E41: =SUM(B41:D41) -> 12 | F41: =TOMEK!J37+MIRU!J17+'1'!J48+BARTEK!J37+PIOTR!J37+KRZYSZTOF!J37+'0'!J48 -> 2 | G41: =TOMEK!K37+MIRU!K17+'1'!K48+BARTEK!K37+PIOTR!K37+KRZYSZTOF!K37+'0'!K48 -> 3 | H41: =TOMEK!L37+MIRU!L17+'1'!L48+BARTEK!L37+PIOTR!L37+KRZYSZTOF!L37+'0'!L48 -> 1 | I41: =SUM(F41:H41) -> 6 | J41: =TOMEK!F37+MIRU!F17+'1'!F48+BARTEK!F37+PIOTR!F37+KRZYSZTOF!F37+'0'!F48 -> 12 | K41: =TOMEK!G37+MIRU!G17+'1'!G48+BARTEK!G37+PIOTR!G37+KRZYSZTOF!G37+'0'!G48 -> 1 | L41: =TOMEK!H37+MIRU!H17+'1'!H48+BARTEK!H37+PIOTR!H37+KRZYSZTOF!H37+'0'!H48 -> 3 | M41: =SUM(J41:L41) -> 16 | N41: =TOMEK!B37+MIRU!B17+'1'!B48+BARTEK!B37+PIOTR!B37+KRZYSZTOF!B37+'0'!B48 -> 7 | O41: =TOMEK!C37+MIRU!C17+'1'!C48+BARTEK!C37+PIOTR!C37+KRZYSZTOF!C37+'0'!C48 -> 4 | P41: =TOMEK!D37+MIRU!D17+'1'!D48+BARTEK!D37+PIOTR!D37+KRZYSZTOF!D37+'0'!D48 -> 4 | Q41: =SUM(N41:P41) -> 15 | R41: =Q41+M41+I41+E41 -> 49
A42: Ilość Podmiotów na etapie współpracy Klient: | B42: =TOMEK!N38+MIRU!M18+'1'!N49+BARTEK!N38+PIOTR!N38+KRZYSZTOF!N38+'0'!N49 -> 748 | C42: =TOMEK!O38+MIRU!N18+'1'!O49+BARTEK!O38+PIOTR!O38+KRZYSZTOF!O38+'0'!O49 -> 767 | D42: =TOMEK!P38+MIRU!O18+'1'!P49+BARTEK!P38+PIOTR!P38+KRZYSZTOF!P38+'0'!P49 -> 776 | F42: =TOMEK!J38+MIRU!J18+'1'!J49+BARTEK!J38+PIOTR!J38+KRZYSZTOF!J38+'0'!J49 -> 786 | G42: =TOMEK!K38+MIRU!K18+'1'!K49+BARTEK!K38+PIOTR!K38+KRZYSZTOF!K38+'0'!K49 -> 797 | H42: =TOMEK!L38+MIRU!L18+'1'!L49+BARTEK!L38+PIOTR!L38+KRZYSZTOF!L38+'0'!L49 -> 806 | J42: =TOMEK!F38+MIRU!F18+'1'!F49+BARTEK!F38+PIOTR!F38+KRZYSZTOF!F38+'0'!F49 -> 830 | K42: =TOMEK!G38+MIRU!G18+'1'!G49+BARTEK!G38+PIOTR!G38+KRZYSZTOF!G38+'0'!G49 -> 835 | L42: =TOMEK!H38+MIRU!H18+'1'!H49+BARTEK!H38+PIOTR!H38+KRZYSZTOF!H38+'0'!H49 -> 845 | N42: =TOMEK!B38+MIRU!B18+'1'!B49+BARTEK!B38+PIOTR!B38+KRZYSZTOF!B38+'0'!B49 -> 861 | O42: =TOMEK!C38+MIRU!C18+'1'!C49+BARTEK!C38+PIOTR!C38+KRZYSZTOF!C38+'0'!C49 -> 874 | P42: =TOMEK!D38+MIRU!D18+'1'!D49+BARTEK!D38+PIOTR!D38+KRZYSZTOF!D38+'0'!D49 -> 881
A43: Ilość Podmiotów na etapie współpracy Handlowy: | B43: =TOMEK!N39+MIRU!M19+'1'!N50+BARTEK!N39+PIOTR!N39+KRZYSZTOF!N39+'0'!N50 -> 108 | C43: =TOMEK!O39+MIRU!N19+'1'!O50+BARTEK!O39+PIOTR!O39+KRZYSZTOF!O39+'0'!O50 -> 107 | D43: =TOMEK!P39+MIRU!O19+'1'!P50+BARTEK!P39+PIOTR!P39+KRZYSZTOF!P39+'0'!P50 -> 104 | F43: =TOMEK!J39+MIRU!J19+'1'!J50+BARTEK!J39+PIOTR!J39+KRZYSZTOF!J39+'0'!J50 -> 103 | G43: =TOMEK!K39+MIRU!K19+'1'!K50+BARTEK!K39+PIOTR!K39+KRZYSZTOF!K39+'0'!K50 -> 108 | H43: =TOMEK!L39+MIRU!L19+'1'!L50+BARTEK!L39+PIOTR!L39+KRZYSZTOF!L39+'0'!L50 -> 115 | J43: =TOMEK!F39+MIRU!F19+'1'!F50+BARTEK!F39+PIOTR!F39+KRZYSZTOF!F39+'0'!F50 -> 111 | K43: =TOMEK!G39+MIRU!G19+'1'!G50+BARTEK!G39+PIOTR!G39+KRZYSZTOF!G39+'0'!G50 -> 110 | L43: =TOMEK!H39+MIRU!H19+'1'!H50+BARTEK!H39+PIOTR!H39+KRZYSZTOF!H39+'0'!H50 -> 104 | N43: =TOMEK!B39+MIRU!B19+'1'!B50+BARTEK!B39+PIOTR!B39+KRZYSZTOF!B39+'0'!B50 -> 92 | O43: =TOMEK!C39+MIRU!C19+'1'!C50+BARTEK!C39+PIOTR!C39+KRZYSZTOF!C39+'0'!C50 -> 90 | P43: =TOMEK!D39+MIRU!D19+'1'!D50+BARTEK!D39+PIOTR!D39+KRZYSZTOF!D39+'0'!D50 -> 90
A44: Ilość Podmiotów na etapie współpracy Klient nieaktywny: | B44: =TOMEK!N40+MIRU!M20+'1'!N51+BARTEK!N40+PIOTR!N40+KRZYSZTOF!N40+'0'!N51 -> 772 | C44: =TOMEK!O40+MIRU!N20+'1'!O51+BARTEK!O40+PIOTR!O40+KRZYSZTOF!O40+'0'!O51 -> 763 | D44: =TOMEK!P40+MIRU!O20+'1'!P51+BARTEK!P40+PIOTR!P40+KRZYSZTOF!P40+'0'!P51 -> 763 | F44: =TOMEK!J40+MIRU!J20+'1'!J51+BARTEK!J40+PIOTR!J40+KRZYSZTOF!J40+'0'!J51 -> 774 | G44: =TOMEK!K40+MIRU!K20+'1'!K51+BARTEK!K40+PIOTR!K40+KRZYSZTOF!K40+'0'!K51 -> 772 | H44: =TOMEK!L40+MIRU!L20+'1'!L51+BARTEK!L40+PIOTR!L40+KRZYSZTOF!L40+'0'!L51 -> 770 | J44: =TOMEK!F40+MIRU!F20+'1'!F51+BARTEK!F40+PIOTR!F40+KRZYSZTOF!F40+'0'!F51 -> 761 | K44: =TOMEK!G40+MIRU!G20+'1'!G51+BARTEK!G40+PIOTR!G40+KRZYSZTOF!G40+'0'!G51 -> 760 | L44: =TOMEK!H40+MIRU!H20+'1'!H51+BARTEK!H40+PIOTR!H40+KRZYSZTOF!H40+'0'!H51 -> 756 | N44: =TOMEK!B40+MIRU!B20+'1'!B51+BARTEK!B40+PIOTR!B40+KRZYSZTOF!B40+'0'!B51 -> 735 | O44: =TOMEK!C40+MIRU!C20+'1'!C51+BARTEK!C40+PIOTR!C40+KRZYSZTOF!C40+'0'!C51 -> 726 | P44: =TOMEK!D40+MIRU!D20+'1'!D51+BARTEK!D40+PIOTR!D40+KRZYSZTOF!D40+'0'!D51 -> 724
A45: Ilość Podmiotów pod opieką: | B45: =TOMEK!N41+MIRU!M21+'1'!N52+BARTEK!N41+PIOTR!N41+KRZYSZTOF!N41+'0'!N52 -> 1628 | C45: =TOMEK!O41+MIRU!N21+'1'!O52+BARTEK!O41+PIOTR!O41+KRZYSZTOF!O41+'0'!O52 -> 1637 | D45: =TOMEK!P41+MIRU!O21+'1'!P52+BARTEK!P41+PIOTR!P41+KRZYSZTOF!P41+'0'!P52 -> 1643 | F45: =TOMEK!J41+MIRU!J21+'1'!J52+BARTEK!J41+PIOTR!J41+KRZYSZTOF!J41+'0'!J52 -> 1663 | G45: =TOMEK!K41+MIRU!K21+'1'!K52+BARTEK!K41+PIOTR!K41+KRZYSZTOF!K41+'0'!K52 -> 1677 | H45: =TOMEK!L41+MIRU!L21+'1'!L52+BARTEK!L41+PIOTR!L41+KRZYSZTOF!L41+'0'!L52 -> 1691 | J45: =SUM(J43:J44) -> 872 | K45: =SUM(K43:K44) -> 870 | L45: =SUM(L43:L44) -> 860 | N45: =SUM(N43:N44) -> 827 | O45: =SUM(O43:O44) -> 816 | P45: =SUM(P43:P44) -> 814
A46: Ilość sprzedanych drukarek: | B46: =TOMEK!N42+MIRU!M22+'1'!N53+BARTEK!N42+PIOTR!N42+KRZYSZTOF!N42+'0'!N53 -> 11 | C46: =TOMEK!O42+MIRU!N22+'1'!O53+BARTEK!O42+PIOTR!O42+KRZYSZTOF!O42+'0'!O53 -> 16 | D46: =TOMEK!P42+MIRU!O22+'1'!P53+BARTEK!P42+PIOTR!P42+KRZYSZTOF!P42+'0'!P53 -> 11 | E46: =SUM(B46:D46) -> 38 | F46: =TOMEK!J42+MIRU!J22+'1'!J53+BARTEK!J42+PIOTR!J42+KRZYSZTOF!J42+'0'!J53 -> 10 | G46: =TOMEK!K42+MIRU!K22+'1'!K53+BARTEK!K42+PIOTR!K42+KRZYSZTOF!K42+'0'!K53 -> 5 | H46: =TOMEK!L42+MIRU!L22+'1'!L53+BARTEK!L42+PIOTR!L42+KRZYSZTOF!L42+'0'!L53 -> 12 | I46: =SUM(F46:H46) -> 27 | J46: =TOMEK!F42+MIRU!F22+'1'!F53+BARTEK!F42+PIOTR!F42+KRZYSZTOF!F42+'0'!F53 -> 22 | K46: =TOMEK!G42+MIRU!G22+'1'!G53+BARTEK!G42+PIOTR!G42+KRZYSZTOF!G42+'0'!G53 -> 29 | L46: =TOMEK!H42+MIRU!H22+'1'!H53+BARTEK!H42+PIOTR!H42+KRZYSZTOF!H42+'0'!H53 -> 14 | M46: =SUM(J46:L46) -> 65 | N46: =TOMEK!B42+MIRU!B22+'1'!B53+BARTEK!B42+PIOTR!B42+KRZYSZTOF!B42+'0'!B53 -> 8 | O46: =TOMEK!C42+MIRU!C22+'1'!C53+BARTEK!C42+PIOTR!C42+KRZYSZTOF!C42+'0'!C53 -> 25 | P46: =TOMEK!D42+MIRU!D22+'1'!D53+BARTEK!D42+PIOTR!D42+KRZYSZTOF!D42+'0'!D53 -> 11 | Q46: =SUM(N46:P46) -> 44 | R46: =Q46+M46+I46+E46 -> 174
A47: Ilość ofert dodanych w danym miesiącu: | B47: =TOMEK!N43+MIRU!M23+'1'!N54+BARTEK!N43+PIOTR!N43+KRZYSZTOF!N43+'0'!N54 -> 104 | C47: =TOMEK!O43+MIRU!N23+'1'!O54+BARTEK!O43+PIOTR!O43+KRZYSZTOF!O43+'0'!O54 -> 167 | D47: =TOMEK!P43+MIRU!O23+'1'!P54+BARTEK!P43+PIOTR!P43+KRZYSZTOF!P43+'0'!P54 -> 143 | E47: =SUM(B47:D47) -> 414 | F47: =TOMEK!J43+MIRU!J23+'1'!J54+BARTEK!J43+PIOTR!J43+KRZYSZTOF!J43+'0'!J54 -> 117 | G47: =TOMEK!K43+MIRU!K23+'1'!K54+BARTEK!K43+PIOTR!K43+KRZYSZTOF!K43+'0'!K54 -> 87 | H47: =TOMEK!L43+MIRU!L23+'1'!L54+BARTEK!L43+PIOTR!L43+KRZYSZTOF!L43+'0'!L54 -> 124 | I47: =SUM(F47:H47) -> 328 | J47: =TOMEK!F43+MIRU!F23+'1'!F54+BARTEK!F43+PIOTR!F43+KRZYSZTOF!F43+'0'!F54 -> 100 | K47: =TOMEK!G43+MIRU!G23+'1'!G54+BARTEK!G43+PIOTR!G43+KRZYSZTOF!G43+'0'!G54 -> 92 | L47: =TOMEK!H43+MIRU!H23+'1'!H54+BARTEK!H43+PIOTR!H43+KRZYSZTOF!H43+'0'!H54 -> 123 | M47: =SUM(J47:L47) -> 315 | N47: =TOMEK!B43+MIRU!B23+'1'!B54+BARTEK!B43+PIOTR!B43+KRZYSZTOF!B43+'0'!B54 -> 116 | O47: =TOMEK!C43+MIRU!C23+'1'!C54+BARTEK!C43+PIOTR!C43+KRZYSZTOF!C43+'0'!C54 -> 114 | P47: =TOMEK!D43+MIRU!D23+'1'!D54+BARTEK!D43+PIOTR!D43+KRZYSZTOF!D43+'0'!D54 -> 103 | Q47: =SUM(N47:P47) -> 333 | R47: =Q47+M47+I47+E47 -> 1390
A48: Ilość ofert oczekujących na decyzję kontrahenta: | B48: =TOMEK!N44+MIRU!M24+'1'!N55+BARTEK!N44+PIOTR!N44+KRZYSZTOF!N44+'0'!N55 -> 60 | C48: =TOMEK!O44+MIRU!N24+'1'!O55+BARTEK!O44+PIOTR!O44+KRZYSZTOF!O44+'0'!O55 -> 72 | D48: =TOMEK!P44+MIRU!O24+'1'!P55+BARTEK!P44+PIOTR!P44+KRZYSZTOF!P44+'0'!P55 -> 66 | F48: =TOMEK!J44+MIRU!J24+'1'!J55+BARTEK!J44+PIOTR!J44+KRZYSZTOF!J44+'0'!J55 -> 50 | G48: =TOMEK!K44+MIRU!K24+'1'!K55+BARTEK!K44+PIOTR!K44+KRZYSZTOF!K44+'0'!K55 -> 48 | H48: =TOMEK!L44+MIRU!L24+'1'!L55+BARTEK!L44+PIOTR!L44+KRZYSZTOF!L44+'0'!L55 -> 52 | J48: =TOMEK!F44+MIRU!F24+'1'!F55+BARTEK!F44+PIOTR!F44+KRZYSZTOF!F44+'0'!F55 -> 31 | K48: =TOMEK!G44+MIRU!G24+'1'!G55+BARTEK!G44+PIOTR!G44+KRZYSZTOF!G44+'0'!G55 -> 39 | L48: =TOMEK!H44+MIRU!H24+'1'!H55+BARTEK!H44+PIOTR!H44+KRZYSZTOF!H44+'0'!H55 -> 47 | N48: =TOMEK!B44+MIRU!B24+'1'!B55+BARTEK!B44+PIOTR!B44+KRZYSZTOF!B44+'0'!B55 -> 37 | O48: =TOMEK!C44+MIRU!C24+'1'!C55+BARTEK!C44+PIOTR!C44+KRZYSZTOF!C44+'0'!C55 -> 37 | P48: =TOMEK!D44+MIRU!D24+'1'!D55+BARTEK!D44+PIOTR!D44+KRZYSZTOF!D44+'0'!D55 -> 40
A49: Ilość zaakceptowanych ofert przez kontrahenta: | B49: =TOMEK!N45+MIRU!M25+'1'!N56+BARTEK!N45+PIOTR!N45+KRZYSZTOF!N45+'0'!N56 -> 38 | C49: =TOMEK!O45+MIRU!N25+'1'!O56+BARTEK!O45+PIOTR!O45+KRZYSZTOF!O45+'0'!O56 -> 97 | D49: =TOMEK!P45+MIRU!O25+'1'!P56+BARTEK!P45+PIOTR!P45+KRZYSZTOF!P45+'0'!P56 -> 77 | E49: =SUM(B49:D49) -> 212 | F49: =TOMEK!J45+MIRU!J25+'1'!J56+BARTEK!J45+PIOTR!J45+KRZYSZTOF!J45+'0'!J56 -> 79 | G49: =TOMEK!K45+MIRU!K25+'1'!K56+BARTEK!K45+PIOTR!K45+KRZYSZTOF!K45+'0'!K56 -> 43 | H49: =TOMEK!L45+MIRU!L25+'1'!L56+BARTEK!L45+PIOTR!L45+KRZYSZTOF!L45+'0'!L56 -> 53 | I49: =SUM(F49:H49) -> 175 | J49: =TOMEK!F45+MIRU!F25+'1'!F56+BARTEK!F45+PIOTR!F45+KRZYSZTOF!F45+'0'!F56 -> 57 | K49: =TOMEK!G45+MIRU!G25+'1'!G56+BARTEK!G45+PIOTR!G45+KRZYSZTOF!G45+'0'!G56 -> 47 | L49: =TOMEK!H45+MIRU!H25+'1'!H56+BARTEK!H45+PIOTR!H45+KRZYSZTOF!H45+'0'!H56 -> 66 | M49: =SUM(J49:L49) -> 170 | N49: =TOMEK!B45+MIRU!B25+'1'!B56+BARTEK!B45+PIOTR!B45+KRZYSZTOF!B45+'0'!B56 -> 75 | O49: =TOMEK!C45+MIRU!C25+'1'!C56+BARTEK!C45+PIOTR!C45+KRZYSZTOF!C45+'0'!C56 -> 59 | P49: =TOMEK!D45+MIRU!D25+'1'!D56+BARTEK!D45+PIOTR!D45+KRZYSZTOF!D45+'0'!D56 -> 65 | Q49: =SUM(N49:P49) -> 199 | R49: =Q49+M49+I49+E49 -> 756
A50: Ilość odrzuconych ofert przez kontrahenta: | B50: =TOMEK!N46+MIRU!M26+'1'!N57+BARTEK!N46+PIOTR!N46+KRZYSZTOF!N46+'0'!N57 -> 47 | C50: =TOMEK!O46+MIRU!N26+'1'!O57+BARTEK!O46+PIOTR!O46+KRZYSZTOF!O46+'0'!O57 -> 52 | D50: =TOMEK!P46+MIRU!O26+'1'!P57+BARTEK!P46+PIOTR!P46+KRZYSZTOF!P46+'0'!P57 -> 80 | E50: =SUM(B50:D50) -> 179 | F50: =TOMEK!J46+MIRU!J26+'1'!J57+BARTEK!J46+PIOTR!J46+KRZYSZTOF!J46+'0'!J57 -> 55 | G50: =TOMEK!K46+MIRU!K26+'1'!K57+BARTEK!K46+PIOTR!K46+KRZYSZTOF!K46+'0'!K57 -> 42 | H50: =TOMEK!L46+MIRU!L26+'1'!L57+BARTEK!L46+PIOTR!L46+KRZYSZTOF!L46+'0'!L57 -> 62 | I50: =SUM(F50:H50) -> 159 | J50: =TOMEK!F46+MIRU!F26+'1'!F57+BARTEK!F46+PIOTR!F46+KRZYSZTOF!F46+'0'!F57 -> 68 | K50: =TOMEK!G46+MIRU!G26+'1'!G57+BARTEK!G46+PIOTR!G46+KRZYSZTOF!G46+'0'!G57 -> 37 | L50: =TOMEK!H46+MIRU!H26+'1'!H57+BARTEK!H46+PIOTR!H46+KRZYSZTOF!H46+'0'!H57 -> 53 | M50: =SUM(J50:L50) -> 158 | N50: =TOMEK!B46+MIRU!B26+'1'!B57+BARTEK!B46+PIOTR!B46+KRZYSZTOF!B46+'0'!B57 -> 51 | O50: =TOMEK!C46+MIRU!C26+'1'!C57+BARTEK!C46+PIOTR!C46+KRZYSZTOF!C46+'0'!C57 -> 59 | P50: =TOMEK!D46+MIRU!D26+'1'!D57+BARTEK!D46+PIOTR!D46+KRZYSZTOF!D46+'0'!D57 -> 39 | Q50: =SUM(N50:P50) -> 149 | R50: =Q50+M50+I50+E50 -> 645
A51: Ilość przekazanych podmiotów: | B51: =TOMEK!N47+MIRU!M27+'1'!N58+BARTEK!N47+PIOTR!N47+KRZYSZTOF!N47+'0'!N58 -> 27 | C51: =TOMEK!O47+MIRU!N27+'1'!O58+BARTEK!O47+PIOTR!O47+KRZYSZTOF!O47+'0'!O58 -> 16 | D51: =TOMEK!P47+MIRU!O27+'1'!P58+BARTEK!P47+PIOTR!P47+KRZYSZTOF!P47+'0'!P58 -> 12 | E51: =SUM(B51:D51) -> 55 | F51: =TOMEK!J47+MIRU!J27+'1'!J58+BARTEK!J47+PIOTR!J47+KRZYSZTOF!J47+'0'!J58 -> 9 | G51: =TOMEK!K47+MIRU!K27+'1'!K58+BARTEK!K47+PIOTR!K47+KRZYSZTOF!K47+'0'!K58 -> 7 | H51: =TOMEK!L47+MIRU!L27+'1'!L58+BARTEK!L47+PIOTR!L47+KRZYSZTOF!L47+'0'!L58 -> 13 | I51: =SUM(F51:H51) -> 29 | J51: =TOMEK!F47+MIRU!F27+'1'!F58+BARTEK!F47+PIOTR!F47+KRZYSZTOF!F47+'0'!F58 -> 17 | K51: =TOMEK!G47+MIRU!G27+'1'!G58+BARTEK!G47+PIOTR!G47+KRZYSZTOF!G47+'0'!G58 -> 6 | L51: =TOMEK!H47+MIRU!H27+'1'!H58+BARTEK!H47+PIOTR!H47+KRZYSZTOF!H47+'0'!H58 -> 5 | M51: =SUM(J51:L51) -> 28 | N51: =TOMEK!B47+MIRU!B27+'1'!B58+BARTEK!B47+PIOTR!B47+KRZYSZTOF!B47+'0'!B58 -> 10 | O51: =TOMEK!C47+MIRU!C27+'1'!C58+BARTEK!C47+PIOTR!C47+KRZYSZTOF!C47+'0'!C58 -> 10 | P51: =TOMEK!D47+MIRU!D27+'1'!D58+BARTEK!D47+PIOTR!D47+KRZYSZTOF!D47+'0'!D58 -> 9 | Q51: =SUM(N51:P51) -> 29 | R51: =Q51+M51+I51+E51 -> 141
A52: Ilość odebranych podmiotów (zmiana prowadzącego): | B52: =TOMEK!N48+MIRU!M28+'1'!N59+BARTEK!N48+PIOTR!N48+KRZYSZTOF!N48+'0'!N59 -> 0 | C52: =TOMEK!O48+MIRU!N28+'1'!O59+BARTEK!O48+PIOTR!O48+KRZYSZTOF!O48+'0'!O59 -> 0 | D52: =TOMEK!P48+MIRU!O28+'1'!P59+BARTEK!P48+PIOTR!P48+KRZYSZTOF!P48+'0'!P59 -> 1 | E52: =SUM(B52:D52) -> 1 | F52: =TOMEK!J48+MIRU!J28+'1'!J59+BARTEK!J48+PIOTR!J48+KRZYSZTOF!J48+'0'!J59 -> 0 | G52: =TOMEK!K48+MIRU!K28+'1'!K59+BARTEK!K48+PIOTR!K48+KRZYSZTOF!K48+'0'!K59 -> 0 | H52: =TOMEK!L48+MIRU!L28+'1'!L59+BARTEK!L48+PIOTR!L48+KRZYSZTOF!L48+'0'!L59 -> 1 | I52: =SUM(F52:H52) -> 1 | J52: =TOMEK!F48+MIRU!F28+'1'!F59+BARTEK!F48+PIOTR!F48+KRZYSZTOF!F48+'0'!F59 -> 0 | K52: =TOMEK!G48+MIRU!G28+'1'!G59+BARTEK!G48+PIOTR!G48+KRZYSZTOF!G48+'0'!G59 -> 0 | L52: =TOMEK!H48+MIRU!H28+'1'!H59+BARTEK!H48+PIOTR!H48+KRZYSZTOF!H48+'0'!H59 -> 0 | M52: =SUM(J52:L52) -> 0 | N52: =TOMEK!B48+MIRU!B28+'1'!B59+BARTEK!B48+PIOTR!B48+KRZYSZTOF!B48+'0'!B59 -> 1 | O52: =TOMEK!C48+MIRU!C28+'1'!C59+BARTEK!C48+PIOTR!C48+KRZYSZTOF!C48+'0'!C59 -> 0 | P52: =TOMEK!D48+MIRU!D28+'1'!D59+BARTEK!D48+PIOTR!D48+KRZYSZTOF!D48+'0'!D59 -> 0 | Q52: =SUM(N52:P52) -> 1 | R52: =Q52+M52+I52+E52 -> 3
A53: Ilość spotkań z Klientami: | B53: =TOMEK!N49+MIRU!M29+'1'!N60+BARTEK!N49+PIOTR!N49+KRZYSZTOF!N49+'0'!N60 -> 5 | C53: =TOMEK!O49+MIRU!N29+'1'!O60+BARTEK!O49+PIOTR!O49+KRZYSZTOF!O49+'0'!O60 -> 1 | D53: =TOMEK!P49+MIRU!O29+'1'!P60+BARTEK!P49+PIOTR!P49+KRZYSZTOF!P49+'0'!P60 -> 1 | E53: =SUM(B53:D53) -> 7 | F53: =TOMEK!J49+MIRU!J29+'1'!J60+BARTEK!J49+PIOTR!J49+KRZYSZTOF!J49+'0'!J60 -> 2 | G53: =TOMEK!K49+MIRU!K29+'1'!K60+BARTEK!K49+PIOTR!K49+KRZYSZTOF!K49+'0'!K60 -> 4 | H53: =TOMEK!L49+MIRU!L29+'1'!L60+BARTEK!L49+PIOTR!L49+KRZYSZTOF!L49+'0'!L60 -> 15 | I53: =SUM(F53:H53) -> 21 | J53: =TOMEK!F49+MIRU!F29+'1'!F60+BARTEK!F49+PIOTR!F49+KRZYSZTOF!F49+'0'!F60 -> 5 | K53: =TOMEK!G49+MIRU!G29+'1'!G60+BARTEK!G49+PIOTR!G49+KRZYSZTOF!G49+'0'!G60 -> 9 | L53: =TOMEK!H49+MIRU!H29+'1'!H60+BARTEK!H49+PIOTR!H49+KRZYSZTOF!H49+'0'!H60 -> 3 | M53: =SUM(J53:L53) -> 17 | N53: =TOMEK!B49+MIRU!B29+'1'!B60+BARTEK!B49+PIOTR!B49+KRZYSZTOF!B49+'0'!B60 -> 3 | O53: =TOMEK!C49+MIRU!C29+'1'!C60+BARTEK!C49+PIOTR!C49+KRZYSZTOF!C49+'0'!C60 -> 7 | P53: =TOMEK!D49+MIRU!D29+'1'!D60+BARTEK!D49+PIOTR!D49+KRZYSZTOF!D49+'0'!D60 -> 9 | Q53: =SUM(N53:P53) -> 19 | R53: =Q53+M53+I53+E53 -> 64
A54: Ilość aktualnie otwartych wdrożeń: | B54: =TOMEK!N50+MIRU!M30+'1'!N61+BARTEK!N50+PIOTR!N50+KRZYSZTOF!N50+'0'!N61 -> 137 | C54: =TOMEK!O50+MIRU!N30+'1'!O61+BARTEK!O50+PIOTR!O50+KRZYSZTOF!O50+'0'!O61 -> 142 | D54: =TOMEK!P50+MIRU!O30+'1'!P61+BARTEK!P50+PIOTR!P50+KRZYSZTOF!P50+'0'!P61 -> 123 | F54: =TOMEK!J50+MIRU!J30+'1'!J61+BARTEK!J50+PIOTR!J50+KRZYSZTOF!J50+'0'!J61 -> 123 | G54: =TOMEK!K50+MIRU!K30+'1'!K61+BARTEK!K50+PIOTR!K50+KRZYSZTOF!K50+'0'!K61 -> 128 | H54: =TOMEK!L50+MIRU!L30+'1'!L61+BARTEK!L50+PIOTR!L50+KRZYSZTOF!L50+'0'!L61 -> 124 | J54: =TOMEK!F50+MIRU!F30+'1'!F61+BARTEK!F50+PIOTR!F50+KRZYSZTOF!F50+'0'!F61 -> 112 | K54: =TOMEK!G50+MIRU!G30+'1'!G61+BARTEK!G50+PIOTR!G50+KRZYSZTOF!G50+'0'!G61 -> 104 | L54: =TOMEK!H50+MIRU!H30+'1'!H61+BARTEK!H50+PIOTR!H50+KRZYSZTOF!H50+'0'!H61 -> 101 | N54: =TOMEK!B50+MIRU!B30+'1'!B61+BARTEK!B50+PIOTR!B50+KRZYSZTOF!B50+'0'!B61 -> 97 | O54: =TOMEK!C50+MIRU!C30+'1'!C61+BARTEK!C50+PIOTR!C50+KRZYSZTOF!C50+'0'!C61 -> 99 | P54: =TOMEK!D50+MIRU!D30+'1'!D61+BARTEK!D50+PIOTR!D50+KRZYSZTOF!D50+'0'!D61 -> 116 | T54: =SUM(N54:P56) -> 490
A55: Ilość wdrożeń dodanych w danym miesiącu: | B55: =TOMEK!N51+MIRU!M31+'1'!N62+BARTEK!N51+PIOTR!N51+KRZYSZTOF!N51+'0'!N62 -> 35 | C55: =TOMEK!O51+MIRU!N31+'1'!O62+BARTEK!O51+PIOTR!O51+KRZYSZTOF!O51+'0'!O62 -> 55 | D55: =TOMEK!P51+MIRU!O31+'1'!P62+BARTEK!P51+PIOTR!P51+KRZYSZTOF!P51+'0'!P62 -> 50 | E55: =SUM(B55:D55) -> 140 | F55: =TOMEK!J51+MIRU!J31+'1'!J62+BARTEK!J51+PIOTR!J51+KRZYSZTOF!J51+'0'!J62 -> 41 | G55: =TOMEK!K51+MIRU!K31+'1'!K62+BARTEK!K51+PIOTR!K51+KRZYSZTOF!K51+'0'!K62 -> 27 | H55: =TOMEK!L51+MIRU!L31+'1'!L62+BARTEK!L51+PIOTR!L51+KRZYSZTOF!L51+'0'!L62 -> 56 | I55: =SUM(F55:H55) -> 124 | J55: =TOMEK!F51+MIRU!F31+'1'!F62+BARTEK!F51+PIOTR!F51+KRZYSZTOF!F51+'0'!F62 -> 38 | K55: =TOMEK!G51+MIRU!G31+'1'!G62+BARTEK!G51+PIOTR!G51+KRZYSZTOF!G51+'0'!G62 -> 34 | L55: =TOMEK!H51+MIRU!H31+'1'!H62+BARTEK!H51+PIOTR!H51+KRZYSZTOF!H51+'0'!H62 -> 36 | M55: =SUM(J55:L55) -> 108 | N55: =TOMEK!B51+MIRU!B31+'1'!B62+BARTEK!B51+PIOTR!B51+KRZYSZTOF!B51+'0'!B62 -> 32 | O55: =TOMEK!C51+MIRU!C31+'1'!C62+BARTEK!C51+PIOTR!C51+KRZYSZTOF!C51+'0'!C62 -> 31 | P55: =TOMEK!D51+MIRU!D31+'1'!D62+BARTEK!D51+PIOTR!D51+KRZYSZTOF!D51+'0'!D62 -> 48 | Q55: =SUM(N55:P55) -> 111 | R55: =Q55+M55+I55+E55 -> 483 | S55: =R55/(R56+R55) -> 0.64485981
A56: Ilość wdrożeń zamkniętych pozytywnie w danym mcu: | B56: =TOMEK!N52+MIRU!M32+'1'!N63+BARTEK!N52+PIOTR!N52+KRZYSZTOF!N52+'0'!N63 -> 13 | C56: =TOMEK!O52+MIRU!N32+'1'!O63+BARTEK!O52+PIOTR!O52+KRZYSZTOF!O52+'0'!O63 -> 31 | D56: =TOMEK!P52+MIRU!O32+'1'!P63+BARTEK!P52+PIOTR!P52+KRZYSZTOF!P52+'0'!P63 -> 31 | E56: =SUM(B56:D56) -> 75 | F56: =TOMEK!J52+MIRU!J32+'1'!J63+BARTEK!J52+PIOTR!J52+KRZYSZTOF!J52+'0'!J63 -> 24 | G56: =TOMEK!K52+MIRU!K32+'1'!K63+BARTEK!K52+PIOTR!K52+KRZYSZTOF!K52+'0'!K63 -> 15 | H56: =TOMEK!L52+MIRU!L32+'1'!L63+BARTEK!L52+PIOTR!L52+KRZYSZTOF!L52+'0'!L63 -> 28 | I56: =SUM(F56:H56) -> 67 | J56: =TOMEK!F52+MIRU!F32+'1'!F63+BARTEK!F52+PIOTR!F52+KRZYSZTOF!F52+'0'!F63 -> 22 | K56: =TOMEK!G52+MIRU!G32+'1'!G63+BARTEK!G52+PIOTR!G52+KRZYSZTOF!G52+'0'!G63 -> 15 | L56: =TOMEK!H52+MIRU!H32+'1'!H63+BARTEK!H52+PIOTR!H52+KRZYSZTOF!H52+'0'!H63 -> 20 | M56: =SUM(J56:L56) -> 57 | N56: =TOMEK!B52+MIRU!B32+'1'!B63+BARTEK!B52+PIOTR!B52+KRZYSZTOF!B52+'0'!B63 -> 23 | O56: =TOMEK!C52+MIRU!C32+'1'!C63+BARTEK!C52+PIOTR!C52+KRZYSZTOF!C52+'0'!C63 -> 13 | P56: =TOMEK!D52+MIRU!D32+'1'!D63+BARTEK!D52+PIOTR!D52+KRZYSZTOF!D52+'0'!D63 -> 31 | Q56: =SUM(N56:P56) -> 67 | R56: =Q56+M56+I56+E56 -> 266 | S56: =R56/(R55+R56) -> 0.35514019
A57: Ilość wdrożeń zamkniętych negatywnie w danym mcu: | B57: =TOMEK!N53+MIRU!M33+'1'!N64+BARTEK!N53+PIOTR!N53+KRZYSZTOF!N53+'0'!N64 -> 28 | C57: =TOMEK!O53+MIRU!N33+'1'!O64+BARTEK!O53+PIOTR!O53+KRZYSZTOF!O53+'0'!O64 -> 19 | D57: =TOMEK!P53+MIRU!O33+'1'!P64+BARTEK!P53+PIOTR!P53+KRZYSZTOF!P53+'0'!P64 -> 33 | E57: =SUM(B57:D57) -> 80 | F57: =TOMEK!J53+MIRU!J33+'1'!J64+BARTEK!J53+PIOTR!J53+KRZYSZTOF!J53+'0'!J64 -> 22 | G57: =TOMEK!K53+MIRU!K33+'1'!K64+BARTEK!K53+PIOTR!K53+KRZYSZTOF!K53+'0'!K64 -> 12 | H57: =TOMEK!L53+MIRU!L33+'1'!L64+BARTEK!L53+PIOTR!L53+KRZYSZTOF!L53+'0'!L64 -> 33 | I57: =SUM(F57:H57) -> 67 | J57: =TOMEK!F53+MIRU!F33+'1'!F64+BARTEK!F53+PIOTR!F53+KRZYSZTOF!F53+'0'!F64 -> 30 | K57: =TOMEK!G53+MIRU!G33+'1'!G64+BARTEK!G53+PIOTR!G53+KRZYSZTOF!G53+'0'!G64 -> 24 | L57: =TOMEK!H53+MIRU!H33+'1'!H64+BARTEK!H53+PIOTR!H53+KRZYSZTOF!H53+'0'!H64 -> 21 | M57: =SUM(J57:L57) -> 75 | N57: =TOMEK!B53+MIRU!B33+'1'!B64+BARTEK!B53+PIOTR!B53+KRZYSZTOF!B53+'0'!B64 -> 17 | O57: =TOMEK!C53+MIRU!C33+'1'!C64+BARTEK!C53+PIOTR!C53+KRZYSZTOF!C53+'0'!C64 -> 19 | P57: =TOMEK!D53+MIRU!D33+'1'!D64+BARTEK!D53+PIOTR!D53+KRZYSZTOF!D53+'0'!D64 -> 1 | Q57: =SUM(N57:P57) -> 37 | R57: =Q57+M57+I57+E57 -> 259 | S57: =R57/(R56+R57) -> 0.49333333
A58: Ilość aktualnie odłożonych wdrożeń: | B58: =TOMEK!N54+MIRU!M34+'1'!N65+BARTEK!N54+PIOTR!N54+KRZYSZTOF!N54+'0'!N65 -> 10 | C58: =TOMEK!O54+MIRU!N34+'1'!O65+BARTEK!O54+PIOTR!O54+KRZYSZTOF!O54+'0'!O65 -> 11 | D58: =TOMEK!P54+MIRU!O34+'1'!P65+BARTEK!P54+PIOTR!P54+KRZYSZTOF!P54+'0'!P65 -> 14 | F58: =TOMEK!J54+MIRU!J34+'1'!J65+BARTEK!J54+PIOTR!J54+KRZYSZTOF!J54+'0'!J65 -> 14 | G58: =TOMEK!K54+MIRU!K34+'1'!K65+BARTEK!K54+PIOTR!K54+KRZYSZTOF!K54+'0'!K65 -> 14 | H58: =TOMEK!L54+MIRU!L34+'1'!L65+BARTEK!L54+PIOTR!L54+KRZYSZTOF!L54+'0'!L65 -> 13 | J58: =TOMEK!F54+MIRU!F34+'1'!F65+BARTEK!F54+PIOTR!F54+KRZYSZTOF!F54+'0'!F65 -> 11 | K58: =TOMEK!G54+MIRU!G34+'1'!G65+BARTEK!G54+PIOTR!G54+KRZYSZTOF!G54+'0'!G65 -> 10 | L58: =TOMEK!H54+MIRU!H34+'1'!H65+BARTEK!H54+PIOTR!H54+KRZYSZTOF!H54+'0'!H65 -> 10 | N58: =TOMEK!B54+MIRU!B34+'1'!B65+BARTEK!B54+PIOTR!B54+KRZYSZTOF!B54+'0'!B65 -> 9 | O58: =TOMEK!C54+MIRU!C34+'1'!C65+BARTEK!C54+PIOTR!C54+KRZYSZTOF!C54+'0'!C65 -> 7 | P58: =TOMEK!D54+MIRU!D34+'1'!D65+BARTEK!D54+PIOTR!D54+KRZYSZTOF!D54+'0'!D65 -> 6

Sheet REALIZACJE
B1: PLANY SPRZEDAŻY 2021
A2: miesiąc | B2: styczeń | C2: luty | D2: marzec | E2: I KW | F2: kwiecień | G2: maj | H2: czerwiec | J2: lipiec | K2: sierpień | L2: wrzesień | N2: październik | O2: listopad | P2: grudzień | R2: suma
A3: Marża 2020 | B3: =DH!B3 -> 322882.94 | C3: =DH!C3 -> 292994.15 | D3: =DH!D3 -> 273950.21 | E3: =DH!E3 -> 889827.3 | F3: =DH!F3 -> 241835.05 | G3: =DH!G3 -> 185291.82 | H3: =DH!H3 -> 232994.43 | I3: =DH!I3 -> 660121.31 | ... R3: =DH!R3 -> 3113088.2
A4: Sumaryczna Marża 2020 | B4: =B3 -> 322882.94 | C4: =C3+B4 -> 615877.09 | D4: =D3+C4 -> 889827.3 | F4: =F3+D4 -> 1131662.4 | G4: =G3+F4 -> 1316954.2 | H4: =H3+G4 -> 1549948.6 | J4: =J3+H4 -> 1828020.7 | K4: =K3+J4 -> 2042532.1 | L4: =L3+K4 -> 2287741.8 | N4: =N3+L4 -> 2611099.3 | O4: =O3+N4 -> 2840541 | P4: =P3+O4 -> 3113088.2
A5: Wzrost Marży 2021 w stos do Marży 2020 | B5: =B9/B4-1 -> -0.26037292 | C5: =C9/C4-1 -> -0.22895678 | D5: =D9/D4-1 -> -0.11752634 | E5: =E8/E3-1 -> -0.11752634 | F5: =F9/F4-1 -> -0.067765741 | G5: =G9/G4-1 -> -0.0025453529 | H5: =H9/H4-1 -> 0.023793866 | I5: =I8/I3-1 -> 0.21429003 | J5: =J9/J4-1 -> 0.018172515 | K5: =K9/K4-1 -> 0.034489975 | L5: =L9/L4-1 -> 0.033080617 | M5: =M8/M3-1 -> 0.052590132 | N5: =N9/N4-1 -> 0.0042142125 | O5: =O9/O4-1 -> 0.023324871 | P5: =P9/P4-1 -> 0.045454738 | Q5: =Q8/Q3-1 -> 0.079754028 | R5: =R6/R3-1 -> 0.10950921
A6: Plan Sprzedaży Marża | B6: =DH!B6 -> 251350 | C6: =DH!C6 -> 274833.33 | D6: =DH!D6 -> 309925 | E6: =SUM(B6:D6) -> 836108.33 | F6: =DH!F6 -> 300833.33 | G6: =DH!G6 -> 302225 | H6: =DH!H6 -> 316616.67 | I6: =SUM(F6:H6) -> 919675 | J6: =DH!J6 -> 259050 | K6: =DH!K6 -> 259050 | L6: =DH!L6 -> 287833.33 | M6: =SUM(J6:L6) -> 805933.33 | N6: =DH!N6 -> 302225 | O6: =DH!O6 -> 302225 | P6: =DH!P6 -> 287833.33 | Q6: =SUM(N6:P6) -> 892283.33 | R6: =B6+C6+D6+F6+G6+H6+J6+K6+L6+N6+O6+P6 -> 3454000
A7: Sumaryczny Plan Sprzedaży Marża | B7: =B6 -> 251350 | C7: =C6+B7 -> 526183.33 | D7: =DH!D7 -> 836108.33 | F7: =F6+D7 -> 1136941.7 | G7: =G6+F7 -> 1439166.7 | H7: =H6+G7 -> 1755783.3 | J7: =J6+H7 -> 2014833.3 | K7: =K6+J7 -> 2273883.3 | L7: =L6+K7 -> 2561716.7 | N7: =N6+L7 -> 2863941.7 | O7: =O6+N7 -> 3166166.7 | P7: =P6+O7 -> 3454000
A8: Miesięczna realizacja Planu Sprzedaży Marża | B8: =DH!B8 -> 238812.96 | C8: =DH!C8 -> 236054.89 | D8: =DH!D8 -> 310381.3 | E8: =SUM(B8:D8) -> 785249.16 | F8: =DH!F8 -> 269725.26 | G8: =DH!G8 -> 258627.65 | H8: =DH!H8 -> 273225.82 | I8: =SUM(F8:H8) -> 801578.73 | J8: =DH!J8 -> 274412.59 | K8: =DH!K8 -> 251738.51 | L8: =DH!L8 -> 250442.74 | M8: =SUM(J8:L8) -> 776593.84 | N8: =DH!N8 -> 258681.26 | O8: =DH!O8 -> 284693.28 | P8: =DH!P8 -> 347796.52 | Q8: =SUM(N8:P8) -> 891171.06 | R8: =B8+C8+D8+F8+G8+H8+J8+K8+L8+N8+O8+P8 -> 3254592.8
A9: Sumaryczna realizacja planu sprzedaży Marża | B9: =B8 -> 238812.96 | C9: =C8+B9 -> 474867.86 | D9: =D8+C9 -> 785249.16 | F9: =F8+D9 -> 1054974.4 | G9: =G8+F9 -> 1313602.1 | H9: =H8+G9 -> 1586827.9 | J9: =J8+H9 -> 1861240.5 | K9: =K8+J9 -> 2112979 | L9: =L8+K9 -> 2363421.7 | N9: =N8+L9 -> 2622103 | O9: =O8+N9 -> 2906796.3 | P9: =P8+O9 -> 3254592.8 | Q9: =P7*0.95 -> 3281300 | R9: =R8*1.1 -> 3580052.1
A10: Wysokość zrealizowania Miesięcznego Planu Sprzedaży Marża | B10: =B8/B6 -> 0.9501212 | C10: =C8/C6 -> 0.85890198 | D10: =D8/D6 -> 1.0014723 | F10: =F8/F6 -> 0.89659367 | G10: =G8/G6 -> 0.85574538 | H10: =H8/H6 -> 0.86295462 | J10: =J8/J6 -> 1.0593036 | K10: =K8/K6 -> 0.97177578 | L10: =L8/L6 -> 0.87009639 | M10: =+E16 -> 0 | N10: =N8/N6 -> 0.85592278 | O10: =O8/O6 -> 0.94199116 | P10: =P8/P6 -> 1.2083261 | Q10: =Q9-P9 -> 26707.217
A11: Różnica wskaźnika Marża | B11: =B9-B7 -> -12537.037 | C11: =C9-C7 -> -51315.478 | D11: =D9-D7 -> -50859.177 | F11: =F9-F7 -> -81967.248 | G11: =G9-G7 -> -125564.6 | H11: =H9-H7 -> -168955.45 | J11: =J9-J7 -> -153592.86 | K11: =K9-K7 -> -160904.35 | L11: =L9-L7 -> -198294.94 | N11: =N9-N7 -> -241838.68 | O11: =O9-O7 -> -259370.4 | P11: =P9-P7 -> -199407.22 | Q11: =Q10+P8 -> 374503.73
A12: Wysokość zrealizowania Planu Sprzedaży Marża | B12: =B9/B7 -> 0.9501212 | C12: =C9/C7 -> 0.90247605 | D12: =D9/D7 -> 0.93917155 | F12: =F9/F7 -> 0.92790549 | G12: =G9/G7 -> 0.91275187 | H12: =H9/H7 -> 0.90377204 | J12: =J9/J7 -> 0.92376895 | K12: =K9/K7 -> 0.92923808 | L12: =L9/L7 -> 0.92259295 | N12: =N9/N7 -> 0.9155574 | O12: =O9/O7 -> 0.91808062 | P12: =P9/P7 -> 0.94226774
A13: Kwartalny Plan Sprzedaży Marża | B13: ='Target 2021'!C10 -> 259200 | C13: ='Target 2021'!D10 -> 288000 | D13: ='Target 2021'!E10 -> 316800 | E13: =SUM(B13:D13) -> 864000 | F13: ='Target 2021'!F10 -> 259200 | G13: ='Target 2021'!G10 -> 288000 | H13: ='Target 2021'!H10 -> 316800 | I13: =SUM(F13:H13) -> 864000 | J13: ='Target 2021'!I10 -> 259050 | K13: ='Target 2021'!J10 -> 287833.33 | L13: ='Target 2021'!K10 -> 316616.67 | N13: ='Target 2021'!L10 -> 273600 | O13: ='Target 2021'!M10 -> 302400 | P13: ='Target 2021'!N10 -> 288000 | Q13: =SUM(N13:P13) -> 864000
A14: Sumaryczna Kwartalna Realizacja Planu Sprzedaży Marża | B14: =B8/B13 -> 0.92134631 | C14: =(B8+C8)/(B13+C13) -> 0.86781406 | D14: =(D8+C8+B8)/(B13+C13+D13) -> 0.90885319 | F14: =F8/F13 -> 1.0406067 | G14: =(F8+G8)/(F13+G13) -> 0.96555722 | H14: =(H8+G8+F8)/(F13+G13+H13) -> 0.92775315 | J14: =J8/J13 -> 1.0593036 | K14: =(J8+K8)/(J13+K13) -> 0.96209021 | L14: =(L8+K8+J8)/(J13+K13+L13) -> 0.89935593 | N14: =N8/N13 -> 0.94547245 | O14: =(N8+O8)/(N13+O13) -> 0.94335858 | P14: =(P8+O8+N8)/(N13+O13+P13) -> 1.031448
A15: Realizacja MINIMUM | B15: =B9/('Target 2021'!$D$39/12*REALIZACJE!B18) -> 0.87335981 | C15: =C9/('Target 2021'!$D$39/12*REALIZACJE!C18) -> 0.86831656 | D15: =D9/('Target 2021'!$D$39/12*REALIZACJE!D18) -> 0.95724153 | F15: =F9/('Target 2021'!$D$39/12*REALIZACJE!F18) -> 0.96453334 | G15: =G9/('Target 2021'!$D$39/12*REALIZACJE!G18) -> 0.96079144 | H15: =H9/('Target 2021'!$D$39/12*REALIZACJE!H18) -> 0.96719464 | J15: =J9/('Target 2021'!$D$39/12*REALIZACJE!J18) -> 0.97238837 | K15: =K9/('Target 2021'!$D$39/12*REALIZACJE!K18) -> 0.96591853 | L15: =L9/('Target 2021'!$D$39/12*REALIZACJE!L18) -> 0.96035991 | N15: =N9/('Target 2021'!$D$39/12*REALIZACJE!N18) -> 0.95892591 | O15: =O9/('Target 2021'!$D$39/12*REALIZACJE!O18) -> 0.96640066 | P15: =P9/('Target 2021'!$D$39/12*REALIZACJE!P18) -> 0.99186078
A16: Realizacja PLAN (CEL STRATEGICZNY) | B16: =B9/('Target 2021'!$F$39/12*REALIZACJE!B18) -> 0.82969182 | C16: =C9/('Target 2021'!$F$39/12*REALIZACJE!C18) -> 0.82490073 | D16: =D9/('Target 2021'!$F$39/12*REALIZACJE!D18) -> 0.90937945 | F16: =F9/('Target 2021'!$F$39/12*REALIZACJE!F18) -> 0.91630667 | G16: =G9/('Target 2021'!$F$39/12*REALIZACJE!G18) -> 0.91275187 | H16: =H9/('Target 2021'!$F$39/12*REALIZACJE!H18) -> 0.91883491 | J16: =J9/('Target 2021'!$F$39/12*REALIZACJE!J18) -> 0.92376895 | K16: =K9/('Target 2021'!$F$39/12*REALIZACJE!K18) -> 0.9176226 | L16: =L9/('Target 2021'!$F$39/12*REALIZACJE!L18) -> 0.91234191 | N16: =N9/('Target 2021'!$F$39/12*REALIZACJE!N18) -> 0.91097961 | O16: =O9/('Target 2021'!$F$39/12*REALIZACJE!O18) -> 0.91808062 | P16: =P9/('Target 2021'!$F$39/12*REALIZACJE!P18) -> 0.94226774
A17: Realizacja CEL | B17: =B9/('Target 2021'!$H$39/12*REALIZACJE!B18) -> 0.79018269 | C17: =C9/('Target 2021'!$H$39/12*REALIZACJE!C18) -> 0.78561975 | D17: =D9/('Target 2021'!$H$39/12*REALIZACJE!D18) -> 0.86607567 | F17: =F9/('Target 2021'!$H$39/12*REALIZACJE!F18) -> 0.87267302 | G17: =G9/('Target 2021'!$H$39/12*REALIZACJE!G18) -> 0.8692875 | H17: =H9/('Target 2021'!$H$39/12*REALIZACJE!H18) -> 0.87508086 | J17: =J9/('Target 2021'!$H$39/12*REALIZACJE!J18) -> 0.87977995 | K17: =K9/('Target 2021'!$H$39/12*REALIZACJE!K18) -> 0.87392629 | L17: =L9/('Target 2021'!$H$39/12*REALIZACJE!L18) -> 0.86889706 | N17: =N9/('Target 2021'!$H$39/12*REALIZACJE!N18) -> 0.86759963 | O17: =O9/('Target 2021'!$H$39/12*REALIZACJE!O18) -> 0.8743625 | P17: =P9/('Target 2021'!$H$39/12*REALIZACJE!P18) -> 0.89739785
B18: 1 | C18: 2 | D18: 3 | F18: 4 | G18: 5 | H18: 6 | J18: 7 | K18: 8 | L18: 9 | N18: 10 | O18: 11 | P18: 12
A19: Obrót 2020 | B19: =DH!B16 -> 956402.48 | C19: =DH!C16 -> 947401.39 | D19: =DH!D16 -> 841720.55 | E19: =DH!E16 -> 2745524.4 | F19: =DH!F16 -> 770190.66 | G19: =DH!G16 -> 550307.67 | H19: =DH!H16 -> 749067.73 | I19: =DH!I16 -> 2069566.1 | ... R19: =DH!R16 -> 9648239.7
A20: Sumaryczny Obrót 2020 | B20: =B19 -> 956402.48 | C20: =C19+B20 -> 1903803.9 | D20: =D19+C20 -> 2745524.4 | F20: =F19+D20 -> 3515715.1 | G20: =G19+F20 -> 4066022.8 | H20: =H19+G20 -> 4815090.5 | J20: =J19+H20 -> 5667914.9 | K20: =K19+J20 -> 6371040.7 | L20: =L19+K20 -> 7103931.6 | N20: =N19+L20 -> 8059137.4 | O20: =O19+N20 -> 8789714.4 | P20: =P19+O20 -> 9648239.7
A21: Wzrost Obrotu 2021 w stos do Obrotu 2020 | B21: =B25/B20-1 -> -0.26469198 | C21: =C25/C20-1 -> -0.22649533 | D21: =D25/D20-1 -> -0.13643359 | E21: =E24/E19-1 -> -0.13643359 | F21: =F25/F20-1 -> -0.10852746 | G21: =G25/G20-1 -> -0.028562311 | H21: =H25/H20-1 -> -0.0033325124 | I21: =I24/I19-1 -> 0.17324183 | J21: =J25/J20-1 -> -0.008929025 | K21: =K25/K20-1 -> 0.014795144 | L21: =L25/L20-1 -> 0.012090386 | M21: =M24/M19-1 -> 0.044535911 | N21: =N25/N20-1 -> -0.0078663945 | O21: =O25/O20-1 -> -0.00035992184 | P21: =P25/P20-1 -> 0.014234903 | Q21: =Q24/Q19-1 -> 0.020222583 | R21: =R22/R19 -> 1.1090106
A22: Plan Sprzedaży Obrót | B22: =DH!B19 -> 802500 | C22: =DH!C19 -> 891666.67 | D22: =DH!D19 -> 936250 | E22: =SUM(B22:D22) -> 2630416.7 | F22: =DH!F19 -> 891666.67 | G22: =DH!G19 -> 936250 | H22: =DH!H19 -> 980833.33 | I22: =SUM(F22:H22) -> 2808750 | J22: =DH!J19 -> 802500 | K22: =DH!K19 -> 802500 | L22: =DH!L19 -> 891666.67 | M22: =SUM(J22:L22) -> 2496666.7 | N22: =DH!N19 -> 936250 | O22: =DH!O19 -> 936250 | P22: =DH!P19 -> 891666.67 | Q22: =SUM(N22:P22) -> 2764166.7 | R22: =B22+C22+D22+F22+G22+H22+J22+K22+L22+N22+O22+P22 -> 10700000
A23: Sumaryczny Plan Sprzedaży Obrót | B23: =B22 -> 802500 | C23: =C22+B23 -> 1694166.7 | D23: =D22+C23 -> 2630416.7 | F23: =F22+D23 -> 3522083.3 | G23: =G22+F23 -> 4458333.3 | H23: =H22+G23 -> 5439166.7 | J23: =J22+H23 -> 6241666.7 | K23: =K22+J23 -> 7044166.7 | L23: =L22+K23 -> 7935833.3 | N23: =N22+L23 -> 8872083.3 | O23: =O22+N23 -> 9808333.3 | P23: =P22+O23 -> 10700000
A24: Miesięczna realizacja Planu Sprzedaży Obrót | B24: =DH!B21 -> 703250.41 | C24: =DH!C21 -> 769350.78 | D24: =DH!D21 -> 898341.47 | E24: =SUM(B24:D24) -> 2370942.7 | F24: =DH!F21 -> 763220.8 | G24: =DH!G21 -> 815724.29 | H24: =DH!H21 -> 849156.39 | I24: =SUM(F24:H24) -> 2428101.5 | J24: =DH!J21 -> 818261.8 | K24: =DH!K21 -> 847995.24 | L24: =DH!L21 -> 724519.68 | M24: =SUM(J24:L24) -> 2390776.7 | N24: =DH!N21 -> 805920.16 | O24: =DH!O21 -> 790809.8 | P24: =DH!P21 -> 999030.63 | Q24: =SUM(N24:P24) -> 2595760.6 | R24: =B24+C24+D24+F24+G24+H24+J24+K24+L24+N24+O24+P24 -> 9785581.5
A25: Sumaryczna realizacja planu sprzedaży Obrót | B25: =B24 -> 703250.41 | C25: =C24+B25 -> 1472601.2 | D25: =D24+C25 -> 2370942.7 | F25: =F24+D25 -> 3134163.5 | G25: =G24+F25 -> 3949887.8 | H25: =H24+G25 -> 4799044.1 | J25: =J24+H25 -> 5617305.9 | K25: =K24+J25 -> 6465301.2 | L25: =L24+K25 -> 7189820.9 | N25: =N24+L25 -> 7995741 | O25: =O24+N25 -> 8786550.8 | P25: =P24+O25 -> 9785581.5 | R25: =R24*1.1 -> 10764140
A26: Wysokość zrealizowania Miesięcznego Planu Sprzedaży Obrót | B26: =B24/B22 -> 0.8763245 | C26: =C24/C22 -> 0.86282331 | D26: =D24/D22 -> 0.95951025 | F26: =F24/F22 -> 0.85594856 | G26: =G24/G22 -> 0.8712676 | H26: =H24/H22 -> 0.86574993 | J26: =J24/J22 -> 1.0196409 | K26: =K24/K22 -> 1.0566919 | L26: =L24/L22 -> 0.81254544 | N26: =N24/N22 -> 0.8607959 | O26: =O24/O22 -> 0.84465667 | P26: =P24/P22 -> 1.1204082
A27: Wysokość zrealizowania Planu Sprzedaży Obrót | B27: =B25/B23 -> 0.8763245 | C27: =C25/C23 -> 0.86921861 | D27: =D25/D23 -> 0.90135631 | F27: =F25/F23 -> 0.88986068 | G27: =G25/G23 -> 0.88595613 | H27: =H25/H23 -> 0.88231239 | J27: =J25/J23 -> 0.89996891 | K27: =K25/K23 -> 0.91782343 | L27: =L25/L23 -> 0.90599444 | N27: =N25/N23 -> 0.90122474 | O27: =O25/O23 -> 0.89582506 | P27: =P25/P23 -> 0.91454032
A28: Różnica wskaźnika Obrót | B28: =B25-B23 -> -99249.586 | C28: =C25-C23 -> -221565.47 | D28: =D25-D23 -> -259474 | F28: =F25-F23 -> -387919.87 | G28: =G25-G23 -> -508445.58 | H28: =H25-H23 -> -640122.53 | J28: =J25-J23 -> -624360.73 | K28: =K25-K23 -> -578865.49 | L28: =L25-L23 -> -746012.47 | N28: =N25-N23 -> -876342.31 | O28: =O25-O23 -> -1021782.5 | P28: =P25-P23 -> -914418.54
A29: Kwartalny Plan Sprzedaży Obrót | B29: ='Target 2021'!C20 -> 0 | C29: ='Target 2021'!D20 -> 0 | D29: ='Target 2021'!E20 -> 0 | E29: =SUM(B29:D29) -> 0 | F29: ='Target 2021'!F20 -> 0 | G29: ='Target 2021'!G20 -> 0 | H29: ='Target 2021'!H20 -> 0 | I29: =SUM(F29:H29) -> 0 | J29: ='Target 2021'!I20 -> 0 | K29: ='Target 2021'!J20 -> 0 | L29: ='Target 2021'!K20 -> 0 | M29: =SUM(J29:L29) -> 0 | N29: ='Target 2021'!L20 -> 0 | O29: ='Target 2021'!M20 -> 0 | P29: ='Target 2021'!N20 -> 0 | Q29: =SUM(N29:P29) -> 0
A30: Sumaryczna Kwartalna Realizacja Planu Sprzedaży Obrót | B30: =B24/B29 -> #DIV/0! | C30: =(B24+C24)/(B29+C29) -> #DIV/0! | D30: =(D24+C24+B24)/(B29+C29+D29) -> #DIV/0! | F30: =F24/F29 -> #DIV/0! | G30: =(F24+G24)/(F29+G29) -> #DIV/0! | H30: =(H24+G24+F24)/(F29+G29+H29) -> #DIV/0! | J30: =J24/J29 -> #DIV/0! | K30: =(J24+K24)/(J29+K29) -> #DIV/0! | L30: =(L24+K24+J24)/(J29+K29+L29) -> #DIV/0! | N30: =N24/N29 -> #DIV/0! | O30: =(N24+O24)/(N29+O29) -> #DIV/0! | P30: =(P24+O24+N24)/(N29+O29+P29) -> #DIV/0!
A31: Realizacja MINIMUM | B31: =B25/('Target 2021'!$D$40/12*B18) -> 0.83020216 | C31: =C25/('Target 2021'!$D$40/12*C18) -> 0.86921861 | D31: =D25/('Target 2021'!$D$40/12*D18) -> 0.93298285 | F31: =F25/('Target 2021'!$D$40/12*F18) -> 0.92498676 | G31: =G25/('Target 2021'!$D$40/12*G18) -> 0.9325854 | H31: =H25/('Target 2021'!$D$40/12*H18) -> 0.94422905 | J31: =J25/('Target 2021'!$D$40/12*J18) -> 0.94733569 | K31: =K25/('Target 2021'!$D$40/12*K18) -> 0.9540533 | L31: =L25/('Target 2021'!$D$40/12*L18) -> 0.94308193 | N31: =N25/('Target 2021'!$D$40/12*N18) -> 0.94391434 | O31: =O25/('Target 2021'!$D$40/12*O18) -> 0.94297375 | P31: =P25/('Target 2021'!$D$40/12*P18) -> 0.96267402
A32: Realizacja PLAN (CEL STRATEGICZNY) | B32: =B25/('Target 2021'!$F$40/12*REALIZACJE!B18) -> 0.78869205 | C32: =C25/('Target 2021'!$F$40/12*REALIZACJE!C18) -> 0.82575768 | D32: =D25/('Target 2021'!$F$40/12*REALIZACJE!D18) -> 0.88633371 | F32: =F25/('Target 2021'!$F$40/12*REALIZACJE!F18) -> 0.87873742 | G32: =G25/('Target 2021'!$F$40/12*REALIZACJE!G18) -> 0.88595613 | H32: =H25/('Target 2021'!$F$40/12*REALIZACJE!H18) -> 0.8970176 | J32: =J25/('Target 2021'!$F$40/12*REALIZACJE!J18) -> 0.89996891 | K32: =K25/('Target 2021'!$F$40/12*REALIZACJE!K18) -> 0.90635063 | L32: =L25/('Target 2021'!$F$40/12*REALIZACJE!L18) -> 0.89592783 | N32: =N25/('Target 2021'!$F$40/12*REALIZACJE!N18) -> 0.89671862 | O32: =O25/('Target 2021'!$F$40/12*REALIZACJE!O18) -> 0.89582506 | P32: =P25/('Target 2021'!$F$40/12*REALIZACJE!P18) -> 0.91454032
A33: Realizacja CEL | B33: =B25/('Target 2021'!$H$40/12*B18) -> 0.75113529 | C33: =C25/('Target 2021'!$H$40/12*C18) -> 0.78643589 | D33: =D25/('Target 2021'!$H$40/12*D18) -> 0.84412734 | F33: =F25/('Target 2021'!$H$40/12*F18) -> 0.83689278 | G33: =G25/('Target 2021'!$H$40/12*G18) -> 0.84376774 | H33: =H25/('Target 2021'!$H$40/12*H18) -> 0.85430247 | J33: =J25/('Target 2021'!$H$40/12*J18) -> 0.85711325 | K33: =K25/('Target 2021'!$H$40/12*K18) -> 0.86319108 | L33: =L25/('Target 2021'!$H$40/12*L18) -> 0.8532646 | N33: =N25/('Target 2021'!$H$40/12*N18) -> 0.85401773 | O33: =O25/('Target 2021'!$H$40/12*O18) -> 0.85316673 | P33: =P25/('Target 2021'!$H$40/12*P18) -> 0.87099078
A35: Wysokość Marży miesięcznej | B35: =B8/B24 -> 0.33958453 | C35: =C8/C24 -> 0.30682349 | D35: =D8/D24 -> 0.34550481 | F35: =F8/F24 -> 0.35340397 | G35: =G8/G24 -> 0.31705277 | H35: =H8/H24 -> 0.32176148 | J35: =J8/J24 -> 0.33536038 | K35: =K8/K24 -> 0.29686312 | L35: =L8/L24 -> 0.34566727 | N35: =N8/N24 -> 0.32097629 | O35: =O8/O24 -> 0.36000221 | P35: =P8/P24 -> 0.34813399
A36: Wysokość Marży sumarycznej | B36: =B9/B25 -> 0.33958453 | C36: =C9/C25 -> 0.32246874 | D36: =D9/D25 -> 0.33119702 | F36: =F9/F25 -> 0.33660479 | G36: =G9/G25 -> 0.33256694 | H36: =H9/H25 -> 0.33065499 | J36: =J9/J25 -> 0.33134041 | K36: =K9/K25 -> 0.32681834 | L36: =L9/L25 -> 0.32871775 | N36: =N9/N25 -> 0.32793746 | O36: =O9/O25 -> 0.33082336 | P36: =P9/P25 -> 0.33259064

Sheet WYPŁATY
A2: PREMIA MIESIĘCZNA
B3: STYCZEŃ | C3: LUTY | D3: MARZEC | F3: KWIECIEŃ | G3: MAJ | H3: CZERWIEC | J3: LIPIEC | K3: SIERPIEŃ | L3: WRZESIEŃ | N3: PAŹDZIERNIK | O3: LISTOPAD | P3: GRUDZIEŃ
A4: Tomasz Sypień | B4: =TOMEK!N28 -> 1640 | C4: =TOMEK!O28 -> 1800 | D4: =TOMEK!P28 -> 1800 | F4: =TOMEK!J28 -> 1800 | G4: =TOMEK!K28 -> 1800 | H4: =TOMEK!L28 -> 1800 | J4: =TOMEK!F28 -> 1800 | K4: =TOMEK!G28 -> 1800 | L4: =TOMEK!H28 -> 1800 | N4: =TOMEK!B28 -> 1800 | O4: =TOMEK!C28 -> 1800 | P4: =TOMEK!D28 -> 1800 | Q4: =SUM(B4:D4,F4:H4,J4:K4) -> 14240
A5: Mirosław Zagaja | B5: =DH!B38 -> 2400 | C5: =DH!C38 -> 1890 | D5: =DH!D38 -> 1890 | F5: =DH!F38 -> 1890 | G5: =DH!G38 -> 1890 | H5: =DH!H38 -> 1890 | J5: =DH!J38 -> 1890 | K5: =DH!K38 -> 1890 | L5: =DH!L38 -> 1890 | N5: =DH!N38 -> 1890 | O5: =DH!O38 -> 1890 | P5: =DH!P38 -> 1890
A6: Bartłomiej Biskupski | B6: =BARTEK!N28 -> 1437.5 | C6: =BARTEK!O28 -> 1125 | D6: =BARTEK!P28 -> 1000 | F6: =BARTEK!J28 -> 1875 | G6: =BARTEK!K28 -> 2000 | H6: =BARTEK!L28 -> 1562.5 | J6: =BARTEK!F28 -> 2000 | K6: =BARTEK!G28 -> 2000 | L6: =BARTEK!H28 -> 2000 | N6: =BARTEK!B28 -> 2000 | O6: =BARTEK!C28 -> 2000 | P6: =BARTEK!D28 -> 2000 | Q6: =SUM(B6:D6,F6:H6,J6:K6) -> 13000
A7: Piotr Choma | B7: =PIOTR!N28 -> 2120 | C7: =PIOTR!O28 -> 2280 | D7: =PIOTR!P28 -> 2208.75 | F7: =PIOTR!J28 -> 2137.5 | G7: =PIOTR!K28 -> 2280 | H7: =PIOTR!L28 -> 1781.25 | J7: =PIOTR!F28 -> 2280 | K7: =PIOTR!G28 -> 1781.25 | L7: =PIOTR!H28 -> 1282.5 | N7: =PIOTR!B28 -> 1781.25 | O7: =PIOTR!C28 -> 2280 | P7: =PIOTR!D28 -> 2280 | Q7: =SUM(B7:D7,F7:H7,J7:K7) -> 16868.75
A8: Krzysztof Szwajdych | B8: =KRZYSZTOF!N28 -> 967.5 | C8: =KRZYSZTOF!O28 -> 1880 | D8: =KRZYSZTOF!P28 -> 1880 | F8: =KRZYSZTOF!J28 -> 1880 | G8: =KRZYSZTOF!K28 -> 1880 | H8: =KRZYSZTOF!L28 -> 1880 | J8: =KRZYSZTOF!F28 -> 1880 | K8: =KRZYSZTOF!G28 -> 1880 | L8: =KRZYSZTOF!H28 -> 1880 | N8: =KRZYSZTOF!B28 -> 1880 | O8: =KRZYSZTOF!C28 -> 1880 | P8: =KRZYSZTOF!D28 -> 1880 | Q8: =SUM(B8:D8,F8:H8,J8:K8) -> 14127.5
A9: Piotr Lasia | B9: ='1'!N39 -> #DIV/0! | C9: ='1'!O39 -> #DIV/0! | D9: ='1'!P39 -> #DIV/0! | F9: ='1'!J39 -> #DIV/0! | G9: ='1'!K39 -> #DIV/0! | H9: ='1'!L39 -> #DIV/0! | J9: ='1'!F39 -> #DIV/0! | K9: ='1'!G39 -> #DIV/0! | L9: ='1'!H39 -> #DIV/0! | N9: ='1'!B39 -> #DIV/0! | O9: ='1'!C39 -> #DIV/0! | P9: ='1'!D39 -> #DIV/0!
A10: Artur Surówka | J10: ='0'!F39-520 -> #DIV/0! | K10: ='0'!G39+520 -> #DIV/0! | L10: ='0'!H39 -> #DIV/0! | N10: ='0'!B39 -> #DIV/0! | O10: ='0'!C39 -> #DIV/0! | P10: ='0'!D39 -> #DIV/0!
A12: PREMIA KWARTALNA
B13: I KWARTAŁ | F13: II KWARTAŁ | J13: III KWARTAŁ | N13: IV KWARTAŁ
A14: Tomasz Sypień | B14: =TOMEK!N34 -> 0 | F14: =TOMEK!J34 -> 3150 | J14: =TOMEK!F34 -> 0 | N14: =TOMEK!B34 -> 4500 | Q14: =SUM(N14,J14,F14,B14) -> 7650
A15: Bartłomiej Biskupski | B15: =BARTEK!N34 -> 0 | F15: =BARTEK!J34 -> 0 | J15: =BARTEK!F34 -> 0 | N15: =BARTEK!B34 -> 2500 | Q15: =SUM(N15,J15,F15,B15) -> 2500
A16: Piotr Choma | B16: =PIOTR!N34 -> 0 | F16: =PIOTR!J34 -> 0 | J16: =PIOTR!F34 -> 0 | N16: =PIOTR!B34 -> 0 | Q16: =SUM(N16,J16,F16,B16) -> 0
A17: Krzysztof Szwajdych | B17: =KRZYSZTOF!N34 -> 2350 | F17: =KRZYSZTOF!J34 -> 3290 | J17: =KRZYSZTOF!F34 -> 2350 | N17: =KRZYSZTOF!B34 -> 3290 | Q17: =SUM(N17,J17,F17,B17) -> 11280
A18: Piotr Lasia | B18: ='1'!N45 -> #DIV/0! | F18: ='1'!J45 -> #DIV/0! | J18: ='1'!F45 -> #DIV/0! | N18: ='1'!B45 -> #DIV/0!
A19: Artur Surówka | B19: ='0'!N45 -> #DIV/0! | F19: ='0'!J45 -> #DIV/0! | J19: ='0'!F45 -> #DIV/0! | N19: ='0'!B45 -> #DIV/0!
A22: PREMIA UZNANIOWA
B23: STYCZEŃ | C23: LUTY | D23: MARZEC | F23: KWIECIEŃ | G23: MAJ | H23: CZERWIEC | J23: LIPIEC | K23: SIERPIEŃ | L23: WRZESIEŃ | N23: PAŹDZIERNIK | O23: LISTOPAD | P23: GRUDZIEŃ
A24: Tomasz Sypień
A25: Mirosław Zagaja
A26: Bartłomiej Biskupski | J26: 800
A27: Piotr Choma
A28: Krzysztof Szwajdych
A29: Piotr Lasia
A30: Artur Surówka

Sheet Target 2021
A1: `
C2: I | D2: II | E2: III | F2: IV | G2: V | H2: VI | I2: VII | J2: VIII | K2: IX | L2: X | M2: XI | N2: XII | O2: Rok | P2: Realizacja
A3: Tomasz Sypień | B3: 22 | C3: =C25 -> 43500 | D3: =E25 -> 48333.333 | E3: =G25 -> 53166.667 | F3: =I25 -> 41100 | G3: =K25 -> 45666.667 | H3: =M25 -> 50233.333 | I3: =O25 -> 43500 | J3: =Q25 -> 48333.333 | K3: =S25 -> 53166.667 | L3: =C78 -> 42433.333 | M3: =E78 -> 46900 | N3: =G78 -> 44666.667 | O3: =SUM(C3:N3) -> 561000 | P3: =TOMEK!R6 -> 579813.8 | Q3: Tomasz Sypień | R3: =P3/O3 -> 1.0335362
A4: Mirosław Zagaja | B4: 23 | C4: =C26 -> 36000 | D4: =E26 -> 40000 | E4: =G26 -> 44000 | F4: =I26 -> 32100 | G4: =K26 -> 35666.667 | H4: =M26 -> 39233.333 | I4: =O26 -> 31950 | J4: =Q26 -> 35500 | K4: =S26 -> 39050 | L4: =C79 -> 34833.333 | M4: =E79 -> 38500 | N4: =G79 -> 36666.667 | O4: =SUM(C4:N4) -> 443500 | P4: =MIRU!R6 -> 344938.56 | Q4: Mirosław Zagaja | R4: =P4/O4 -> 0.77776451
A5: Lasia Piotr | B5: 27 | C5: =C27 -> 0 | D5: =E27 -> 0 | E5: =G27 -> 0 | F5: =I27 -> 0 | G5: =K27 -> 0 | H5: =M27 -> 0 | I5: =O27 -> 0 | J5: =Q27 -> 0 | K5: =S27 -> 0 | L5: =C80 -> 0 | M5: =E80 -> 0 | N5: =G80 -> 0 | O5: =SUM(C5:N5) -> 0 | P5: ='1'!R6 -> 0 | Q5: Łukasz Łuszczek | R5: =P5/O5 -> #DIV/0!
A6: aga | B6: 27 | C6: =C28 -> 0 | D6: =E28 -> 0 | E6: =G28 -> 0 | F6: =I28 -> 0 | G6: =K28 -> 0 | H6: =M28 -> 0 | L6: =C81 -> 0 | M6: =E81 -> 0 | N6: =G81 -> 0 | O6: =SUM(C6:N6) -> 0 | P6: ='0'!R6 -> 0 | Q6: Artur Surówka | R6: =P6/O6 -> #DIV/0!
A7: Bartłomiej | B7: 29 | C7: =C29 -> 61200 | D7: =E29 -> 68000 | E7: =G29 -> 74800 | F7: =I29 -> 61500 | G7: =K29 -> 68333.333 | H7: =M29 -> 75166.667 | I7: =O29 -> 63000 | J7: =Q29 -> 70000 | K7: =S29 -> 77000 | L7: =C82 -> 60166.667 | M7: =E82 -> 66500 | N7: =G82 -> 63333.333 | O7: =SUM(C7:N7) -> 809000 | P7: =BARTEK!R6 -> 744731.61 | Q7: Bartłomiej | R7: =P7/O7 -> 0.92055823
A8: Piotr Choma | B8: 31 | C8: =C30 -> 71400 | D8: =E30 -> 79333.333 | E8: =G30 -> 87266.667 | F8: =I30 -> 73500 | G8: =K30 -> 81666.667 | H8: =M30 -> 89833.333 | I8: =O30 -> 70500 | J8: =Q30 -> 78333.333 | K8: =S30 -> 86166.667 | L8: =C83 -> 80750 | M8: =E83 -> 89250 | N8: =G83 -> 85000 | O8: =SUM(C8:N8) -> 973000 | P8: =PIOTR!R6 -> 890503.95 | Q8: Piotr Choma | R8: =P8/O8 -> 0.91521475
A9: Krzysztof Szwajdych | B9: 32 | C9: =C31 -> 47100 | D9: =E31 -> 52333.333 | E9: =G31 -> 57566.667 | F9: =I31 -> 51000 | G9: =K31 -> 56666.667 | H9: =M31 -> 62333.333 | I9: =O31 -> 50100 | J9: =Q31 -> 55666.667 | K9: =S31 -> 61233.333 | L9: =C84 -> 55416.667 | M9: =E84 -> 61250 | N9: =G84 -> 58333.333 | O9: =SUM(C9:N9) -> 669000 | P9: =KRZYSZTOF!R6 -> 694604.86 | Q9: Krzysztof Szwajdych | R9: =P9/O9 -> 1.0382733
A10: DZIAŁ: | C10: =SUM(C3:C9) -> 259200 | D10: =SUM(D3:D9) -> 288000 | E10: =SUM(E3:E9) -> 316800 | F10: =SUM(F3:F9) -> 259200 | G10: =SUM(G3:G9) -> 288000 | H10: =SUM(H3:H9) -> 316800 | I10: =SUM(I3:I9) -> 259050 | J10: =SUM(J3:J9) -> 287833.33 | ... N10: =SUM(N3:N9) -> 288000 | O10: =SUM(C10:N10) -> 3455500
A11: PLAN SPRZEDAŻY ORAZ INDYWIDUALNE PLANY SPRZEDAŻY WSKAŹNIKA OBRÓT
C12: I | D12: II | E12: III | F12: IV | G12: V | H12: VI | I12: VII | J12: VIII | K12: IX | L12: X | M12: XI | N12: XII
A13: Tomasz Sypień | B13: 22 | C13: =B25 -> 0 | D13: =D25 -> 0 | E13: =F25 -> 0 | F13: =H25 -> 0 | G13: =J25 -> 0 | H13: =L25 -> 0 | I13: =N25 -> 0 | J13: =P25 -> 0 | K13: =R25 -> 0 | L13: =B78 -> 0 | M13: =D78 -> 0 | N13: =F78 -> 0 | O13: =SUM(C13:N13) -> 0 | P13: =TOMEK!R11 -> 1521371.7 | Q13: Tomasz Sypień | R13: =P13/O13 -> #DIV/0!
A14: Mirosław Zagaja | B14: 23 | C14: =B26 -> 0 | D14: =D26 -> 0 | E14: =F26 -> 0 | F14: =H26 -> 0 | G14: =J26 -> 0 | H14: =L26 -> 0 | I14: =N26 -> 0 | J14: =P26 -> 0 | K14: =R26 -> 0 | L14: =B79 -> 0 | M14: =D79 -> 0 | N14: =F79 -> 0 | O14: =SUM(C14:N14) -> 0 | P14: =MIRU!R11 -> 594335.17 | Q14: Mirosław Zagaja | R14: =P14/O14 -> #DIV/0!
A15: Piotr Lasia | B15: 27 | C15: =B27 -> 0 | D15: =D27 -> 0 | E15: =F27 -> 0 | F15: =H27 -> 0 | G15: =J27 -> 0 | H15: =L27 -> 0 | I15: =N27 -> 0 | J15: =P27 -> 0 | K15: =R27 -> 0 | L15: =B80 -> 0 | M15: =D80 -> 0 | N15: =F80 -> 0 | O15: =SUM(C15:N15) -> 0 | P15: ='1'!R13 -> 0 | Q15: Łukasz Łuszczek | R15: =P15/O15 -> #DIV/0!
A16: aga | B16: 27 | C16: =B28 -> 0 | D16: =D28 -> 0 | E16: =F28 -> 0 | F16: =H28 -> 0 | G16: =J28 -> 0 | H16: =L28 -> 0 | O16: =SUM(C16:N16) -> 0 | P16: ='0'!R13 -> 0 | Q16: Artur Surówka | R16: =P16/O16 -> #DIV/0!
A17: Bartłomiej | B17: 29 | C17: =B29 -> 0 | D17: =D29 -> 0 | E17: =F29 -> 0 | F17: =H29 -> 0 | G17: =J29 -> 0 | H17: =L29 -> 0 | I17: =N29 -> 0 | J17: =P29 -> 0 | K17: =R29 -> 0 | L17: =B82 -> 0 | M17: =D82 -> 0 | N17: =F82 -> 0 | O17: =SUM(C17:N17) -> 0 | P17: =BARTEK!R11 -> 2287249.9 | Q17: Bartłomiej | R17: =P17/O17 -> #DIV/0!
A18: Piotr Choma | B18: 31 | C18: =B30 -> 0 | D18: =D30 -> 0 | E18: =F30 -> 0 | F18: =H30 -> 0 | G18: =J30 -> 0 | H18: =L30 -> 0 | I18: =N30 -> 0 | J18: =P30 -> 0 | K18: =R30 -> 0 | L18: =B83 -> 0 | M18: =D83 -> 0 | N18: =F83 -> 0 | O18: =SUM(C18:N18) -> 0 | P18: =PIOTR!R11 -> 2762753.8 | Q18: Piotr Choma | R18: =P18/O18 -> #DIV/0!
A19: Krzysztof Szwajdych | B19: 32 | C19: =B31 -> 0 | D19: =D31 -> 0 | E19: =F31 -> 0 | F19: =H31 -> 0 | G19: =J31 -> 0 | H19: =L31 -> 0 | I19: =N31 -> 0 | J19: =P31 -> 0 | K19: =R31 -> 0 | L19: =B84 -> 0 | M19: =D84 -> 0 | N19: =F84 -> 0 | O19: =SUM(C19:N19) -> 0 | P19: =KRZYSZTOF!R11 -> 2062815.7 | Q19: Krzysztof Szwajdych | R19: =P19/O19 -> #DIV/0!
A20: DZIAŁ: | C20: =SUM(C13:C19) -> 0 | D20: =SUM(D13:D19) -> 0 | E20: =SUM(E13:E19) -> 0 | F20: =SUM(F13:F19) -> 0 | G20: =SUM(G13:G19) -> 0 | H20: =SUM(H13:H19) -> 0 | I20: =SUM(I13:I19) -> 0 | J20: =SUM(J13:J19) -> 0 | ... N20: =SUM(N13:N19) -> 0 | O20: =SUM(C20:N20) -> 0
B23: Styczeń | D23: Luty | F23: Marzec | H23: KWIECIEŃ | J23: MAJ | L23: CZERWIEC | N23: LIPIEC | P23: SIERPIEŃ | R23: WRZESIEŃ
B24: Obrót | C24: Marża | D24: Obrót | E24: Marża | F24: Obrót | G24: Marża | H24: Obrót | I24: Marża | J24: Obrót | K24: Marża | L24: Obrót | M24: Marża | N24: Obrót | O24: Marża | P24: Obrót | Q24: Marża | R24: Obrót | S24: Marża
A25: TS | B25: =B44 -> 0 | C25: =C44 -> 43500 | D25: =D44 -> 0 | E25: =E44 -> 48333.333 | F25: =F44 -> 0 | G25: =G44 -> 53166.667 | H25: =B55 -> 0 | I25: =C55 -> 41100 | J25: =D55 -> 0 | K25: =E55 -> 45666.667 | L25: =F55 -> 0 | M25: =G55 -> 50233.333 | N25: =B67 -> 0 | O25: =C67 -> 43500 | P25: =D67 -> 0 | Q25: =E67 -> 48333.333 | R25: =F67 -> 0 | S25: =G67 -> 53166.667
A26: MZ | B26: =B45 -> 0 | C26: =C45 -> 36000 | D26: =D45 -> 0 | E26: =E45 -> 40000 | F26: =F45 -> 0 | G26: =G45 -> 44000 | H26: =B56 -> 0 | I26: =C56 -> 32100 | J26: =D56 -> 0 | K26: =E56 -> 35666.667 | L26: =F56 -> 0 | M26: =G56 -> 39233.333 | N26: =B68 -> 0 | O26: =C68 -> 31950 | P26: =D68 -> 0 | Q26: =E68 -> 35500 | R26: =F68 -> 0 | S26: =G68 -> 39050
A27: PL | B27: =B46 -> 0 | C27: =C46 -> 0 | D27: =D46 -> 0 | E27: =E46 -> 0 | F27: =F46 -> 0 | G27: =G46 -> 0 | H27: =B57 -> 0 | I27: =C57 -> 0 | J27: =D57 -> 0 | K27: =E57 -> 0 | L27: =F57 -> 0 | M27: =G57 -> 0 | N27: =B69 -> 0 | O27: =C69 -> 0 | P27: =D69 -> 0 | Q27: =E69 -> 0 | R27: =F69 -> 0 | S27: =G69 -> 0
A28: aga | B28: =B47 -> 0 | C28: =C47 -> 0 | D28: =D47 -> 0 | E28: =E47 -> 0 | F28: =F47 -> 0 | G28: =G47 -> 0 | N28: =B70 -> 0 | O28: =C70 -> 0 | P28: =D70 -> 0 | Q28: =E70 -> 0 | R28: =F70 -> 0 | S28: =G70 -> 0
A29: BB | B29: =B48 -> 0 | C29: =C48 -> 61200 | D29: =D48 -> 0 | E29: =E48 -> 68000 | F29: =F48 -> 0 | G29: =G48 -> 74800 | H29: =B59 -> 0 | I29: =C59 -> 61500 | J29: =D59 -> 0 | K29: =E59 -> 68333.333 | L29: =F59 -> 0 | M29: =G59 -> 75166.667 | N29: =B71 -> 0 | O29: =C71 -> 63000 | P29: =D71 -> 0 | Q29: =E71 -> 70000 | R29: =F71 -> 0 | S29: =G71 -> 77000
A30: PC | B30: =B49 -> 0 | C30: =C49 -> 71400 | D30: =D49 -> 0 | E30: =E49 -> 79333.333 | F30: =F49 -> 0 | G30: =G49 -> 87266.667 | H30: =B60 -> 0 | I30: =C60 -> 73500 | J30: =D60 -> 0 | K30: =E60 -> 81666.667 | L30: =F60 -> 0 | M30: =G60 -> 89833.333 | N30: =B72 -> 0 | O30: =C72 -> 70500 | P30: =D72 -> 0 | Q30: =E72 -> 78333.333 | R30: =F72 -> 0 | S30: =G72 -> 86166.667
A31: KS | B31: =B50 -> 0 | C31: =C50 -> 47100 | D31: =D50 -> 0 | E31: =E50 -> 52333.333 | F31: =F50 -> 0 | G31: =G50 -> 57566.667 | H31: =B61 -> 0 | I31: =C61 -> 51000 | J31: =D61 -> 0 | K31: =E61 -> 56666.667 | L31: =F61 -> 0 | M31: =G61 -> 62333.333 | N31: =B73 -> 0 | O31: =C73 -> 50100 | P31: =D73 -> 0 | Q31: =E73 -> 55666.667 | R31: =F73 -> 0 | S31: =G73 -> 61233.333
A35: Marża | B35: 259050 | C35: 287833.33 | D35: 302225 | E35: 287833.33 | F35: 302225 | G35: 316616.67 | H35: 259050 | I35: 259050 | J35: 287833.33 | K35: 302225 | L35: 302225 | M35: 287833.33 | N35: =SUM(B35:M35) -> 3454000 | O35: =N35/12 -> 287833.33
A36: Obrót | B36: 802500 | C36: 891666.67 | D36: 936250 | E36: 891666.67 | F36: 936250 | G36: 980833.33 | H36: 802500 | I36: 802500 | J36: 891666.67 | K36: 936250 | L36: 936250 | M36: 891666.67 | N36: =SUM(B36:M36) -> 10700000 | O36: =N36/12 -> 891666.67
B38: 2019 | D38: 2020 MINIMUM | F38: 2021 PLAN | H38: 2021 CEL
A39: Marża | B39: =DH!R3 -> 3113088.2 | D39: =F39*0.95 -> 3281300 | E39: =D39/B39-1 -> 0.054033749 | F39: =DH!R6 -> 3454000 | G39: =F39/B39-1 -> 0.10950921 | H39: =F39*1.05 -> 3626700 | I39: =H39/B39-1 -> 0.16498467 | J39: =H39/4 -> 906675
A40: Obrót | B40: =DH!R16 -> 9648239.7 | D40: =F40*0.95 -> 10165000 | E40: =D40/B40-1 -> 0.05356006 | F40: =DH!R19 -> 10700000 | G40: =F40/B40-1 -> 0.10901059 | H40: =F40*1.05 -> 11235000 | I40: =H40/B40-1 -> 0.16446112 | J40: =H40/4 -> 2808750
J41: =F39/12 -> 287833.33
B42: Styczeń | D42: Luty | F42: Marzec | H42: Q1 | J42: =B39/12*0.9 -> 233481.61
B43: Obrót | C43: Marża | D43: Obrót | E43: Marża | F43: Obrót | G43: Marża | H43: Obrót | I43: Marża
A44: TS | C44: 43500 | E44: 48333.333 | G44: 53166.667 | I44: =SUM(C44:G44) -> 145000
A45: MZ | C45: 36000 | E45: 40000 | G45: 44000 | I45: =SUM(C45:G45) -> 120000
A46: 0
A47: 1
A48: BB | C48: 61200 | E48: 68000 | G48: 74800 | I48: =SUM(C48:G48) -> 204000
A49: PC | C49: 71400 | E49: 79333.333 | G49: 87266.667 | I49: =SUM(C49:G49) -> 238000
A50: KS | C50: 47100 | E50: 52333.333 | G50: 57566.667 | I50: =SUM(C50:G50) -> 157000
A51: Suma: | B51: =SUM(B44:B50) -> 0 | C51: =SUM(C44:C50) -> 259200 | E51: =SUM(E44:E50) -> 288000 | G51: =SUM(G44:G50) -> 316800 | I51: =SUM(I44:I50) -> 864000
B53: Kwiecień | D53: Maj | F53: Czerwiec | H53: Q2
B54: Obrót | C54: Marża | D54: Obrót | E54: Marża | F54: Obrót | G54: Marża | H54: Obrót | I54: Marża
A55: Tomasz Sypień; | C55: 41100 | E55: 45666.667 | G55: 50233.333 | I55: =SUM(C55:G55) -> 137000
A56: Mirosław Zagaja; | C56: 32100 | E56: 35666.667 | G56: 39233.333 | I56: =SUM(C56:G56) -> 107000
A57: Piotr Lasia; | C57: 0 | E57: 0 | G57: 0
A58: Agnieszka Zagaja; | C58: 0 | E58: 0 | G58: 0
A59: Bartłomiej Biskupski; | C59: 61500 | E59: 68333.333 | G59: 75166.667 | I59: =SUM(C59:G59) -> 205000
A60: Piotr Choma; | C60: 73500 | E60: 81666.667 | G60: 89833.333 | I60: =SUM(C60:G60) -> 245000
A61: Krzysztof Szwajdych; | C61: 51000 | E61: 56666.667 | G61: 62333.333 | I61: =SUM(C61:G61) -> 170000
A62: Suma: | B62: =SUM(B55:B61) -> 0 | C62: =SUM(C55:C61) -> 259200 | D62: =SUM(D55:D61) -> 0 | E62: =SUM(E55:E61) -> 288000 | F62: =SUM(F55:F61) -> 0 | G62: =SUM(G55:G61) -> 316800 | H62: =SUM(H55:H61) -> 0 | I62: =SUM(I55:I61) -> 864000
B65: LIPIEC | D65: SIERPIEŃ | F65: WRZESIEŃ | H65: Q3
B66: Obrót | C66: Marża | D66: Obrót | E66: Marża | F66: Obrót | G66: Marża | H66: Obrót | I66: Marża
A67: Tomasz Sypień; | C67: 43500 | E67: 48333.333 | G67: 53166.667 | I67: =SUM(C67:G67) -> 145000
A68: Mirosław Zagaja; | C68: 31950 | E68: 35500 | G68: 39050 | I68: =SUM(C68:G68) -> 106500
A70: Agnieszka Zagaja;
A71: Bartłomiej Biskupski; | C71: 63000 | E71: 70000 | G71: 77000 | I71: =SUM(C71:G71) -> 210000
A72: Piotr Choma; | C72: 70500 | E72: 78333.333 | G72: 86166.667 | I72: =SUM(C72:G72) -> 235000
A73: Krzysztof Szwajdych; | C73: 50100 | E73: 55666.667 | G73: 61233.333 | I73: =SUM(C73:G73) -> 167000
A74: Suma: | B74: =SUM(B67:B73) -> 0 | C74: =SUM(C67:C73) -> 259050 | D74: =SUM(D67:D73) -> 0 | E74: =SUM(E67:E73) -> 287833.33 | F74: =SUM(F67:F73) -> 0 | G74: =SUM(G67:G73) -> 316616.67 | H74: =SUM(H67:H73) -> 0 | I74: =SUM(I67:I73) -> 863500
B76: październik | D76: listopad | F76: grudzień | H76: Q4
B77: Obrót | C77: Marża | D77: Obrót | E77: Marża | F77: Obrót | G77: Marża | H77: Obrót | I77: Marża
A78: Tomasz Sypień; | C78: 42433.333 | E78: 46900 | G78: 44666.667 | I78: =SUM(C78:G78) -> 134000
A79: Mirosław Zagaja; | C79: 34833.333 | E79: 38500 | G79: 36666.667 | I79: =SUM(C79:G79) -> 110000
A80: Piotr Lasia;
A81: Agnieszka Zagaja;
A82: Bartłomiej Biskupski; | C82: 60166.667 | E82: 66500 | G82: 63333.333 | I82: =SUM(C82:G82) -> 190000
A83: Piotr Choma; | C83: 80750 | E83: 89250 | G83: 85000 | I83: =SUM(C83:G83) -> 255000
A84: Krzysztof Szwajdych; | C84: 55416.667 | E84: 61250 | G84: 58333.333 | I84: =SUM(C84:G84) -> 175000
A85: Suma: | B85: =SUM(B78:B84) -> 0 | C85: =SUM(C78:C84) -> 273600 | D85: =SUM(D78:D84) -> 0 | E85: =SUM(E78:E84) -> 302400 | F85: =SUM(F78:F84) -> 0 | G85: =SUM(G78:G84) -> 288000 | H85: =SUM(H78:H84) -> 0 | I85: =SUM(I78:I84) -> 864000

Sheet XII
A1: Pracownik | B1: Grupa | C1: Towar | D1: Ilość | E1: Jm | F1: Brutto | G1: Netto | H1: Koszt | I1: Zysk | J1: Marża
A2: Krzysztof Szwajdych | D2: 4679.84 | F2: 189693.19 | G2: 154222.08 | H2: 101811.64 | I2: =52410.4375+B18 -> 53325.698 | J2: 33.9837
A3: Tomasz Sypień | D3: 3077.169 | F3: 153400.81 | G3: 124716.12 | H3: 71464.5 | I3: =53251.6211+B15 -> 53549.701 | J3: 42.6982
A4: Mirosław Zagaja | D4: 2103.39 | F4: 213342.98 | G4: 173449.56 | H4: 117509.34 | I4: 55940.227 | J4: 32.2515
A5: Bartłomiej Biskupski | D5: 3477.919 | F5: 265447.72 | G5: 215811.16 | H5: 147519.44 | I5: =68291.7031+B14 -> 68388.283 | J5: 31.6441
A6: Piotr Choma | D6: 4905.316 | F6: 406923.09 | G6: 330831.72 | H6: 214609.03 | I6: =116222.6875+B16 -> 116592.61 | J6: 35.1304
A7: (Razem sprzedaż) | D7: 18243.634 | F7: 1228807.8 | G7: 999030.62 | H7: 652913.96 | I7: =SUM(I2:I6) -> 347796.52 | J7: 34.6452
A14: BPSKONCEPT | B14: 96.58 | C14: BB
A15: CAFFARO | B15: 298.08 | C15: TS
A16: YKPOLAND | B16: 369.92 | C16: PC
A18: SAMBUD | B18: 915.26 | C18: KS

Sheet I
A1: Pracownik | B1: Grupa | C1: Towar | D1: Ilość | E1: Jm | F1: Brutto | G1: Netto | H1: Koszt | I1: Zysk | J1: Marża
A2: Mirosław Zagaja | D2: 2381.46 | F2: 103169.19 | G2: 83877.383 | H2: 57369.756 | I2: 26507.623 | J2: 31.6028
A3: Krzysztof Szwajdych | D3: 4063.681 | F3: 126643.38 | G3: 102962.12 | H3: 70169.805 | I3: 32792.316 | J3: 31.8489
A4: Tomasz Sypień | D4: 3909.686 | F4: 139253.23 | G4: 113213.96 | H4: 66761.683 | I4: 46452.277 | J4: 41.0305
A5: Bartłomiej Biskupski | D5: 4588.879 | F5: 188934.38 | G5: 153605.17 | H5: 104391.12 | I5: 49214.051 | J5: 32.0393
A6: Piotr Choma | D6: 5783.212 | F6: 306919.62 | G6: 249591.78 | H6: 165745.09 | I6: 83846.695 | J6: 33.5935
A7: (Razem sprzedaż) | D7: 20726.918 | F7: 864919.81 | G7: 703250.44 | H7: 464437.45 | I7: 238812.97 | J7: 33.9584

Sheet II
A1: Pracownik | B1: Grupa | C1: Towar | D1: Ilość | E1: Jm | F1: Brutto | G1: Netto | H1: Koszt | I1: Zysk | J1: Marża
A2: Mirosław Zagaja | D2: 1829.28 | F2: 121275.18 | G2: 98597.656 | H2: 68852.073 | I2: 29745.588 | J2: 30.1686
A3: Bartłomiej Biskupski | D3: 5359.037 | F3: 174485.73 | G3: 141858.27 | H3: 96955.718 | I3: =44902.5508+B18+B20 -> 46091.911 | J3: 31.6531
A4: Tomasz Sypień | D4: 4945.7 | F4: 159097.23 | G4: 129347.31 | H4: 83657.783 | I4: =45689.5273+B21 -> 45967.407 | J4: 35.3231
A5: Krzysztof Szwajdych | D5: 4813.879 | F5: 196044.5 | G5: 159385.72 | H5: 110215.54 | I5: 49170.18 | J5: 30.8498
A6: Piotr Choma | D6: 4944.425 | F6: 295399.16 | G6: 240161.83 | H6: 175850.21 | I6: =64311.6172+B19+B22 -> 65079.807 | J6: 26.7784
A7: (Razem sprzedaż) | D7: 21892.321 | F7: 946301.81 | G7: 769350.81 | H7: 535531.33 | I7: 233819.47 | J7: 30.3917
A18: WAY2WEB | B18: 577.14
A19: YKPOLAND | B19: 364.76
A20: WAY2WEB | B20: 612.22
A21: CAFFARO | B21: 277.88
A22: YKPOLAND | B22: 403.43

Sheet III
A1: Pracownik | B1: Grupa | C1: Towar | D1: Ilość | E1: Jm | F1: Brutto | G1: Netto | H1: Koszt | I1: Zysk | J1: Marża
A2: Mirosław Zagaja | D2: 2668.831 | F2: 141071.88 | G2: 114692.55 | H2: 80953.004 | I2: 33739.547 | J2: 29.4173
A3: Tomasz Sypień | D3: 4598.111 | F3: 160393.91 | G3: 130401.56 | H3: 82714.985 | I3: 47686.574 | J3: 36.569
A4: Bartłomiej Biskupski | D4: 4143.46 | F4: 246246.05 | G4: 200199.95 | H4: 131102.92 | I4: =69097.0469+B18 -> 68503.047 | J4: 34.514
A5: Krzysztof Szwajdych | D5: 7848.212 | F5: 254443.62 | G5: 207223.06 | H5: 131376.05 | I5: 75847.023 | J5: 36.6016
A6: Piotr Choma | D6: 7758.499 | F6: 302364.03 | G6: 245824.34 | H6: 161219.23 | I6: 84605.109 | J6: 34.4168
A7: (Razem sprzedaż) | D7: 27017.113 | F7: 1104519.5 | G7: 898341.5 | H7: 587366.19 | I7: 310975.28 | J7: 34.6166
A18: W2W | B18: -594

Sheet IV
A1: Pracownik | B1: Grupa | C1: Towar | D1: Ilość | E1: Jm | F1: Brutto | G1: Netto | H1: Koszt | I1: Zysk | J1: Marża
A2: Mirosław Zagaja | D2: 1685.4 | F2: 84511.852 | G2: 68708.82 | H2: 48081.096 | I2: 20627.725 | J2: 30.0219
A3: Tomasz Sypień | D3: 3654.59 | F3: 138898.7 | G3: 112925.76 | H3: 71443.527 | I3: =41482.2344+B20 -> 41620.274 | J3: 36.734
A4: Bartłomiej Biskupski | D4: 4955.704 | F4: 217723.28 | G4: 177010.75 | H4: 109715.66 | I4: =67295.0938+B19 -> 68381.764 | J4: 38.0175
A5: Krzysztof Szwajdych | D5: 7269.044 | F5: 237911.69 | G5: 193424.17 | H5: 126098.3 | I5: 67325.867 | J5: 34.8073
A6: Piotr Choma | D6: 5868.816 | F6: 259716.12 | G6: 211151.3 | H6: 139946.13 | I6: =71205.1719+B21+B15 -> 71769.632 | J6: 33.7223
A7: (Razem sprzedaż) | D7: 23433.554 | F7: 938761.62 | G7: 763220.81 | H7: 495284.71 | I7: =SUM(I2:I6) -> 269725.26 | J7: 35.1059
A15: TRADEX – 381,90 – dodaj marżę | B15: 381.9
A17: Bonus z EPSONA za marzec dotarł dopiero w maju.
A19: WAY2WEB – 1 086,67 – dodaj marżę do kwietnia | B19: 1086.67
A20: CAFFARO – 138,04 – dodaj marżę do kwietnia | B20: 138.04
A21: YKPOLAND – 182,56 – dodaj marżę do kwietnia | B21: 182.56

Sheet V
A1: Pracownik | B1: Grupa | C1: Towar | D1: Ilość | E1: Jm | F1: Brutto | G1: Netto | H1: Koszt | I1: Zysk | J1: Marża
A2: Mirosław Zagaja | D2: 2120.34 | F2: 110109.96 | G2: 89520.273 | H2: 67366.559 | I2: 22153.711 | J2: 24.7471
A3: Tomasz Sypień | D3: 3778.564 | F3: 123430.94 | G3: 100350.34 | H3: 58491.959 | I3: 41858.379 | J3: 41.7122
A4: Krzysztof Szwajdych | D4: 5016.018 | F4: 192310.62 | G4: 156350.06 | H4: 102960.4 | I4: 53389.668 | J4: 34.1475
A5: Bartłomiej Biskupski | D5: 4417.292 | F5: 292912.44 | G5: 238140.2 | H5: 169663.81 | I5: =68476.3906+D15 -> 67462.391 | J5: 28.7546
A6: Piotr Choma | D6: 5521.782 | F6: 284577.06 | G6: 231363.41 | H6: 157599.9 | I6: 73763.5 | J6: 31.882
A7: (Razem sprzedaż) | D7: 20853.996 | F7: 1003341 | G7: 815724.25 | H7: 556082.63 | I7: 259641.66 | J7: 31.8295
A15: PHARMACOSM – 1 014,00 – obniż marżę | D15: -1014

Sheet VI
A1: Pracownik | B1: Grupa | C1: Towar | D1: Ilość | E1: Jm | F1: Brutto | G1: Netto | H1: Koszt | I1: Zysk | J1: Marża
A2: Mirosław Zagaja | D2: 1717.43 | F2: 117047.34 | G2: 95160.406 | H2: 61153.028 | I2: 34007.383 | J2: 35.7369
A3: Bartłomiej Biskupski | D3: 3470.025 | F3: 172492.88 | G3: 140238.08 | H3: 96227.558 | I3: =44010.5234+E19+E15 -> 45131.943 | J3: 31.3827
A4: Krzysztof Szwajdych | D4: 12872.846 | F4: 233193.23 | G4: 189587.98 | H4: 128986.05 | I4: 60601.934 | J4: 31.965
A5: Tomasz Sypień | D5: 5105.564 | F5: 220608.22 | G5: 179356.23 | H5: 118077.12 | I5: =61279.1133+E20 -> 61416.543 | J5: 34.1661
A6: Piotr Choma | D6: 6528.433 | F6: 301042.62 | G6: 244813.69 | H6: 173087.37 | I6: =71726.3125+E21 -> 72068.012 | J6: 29.2983
A7: (Razem sprzedaż) | D7: 29694.298 | F7: 1044384.3 | G7: 849156.38 | H7: 577531.13 | I7: 271625.28 | J7: 31.9876
A14: Za czerwiec
A15: W2W za IV-VI – 400,40 (obniż marżę) | E15: -400
A17: Bonus z EPSONA za maj dotarł dopiero w lipcu.
A19: WAY2WEB – 1 521,42 – dodaj marżę do czerwca | E19: 1521.42
A20: CAFFARO – 137,43 – dodaj marżę do czerwca | E20: 137.43
A21: YKPOLAND – 341,70 – dodaj marżę do czerwca | E21: 341.7

Sheet VII
A1: Pracownik | B1: Grupa | C1: Towar | D1: Ilość | E1: Jm | F1: Brutto | G1: Netto | H1: Koszt | I1: Zysk | J1: Marża
A2: Mirosław Zagaja | D2: 2044.098 | F2: 101420.42 | G2: 82455.609 | H2: 58866.832 | I2: 23588.777 | J2: 28.6078
A3: Krzysztof Szwajdych | D3: 5316.585 | F3: 202117.75 | G3: 164323.3 | H3: 110981.66 | I3: 53341.637 | J3: 32.4613
A4: Tomasz Sypień | D4: 3938.964 | F4: 176831.12 | G4: 143765.12 | H4: 86315.934 | I4: =57449.1953+B19 -> 58039.165 | J4: 39.9604
A5: Bartłomiej Biskupski | D5: 4192.343 | F5: 264425.12 | G5: 214979.72 | H5: 150378.04 | I5: =64601.6797+B18 -> 67795.89 | J5: 30.0501
A6: Piotr Choma | D6: 5993.792 | F6: 261667.84 | G6: 212738.05 | H6: 141810.18 | I6: =70927.8672+B17 -> 71647.117 | J6: 33.3404
A7: (Razem sprzedaż) | D7: 21485.782 | F7: 1006462.2 | G7: 818261.81 | H7: 548352.65 | I7: 269909.16 | J7: 32.9856
A16: Epson
A17: YKPOLAND | B17: 719.25 | C17: PC
A18: RESGRAPH | B18: 3194.21 | C18: BB
A19: CAFFARO | B19: 589.97 | C19: TS

Sheet VIII
A1: Pracownik | B1: Grupa | C1: Towar | D1: Ilość | E1: Jm | F1: Brutto | G1: Netto | H1: Koszt | I1: Zysk | J1: Marża
A2: Mirosław Zagaja | D2: 2073.11 | F2: 121974.89 | G2: 99166.57 | H2: 68149.848 | I2: 31016.723 | J2: 31.2773
A3: Tomasz Sypień | D3: 3447.771 | F3: 122758.8 | G3: 99803.906 | H3: 62307.239 | I3: 37496.672 | J3: 37.5703
A4: Bartłomiej Biskupski | D4: 6077.611 | F4: 303379.09 | G4: 246649.64 | H4: 202900.75 | I4: =43748.8867+B19 -> 55693.687 | J4: 17.7372
A5: Piotr Choma | D5: 5037.092 | F5: 242914.38 | G5: 197491.27 | H5: 135768.38 | I5: 61722.895 | J5: 31.2534
A6: Krzysztof Szwajdych | D6: 6314.936 | F6: 252007.17 | G6: 204883.86 | H6: 139075.32 | I6: 65808.539 | J6: 32.1199
A7: (Razem sprzedaż) | D7: 22950.52 | F7: 1043034.3 | G7: 847995.25 | H7: 608201.54 | I7: 239793.72 | J7: 28.2777
A17: Epson
A18: YKPOLAND | C18: PC
A19: RESGRAPH | B19: 11944.8 | C19: BB
A20: CAFFARO | C20: TS

Sheet IX
A1: Pracownik | B1: Grupa | C1: Towar | D1: Ilość | E1: Jm | F1: Brutto | G1: Netto | H1: Koszt | I1: Zysk | J1: Marża
A2: Mirosław Zagaja | D2: 2291.98 | F2: 76821.102 | G2: 62456.172 | H2: 45370.897 | I2: 17085.273 | J2: 27.3556
A3: Tomasz Sypień | D3: 3438.545 | F3: 130594.23 | G3: 106174.15 | H3: 62562.392 | I3: 43611.758 | J3: 41.0756
A4: Krzysztof Szwajdych | D4: 4410.23 | F4: 176956.08 | G4: 143866.69 | H4: 93651.894 | I4: 50214.785 | J4: 34.9036
A5: Piotr Choma | D5: 4447.109 | F5: 233417.34 | G5: 189834.75 | H5: 129331.93 | I5: 60502.816 | J5: 31.8713
A6: Bartłomiej Biskupski | D6: 5248.75 | F6: 273291.09 | G6: 222187.92 | H6: 150010.1 | I6: =72177.8203+B17+B19+B20+B21+B22 -> 79028.11 | J6: 32.485
A7: (Razem sprzedaż) | D7: 19836.614 | F7: 891079.81 | G7: 724519.69 | H7: 480927.22 | I7: 243592.45 | J7: 33.6212
A15: Epson
A16: YKPOLAND | C16: PC
A17: RESGRAPH | B17: 5267.93 | C17: BB
A18: CAFFARO | C18: TS
A19: BPSKONCEPT | B19: 2120.38 | C19: BB
A20: W2W | B20: 1749.98 | C20: BB
A21: W2W | B21: -288 | C21: BB
A22: CERSANIT | B22: -2000 | C22: BB

Sheet X
A1: Pracownik | B1: Grupa | C1: Towar | D1: Ilość | E1: Jm | F1: Brutto | G1: Netto | H1: Koszt | I1: Zysk | J1: Marża
A2: Mirosław Zagaja | D2: 2167.515 | F2: 135230.27 | G2: 109943.29 | H2: 81058.286 | I2: 28885.004 | J2: 26.2726
A3: Tomasz Sypień | D3: 4088.271 | F3: 180881.73 | G3: 147058.27 | H3: 98814.897 | I3: 48243.363 | J3: 32.8056
A4: Bartłomiej Biskupski | D4: 6352.6 | F4: 208064.02 | G4: 169157.69 | H4: 109917.55 | I4: =59240.1406+B15+B17 -> 58474.131 | J4: 35.0206
A5: Krzysztof Szwajdych | D5: 6520.211 | F5: 221003.78 | G5: 180654.52 | H5: 119998.35 | I5: 60656.168 | J5: 33.5757
A6: Piotr Choma | D6: 5292.527 | F6: 244900.91 | G6: 199106.41 | H6: 137167.76 | I6: =61938.6523+B16 -> 62422.597 | J6: 31.1083
A7: (Razem sprzedaż) | D7: 24421.124 | F7: 990080.69 | G7: 805920.19 | H7: 546956.84 | I7: 258963.33 | J7: 32.1326
A15: Cersanit | B15: -492.51 | C15: BB
A16: YKPOLAND | B16: 483.945 | C16: PC
A17: Cerkamed | B17: -273.5 | C17: BB
A22: Za październik
A23: 492,51 - utylizacja etykiet dla CERSANIT c.d. – obniż marżę
A24: 273,50 – utylizacja etykiet dla CERKAMED – obniż marżę
A26: Bonus z EPSONA
A27: YKPOLAND – 483,95 – dodaj marżę

Sheet XI
A1: Pracownik | B1: Grupa | C1: Towar | D1: Ilość | E1: Jm | F1: Brutto | G1: Netto | H1: Koszt | I1: Zysk | J1: Marża
A2: Mirosław Zagaja | D2: 1424.69 | F2: 90235.328 | G2: 73362.039 | H2: 51721.061 | I2: 21640.979 | J2: 29.4988
A3: Tomasz Sypień | D3: 4445.759 | F3: 165138.55 | G3: 134258.95 | H3: 80566.931 | I3: =53692.0195+C15 -> 53871.69 | J3: 39.9913
A4: Piotr Choma | D4: 6918.062 | F4: 258109.84 | G4: 209845.3 | H4: 143362.14 | I4: 66483.164 | J4: 31.6819
A5: Bartłomiej Biskupski | D5: 4232.075 | F5: 205915.98 | G5: 167411.38 | H5: 96844.973 | I5: 70566.398 | J5: 42.1514
A6: Krzysztof Szwajdych | D6: 12750.314 | F6: 253296.61 | G6: 205932.14 | H6: 133801.1 | I6: 72131.047 | J6: 35.0266
A7: (Razem sprzedaż) | D7: 29770.9 | F7: 972696.31 | G7: 790809.81 | H7: 506296.2 | I7: 284513.59 | J7: 35.9775
A14: Bonus z EPSONA
A15: CAFFARO – 179,67 – dodaj marżę | C15: 179.67 | D15: TS

Sheet 1
A1: Piotr Lasia | B1: PLAN IV KW Piotr Lasia | F1: PLAN III KW Piotr Lasia | J1: PLAN II KW Piotr Lasia | N1: PLAN I KW Piotr Lasia
A2: miesiąc | B2: październik | C2: listopad | D2: grudzień | E2: KW IV | F2: lipiec | G2: sierpień | H2: wrzesień | I2: KW III | J2: kwiecień | K2: maj | L2: czerwiec | M2: KW II | N2: styczeń | O2: luty | P2: marzec | Q2: KW I | R2: suma ROK
A4: Plan Sprzedaży Marża | B4: ='Target 2021'!L5 -> 0 | C4: ='Target 2021'!M5 -> 0 | D4: ='Target 2021'!N5 -> 0 | E4: =SUM(B4:D4) -> 0 | F4: ='Target 2021'!I5 -> 0 | G4: ='Target 2021'!J5 -> 0 | H4: ='Target 2021'!K5 -> 0 | I4: =SUM(F4:H4) -> 0 | J4: ='Target 2021'!F5 -> 0 | K4: ='Target 2021'!G5 -> 0 | L4: ='Target 2021'!H5 -> 0 | M4: =SUM(J4:L4) -> 0 | N4: ='Target 2021'!C5 -> 0 | O4: ='Target 2021'!D5 -> 0 | P4: ='Target 2021'!E5 -> 0 | Q4: =SUM(N4:P4) -> 0 | R4: =Q4+M4+I4+E4 -> 0
A5: Sumaryczny Plan Sprzedaży Marża | B5: =B4 -> 0 | C5: =C4+B5 -> 0 | D5: =D4+C5 -> 0 | F5: =F4 -> 0 | G5: =G4+F5 -> 0 | H5: =H4+G5 -> 0 | J5: =J4 -> 0 | K5: =K4+J5 -> 0 | L5: =L4+K5 -> 0 | N5: =N4 -> 0 | O5: =O4+N5 -> 0 | P5: =P4+O5 -> 0 | R5: =R6/R4 -> #DIV/0!
A6: Miesięczna realizacja Planu Sprzedaży Marża | B6: =SUMIF(X!A:A,$A$1,X!I:I) -> 0 | C6: =SUMIF(XI!A:A,$A$1,XI!I:I) -> 0 | D6: =SUMIF(XII!A:A,$A$1,XII!I:I) -> 0 | E6: =SUM(B6:D6) -> 0 | F6: =SUMIF(VII!A:A,$A$1,VII!I:I) -> 0 | G6: =SUMIF(VIII!A:A,$A$1,VIII!I:I) -> 0 | H6: =SUMIF(IX!A:A,$A$1,IX!I:I) -> 0 | I6: =SUM(F6:H6) -> 0 | J6: =SUMIF(IV!A:A,$A$1,IV!I:I) -> 0 | K6: =SUMIF(V!A:A,$A$1,V!I:I) -> 0 | L6: =SUMIF(VI!A:A,$A$1,VI!I:I) -> 0 | M6: =SUM(J6:L6) -> 0 | N6: =SUMIF(I!A:A,$A$1,I!I:I) -> 0 | O6: =SUMIF(II!A:A,$A$1,II!I:I) -> 0 | P6: =SUMIF(III!A:A,$A$1,III!I:I) -> 0 | Q6: =SUM(N6:P6) -> 0 | R6: =Q6+M6+I6+E6 -> 0
A7: Sumaryczna realizacja planu sprzedaży Marża | B7: =B6 -> 0 | C7: =C6+B7 -> 0 | D7: =D6+C7 -> 0 | F7: =F6 -> 0 | G7: =G6+F7 -> 0 | H7: =H6+G7 -> 0 | J7: =J6 -> 0 | K7: =K6+J7 -> 0 | L7: =L6+K7 -> 0 | N7: =N6 -> 0 | O7: =O6+N7 -> 0 | P7: =P6+O7 -> 0
A8: Wysokość zrealizowania Miesięcznego Planu Sprzedaży Marża | B8: =B6/B4 -> #DIV/0! | C8: =C6/C4 -> #DIV/0! | D8: =D6/D4 -> #DIV/0! | F8: =F6/F4 -> #DIV/0! | G8: =G6/G4 -> #DIV/0! | H8: =H6/H4 -> #DIV/0! | J8: =J6/J4 -> #DIV/0! | K8: =K6/K4 -> #DIV/0! | L8: =L6/L4 -> #DIV/0! | N8: =N6/N4 -> #DIV/0! | O8: =O6/O4 -> #DIV/0! | P8: =P6/P4 -> #DIV/0!
A9: Wysokość zrealizowania Planu Sprzedaży Marża | B9: =B7/B5 -> #DIV/0! | C9: =C7/C5 -> #DIV/0! | D9: =D7/D5 -> #DIV/0! | F9: =F7/F5 -> #DIV/0! | G9: =G7/G5 -> #DIV/0! | H9: =H7/H5 -> #DIV/0! | J9: =J7/J5 -> #DIV/0! | K9: =K7/K5 -> #DIV/0! | L9: =L7/L5 -> #DIV/0! | N9: =N7/N5 -> #DIV/0! | O9: =O7/O5 -> #DIV/0! | P9: =P7/P5 -> #DIV/0!
A10: Różnica wskaźnika Marża | B10: =B7-B5 -> 0 | C10: =C7-C5 -> 0 | D10: =D7-D5 -> 0 | F10: =F7-F5 -> 0 | G10: =G7-G5 -> 0 | H10: =H7-H5 -> 0 | J10: =J7-J5 -> 0 | K10: =K7-K5 -> 0 | L10: =L7-L5 -> 0 | N10: =N7-N5 -> 0 | O10: =O7-O5 -> 0 | P10: =P7-P5 -> 0
A11: Plan Sprzedaży Obrót | B11: ='Target 2021'!L15 -> 0 | C11: ='Target 2021'!M15 -> 0 | D11: ='Target 2021'!N15 -> 0 | E11: =SUM(B11:D11) -> 0 | F11: ='Target 2021'!I15 -> 0 | G11: ='Target 2021'!J15 -> 0 | H11: ='Target 2021'!K15 -> 0 | I11: =SUM(F11:H11) -> 0 | J11: ='Target 2021'!F15 -> 0 | K11: ='Target 2021'!G15 -> 0 | L11: ='Target 2021'!H15 -> 0 | M11: =SUM(J11:L11) -> 0 | N11: ='Target 2021'!C15 -> 0 | O11: ='Target 2021'!D15 -> 0 | P11: ='Target 2021'!E15 -> 0 | Q11: =SUM(N11:P11) -> 0 | R11: =Q11+M11+I11+E11 -> 0
A12: Sumaryczny Plan Sprzedaży Obrót | B12: =B11 -> 0 | C12: =C11+B12 -> 0 | D12: =D11+C12 -> 0 | F12: =F11 -> 0 | G12: =G11+F12 -> 0 | H12: =H11+G12 -> 0 | J12: =J11 -> 0 | K12: =K11+J12 -> 0 | L12: =L11+K12 -> 0 | N12: =N11 -> 0 | O12: =O11+N12 -> 0 | P12: =P11+O12 -> 0 | R12: =R13/R11 -> #DIV/0!
A13: Miesięczna realizacja Planu Sprzedaży Obrót | B13: =SUMIF(X!A:A,$A$1,X!G:G) -> 0 | C13: =SUMIF(XI!A:A,$A$1,XI!G:G) -> 0 | D13: =SUMIF(XII!A:A,$A$1,XII!G:G) -> 0 | E13: =SUM(B13:D13) -> 0 | F13: =SUMIF(VII!A:A,$A$1,VII!G:G) -> 0 | G13: =SUMIF(VIII!A:A,$A$1,VIII!G:G) -> 0 | H13: =SUMIF(IX!A:A,$A$1,IX!G:G) -> 0 | I13: =SUM(F13:H13) -> 0 | J13: =SUMIF(IV!A:A,$A$1,IV!G:G) -> 0 | K13: =SUMIF(V!A:A,$A$1,V!G:G) -> 0 | L13: =SUMIF(VI!A:A,$A$1,VI!G:G) -> 0 | M13: =SUM(J13:L13) -> 0 | N13: =SUMIF(I!A:A,$A$1,I!G:G) -> 0 | O13: =SUMIF(II!A:A,$A$1,II!G:G) -> 0 | P13: =SUMIF(III!A:A,$A$1,III!G:G) -> 0 | Q13: =SUM(N13:P13) -> 0 | R13: =Q13+M13+I13+E13 -> 0
A14: Sumaryczna realizacja planu sprzedaży Obrót | B14: =B13 -> 0 | C14: =C13+B14 -> 0 | D14: =D13+C14 -> 0 | F14: =F13 -> 0 | G14: =G13+F14 -> 0 | H14: =H13+G14 -> 0 | J14: =J13 -> 0 | K14: =K13+J14 -> 0 | L14: =L13+K14 -> 0 | N14: =N13 -> 0 | O14: =O13+N14 -> 0 | P14: =P13+O14 -> 0
A15: Wysokość zrealizowania Miesięcznego Planu Sprzedaży Obrót | B15: =B13/B11 -> #DIV/0! | C15: =C13/C11 -> #DIV/0! | D15: =D13/D11 -> #DIV/0! | F15: =F13/F11 -> #DIV/0! | G15: =G13/G11 -> #DIV/0! | H15: =H13/H11 -> #DIV/0! | J15: =J13/J11 -> #DIV/0! | K15: =K13/K11 -> #DIV/0! | L15: =L13/L11 -> #DIV/0! | N15: =N13/N11 -> #DIV/0! | O15: =O13/O11 -> #DIV/0! | P15: =P13/P11 -> #DIV/0!
A16: Wysokość zrealizowania Planu Sprzedaży Obrót | B16: =B14/B12 -> #DIV/0! | C16: =C14/C12 -> #DIV/0! | D16: =D14/D12 -> #DIV/0! | F16: =F14/F12 -> #DIV/0! | G16: =G14/G12 -> #DIV/0! | H16: =H14/H12 -> #DIV/0! | J16: =J14/J12 -> #DIV/0! | K16: =K14/K12 -> #DIV/0! | L16: =L14/L12 -> #DIV/0! | N16: =N14/N12 -> #DIV/0! | O16: =O14/O12 -> #DIV/0! | P16: =P14/P12 -> #DIV/0!
A17: Różnica wskaźnika Obrót | B17: =B14-B12 -> 0 | C17: =C14-C12 -> 0 | D17: =D14-D12 -> 0 | F17: =F14-F12 -> 0 | G17: =G14-G12 -> 0 | H17: =H14-H12 -> 0 | J17: =J14-J12 -> 0 | K17: =K14-K12 -> 0 | L17: =L14-L12 -> 0 | N17: =N14-N12 -> 0 | O17: =O14-O12 -> 0 | P17: =P14-P12 -> 0
A18: Wysokość Marży miesięcznej | B18: =B6/B13 -> #DIV/0! | C18: =C6/C13 -> #DIV/0! | D18: =D6/D13 -> #DIV/0! | F18: =F6/F13 -> #DIV/0! | G18: =G6/G13 -> #DIV/0! | H18: =H6/H13 -> #DIV/0! | J18: =J6/J13 -> #DIV/0! | K18: =K6/K13 -> #DIV/0! | L18: =L6/L13 -> #DIV/0! | N18: =N6/N13 -> #DIV/0! | O18: =O6/O13 -> #DIV/0! | P18: =P6/P13 -> #DIV/0!
A19: Wysokość Marży sumarycznej | B19: =B7/B14 -> #DIV/0! | C19: =C7/C14 -> #DIV/0! | D19: =D7/D14 -> #DIV/0! | F19: =F7/F14 -> #DIV/0! | G19: =G7/G14 -> #DIV/0! | H19: =H7/H14 -> #DIV/0! | J19: =J7/J14 -> #DIV/0! | K19: =K7/K14 -> #DIV/0! | L19: =L7/L14 -> #DIV/0! | N19: =N7/N14 -> #DIV/0! | O19: =O7/O14 -> #DIV/0! | P19: =P7/P14 -> #DIV/0!
N21: PREMIE
A22: Wynagrodzenie zasadnicze | B22: 3450 | C22: 3450 | D22: 3450 | F22: 3450 | G22: 3450 | H22: 3450 | J22: 3450 | K22: 3450 | L22: 3450 | N22: 3450 | O22: 3450 | P22: 3450
A23: Wskaźnik Plan Sprzedaży Marża | B23: =B5 -> 0 | C23: =C5 -> 0 | D23: =D5 -> 0 | F23: =F5 -> 0 | G23: =G5 -> 0 | H23: =H5 -> 0 | J23: =J5 -> 0 | K23: =K5 -> 0 | L23: =L5 -> 0 | N23: =N5 -> 0 | O23: =O5 -> 0 | P23: =P5 -> 0
A24: Realizacja Wskaźnika Planu Sprzedaży Marża | B24: =B7 -> 0 | C24: =C7 -> 0 | D24: =D7 -> 0 | F24: =F7 -> 0 | G24: =G7 -> 0 | H24: =H7 -> 0 | J24: =J7 -> 0 | K24: =K7 -> 0 | L24: =L7 -> 0 | N24: =N7 -> 0 | O24: =O7 -> 0 | P24: =P7 -> 0
A25: Poziom realizacji Wskaźnika Sprzedaży Marża | B25: =B24/B23 -> #DIV/0! | C25: =C24/C23 -> #DIV/0! | D25: =D24/D23 -> #DIV/0! | F25: =F24/F23 -> #DIV/0! | G25: =G24/G23 -> #DIV/0! | H25: =H24/H23 -> #DIV/0! | J25: =J24/J23 -> #DIV/0! | K25: =K24/K23 -> #DIV/0! | L25: =L24/L23 -> #DIV/0! | N25: =N24/N23 -> #DIV/0! | O25: =O24/O23 -> #DIV/0! | P25: =P24/P23 -> #DIV/0!
A26: Wysokość premii Wskaźnik Sprzedaży Marża | B26: =B22*0.3 -> 1035 | C26: =C22*0.3 -> 1035 | D26: =D22*0.3 -> 1035 | F26: =F22*0.3 -> 1035 | G26: =G22*0.3 -> 1035 | H26: =H22*0.3 -> 1035 | J26: =J22*0.3 -> 1035 | K26: =K22*0.3 -> 1035 | L26: =L22*0.3 -> 1035 | N26: =N22*0.3 -> 1035 | O26: =O22*0.3 -> 1035 | P26: =P22*0.3 -> 1035
A27: Mnożnik premii miesięcznej Wskaźnika Sprzedaży Marża | B27: =IF(B25<80%,0,IF(B25<90%,0.5,IF(B25<95%,0.75,1))) -> #DIV/0! | C27: =IF(C25<80%,0,IF(C25<90%,0.5,IF(C25<95%,0.75,1))) -> #DIV/0! | D27: =IF(D25<80%,0,IF(D25<90%,0.5,IF(D25<95%,0.75,1))) -> #DIV/0! | F27: =IF(F25<80%,0,IF(F25<90%,0.5,IF(F25<95%,0.75,1))) -> #DIV/0! | G27: =IF(G25<80%,0,IF(G25<90%,0.5,IF(G25<95%,0.75,1))) -> #DIV/0! | H27: =IF(H25<80%,0,IF(H25<90%,0.5,IF(H25<95%,0.75,1))) -> #DIV/0! | J27: =IF(J25<80%,0,IF(J25<90%,0.5,IF(J25<95%,0.75,1))) -> #DIV/0! | K27: =IF(K25<80%,0,IF(K25<90%,0.5,IF(K25<95%,0.75,1))) -> #DIV/0! | L27: =IF(L25<80%,0,IF(L25<90%,0.5,IF(L25<95%,0.75,1))) -> #DIV/0! | N27: =IF(N25<80%,0,IF(N25<90%,0.5,IF(N25<95%,0.75,1))) -> #DIV/0! | O27: =IF(O25<80%,0,IF(O25<90%,0.5,IF(O25<95%,0.75,1))) -> #DIV/0! | P27: =IF(P25<80%,0,IF(P25<90%,0.5,IF(P25<95%,0.75,1))) -> #DIV/0!
A28: Premia miesięczna za Wskaźnik Sprzedaży Marża | B28: =B27*B26 -> #DIV/0! | C28: =C27*C26 -> #DIV/0! | D28: =D27*D26 -> #DIV/0! | F28: =F27*F26 -> #DIV/0! | G28: =G27*G26 -> #DIV/0! | H28: =H27*H26 -> #DIV/0! | J28: =J27*J26 -> #DIV/0! | K28: =K27*K26 -> #DIV/0! | L28: =L27*L26 -> #DIV/0! | N28: =N27*N26 -> #DIV/0! | O28: =O27*O26 -> #DIV/0! | P28: =P27*P26 -> #DIV/0!
A29: Wskaźnik Plan Sprzedaży Obrót | B29: =B12 -> 0 | C29: =C12 -> 0 | D29: =D12 -> 0 | F29: =F12 -> 0 | G29: =G12 -> 0 | H29: =H12 -> 0 | J29: =J12 -> 0 | K29: =K12 -> 0 | L29: =L12 -> 0 | N29: =N12 -> 0 | O29: =O12 -> 0 | P29: =P12 -> 0
A30: Realizacja Wskaźnika Planu Sprzedaży Obrót | B30: =B14 -> 0 | C30: =C14 -> 0 | D30: =D14 -> 0 | F30: =F14 -> 0 | G30: =G14 -> 0 | H30: =H14 -> 0 | J30: =J14 -> 0 | K30: =K14 -> 0 | L30: =L14 -> 0 | N30: =N14 -> 0 | O30: =O14 -> 0 | P30: =P14 -> 0
A31: Poziom realizacji Wskaźnika Sprzedaży Obrót | B31: =B30/B29 -> #DIV/0! | C31: =C30/C29 -> #DIV/0! | D31: =D30/D29 -> #DIV/0! | F31: =F30/F29 -> #DIV/0! | G31: =G30/G29 -> #DIV/0! | H31: =H30/H29 -> #DIV/0! | J31: =J30/J29 -> #DIV/0! | K31: =K30/K29 -> #DIV/0! | L31: =L30/L29 -> #DIV/0! | N31: =N30/N29 -> #DIV/0! | O31: =O30/O29 -> #DIV/0! | P31: =P30/P29 -> #DIV/0!
A32: Wysokość premii Wskaźnik Sprzedaży Obrót | B32: =B22*0.15 -> 517.5 | C32: =C22*0.15 -> 517.5 | D32: =D22*0.15 -> 517.5 | F32: =F22*0.15 -> 517.5 | G32: =G22*0.15 -> 517.5 | H32: =H22*0.15 -> 517.5 | J32: =J22*0.15 -> 517.5 | K32: =K22*0.15 -> 517.5 | L32: =L22*0.15 -> 517.5 | N32: =N22*0.15 -> 517.5 | O32: =O22*0.15 -> 517.5 | P32: =P22*0.15 -> 517.5
A33: Mnożnik premii miesięcznej Wskaźnika Sprzedaży Obrót | B33: =IF(B31<80%,0,IF(B31<90%,0.5,IF(B31<95%,0.75,1))) -> #DIV/0! | C33: =IF(C31<80%,0,IF(C31<90%,0.5,IF(C31<95%,0.75,1))) -> #DIV/0! | D33: =IF(D31<80%,0,IF(D31<90%,0.5,IF(D31<95%,0.75,1))) -> #DIV/0! | F33: =IF(F31<80%,0,IF(F31<90%,0.5,IF(F31<95%,0.75,1))) -> #DIV/0! | G33: =IF(G31<80%,0,IF(G31<90%,0.5,IF(G31<95%,0.75,1))) -> #DIV/0! | H33: =IF(H31<80%,0,IF(H31<90%,0.5,IF(H31<95%,0.75,1))) -> #DIV/0! | J33: =IF(J31<80%,0,IF(J31<90%,0.5,IF(J31<95%,0.75,1))) -> #DIV/0! | K33: =IF(K31<80%,0,IF(K31<90%,0.5,IF(K31<95%,0.75,1))) -> #DIV/0! | L33: =IF(L31<80%,0,IF(L31<90%,0.5,IF(L31<95%,0.75,1))) -> #DIV/0! | N33: =IF(N31<80%,0,IF(N31<90%,0.5,IF(N31<95%,0.75,1))) -> #DIV/0! | O33: =IF(O31<80%,0,IF(O31<90%,0.5,IF(O31<95%,0.75,1))) -> #DIV/0! | P33: =IF(P31<80%,0,IF(P31<90%,0.5,IF(P31<95%,0.75,1))) -> #DIV/0!
A34: Premia miesięczna za Wskaźnik Sprzedaży Obrót | B34: =B33*B32 -> #DIV/0! | C34: =C33*C32 -> #DIV/0! | D34: =D33*D32 -> #DIV/0! | F34: =F33*F32 -> #DIV/0! | G34: =G33*G32 -> #DIV/0! | H34: =H33*H32 -> #DIV/0! | J34: =J33*J32 -> #DIV/0! | K34: =K33*K32 -> #DIV/0! | L34: =L33*L32 -> #DIV/0! | N34: =N33*N32 -> #DIV/0! | O34: =O33*O32 -> #DIV/0! | P34: =P33*P32 -> #DIV/0!
A35: Wskaźnik CRM | B35: 1 | C35: 1 | D35: 1 | F35: 1 | G35: 1 | H35: 1 | J35: 1 | K35: 1 | L35: 1 | N35: 1 | O35: 1 | P35: 1
A36: Wysokość premii CRM | B36: =B22*0.05 -> 172.5 | C36: =C22*0.05 -> 172.5 | D36: =D22*0.05 -> 172.5 | F36: =F22*0.05 -> 172.5 | G36: =G22*0.05 -> 172.5 | H36: =H22*0.05 -> 172.5 | J36: =J22*0.05 -> 172.5 | K36: =K22*0.05 -> 172.5 | L36: =L22*0.05 -> 172.5 | N36: =N22*0.05 -> 172.5 | O36: =O22*0.05 -> 172.5 | P36: =P22*0.05 -> 172.5
A37: Mnożnik premii Wskaźnik CRM | F37: 1 | G37: 1 | J37: 1 | K37: 1 | L37: 1 | N37: 1 | O37: 1 | P37: 1
A38: Premia miesięczna za Wskaźnik CRM | B38: =B37*B36 -> 0 | C38: =C37*C36 -> 0 | D38: =D37*D36 -> 0 | F38: =F37*F36 -> 172.5 | G38: =G37*G36 -> 172.5 | H38: =H37*H36 -> 0 | J38: =J37*J36 -> 172.5 | K38: =K37*K36 -> 172.5 | L38: =L37*L36 -> 172.5 | N38: =N37*N36 -> 172.5 | O38: =O37*O36 -> 172.5 | P38: =P37*P36 -> 172.5
A39: Suma Premii miesięcznych | B39: =B34+B28+B38 -> #DIV/0! | C39: =C34+C28+C38 -> #DIV/0! | D39: =D34+D28+D38 -> #DIV/0! | F39: =F34+F28+F38 -> #DIV/0! | G39: =G34+G28+G38 -> #DIV/0! | H39: =H34+H28+H38 -> #DIV/0! | J39: =J34+J28+J38 -> #DIV/0! | K39: =K34+K28+K38+129.37 -> #DIV/0! | L39: =L34+L28+L38 -> #DIV/0! | N39: =N34+N28+N38 -> #DIV/0! | O39: =O34+O28+O38 -> #DIV/0! | P39: =P34+P28+P38 -> #DIV/0!
A40: Wskaźnik Premia Kwartalna Marża | B40: =D5 -> 0 | F40: =H5 -> 0 | J40: =L5 -> 0 | N40: =P5 -> 0
A41: Realizacja Wskaźnika Premia Kwartalna | B41: =D7 -> 0 | F41: =H7 -> 0 | J41: =L7 -> 0 | N41: =P7 -> 0
A42: Poziom realizacji Wskaźnika Premia Kwartalna | B42: =B41/B40 -> #DIV/0! | F42: =F41/F40 -> #DIV/0! | J42: =J41/J40 -> #DIV/0! | N42: =N41/N40 -> #DIV/0!
A43: Wysokość premii kwartalnej. | B43: =D22 -> 3450 | F43: =H22 -> 3450 | J43: =L22 -> 3450 | N43: =P22 -> 3450
A44: Mnożnik premii kwartalnej | B44: =IF(B42<100%,0,IF(B42<110%,0.5,1)) -> #DIV/0! | F44: =IF(F42<100%,0,IF(F42<110%,0.5,1)) -> #DIV/0! | J44: =IF(J42<100%,0,IF(J42<110%,0.5,1)) -> #DIV/0! | N44: =IF(N42<100%,0,IF(N42<110%,0.5,1)) -> #DIV/0!
A45: Premia kwartalna | B45: =B44*B43 -> #DIV/0! | F45: =F44*F43 -> #DIV/0! | J45: =J44*J43 -> #DIV/0! | N45: =N44*N43 -> #DIV/0!
A47: Raport za miesiąc: | B47: paździer. | C47: listopad | D47: grudzień | E47: Suma | F47: lipiec | G47: sierpień | H47: wrzesień | I47: Suma | J47: kwiecień | K47: maj | L47: czerwiec | M47: Suma | N47: styczeń | O47: luty | P47: marzec | Q47: Suma | R47: Suma
A48: Ilość nowych Klientów: | E48: =SUM(B48:D48) -> 0 | I48: =SUM(F48:H48) -> 0 | M48: =SUM(J48:L48) -> 0 | Q48: =SUM(N48:P48) -> 0 | R48: =M48+I48+E48+Q48 -> 0
A49: Ilość Podmiotów na etapie współpracy Klient:
A50: Ilość Podmiotów na etapie współpracy Handlowy:
A51: Ilość Podmiotów na etapie współpracy Klient nieaktywny:
A52: Ilość Podmiotów pod opieką:
A53: Ilość sprzedanych drukarek: | E53: =SUM(B53:D53) -> 0 | I53: =SUM(F53:H53) -> 0 | M53: =SUM(J53:L53) -> 0 | Q53: =SUM(N53:P53) -> 0 | R53: =M53+I53+E53+Q53 -> 0
A54: Ilość ofert dodanych w danym miesiącu: | E54: =SUM(B54:D54) -> 0 | I54: =SUM(F54:H54) -> 0 | M54: =SUM(J54:L54) -> 0 | Q54: =SUM(N54:P54) -> 0 | R54: =M54+I54+E54+Q54 -> 0
A55: Ilość ofert oczekujących na decyzję kontrahenta:
A56: Ilość zaakceptowanych ofert przez kontrahenta: | E56: =SUM(B56:D56) -> 0 | I56: =SUM(F56:H56) -> 0 | M56: =SUM(J56:L56) -> 0 | Q56: =SUM(N56:P56) -> 0 | R56: =M56+I56+E56+Q56 -> 0
A57: Ilość odrzuconych ofert przez kontrahenta: | E57: =SUM(B57:D57) -> 0 | I57: =SUM(F57:H57) -> 0 | M57: =SUM(J57:L57) -> 0 | Q57: =SUM(N57:P57) -> 0 | R57: =M57+I57+E57+Q57 -> 0
A58: Ilość przekazanych podmiotów: | E58: =SUM(B58:D58) -> 0 | I58: =SUM(F58:H58) -> 0 | M58: =SUM(J58:L58) -> 0 | Q58: =SUM(N58:P58) -> 0 | R58: =M58+I58+E58+Q58 -> 0
A59: Ilość odebranych podmiotów (zmiana prowadzącego): | E59: =SUM(B59:D59) -> 0 | I59: =SUM(F59:H59) -> 0 | M59: =SUM(J59:L59) -> 0 | Q59: =SUM(N59:P59) -> 0 | R59: =M59+I59+E59+Q59 -> 0
A60: Ilość spotkań z Klientami: | E60: =SUM(B60:D60) -> 0 | I60: =SUM(F60:H60) -> 0 | M60: =SUM(J60:L60) -> 0 | Q60: =SUM(N60:P60) -> 0 | R60: =M60+I60+E60+Q60 -> 0
A61: Ilość aktualnie otwartych wdrożeń:
A62: Ilość wdrożeń dodanych w danym miesiącu: | E62: =SUM(B62:D62) -> 0 | I62: =SUM(F62:H62) -> 0 | M62: =SUM(J62:L62) -> 0 | Q62: =SUM(N62:P62) -> 0 | R62: =M62+I62+E62+Q62 -> 0
A63: Ilość wdrożeń zamkniętych pozytywnie w danym mcu: | E63: =SUM(B63:D63) -> 0 | I63: =SUM(F63:H63) -> 0 | M63: =SUM(J63:L63) -> 0 | Q63: =SUM(N63:P63) -> 0 | R63: =M63+I63+E63+Q63 -> 0
A64: Ilość wdrożeń zamkniętych negatywnie w danym mcu: | E64: =SUM(B64:D64) -> 0 | I64: =SUM(F64:H64) -> 0 | M64: =SUM(J64:L64) -> 0 | Q64: =SUM(N64:P64) -> 0 | R64: =M64+I64+E64+Q64 -> 0
A65: Ilość aktualnie odłożonych wdrożeń:

Sheet 0
A1: Agnieszka Zagaja | B1: PLAN IV KW Agnieszka Zagaja | F1: PLAN III KW Agnieszka Zagaja | J1: PLAN II KW Agnieszka Zagaja | N1: PLAN I KW Agnieszka Zagaja
A2: miesiąc | B2: październik | C2: listopad | D2: grudzień | E2: KW IV | F2: lipiec | G2: sierpień | H2: wrzesień | I2: KW III | J2: kwiecień | K2: maj | L2: czerwiec | M2: KW II | N2: styczeń | O2: luty | P2: marzec | Q2: KW I | R2: suma ROK
A4: Plan Sprzedaży Marża | B4: ='Target 2021'!L6 -> 0 | C4: ='Target 2021'!M6 -> 0 | D4: ='Target 2021'!N6 -> 0 | E4: =SUM(B4:D4) -> 0 | F4: ='Target 2021'!I6 -> 0 | G4: ='Target 2021'!J6 -> 0 | H4: ='Target 2021'!K6 -> 0 | I4: =SUM(F4:H4) -> 0 | J4: ='Target 2021'!F6 -> 0 | K4: ='Target 2021'!G6 -> 0 | L4: ='Target 2021'!H6 -> 0 | N4: ='Target 2021'!C6 -> 0 | O4: ='Target 2021'!D6 -> 0 | P4: ='Target 2021'!E6 -> 0 | Q4: =SUM(N4:P4) -> 0 | R4: =Q4+M4+I4+E4 -> 0
A5: Sumaryczny Plan Sprzedaży Marża | B5: =B4 -> 0 | C5: =C4+B5 -> 0 | D5: =D4+C5 -> 0 | F5: =F4 -> 0 | G5: =G4+F5 -> 0 | H5: =H4+G5 -> 0 | J5: =J4 -> 0 | K5: =K4+J5 -> 0 | L5: =L4+K5 -> 0 | N5: =N4 -> 0 | O5: =O4+N5 -> 0 | P5: =P4+O5 -> 0
A6: Miesięczna realizacja Planu Sprzedaży Marża | B6: =SUMIF(X!A:A,$A$1,X!I:I) -> 0 | C6: =SUMIF(XI!A:A,$A$1,XI!I:I) -> 0 | D6: =SUMIF(XII!A:A,$A$1,XII!I:I) -> 0 | E6: =SUM(B6:D6) -> 0 | F6: =SUMIF(VII!A:A,$A$1,VII!I:I) -> 0 | G6: =SUMIF(VIII!A:A,$A$1,VIII!I:I) -> 0 | H6: =SUMIF(IX!A:A,$A$1,IX!I:I) -> 0 | I6: =SUM(F6:H6) -> 0 | J6: =SUMIF(IV!A:A,$A$1,IV!I:I) -> 0 | K6: =SUMIF(V!A:A,$A$1,V!I:I) -> 0 | L6: =SUMIF(VI!A:A,$A$1,VI!I:I) -> 0 | M6: =SUM(J6:L6) -> 0 | N6: =SUMIF(I!A:A,$A$1,I!I:I) -> 0 | O6: =SUMIF(II!A:A,$A$1,II!I:I) -> 0 | P6: =SUMIF(III!A:A,$A$1,III!I:I) -> 0 | Q6: =SUM(N6:P6) -> 0 | R6: =Q6+M6+I6+E6 -> 0
A7: Sumaryczna realizacja planu sprzedaży Marża | B7: =B6 -> 0 | C7: =C6+B7 -> 0 | D7: =D6+C7 -> 0 | F7: =F6 -> 0 | G7: =G6+F7 -> 0 | H7: =H6+G7 -> 0 | J7: =J6 -> 0 | K7: =K6+J7 -> 0 | L7: =L6+K7 -> 0 | N7: =N6 -> 0 | O7: =O6+N7 -> 0 | P7: =P6+O7 -> 0
A8: Wysokość zrealizowania Miesięcznego Planu Sprzedaży Marża | B8: =B6/B4 -> #DIV/0! | C8: =C6/C4 -> #DIV/0! | D8: =D6/D4 -> #DIV/0! | F8: =F6/F4 -> #DIV/0! | G8: =G6/G4 -> #DIV/0! | H8: =H6/H4 -> #DIV/0! | J8: =J6/J4 -> #DIV/0! | K8: =K6/K4 -> #DIV/0! | L8: =L6/L4 -> #DIV/0! | N8: =N6/N4 -> #DIV/0! | O8: =O6/O4 -> #DIV/0! | P8: =P6/P4 -> #DIV/0!
A9: Wysokość zrealizowania Planu Sprzedaży Marża | B9: =B7/B5 -> #DIV/0! | C9: =C7/C5 -> #DIV/0! | D9: =D7/D5 -> #DIV/0! | F9: =F7/F5 -> #DIV/0! | G9: =G7/G5 -> #DIV/0! | H9: =H7/H5 -> #DIV/0! | J9: =J7/J5 -> #DIV/0! | K9: =K7/K5 -> #DIV/0! | L9: =L7/L5 -> #DIV/0! | N9: =N7/N5 -> #DIV/0! | O9: =O7/O5 -> #DIV/0! | P9: =P7/P5 -> #DIV/0!
A10: Różnica wskaźnika Marża | B10: =B7-B5 -> 0 | C10: =C7-C5 -> 0 | D10: =D7-D5 -> 0 | F10: =F7-F5 -> 0 | G10: =G7-G5 -> 0 | H10: =H7-H5 -> 0 | J10: =J7-J5 -> 0 | K10: =K7-K5 -> 0 | L10: =L7-L5 -> 0 | N10: =N7-N5 -> 0 | O10: =O7-O5 -> 0 | P10: =P7-P5 -> 0
A11: Plan Sprzedaży Obrót | B11: ='Target 2021'!L16 -> 0 | C11: ='Target 2021'!M16 -> 0 | D11: ='Target 2021'!N16 -> 0 | E11: =SUM(B11:D11) -> 0 | F11: ='Target 2021'!I16 -> 0 | G11: ='Target 2021'!J16 -> 0 | H11: ='Target 2021'!K16 -> 0 | I11: =SUM(F11:H11) -> 0 | K11: ='Target 2021'!K15 -> 0 | L11: ='Target 2021'!L15 -> 0 | M11: =SUM(J11:L11) -> 0 | N11: ='Target 2021'!C16 -> 0 | O11: ='Target 2021'!D16 -> 0 | P11: ='Target 2021'!E16 -> 0 | Q11: =SUM(N11:P11) -> 0 | R11: =Q11+M11+I11+E11 -> 0
A12: Sumaryczny Plan Sprzedaży Obrót | B12: =B11 -> 0 | C12: =C11+B12 -> 0 | D12: =D11+C12 -> 0 | F12: =F11 -> 0 | G12: =G11+F12 -> 0 | H12: =H11+G12 -> 0 | J12: =J11 -> 0 | K12: =K11+J12 -> 0 | L12: =L11+K12 -> 0 | N12: =N11 -> 0 | O12: =O11+N12 -> 0 | P12: =P11+O12 -> 0
A13: Miesięczna realizacja Planu Sprzedaży Obrót | B13: =SUMIF(X!A:A,$A$1,X!G:G) -> 0 | C13: =SUMIF(XI!A:A,$A$1,XI!G:G) -> 0 | D13: =SUMIF(XII!A:A,$A$1,XII!G:G) -> 0 | E13: =SUM(B13:D13) -> 0 | F13: =SUMIF(VII!A:A,$A$1,VII!G:G) -> 0 | G13: =SUMIF(VIII!A:A,$A$1,VIII!G:G) -> 0 | H13: =SUMIF(IX!A:A,$A$1,IX!G:G) -> 0 | I13: =SUM(F13:H13) -> 0 | J13: =SUMIF(IV!A:A,$A$1,IV!G:G) -> 0 | K13: =SUMIF(V!A:A,$A$1,V!G:G) -> 0 | L13: =SUMIF(VI!A:A,$A$1,VI!G:G) -> 0 | M13: =SUM(J13:L13) -> 0 | N13: =SUMIF(I!A:A,$A$1,I!G:G) -> 0 | O13: =SUMIF(II!A:A,$A$1,II!G:G) -> 0 | P13: =SUMIF(III!A:A,$A$1,III!G:G) -> 0 | Q13: =SUM(N13:P13) -> 0 | R13: =Q13+M13+I13+E13 -> 0
A14: Sumaryczna realizacja planu sprzedaży Obrót | B14: =B13 -> 0 | C14: =C13+B14 -> 0 | D14: =D13+C14 -> 0 | F14: =F13 -> 0 | G14: =G13+F14 -> 0 | H14: =H13+G14 -> 0 | J14: =J13 -> 0 | K14: =K13+J14 -> 0 | L14: =L13+K14 -> 0 | N14: =N13 -> 0 | O14: =O13+N14 -> 0 | P14: =P13+O14 -> 0
A15: Wysokość zrealizowania Miesięcznego Planu Sprzedaży Obrót | B15: =B13/B11 -> #DIV/0! | C15: =C13/C11 -> #DIV/0! | D15: =D13/D11 -> #DIV/0! | F15: =F13/F11 -> #DIV/0! | G15: =G13/G11 -> #DIV/0! | H15: =H13/H11 -> #DIV/0! | J15: =J13/J11 -> #DIV/0! | K15: =K13/K11 -> #DIV/0! | L15: =L13/L11 -> #DIV/0! | N15: =N13/N11 -> #DIV/0! | O15: =O13/O11 -> #DIV/0! | P15: =P13/P11 -> #DIV/0!
A16: Wysokość zrealizowania Planu Sprzedaży Obrót | B16: =B14/B12 -> #DIV/0! | C16: =C14/C12 -> #DIV/0! | D16: =D14/D12 -> #DIV/0! | F16: =F14/F12 -> #DIV/0! | G16: =G14/G12 -> #DIV/0! | H16: =H14/H12 -> #DIV/0! | J16: =J14/J12 -> #DIV/0! | K16: =K14/K12 -> #DIV/0! | L16: =L14/L12 -> #DIV/0! | N16: =N14/N12 -> #DIV/0! | O16: =O14/O12 -> #DIV/0! | P16: =P14/P12 -> #DIV/0!
A17: Różnica wskaźnika Obrót | B17: =B14-B12 -> 0 | C17: =C14-C12 -> 0 | D17: =D14-D12 -> 0 | F17: =F14-F12 -> 0 | G17: =G14-G12 -> 0 | H17: =H14-H12 -> 0 | J17: =J14-J12 -> 0 | K17: =K14-K12 -> 0 | L17: =L14-L12 -> 0 | N17: =N14-N12 -> 0 | O17: =O14-O12 -> 0 | P17: =P14-P12 -> 0
A18: Wysokość Marży miesięcznej | B18: =B6/B13 -> #DIV/0! | C18: =C6/C13 -> #DIV/0! | D18: =D6/D13 -> #DIV/0! | F18: =F6/F13 -> #DIV/0! | G18: =G6/G13 -> #DIV/0! | H18: =H6/H13 -> #DIV/0! | J18: =J6/J13 -> #DIV/0! | K18: =K6/K13 -> #DIV/0! | L18: =L6/L13 -> #DIV/0! | N18: =N6/N13 -> #DIV/0! | O18: =O6/O13 -> #DIV/0! | P18: =P6/P13 -> #DIV/0!
A19: Wysokość Marży sumarycznej | B19: =B7/B14 -> #DIV/0! | C19: =C7/C14 -> #DIV/0! | D19: =D7/D14 -> #DIV/0! | F19: =F7/F14 -> #DIV/0! | G19: =G7/G14 -> #DIV/0! | H19: =H7/H14 -> #DIV/0! | J19: =J7/J14 -> #DIV/0! | K19: =K7/K14 -> #DIV/0! | L19: =L7/L14 -> #DIV/0! | N19: =N7/N14 -> #DIV/0! | O19: =O7/O14 -> #DIV/0! | P19: =P7/P14 -> #DIV/0!
N21: PREMIE
A22: Wynagrodzenie zasadnicze | B22: 0 | C22: 0 | D22: 0 | F22: 0 | G22: 0 | H22: 0 | J22: 0 | K22: 0 | L22: 0 | N22: 0 | O22: 0 | P22: 0
A23: Wskaźnik Plan Sprzedaży Marża | B23: =B5 -> 0 | C23: =C5 -> 0 | D23: =D5 -> 0 | F23: =F5 -> 0 | G23: =G5 -> 0 | H23: =H5 -> 0 | J23: =J5 -> 0 | K23: =K5 -> 0 | L23: =L5 -> 0 | N23: =N5 -> 0 | O23: =O5 -> 0 | P23: =P5 -> 0
A24: Realizacja Wskaźnika Planu Sprzedaży Marża | B24: =B7 -> 0 | C24: =C7 -> 0 | D24: =D7 -> 0 | F24: =F7 -> 0 | G24: =G7 -> 0 | H24: =H7 -> 0 | J24: =J7 -> 0 | K24: =K7 -> 0 | L24: =L7 -> 0 | N24: =N7 -> 0 | O24: =O7 -> 0 | P24: =P7 -> 0
A25: Poziom realizacji Wskaźnika Sprzedaży Marża | B25: =B24/B23 -> #DIV/0! | C25: =C24/C23 -> #DIV/0! | D25: =D24/D23 -> #DIV/0! | F25: =F24/F23 -> #DIV/0! | G25: =G24/G23 -> #DIV/0! | H25: =H24/H23 -> #DIV/0! | J25: =J24/J23 -> #DIV/0! | K25: =K24/K23 -> #DIV/0! | L25: =L24/L23 -> #DIV/0! | N25: =N24/N23 -> #DIV/0! | O25: =O24/O23 -> #DIV/0! | P25: =P24/P23 -> #DIV/0!
A26: Wysokość premii Wskaźnik Sprzedaży Marża | B26: =B22*0.2 -> 0 | C26: =C22*0.2 -> 0 | D26: =D22*0.2 -> 0 | F26: =F22*0.2 -> 0 | G26: =G22*0.2 -> 0 | H26: =H22*0.2 -> 0 | J26: =J22*0.2 -> 0 | K26: =K22*0.2 -> 0 | L26: =L22*0.2 -> 0 | N26: =N22*0.2 -> 0 | O26: =O22*0.2 -> 0 | P26: =P22*0.2 -> 0
A27: Mnożnik premii miesięcznej Wskaźnika Sprzedaży Marża | B27: =IF(B25<80%,0,IF(B25<90%,0.5,IF(B25<95%,0.75,1))) -> #DIV/0! | C27: =IF(C25<80%,0,IF(C25<90%,0.5,IF(C25<95%,0.75,1))) -> #DIV/0! | D27: =IF(D25<80%,0,IF(D25<90%,0.5,IF(D25<95%,0.75,1))) -> #DIV/0! | F27: =IF(F25<80%,0,IF(F25<90%,0.5,IF(F25<95%,0.75,1))) -> #DIV/0! | G27: =IF(G25<80%,0,IF(G25<90%,0.5,IF(G25<95%,0.75,1))) -> #DIV/0! | H27: =IF(H25<80%,0,IF(H25<90%,0.5,IF(H25<95%,0.75,1))) -> #DIV/0! | J27: =IF(J25<80%,0,IF(J25<90%,0.5,IF(J25<95%,0.75,1))) -> #DIV/0! | K27: =IF(K25<80%,0,IF(K25<90%,0.5,IF(K25<95%,0.75,1))) -> #DIV/0! | L27: =IF(L25<80%,0,IF(L25<90%,0.5,IF(L25<95%,0.75,1))) -> #DIV/0! | N27: =IF(N25<80%,0,IF(N25<90%,0.5,IF(N25<95%,0.75,1))) -> #DIV/0! | O27: =IF(O25<80%,0,IF(O25<90%,0.5,IF(O25<95%,0.75,1))) -> #DIV/0! | P27: =IF(P25<80%,0,IF(P25<90%,0.5,IF(P25<95%,0.75,1))) -> #DIV/0!
A28: Premia miesięczna za Wskaźnik Sprzedaży Marża | B28: =B27*B26 -> #DIV/0! | C28: =C27*C26 -> #DIV/0! | D28: =D27*D26 -> #DIV/0! | F28: =F27*F26 -> #DIV/0! | G28: =G27*G26 -> #DIV/0! | H28: =H27*H26 -> #DIV/0! | J28: =J27*J26 -> #DIV/0! | K28: =K27*K26 -> #DIV/0! | L28: =L27*L26 -> #DIV/0! | N28: =N27*N26 -> #DIV/0! | O28: =O27*O26 -> #DIV/0! | P28: =P27*P26 -> #DIV/0!
A29: Wskaźnik Plan Sprzedaży Obrót | B29: =B12 -> 0 | C29: =C12 -> 0 | D29: =D12 -> 0 | F29: =F12 -> 0 | G29: =G12 -> 0 | H29: =H12 -> 0 | J29: =J12 -> 0 | K29: =K12 -> 0 | L29: =L12 -> 0 | N29: =N12 -> 0 | O29: =O12 -> 0 | P29: =P12 -> 0
A30: Realizacja Wskaźnika Planu Sprzedaży Obrót | B30: =B14 -> 0 | C30: =C14 -> 0 | D30: =D14 -> 0 | F30: =F14 -> 0 | G30: =G14 -> 0 | H30: =H14 -> 0 | J30: =J14 -> 0 | K30: =K14 -> 0 | L30: =L14 -> 0 | N30: =N14 -> 0 | O30: =O14 -> 0 | P30: =P14 -> 0
A31: Poziom realizacji Wskaźnika Sprzedaży Obrót | B31: =B30/B29 -> #DIV/0! | C31: =C30/C29 -> #DIV/0! | D31: =D30/D29 -> #DIV/0! | F31: =F30/F29 -> #DIV/0! | G31: =G30/G29 -> #DIV/0! | H31: =H30/H29 -> #DIV/0! | J31: =J30/J29 -> #DIV/0! | K31: =K30/K29 -> #DIV/0! | L31: =L30/L29 -> #DIV/0! | N31: =N30/N29 -> #DIV/0! | O31: =O30/O29 -> #DIV/0! | P31: =P30/P29 -> #DIV/0!
A32: Wysokość premii Wskaźnik Sprzedaży Obrót | B32: =B22*0.2 -> 0 | C32: =C22*0.2 -> 0 | D32: =D22*0.2 -> 0 | F32: =F22*0.2 -> 0 | G32: =G22*0.2 -> 0 | H32: =H22*0.2 -> 0 | J32: =J22*0.2 -> 0 | K32: =K22*0.2 -> 0 | L32: =L22*0.2 -> 0 | N32: =N22*0.2 -> 0 | O32: =O22*0.2 -> 0 | P32: =P22*0.2 -> 0
A33: Mnożnik premii miesięcznej Wskaźnika Sprzedaży Obrót | B33: =IF(B31<80%,0,IF(B31<90%,0.5,IF(B31<95%,0.75,1))) -> #DIV/0! | C33: =IF(C31<80%,0,IF(C31<90%,0.5,IF(C31<95%,0.75,1))) -> #DIV/0! | D33: =IF(D31<80%,0,IF(D31<90%,0.5,IF(D31<95%,0.75,1))) -> #DIV/0! | F33: =IF(F31<80%,0,IF(F31<90%,0.5,IF(F31<95%,0.75,1))) -> #DIV/0! | G33: =IF(G31<80%,0,IF(G31<90%,0.5,IF(G31<95%,0.75,1))) -> #DIV/0! | H33: =IF(H31<80%,0,IF(H31<90%,0.5,IF(H31<95%,0.75,1))) -> #DIV/0! | J33: =IF(J31<80%,0,IF(J31<90%,0.5,IF(J31<95%,0.75,1))) -> #DIV/0! | K33: =IF(K31<80%,0,IF(K31<90%,0.5,IF(K31<95%,0.75,1))) -> #DIV/0! | L33: =IF(L31<80%,0,IF(L31<90%,0.5,IF(L31<95%,0.75,1))) -> #DIV/0! | N33: =IF(N31<80%,0,IF(N31<90%,0.5,IF(N31<95%,0.75,1))) -> #DIV/0! | O33: =IF(O31<80%,0,IF(O31<90%,0.5,IF(O31<95%,0.75,1))) -> #DIV/0! | P33: =IF(P31<80%,0,IF(P31<90%,0.5,IF(P31<95%,0.75,1))) -> #DIV/0!
A34: Premia miesięczna za Wskaźnik Sprzedaży Obrót | B34: =B33*B32 -> #DIV/0! | C34: =C33*C32 -> #DIV/0! | D34: =D33*D32 -> #DIV/0! | F34: =F33*F32 -> #DIV/0! | G34: =G33*G32 -> #DIV/0! | H34: =H33*H32 -> #DIV/0! | J34: =J33*J32 -> #DIV/0! | K34: =K33*K32 -> #DIV/0! | L34: =L33*L32 -> #DIV/0! | N34: =N33*N32 -> #DIV/0! | O34: =O33*O32 -> #DIV/0! | P34: =P33*P32 -> #DIV/0!
A35: Wskaźnik CRM | B35: 1 | C35: 1 | D35: 1 | F35: 1 | G35: 1 | H35: 1 | J35: 1 | K35: 1 | L35: 1 | N35: 1 | O35: 1 | P35: 1
A36: Wysokość premii CRM | B36: =B22*0.1 -> 0 | C36: =C22*0.1 -> 0 | D36: =D22*0.1 -> 0 | F36: =F22*0.1 -> 0 | G36: =G22*0.1 -> 0 | H36: =H22*0.1 -> 0 | J36: =J22*0.1 -> 0 | K36: =K22*0.1 -> 0 | L36: =L22*0.1 -> 0 | N36: =N22*0.1 -> 0 | O36: =O22*0.1 -> 0 | P36: =P22*0.1 -> 0
A37: Mnożnik premii Wskaźnik CRM
A38: Premia miesięczna za Wskaźnik CRM | B38: =B37*B36 -> 0 | C38: =C37*C36 -> 0 | D38: =D37*D36 -> 0 | F38: =F37*F36 -> 0 | G38: =G37*G36 -> 0 | H38: =H37*H36 -> 0 | J38: =J37*J36 -> 0 | K38: =K37*K36 -> 0 | L38: =L37*L36 -> 0 | N38: =N37*N36 -> 0 | O38: =O37*O36 -> 0 | P38: =P37*P36 -> 0
A39: Suma Premii miesięcznych | B39: =B34+B28+B38 -> #DIV/0! | C39: =C34+C28+C38 -> #DIV/0! | D39: =D34+D28+D38 -> #DIV/0! | F39: =F34+F28+F38 -> #DIV/0! | G39: =G34+G28+G38 -> #DIV/0! | H39: =H34+H28+H38 -> #DIV/0! | J39: =J34+J28+J38 -> #DIV/0! | K39: =K34+K28+K38 -> #DIV/0! | L39: =L34+L28+L38 -> #DIV/0! | N39: =N34+N28+N38 -> #DIV/0! | O39: =O34+O28+O38 -> #DIV/0! | P39: =P34+P28+P38 -> #DIV/0!
A40: Wskaźnik Premia Kwartalna Marża | B40: =D5 -> 0 | F40: =H5 -> 0 | J40: =L5 -> 0 | N40: =P5 -> 0
A41: Realizacja Wskaźnika Premia Kwartalna | B41: =D7 -> 0 | F41: =H7 -> 0 | J41: =L7 -> 0 | N41: =P7 -> 0
A42: Poziom realizacji Wskaźnika Premia Kwartalna | B42: =B41/B40 -> #DIV/0! | F42: =F41/F40 -> #DIV/0! | J42: =J41/J40 -> #DIV/0! | N42: =N41/N40 -> #DIV/0!
A43: Wysokość premii kwartalnej. | B43: =D22 -> 0 | F43: =H22 -> 0 | J43: =L22 -> 0 | N43: =P22 -> 0
A44: Mnożnik premii kwartalnej | B44: =IF(B42<100%,0,IF(B42<110%,0.5,1)) -> #DIV/0! | F44: =IF(F42<100%,0,IF(F42<110%,0.5,1)) -> #DIV/0! | J44: =IF(J42<100%,0,IF(J42<110%,0.5,1)) -> #DIV/0! | N44: =IF(N42<100%,0,IF(N42<110%,0.5,1)) -> #DIV/0!
A45: Premia kwartalna | B45: =B44*B43 -> #DIV/0! | F45: =F44*F43 -> #DIV/0! | J45: =J44*J43 -> #DIV/0! | N45: =N44*N43 -> #DIV/0!
A47: Raport za miesiąc: | B47: paździer. | C47: listopad | D47: grudzień | E47: Suma | F47: lipiec | G47: sierpień | H47: wrzesień | I47: Suma | J47: kwiecień | K47: maj | L47: czerwiec | M47: Suma | N47: styczeń | O47: luty | P47: marzec | Q47: Suma | R47: Suma
A48: Ilość nowych Klientów: | E48: =SUM(B48:D48) -> 0 | I48: =SUM(F48:H48) -> 0 | M48: =SUM(J48:L48) -> 0 | Q48: =SUM(N48:P48) -> 0 | R48: =M48+I48+E48+Q48 -> 0
A49: Ilość Podmiotów na etapie współpracy Klient:
A50: Ilość Podmiotów na etapie współpracy Handlowy:
A51: Ilość Podmiotów na etapie współpracy Klient nieaktywny:
A52: Ilość Podmiotów pod opieką:
A53: Ilość sprzedanych drukarek: | E53: =SUM(B53:D53) -> 0 | I53: =SUM(F53:H53) -> 0 | M53: =SUM(J53:L53) -> 0 | Q53: =SUM(N53:P53) -> 0 | R53: =M53+I53+E53+Q53 -> 0
A54: Ilość ofert dodanych w danym miesiącu: | E54: =SUM(B54:D54) -> 0 | I54: =SUM(F54:H54) -> 0 | M54: =SUM(J54:L54) -> 0 | Q54: =SUM(N54:P54) -> 0 | R54: =M54+I54+E54+Q54 -> 0
A55: Ilość ofert oczekujących na decyzję kontrahenta:
A56: Ilość zaakceptowanych ofert przez kontrahenta: | E56: =SUM(B56:D56) -> 0 | I56: =SUM(F56:H56) -> 0 | M56: =SUM(J56:L56) -> 0 | Q56: =SUM(N56:P56) -> 0 | R56: =M56+I56+E56+Q56 -> 0
A57: Ilość odrzuconych ofert przez kontrahenta: | E57: =SUM(B57:D57) -> 0 | I57: =SUM(F57:H57) -> 0 | M57: =SUM(J57:L57) -> 0 | Q57: =SUM(N57:P57) -> 0 | R57: =M57+I57+E57+Q57 -> 0
A58: Ilość przekazanych podmiotów: | E58: =SUM(B58:D58) -> 0 | I58: =SUM(F58:H58) -> 0 | M58: =SUM(J58:L58) -> 0 | Q58: =SUM(N58:P58) -> 0 | R58: =M58+I58+E58+Q58 -> 0
A59: Ilość odebranych podmiotów (zmiana prowadzącego): | E59: =SUM(B59:D59) -> 0 | I59: =SUM(F59:H59) -> 0 | M59: =SUM(J59:L59) -> 0 | Q59: =SUM(N59:P59) -> 0 | R59: =M59+I59+E59+Q59 -> 0
A60: Ilość spotkań z Klientami: | E60: =SUM(B60:D60) -> 0 | I60: =SUM(F60:H60) -> 0 | M60: =SUM(J60:L60) -> 0 | Q60: =SUM(N60:P60) -> 0 | R60: =M60+I60+E60+Q60 -> 0
A61: Ilość aktualnie otwartych wdrożeń:
A62: Ilość wdrożeń dodanych w danym miesiącu: | E62: =SUM(B62:D62) -> 0 | I62: =SUM(F62:H62) -> 0 | M62: =SUM(J62:L62) -> 0 | Q62: =SUM(N62:P62) -> 0 | R62: =M62+I62+E62+Q62 -> 0
A63: Ilość wdrożeń zamkniętych pozytywnie w danym mcu: | E63: =SUM(B63:D63) -> 0 | I63: =SUM(F63:H63) -> 0 | M63: =SUM(J63:L63) -> 0 | Q63: =SUM(N63:P63) -> 0 | R63: =M63+I63+E63+Q63 -> 0
A64: Ilość wdrożeń zamkniętych negatywnie w danym mcu: | E64: =SUM(B64:D64) -> 0 | I64: =SUM(F64:H64) -> 0 | M64: =SUM(J64:L64) -> 0 | Q64: =SUM(N64:P64) -> 0 | R64: =M64+I64+E64+Q64 -> 0
A65: Ilość aktualnie odłożonych wdrożeń:
D66: =SUM(#REF!) -> #REF!

Sheet stanowiska
A3: I. Stanowiska w Dziale Handlowym.
A5: DORADCA KLIENTA (DK) – stanowisko pracownika DH, któremu przydzielana jest pod opiekę grupa stałych Klientów Firmy do obsługi i rozwoju oraz Indywidualny Plan Sprzedaży. Obowiązuje kwota bazowa wynagrodzenia zasadniczego 4000,00 PLN brutto
A7: KONSULTANT ds. HANDLOWYCH (KDH) - stanowisko pracownika DH, któremu przydzielana jest pod opiekę grupa stałych Klientów Firmy do obsługi i rozwoju oraz Indywidualny Plan Sprzedaży. Obowiązuje kwota bazowa wynagrodzenia zasadniczego 4000,00 PLN brutto.
A9: SPECJALISTA ds. HANDLOWYCH (SDH) - stanowisko pracownika DH, który posiada doświadczenie w sprzedaży produktów oferowanych przez Firmę, nawiązywaniu relacji z Klientami oraz w prowadzeniu dokumentacji. Pracownikowi przydzielana jest pod opiekę, grupa stałych Klientów Firmy do rozwoju (część to: klienci kat. A, B oraz klienci z potencjałem A, B), oraz Indywidualny Plan Sprzedaży. Obowiązuje kwota bazowa wynagrodzenia zasadniczego 4500,00 PLN brutto.
A11: SPECJALISTA ds. KLUCZOWYCH KLIENTÓW (SDKK) – stanowisko pracownika DH, który notuje stały rozwój oraz realizuje Indywidualny Plan Sprzedaży. Wyróżnia się pod względem umiejętności sprzedaży całego asortymentu, prowadzenia bez zarzutów klientów z kategorii A, B, prowadzenia dokumentacji. Pracownikowi przydzielana jest pod opiekę, grupa stałych Klientów Firmy do obsługi i rozwoju (klienci kat. A, B oraz klienci z potencjałem A, B), oraz Indywidualny Plan Sprzedaży. Obowiązuje kwota bazowa wynagrodzenia zasadniczego 5500,00 PLN brutto.
A13: II. Składniki wynagrodzenia pracownika Działu Handlowego.
A15: Wynagrodzenie pracownika DH składa się z trzech części.
A16: 1. Pierwsza część to wynagrodzenie zasadnicze, którego wysokość uzależniona jest od zajmowanego stanowiska w DH i określona jest w umowie o pracę. Wynagrodzenie zasadnicze mieści się w przedziale od 70% do 120% kwoty bazowej.
A17: 2. Drugą część wynagrodzenia stanowi premia miesięczna, niezależna od wskaźników. Wysokość premii miesięcznej stanowi maksymalnie 15% wynagrodzenia zasadniczego.
A18: 3. Trzecią część wynagrodzenia stanowi premia miesięczna, zależna od wykonania określonych wskaźników. Wysokość premii miesięcznej stanowi maksymalnie 40% wynagrodzenia zasadniczego.
A19: 4. Czwartą część wynagrodzenia stanowi premia kwartalna. Wysokość premii kwartalnej stanowi maksymalnie 100% wynagrodzenia zasadniczego.
A21: Zasady naliczania i wypłacania wynagrodzenia zasadniczego i premii określone są w Regulaminie Wynagradzania.

Sheet Arkusz1
B1: I | C1: II | D1: III | F1: IV | G1: V | H1: VI | I1: VII | J1: VIII | K1: IX | L1: X | M1: XI | N1: XII
A2: MARŻA | B2: 283301.84 | C2: 263419.34 | D2: 273088.12 | E2: =SUM(B2:D2) -> 819809.31
A3: OBRÓT | B3: 908036.31 | C3: 809745.81 | D3: 770639.12 | E3: =SUM(B3:D3) -> 2488421.2
E4: =E5-E2 -> 500.0012
A5: MARŻA | E5: 820309.31
A6: OBRÓT | E6: 2488421.2
A12: Kontrahent | B12: Grupa | C12: Towar | D12: Symbol | E12: Ilość | F12: Jm | G12: Brutto | H12: Netto | I12: Koszt | J12: Zysk | K12: Marża
A13: (Razem sprzedaż) | E13: 263 | G13: 73162.55 | H13: 59481.74 | I13: 47830.68 | J13: 11651.06 | K13: 19.5876
A14: BPSKONCEPT | B14: (Razem kontrahent) | E14: 4 | G14: 449.88 | H14: 365.76 | I14: 386.32 | J14: -20.56 | K14: -5.6211 | L14: =H14*0.25 -> 91.44
A15: BPSKONCEPT | B15: Inne | C15: Ink cartridge for EPSON TM-C3500 CYAN | D15: EPSON C3500 INK (C) | E15: 1 | F15: szt. | G15: 112.47 | H15: 91.44 | I15: 96.58 | J15: -5.14 | K15: -5.6211 | L15: =H15*0.25 -> 22.86
A16: BPSKONCEPT | B16: Inne | C16: Ink cartridge for EPSON TM-C3500 BLACK | D16: EPSON C3500 INK (K) | E16: 1 | F16: szt. | G16: 112.47 | H16: 91.44 | I16: 96.58 | J16: -5.14 | K16: -5.6211 | L16: =H16*0.25 -> 22.86
A17: BPSKONCEPT | B17: Inne | C17: Ink cartridge for EPSON TM-C3500 MAGENTA | D17: EPSON C3500 INK (M) | E17: 1 | F17: szt. | G17: 112.47 | H17: 91.44 | I17: 96.58 | J17: -5.14 | K17: -5.6211 | L17: =H17*0.25 -> 22.86
A18: BPSKONCEPT | B18: Inne | C18: Ink cartridge for EPSON TM-C3500 YELLOW | D18: EPSON C3500 INK (Y) | E18: 1 | F18: szt. | G18: 112.47 | H18: 91.44 | I18: 96.58 | J18: -5.14 | K18: -5.6211 | L18: =H18*0.25 -> 22.86 | M18: =SUM(L14:L18) -> 182.88
A19: CAFFARO | B19: Inne | C19: Ink cartridge for C7500G (Black) 294,3 ml | D19: EPSON C7500G INK (K) | E19: 2 | F19: szt. | G19: 1392.24 | H19: 1131.9 | I19: 1192.32 | J19: -60.42 | K19: -5.3379 | L19: =H19*0.25 -> 282.975 | M19: =L19 -> 282.975
A20: YKPOLAND | B20: Inne | C20: Ink cartridge for EPSON TM-C3500 CYAN | D20: EPSON C3500 INK (C) | E20: 2 | F20: szt. | G20: 229.81 | H20: 186.84 | I20: 197.32 | J20: -10.48 | K20: -5.609 | L20: =H20*0.25 -> 46.71
A21: YKPOLAND | B21: Inne | C21: Ink cartridge for EPSON TM-C3500 BLACK | D21: EPSON C3500 INK (K) | E21: 10 | F21: szt. | G21: 1149.07 | H21: 934.2 | I21: 986.6 | J21: -52.4 | K21: -5.609 | L21: =H21*0.25 -> 233.55
A22: YKPOLAND | B22: Inne | C22: Ink cartridge for EPSON TM-C3500 MAGENTA | D22: EPSON C3500 INK (M) | E22: 2 | F22: szt. | G22: 229.81 | H22: 186.84 | I22: 197.32 | J22: -10.48 | K22: -5.609 | L22: =H22*0.25 -> 46.71
A23: YKPOLAND | B23: Inne | C23: Ink cartridge for EPSON TM-C3500 YELLOW | D23: EPSON C3500 INK (Y) | E23: 1 | F23: szt. | G23: 114.91 | H23: 93.42 | I23: 98.66 | J23: -5.24 | K23: -5.609 | L23: =H23*0.25 -> 23.355 | M23: =SUM(L20:L23) -> 350.325
