Workbook
Name OLE_LINK3: stanowiska!$A$16

Sheet TOMEK
A1: Tomasz Sypień | B1: PLAN IV KW Tomasz Sypień | F1: PLAN III KW Tomasz Sypień | J1: PLAN II KW Tomasz Sypień | N1: PLAN I KW Tomasz Sypień
A2: miesiąc | B2: październik | C2: listopad | D2: grudzień | E2: KW IV | F2: lipiec | G2: sierpień | H2: wrzesień | I2: KW III | J2: kwiecień | K2: maj | L2: czerwiec | M2: KW II | N2: styczeń | O2: luty | P2: marzec | Q2: KW I | R2: suma ROK
A4: Plan Sprzedaży Marża | B4: ='Target 2021'!L3 -> 42433.333 | C4: ='Target 2021'!M3 -> 46900 | D4: ='Target 2021'!N3 -> 44666.667 | E4: =SUM(B4:D4) -> 134000 | F4: ='Target 2021'!I3 -> 43500 | G4: ='Target 2021'!J3 -> 48333.333 | H4: ='Target 2021'!K3 -> 53166.667 | I4: =SUM(F4:H4) -> 145000 | J4: ='Target 2021'!F3 -> 41100 | K4: ='Target 2021'!G3 -> 45666.667 | L4: ='Target 2021'!H3 -> 50233.333 | M4: =SUM(J4:L4) -> 137000 | N4: ='Target 2021'!C3 -> 43500 | O4: ='Target 2021'!D3 -> 48333.333 | P4: ='Target 2021'!E3 -> 53166.667 | Q4: =SUM(N4:P4) -> 145000 | R4: =Q4+M4+I4+E4 -> 561000
A5: Sumaryczny Plan Sprzedaży Marża | B5: =B4 -> 42433.333 | C5: =C4+B5 -> 89333.333 | D5: =D4+C5 -> 134000 | F5: =F4 -> 43500 | G5: =G4+F5 -> 91833.333 | H5: =H4+G5 -> 145000 | J5: =J4 -> 41100 | K5: =K4+J5 -> 86766.667 | L5: =L4+K5 -> 137000 | N5: =N4 -> 43500 | O5: =O4+N5 -> 91833.333 | P5: =P4+O5 -> 145000 | R5: =R6/R4 -> 1.0335362
A6: Miesięczna realizacja Planu Sprzedaży Marża | B6: =SUMIF(X!A:A,$A$1,X!I:I) -> 48243.363 | C6: =SUMIF(XI!A:A,$A$1,XI!I:I) -> 53871.69 | D6: =SUMIF(XII!A:A,$A$1,XII!I:I) -> 53549.701 | E6: =SUM(B6:D6) -> 155664.75 | F6: =SUMIF(VII!A:A,$A$1,VII!I:I) -> 58039.165 | G6: =SUMIF(VIII!A:A,$A$1,VIII!I:I) -> 37496.672 | H6: =SUMIF(IX!A:A,$A$1,IX!I:I) -> 43611.758 | I6: =SUM(F6:H6) -> 139147.6 | J6: =SUMIF(IV!A:A,$A$1,IV!I:I) -> 41620.274 | K6: =SUMIF(V!A:A,$A$1,V!I:I) -> 41858.379 | L6: =SUMIF(VI!A:A,$A$1,VI!I:I) -> 61416.543 | M6: =SUM(J6:L6) -> 144895.2 | N6: =SUMIF(I!A:A,$A$1,I!I:I) -> 46452.277 | O6: =SUMIF(II!A:A,$A$1,II!I:I) -> 45967.407 | P6: =SUMIF(III!A:A,$A$1,III!I:I) -> 47686.574 | Q6: =SUM(N6:P6) -> 140106.26 | R6: =Q6+M6+I6+E6 -> 579813.8
A7: Sumaryczna realizacja planu sprzedaży Marża | B7: =B6 -> 48243.363 | C7: =C6+B7 -> 102115.05 | D7: =D6+C7 -> 155664.75 | F7: =F6 -> 58039.165 | G7: =G6+F7 -> 95535.837 | H7: =H6+G7 -> 139147.6 | J7: =J6 -> 41620.274 | K7: =K6+J7 -> 83478.653 | L7: =L6+K7 -> 144895.2 | N7: =N6 -> 46452.277 | O7: =O6+N7 -> 92419.685 | P7: =P6+O7 -> 140106.26
A8: Wysokość zrealizowania Miesięcznego Planu Sprzedaży Marża | B8: =B6/B4 -> 1.1369214 | C8: =C6/C4 -> 1.1486501 | D8: =D6/D4 -> 1.1988739 | F8: =F6/F4 -> 1.3342337 | G8: =G6/G4 -> 0.77579321 | H8: =H6/H4 -> 0.82028385 | J8: =J6/J4 -> 1.0126587 | K8: =K6/K4 -> 0.91660684 | L8: =L6/L4 -> 1.2226253 | N8: =N6/N4 -> 1.0678684 | O8: =O6/O4 -> 0.95104981 | P8: =P6/P4 -> 0.89692616
A9: Wysokość zrealizowania Planu Sprzedaży Marża | B9: =B7/B5 -> 1.1369214 | C9: =C7/C5 -> 1.1430789 | D9: =D7/D5 -> 1.1616773 | F9: =F7/F5 -> 1.3342337 | G9: =G7/G5 -> 1.0403176 | H9: =H7/H5 -> 0.95963859 | J9: =J7/J5 -> 1.0126587 | K9: =K7/K5 -> 0.96210511 | L9: =L7/L5 -> 1.0576292 | N9: =N7/N5 -> 1.0678684 | O9: =O7/O5 -> 1.006385 | P9: =P7/P5 -> 0.96625006
A10: Różnica wskaźnika Marża | B10: =B7-B5 -> 5810.03 | C10: =C7-C5 -> 12781.719 | D10: =D7-D5 -> 21664.754 | F10: =F7-F5 -> 14539.165 | G10: =G7-G5 -> 3702.5039 | H10: =H7-H5 -> -5852.405 | J10: =J7-J5 -> 520.2744 | K10: =K7-K5 -> -3288.0134 | L10: =L7-L5 -> 7895.1966 | N10: =N7-N5 -> 2952.2773 | O10: =O7-O5 -> 586.35127 | P10: =P7-P5 -> -4893.7412
A11: Miesięczny Obrót | B11: =SUMIF(X!A:A,$A$1,X!G:G) -> 147058.27 | C11: =SUMIF(XI!A:A,$A$1,XI!G:G) -> 134258.95 | D11: =SUMIF(XII!A:A,$A$1,XII!G:G) -> 124716.12 | E11: =SUM(B11:D11) -> 406033.34 | F11: =SUMIF(VII!A:A,$A$1,VII!G:G) -> 143765.12 | G11: =SUMIF(VIII!A:A,$A$1,VIII!G:G) -> 99803.906 | H11: =SUMIF(IX!A:A,$A$1,IX!G:G) -> 106174.15 | I11: =SUM(F11:H11) -> 349743.18 | J11: =SUMIF(IV!A:A,$A$1,IV!G:G) -> 112925.76 | K11: =SUMIF(V!A:A,$A$1,V!G:G) -> 100350.34 | L11: =SUMIF(VI!A:A,$A$1,VI!G:G) -> 179356.23 | M11: =SUM(J11:L11) -> 392632.34 | N11: =SUMIF(I!A:A,$A$1,I!G:G) -> 113213.96 | O11: =SUMIF(II!A:A,$A$1,II!G:G) -> 129347.31 | P11: =SUMIF(III!A:A,$A$1,III!G:G) -> 130401.56 | Q11: =SUM(N11:P11) -> 372962.84 | R11: =Q11+M11+I11+E11 -> 1521371.7
A12: Sumaryczny Obrót | B12: =B11 -> 147058.27 | C12: =C11+B12 -> 281317.22 | D12: =D11+C12 -> 406033.34 | F12: =F11 -> 143765.12 | G12: =G11+F12 -> 243569.03 | H12: =H11+G12 -> 349743.18 | J12: =J11 -> 112925.76 | K12: =K11+J12 -> 213276.1 | L12: =L11+K12 -> 392632.34 | N12: =N11 -> 113213.96 | O12: =O11+N12 -> 242561.27 | P12: =P11+O12 -> 372962.84
A13: Wysokość Marży miesięcznej | B13: =B6/B11 -> 0.32805612 | C13: =C6/C11 -> 0.40125212 | D13: =D6/D11 -> 0.42937274 | F13: =F6/F11 -> 0.40370824 | G13: =G6/G11 -> 0.37570345 | H13: =H6/H11 -> 0.41075684 | J13: =J6/J11 -> 0.36856316 | K13: =K6/K11 -> 0.41712243 | L13: =L6/L11 -> 0.3424277 | N13: =N6/N11 -> 0.4103052 | O13: =O6/O11 -> 0.35537969 | P13: =P6/P11 -> 0.36569021
A14: Wysokość Marży sumarycznej | B14: =B7/B12 -> 0.32805612 | C14: =C7/C12 -> 0.36298899 | D14: =D7/D12 -> 0.38337925 | F14: =F7/F12 -> 0.40370824 | G14: =G7/G12 -> 0.3922331 | H14: =H7/H12 -> 0.39785649 | J14: =J7/J12 -> 0.36856316 | K14: =K7/K12 -> 0.39141119 | L14: =L7/L12 -> 0.36903531 | N14: =N7/N12 -> 0.4103052 | O14: =O7/O12 -> 0.38101583 | P14: =P7/P12 -> 0.37565743
A16: PREMIE
A17: Wynagrodzenie zasadnicze | B17: 4500 | C17: 4500 | D17: 4500 | F17: 4500 | G17: 4500 | H17: 4500 | J17: 4500 | K17: 4500 | L17: 4500 | N17: 4100 | O17: 4500 | P17: 4500
A18: Wskaźnik Plan Sprzedaży Marża | B18: =B5 -> 42433.333 | C18: =C5 -> 89333.333 | D18: =D5 -> 134000 | F18: =F5 -> 43500 | G18: =G5 -> 91833.333 | H18: =H5 -> 145000 | J18: =J5 -> 41100 | K18: =K5 -> 86766.667 | L18: =L5 -> 137000 | N18: =N5 -> 43500 | O18: =O5 -> 91833.333 | P18: =P5 -> 145000
A19: Realizacja Wskaźnika Planu Sprzedaży Marża | B19: =B7 -> 48243.363 | C19: =C7 -> 102115.05 | D19: =D7 -> 155664.75 | F19: =F7 -> 58039.165 | G19: =G7 -> 95535.837 | H19: =H7 -> 139147.6 | J19: =J7 -> 41620.274 | K19: =K7 -> 83478.653 | L19: =L7 -> 144895.2 | N19: =N7 -> 46452.277 | O19: =O7 -> 92419.685 | P19: =P7 -> 140106.26
A20: Poziom realizacji Wskaźnika Sprzedaży Marża | B20: =B19/B18 -> 1.1369214 | C20: =C19/C18 -> 1.1430789 | D20: =D19/D18 -> 1.1616773 | F20: =F19/F18 -> 1.3342337 | G20: =G19/G18 -> 1.0403176 | H20: =H19/H18 -> 0.95963859 | J20: =J19/J18 -> 1.0126587 | K20: =K19/K18 -> 0.96210511 | L20: =L19/L18 -> 1.0576292 | N20: =N19/N18 -> 1.0678684 | O20: =O19/O18 -> 1.006385 | P20: =P19/P18 -> 0.96625006
A21: Wysokość premii Wskaźnik Sprzedaży Marża | B21: =B17*0.35 -> 1575 | C21: =C17*0.35 -> 1575 | D21: =D17*0.35 -> 1575 | F21: =F17*0.35 -> 1575 | G21: =G17*0.35 -> 1575 | H21: =H17*0.35 -> 1575 | J21: =J17*0.35 -> 1575 | K21: =K17*0.35 -> 1575 | L21: =L17*0.35 -> 1575 | N21: =N17*0.35 -> 1435 | O21: =O17*0.35 -> 1575 | P21: =P17*0.35 -> 1575
A22: Mnożnik premii miesięcznej Wskaźnika Sprzedaży Marża | B22: =IF(B20<80%,0,IF(B20<90%,0.5,IF(B20<95%,0.75,1))) -> 1 | C22: =IF(C20<80%,0,IF(C20<90%,0.5,IF(C20<95%,0.75,1))) -> 1 | D22: =IF(D20<80%,0,IF(D20<90%,0.5,IF(D20<95%,0.75,1))) -> 1 | F22: =IF(F20<80%,0,IF(F20<90%,0.5,IF(F20<95%,0.75,1))) -> 1 | G22: =IF(G20<80%,0,IF(G20<90%,0.5,IF(G20<95%,0.75,1))) -> 1 | H22: =IF(H20<80%,0,IF(H20<90%,0.5,IF(H20<95%,0.75,1))) -> 1 | J22: =IF(J20<80%,0,IF(J20<90%,0.5,IF(J20<95%,0.75,1))) -> 1 | K22: =IF(K20<80%,0,IF(K20<90%,0.5,IF(K20<95%,0.75,1))) -> 1 | L22: =IF(L20<80%,0,IF(L20<90%,0.5,IF(L20<95%,0.75,1))) -> 1 | N22: =IF(N20<80%,0,IF(N20<90%,0.5,IF(N20<95%,0.75,1))) -> 1 | O22: =IF(O20<80%,0,IF(O20<90%,0.5,IF(O20<95%,0.75,1))) -> 1 | P22: =IF(P20<80%,0,IF(P20<90%,0.5,IF(P20<95%,0.75,1))) -> 1
A23: Premia miesięczna za Wskaźnik Sprzedaży Marża | B23: =B22*B21 -> 1575 | C23: =C22*C21 -> 1575 | D23: =D22*D21 -> 1575 | F23: =F22*F21 -> 1575 | G23: =G22*G21 -> 1575 | H23: =H22*H21 -> 1575 | J23: =J22*J21 -> 1575 | K23: =K22*K21 -> 1575 | L23: =L22*L21 -> 1575 | N23: =N22*N21 -> 1435 | O23: =O22*O21 -> 1575 | P23: =P22*P21 -> 1575
A24: Wskaźnik CRM | N24: 1 | O24: 1 | P24: 1
A25: Wysokość premii CRM | B25: =B17*0.05 -> 225 | C25: =C17*0.05 -> 225 | D25: =D17*0.05 -> 225 | F25: =F17*0.05 -> 225 | G25: =G17*0.05 -> 225 | H25: =H17*0.05 -> 225 | J25: =J17*0.05 -> 225 | K25: =K17*0.05 -> 225 | L25: =L17*0.05 -> 225 | N25: =N17*0.05 -> 205 | O25: =O17*0.05 -> 225 | P25: =P17*0.05 -> 225
A26: Mnożnik premii Wskaźnik CRM | B26: 1 | C26: 1 | D26: 1 | F26: 1 | G26: 1 | H26: 1 | J26: 1 | K26: 1 | L26: 1 | N26: 1 | O26: 1 | P26: 1
A27: Premia miesięczna za Wskaźnik CRM | B27: =B26*B25 -> 225 | C27: =C26*C25 -> 225 | D27: =D26*D25 -> 225 | F27: =F26*F25 -> 225 | G27: =G26*G25 -> 225 | H27: =H26*H25 -> 225 | J27: =J26*J25 -> 225 | K27: =K26*K25 -> 225 | L27: =L26*L25 -> 225 | N27: =N26*N25 -> 205 | O27: =O26*O25 -> 225 | P27: =P26*P25 -> 225
A28: Suma Premii miesięcznych | B28: =B23+B27 -> 1800 | C28: =C23+C27 -> 1800 | D28: =D23+D27 -> 1800 | F28: =F23+F27 -> 1800 | G28: =G23+G27 -> 1800 | H28: =H23+H27 -> 1800 | J28: =J23+J27 -> 1800 | K28: =K23+K27 -> 1800 | L28: =L23+L27 -> 1800 | N28: =N23+N27 -> 1640 | O28: =O23+O27 -> 1800 | P28: =P23+P27 -> 1800 | R28: =SUM(B28:Q28) -> 21440
A29: Wskaźnik Premia Kwartalna Marża | B29: =D5 -> 134000 | F29: =H5 -> 145000 | J29: =L5 -> 137000 | N29: =P5 -> 145000
A30: Realizacja Wskaźnika Premia Kwartalna | B30: =D7 -> 155664.75 | F30: =H7 -> 139147.6 | J30: =L7 -> 144895.2 | N30: =P7 -> 140106.26
A31: Poziom realizacji Wskaźnika Premia Kwartalna | B31: =B30/B29 -> 1.1616773 | F31: =F30/F29 -> 0.95963859 | J31: =J30/J29 -> 1.0576292 | N31: =N30/N29 -> 0.96625006
A32: Wysokość premii kwartalnej. | B32: =D17 -> 4500 | F32: =H17 -> 4500 | J32: =L17 -> 4500 | N32: =P17 -> 4500
A33: Mnożnik premii kwartalnej | B33: =IF(B31<100%,0,IF(B31<105%,0.5,IF(B31<110%,0.7,1))) -> 1 | F33: =IF(F31<100%,0,IF(F31<105%,0.5,IF(F31<110%,0.7,1))) -> 0 | J33: =IF(J31<100%,0,IF(J31<105%,0.5,IF(J31<110%,0.7,1))) -> 0.7 | N33: =IF(N31<100%,0,IF(N31<105%,0.5,IF(N31<110%,0.7,1))) -> 0
A34: Premia kwartalna | B34: =B33*B32 -> 4500 | F34: =F33*F32 -> 0 | J34: =J33*J32 -> 3150 | N34: =N33*N32 -> 0 | R34: =SUM(B34:Q34) -> 7650
A36: Raport za miesiąc: | B36: paździer. | C36: listopad | D36: grudzień | E36: Suma | F36: lipiec | G36: sierpień | H36: wrzesień | I36: Suma | J36: kwiecień | K36: maj | L36: czerwiec | M36: Suma | N36: styczeń | O36: luty | P36: marzec | Q36: Suma | R36: Suma
A37: Ilość nowych Klientów: | B37: 2 | C37: 1 | D37: 1 | E37: =SUM(B37:D37) -> 4 | F37: 5 | G37: 0 | H37: 1 | I37: =SUM(F37:H37) -> 6 | J37: 0 | K37: 1 | L37: 0 | M37: =SUM(J37:L37) -> 1 | N37: 1 | O37: 3 | P37: 2 | Q37: =SUM(N37:P37) -> 6 | R37: =M37+I37+E37+Q37 -> 17
A38: Ilość Podmiotów na etapie współpracy Klient: | B38: 542 | C38: 548 | D38: 552 | F38: 523 | G38: 525 | H38: 533 | J38: 496 | K38: 504 | L38: 509 | N38: 469 | O38: 484 | P38: 489
A39: Ilość Podmiotów na etapie współpracy Handlowy: | B39: 6 | C39: 1 | D39: 4 | F39: 7 | G39: 6 | H39: 5 | J39: 11 | K39: 12 | L39: 10 | N39: 12 | O39: 11 | P39: 12
A40: Ilość Podmiotów na etapie współpracy Klient nieaktywny: | B40: 664 | C40: 660 | D40: 656 | F40: 677 | G40: 676 | H40: 672 | J40: 689 | K40: 685 | L40: 685 | N40: 683 | O40: 675 | P40: 676
A41: Ilość Podmiotów pod opieką: | B41: =SUM(B38:B40) -> 1212 | C41: =SUM(C38:C40) -> 1209 | D41: =SUM(D38:D40) -> 1212 | F41: 1207 | G41: 1207 | H41: 1210 | J41: 1196 | K41: 1201 | L41: 1204 | N41: 1164 | O41: 1170 | P41: 1177
A42: Ilość sprzedanych drukarek: | B42: 4 | C42: 3 | D42: 4 | E42: =SUM(B42:D42) -> 11 | F42: 8 | G42: 2 | H42: 3 | I42: =SUM(F42:H42) -> 13 | J42: 3 | K42: 1 | L42: 7 | M42: =SUM(J42:L42) -> 11 | N42: 3 | O42: 5 | P42: 5 | Q42: =SUM(N42:P42) -> 13 | R42: =M42+I42+E42+Q42 -> 48
A43: Ilość ofert dodanych w danym miesiącu: | B43: 16 | C43: 14 | D43: 17 | E43: =SUM(B43:D43) -> 47 | F43: 10 | G43: 15 | H43: 23 | I43: =SUM(F43:H43) -> 48 | J43: 9 | K43: 9 | L43: 5 | M43: =SUM(J43:L43) -> 23 | N43: 7 | O43: 17 | P43: 11 | Q43: =SUM(N43:P43) -> 35 | R43: =M43+I43+E43+Q43 -> 153
...

Sheet MIRU
A1: Mirosław Zagaja | M1: INDYWIDUALNY PLANY SPRZEDAŻY 2014 Mirosław Zagaja
A2: miesiąc | B2: październik | C2: listopad | D2: grudzień | F2: lipiec | G2: sierpień | H2: wrzesień | J2: kwiecień | K2: maj | L2: czerwiec | M2: styczeń | N2: luty | O2: marzec | P2: KW I | R2: suma
A4: Plan Sprzedaży Marża | B4: ='Target 2021'!L4 -> 34833.333 | C4: ='Target 2021'!M4 -> 38500 | D4: ='Target 2021'!N4 -> 36666.667 | F4: ='Target 2021'!I4 -> 31950 | G4: ='Target 2021'!J4 -> 35500 | H4: ='Target 2021'!K4 -> 39050 | I4: =SUM(F4:H4) -> 106500 | J4: ='Target 2021'!F4 -> 32100 | K4: ='Target 2021'!G4 -> 35666.667 | L4: ='Target 2021'!H4 -> 39233.333 | M4: ='Target 2021'!C4 -> 36000 | N4: ='Target 2021'!D4 -> 40000 | O4: ='Target 2021'!E4 -> 44000 | P4: =SUM(M4:O4) -> 120000 | Q4: =SUM(J4:L4) -> 107000 | R4: =M4+N4+O4+J4+K4+L4+F4+G4+H4+B4+C4+D4 -> 443500
A5: Sumaryczny Plan Sprzedaży Marża | B5: =B4 -> 34833.333 | C5: =C4+B5 -> 73333.333 | D5: =D4+C5 -> 110000 | F5: =F4 -> 31950 | G5: =G4+F5 -> 67450 | H5: =H4+G5 -> 106500 | J5: =J4 -> 32100 | K5: =K4+J5 -> 67766.667 | L5: =L4+K5 -> 107000 | M5: =M4 -> 36000 | N5: =N4+M5 -> 76000 | O5: =O4+N5 -> 120000 | R5: =R6/R4 -> 0.77776451
A6: Miesięczna realizacja Planu Sprzedaży Marża | B6: =SUMIF(X!A:A,$A$1,X!I:I) -> 28885.004 | C6: =SUMIF(XI!A:A,$A$1,XI!I:I) -> 21640.979 | D6: =SUMIF(XII!A:A,$A$1,XII!I:I) -> 55940.227 | F6: =SUMIF(VII!A:A,$A$1,VII!I:I) -> 23588.777 | G6: =SUMIF(VIII!A:A,$A$1,VIII!I:I) -> 31016.723 | H6: =SUMIF(IX!A:A,$A$1,IX!I:I) -> 17085.273 | J6: =SUMIF(IV!A:A,$A$1,IV!I:I) -> 20627.725 | K6: =SUMIF(V!A:A,$A$1,V!I:I) -> 22153.711 | L6: =SUMIF(VI!A:A,$A$1,VI!I:I) -> 34007.383 | M6: =SUMIF(I!A:A,$A$1,I!I:I) -> 26507.623 | N6: =SUMIF(II!A:A,$A$1,II!I:I) -> 29745.588 | O6: =SUMIF(III!A:A,$A$1,III!I:I) -> 33739.547 | P6: =SUM(M6:O6) -> 89992.758 | R6: =M6+N6+O6+J6+K6+L6+F6+G6+H6+B6+C6+D6 -> 344938.56
A7: Sumaryczna realizacja planu sprzedaży Marża | B7: =B6 -> 28885.004 | C7: =C6+B7 -> 50525.982 | D7: =D6+C7 -> 106466.21 | F7: =F6 -> 23588.777 | G7: =G6+F7 -> 54605.5 | H7: =H6+G7 -> 71690.773 | J7: =J6 -> 20627.725 | K7: =K6+J7 -> 42781.435 | L7: =L6+K7 -> 76788.818 | M7: =M6 -> 26507.623 | N7: =N6+M7 -> 56253.211 | O7: =O6+N7 -> 89992.758
A8: Wysokość zrealizowania Miesięcznego Planu Sprzedaży Marża | B8: =B6/B4 -> 0.82923456 | C8: =C6/C4 -> 0.56210334 | D8: =D6/D4 -> 1.5256425 | F8: =F6/F4 -> 0.73830289 | G8: =G6/G4 -> 0.8737105 | H8: =H6/H4 -> 0.43752301 | J8: =J6/J4 -> 0.64260824 | K8: =K6/K4 -> 0.62113208 | L8: =L6/L4 -> 0.8667982 | M8: =M6/M4 -> 0.73632286 | N8: =N6/N4 -> 0.7436397 | O8: =O6/O4 -> 0.76680788
A9: Wysokość zrealizowania Planu Sprzedaży Marża | B9: =B7/B5 -> 0.82923456 | C9: =C7/C5 -> 0.68899067 | D9: =D7/D5 -> 0.96787463 | F9: =F7/F5 -> 0.73830289 | G9: =G7/G5 -> 0.80957005 | H9: =H7/H5 -> 0.6731528 | J9: =J7/J5 -> 0.64260824 | K9: =K7/K5 -> 0.631305 | L9: =L7/L5 -> 0.71765251 | M9: =M7/M5 -> 0.73632286 | N9: =N7/N5 -> 0.74017383 | O9: =O7/O5 -> 0.74993965
A10: Różnica wskaźnika Marża | B10: =B7-B5 -> -5948.3294 | C10: =C7-C5 -> -22807.351 | D10: =D7-D5 -> -3533.791 | F10: =F7-F5 -> -8361.2227 | G10: =G7-G5 -> -12844.5 | H10: =H7-H5 -> -34809.227 | J10: =J7-J5 -> -11472.275 | K10: =K7-K5 -> -24985.231 | L10: =L7-L5 -> -30211.182 | M10: =M7-M5 -> -9492.377 | N10: =N7-N5 -> -19746.789 | O10: =O7-O5 -> -30007.242
A11: Miesięczny Obrót | B11: =SUMIF(X!A:A,$A$1,X!G:G) -> 109943.29 | C11: =SUMIF(XI!A:A,$A$1,XI!G:G) -> 73362.039 | D11: =SUMIF(XII!A:A,$A$1,XII!G:G) -> 173449.56 | F11: =SUMIF(VII!A:A,$A$1,VII!G:G) -> 82455.609 | G11: =SUMIF(VIII!A:A,$A$1,VIII!G:G) -> 99166.57 | H11: =SUMIF(IX!A:A,$A$1,IX!G:G) -> 62456.172 | J11: =SUMIF(IV!A:A,$A$1,IV!G:G) -> 68708.82 | K11: =SUMIF(V!A:A,$A$1,V!G:G) -> 89520.273 | L11: =SUMIF(VI!A:A,$A$1,VI!G:G) -> 95160.406 | M11: =SUMIF(I!A:A,$A$1,I!G:G) -> 83877.383 | N11: =SUMIF(II!A:A,$A$1,II!G:G) -> 98597.656 | O11: =SUMIF(III!A:A,$A$1,III!G:G) -> 114692.55 | P11: =SUM(M11:O11) -> 297167.59 | R11: =SUM(M11:P11) -> 594335.17
A12: Sumaryczny Obrót | B12: =B11 -> 109943.29 | C12: =C11+B12 -> 183305.33 | D12: =D11+C12 -> 356754.89 | F12: =F11 -> 82455.609 | G12: =G11+F12 -> 181622.18 | H12: =H11+G12 -> 244078.35 | J12: =J11 -> 68708.82 | K12: =K11+J12 -> 158229.09 | L12: =L11+K12 -> 253389.5 | M12: =M11 -> 83877.383 | N12: =N11+M12 -> 182475.04 | O12: =O11+N12 -> 297167.59
A13: Wysokość Marży miesięcznej | B13: =B6/B11 -> 0.26272639 | C13: =C6/C11 -> 0.29498878 | D13: =D6/D11 -> 0.32251581 | F13: =F6/F11 -> 0.2860785 | G13: =G6/G11 -> 0.31277398 | H13: =H6/H11 -> 0.27355621 | J13: =J6/J11 -> 0.30021946 | K13: =K6/K11 -> 0.24747144 | L13: =L6/L11 -> 0.35736904 | M13: =M6/M11 -> 0.31602826 | N13: =N6/N11 -> 0.30168656 | O13: =O6/O11 -> 0.29417384
A14: Wysokość Marży sumarycznej | B14: =B7/B12 -> 0.26272639 | C14: =C7/C12 -> 0.27563837 | D14: =D7/D12 -> 0.29842957 | F14: =F7/F12 -> 0.2860785 | G14: =G7/G12 -> 0.30065436 | H14: =H7/H12 -> 0.29372033 | J14: =J7/J12 -> 0.30021946 | K14: =K7/K12 -> 0.27037654 | L14: =L7/L12 -> 0.30304657 | M14: =M7/M12 -> 0.31602826 | N14: =N7/N12 -> 0.30827894 | O14: =O7/O12 -> 0.30283504
A16: Raport za miesiąc: | B16: paździer. | C16: listopad | D16: grudzień | E16: Suma | F16: lipiec | G16: sierpień | H16: wrzesień | I16: Suma | J16: kwiecień | K16: maj | L16: czerwiec | M16: styczeń | N16: luty | O16: marzec | P16: Suma | Q16: Suma | R16: Suma
A17: Ilość nowych Klientów: | B17: 0 | C17: 0 | D17: 0 | E17: =SUM(B17:D17) -> 0 | F17: 0 | G17: 0 | H17: 0 | I17: =SUM(F17:H17) -> 0 | J17: 0 | K17: 0 | L17: 0 | M17: 0 | N17: 0 | O17: 0 | P17: =SUM(M17:O17) -> 0 | Q17: =SUM(J17:L17) -> 0 | R17: =Q17+I17+E17+P17 -> 0
A18: Ilość Podmiotów na etapie współpracy Klient: | B18: 28 | C18: 28 | D18: 28 | F18: 28 | G18: 28 | H18: 28 | J18: 28 | K18: 28 | L18: 28 | M18: 30 | N18: 30 | O18: 29
A19: Ilość Podmiotów na etapie współpracy Handlowy: | B19: 0 | C19: 0 | D19: 0 | F19: 0 | G19: 0 | H19: 0 | J19: 0 | K19: 0 | L19: 0 | M19: 0 | N19: 0 | O19: 0
A20: Ilość Podmiotów na etapie współpracy Klient nieaktywny: | B20: 0 | C20: 0 | D20: 0 | F20: 0 | G20: 0 | H20: 0 | J20: 0 | K20: 0 | L20: 0 | M20: 0 | N20: 0 | O20: 0
A21: Ilość Podmiotów pod opieką: | B21: =SUM(B17:B20) -> 28 | C21: =SUM(C17:C20) -> 28 | D21: =SUM(D17:D20) -> 28 | F21: 28 | G21: 28 | H21: 28 | J21: 28 | K21: 28 | L21: 28 | M21: 30 | N21: 30 | O21: 29
A22: Ilość sprzedanych drukarek: | B22: 0 | C22: 14 | D22: 0 | E22: =SUM(B22:D22) -> 14 | F22: 1 | G22: 0 | H22: 1 | I22: =SUM(F22:H22) -> 2 | J22: 0 | K22: 0 | L22: 0 | M22: 0 | N22: 0 | O22: 1 | P22: =SUM(M22:O22) -> 1 | Q22: =SUM(J22:L22) -> 0 | R22: =Q22+I22+E22+P22 -> 17
A23: Ilość ofert dodanych w danym miesiącu: | B23: 9 | C23: 13 | D23: 2 | E23: =SUM(B23:D23) -> 24 | F23: 6 | G23: 11 | H23: 4 | I23: =SUM(F23:H23) -> 21 | J23: 5 | K23: 3 | L23: 4 | M23: 8 | N23: 3 | O23: 4 | P23: =SUM(M23:O23) -> 15 | Q23: =SUM(J23:L23) -> 12 | R23: =Q23+I23+E23+P23 -> 72
A24: Ilość ofert oczekujących na decyzję kontrahenta: | B24: 2 | C24: 4 | D24: 0 | F24: 2 | G24: 4 | H24: 2 | J24: 2 | K24: 3 | L24: 1 | M24: 5 | N24: 2 | O24: 2
A25: Ilość zaakceptowanych ofert przez kontrahenta: | B25: 7 | C25: 7 | D25: 6 | E25: =SUM(B25:D25) -> 20 | F25: 4 | G25: 2 | H25: 4 | I25: =SUM(F25:H25) -> 10 | J25: 4 | K25: 1 | L25: 1 | M25: 3 | N25: 3 | O25: 3 | P25: =SUM(M25:O25) -> 9 | Q25: =SUM(J25:L25) -> 6 | R25: =Q25+I25+E25+P25 -> 45
A26: Ilość odrzuconych ofert przez kontrahenta: | B26: 4 | C26: 4 | D26: 0 | E26: =SUM(B26:D26) -> 8 | F26: 4 | G26: 4 | H26: 3 | I26: =SUM(F26:H26) -> 11 | J26: 1 | K26: 1 | L26: 2 | M26: 4 | N26: 1 | O26: 5 | P26: =SUM(M26:O26) -> 10 | Q26: =SUM(J26:L26) -> 4 | R26: =Q26+I26+E26+P26 -> 33
A27: Ilość przekazanych podmiotów: | B27: 0 | C27: 0 | D27: 0 | E27: =SUM(B27:D27) -> 0 | F27: 0 | G27: 0 | H27: 0 | I27: =SUM(F27:H27) -> 0 | J27: 0 | K27: 0 | L27: 0 | M27: 0 | N27: 0 | O27: 0 | P27: =SUM(M27:O27) -> 0 | Q27: =SUM(J27:L27) -> 0 | R27: =Q27+I27+E27+P27 -> 0
A28: Ilość odebranych podmiotów (zmiana prowadzącego): | B28: 1 | C28: 0 | D28: 0 | E28: =SUM(B28:D28) -> 1 | F28: 0 | G28: 0 | H28: 0 | I28: =SUM(F28:H28) -> 0 | J28: 0 | K28: 0 | L28: 0 | M28: 0 | N28: 0 | O28: 0 | P28: =SUM(M28:O28) -> 0 | Q28: =SUM(J28:L28) -> 0 | R28: =Q28+I28+E28+P28 -> 1
A29: Ilość spotkań z Klientami: | B29: 0 | C29: 1 | D29: 1 | E29: =SUM(B29:D29) -> 2 | F29: 0 | G29: 2 | H29: 0 | I29: =SUM(F29:H29) -> 2 | J29: 1 | K29: 0 | L29: 4 | M29: 0 | N29: 1 | O29: 0 | P29: =SUM(M29:O29) -> 1 | Q29: =SUM(J29:L29) -> 5 | R29: =Q29+I29+E29+P29 -> 10
A30: Ilość aktualnie otwartych wdrożeń: | B30: 9 | C30: 8 | D30: 6 | F30: 12 | G30: 10 | H30: 9 | J30: 9 | K30: 9 | L30: 10 | M30: 12 | N30: 11 | O30: 9
A31: Ilość wdrożeń dodanych w danym miesiącu: | B31: 0 | C31: 2 | D31: 4 | E31: =SUM(B31:D31) -> 6 | F31: 3 | G31: 0 | H31: 2 | I31: =SUM(F31:H31) -> 5 | J31: 0 | K31: 0 | L31: 1 | M31: 0 | N31: 0 | O31: 0 | P31: =SUM(M31:O31) -> 0 | Q31: =SUM(J31:L31) -> 1 | R31: =Q31+I31+E31+P31 -> 12
A32: Ilość wdrożeń zamkniętych pozytywnie w danym mcu: | B32: 0 | C32: 3 | D32: 5 | E32: =SUM(B32:D32) -> 8 | F32: 0 | G32: 1 | H32: 2 | I32: =SUM(F32:H32) -> 3 | J32: 0 | K32: 0 | L32: 0 | M32: 0 | N32: 1 | O32: 0 | P32: =SUM(M32:O32) -> 1 | Q32: =SUM(J32:L32) -> 0 | R32: =Q32+I32+E32+P32 -> 12
A33: Ilość wdrożeń zamkniętych negatywnie w danym mcu: | B33: 0 | C33: 1 | D33: 0 | E33: =SUM(B33:D33) -> 1 | F33: 1 | G33: 1 | H33: 0 | I33: =SUM(F33:H33) -> 2 | J33: 0 | K33: 0 | L33: 0 | M33: 0 | N33: 0 | O33: 0 | P33: =SUM(M33:O33) -> 0 | Q33: =SUM(J33:L33) -> 0 | R33: =Q33+I33+E33+P33 -> 3
A34: Ilość aktualnie odłożonych wdrożeń: | B34: 0 | C34: 0 | D34: 0 | F34: 0 | G34: 0 | H34: 0 | J34: 0 | K34: 0 | L34: 0 | M34: 0 | N34: 0 | O34: 0

Sheet BARTEK
A1: Bartłomiej Biskupski | B1: PLAN IV KW BARTŁOMIEJ BISKUPSKI | F1: PLAN III KW BARTŁOMIEJ BISKUPSKI | J1: PLAN II KW BARTŁOMIEJ BISKUPSKI | N1: PLAN I KW BARTŁOMIEJ BISKUPSKI
A2: miesiąc | B2: październik | C2: listopad | D2: grudzień | E2: KW IV | F2: lipiec | G2: sierpień | H2: wrzesień | I2: KW III | J2: kwiecień | K2: maj | L2: czerwiec | M2: KW II | N2: styczeń | O2: luty | P2: marzec | Q2: KW I | R2: suma ROK
A4: Plan Sprzedaży Marża | B4: ='Target 2021'!L7 -> 60166.667 | C4: ='Target 2021'!M7 -> 66500 | D4: ='Target 2021'!N7 -> 63333.333 | E4: =SUM(B4:D4) -> 190000 | F4: ='Target 2021'!I7 -> 63000 | G4: ='Target 2021'!J7-4000 -> 66000 | H4: ='Target 2021'!K7+3000+4000 -> 84000 | I4: =SUM(F4:H4) -> 213000 | J4: ='Target 2021'!F7 -> 61500 | K4: ='Target 2021'!G7 -> 68333.333 | L4: ='Target 2021'!H7-4000 -> 71166.667 | M4: =SUM(J4:L4) -> 201000 | N4: ='Target 2021'!C7-6700 -> 54500 | O4: ='Target 2021'!D7-5000 -> 63000 | P4: ='Target 2021'!E7+6700+5000 -> 86500 | Q4: =SUM(N4:P4) -> 204000 | R4: =Q4+M4+I4+E4 -> 808000
A5: Sumaryczny Plan Sprzedaży Marża | B5: =B4 -> 60166.667 | C5: =C4+B5 -> 126666.67 | D5: =D4+C5 -> 190000 | F5: =F4 -> 63000 | G5: =G4+F5 -> 129000 | H5: =H4+G5 -> 213000 | J5: =J4 -> 61500 | K5: =K4+J5 -> 129833.33 | L5: =L4+K5 -> 201000 | N5: =N4 -> 54500 | O5: =O4+N5 -> 117500 | P5: =P4+O5 -> 204000 | R5: =R6/R4 -> 0.92169753
A6: Miesięczna realizacja Planu Sprzedaży Marża | B6: =SUMIF(X!A:A,$A$1,X!I:I) -> 58474.131 | C6: =SUMIF(XI!A:A,$A$1,XI!I:I) -> 70566.398 | D6: =SUMIF(XII!A:A,$A$1,XII!I:I) -> 68388.283 | E6: =SUM(B6:D6) -> 197428.81 | F6: =SUMIF(VII!A:A,$A$1,VII!I:I) -> 67795.89 | G6: =SUMIF(VIII!A:A,$A$1,VIII!I:I) -> 55693.687 | H6: =SUMIF(IX!A:A,$A$1,IX!I:I) -> 79028.11 | I6: =SUM(F6:H6) -> 202517.69 | J6: =SUMIF(IV!A:A,$A$1,IV!I:I) -> 68381.764 | K6: =SUMIF(V!A:A,$A$1,V!I:I) -> 67462.391 | L6: =SUMIF(VI!A:A,$A$1,VI!I:I) -> 45131.943 | M6: =SUM(J6:L6) -> 180976.1 | N6: =SUMIF(I!A:A,$A$1,I!I:I) -> 49214.051 | O6: =SUMIF(II!A:A,$A$1,II!I:I) -> 46091.911 | P6: =SUMIF(III!A:A,$A$1,III!I:I) -> 68503.047 | Q6: =SUM(N6:P6) -> 163809.01 | R6: =Q6+M6+I6+E6 -> 744731.61
A7: Sumaryczna realizacja planu sprzedaży Marża | B7: =B6 -> 58474.131 | C7: =C6+B7 -> 129040.53 | D7: =D6+C7 -> 197428.81 | F7: =F6 -> 67795.89 | G7: =G6+F7 -> 123489.58 | H7: =H6+G7 -> 202517.69 | J7: =J6 -> 68381.764 | K7: =K6+J7 -> 135844.15 | L7: =L6+K7 -> 180976.1 | N7: =N6 -> 49214.051 | O7: =O6+N7 -> 95305.962 | P7: =P6+O7 -> 163809.01
A8: Wysokość zrealizowania Miesięcznego Planu Sprzedaży Marża | B8: =B6/B4 -> 0.97186921 | C8: =C6/C4 -> 1.0611488 | D8: =D6/D4 -> 1.079815 | E8: =E4*1.05 -> 199500 | F8: =F6/F4 -> 1.0761252 | G8: =G6/G4 -> 0.84384374 | H8: =H6/H4 -> 0.94081084 | J8: =J6/J4 -> 1.1118986 | K8: =K6/K4 -> 0.9872545 | L8: =L6/L4 -> 0.63417251 | N8: =N6/N4 -> 0.90301011 | O8: =O6/O4 -> 0.73161763 | P8: =P6/P4 -> 0.79194274 | Q8: =N5*0.9 -> 49050
A9: Wysokość zrealizowania Planu Sprzedaży Marża | B9: =B7/B5 -> 0.97186921 | C9: =C7/C5 -> 1.018741 | D9: =D7/D5 -> 1.039099 | E9: =E8-E6 -> 2071.1879 | F9: =F7/F5 -> 1.0761252 | G9: =G7/G5 -> 0.95728354 | H9: =H7/H5 -> 0.95078726 | J9: =J7/J5 -> 1.1118986 | K9: =K7/K5 -> 1.0462964 | L9: =L7/L5 -> 0.9003786 | N9: =N7/N5 -> 0.90301011 | O9: =O7/O5 -> 0.81111457 | P9: =P7/P5 -> 0.80298534
A10: Różnica wskaźnika Marża | B10: =B7-B5 -> -1692.5361 | C10: =C7-C5 -> 2373.8623 | D10: =D7-D5 -> 7428.8121 | F10: =F7-F5 -> 4795.8897 | G10: =G7-G5 -> -5510.4236 | H10: =H7-H5 -> -10482.313 | J10: =J7-J5 -> 6881.7638 | K10: =K7-K5 -> 6010.8211 | L10: =L7-L5 -> -20023.902 | N10: =N7-N5 -> -5285.9492 | O10: =O7-O5 -> -22194.038 | P10: =P7-P5 -> -40190.992
A11: Miesięczny Obrót | B11: =SUMIF(X!A:A,$A$1,X!G:G) -> 169157.69 | C11: =SUMIF(XI!A:A,$A$1,XI!G:G) -> 167411.38 | D11: =SUMIF(XII!A:A,$A$1,XII!G:G) -> 215811.16 | E11: =SUM(B11:D11) -> 552380.22 | F11: =SUMIF(VII!A:A,$A$1,VII!G:G) -> 214979.72 | G11: =SUMIF(VIII!A:A,$A$1,VIII!G:G) -> 246649.64 | H11: =SUMIF(IX!A:A,$A$1,IX!G:G) -> 222187.92 | I11: =SUM(F11:H11) -> 683817.28 | J11: =SUMIF(IV!A:A,$A$1,IV!G:G) -> 177010.75 | K11: =SUMIF(V!A:A,$A$1,V!G:G) -> 238140.2 | L11: =SUMIF(VI!A:A,$A$1,VI!G:G) -> 140238.08 | M11: =SUM(J11:L11) -> 555389.03 | N11: =SUMIF(I!A:A,$A$1,I!G:G) -> 153605.17 | O11: =SUMIF(II!A:A,$A$1,II!G:G) -> 141858.27 | P11: =SUMIF(III!A:A,$A$1,III!G:G) -> 200199.95 | Q11: =SUM(N11:P11) -> 495663.39 | R11: =Q11+M11+I11+E11 -> 2287249.9
A12: Sumaryczny Obrót | B12: =B11 -> 169157.69 | C12: =C11+B12 -> 336569.06 | D12: =D11+C12 -> 552380.22 | F12: =F11 -> 214979.72 | G12: =G11+F12 -> 461629.36 | H12: =H11+G12 -> 683817.28 | J12: =J11 -> 177010.75 | K12: =K11+J12 -> 415150.95 | L12: =L11+K12 -> 555389.03 | N12: =N11 -> 153605.17 | O12: =O11+N12 -> 295463.44 | P12: =P11+O12 -> 495663.39
A13: Wysokość Marży miesięcznej | B13: =B6/B11 -> 0.34567823 | C13: =C6/C11 -> 0.42151496 | D13: =D6/D11 -> 0.31688947 | F13: =F6/F11 -> 0.31535947 | G13: =G6/G11 -> 0.2258008 | H13: =H6/H11 -> 0.3556814 | J13: =J6/J11 -> 0.38631419 | K13: =K6/K11 -> 0.28328854 | L13: =L6/L11 -> 0.32182374 | N13: =N6/N11 -> 0.32039319 | O13: =O6/O11 -> 0.32491523 | P13: =P6/P11 -> 0.34217314
A14: Wysokość Marży sumarycznej | B14: =B7/B12 -> 0.34567823 | C14: =C7/C12 -> 0.38339985 | D14: =D7/D12 -> 0.3574147 | F14: =F7/F12 -> 0.31535947 | G14: =G7/G12 -> 0.26750806 | H14: =H7/H12 -> 0.2961576 | J14: =J7/J12 -> 0.38631419 | K14: =K7/K12 -> 0.32721629 | L14: =L7/L12 -> 0.32585465 | N14: =N7/N12 -> 0.32039319 | O14: =O7/O12 -> 0.32256432 | P14: =P7/P12 -> 0.33048438
N16: PREMIE
A17: Wynagrodzenie zasadnicze | B17: 5000 | C17: 5000 | D17: 5000 | F17: 5000 | G17: 5000 | H17: 5000 | J17: 5000 | K17: 5000 | L17: 5000 | N17: 4600 | O17: 5000 | P17: 5000
A18: Wskaźnik Plan Sprzedaży Marża | B18: =B5 -> 60166.667 | C18: =C5 -> 126666.67 | D18: =D5 -> 190000 | F18: =F5 -> 63000 | G18: =G5 -> 129000 | H18: =H5 -> 213000 | J18: =J5 -> 61500 | K18: =K5 -> 129833.33 | L18: =L5 -> 201000 | N18: =N5 -> 54500 | O18: =O5 -> 117500 | P18: =P5 -> 204000
A19: Realizacja Wskaźnika Planu Sprzedaży Marża | B19: =B7 -> 58474.131 | C19: =C7 -> 129040.53 | D19: =D7 -> 197428.81 | F19: =F7 -> 67795.89 | G19: =G7 -> 123489.58 | H19: =H7 -> 202517.69 | J19: =J7 -> 68381.764 | K19: =K7 -> 135844.15 | L19: =L7 -> 180976.1 | N19: =N7 -> 49214.051 | O19: =O7 -> 95305.962 | P19: =P7 -> 163809.01
A20: Poziom realizacji Wskaźnika Sprzedaży Marża | B20: =B19/B18 -> 0.97186921 | C20: =C19/C18 -> 1.018741 | D20: =D19/D18 -> 1.039099 | F20: =F19/F18 -> 1.0761252 | G20: =G19/G18 -> 0.95728354 | H20: =H19/H18 -> 0.95078726 | J20: =J19/J18 -> 1.1118986 | K20: =K19/K18 -> 1.0462964 | L20: =L19/L18 -> 0.9003786 | N20: =N19/N18 -> 0.90301011 | O20: =O19/O18 -> 0.81111457 | P20: =P19/P18 -> 0.80298534
A21: Wysokość premii Wskaźnik Sprzedaży Marża | B21: =B17*0.35 -> 1750 | C21: =C17*0.35 -> 1750 | D21: =D17*0.35 -> 1750 | F21: =F17*0.35 -> 1750 | G21: =G17*0.35 -> 1750 | H21: =H17*0.35 -> 1750 | J21: =J17*0.35 -> 1750 | K21: =K17*0.35 -> 1750 | L21: =L17*0.35 -> 1750 | N21: =N17*0.35 -> 1610 | O21: =O17*0.35 -> 1750 | P21: =P17*0.35 -> 1750
A22: Mnożnik premii miesięcznej Wskaźnika Sprzedaży Marża | B22: =IF(B20<80%,0,IF(B20<90%,0.5,IF(B20<95%,0.75,1))) -> 1 | C22: =IF(C20<80%,0,IF(C20<90%,0.5,IF(C20<95%,0.75,1))) -> 1 | D22: =IF(D20<80%,0,IF(D20<90%,0.5,IF(D20<95%,0.75,1))) -> 1 | F22: =IF(F20<80%,0,IF(F20<90%,0.5,IF(F20<95%,0.75,1))) -> 1 | G22: =IF(G20<80%,0,IF(G20<90%,0.5,IF(G20<95%,0.75,1))) -> 1 | H22: =IF(H20<80%,0,IF(H20<90%,0.5,IF(H20<95%,0.75,1))) -> 1 | J22: =IF(J20<80%,0,IF(J20<90%,0.5,IF(J20<95%,0.75,1))) -> 1 | K22: =IF(K20<80%,0,IF(K20<90%,0.5,IF(K20<95%,0.75,1))) -> 1 | L22: =IF(L20<80%,0,IF(L20<90%,0.5,IF(L20<95%,0.75,1))) -> 0.75 | N22: =IF(N20<80%,0,IF(N20<90%,0.5,IF(N20<95%,0.75,1))) -> 0.75 | O22: =IF(O20<80%,0,IF(O20<90%,0.5,IF(O20<95%,0.75,1))) -> 0.5 | P22: =IF(P20<80%,0,IF(P20<90%,0.5,IF(P20<95%,0.75,1))) -> 0.5
A23: Premia miesięczna za Wskaźnik Sprzedaży Marża | B23: =B22*B21 -> 1750 | C23: =C22*C21 -> 1750 | D23: =D22*D21 -> 1750 | F23: =F22*F21 -> 1750 | G23: =G22*G21 -> 1750 | H23: =H22*H21 -> 1750 | J23: =J22*J21 -> 1750 | K23: =K22*K21 -> 1750 | L23: =L22*L21 -> 1312.5 | N23: =N22*N21 -> 1207.5 | O23: =O22*O21 -> 875 | P23: =P22*P21 -> 875
A24: Wskaźnik CRM | B24: 1 | C24: 1 | D24: 1 | F24: 1 | G24: 1 | H24: 1 | J24: 1 | K24: 1 | L24: 1 | N24: 1 | O24: 1 | P24: 1
A25: Wysokość premii CRM | B25: =B17*0.05 -> 250 | C25: =C17*0.05 -> 250 | D25: =D17*0.05 -> 250 | F25: =F17*0.05 -> 250 | G25: =G17*0.05 -> 250 | H25: =H17*0.05 -> 250 | J25: =J17*0.05 -> 250 | K25: =K17*0.05 -> 250 | L25: =L17*0.05 -> 250 | N25: =N17*0.05 -> 230 | O25: =O17*0.05 -> 250 | P25: =P17*0.05 -> 250
A26: Mnożnik premii Wskaźnik CRM | B26: 1 | C26: 1 | D26: 1 | F26: 1 | G26: 1 | H26: 1 | J26: 0.5 | K26: 1 | L26: 1 | N26: 1 | O26: 1 | P26: 0.5
A27: Premia miesięczna za Wskaźnik CRM | B27: =B26*B25 -> 250 | C27: =C26*C25 -> 250 | D27: =D26*D25 -> 250 | F27: =F26*F25 -> 250 | G27: =G26*G25 -> 250 | H27: =H26*H25 -> 250 | J27: =J26*J25 -> 125 | K27: =K26*K25 -> 250 | L27: =L26*L25 -> 250 | N27: =N26*N25 -> 230 | O27: =O26*O25 -> 250 | P27: =P26*P25 -> 125
A28: Suma Premii miesięcznych | B28: =B23+B27 -> 2000 | C28: =C23+C27 -> 2000 | D28: =D23+D27 -> 2000 | F28: =F23+F27 -> 2000 | G28: =G23+G27 -> 2000 | H28: =H23+H27 -> 2000 | J28: =J23+J27 -> 1875 | K28: =K23+K27 -> 2000 | L28: =L23+L27 -> 1562.5 | N28: =N23+N27 -> 1437.5 | O28: =O23+O27 -> 1125 | P28: =P23+P27 -> 1000 | R28: =SUM(B28:P28) -> 21000
A29: Wskaźnik Premia Kwartalna Marża | B29: =D5 -> 190000 | F29: =H5 -> 213000 | J29: =L5 -> 201000 | N29: =P5 -> 204000
A30: Realizacja Wskaźnika Premia Kwartalna | B30: =D7 -> 197428.81 | F30: =H7 -> 202517.69 | J30: =L7 -> 180976.1 | N30: =P7 -> 163809.01
A31: Poziom realizacji Wskaźnika Premia Kwartalna | B31: =B30/B29 -> 1.039099 | F31: =F30/F29 -> 0.95078726 | J31: =J30/J29 -> 0.9003786 | N31: =N30/N29 -> 0.80298534
A32: Wysokość premii kwartalnej. | B32: =D17 -> 5000 | F32: =H17 -> 5000 | J32: =L17 -> 5000 | N32: =P17 -> 5000
A33: Mnożnik premii kwartalnej | B33: =IF(B31<100%,0,IF(B31<105%,0.5,IF(B31<110%,0.7,1))) -> 0.5 | F33: =IF(F31<100%,0,IF(F31<105%,0.5,IF(F31<110%,0.7,1))) -> 0 | J33: =IF(J31<100%,0,IF(J31<105%,0.5,IF(J31<110%,0.7,1))) -> 0 | N33: =IF(N31<100%,0,IF(N31<105%,0.5,IF(N31<110%,0.7,1))) -> 0
A34: Premia kwartalna | B34: =B33*B32 -> 2500 | F34: =F33*F32 -> 0 | J34: =J33*J32 -> 0 | N34: =N33*N32 -> 0 | R34: =SUM(B34:P34) -> 2500
A36: Raport za miesiąc: | B36: paździer. | C36: listopad | D36: grudzień | E36: Suma | F36: lipiec | G36: sierpień | H36: wrzesień | I36: Suma | J36: kwiecień | K36: maj | L36: czerwiec | M36: Suma | N36: styczeń | O36: luty | P36: marzec | Q36: Suma | R36: Suma
A37: Ilość nowych Klientów: | B37: 1 | C37: 0 | D37: 1 | E37: =SUM(B37:D37) -> 2 | F37: 4 | G37: 1 | H37: 2 | I37: =SUM(F37:H37) -> 7 | J37: 0 | K37: 0 | L37: 0 | M37: =SUM(J37:L37) -> 0 | N37: 1 | O37: 1 | P37: 0 | Q37: =SUM(N37:P37) -> 2 | R37: =M37+I37+E37+Q37 -> 11
A38: Ilość Podmiotów na etapie współpracy Klient: | B38: 83 | C38: 84 | D38: 85 | F38: 77 | G38: 79 | H38: 81 | J38: 73 | K38: 73 | L38: 73 | N38: 67 | O38: 69 | P38: 71
A39: Ilość Podmiotów na etapie współpracy Handlowy: | B39: 9 | C39: 12 | D39: 11 | F39: 24 | G39: 25 | H39: 20 | J39: 18 | K39: 22 | L39: 25 | N39: 18 | O39: 17 | P39: 17
A40: Ilość Podmiotów na etapie współpracy Klient nieaktywny: | B40: 11 | C40: 9 | D40: 9 | F40: 24 | G40: 23 | H40: 23 | J40: 21 | K40: 22 | L40: 23 | N40: 22 | O40: 21 | P40: 22
A41: Ilość Podmiotów pod opieką: | B41: =SUM(B38:B40) -> 103 | C41: =SUM(C38:C40) -> 105 | D41: =SUM(D38:D40) -> 105 | F41: 125 | G41: 127 | H41: 124 | J41: 112 | K41: 117 | L41: 121 | N41: 107 | O41: 107 | P41: 110
A42: Ilość sprzedanych drukarek: | B42: 2 | C42: 1 | D42: 5 | E42: =SUM(B42:D42) -> 8 | F42: 4 | G42: 20 | H42: 1 | I42: =SUM(F42:H42) -> 25 | J42: 1 | K42: 0 | L42: 1 | M42: =SUM(J42:L42) -> 2 | N42: 2 | O42: 1 | P42: 2 | Q42: =SUM(N42:P42) -> 5 | R42: =M42+I42+E42+Q42 -> 40
A43: Ilość ofert dodanych w danym miesiącu: | B43: 19 | C43: 19 | D43: 30 | E43: =SUM(B43:D43) -> 68 | F43: 27 | G43: 19 | H43: 20 | I43: =SUM(F43:H43) -> 66 | J43: 39 | K43: 23 | L43: 32 | M43: =SUM(J43:L43) -> 94 | N43: 32 | O43: 42 | P43: 39 | Q43: =SUM(N43:P43) -> 113 | R43: =M43+I43+E43+Q43 -> 341
...

Sheet PIOTR
A1: Piotr Choma | B1: PLAN IV KW Piotr Choma | F1: PLAN III KW Piotr Choma | J1: PLAN II KW Piotr Choma | N1: PLAN I KW Piotr Choma
A2: miesiąc | B2: październik | C2: listopad | D2: grudzień | E2: KW IV | F2: lipiec | G2: sierpień | H2: wrzesień | I2: KW III | J2: kwiecień | K2: maj | L2: czerwiec | M2: KW II | N2: styczeń | O2: luty | P2: marzec | Q2: KW I | R2: suma ROK
A4: Plan Sprzedaży Marża | B4: ='Target 2021'!L8-12000 -> 68750 | C4: ='Target 2021'!M8-23000 -> 66250 | D4: ='Target 2021'!N8+12000+23000 -> 120000 | E4: =SUM(B4:D4) -> 255000 | F4: ='Target 2021'!I8 -> 70500 | G4: ='Target 2021'!J8-1000 -> 77333.333 | H4: ='Target 2021'!K8+5000+1000 -> 92166.667 | I4: =SUM(F4:H4) -> 240000 | J4: ='Target 2021'!F8 -> 73500 | K4: ='Target 2021'!G8-2000 -> 79666.667 | L4: ='Target 2021'!H8+2000-5000 -> 86833.333 | M4: =SUM(J4:L4) -> 240000 | N4: ='Target 2021'!C8 -> 71400 | O4: ='Target 2021'!D8 -> 79333.333 | P4: ='Target 2021'!E8 -> 87266.667 | Q4: =SUM(N4:P4) -> 238000 | R4: =Q4+M4+I4+E4 -> 973000
A5: Sumaryczny Plan Sprzedaży Marża | B5: =B4 -> 68750 | C5: =C4+B5 -> 135000 | D5: =D4+C5 -> 255000 | F5: =F4 -> 70500 | G5: =G4+F5 -> 147833.33 | H5: =H4+G5 -> 240000 | J5: =J4 -> 73500 | K5: =K4+J5 -> 153166.67 | L5: =L4+K5 -> 240000 | N5: =N4 -> 71400 | O5: =O4+N5 -> 150733.33 | P5: =P4+O5 -> 238000 | R5: =R6/R4 -> 0.91521475
A6: Miesięczna realizacja Planu Sprzedaży Marża | B6: =SUMIF(X!A:A,$A$1,X!I:I) -> 62422.597 | C6: =SUMIF(XI!A:A,$A$1,XI!I:I) -> 66483.164 | D6: =SUMIF(XII!A:A,$A$1,XII!I:I) -> 116592.61 | E6: =SUM(B6:D6) -> 245498.37 | F6: =SUMIF(VII!A:A,$A$1,VII!I:I) -> 71647.117 | G6: =SUMIF(VIII!A:A,$A$1,VIII!I:I) -> 61722.895 | H6: =SUMIF(IX!A:A,$A$1,IX!I:I) -> 60502.816 | I6: =SUM(F6:H6) -> 193872.83 | J6: =SUMIF(IV!A:A,$A$1,IV!I:I) -> 71769.632 | K6: =SUMIF(V!A:A,$A$1,V!I:I) -> 73763.5 | L6: =SUMIF(VI!A:A,$A$1,VI!I:I) -> 72068.012 | M6: =SUM(J6:L6) -> 217601.14 | N6: =SUMIF(I!A:A,$A$1,I!I:I) -> 83846.695 | O6: =SUMIF(II!A:A,$A$1,II!I:I) -> 65079.807 | P6: =SUMIF(III!A:A,$A$1,III!I:I) -> 84605.109 | Q6: =SUM(N6:P6) -> 233531.61 | R6: =Q6+M6+I6+E6 -> 890503.95
A7: Sumaryczna realizacja planu sprzedaży Marża | B7: =B6 -> 62422.597 | C7: =C6+B7 -> 128905.76 | D7: =D6+C7 -> 245498.37 | F7: =F6 -> 71647.117 | G7: =G6+F7 -> 133370.01 | H7: =H6+G7 -> 193872.83 | J7: =J6 -> 71769.632 | K7: =K6+J7 -> 145533.13 | L7: =L6+K7 -> 217601.14 | N7: =N6 -> 83846.695 | O7: =O6+N7 -> 148926.5 | P7: =P6+O7 -> 233531.61
A8: Wysokość zrealizowania Miesięcznego Planu Sprzedaży Marża | B8: =B6/B4 -> 0.90796505 | C8: =C6/C4 -> 1.0035195 | D8: =D6/D4 -> 0.97160506 | F8: =F6/F4 -> 1.0162712 | G8: =G6/G4 -> 0.79814088 | H8: =H6/H4 -> 0.65645009 | J8: =J6/J4 -> 0.97645758 | K8: =K6/K4 -> 0.92590167 | L8: =L6/L4 -> 0.82995792 | N8: =N6/N4 -> 1.1743235 | O8: =O6/O4 -> 0.8203337 | P8: =P6/P4 -> 0.96950087
A9: Wysokość zrealizowania Planu Sprzedaży Marża | B9: =B7/B5 -> 0.90796505 | C9: =C7/C5 -> 0.95485749 | D9: =D7/D5 -> 0.9627387 | F9: =F7/F5 -> 1.0162712 | G9: =G7/G5 -> 0.90216468 | H9: =H7/H5 -> 0.80780345 | J9: =J7/J5 -> 0.97645758 | K9: =K7/K5 -> 0.95016191 | L9: =L7/L5 -> 0.90667143 | N9: =N7/N5 -> 1.1743235 | O9: =O7/O5 -> 0.98801306 | P9: =P7/P5 -> 0.98122526
A10: Różnica wskaźnika Marża | B10: =B7-B5 -> -6327.4027 | C10: =C7-C5 -> -6094.2386 | D10: =D7-D5 -> -9501.6311 | F10: =F7-F5 -> 1147.1172 | G10: =G7-G5 -> -14463.322 | H10: =H7-H5 -> -46127.172 | J10: =J7-J5 -> -1730.3681 | K10: =K7-K5 -> -7633.5348 | L10: =L7-L5 -> -22398.856 | N10: =N7-N5 -> 12446.695 | O10: =O7-O5 -> -1806.8308 | P10: =P7-P5 -> -4468.3881
A11: Miesięczny Obrót | B11: =SUMIF(X!A:A,$A$1,X!G:G) -> 199106.41 | C11: =SUMIF(XI!A:A,$A$1,XI!G:G) -> 209845.3 | D11: =SUMIF(XII!A:A,$A$1,XII!G:G) -> 330831.72 | E11: =SUM(B11:D11) -> 739783.42 | F11: =SUMIF(VII!A:A,$A$1,VII!G:G) -> 212738.05 | G11: =SUMIF(VIII!A:A,$A$1,VIII!G:G) -> 197491.27 | H11: =SUMIF(IX!A:A,$A$1,IX!G:G) -> 189834.75 | I11: =SUM(F11:H11) -> 600064.06 | J11: =SUMIF(IV!A:A,$A$1,IV!G:G) -> 211151.3 | K11: =SUMIF(V!A:A,$A$1,V!G:G) -> 231363.41 | L11: =SUMIF(VI!A:A,$A$1,VI!G:G) -> 244813.69 | M11: =SUM(J11:L11) -> 687328.39 | N11: =SUMIF(I!A:A,$A$1,I!G:G) -> 249591.78 | O11: =SUMIF(II!A:A,$A$1,II!G:G) -> 240161.83 | P11: =SUMIF(III!A:A,$A$1,III!G:G) -> 245824.34 | Q11: =SUM(N11:P11) -> 735577.95 | R11: =Q11+M11+I11+E11 -> 2762753.8
A12: Sumaryczny Obrót | B12: =B11 -> 199106.41 | C12: =C11+B12 -> 408951.7 | D12: =D11+C12 -> 739783.42 | F12: =F11 -> 212738.05 | G12: =G11+F12 -> 410229.31 | H12: =H11+G12 -> 600064.06 | J12: =J11 -> 211151.3 | K12: =K11+J12 -> 442514.7 | L12: =L11+K12 -> 687328.39 | N12: =N11 -> 249591.78 | O12: =O11+N12 -> 489753.61 | P12: =P11+O12 -> 735577.95
A13: Wysokość Marży miesięcznej | B13: =B6/B11 -> 0.31351376 | C13: =C6/C11 -> 0.31681989 | D13: =D6/D11 -> 0.3524227 | F13: =F6/F11 -> 0.33678563 | G13: =G6/G11 -> 0.31253481 | H13: =H6/H11 -> 0.31871307 | J13: =J6/J11 -> 0.33989671 | K13: =K6/K11 -> 0.31882095 | L13: =L6/L11 -> 0.29437902 | N13: =N6/N11 -> 0.33593532 | O13: =O6/O11 -> 0.27098314 | P13: =P6/P11 -> 0.34416896
A14: Wysokość Marży sumarycznej | B14: =B7/B12 -> 0.31351376 | C14: =C7/C12 -> 0.31521023 | D14: =D7/D12 -> 0.33185168 | F14: =F7/F12 -> 0.33678563 | G14: =G7/G12 -> 0.32511088 | H14: =H7/H12 -> 0.32308688 | J14: =J7/J12 -> 0.33989671 | K14: =K7/K12 -> 0.32887751 | L14: =L7/L12 -> 0.31658978 | N14: =N7/N12 -> 0.33593532 | O14: =O7/O12 -> 0.30408454 | P14: =P7/P12 -> 0.31748044
N16: PREMIE
A17: Wynagrodzenie zasadnicze | B17: 5700 | C17: 5700 | D17: 5700 | F17: 5700 | G17: 5700 | H17: 5700 | J17: 5700 | K17: 5700 | L17: 5700 | N17: 5300 | O17: 5700 | P17: 5700
A18: Wskaźnik Plan Sprzedaży Marża | B18: =B5 -> 68750 | C18: =C5 -> 135000 | D18: =D5 -> 255000 | F18: =F5 -> 70500 | G18: =G5 -> 147833.33 | H18: =H5 -> 240000 | J18: =J5 -> 73500 | K18: =K5 -> 153166.67 | L18: =L5 -> 240000 | N18: =N5 -> 71400 | O18: =O5 -> 150733.33 | P18: =P5 -> 238000
A19: Realizacja Wskaźnika Planu Sprzedaży Marża | B19: =B7 -> 62422.597 | C19: =C7 -> 128905.76 | D19: =D7 -> 245498.37 | F19: =F7 -> 71647.117 | G19: =G7 -> 133370.01 | H19: =H7 -> 193872.83 | J19: =J7 -> 71769.632 | K19: =K7 -> 145533.13 | L19: =L7 -> 217601.14 | N19: =N7 -> 83846.695 | O19: =O7 -> 148926.5 | P19: =P7 -> 233531.61
A20: Poziom realizacji Wskaźnika Sprzedaży Marża | B20: =B19/B18 -> 0.90796505 | C20: =C19/C18 -> 0.95485749 | D20: =D19/D18 -> 0.9627387 | F20: =F19/F18 -> 1.0162712 | G20: =G19/G18 -> 0.90216468 | H20: =H19/H18 -> 0.80780345 | J20: =J19/J18 -> 0.97645758 | K20: =K19/K18 -> 0.95016191 | L20: =L19/L18 -> 0.90667143 | N20: =N19/N18 -> 1.1743235 | O20: =O19/O18 -> 0.98801306 | P20: =P19/P18 -> 0.98122526
A21: Wysokość premii Wskaźnik Sprzedaży Marża | B21: =B17*0.35 -> 1995 | C21: =C17*0.35 -> 1995 | D21: =D17*0.35 -> 1995 | F21: =F17*0.35 -> 1995 | G21: =G17*0.35 -> 1995 | H21: =H17*0.35 -> 1995 | J21: =J17*0.35 -> 1995 | K21: =K17*0.35 -> 1995 | L21: =L17*0.35 -> 1995 | N21: =N17*0.35 -> 1855 | O21: =O17*0.35 -> 1995 | P21: =P17*0.35 -> 1995
A22: Mnożnik premii miesięcznej Wskaźnika Sprzedaży Marża | B22: =IF(B20<80%,0,IF(B20<90%,0.5,IF(B20<95%,0.75,1))) -> 0.75 | C22: =IF(C20<80%,0,IF(C20<90%,0.5,IF(C20<95%,0.75,1))) -> 1 | D22: =IF(D20<80%,0,IF(D20<90%,0.5,IF(D20<95%,0.75,1))) -> 1 | F22: =IF(F20<80%,0,IF(F20<90%,0.5,IF(F20<95%,0.75,1))) -> 1 | G22: =IF(G20<80%,0,IF(G20<90%,0.5,IF(G20<95%,0.75,1))) -> 0.75 | H22: =IF(H20<80%,0,IF(H20<90%,0.5,IF(H20<95%,0.75,1))) -> 0.5 | J22: =IF(J20<80%,0,IF(J20<90%,0.5,IF(J20<95%,0.75,1))) -> 1 | K22: =IF(K20<80%,0,IF(K20<90%,0.5,IF(K20<95%,0.75,1))) -> 1 | L22: =IF(L20<80%,0,IF(L20<90%,0.5,IF(L20<95%,0.75,1))) -> 0.75 | N22: =IF(N20<80%,0,IF(N20<90%,0.5,IF(N20<95%,0.75,1))) -> 1 | O22: =IF(O20<80%,0,IF(O20<90%,0.5,IF(O20<95%,0.75,1))) -> 1 | P22: =IF(P20<80%,0,IF(P20<90%,0.5,IF(P20<95%,0.75,1))) -> 1
A23: Premia miesięczna za Wskaźnik Sprzedaży Marża | B23: =B22*B21 -> 1496.25 | C23: =C22*C21 -> 1995 | D23: =D22*D21 -> 1995 | F23: =F22*F21 -> 1995 | G23: =G22*G21 -> 1496.25 | H23: =H22*H21 -> 997.5 | J23: =J22*J21 -> 1995 | K23: =K22*K21 -> 1995 | L23: =L22*L21 -> 1496.25 | N23: =N22*N21 -> 1855 | O23: =O22*O21 -> 1995 | P23: =P22*P21 -> 1995
A24: Wskaźnik CRM | B24: 1 | C24: 1 | D24: 1 | F24: 1 | G24: 1 | H24: 1 | J24: 1 | K24: 1 | L24: 1 | N24: 1 | O24: 1 | P24: 1
A25: Wysokość premii CRM | B25: =B17*0.05 -> 285 | C25: =C17*0.05 -> 285 | D25: =D17*0.05 -> 285 | F25: =F17*0.05 -> 285 | G25: =G17*0.05 -> 285 | H25: =H17*0.05 -> 285 | J25: =J17*0.05 -> 285 | K25: =K17*0.05 -> 285 | L25: =L17*0.05 -> 285 | N25: =N17*0.05 -> 265 | O25: =O17*0.05 -> 285 | P25: =P17*0.05 -> 285
A26: Mnożnik premii Wskaźnik CRM | B26: 1 | C26: 1 | D26: 1 | F26: 1 | G26: 1 | H26: 1 | J26: 0.5 | K26: 1 | L26: 1 | N26: 1 | O26: 1 | P26: 0.75
A27: Premia miesięczna za Wskaźnik CRM | B27: =B26*B25 -> 285 | C27: =C26*C25 -> 285 | D27: =D26*D25 -> 285 | F27: =F26*F25 -> 285 | G27: =G26*G25 -> 285 | H27: =H26*H25 -> 285 | J27: =J26*J25 -> 142.5 | K27: =K26*K25 -> 285 | L27: =L26*L25 -> 285 | N27: =N26*N25 -> 265 | O27: =O26*O25 -> 285 | P27: =P26*P25 -> 213.75
A28: Suma Premii miesięcznych | B28: =B23+B27 -> 1781.25 | C28: =C23+C27 -> 2280 | D28: =D23+D27 -> 2280 | F28: =F23+F27 -> 2280 | G28: =G23+G27 -> 1781.25 | H28: =H23+H27 -> 1282.5 | J28: =J23+J27 -> 2137.5 | K28: =K23+K27 -> 2280 | L28: =L23+L27 -> 1781.25 | N28: =N23+N27 -> 2120 | O28: =O23+O27 -> 2280 | P28: =P23+P27 -> 2208.75 | R28: =SUM(B28:P28) -> 24492.5
A29: Wskaźnik Premia Kwartalna Marża | B29: =D5 -> 255000 | F29: =H5 -> 240000 | J29: =L5 -> 240000 | N29: =P5 -> 238000
A30: Realizacja Wskaźnika Premia Kwartalna | B30: =D7 -> 245498.37 | F30: =H7 -> 193872.83 | J30: =L7 -> 217601.14 | N30: =P7 -> 233531.61
A31: Poziom realizacji Wskaźnika Premia Kwartalna | B31: =B30/B29 -> 0.9627387 | F31: =F30/F29 -> 0.80780345 | J31: =J30/J29 -> 0.90667143 | N31: =N30/N29 -> 0.98122526
A32: Wysokość premii kwartalnej. | B32: =D17 -> 5700 | F32: =H17 -> 5700 | J32: =L17 -> 5700 | N32: =P17 -> 5700
A33: Mnożnik premii kwartalnej | B33: =IF(B31<100%,0,IF(B31<105%,0.5,IF(B31<110%,0.7,1))) -> 0 | F33: =IF(F31<100%,0,IF(F31<105%,0.5,IF(F31<110%,0.7,1))) -> 0 | J33: =IF(J31<100%,0,IF(J31<105%,0.5,IF(J31<110%,0.7,1))) -> 0 | N33: =IF(N31<100%,0,IF(N31<105%,0.5,IF(N31<110%,0.7,1))) -> 0
A34: Premia kwartalna | B34: =B33*B32 -> 0 | F34: =F33*F32 -> 0 | J34: =J33*J32 -> 0 | N34: =N33*N32 -> 0
A36: Raport za miesiąc: | B36: paździer. | C36: listopad | D36: grudzień | E36: Suma | F36: lipiec | G36: sierpień | H36: wrzesień | I36: Suma | J36: kwiecień | K36: maj | L36: czerwiec | M36: Suma | N36: styczeń | O36: luty | P36: marzec | Q36: Suma | R36: Suma
A37: Ilość nowych Klientów: | B37: 2 | C37: 1 | D37: 1 | E37: =SUM(B37:D37) -> 4 | F37: 1 | G37: 0 | H37: 0 | I37: =SUM(F37:H37) -> 1 | J37: 1 | K37: 0 | L37: 0 | M37: =SUM(J37:L37) -> 1 | N37: 0 | O37: 1 | P37: 1 | Q37: =SUM(N37:P37) -> 2 | R37: =M37+I37+E37+Q37 -> 8
A38: Ilość Podmiotów na etapie współpracy Klient: | B38: 68 | C38: 71 | D38: 71 | F38: 66 | G38: 66 | H38: 66 | J38: 63 | K38: 63 | L38: 65 | N38: 59 | O38: 60 | P38: 62
A39: Ilość Podmiotów na etapie współpracy Handlowy: | B39: 42 | C39: 40 | D39: 40 | F39: 43 | G39: 43 | H39: 43 | J39: 42 | K39: 42 | L39: 44 | N39: 46 | O39: 46 | P39: 44
A40: Ilość Podmiotów na etapie współpracy Klient nieaktywny: | B40: 24 | C40: 23 | D40: 24 | F40: 24 | G40: 24 | H40: 24 | J40: 26 | K40: 26 | L40: 24 | N40: 27 | O40: 27 | P40: 26
A41: Ilość Podmiotów pod opieką: | B41: =SUM(B38:B40) -> 134 | C41: 134 | D41: =SUM(D38:D40) -> 135 | F41: 133 | G41: 133 | H41: 133 | J41: 131 | K41: 131 | L41: 133 | N41: 132 | O41: 133 | P41: 132
A42: Ilość sprzedanych drukarek: | B42: 1 | C42: 2 | D42: 1 | E42: =SUM(B42:D42) -> 4 | F42: 1 | G42: 4 | H42: 2 | I42: =SUM(F42:H42) -> 7 | J42: 0 | K42: 3 | L42: 2 | M42: =SUM(J42:L42) -> 5 | N42: 4 | O42: 2 | P42: 1 | Q42: =SUM(N42:P42) -> 7 | R42: =M42+I42+E42+Q42 -> 23
A43: Ilość ofert dodanych w danym miesiącu: | B43: 29 | C43: 24 | D43: 20 | E43: =SUM(B43:D43) -> 73 | F43: 20 | G43: 29 | H43: 29 | I43: =SUM(F43:H43) -> 78 | J43: 19 | K43: 21 | L43: 34 | M43: =SUM(J43:L43) -> 74 | N43: 22 | O43: 50 | P43: 46 | Q43: =SUM(N43:P43) -> 118 | R43: =M43+I43+E43+Q43 -> 343
...

Sheet KRZYSZTOF
A1: Krzysztof Szwajdych | B1: PLAN IV KW Krzysztof Szwajdych | F1: PLAN III KW Krzysztof Szwajdych | J1: PLAN II KW Krzysztof Szwajdych | N1: PLAN I KW Krzysztof Szwajdych
A2: miesiąc | B2: październik | C2: listopad | D2: grudzień | E2: KW IV | F2: lipiec | G2: sierpień | H2: wrzesień | I2: KW III | J2: kwiecień | K2: maj | L2: czerwiec | M2: KW II | N2: styczeń | O2: luty | P2: marzec | Q2: KW I | R2: suma ROK
A4: Plan Sprzedaży Marża | B4: ='Target 2021'!L9 -> 55416.667 | C4: ='Target 2021'!M9 -> 61250 | D4: ='Target 2021'!N9 -> 58333.333 | E4: =SUM(B4:D4) -> 175000 | F4: ='Target 2021'!I9 -> 50100 | G4: ='Target 2021'!J9 -> 55666.667 | H4: ='Target 2021'!K9 -> 61233.333 | I4: =SUM(F4:H4) -> 167000 | J4: ='Target 2021'!F9 -> 51000 | K4: ='Target 2021'!G9-1000 -> 55666.667 | L4: ='Target 2021'!H9+1000 -> 63333.333 | M4: =SUM(J4:L4) -> 170000 | N4: ='Target 2021'!C9-6500 -> 40600 | O4: ='Target 2021'!D9-7000 -> 45333.333 | P4: ='Target 2021'!E9+6500+7000 -> 71066.667 | Q4: =SUM(N4:P4) -> 157000 | R4: =Q4+M4+I4+E4 -> 669000
A5: Sumaryczny Plan Sprzedaży Marża | B5: =B4 -> 55416.667 | C5: =C4+B5 -> 116666.67 | D5: =D4+C5 -> 175000 | F5: =F4 -> 50100 | G5: =G4+F5 -> 105766.67 | H5: =H4+G5 -> 167000 | J5: =J4 -> 51000 | K5: =K4+J5 -> 106666.67 | L5: =L4+K5 -> 170000 | N5: =N4 -> 40600 | O5: =O4+N5 -> 85933.333 | P5: =P4+O5 -> 157000 | R5: =R6/R4 -> 1.0382733
A6: Miesięczna realizacja Planu Sprzedaży Marża | B6: =SUMIF(X!A:A,$A$1,X!I:I) -> 60656.168 | C6: =SUMIF(XI!A:A,$A$1,XI!I:I) -> 72131.047 | D6: =SUMIF(XII!A:A,$A$1,XII!I:I) -> 53325.698 | E6: =SUM(B6:D6) -> 186112.91 | F6: =SUMIF(VII!A:A,$A$1,VII!I:I) -> 53341.637 | G6: =SUMIF(VIII!A:A,$A$1,VIII!I:I) -> 65808.539 | H6: =SUMIF(IX!A:A,$A$1,IX!I:I) -> 50214.785 | I6: =SUM(F6:H6) -> 169364.96 | J6: =SUMIF(IV!A:A,$A$1,IV!I:I) -> 67325.867 | K6: =SUMIF(V!A:A,$A$1,V!I:I) -> 53389.668 | L6: =SUMIF(VI!A:A,$A$1,VI!I:I) -> 60601.934 | M6: =SUM(J6:L6) -> 181317.47 | N6: =SUMIF(I!A:A,$A$1,I!I:I) -> 32792.316 | O6: =SUMIF(II!A:A,$A$1,II!I:I) -> 49170.18 | P6: =SUMIF(III!A:A,$A$1,III!I:I) -> 75847.023 | Q6: =SUM(N6:P6) -> 157809.52 | R6: =Q6+M6+I6+E6 -> 694604.86
A7: Sumaryczna realizacja planu sprzedaży Marża | B7: =B6 -> 60656.168 | C7: =C6+B7 -> 132787.21 | D7: =D6+C7 -> 186112.91 | F7: =F6 -> 53341.637 | G7: =G6+F7 -> 119150.18 | H7: =H6+G7 -> 169364.96 | J7: =J6 -> 67325.867 | K7: =K6+J7 -> 120715.54 | L7: =L6+K7 -> 181317.47 | N7: =N6 -> 32792.316 | O7: =O6+N7 -> 81962.496 | P7: =P6+O7 -> 157809.52
A8: Wysokość zrealizowania Miesięcznego Planu Sprzedaży Marża | B8: =B6/B4 -> 1.0945474 | C8: =C6/C4 -> 1.1776497 | D8: =D6/D4 -> 0.91415481 | F8: =F6/F4 -> 1.0647033 | G8: =G6/G4 -> 1.1821893 | H8: =H6/H4 -> 0.82005637 | J8: =J6/J4 -> 1.320115 | K8: =K6/K4 -> 0.95909583 | L8: =L6/L4 -> 0.95687264 | N8: =N6/N4 -> 0.80769252 | O8: =O6/O4 -> 1.0846363 | P8: =P6/P4 -> 1.0672658
A9: Wysokość zrealizowania Planu Sprzedaży Marża | B9: =B7/B5 -> 1.0945474 | C9: =C7/C5 -> 1.1381761 | D9: =D7/D5 -> 1.0635024 | F9: =F7/F5 -> 1.0647033 | G9: =G7/G5 -> 1.1265381 | H9: =H7/H5 -> 1.0141614 | J9: =J7/J5 -> 1.320115 | K9: =K7/K5 -> 1.1317081 | L9: =L7/L5 -> 1.0665733 | N9: =N7/N5 -> 0.80769252 | O9: =O7/O5 -> 0.95379165 | P9: =P7/P5 -> 1.0051562
A10: Różnica wskaźnika Marża | B10: =B7-B5 -> 5239.5013 | C10: =C7-C5 -> 16120.548 | D10: =D7-D5 -> 11112.912 | F10: =F7-F5 -> 3241.6367 | G10: =G7-G5 -> 13383.509 | H10: =H7-H5 -> 2364.961 | J10: =J7-J5 -> 16325.867 | K10: =K7-K5 -> 14048.869 | L10: =L7-L5 -> 11317.469 | N10: =N7-N5 -> -7807.6836 | O10: =O7-O5 -> -3970.8372 | P10: =P7-P5 -> 809.5195
A11: Miesięczny Obrót | B11: =SUMIF(X!A:A,$A$1,X!G:G) -> 180654.52 | C11: =SUMIF(XI!A:A,$A$1,XI!G:G) -> 205932.14 | D11: =SUMIF(XII!A:A,$A$1,XII!G:G) -> 154222.08 | E11: =SUM(B11:D11) -> 540808.73 | F11: =SUMIF(VII!A:A,$A$1,VII!G:G) -> 164323.3 | G11: =SUMIF(VIII!A:A,$A$1,VIII!G:G) -> 204883.86 | H11: =SUMIF(IX!A:A,$A$1,IX!G:G) -> 143866.69 | I11: =SUM(F11:H11) -> 513073.84 | J11: =SUMIF(IV!A:A,$A$1,IV!G:G) -> 193424.17 | K11: =SUMIF(V!A:A,$A$1,V!G:G) -> 156350.06 | L11: =SUMIF(VI!A:A,$A$1,VI!G:G) -> 189587.98 | M11: =SUM(J11:L11) -> 539362.22 | N11: =SUMIF(I!A:A,$A$1,I!G:G) -> 102962.12 | O11: =SUMIF(II!A:A,$A$1,II!G:G) -> 159385.72 | P11: =SUMIF(III!A:A,$A$1,III!G:G) -> 207223.06 | Q11: =SUM(N11:P11) -> 469570.9 | R11: =Q11+M11+I11+E11 -> 2062815.7
A12: Sumaryczny Obrót | B12: =B11 -> 180654.52 | C12: =C11+B12 -> 386586.66 | D12: =D11+C12 -> 540808.73 | F12: =F11 -> 164323.3 | G12: =G11+F12 -> 369207.16 | H12: =H11+G12 -> 513073.84 | J12: =J11 -> 193424.17 | K12: =K11+J12 -> 349774.23 | L12: =L11+K12 -> 539362.22 | N12: =N11 -> 102962.12 | O12: =O11+N12 -> 262347.84 | P12: =P11+O12 -> 469570.9
A13: Wysokość Marży miesięcznej | B13: =B6/B11 -> 0.33575783 | C13: =C6/C11 -> 0.3502661 | D13: =D6/D11 -> 0.34577214 | F13: =F6/F11 -> 0.32461396 | G13: =G6/G11 -> 0.32119924 | H13: =H6/H11 -> 0.34903692 | J13: =J6/J11 -> 0.3480737 | K13: =K6/K11 -> 0.34147519 | L13: =L6/L11 -> 0.31965071 | N13: =N6/N11 -> 0.31848914 | O13: =O6/O11 -> 0.30849803 | P13: =P6/P11 -> 0.36601632
A14: Wysokość Marży sumarycznej | B14: =B7/B12 -> 0.33575783 | C14: =C7/C12 -> 0.34348629 | D14: =D7/D12 -> 0.34413814 | F14: =F7/F12 -> 0.32461396 | G14: =G7/G12 -> 0.32271903 | H14: =H7/H12 -> 0.33009861 | J14: =J7/J12 -> 0.3480737 | K14: =K7/K12 -> 0.34512415 | L14: =L7/L12 -> 0.33617013 | N14: =N7/N12 -> 0.31848914 | O14: =O7/O12 -> 0.31241918 | P14: =P7/P12 -> 0.33607176
N16: PREMIE
A17: Wynagrodzenie zasadnicze | B17: 4700 | C17: 4700 | D17: 4700 | F17: 4700 | G17: 4700 | H17: 4700 | J17: 4700 | K17: 4700 | L17: 4700 | N17: 4300 | O17: 4700 | P17: 4700
A18: Wskaźnik Plan Sprzedaży Marża | B18: =B5 -> 55416.667 | C18: =C5 -> 116666.67 | D18: =D5 -> 175000 | F18: =F5 -> 50100 | G18: =G5 -> 105766.67 | H18: =H5 -> 167000 | J18: =J5 -> 51000 | K18: =K5 -> 106666.67 | L18: =L5 -> 170000 | N18: =N5 -> 40600 | O18: =O5 -> 85933.333 | P18: =P5 -> 157000
A19: Realizacja Wskaźnika Planu Sprzedaży Marża | B19: =B7 -> 60656.168 | C19: =C7 -> 132787.21 | D19: =D7 -> 186112.91 | F19: =F7 -> 53341.637 | G19: =G7 -> 119150.18 | H19: =H7 -> 169364.96 | J19: =J7 -> 67325.867 | K19: =K7 -> 120715.54 | L19: =L7 -> 181317.47 | N19: =N7 -> 32792.316 | O19: =O7 -> 81962.496 | P19: =P7 -> 157809.52
A20: Poziom realizacji Wskaźnika Sprzedaży Marża | B20: =B19/B18 -> 1.0945474 | C20: =C19/C18 -> 1.1381761 | D20: =D19/D18 -> 1.0635024 | F20: =F19/F18 -> 1.0647033 | G20: =G19/G18 -> 1.1265381 | H20: =H19/H18 -> 1.0141614 | J20: =J19/J18 -> 1.320115 | K20: =K19/K18 -> 1.1317081 | L20: =L19/L18 -> 1.0665733 | N20: =N19/N18 -> 0.80769252 | O20: =O19/O18 -> 0.95379165 | P20: =P19/P18 -> 1.0051562
A21: Wysokość premii Wskaźnik Sprzedaży Marża | B21: =B17*0.35 -> 1645 | C21: =C17*0.35 -> 1645 | D21: =D17*0.35 -> 1645 | F21: =F17*0.35 -> 1645 | G21: =G17*0.35 -> 1645 | H21: =H17*0.35 -> 1645 | J21: =J17*0.35 -> 1645 | K21: =K17*0.35 -> 1645 | L21: =L17*0.35 -> 1645 | N21: =N17*0.35 -> 1505 | O21: =O17*0.35 -> 1645 | P21: =P17*0.35 -> 1645
A22: Mnożnik premii miesięcznej Wskaźnika Sprzedaży Marża | B22: =IF(B20<80%,0,IF(B20<90%,0.5,IF(B20<95%,0.75,1))) -> 1 | C22: =IF(C20<80%,0,IF(C20<90%,0.5,IF(C20<95%,0.75,1))) -> 1 | D22: =IF(D20<80%,0,IF(D20<90%,0.5,IF(D20<95%,0.75,1))) -> 1 | F22: =IF(F20<80%,0,IF(F20<90%,0.5,IF(F20<95%,0.75,1))) -> 1 | G22: =IF(G20<80%,0,IF(G20<90%,0.5,IF(G20<95%,0.75,1))) -> 1 | H22: =IF(H20<80%,0,IF(H20<90%,0.5,IF(H20<95%,0.75,1))) -> 1 | J22: =IF(J20<80%,0,IF(J20<90%,0.5,IF(J20<95%,0.75,1))) -> 1 | K22: =IF(K20<80%,0,IF(K20<90%,0.5,IF(K20<95%,0.75,1))) -> 1 | L22: =IF(L20<80%,0,IF(L20<90%,0.5,IF(L20<95%,0.75,1))) -> 1 | N22: =IF(N20<80%,0,IF(N20<90%,0.5,IF(N20<95%,0.75,1))) -> 0.5 | O22: =IF(O20<80%,0,IF(O20<90%,0.5,IF(O20<95%,0.75,1))) -> 1 | P22: =IF(P20<80%,0,IF(P20<90%,0.5,IF(P20<95%,0.75,1))) -> 1
A23: Premia miesięczna za Wskaźnik Sprzedaży Marża | B23: =B22*B21 -> 1645 | C23: =C22*C21 -> 1645 | D23: =D22*D21 -> 1645 | F23: =F22*F21 -> 1645 | G23: =G22*G21 -> 1645 | H23: =H22*H21 -> 1645 | J23: =J22*J21 -> 1645 | K23: =K22*K21 -> 1645 | L23: =L22*L21 -> 1645 | N23: =N22*N21 -> 752.5 | O23: =O22*O21 -> 1645 | P23: =P22*P21 -> 1645
A24: Wskaźnik CRM | B24: 1 | C24: 1 | D24: 1 | F24: 1 | G24: 1 | H24: 1 | J24: 1 | K24: 1 | L24: 1 | N24: 1 | O24: 1 | P24: 1
A25: Wysokość premii CRM | B25: =B17*0.05 -> 235 | C25: =C17*0.05 -> 235 | D25: =D17*0.05 -> 235 | F25: =F17*0.05 -> 235 | G25: =G17*0.05 -> 235 | H25: =H17*0.05 -> 235 | J25: =J17*0.05 -> 235 | K25: =K17*0.05 -> 235 | L25: =L17*0.05 -> 235 | N25: =N17*0.05 -> 215 | O25: =O17*0.05 -> 235 | P25: =P17*0.05 -> 235
A26: Mnożnik premii Wskaźnik CRM | B26: 1 | C26: 1 | D26: 1 | F26: 1 | G26: 1 | H26: 1 | J26: 1 | K26: 1 | L26: 1 | N26: 1 | O26: 1 | P26: 1
A27: Premia miesięczna za Wskaźnik CRM | B27: =B26*B25 -> 235 | C27: =C26*C25 -> 235 | D27: =D26*D25 -> 235 | F27: =F26*F25 -> 235 | G27: =G26*G25 -> 235 | H27: =H26*H25 -> 235 | J27: =J26*J25 -> 235 | K27: =K26*K25 -> 235 | L27: =L26*L25 -> 235 | N27: =N26*N25 -> 215 | O27: =O26*O25 -> 235 | P27: =P26*P25 -> 235
A28: Suma Premii miesięcznych | B28: =B23+B27 -> 1880 | C28: =C23+C27 -> 1880 | D28: =D23+D27 -> 1880 | F28: =F23+F27 -> 1880 | G28: =G23+G27 -> 1880 | H28: =H23+H27 -> 1880 | J28: =J23+J27 -> 1880 | K28: =K23+K27 -> 1880 | L28: =L23+L27 -> 1880 | N28: =N23+N27 -> 967.5 | O28: =O23+O27 -> 1880 | P28: =P23+P27 -> 1880 | R28: =SUM(B28:Q28) -> 21647.5
A29: Wskaźnik Premia Kwartalna Marża | B29: =D5 -> 175000 | F29: =H5 -> 167000 | J29: =L5 -> 170000 | N29: =P5 -> 157000
A30: Realizacja Wskaźnika Premia Kwartalna | B30: =D7 -> 186112.91 | F30: =H7 -> 169364.96 | J30: =L7 -> 181317.47 | N30: =P7 -> 157809.52
A31: Poziom realizacji Wskaźnika Premia Kwartalna | B31: =B30/B29 -> 1.0635024 | F31: =F30/F29 -> 1.0141614 | J31: =J30/J29 -> 1.0665733 | N31: =N30/N29 -> 1.0051562
A32: Wysokość premii kwartalnej. | B32: =D17 -> 4700 | F32: =H17 -> 4700 | J32: =L17 -> 4700 | N32: =P17 -> 4700
A33: Mnożnik premii kwartalnej | B33: =IF(B31<100%,0,IF(B31<105%,0.5,IF(B31<110%,0.7,1))) -> 0.7 | F33: =IF(F31<100%,0,IF(F31<105%,0.5,IF(F31<110%,0.7,1))) -> 0.5 | J33: =IF(J31<100%,0,IF(J31<105%,0.5,IF(J31<110%,0.7,1))) -> 0.7 | N33: =IF(N31<100%,0,IF(N31<105%,0.5,IF(N31<110%,0.7,1))) -> 0.5
A34: Premia kwartalna | B34: =B33*B32 -> 3290 | F34: =F33*F32 -> 2350 | J34: =J33*J32 -> 3290 | N34: =N33*N32 -> 2350 | R34: =SUM(B34:Q34) -> 11280
A36: Raport za miesiąc: | B36: paździer. | C36: listopad | D36: grudzień | E36: Suma | F36: lipiec | G36: sierpień | H36: wrzesień | I36: Suma | J36: kwiecień | K36: maj | L36: czerwiec | M36: Suma | N36: styczeń | O36: luty | P36: marzec | Q36: Suma | R36: Suma
A37: Ilość nowych Klientów: | B37: 2 | C37: 2 | D37: 1 | E37: =SUM(B37:D37) -> 5 | F37: 2 | G37: 0 | H37: 0 | I37: =SUM(F37:H37) -> 2 | J37: 1 | K37: 2 | L37: 1 | M37: =SUM(J37:L37) -> 4 | N37: 0 | O37: 1 | P37: 1 | Q37: =SUM(N37:P37) -> 2 | R37: =M37+I37+E37+Q37 -> 13
A38: Ilość Podmiotów na etapie współpracy Klient: | B38: 140 | C38: 143 | D38: 145 | F38: 136 | G38: 137 | H38: 137 | J38: 126 | K38: 129 | L38: 131 | N38: 123 | O38: 124 | P38: 125
A39: Ilość Podmiotów na etapie współpracy Handlowy: | B39: 35 | C39: 37 | D39: 35 | F39: 37 | G39: 36 | H39: 36 | J39: 32 | K39: 32 | L39: 36 | N39: 32 | O39: 33 | P39: 31
A40: Ilość Podmiotów na etapie współpracy Klient nieaktywny: | B40: 36 | C40: 34 | D40: 35 | F40: 36 | G40: 37 | H40: 37 | J40: 38 | K40: 39 | L40: 38 | N40: 40 | O40: 40 | P40: 39
A41: Ilość Podmiotów pod opieką: | B41: =SUM(B38:B40) -> 211 | C41: =SUM(C38:C40) -> 214 | D41: =SUM(D38:D40) -> 215 | F41: 209 | G41: 210 | H41: 210 | J41: 196 | K41: 200 | L41: 205 | N41: 195 | O41: 197 | P41: 195
A42: Ilość sprzedanych drukarek: | B42: 1 | C42: 5 | D42: 1 | E42: =SUM(B42:D42) -> 7 | F42: 8 | G42: 3 | H42: 7 | I42: =SUM(F42:H42) -> 18 | J42: 6 | K42: 1 | L42: 2 | M42: =SUM(J42:L42) -> 9 | N42: 2 | O42: 8 | P42: 2 | Q42: =SUM(N42:P42) -> 12 | R42: =M42+I42+E42+Q42 -> 46
A43: Ilość ofert dodanych w danym miesiącu: | B43: 43 | C43: 44 | D43: 34 | E43: =SUM(B43:D43) -> 121 | F43: 37 | G43: 18 | H43: 47 | I43: =SUM(F43:H43) -> 102 | J43: 45 | K43: 31 | L43: 49 | M43: =SUM(J43:L43) -> 125 | N43: 35 | O43: 55 | P43: 43 | Q43: =SUM(N43:P43) -> 133 | R43: =M43+I43+E43+Q43 -> 481
...

Sheet DH
A1: brak opiekuna | B1: PLANY SPRZEDAŻY 2021
A2: miesiąc | B2: styczeń | C2: luty | D2: marzec | E2: I KW | F2: kwiecień | G2: maj | H2: czerwiec | J2: lipiec | K2: sierpień | L2: wrzesień | N2: październik | O2: listopad | P2: grudzień | R2: suma
A3: Marża 2020 | B3: 322882.94 | C3: 292994.15 | D3: 273950.21 | E3: 889827.3 | F3: 241835.05 | G3: 185291.82 | H3: 232994.43 | I3: 660121.31 | J3: 278072.12 | K3: 214511.37 | L3: 245209.71 | M3: 737793.2 | N3: 323357.45 | O3: 229441.75 | P3: 272547.16 | Q3: 825346.36 | R3: 3113088.2 | T3: =R8*1.1 -> 3580052.1
A4: Sumaryczna Marża 2020 | B4: =B3 -> 322882.94 | C4: =C3+B4 -> 615877.09 | D4: =D3+C4 -> 889827.3 | F4: =F3+D4 -> 1131662.4 | G4: =G3+F4 -> 1316954.2 | H4: =H3+G4 -> 1549948.6 | J4: =J3+H4 -> 1828020.7 | K4: =K3+J4 -> 2042532.1 | L4: =L3+K4 -> 2287741.8 | N4: =N3+L4 -> 2611099.3 | O4: =O3+N4 -> 2840541 | P4: =P3+O4 -> 3113088.2 | S4: MINIMUM | T4: PLAN | U4: CEL
