Workbook
Name OLE_LINK3: stanowiska!$A$16

Sheet TOMEK
A1: Tomasz Sypień | B1: PLAN I KW Tomasz Sypień | F1: PLAN II KW Tomasz Sypień | J1: PLAN III KW Tomasz Sypień | N1: PLAN IV KW Tomasz Sypień
A2: miesiąc | B2: styczeń | C2: luty | D2: marzec | E2: KW I | F2: kwiecień | G2: maj | H2: czerwiec | I2: KW II | J2: lipiec | K2: sierpień | L2: wrzesień | M2: KW III | N2: październik | O2: listopad | P2: grudzień | Q2: KW IV | R2: suma ROK
A4: Plan Sprzedaży Marża | B4: ='Target 2022'!C3 -> 43800 | C4: ='Target 2022'!D3 -> 48666.667 | D4: ='Target 2022'!E3 -> 53533.333 | E4: =SUM(B4:D4) -> 146000 | F4: ='Target 2022'!F3 -> 46500 | G4: ='Target 2022'!G3 -> 51666.667 | H4: ='Target 2022'!H3 -> 56833.333 | I4: =SUM(F4:H4) -> 155000 | J4: ='Target 2022'!I3 -> 45000 | K4: ='Target 2022'!J3 -> 50000 | L4: ='Target 2022'!K3 -> 55000 | M4: =SUM(J4:L4) -> 150000 | N4: ='Target 2022'!L3 -> 47500 | O4: ='Target 2022'!M3 -> 52500 | P4: ='Target 2022'!N3 -> 50000 | Q4: =SUM(N4:P4) -> 150000 | R4: =E4+I4+M4+Q4 -> 601000
A5: Sumaryczny Plan Sprzedaży Marża | B5: =B4 -> 43800 | C5: =C4+B5 -> 92466.667 | D5: =D4+C5 -> 146000 | F5: =F4 -> 46500 | G5: =G4+F5 -> 98166.667 | H5: =H4+G5 -> 155000 | J5: =J4 -> 45000 | K5: =K4+J5 -> 95000 | L5: =L4+K5 -> 150000 | N5: =N4 -> 47500 | O5: =O4+N5 -> 100000 | P5: =P4+O5 -> 150000 | R5: =R6/R4 -> 1.0799448
A6: Miesięczna realizacja Planu Sprzedaży Marża | B6: =SUMIF(I!A:A,$A$1,I!I:I) -> 44007.332 | C6: =SUMIF(II!A:A,$A$1,II!I:I) -> 55204.184 | D6: =SUMIF(III!A:A,$A$1,III!I:I) -> 62605.121 | E6: =SUM(B6:D6) -> 161816.64 | F6: =SUMIF(IV!A:A,$A$1,IV!I:I) -> 58160.781 | G6: =SUMIF(V!A:A,$A$1,V!I:I) -> 46990.832 | H6: =SUMIF(VI!A:A,$A$1,VI!I:I) -> 50618.316 | I6: =SUM(F6:H6) -> 155769.93 | J6: =SUMIF(VII!A:A,$A$1,VII!I:I) -> 45845.102 | K6: =SUMIF(VIII!A:A,$A$1,VIII!I:I) -> 51814.257 | L6: =SUMIF(IX!A:A,$A$1,IX!I:I) -> 55510.156 | M6: =SUM(J6:L6) -> 153169.51 | N6: =SUMIF(X!A:A,$A$1,X!I:I) -> 63571.418 | O6: =SUMIF(XI!A:A,$A$1,XI!I:I) -> 64521.879 | P6: =SUMIF(XII!A:A,$A$1,XII!I:I) -> 50197.457 | Q6: =SUM(N6:P6) -> 178290.75 | R6: =E6+I6+M6+Q6 -> 649046.84
A7: Sumaryczna realizacja planu sprzedaży Marża | B7: =B6 -> 44007.332 | C7: =C6+B7 -> 99211.516 | D7: =D6+C7 -> 161816.64 | F7: =F6 -> 58160.781 | G7: =G6+F7 -> 105151.61 | H7: =H6+G7 -> 155769.93 | J7: =J6 -> 45845.102 | K7: =K6+J7 -> 97659.359 | L7: =L6+K7 -> 153169.51 | M7: =SUM(E6,I6,M6)/3 -> 156918.69 | N7: =N6 -> 63571.418 | O7: =O6+N7 -> 128093.3 | P7: =P6+O7 -> 178290.75
A8: Wysokość zrealizowania Miesięcznego Planu Sprzedaży Marża | B8: =B6/B4 -> 1.0047336 | C8: =C6/C4 -> 1.1343325 | D8: =D6/D4 -> 1.1694605 | F8: =F6/F4 -> 1.2507695 | G8: =G6/G4 -> 0.90949997 | H8: =H6/H4 -> 0.89064486 | J8: =J6/J4 -> 1.01878 | K8: =K6/K4 -> 1.0362851 | L8: =L6/L4 -> 1.0092756 | N8: =N6/N4 -> 1.3383456 | O8: =O6/O4 -> 1.2289882 | P8: =P6/P4 -> 1.0039491
A9: Wysokość zrealizowania Planu Sprzedaży Marża | B9: =B7/B5 -> 1.0047336 | C9: =C7/C5 -> 1.0729436 | D9: =D7/D5 -> 1.1083331 | F9: =F7/F5 -> 1.2507695 | G9: =G7/G5 -> 1.071154 | H9: =H7/H5 -> 1.0049673 | J9: =J7/J5 -> 1.01878 | K9: =K7/K5 -> 1.0279932 | L9: =L7/L5 -> 1.0211301 | N9: =N7/N5 -> 1.3383456 | O9: =O7/O5 -> 1.280933 | P9: =P7/P5 -> 1.188605
A10: Różnica wskaźnika Marża | B10: =B7-B5 -> 207.332 | C10: =C7-C5 -> 6744.8489 | D10: =D7-D5 -> 15816.637 | F10: =F7-F5 -> 11660.781 | G10: =G7-G5 -> 6984.9466 | H10: =H7-H5 -> 769.9297 | J10: =J7-J5 -> 845.1016 | K10: =K7-K5 -> 2659.3586 | L10: =L7-L5 -> 3169.5149 | N10: =N7-N5 -> 16071.418 | O10: =O7-O5 -> 28093.297 | P10: =P7-P5 -> 28290.754
A11: Miesięczny Obrót | B11: =SUMIF(I!A:A,$A$1,I!G:G) -> 146185.86 | C11: =SUMIF(II!A:A,$A$1,II!G:G) -> 130162.39 | D11: =SUMIF(III!A:A,$A$1,III!G:G) -> 163730.41 | E11: =SUM(B11:D11) -> 440078.66 | F11: =SUMIF(IV!A:A,$A$1,IV!G:G) -> 148352.09 | G11: =SUMIF(V!A:A,$A$1,V!G:G) -> 117113.81 | H11: =SUMIF(VI!A:A,$A$1,VI!G:G) -> 138156.44 | I11: =SUM(F11:H11) -> 403622.34 | J11: =SUMIF(VII!A:A,$A$1,VII!G:G) -> 120626.37 | K11: =SUMIF(VIII!A:A,$A$1,VIII!G:G) -> 139229.2 | L11: =SUMIF(IX!A:A,$A$1,IX!G:G) -> 120934.63 | M11: =SUM(J11:L11) -> 380790.2 | N11: =SUMIF(X!A:A,$A$1,X!G:G) -> 146331.55 | O11: =SUMIF(XI!A:A,$A$1,XI!G:G) -> 199976.7 | P11: =SUMIF(XII!A:A,$A$1,XII!G:G) -> 159160.55 | Q11: =SUM(N11:P11) -> 505468.8 | R11: =E11+I11+M11+Q11 -> 1729960
A12: Sumaryczny Obrót | B12: =B11 -> 146185.86 | C12: =C11+B12 -> 276348.25 | D12: =D11+C12 -> 440078.66 | F12: =F11 -> 148352.09 | G12: =G11+F12 -> 265465.91 | H12: =H11+G12 -> 403622.34 | J12: =J11 -> 120626.37 | K12: =K11+J12 -> 259855.57 | L12: =L11+K12 -> 380790.2 | N12: =N11 -> 146331.55 | O12: =O11+N12 -> 346308.25 | P12: =P11+O12 -> 505468.8
A13: Wysokość Marży miesięcznej | B13: =B6/B11 -> 0.30103686 | C13: =C6/C11 -> 0.42411778 | D13: =D6/D11 -> 0.3823671 | F13: =F6/F11 -> 0.39204557 | G13: =G6/G11 -> 0.40124073 | H13: =H6/H11 -> 0.36638406 | J13: =J6/J11 -> 0.38005871 | K13: =K6/K11 -> 0.37215078 | L13: =L6/L11 -> 0.45900959 | N13: =N6/N11 -> 0.43443413 | O13: =O6/O11 -> 0.32264698 | P13: =P6/P11 -> 0.31538882
A14: Wysokość Marży sumarycznej | B14: =B7/B12 -> 0.30103686 | C14: =C7/C12 -> 0.35900902 | D14: =D7/D12 -> 0.36769935 | F14: =F7/F12 -> 0.39204557 | G14: =G7/G12 -> 0.39610214 | H14: =H7/H12 -> 0.3859299 | J14: =J7/J12 -> 0.38005871 | K14: =K7/K12 -> 0.37582169 | L14: =L7/L12 -> 0.40224122 | N14: =N7/N12 -> 0.43443413 | O14: =O7/O12 -> 0.36988232 | P14: =P7/P12 -> 0.35272356
A16: PREMIE
A17: Wynagrodzenie zasadnicze | B17: 4500 | C17: 4500 | D17: 4500 | F17: 5300 | G17: 5300 | H17: 5300 | J17: 5300 | K17: 5300 | L17: 5300 | N17: 5300 | O17: 5300 | P17: 5300
A18: Wskaźnik Plan Sprzedaży Marża | B18: =B5 -> 43800 | C18: =C5 -> 92466.667 | D18: =D5 -> 146000 | F18: =F5 -> 46500 | G18: =G5 -> 98166.667 | H18: =H5 -> 155000 | J18: =J5 -> 45000 | K18: =K5 -> 95000 | L18: =L5 -> 150000 | N18: =N5 -> 47500 | O18: =O5 -> 100000 | P18: =P5 -> 150000
A19: Realizacja Wskaźnika Planu Sprzedaży Marża | B19: =B7 -> 44007.332 | C19: =C7 -> 99211.516 | D19: =D7 -> 161816.64 | F19: =F7 -> 58160.781 | G19: =G7 -> 105151.61 | H19: =H7 -> 155769.93 | J19: =J7 -> 45845.102 | K19: =K7 -> 97659.359 | L19: =L7 -> 153169.51 | N19: =N7 -> 63571.418 | O19: =O7 -> 128093.3 | P19: =P7 -> 178290.75
A20: Poziom realizacji Wskaźnika Sprzedaży Marża | B20: =B19/B18 -> 1.0047336 | C20: =C19/C18 -> 1.0729436 | D20: =D19/D18 -> 1.1083331 | F20: =F19/F18 -> 1.2507695 | G20: =G19/G18 -> 1.071154 | H20: =H19/H18 -> 1.0049673 | J20: =J19/J18 -> 1.01878 | K20: =K19/K18 -> 1.0279932 | L20: =L19/L18 -> 1.0211301 | N20: =N19/N18 -> 1.3383456 | O20: =O19/O18 -> 1.280933 | P20: =P19/P18 -> 1.188605
A21: Wysokość premii Wskaźnik Sprzedaży Marża | B21: =B17*0.35 -> 1575 | C21: =C17*0.35 -> 1575 | D21: =D17*0.35 -> 1575 | F21: =F17*0.35 -> 1855 | G21: =G17*0.35 -> 1855 | H21: =H17*0.35 -> 1855 | J21: =J17*0.35 -> 1855 | K21: =K17*0.35 -> 1855 | L21: =L17*0.35 -> 1855 | N21: =N17*0.35 -> 1855 | O21: =O17*0.35 -> 1855 | P21: =P17*0.35 -> 1855
A22: Mnożnik premii miesięcznej Wskaźnika Sprzedaży Marża | B22: =IF(B20<80%,0,IF(B20<90%,0.5,IF(B20<95%,0.75,1))) -> 1 | C22: =IF(C20<80%,0,IF(C20<90%,0.5,IF(C20<95%,0.75,1))) -> 1 | D22: =IF(D20<80%,0,IF(D20<90%,0.5,IF(D20<95%,0.75,1))) -> 1 | F22: =IF(F20<80%,0,IF(F20<90%,0.5,IF(F20<95%,0.75,1))) -> 1 | G22: =IF(G20<80%,0,IF(G20<90%,0.5,IF(G20<95%,0.75,1))) -> 1 | H22: =IF(H20<80%,0,IF(H20<90%,0.5,IF(H20<95%,0.75,1))) -> 1 | J22: =IF(J20<80%,0,IF(J20<90%,0.5,IF(J20<95%,0.75,1))) -> 1 | K22: =IF(K20<80%,0,IF(K20<90%,0.5,IF(K20<95%,0.75,1))) -> 1 | L22: =IF(L20<80%,0,IF(L20<90%,0.5,IF(L20<95%,0.75,1))) -> 1 | N22: =IF(N20<80%,0,IF(N20<90%,0.5,IF(N20<95%,0.75,1))) -> 1 | O22: =IF(O20<80%,0,IF(O20<90%,0.5,IF(O20<95%,0.75,1))) -> 1 | P22: =IF(P20<80%,0,IF(P20<90%,0.5,IF(P20<95%,0.75,1))) -> 1
A23: Premia miesięczna za Wskaźnik Sprzedaży Marża | B23: =B22*B21 -> 1575 | C23: =C22*C21 -> 1575 | D23: =D22*D21 -> 1575 | F23: =F22*F21 -> 1855 | G23: =G22*G21 -> 1855 | H23: =H22*H21 -> 1855 | J23: =J22*J21 -> 1855 | K23: =K22*K21 -> 1855 | L23: =L22*L21 -> 1855 | N23: =N22*N21 -> 1855 | O23: =O22*O21 -> 1855 | P23: =P22*P21 -> 1855
A24: Wskaźnik CRM
A25: Wysokość premii CRM | B25: =B17*0.05 -> 225 | C25: =C17*0.05 -> 225 | D25: =D17*0.05 -> 225 | F25: =F17*0.05 -> 265 | G25: =G17*0.05 -> 265 | H25: =H17*0.05 -> 265 | J25: =J17*0.05 -> 265 | K25: =K17*0.05 -> 265 | L25: =L17*0.05 -> 265 | N25: =N17*0.05 -> 265 | O25: =O17*0.05 -> 265 | P25: =P17*0.05 -> 265
A26: Mnożnik premii Wskaźnik CRM | B26: 1 | C26: 1 | D26: 1 | F26: 1 | G26: 1 | H26: 1 | J26: 1 | K26: 1 | L26: 1 | N26: 1 | O26: 1 | P26: 1
A27: Premia miesięczna za Wskaźnik CRM | B27: =B26*B25 -> 225 | C27: =C26*C25 -> 225 | D27: =D26*D25 -> 225 | F27: =F26*F25 -> 265 | G27: =G26*G25 -> 265 | H27: =H26*H25 -> 265 | J27: =J26*J25 -> 265 | K27: =K26*K25 -> 265 | L27: =L26*L25 -> 265 | N27: =N26*N25 -> 265 | O27: =O26*O25 -> 265 | P27: =P26*P25 -> 265
A28: Suma Premii miesięcznych | B28: =B23+B27 -> 1800 | C28: =C23+C27 -> 1800 | D28: =D23+D27 -> 1800 | F28: =F23+F27 -> 2120 | G28: =G23+G27 -> 2120 | H28: =H23+H27 -> 2120 | J28: =J23+J27 -> 2120 | K28: =K23+K27 -> 2120 | L28: =L23+L27 -> 2120 | N28: =N23+N27 -> 2120 | O28: =O23+O27 -> 2120 | P28: =P23+P27 -> 2120
A29: Wskaźnik Premia Kwartalna Marża | B29: =D5 -> 146000 | F29: =H5 -> 155000 | J29: =L5 -> 150000 | N29: =P5 -> 150000
A30: Realizacja Wskaźnika Premia Kwartalna | B30: =D7 -> 161816.64 | F30: =H7 -> 155769.93 | J30: =L7 -> 153169.51 | N30: =P7 -> 178290.75
A31: Poziom realizacji Wskaźnika Premia Kwartalna | B31: =B30/B29 -> 1.1083331 | F31: =F30/F29 -> 1.0049673 | J31: =J30/J29 -> 1.0211301 | N31: =N30/N29 -> 1.188605
A32: Wysokość premii kwartalnej. | B32: =D17 -> 4500 | F32: =H17 -> 5300 | J32: =L17 -> 5300 | N32: =P17 -> 5300
A33: Mnożnik premii kwartalnej | B33: =IF(B31<100%,0,IF(B31<105%,0.5,IF(B31<110%,0.7,1))) -> 1 | F33: =IF(F31<100%,0,IF(F31<105%,0.5,IF(F31<110%,0.7,1))) -> 0.5 | J33: =IF(J31<100%,0,IF(J31<105%,0.5,IF(J31<110%,0.7,1))) -> 0.5 | N33: =IF(N31<100%,0,IF(N31<105%,0.5,IF(N31<110%,0.7,1))) -> 1
A34: Premia kwartalna | B34: =B33*B32 -> 4500 | F34: =F33*F32 -> 2650 | J34: =J33*J32 -> 2650 | N34: =N33*N32 -> 5300
A36: Raport za miesiąc: | B36: styczeń | C36: luty | D36: marzec | E36: Suma | F36: kwiecień | G36: maj | H36: czerwiec | I36: Suma | J36: lipiec | K36: sierpień | L36: wrzesień | M36: Suma | N36: paździer. | O36: listopad | P36: grudzień | Q36: Suma | R36: Suma
A37: Ilość nowych Klientów: | B37: 1 | C37: 4 | D37: 3 | E37: =SUM(B37:D37) -> 8 | F37: 1 | G37: 1 | H37: 1 | I37: =SUM(F37:H37) -> 3 | J37: 3 | K37: 2 | L37: 2 | M37: =SUM(J37:L37) -> 7 | N37: 4 | O37: 2 | P37: 0 | Q37: =SUM(N37:P37) -> 6 | R37: =I37+M37+Q37+E37 -> 24
A38: Ilość Podmiotów na etapie współpracy Klient: | B38: 414 | C38: 420 | D38: 428 | F38: 435 | G38: 440 | H38: 445 | J38: 452 | K38: 457 | L38: 461 | N38: 464 | O38: 470 | P38: 475
A39: Ilość Podmiotów na etapie współpracy Handlowy: | B39: 5 | C39: 5 | D39: 2 | F39: 7 | G39: 4 | H39: 3 | J39: 2 | K39: 2 | L39: 3 | N39: 3 | O39: 3 | P39: 4
A40: Ilość Podmiotów na etapie współpracy Klient nieaktywny: | B40: 796 | C40: 796 | D40: 794 | F40: 904 | G40: 901 | H40: 898 | J40: 893 | K40: 889 | L40: 887 | N40: 886 | O40: 882 | P40: 880
A41: Ilość Podmiotów pod opieką: | B41: =SUM(B38:B40) -> 1215 | C41: =SUM(C38:C40) -> 1221 | D41: =SUM(D38:D40) -> 1224 | F41: =SUM(F38:F40) -> 1346 | G41: =SUM(G38:G40) -> 1345 | H41: =SUM(H38:H40) -> 1346 | J41: 1347 | K41: 1348 | L41: =SUM(L38:L40) -> 1351 | N41: =SUM(N38:N40) -> 1353 | O41: =SUM(O38:O40) -> 1355 | P41: =SUM(P38:P40) -> 1359
A42: Ilość sprzedanych drukarek: | B42: 4 | C42: 4 | D42: 2 | E42: =SUM(B42:D42) -> 10 | F42: 1 | G42: 2 | H42: 5 | I42: =SUM(F42:H42) -> 8 | J42: 2 | K42: 3 | L42: 2 | M42: =SUM(J42:L42) -> 7 | N42: 3 | O42: 2 | P42: 1 | Q42: =SUM(N42:P42) -> 6 | R42: =I42+M42+Q42+E42 -> 31
A43: Ilość ofert dodanych w danym miesiącu: | B43: 19 | C43: 37 | D43: 29 | E43: =SUM(B43:D43) -> 85 | F43: 17 | G43: 18 | H43: 17 | I43: =SUM(F43:H43) -> 52 | J43: 21 | K43: 22 | L43: 17 | M43: =SUM(J43:L43) -> 60 | N43: 16 | O43: 13 | P43: 15 | Q43: =SUM(N43:P43) -> 44 | R43: =I43+M43+Q43+E43 -> 241
A44: Ilość ofert oczekujących na decyzję kontrahenta: | B44: 3 | C44: 5 | D44: 1 | F44: 3 | G44: 1 | H44: 2 | J44: 1 | K44: 1 | L44: 5 | N44: 1 | O44: 1 | P44: 3
A45: Ilość zaakceptowanych ofert przez kontrahenta: | B45: 7 | C45: 17 | D45: 19 | E45: =SUM(B45:D45) -> 43 | F45: 7 | G45: 12 | H45: 12 | I45: =SUM(F45:H45) -> 31 | J45: 14 | K45: 19 | L45: 8 | M45: =SUM(J45:L45) -> 41 | N45: 8 | O45: 9 | P45: 6 | Q45: =SUM(N45:P45) -> 23 | R45: =I45+M45+Q45+E45 -> 138
A46: Ilość odrzuconych ofert przez kontrahenta: | B46: 11 | C46: 18 | D46: 14 | E46: =SUM(B46:D46) -> 43 | F46: 8 | G46: 8 | H46: 4 | I46: =SUM(F46:H46) -> 20 | J46: 8 | K46: 3 | L46: 5 | M46: =SUM(J46:L46) -> 16 | N46: 10 | O46: 7 | P46: 6 | Q46: =SUM(N46:P46) -> 23 | R46: =I46+M46+Q46+E46 -> 102
A47: Ilość przekazanych podmiotów: | B47: 10 | C47: 10 | D47: 6 | E47: =SUM(B47:D47) -> 26 | F47: 7 | G47: 6 | H47: 3 | I47: =SUM(F47:H47) -> 16 | J47: 8 | K47: 3 | L47: 6 | M47: =SUM(J47:L47) -> 17 | N47: 12 | O47: 3 | P47: 8 | Q47: =SUM(N47:P47) -> 23 | R47: =I47+M47+Q47+E47 -> 82
A48: Ilość odebranych podmiotów (zmiana prowadzącego): | B48: 0 | C48: 0 | D48: 0 | E48: =SUM(B48:D48) -> 0 | F48: 0 | G48: 0 | H48: 0 | I48: =SUM(F48:H48) -> 0 | J48: 0 | K48: 0 | L48: 0 | M48: =SUM(J48:L48) -> 0 | N48: 0 | O48: 0 | P48: 0 | Q48: =SUM(N48:P48) -> 0 | R48: =I48+M48+Q48+E48 -> 0
A49: Ilość spotkań z Klientami: | B49: 0 | C49: 0 | D49: 0 | E49: =SUM(B49:D49) -> 0 | F49: 0 | G49: 0 | H49: 0 | I49: =SUM(F49:H49) -> 0 | J49: 0 | K49: 0 | L49: 0 | M49: =SUM(J49:L49) -> 0 | N49: 0 | O49: 0 | P49: 0 | Q49: =SUM(N49:P49) -> 0 | R49: =I49+M49+Q49+E49 -> 0
A50: Ilość aktualnie otwartych wdrożeń: | B50: 8 | C50: 8 | D50: 2 | F50: 10 | G50: 5 | H50: 4 | J50: 3 | K50: 3 | L50: 4 | N50: 3 | O50: 1 | P50: 3
A51: Ilość wdrożeń dodanych w danym miesiącu: | B51: 13 | C51: 15 | D51: 6 | E51: =SUM(B51:D51) -> 34 | F51: 15 | G51: 8 | H51: 5 | I51: =SUM(F51:H51) -> 28 | J51: 9 | K51: 4 | L51: 10 | M51: =SUM(J51:L51) -> 23 | N51: 8 | O51: 4 | P51: 7 | Q51: =SUM(N51:P51) -> 19 | R51: =I51+M51+Q51+E51 -> 104
A52: Ilość wdrożeń zamkniętych pozytywnie w danym mcu: | B52: 0 | C52: 4 | D52: 4 | E52: =SUM(B52:D52) -> 8 | F52: 5 | G52: 3 | H52: 0 | I52: =SUM(F52:H52) -> 8 | J52: 3 | K52: 2 | L52: 4 | M52: =SUM(J52:L52) -> 9 | N52: 1 | O52: 6 | P52: 0 | Q52: =SUM(N52:P52) -> 7 | R52: =I52+M52+Q52+E52 -> 32
A53: Ilość wdrożeń zamkniętych negatywnie w danym mcu: | B53: 15 | C53: 12 | D53: 8 | E53: =SUM(B53:D53) -> 35 | F53: 2 | G53: 11 | H53: 6 | I53: =SUM(F53:H53) -> 19 | J53: 7 | K53: 2 | L53: 5 | M53: =SUM(J53:L53) -> 14 | N53: 7 | O53: 1 | P53: 5 | Q53: =SUM(N53:P53) -> 13 | R53: =I53+M53+Q53+E53 -> 81
A54: Ilość aktualnie odłożonych wdrożeń: | B54: 1 | C54: 1 | D54: 1 | F54: 1 | G54: 0 | H54: 0 | J54: 0 | K54: 0 | L54: 0 | N54: 0 | O54: 0 | P54: 0

Sheet RCKIK
A1: Mirosław Zagaja
A2: miesiąc | B2: styczeń | C2: luty | D2: marzec | E2: KW I | F2: kwiecień | G2: maj | H2: czerwiec | J2: lipiec | K2: sierpień | L2: wrzesień | N2: październik | O2: listopad | P2: grudzień | R2: suma
A4: Plan Sprzedaży Marża | B4: ='Target 2022'!C4 -> 26400 | C4: ='Target 2022'!D4 -> 29333.333 | D4: ='Target 2022'!E4 -> 32266.667 | E4: =SUM(B4:D4) -> 88000 | F4: ='Target 2022'!F4 -> 27600 | G4: ='Target 2022'!G4 -> 30666.667 | H4: ='Target 2022'!H4 -> 33733.333 | I4: =SUM(F4:H4) -> 92000 | J4: ='Target 2022'!I4 -> 22500 | K4: ='Target 2022'!J4 -> 25000 | L4: ='Target 2022'!K4 -> 27500 | M4: =SUM(J4:L4) -> 75000 | N4: ='Target 2022'!L4 -> 28500 | O4: ='Target 2022'!M4 -> 31500 | P4: ='Target 2022'!N4 -> 30000 | Q4: =SUM(N4:P4) -> 90000 | R4: =B4+C4+D4+F4+G4+H4+J4+K4+L4+N4+O4+P4 -> 345000
A5: Sumaryczny Plan Sprzedaży Marża | B5: =B4 -> 26400 | C5: =C4+B5 -> 55733.333 | D5: =D4+C5 -> 88000 | F5: =F4 -> 27600 | G5: =G4+F5 -> 58266.667 | H5: =H4+G5 -> 92000 | J5: =J4 -> 22500 | K5: =K4+J5 -> 47500 | L5: =L4+K5 -> 75000 | N5: =N4 -> 28500 | O5: =O4+N5 -> 60000 | P5: =P4+O5 -> 90000 | R5: =R6/R4 -> 0.97867276
A6: Miesięczna realizacja Planu Sprzedaży Marża | B6: =SUMIF(I!A:A,$A$1,I!I:I) -> 28537.287 | C6: =SUMIF(II!A:A,$A$1,II!I:I) -> 35499.852 | D6: =SUMIF(III!A:A,$A$1,III!I:I) -> 27712.318 | E6: =SUM(B6:D6) -> 91749.457 | F6: =SUMIF(IV!A:A,$A$1,IV!I:I) -> 13825.151 | G6: =SUMIF(V!A:A,$A$1,V!I:I) -> 19608.824 | H6: =SUMIF(VI!A:A,$A$1,VI!I:I) -> 24295.291 | I6: =SUM(F6:H6) -> 57729.267 | J6: =SUMIF(VII!A:A,$A$1,VII!I:I) -> 27197.637 | K6: =SUMIF(VIII!A:A,$A$1,VIII!I:I) -> 31636.938 | L6: =SUMIF(IX!A:A,$A$1,IX!I:I) -> 35692.301 | M6: =SUM(J6:L6) -> 94526.875 | N6: =SUMIF(X!A:A,$A$1,X!I:I) -> 32853.273 | O6: =SUMIF(XI!A:A,$A$1,XI!I:I) -> 25592.106 | P6: =SUMIF(XII!A:A,$A$1,XII!I:I) -> 35191.125 | Q6: =SUM(N6:P6) -> 93636.504 | R6: =B6+C6+D6+F6+G6+H6+J6+K6+L6+N6+O6+P6 -> 337642.1
A7: Sumaryczna realizacja planu sprzedaży Marża | B7: =B6 -> 28537.287 | C7: =C6+B7 -> 64037.139 | D7: =D6+C7 -> 91749.457 | F7: =F6 -> 13825.151 | G7: =G6+F7 -> 33433.976 | H7: =H6+G7 -> 57729.267 | J7: =J6 -> 27197.637 | K7: =K6+J7 -> 58834.574 | L7: =L6+K7 -> 94526.875 | M7: =SUM(E6,I6,M6)/3 -> 81335.2 | N7: =N6 -> 32853.273 | O7: =O6+N7 -> 58445.379 | P7: =P6+O7 -> 93636.504
A8: Wysokość zrealizowania Miesięcznego Planu Sprzedaży Marża | B8: =B6/B4 -> 1.0809578 | C8: =C6/C4 -> 1.2102222 | D8: =D6/D4 -> 0.85885284 | F8: =F6/F4 -> 0.50091128 | G8: =G6/G4 -> 0.63941818 | H8: =H6/H4 -> 0.72021614 | J8: =J6/J4 -> 1.2087839 | K8: =K6/K4 -> 1.2654775 | L8: =L6/L4 -> 1.2979018 | N8: =N6/N4 -> 1.1527464 | O8: =O6/O4 -> 0.81244779 | P8: =P6/P4 -> 1.1730375
A9: Wysokość zrealizowania Planu Sprzedaży Marża | B9: =B7/B5 -> 1.0809578 | C9: =C7/C5 -> 1.1489917 | D9: =D7/D5 -> 1.0426075 | F9: =F7/F5 -> 0.50091128 | G9: =G7/G5 -> 0.57380965 | H9: =H7/H5 -> 0.62749203 | J9: =J7/J5 -> 1.2087839 | K9: =K7/K5 -> 1.2386226 | L9: =L7/L5 -> 1.2603583 | N9: =N7/N5 -> 1.1527464 | O9: =O7/O5 -> 0.97408965 | P9: =P7/P5 -> 1.0404056
A10: Różnica wskaźnika Marża | B10: =B7-B5 -> 2137.2871 | C10: =C7-C5 -> 8303.8054 | D10: =D7-D5 -> 3749.4571 | F10: =F7-F5 -> -13774.849 | G10: =G7-G5 -> -24832.691 | H10: =H7-H5 -> -34270.733 | J10: =J7-J5 -> 4697.6367 | K10: =K7-K5 -> 11334.574 | L10: =L7-L5 -> 19526.875 | N10: =N7-N5 -> 4353.2734 | O10: =O7-O5 -> -1554.6211 | P10: =P7-P5 -> 3636.5039
A11: Miesięczny Obrót | B11: =SUMIF(I!A:A,$A$1,I!G:G) -> 82909.094 | C11: =SUMIF(II!A:A,$A$1,II!G:G) -> 100587.18 | D11: =SUMIF(III!A:A,$A$1,III!G:G) -> 92208.648 | E11: =SUM(B11:D11) -> 275704.92 | F11: =SUMIF(IV!A:A,$A$1,IV!G:G) -> 60653.57 | G11: =SUMIF(V!A:A,$A$1,V!G:G) -> 78057.906 | H11: =SUMIF(VI!A:A,$A$1,VI!G:G) -> 119267.7 | I11: =SUM(F11:H11) -> 257979.18 | J11: =SUMIF(VII!A:A,$A$1,VII!G:G) -> 90169.391 | K11: =SUMIF(VIII!A:A,$A$1,VIII!G:G) -> 99210.758 | L11: =SUMIF(IX!A:A,$A$1,IX!G:G) -> 123795.28 | M11: =SUM(J11:L11) -> 313175.43 | N11: =SUMIF(X!A:A,$A$1,X!G:G) -> 103041.69 | O11: =SUMIF(XI!A:A,$A$1,XI!G:G) -> 75838.211 | P11: =SUMIF(XII!A:A,$A$1,XII!G:G) -> 108531.78 | R11: =SUM(B11:E11) -> 551409.84
A12: Sumaryczny Obrót | B12: =B11 -> 82909.094 | C12: =C11+B12 -> 183496.27 | D12: =D11+C12 -> 275704.92 | F12: =F11 -> 60653.57 | G12: =G11+F12 -> 138711.48 | H12: =H11+G12 -> 257979.18 | J12: =J11 -> 90169.391 | K12: =K11+J12 -> 189380.15 | L12: =L11+K12 -> 313175.43 | N12: =N11 -> 103041.69 | O12: =O11+N12 -> 178879.9 | P12: =P11+O12 -> 287411.68
A13: Wysokość Marży miesięcznej | B13: =B6/B11 -> 0.34419972 | C13: =C6/C11 -> 0.3529262 | D13: =D6/D11 -> 0.30053925 | F13: =F6/F11 -> 0.22793632 | G13: =G6/G11 -> 0.25120869 | H13: =H6/H11 -> 0.20370386 | J13: =J6/J11 -> 0.30162826 | K13: =K6/K11 -> 0.31888616 | L13: =L6/L11 -> 0.28831713 | N13: =N6/N11 -> 0.31883478 | O13: =O6/O11 -> 0.33745661 | P13: =P6/P11 -> 0.32424719
A14: Wysokość Marży sumarycznej | B14: =B7/B12 -> 0.34419972 | C14: =C7/C12 -> 0.34898332 | D14: =D7/D12 -> 0.33278135 | F14: =F7/F12 -> 0.22793632 | G14: =G7/G12 -> 0.24103251 | H14: =H7/H12 -> 0.22377491 | J14: =J7/J12 -> 0.30162826 | K14: =K7/K12 -> 0.31066917 | L14: =L7/L12 -> 0.30183362 | N14: =N7/N12 -> 0.31883478 | O14: =O7/O12 -> 0.32672972 | P14: =P7/P12 -> 0.32579227
A16: Raport za miesiąc: | B16: styczeń | C16: luty | D16: marzec | E16: Suma | F16: kwiecień | G16: maj | H16: czerwiec | I16: Suma | J16: lipiec | K16: sierpień | L16: wrzesień | M16: Suma | N16: paździer. | O16: listopad | P16: grudzień | Q16: Suma | R16: Suma
A17: Ilość nowych Klientów: | B17: 0 | C17: 0 | D17: 0 | E17: =SUM(B17:D17) -> 0 | F17: 0 | G17: 0 | I17: =SUM(F17:H17) -> 0 | M17: =SUM(J17:L17) -> 0 | Q17: =SUM(N17:P17) -> 0 | R17: =I17+M17+Q17+E17 -> 0
A18: Ilość Podmiotów na etapie współpracy Klient: | B18: 26 | C18: 26 | D18: 26 | F18: 26 | G18: 22
A19: Ilość Podmiotów na etapie współpracy Handlowy: | B19: 0 | C19: 0 | D19: 0 | F19: 0 | G19: 0
A20: Ilość Podmiotów na etapie współpracy Klient nieaktywny: | B20: 0 | C20: 0 | D20: 0 | F20: 0 | G20: 0
A21: Ilość Podmiotów pod opieką: | B21: =SUM(B17:B20) -> 26 | C21: =SUM(C17:C20) -> 26 | D21: =SUM(D17:D20) -> 26 | F21: =SUM(F17:F20) -> 26 | G21: =SUM(G17:G20) -> 22
A22: Ilość sprzedanych drukarek: | B22: 1 | C22: 8 | D22: 0 | E22: =SUM(B22:D22) -> 9 | F22: 0 | G22: 0 | I22: =SUM(F22:H22) -> 0 | M22: =SUM(J22:L22) -> 0 | Q22: =SUM(N22:P22) -> 0 | R22: =I22+M22+Q22+E22 -> 9
A23: Ilość ofert dodanych w danym miesiącu: | B23: 10 | C23: 8 | D23: 4 | E23: =SUM(B23:D23) -> 22 | F23: 5 | G23: 8 | I23: =SUM(F23:H23) -> 13 | M23: =SUM(J23:L23) -> 0 | Q23: =SUM(N23:P23) -> 0 | R23: =I23+M23+Q23+E23 -> 35
A24: Ilość ofert oczekujących na decyzję kontrahenta: | B24: 8 | C24: 4 | D24: 2 | F24: 1 | G24: 1
A25: Ilość zaakceptowanych ofert przez kontrahenta: | B25: 2 | C25: 7 | D25: 5 | E25: =SUM(B25:D25) -> 14 | F25: 5 | G25: 8 | I25: =SUM(F25:H25) -> 13 | M25: =SUM(J25:L25) -> 0 | Q25: =SUM(N25:P25) -> 0 | R25: =I25+M25+Q25+E25 -> 27
A26: Ilość odrzuconych ofert przez kontrahenta: | B26: 0 | C26: 1 | D26: 0 | E26: =SUM(B26:D26) -> 1 | F26: 0 | G26: 3 | I26: =SUM(F26:H26) -> 3 | M26: =SUM(J26:L26) -> 0 | Q26: =SUM(N26:P26) -> 0 | R26: =I26+M26+Q26+E26 -> 4
A27: Ilość przekazanych podmiotów: | B27: 0 | C27: 0 | D27: 0 | E27: =SUM(B27:D27) -> 0 | F27: 0 | G27: 0 | I27: =SUM(F27:H27) -> 0 | M27: =SUM(J27:L27) -> 0 | Q27: =SUM(N27:P27) -> 0 | R27: =I27+M27+Q27+E27 -> 0
A28: Ilość odebranych podmiotów (zmiana prowadzącego): | B28: 0 | C28: 0 | D28: 0 | E28: =SUM(B28:D28) -> 0 | F28: 0 | G28: 0 | I28: =SUM(F28:H28) -> 0 | M28: =SUM(J28:L28) -> 0 | Q28: =SUM(N28:P28) -> 0 | R28: =I28+M28+Q28+E28 -> 0
A29: Ilość spotkań z Klientami: | B29: 0 | C29: 0 | D29: 0 | E29: =SUM(B29:D29) -> 0 | F29: 0 | G29: 0 | I29: =SUM(F29:H29) -> 0 | M29: =SUM(J29:L29) -> 0 | Q29: =SUM(N29:P29) -> 0 | R29: =I29+M29+Q29+E29 -> 0
A30: Ilość aktualnie otwartych wdrożeń: | B30: 6 | C30: 6 | D30: 6 | F30: 0 | G30: 0
A31: Ilość wdrożeń dodanych w danym miesiącu: | B31: 0 | C31: 0 | D31: 0 | E31: =SUM(B31:D31) -> 0 | F31: 0 | G31: 0 | I31: =SUM(F31:H31) -> 0 | M31: =SUM(J31:L31) -> 0 | Q31: =SUM(N31:P31) -> 0 | R31: =I31+M31+Q31+E31 -> 0
A32: Ilość wdrożeń zamkniętych pozytywnie w danym mcu: | B32: 0 | C32: 0 | D32: 0 | E32: =SUM(B32:D32) -> 0 | F32: 0 | G32: 0 | I32: =SUM(F32:H32) -> 0 | M32: =SUM(J32:L32) -> 0 | Q32: =SUM(N32:P32) -> 0 | R32: =I32+M32+Q32+E32 -> 0
A33: Ilość wdrożeń zamkniętych negatywnie w danym mcu: | B33: 0 | C33: 0 | D33: 0 | E33: =SUM(B33:D33) -> 0 | F33: 1 | G33: 0 | I33: =SUM(F33:H33) -> 1 | M33: =SUM(J33:L33) -> 0 | Q33: =SUM(N33:P33) -> 0 | R33: =I33+M33+Q33+E33 -> 1
A34: Ilość aktualnie odłożonych wdrożeń: | B34: 0 | C34: 0 | D34: 0 | F34: 0 | G34: 0

Sheet BARTEK
A1: Bartłomiej Biskupski | B1: PLAN I KW BARTŁOMIEJ BISKUPSKI | F1: PLAN II KW BARTŁOMIEJ BISKUPSKI | J1: PLAN III KW BARTŁOMIEJ BISKUPSKI | N1: PLAN IV KW BARTŁOMIEJ BISKUPSKI
A2: miesiąc | B2: styczeń | C2: luty | D2: marzec | E2: KW I | F2: kwiecień | G2: maj | H2: czerwiec | I2: KW II | J2: lipiec | K2: sierpień | L2: wrzesień | M2: KW III | N2: październik | O2: listopad | P2: grudzień | Q2: KW IV | R2: suma ROK
A4: Plan Sprzedaży Marża | B4: ='Target 2022'!C5 -> 58350 | C4: ='Target 2022'!D5 -> 64833.333 | D4: ='Target 2022'!E5 -> 71316.667 | E4: =SUM(B4:D4) -> 194500 | F4: ='Target 2022'!F5 -> 62100 | G4: ='Target 2022'!G5 -> 69000 | H4: ='Target 2022'!H5 -> 75900 | I4: =SUM(F4:H4) -> 207000 | J4: ='Target 2022'!I5 -> 66000 | K4: ='Target 2022'!J5 -> 73333.333 | L4: ='Target 2022'!K5 -> 80666.667 | M4: =SUM(J4:L4) -> 220000 | N4: ='Target 2022'!L5 -> 68716.667 | O4: ='Target 2022'!M5 -> 75950 | P4: ='Target 2022'!N5-32800 -> 39533.333 | Q4: =SUM(N4:P4) -> 184200 | R4: =E4+I4+M4+Q4 -> 805700
A5: Sumaryczny Plan Sprzedaży Marża | B5: =B4 -> 58350 | C5: =C4+B5 -> 123183.33 | D5: =D4+C5 -> 194500 | F5: =F4 -> 62100 | G5: =G4+F5 -> 131100 | H5: =H4+G5 -> 207000 | J5: =J4 -> 66000 | K5: =K4+J5 -> 139333.33 | L5: =L4+K5 -> 220000 | N5: =N4 -> 68716.667 | O5: =O4+N5 -> 144666.67 | P5: =P4+O5 -> 184200 | R5: =R6/R4 -> 1.0944783
A6: Miesięczna realizacja Planu Sprzedaży Marża | B6: =SUMIF(I!A:A,$A$1,I!I:I) -> 63075.902 | C6: =SUMIF(II!A:A,$A$1,II!I:I) -> 78391.422 | D6: =SUMIF(III!A:A,$A$1,III!I:I) -> 84529.205 | E6: =SUM(B6:D6) -> 225996.53 | F6: =SUMIF(IV!A:A,$A$1,IV!I:I) -> 91732.251 | G6: =SUMIF(V!A:A,$A$1,V!I:I) -> 71066.18 | H6: =SUMIF(VI!A:A,$A$1,VI!I:I) -> 70274.394 | I6: =SUM(F6:H6) -> 233072.82 | J6: =SUMIF(VII!A:A,$A$1,VII!I:I) -> 73531.049 | K6: =SUMIF(VIII!A:A,$A$1,VIII!I:I) -> 80162.843 | L6: =SUMIF(IX!A:A,$A$1,IX!I:I) -> 94035.93 | M6: =SUM(J6:L6) -> 247729.82 | N6: =SUMIF(X!A:A,$A$1,X!I:I) -> 70336.038 | O6: =SUMIF(XI!A:A,$A$1,XI!I:I) -> 68167.509 | P6: =SUMIF(XII!A:A,$A$1,XII!I:I) -> 36518.473 | Q6: =SUM(N6:P6) -> 175022.02 | R6: =E6+I6+M6+Q6 -> 881821.2
A7: Sumaryczna realizacja planu sprzedaży Marża | B7: =B6 -> 63075.902 | C7: =C6+B7 -> 141467.32 | D7: =D6+C7 -> 225996.53 | F7: =F6 -> 91732.251 | G7: =G6+F7 -> 162798.43 | H7: =H6+G7 -> 233072.82 | J7: =J6 -> 73531.049 | K7: =K6+J7 -> 153693.89 | L7: =L6+K7 -> 247729.82 | M7: =SUM(E6,I6,M6)/3 -> 235599.73 | N7: =N6 -> 70336.038 | O7: =O6+N7 -> 138503.55 | P7: =P6+O7 -> 175022.02
A8: Wysokość zrealizowania Miesięcznego Planu Sprzedaży Marża | B8: =B6/B4 -> 1.0809923 | C8: =C6/C4 -> 1.2091222 | D8: =D6/D4 -> 1.1852658 | F8: =F6/F4 -> 1.4771699 | G8: =G6/G4 -> 1.0299446 | H8: =H6/H4 -> 0.92588135 | J8: =J6/J4 -> 1.1141068 | K8: =K6/K4 -> 1.0931297 | L8: =L6/L4 -> 1.1657347 | N8: =N6/N4 -> 1.0235659 | O8: =O6/O4 -> 0.89753139 | P8: =P6/P4 -> 0.92373877 | Q8: =Q4*1.05 -> 193410
A9: Wysokość zrealizowania Planu Sprzedaży Marża | B9: =B7/B5 -> 1.0809923 | C9: =C7/C5 -> 1.1484291 | D9: =D7/D5 -> 1.1619359 | F9: =F7/F5 -> 1.4771699 | G9: =G7/G5 -> 1.2417882 | H9: =H7/H5 -> 1.1259557 | J9: =J7/J5 -> 1.1141068 | K9: =K7/K5 -> 1.1030662 | L9: =L7/L5 -> 1.1260446 | N9: =N7/N5 -> 1.0235659 | O9: =O7/O5 -> 0.95739779 | P9: =P7/P5 -> 0.95017383 | Q9: =Q8-Q6 -> 18387.98
A10: Różnica wskaźnika Marża | B10: =B7-B5 -> 4725.9023 | C10: =C7-C5 -> 18283.991 | D10: =D7-D5 -> 31496.529 | F10: =F7-F5 -> 29632.251 | G10: =G7-G5 -> 31698.43 | H10: =H7-H5 -> 26072.824 | J10: =J7-J5 -> 7531.0494 | K10: =K7-K5 -> 14360.559 | L10: =L7-L5 -> 27729.823 | N10: =N7-N5 -> 1619.3714 | O10: =O7-O5 -> -6163.1195 | P10: =P7-P5 -> -9177.9801
A11: Miesięczny Obrót | B11: =SUMIF(I!A:A,$A$1,I!G:G) -> 150744.8 | C11: =SUMIF(II!A:A,$A$1,II!G:G) -> 202700.73 | D11: =SUMIF(III!A:A,$A$1,III!G:G) -> 205989.8 | E11: =SUM(B11:D11) -> 559435.33 | F11: =SUMIF(IV!A:A,$A$1,IV!G:G) -> 328642.91 | G11: =SUMIF(V!A:A,$A$1,V!G:G) -> 239261.81 | H11: =SUMIF(VI!A:A,$A$1,VI!G:G) -> 187775.8 | I11: =SUM(F11:H11) -> 755680.52 | J11: =SUMIF(VII!A:A,$A$1,VII!G:G) -> 185075.19 | K11: =SUMIF(VIII!A:A,$A$1,VIII!G:G) -> 182030.12 | L11: =SUMIF(IX!A:A,$A$1,IX!G:G) -> 216599.39 | M11: =SUM(J11:L11) -> 583704.7 | N11: =SUMIF(X!A:A,$A$1,X!G:G) -> 169738.52 | O11: =SUMIF(XI!A:A,$A$1,XI!G:G) -> 206258.27 | P11: =SUMIF(XII!A:A,$A$1,XII!G:G) -> 118893.73 | Q11: =SUM(N11:P11) -> 494890.51 | R11: =E11+I11+M11+Q11 -> 2393711.1
A12: Sumaryczny Obrót | B12: =B11 -> 150744.8 | C12: =C11+B12 -> 353445.53 | D12: =D11+C12 -> 559435.33 | F12: =F11 -> 328642.91 | G12: =G11+F12 -> 567904.72 | H12: =H11+G12 -> 755680.52 | J12: =J11 -> 185075.19 | K12: =K11+J12 -> 367105.31 | L12: =L11+K12 -> 583704.7 | N12: =N11 -> 169738.52 | O12: =O11+N12 -> 375996.78 | P12: =P11+O12 -> 494890.51
A13: Wysokość Marży miesięcznej | B13: =B6/B11 -> 0.41842839 | C13: =C6/C11 -> 0.38673477 | D13: =D6/D11 -> 0.41035627 | F13: =F6/F11 -> 0.27912439 | G13: =G6/G11 -> 0.29702266 | H13: =H6/H11 -> 0.37424628 | J13: =J6/J11 -> 0.39730366 | K13: =K6/K11 -> 0.44038229 | L13: =L6/L11 -> 0.43414679 | N13: =N6/N11 -> 0.41437877 | O13: =O6/O11 -> 0.33049589 | P13: =P6/P11 -> 0.30715223
A14: Wysokość Marży sumarycznej | B14: =B7/B12 -> 0.41842839 | C14: =C7/C12 -> 0.40025212 | D14: =D7/D12 -> 0.40397257 | F14: =F7/F12 -> 0.27912439 | G14: =G7/G12 -> 0.28666504 | H14: =H7/H12 -> 0.30842773 | J14: =J7/J12 -> 0.39730366 | K14: =K7/K12 -> 0.41866431 | L14: =L7/L12 -> 0.4244095 | N14: =N7/N12 -> 0.41437877 | O14: =O7/O12 -> 0.36836365 | P14: =P7/P12 -> 0.35365807
B16: PREMIE
A17: Wynagrodzenie zasadnicze | B17: 5000 | C17: 5000 | D17: 5000 | F17: 5700 | G17: 5700 | H17: 5700 | J17: 5700 | K17: 5700 | L17: 5700 | N17: 5700 | O17: 5700 | P17: 5700
A18: Wskaźnik Plan Sprzedaży Marża | B18: =B5 -> 58350 | C18: =C5 -> 123183.33 | D18: =D5 -> 194500 | F18: =F5 -> 62100 | G18: =G5 -> 131100 | H18: =H5 -> 207000 | J18: =J5 -> 66000 | K18: =K5 -> 139333.33 | L18: =L5 -> 220000 | N18: =N5 -> 68716.667 | O18: =O5 -> 144666.67 | P18: =P5 -> 184200
A19: Realizacja Wskaźnika Planu Sprzedaży Marża | B19: =B7 -> 63075.902 | C19: =C7 -> 141467.32 | D19: =D7 -> 225996.53 | F19: =F7 -> 91732.251 | G19: =G7 -> 162798.43 | H19: =H7 -> 233072.82 | J19: =J7 -> 73531.049 | K19: =K7 -> 153693.89 | L19: =L7 -> 247729.82 | N19: =N7 -> 70336.038 | O19: =O7 -> 138503.55 | P19: =P7 -> 175022.02
A20: Poziom realizacji Wskaźnika Sprzedaży Marża | B20: =B19/B18 -> 1.0809923 | C20: =C19/C18 -> 1.1484291 | D20: =D19/D18 -> 1.1619359 | F20: =F19/F18 -> 1.4771699 | G20: =G19/G18 -> 1.2417882 | H20: =H19/H18 -> 1.1259557 | J20: =J19/J18 -> 1.1141068 | K20: =K19/K18 -> 1.1030662 | L20: =L19/L18 -> 1.1260446 | N20: =N19/N18 -> 1.0235659 | O20: =O19/O18 -> 0.95739779 | P20: =P19/P18 -> 0.95017383
A21: Wysokość premii Wskaźnik Sprzedaży Marża | B21: =B17*0.35 -> 1750 | C21: =C17*0.35 -> 1750 | D21: =D17*0.35 -> 1750 | F21: =F17*0.35 -> 1995 | G21: =G17*0.35 -> 1995 | H21: =H17*0.35 -> 1995 | J21: =J17*0.35 -> 1995 | K21: =K17*0.35 -> 1995 | L21: =L17*0.35 -> 1995 | N21: =N17*0.35 -> 1995 | O21: =O17*0.35 -> 1995 | P21: =P17*0.35 -> 1995
A22: Mnożnik premii miesięcznej Wskaźnika Sprzedaży Marża | B22: =IF(B20<80%,0,IF(B20<90%,0.5,IF(B20<95%,0.75,1))) -> 1 | C22: =IF(C20<80%,0,IF(C20<90%,0.5,IF(C20<95%,0.75,1))) -> 1 | D22: =IF(D20<80%,0,IF(D20<90%,0.5,IF(D20<95%,0.75,1))) -> 1 | F22: =IF(F20<80%,0,IF(F20<90%,0.5,IF(F20<95%,0.75,1))) -> 1 | G22: =IF(G20<80%,0,IF(G20<90%,0.5,IF(G20<95%,0.75,1))) -> 1 | H22: =IF(H20<80%,0,IF(H20<90%,0.5,IF(H20<95%,0.75,1))) -> 1 | J22: =IF(J20<80%,0,IF(J20<90%,0.5,IF(J20<95%,0.75,1))) -> 1 | K22: =IF(K20<80%,0,IF(K20<90%,0.5,IF(K20<95%,0.75,1))) -> 1 | L22: =IF(L20<80%,0,IF(L20<90%,0.5,IF(L20<95%,0.75,1))) -> 1 | N22: =IF(N20<80%,0,IF(N20<90%,0.5,IF(N20<95%,0.75,1))) -> 1 | O22: =IF(O20<80%,0,IF(O20<90%,0.5,IF(O20<95%,0.75,1))) -> 1 | P22: =IF(P20<80%,0,IF(P20<90%,0.5,IF(P20<95%,0.75,1))) -> 1
A23: Premia miesięczna za Wskaźnik Sprzedaży Marża | B23: =B22*B21 -> 1750 | C23: =C22*C21 -> 1750 | D23: =D22*D21 -> 1750 | F23: =F22*F21 -> 1995 | G23: =G22*G21 -> 1995 | H23: =H22*H21 -> 1995 | J23: =J22*J21 -> 1995 | K23: =K22*K21 -> 1995 | L23: =L22*L21 -> 1995 | N23: =N22*N21 -> 1995 | O23: =O22*O21 -> 1995 | P23: =P22*P21 -> 1995
A24: Wskaźnik CRM | F24: 1
A25: Wysokość premii CRM | B25: =B17*0.05 -> 250 | C25: =C17*0.05 -> 250 | D25: =D17*0.05 -> 250 | F25: =F17*0.05 -> 285 | G25: =G17*0.05 -> 285 | H25: =H17*0.05 -> 285 | J25: =J17*0.05 -> 285 | K25: =K17*0.05 -> 285 | L25: =L17*0.05 -> 285 | N25: =N17*0.05 -> 285 | O25: =O17*0.05 -> 285 | P25: =P17*0.05 -> 285
A26: Mnożnik premii Wskaźnik CRM | B26: 1 | C26: 1 | D26: 1 | F26: 1 | G26: 1 | H26: 1 | J26: 1 | K26: 1 | L26: 1 | N26: 1 | O26: 1 | P26: 1
A27: Premia miesięczna za Wskaźnik CRM | B27: =B26*B25 -> 250 | C27: =C26*C25 -> 250 | D27: =D26*D25 -> 250 | F27: =F26*F25 -> 285 | G27: =G26*G25 -> 285 | H27: =H26*H25 -> 285 | J27: =J26*J25 -> 285 | K27: =K26*K25 -> 285 | L27: =L26*L25 -> 285 | N27: =N26*N25 -> 285 | O27: =O26*O25 -> 285 | P27: =P26*P25 -> 285
A28: Suma Premii miesięcznych | B28: =B23+B27 -> 2000 | C28: =C23+C27 -> 2000 | D28: =D23+D27 -> 2000 | F28: =F23+F27 -> 2280 | G28: =G23+G27 -> 2280 | H28: =H23+H27 -> 2280 | J28: =J23+J27 -> 2280 | K28: =K23+K27 -> 2280 | L28: =L23+L27 -> 2280 | N28: =N23+N27 -> 2280 | O28: =O23+O27 -> 2280 | P28: =P23+P27 -> 2280
A29: Wskaźnik Premia Kwartalna Marża | B29: =D5 -> 194500 | F29: =H5 -> 207000 | J29: =L5 -> 220000 | N29: =P5 -> 184200
A30: Realizacja Wskaźnika Premia Kwartalna | B30: =D7 -> 225996.53 | F30: =H7 -> 233072.82 | J30: =L7 -> 247729.82 | N30: =P7 -> 175022.02
A31: Poziom realizacji Wskaźnika Premia Kwartalna | B31: =B30/B29 -> 1.1619359 | F31: =F30/F29 -> 1.1259557 | J31: =J30/J29 -> 1.1260446 | N31: =N30/N29 -> 0.95017383
A32: Wysokość premii kwartalnej. | B32: =D17 -> 5000 | F32: =H17 -> 5700 | J32: =L17 -> 5700 | N32: =P17 -> 5700
A33: Mnożnik premii kwartalnej | B33: =IF(B31<100%,0,IF(B31<105%,0.5,IF(B31<110%,0.7,1))) -> 1 | F33: =IF(F31<100%,0,IF(F31<105%,0.5,IF(F31<110%,0.7,1))) -> 1 | J33: =IF(J31<100%,0,IF(J31<105%,0.5,IF(J31<110%,0.7,1))) -> 1 | N33: =IF(N31<100%,0,IF(N31<105%,0.5,IF(N31<110%,0.7,1))) -> 0
A34: Premia kwartalna | B34: =B33*B32 -> 5000 | F34: =F33*F32 -> 5700 | J34: =J33*J32 -> 5700 | N34: =N33*N32 -> 0
A36: Raport za miesiąc: | B36: styczeń | C36: luty | D36: marzec | E36: Suma | F36: kwiecień | G36: maj | H36: czerwiec | I36: Suma | J36: lipiec | K36: sierpień | L36: wrzesień | M36: Suma | N36: paździer. | O36: listopad | P36: grudzień | Q36: Suma | R36: Suma
A37: Ilość nowych Klientów: | B37: 0 | C37: 0 | D37: 0 | E37: =SUM(B37:D37) -> 0 | F37: 0 | G37: 0 | H37: 0 | I37: =SUM(F37:H37) -> 0 | J37: 0 | K37: 1 | L37: 0 | M37: =SUM(J37:L37) -> 1 | N37: 0 | O37: 0 | P37: 1 | Q37: =SUM(N37:P37) -> 1 | R37: =I37+M37+Q37+E37 -> 2
A38: Ilość Podmiotów na etapie współpracy Klient: | B38: 72 | C38: 72 | D38: 72 | F38: 72 | G38: 74 | H38: 74 | J38: 75 | K38: 76 | L38: 76 | N38: 76 | O38: 76 | P38: 78
A39: Ilość Podmiotów na etapie współpracy Handlowy: | B39: 12 | C39: 12 | D39: 12 | F39: 23 | G39: 26 | H39: 27 | J39: 27 | K39: 26 | L39: 28 | N39: 27 | O39: 26 | P39: 28
A40: Ilość Podmiotów na etapie współpracy Klient nieaktywny: | B40: 21 | C40: 21 | D40: 22 | F40: 28 | G40: 27 | H40: 27 | J40: 27 | K40: 27 | L40: 27 | N40: 27 | O40: 27 | P40: 26
A41: Ilość Podmiotów pod opieką: | B41: =SUM(B38:B40) -> 105 | C41: =SUM(C38:C40) -> 105 | D41: =SUM(D38:D40) -> 106 | F41: =SUM(F38:F40) -> 123 | G41: =SUM(G38:G40) -> 127 | H41: =SUM(H38:H40) -> 128 | J41: 129 | K41: 129 | L41: =SUM(L38:L40) -> 131 | N41: =SUM(N38:N40) -> 130 | O41: =SUM(O38:O40) -> 129 | P41: =SUM(P38:P40) -> 132
A42: Ilość sprzedanych drukarek: | B42: 3 | C42: 1 | D42: 2 | E42: =SUM(B42:D42) -> 6 | F42: 0 | G42: 1 | H42: 1 | I42: =SUM(F42:H42) -> 2 | J42: 0 | K42: 1 | L42: 0 | M42: =SUM(J42:L42) -> 1 | N42: 0 | O42: 0 | P42: 1 | Q42: =SUM(N42:P42) -> 1 | R42: =I42+M42+Q42+E42 -> 10
A43: Ilość ofert dodanych w danym miesiącu: | B43: 33 | C43: 33 | D43: 54 | E43: =SUM(B43:D43) -> 120 | F43: 36 | G43: 33 | H43: 24 | I43: =SUM(F43:H43) -> 93 | J43: 42 | K43: 38 | L43: 28 | M43: =SUM(J43:L43) -> 108 | N43: 30 | O43: 25 | P43: 31 | Q43: =SUM(N43:P43) -> 86 | R43: =I43+M43+Q43+E43 -> 407
A44: Ilość ofert oczekujących na decyzję kontrahenta: | B44: 8 | C44: 8 | D44: 12 | F44: 9 | G44: 9 | H44: 8 | J44: 12 | K44: 9 | L44: 3 | N44: 10 | O44: 8 | P44: 11
A45: Ilość zaakceptowanych ofert przez kontrahenta: | B45: 16 | C45: 22 | D45: 29 | E45: =SUM(B45:D45) -> 67 | F45: 23 | G45: 15 | H45: 11 | I45: =SUM(F45:H45) -> 49 | J45: 28 | K45: 22 | L45: 21 | M45: =SUM(J45:L45) -> 71 | N45: 13 | O45: 12 | P45: 24 | Q45: =SUM(N45:P45) -> 49 | R45: =I45+M45+Q45+E45 -> 236
A46: Ilość odrzuconych ofert przez kontrahenta: | B46: 12 | C46: 8 | D46: 24 | E46: =SUM(B46:D46) -> 44 | F46: 13 | G46: 20 | H46: 17 | I46: =SUM(F46:H46) -> 50 | J46: 10 | K46: 19 | L46: 13 | M46: =SUM(J46:L46) -> 42 | N46: 10 | O46: 15 | P46: 15 | Q46: =SUM(N46:P46) -> 40 | R46: =I46+M46+Q46+E46 -> 176
A47: Ilość przekazanych podmiotów: | B47: 1 | C47: 1 | D47: 0 | E47: =SUM(B47:D47) -> 2 | F47: 0 | G47: 1 | H47: 3 | I47: =SUM(F47:H47) -> 4 | J47: 0 | K47: 0 | L47: 2 | M47: =SUM(J47:L47) -> 2 | N47: 2 | O47: 0 | P47: 1 | Q47: =SUM(N47:P47) -> 3 | R47: =I47+M47+Q47+E47 -> 11
A48: Ilość odebranych podmiotów (zmiana prowadzącego): | B48: 0 | C48: 0 | D48: 0 | E48: =SUM(B48:D48) -> 0 | F48: 0 | G48: 0 | H48: 0 | I48: =SUM(F48:H48) -> 0 | J48: 0 | K48: 0 | L48: 0 | M48: =SUM(J48:L48) -> 0 | N48: 0 | O48: 0 | P48: 0 | Q48: =SUM(N48:P48) -> 0 | R48: =I48+M48+Q48+E48 -> 0
A49: Ilość spotkań z Klientami: | B49: 3 | C49: 1 | D49: 1 | E49: =SUM(B49:D49) -> 5 | F49: 0 | G49: 5 | H49: 4 | I49: =SUM(F49:H49) -> 9 | J49: 3 | K49: 2 | L49: 4 | M49: =SUM(J49:L49) -> 9 | N49: 2 | O49: 0 | P49: 2 | Q49: =SUM(N49:P49) -> 4 | R49: =I49+M49+Q49+E49 -> 27
A50: Ilość aktualnie otwartych wdrożeń: | B50: 26 | C50: 19 | D50: 22 | F50: 17 | G50: 22 | H50: 19 | J50: 18 | K50: 16 | L50: 12 | N50: 18 | O50: 19 | P50: 14
A51: Ilość wdrożeń dodanych w danym miesiącu: | B51: 15 | C51: 7 | D51: 15 | E51: =SUM(B51:D51) -> 37 | F51: 15 | G51: 16 | H51: 8 | I51: =SUM(F51:H51) -> 39 | J51: 9 | K51: 8 | L51: 6 | M51: =SUM(J51:L51) -> 23 | N51: 10 | O51: 10 | P51: 10 | Q51: =SUM(N51:P51) -> 30 | R51: =I51+M51+Q51+E51 -> 129
A52: Ilość wdrożeń zamkniętych pozytywnie w danym mcu: | B52: 10 | C52: 6 | D52: 9 | E52: =SUM(B52:D52) -> 25 | F52: 7 | G52: 8 | H52: 2 | I52: =SUM(F52:H52) -> 17 | J52: 3 | K52: 7 | L52: 5 | M52: =SUM(J52:L52) -> 15 | N52: 1 | O52: 4 | P52: 8 | Q52: =SUM(N52:P52) -> 13 | R52: =I52+M52+Q52+E52 -> 70
A53: Ilość wdrożeń zamkniętych negatywnie w danym mcu: | B53: 10 | C53: 8 | D53: 7 | E53: =SUM(B53:D53) -> 25 | F53: 11 | G53: 3 | H53: 9 | I53: =SUM(F53:H53) -> 23 | J53: 7 | K53: 3 | L53: 7 | M53: =SUM(J53:L53) -> 17 | N53: 4 | O53: 5 | P53: 6 | Q53: =SUM(N53:P53) -> 15 | R53: =I53+M53+Q53+E53 -> 80
A54: Ilość aktualnie odłożonych wdrożeń: | B54: 0 | C54: 0 | D54: 0 | F54: 0 | G54: 0 | H54: 0 | J54: 0 | K54: 0 | L54: 0 | N54: 0 | O54: 0 | P54: 0

Sheet PIOTR
A1: Piotr Choma | B1: PLAN I KW Piotr Choma | F1: PLAN II KW Piotr Choma | J1: PLAN III KW Piotr Choma | N1: PLAN IV KW Piotr Choma
A2: miesiąc | B2: styczeń | C2: luty | D2: marzec | E2: KW I | F2: kwiecień | G2: maj | H2: czerwiec | I2: KW II | J2: lipiec | K2: sierpień | L2: wrzesień | M2: KW III | N2: październik | O2: listopad | P2: grudzień | Q2: KW IV | R2: suma ROK
A4: Plan Sprzedaży Marża | B4: ='Target 2022'!C6-6000 -> 70350 | C4: ='Target 2022'!D6-30000 -> 54833.333 | D4: ='Target 2022'!E6+6000+30000 -> 129316.67 | E4: =SUM(B4:D4) -> 254500 | F4: ='Target 2022'!F6 -> 74700 | G4: ='Target 2022'!G6 -> 83000 | H4: ='Target 2022'!H6 -> 91300 | I4: =SUM(F4:H4) -> 249000 | J4: ='Target 2022'!I6 -> 76500 | K4: ='Target 2022'!J6 -> 85000 | L4: ='Target 2022'!K6-20900 -> 72600 | M4: =SUM(J4:L4) -> 234100 | N4: ='Target 2022'!L6 -> 79166.667 | O4: ='Target 2022'!M6-700 -> 86800 | P4: ='Target 2022'!N6+20900+700-36000 -> 68933.333 | Q4: =SUM(N4:P4) -> 234900 | R4: =E4+I4+M4+Q4 -> 972500
A5: Sumaryczny Plan Sprzedaży Marża | B5: =B4 -> 70350 | C5: =C4+B5 -> 125183.33 | D5: =D4+C5 -> 254500 | F5: =F4 -> 74700 | G5: =G4+F5 -> 157700 | H5: =H4+G5 -> 249000 | J5: =J4 -> 76500 | K5: =K4+J5 -> 161500 | L5: =L4+K5 -> 234100 | N5: =N4 -> 79166.667 | O5: =O4+N5 -> 165966.67 | P5: =P4+O5 -> 234900 | R5: =R6/R4 -> 0.96178441
A6: Miesięczna realizacja Planu Sprzedaży Marża | B6: =SUMIF(I!A:A,$A$1,I!I:I) -> 56827.078 | C6: =SUMIF(II!A:A,$A$1,II!I:I) -> 58179.823 | D6: =SUMIF(III!A:A,$A$1,III!I:I) -> 120879.08 | E6: =SUM(B6:D6) -> 235885.98 | F6: =SUMIF(IV!A:A,$A$1,IV!I:I) -> 77554.474 | G6: =SUMIF(V!A:A,$A$1,V!I:I) -> 115843.93 | H6: =SUMIF(VI!A:A,$A$1,VI!I:I) -> 70921.754 | I6: =SUM(F6:H6) -> 264320.16 | J6: =SUMIF(VII!A:A,$A$1,VII!I:I) -> 90332.25 | K6: =SUMIF(VIII!A:A,$A$1,VIII!I:I) -> 67092.867 | L6: =SUMIF(IX!A:A,$A$1,IX!I:I) -> 65015.293 | M6: =SUM(J6:L6) -> 222440.41 | N6: =SUMIF(X!A:A,$A$1,X!I:I) -> 81505.717 | O6: =SUMIF(XI!A:A,$A$1,XI!I:I) -> 76523.542 | P6: =SUMIF(XII!A:A,$A$1,XII!I:I) -> 54659.527 | Q6: =SUM(N6:P6) -> 212688.79 | R6: =E6+I6+M6+Q6 -> 935335.33
A7: Sumaryczna realizacja planu sprzedaży Marża | B7: =B6 -> 56827.078 | C7: =C6+B7 -> 115006.9 | D7: =D6+C7 -> 235885.98 | F7: =F6 -> 77554.474 | G7: =G6+F7 -> 193398.4 | H7: =H6+G7 -> 264320.16 | J7: =J6 -> 90332.25 | K7: =K6+J7 -> 157425.12 | L7: =L6+K7 -> 222440.41 | M7: =SUM(E6,I6,M6)/3 -> 240882.18 | N7: =N6 -> 81505.717 | O7: =O6+N7 -> 158029.26 | P7: =P6+O7 -> 212688.79
A8: Wysokość zrealizowania Miesięcznego Planu Sprzedaży Marża | B8: =B6/B4 -> 0.80777652 | C8: =C6/C4 -> 1.0610302 | D8: =D6/D4 -> 0.9347525 | F8: =F6/F4 -> 1.0382125 | G8: =G6/G4 -> 1.39571 | H8: =H6/H4 -> 0.77679906 | J8: =J6/J4 -> 1.1808137 | K8: =K6/K4 -> 0.78932785 | L8: =L6/L4 -> 0.89552744 | N8: =N6/N4 -> 1.0295459 | O8: =O6/O4 -> 0.88160763 | P8: =P6/P4 -> 0.79293318
A9: Wysokość zrealizowania Planu Sprzedaży Marża | B9: =B7/B5 -> 0.80777652 | C9: =C7/C5 -> 0.91870777 | D9: =D7/D5 -> 0.92686043 | F9: =F7/F5 -> 1.0382125 | G9: =G7/G5 -> 1.2263691 | H9: =H7/H5 -> 1.0615267 | J9: =J7/J5 -> 1.1808137 | K9: =K7/K5 -> 0.97476853 | L9: =L7/L5 -> 0.95019398 | N9: =N7/N5 -> 1.0295459 | O9: =O7/O5 -> 0.95217469 | P9: =P7/P5 -> 0.90544396
A10: Różnica wskaźnika Marża | B10: =B7-B5 -> -13522.922 | C10: =C7-C5 -> -10176.432 | D10: =D7-D5 -> -18614.021 | F10: =F7-F5 -> 2854.4744 | G10: =G7-G5 -> 35698.404 | H10: =H7-H5 -> 15320.158 | J10: =J7-J5 -> 13832.25 | K10: =K7-K5 -> -4074.8828 | L10: =L7-L5 -> -11659.59 | N10: =N7-N5 -> 2339.0508 | O10: =O7-O5 -> -7937.407 | P10: =P7-P5 -> -22211.213
A11: Miesięczny Obrót | B11: =SUMIF(I!A:A,$A$1,I!G:G) -> 180624.34 | C11: =SUMIF(II!A:A,$A$1,II!G:G) -> 201266.55 | D11: =SUMIF(III!A:A,$A$1,III!G:G) -> 348174 | E11: =SUM(B11:D11) -> 730064.89 | F11: =SUMIF(IV!A:A,$A$1,IV!G:G) -> 280336.91 | G11: =SUMIF(V!A:A,$A$1,V!G:G) -> 500516.81 | H11: =SUMIF(VI!A:A,$A$1,VI!G:G) -> 277892.16 | I11: =SUM(F11:H11) -> 1058745.9 | J11: =SUMIF(VII!A:A,$A$1,VII!G:G) -> 290074.56 | K11: =SUMIF(VIII!A:A,$A$1,VIII!G:G) -> 252414.38 | L11: =SUMIF(IX!A:A,$A$1,IX!G:G) -> 223829.92 | M11: =SUM(J11:L11) -> 766318.86 | N11: =SUMIF(X!A:A,$A$1,X!G:G) -> 312399.34 | O11: =SUMIF(XI!A:A,$A$1,XI!G:G) -> 265949.84 | P11: =SUMIF(XII!A:A,$A$1,XII!G:G) -> 200949.59 | Q11: =SUM(N11:P11) -> 779298.78 | R11: =E11+I11+M11+Q11 -> 3334428.4
A12: Sumaryczny Obrót | B12: =B11 -> 180624.34 | C12: =C11+B12 -> 381890.89 | D12: =D11+C12 -> 730064.89 | F12: =F11 -> 280336.91 | G12: =G11+F12 -> 780853.72 | H12: =H11+G12 -> 1058745.9 | J12: =J11 -> 290074.56 | K12: =K11+J12 -> 542488.94 | L12: =L11+K12 -> 766318.86 | N12: =N11 -> 312399.34 | O12: =O11+N12 -> 578349.19 | P12: =P11+O12 -> 779298.78
A13: Wysokość Marży miesięcznej | B13: =B6/B11 -> 0.31461472 | C13: =C6/C11 -> 0.28906852 | D13: =D6/D11 -> 0.34718008 | F13: =F6/F11 -> 0.27664739 | G13: =G6/G11 -> 0.23144863 | H13: =H6/H11 -> 0.25521323 | J13: =J6/J11 -> 0.31141045 | K13: =K6/K11 -> 0.26580446 | L13: =L6/L11 -> 0.29046739 | N13: =N6/N11 -> 0.26090233 | O13: =O6/O11 -> 0.28773674 | P13: =P6/P11 -> 0.27200616
A14: Wysokość Marży sumarycznej | B14: =B7/B12 -> 0.31461472 | C14: =C7/C12 -> 0.3011512 | D14: =D7/D12 -> 0.32310276 | F14: =F7/F12 -> 0.27664739 | G14: =G7/G12 -> 0.24767559 | H14: =H7/H12 -> 0.24965401 | J14: =J7/J12 -> 0.31141045 | K14: =K7/K12 -> 0.29019047 | L14: =L7/L12 -> 0.29027135 | N14: =N7/N12 -> 0.26090233 | O14: =O7/O12 -> 0.27324195 | P14: =P7/P12 -> 0.27292329
B16: PREMIE
A17: Wynagrodzenie zasadnicze | B17: 5700 | C17: 5700 | D17: 5700 | F17: 6400 | G17: 6400 | H17: 6400 | J17: 6400 | K17: 6400 | L17: 6400 | N17: 6400 | O17: 6400 | P17: 6400
A18: Wskaźnik Plan Sprzedaży Marża | B18: =B5 -> 70350 | C18: =C5 -> 125183.33 | D18: =D5 -> 254500 | F18: =F5 -> 74700 | G18: =G5 -> 157700 | H18: =H5 -> 249000 | J18: =J5 -> 76500 | K18: =K5 -> 161500 | L18: =L5 -> 234100 | N18: =N5 -> 79166.667 | O18: =O5 -> 165966.67 | P18: =P5 -> 234900
A19: Realizacja Wskaźnika Planu Sprzedaży Marża | B19: =B7 -> 56827.078 | C19: =C7 -> 115006.9 | D19: =D7 -> 235885.98 | F19: =F7 -> 77554.474 | G19: =G7 -> 193398.4 | H19: =H7 -> 264320.16 | J19: =J7 -> 90332.25 | K19: =K7 -> 157425.12 | L19: =L7 -> 222440.41 | N19: =N7 -> 81505.717 | O19: =O7 -> 158029.26 | P19: =P7 -> 212688.79
A20: Poziom realizacji Wskaźnika Sprzedaży Marża | B20: =B19/B18 -> 0.80777652 | C20: =C19/C18 -> 0.91870777 | D20: =D19/D18 -> 0.92686043 | F20: =F19/F18 -> 1.0382125 | G20: =G19/G18 -> 1.2263691 | H20: =H19/H18 -> 1.0615267 | J20: =J19/J18 -> 1.1808137 | K20: =K19/K18 -> 0.97476853 | L20: =L19/L18 -> 0.95019398 | N20: =N19/N18 -> 1.0295459 | O20: =O19/O18 -> 0.95217469 | P20: =P19/P18 -> 0.90544396
A21: Wysokość premii Wskaźnik Sprzedaży Marża | B21: =B17*0.35 -> 1995 | C21: =C17*0.35 -> 1995 | D21: =D17*0.35 -> 1995 | F21: =F17*0.35 -> 2240 | G21: =G17*0.35 -> 2240 | H21: =H17*0.35 -> 2240 | J21: =J17*0.35 -> 2240 | K21: =K17*0.35 -> 2240 | L21: =L17*0.35 -> 2240 | N21: =N17*0.35 -> 2240 | O21: =O17*0.35 -> 2240 | P21: =P17*0.35 -> 2240
A22: Mnożnik premii miesięcznej Wskaźnika Sprzedaży Marża | B22: =IF(B20<80%,0,IF(B20<90%,0.5,IF(B20<95%,0.75,1))) -> 0.5 | C22: =IF(C20<80%,0,IF(C20<90%,0.5,IF(C20<95%,0.75,1))) -> 0.75 | D22: =IF(D20<80%,0,IF(D20<90%,0.5,IF(D20<95%,0.75,1))) -> 0.75 | F22: =IF(F20<80%,0,IF(F20<90%,0.5,IF(F20<95%,0.75,1))) -> 1 | G22: =IF(G20<80%,0,IF(G20<90%,0.5,IF(G20<95%,0.75,1))) -> 1 | H22: =IF(H20<80%,0,IF(H20<90%,0.5,IF(H20<95%,0.75,1))) -> 1 | J22: =IF(J20<80%,0,IF(J20<90%,0.5,IF(J20<95%,0.75,1))) -> 1 | K22: =IF(K20<80%,0,IF(K20<90%,0.5,IF(K20<95%,0.75,1))) -> 1 | L22: =IF(L20<80%,0,IF(L20<90%,0.5,IF(L20<95%,0.75,1))) -> 1 | N22: =IF(N20<80%,0,IF(N20<90%,0.5,IF(N20<95%,0.75,1))) -> 1 | O22: =IF(O20<80%,0,IF(O20<90%,0.5,IF(O20<95%,0.75,1))) -> 1 | P22: =IF(P20<80%,0,IF(P20<90%,0.5,IF(P20<95%,0.75,1))) -> 0.75
A23: Premia miesięczna za Wskaźnik Sprzedaży Marża | B23: =B22*B21 -> 997.5 | C23: =C22*C21 -> 1496.25 | D23: =D22*D21 -> 1496.25 | F23: =F22*F21 -> 2240 | G23: =G22*G21 -> 2240 | H23: =H22*H21 -> 2240 | J23: =J22*J21 -> 2240 | K23: =K22*K21 -> 2240 | L23: =L22*L21 -> 2240 | N23: =N22*N21 -> 2240 | O23: =O22*O21 -> 2240 | P23: =P22*P21 -> 1680
A24: Wskaźnik CRM
A25: Wysokość premii CRM | B25: =B17*0.05 -> 285 | C25: =C17*0.05 -> 285 | D25: =D17*0.05 -> 285 | F25: =F17*0.05 -> 320 | G25: =G17*0.05 -> 320 | H25: =H17*0.05 -> 320 | J25: =J17*0.05 -> 320 | K25: =K17*0.05 -> 320 | L25: =L17*0.05 -> 320 | N25: =N17*0.05 -> 320 | O25: =O17*0.05 -> 320 | P25: =P17*0.05 -> 320
A26: Mnożnik premii Wskaźnik CRM | B26: 1 | C26: 1 | D26: 1 | F26: 1 | G26: 1 | H26: 1 | J26: 1 | K26: 1 | L26: 1 | N26: 1 | O26: 1 | P26: 1
A27: Premia miesięczna za Wskaźnik CRM | B27: =B26*B25 -> 285 | C27: =C26*C25 -> 285 | D27: =D26*D25 -> 285 | F27: =F26*F25 -> 320 | G27: =G26*G25 -> 320 | H27: =H26*H25 -> 320 | J27: =J26*J25 -> 320 | K27: =K26*K25 -> 320 | L27: =L26*L25 -> 320 | N27: =N26*N25 -> 320 | O27: =O26*O25 -> 320 | P27: =P26*P25 -> 320
A28: Suma Premii miesięcznych | B28: =B23+B27 -> 1282.5 | C28: =C23+C27 -> 1781.25 | D28: =D23+D27 -> 1781.25 | F28: =F23+F27 -> 2560 | G28: =G23+G27 -> 2560 | H28: =H23+H27 -> 2560 | J28: =J23+J27 -> 2560 | K28: =K23+K27 -> 2560 | L28: =L23+L27 -> 2560 | N28: =N23+N27 -> 2560 | O28: =O23+O27 -> 2560 | P28: =P23+P27 -> 2000
A29: Wskaźnik Premia Kwartalna Marża | B29: =D5 -> 254500 | F29: =H5 -> 249000 | J29: =L5 -> 234100 | N29: =P5 -> 234900
A30: Realizacja Wskaźnika Premia Kwartalna | B30: =D7 -> 235885.98 | F30: =H7 -> 264320.16 | J30: =L7 -> 222440.41 | N30: =P7 -> 212688.79
A31: Poziom realizacji Wskaźnika Premia Kwartalna | B31: =B30/B29 -> 0.92686043 | F31: =F30/F29 -> 1.0615267 | J31: =J30/J29 -> 0.95019398 | N31: =N30/N29 -> 0.90544396
A32: Wysokość premii kwartalnej. | B32: =D17 -> 5700 | F32: =H17 -> 6400 | J32: =L17 -> 6400 | N32: =P17 -> 6400
A33: Mnożnik premii kwartalnej | B33: =IF(B31<100%,0,IF(B31<105%,0.5,IF(B31<110%,0.7,1))) -> 0 | F33: =IF(F31<100%,0,IF(F31<105%,0.5,IF(F31<110%,0.7,1))) -> 0.7 | J33: =IF(J31<100%,0,IF(J31<105%,0.5,IF(J31<110%,0.7,1))) -> 0 | N33: =IF(N31<100%,0,IF(N31<105%,0.5,IF(N31<110%,0.7,1))) -> 0
A34: Premia kwartalna | B34: =B33*B32 -> 0 | F34: =F33*F32 -> 4480 | J34: =J33*J32 -> 0 | N34: =N33*N32 -> 0
A36: Raport za miesiąc: | B36: styczeń | C36: luty | D36: marzec | E36: Suma | F36: kwiecień | G36: maj | H36: czerwiec | I36: Suma | J36: lipiec | K36: sierpień | L36: wrzesień | M36: Suma | N36: paździer. | O36: listopad | P36: grudzień | Q36: Suma | R36: Suma
A37: Ilość nowych Klientów: | B37: 1 | C37: 1 | D37: 2 | E37: =SUM(B37:D37) -> 4 | F37: 2 | G37: 0 | H37: 0 | I37: =SUM(F37:H37) -> 2 | J37: 0 | K37: 1 | L37: 1 | M37: =SUM(J37:L37) -> 2 | N37: 1 | O37: 0 | P37: 1 | Q37: =SUM(N37:P37) -> 2 | R37: =I37+M37+Q37+E37 -> 10
A38: Ilość Podmiotów na etapie współpracy Klient: | B38: 62 | C38: 64 | D38: 66 | F38: 68 | G38: 71 | H38: 71 | J38: 71 | K38: 72 | L38: 73 | N38: 75 | O38: 75 | P38: 76
A39: Ilość Podmiotów na etapie współpracy Handlowy: | B39: 41 | C39: 40 | D39: 41 | F39: 42 | G39: 43 | H39: 43 | J39: 45 | K39: 46 | L39: 46 | N39: 49 | O39: 53 | P39: 52
A40: Ilość Podmiotów na etapie współpracy Klient nieaktywny: | B40: 32 | C40: 32 | D40: 32 | F40: 32 | G40: 32 | H40: 32 | J40: 32 | K40: 32 | L40: 32 | N40: 31 | O40: 32 | P40: 33
A41: Ilość Podmiotów pod opieką: | B41: =SUM(B38:B40) -> 135 | C41: =SUM(C38:C40) -> 136 | D41: =SUM(D38:D40) -> 139 | F41: =SUM(F38:F40) -> 142 | G41: =SUM(G38:G40) -> 146 | H41: =SUM(H38:H40) -> 146 | J41: 148 | K41: 150 | L41: =SUM(L38:L40) -> 151 | N41: =SUM(N38:N40) -> 155 | O41: =SUM(O38:O40) -> 160 | P41: 161
A42: Ilość sprzedanych drukarek: | B42: 10 | C42: 1 | D42: 2 | E42: =SUM(B42:D42) -> 13 | F42: 6 | G42: 5 | H42: 0 | I42: =SUM(F42:H42) -> 11 | J42: 0 | K42: 0 | L42: 0 | M42: =SUM(J42:L42) -> 0 | N42: 0 | O42: 1 | P42: 2 | Q42: =SUM(N42:P42) -> 3 | R42: =I42+M42+Q42+E42 -> 27
A43: Ilość ofert dodanych w danym miesiącu: | B43: 29 | C43: 57 | D43: 59 | E43: =SUM(B43:D43) -> 145 | F43: 45 | G43: 48 | H43: 50 | I43: =SUM(F43:H43) -> 143 | J43: 28 | K43: 24 | L43: 44 | M43: =SUM(J43:L43) -> 96 | N43: 54 | O43: 53 | P43: 39 | Q43: =SUM(N43:P43) -> 146 | R43: =I43+M43+Q43+E43 -> 530
A44: Ilość ofert oczekujących na decyzję kontrahenta: | B44: 23 | C44: 37 | D44: 36 | F44: 20 | G44: 30 | H44: 38 | J44: 20 | K44: 11 | L44: 24 | N44: 38 | O44: 31 | P44: 13
A45: Ilość zaakceptowanych ofert przez kontrahenta: | B45: 10 | C45: 17 | D45: 41 | E45: =SUM(B45:D45) -> 68 | F45: 31 | G45: 29 | H45: 35 | I45: =SUM(F45:H45) -> 95 | J45: 18 | K45: 28 | L45: 18 | M45: =SUM(J45:L45) -> 64 | N45: 31 | O45: 42 | P45: 27 | Q45: =SUM(N45:P45) -> 100 | R45: =I45+M45+Q45+E45 -> 327
A46: Ilość odrzuconych ofert przez kontrahenta: | B46: 8 | C46: 25 | D46: 20 | E46: =SUM(B46:D46) -> 53 | F46: 18 | G46: 19 | H46: 7 | I46: =SUM(F46:H46) -> 44 | J46: 17 | K46: 16 | L46: 7 | M46: =SUM(J46:L46) -> 40 | N46: 7 | O46: 21 | P46: 22 | Q46: =SUM(N46:P46) -> 50 | R46: =I46+M46+Q46+E46 -> 187
A47: Ilość przekazanych podmiotów: | B47: 2 | C47: 0 | D47: 3 | E47: =SUM(B47:D47) -> 5 | F47: 1 | G47: 1 | H47: 3 | I47: =SUM(F47:H47) -> 5 | J47: 2 | K47: 2 | L47: 1 | M47: =SUM(J47:L47) -> 5 | N47: 4 | O47: 3 | P47: 3 | Q47: =SUM(N47:P47) -> 10 | R47: =I47+M47+Q47+E47 -> 25
A48: Ilość odebranych podmiotów (zmiana prowadzącego): | B48: 0 | C48: 0 | D48: 0 | E48: =SUM(B48:D48) -> 0 | F48: 0 | G48: 0 | H48: 0 | I48: =SUM(F48:H48) -> 0 | J48: 0 | K48: 0 | L48: 0 | M48: =SUM(J48:L48) -> 0 | N48: 0 | O48: 0 | P48: 0 | Q48: =SUM(N48:P48) -> 0 | R48: =I48+M48+Q48+E48 -> 0
A49: Ilość spotkań z Klientami: | B49: 3 | C49: 1 | D49: 2 | E49: =SUM(B49:D49) -> 6 | F49: 1 | G49: 0 | H49: 0 | I49: =SUM(F49:H49) -> 1 | J49: 0 | K49: 1 | L49: 1 | M49: =SUM(J49:L49) -> 2 | N49: 1 | O49: 4 | P49: 4 | Q49: =SUM(N49:P49) -> 9 | R49: =I49+M49+Q49+E49 -> 18
A50: Ilość aktualnie otwartych wdrożeń: | B50: 32 | C50: 29 | D50: 29 | F50: 24 | G50: 25 | H50: 23 | J50: 24 | K50: 24 | L50: 23 | N50: 23 | O50: 24 | P50: 20
A51: Ilość wdrożeń dodanych w danym miesiącu: | B51: 8 | C51: 2 | D51: 6 | E51: =SUM(B51:D51) -> 16 | F51: 3 | G51: 7 | H51: 6 | I51: =SUM(F51:H51) -> 16 | J51: 4 | K51: 6 | L51: 4 | M51: =SUM(J51:L51) -> 14 | N51: 7 | O51: 7 | P51: 5 | Q51: =SUM(N51:P51) -> 19 | R51: =I51+M51+Q51+E51 -> 65
A52: Ilość wdrożeń zamkniętych pozytywnie w danym mcu: | B52: 5 | C52: 1 | D52: 5 | E52: =SUM(B52:D52) -> 11 | F52: 4 | G52: 3 | H52: 4 | I52: =SUM(F52:H52) -> 11 | J52: 0 | K52: 4 | L52: 4 | M52: =SUM(J52:L52) -> 8 | N52: 6 | O52: 2 | P52: 4 | Q52: =SUM(N52:P52) -> 12 | R52: =I52+M52+Q52+E52 -> 42
A53: Ilość wdrożeń zamkniętych negatywnie w danym mcu: | B53: 7 | C53: 4 | D53: 1 | E53: =SUM(B53:D53) -> 12 | F53: 3 | G53: 4 | H53: 6 | I53: =SUM(F53:H53) -> 13 | J53: 2 | K53: 3 | L53: 1 | M53: =SUM(J53:L53) -> 6 | N53: 1 | O53: 5 | P53: 5 | Q53: =SUM(N53:P53) -> 11 | R53: =I53+M53+Q53+E53 -> 42
A54: Ilość aktualnie odłożonych wdrożeń: | B54: 2 | C54: 2 | D54: 2 | F54: 1 | G54: 1 | H54: 1 | J54: 1 | K54: 1 | L54: 1 | N54: 1 | O54: 1 | P54: 1

Sheet KRZYSZTOF
A1: Krzysztof Szwajdych | B1: PLAN I KW Krzysztof Szwajdych | F1: PLAN II KW Krzysztof Szwajdych | J1: PLAN III KW Krzysztof Szwajdych | N1: PLAN IV KW Krzysztof Szwajdych
A2: miesiąc | B2: styczeń | C2: luty | D2: marzec | E2: KW I | F2: kwiecień | G2: maj | H2: czerwiec | I2: KW II | J2: lipiec | K2: sierpień | L2: wrzesień | M2: KW III | N2: październik | O2: listopad | P2: grudzień | Q2: KW IV | R2: suma ROK
A4: Plan Sprzedaży Marża | B4: ='Target 2022'!C7 -> 54300 | C4: ='Target 2022'!D7 -> 60333.333 | D4: ='Target 2022'!E7 -> 66366.667 | E4: =SUM(B4:D4) -> 181000 | F4: ='Target 2022'!F7 -> 60900 | G4: ='Target 2022'!G7 -> 67666.667 | H4: ='Target 2022'!H7 -> 74433.333 | I4: =SUM(F4:H4) -> 203000 | J4: ='Target 2022'!I7 -> 61800 | K4: ='Target 2022'!J7 -> 68666.667 | L4: ='Target 2022'!K7-5350 -> 70183.333 | M4: =SUM(J4:L4) -> 200650 | N4: ='Target 2022'!L7 -> 63333.333 | O4: ='Target 2022'!M7 -> 70000 | P4: ='Target 2022'!N7+5350 -> 72016.667 | Q4: =SUM(N4:P4) -> 205350 | R4: =E4+I4+M4+Q4 -> 790000
A5: Sumaryczny Plan Sprzedaży Marża | B5: =B4 -> 54300 | C5: =C4+B5 -> 114633.33 | D5: =D4+C5 -> 181000 | F5: =F4 -> 60900 | G5: =G4+F5 -> 128566.67 | H5: =H4+G5 -> 203000 | J5: =J4 -> 61800 | K5: =K4+J5 -> 130466.67 | L5: =L4+K5 -> 200650 | N5: =N4 -> 63333.333 | O5: =O4+N5 -> 133333.33 | P5: =P4+O5 -> 205350 | R5: =R6/R4 -> 1.1236108
A6: Miesięczna realizacja Planu Sprzedaży Marża | B6: =SUMIF(I!A:A,$A$1,I!I:I) -> 55111.93 | C6: =SUMIF(II!A:A,$A$1,II!I:I) -> 62945.809 | D6: =SUMIF(III!A:A,$A$1,III!I:I) -> 81475.688 | E6: =SUM(B6:D6) -> 199533.43 | F6: =SUMIF(IV!A:A,$A$1,IV!I:I) -> 87543.445 | G6: =SUMIF(V!A:A,$A$1,V!I:I) -> 55241.805 | H6: =SUMIF(VI!A:A,$A$1,VI!I:I) -> 95499.336 | I6: =SUM(F6:H6) -> 238284.59 | J6: =SUMIF(VII!A:A,$A$1,VII!I:I) -> 93649.602 | K6: =SUMIF(VIII!A:A,$A$1,VIII!I:I) -> 60673.855 | L6: =SUMIF(IX!A:A,$A$1,IX!I:I) -> 66423.078 | M6: =SUM(J6:L6) -> 220746.54 | N6: =SUMIF(X!A:A,$A$1,X!I:I) -> 92192.719 | O6: =SUMIF(XI!A:A,$A$1,XI!I:I) -> 94993.375 | P6: =SUMIF(XII!A:A,$A$1,XII!I:I) -> 41901.871 | Q6: =SUM(N6:P6) -> 229087.96 | R6: =E6+I6+M6+Q6 -> 887652.51
A7: Sumaryczna realizacja planu sprzedaży Marża | B7: =B6 -> 55111.93 | C7: =C6+B7 -> 118057.74 | D7: =D6+C7 -> 199533.43 | F7: =F6 -> 87543.445 | G7: =G6+F7 -> 142785.25 | H7: =H6+G7 -> 238284.59 | J7: =J6 -> 93649.602 | K7: =K6+J7 -> 154323.46 | L7: =L6+K7 -> 220746.54 | M7: =SUM(E6,I6,M6)/3 -> 219521.52 | N7: =N6 -> 92192.719 | O7: =O6+N7 -> 187186.09 | P7: =P6+O7 -> 229087.96
A8: Wysokość zrealizowania Miesięcznego Planu Sprzedaży Marża | B8: =B6/B4 -> 1.0149527 | C8: =C6/C4 -> 1.0433007 | D8: =D6/D4 -> 1.2276598 | F8: =F6/F4 -> 1.437495 | G8: =G6/G4 -> 0.81638135 | H8: =H6/H4 -> 1.2830184 | J8: =J6/J4 -> 1.5153657 | K8: =K6/K4 -> 0.88359984 | L8: =L6/L4 -> 0.94642239 | N8: =N6/N4 -> 1.4556745 | O8: =O6/O4 -> 1.3570482 | P8: =P6/P4 -> 0.58183575
A9: Wysokość zrealizowania Planu Sprzedaży Marża | B9: =B7/B5 -> 1.0149527 | C9: =C7/C5 -> 1.0298727 | D9: =D7/D5 -> 1.1023946 | F9: =F7/F5 -> 1.437495 | G9: =G7/G5 -> 1.1105931 | H9: =H7/H5 -> 1.1738157 | J9: =J7/J5 -> 1.5153657 | K9: =K7/K5 -> 1.1828574 | L9: =L7/L5 -> 1.1001572 | N9: =N7/N5 -> 1.4556745 | O9: =O7/O5 -> 1.4038957 | P9: =P7/P5 -> 1.1155976
A10: Różnica wskaźnika Marża | B10: =B7-B5 -> 811.9297 | C10: =C7-C5 -> 3424.405 | D10: =D7-D5 -> 18533.426 | F10: =F7-F5 -> 26643.445 | G10: =G7-G5 -> 14218.583 | H10: =H7-H5 -> 35284.586 | J10: =J7-J5 -> 31849.602 | K10: =K7-K5 -> 23856.79 | L10: =L7-L5 -> 20096.535 | N10: =N7-N5 -> 28859.385 | O10: =O7-O5 -> 53852.76 | P10: =P7-P5 -> 23737.965
A11: Miesięczny Obrót | B11: =SUMIF(I!A:A,$A$1,I!G:G) -> 157021.69 | C11: =SUMIF(II!A:A,$A$1,II!G:G) -> 251790.73 | D11: =SUMIF(III!A:A,$A$1,III!G:G) -> 269560.97 | E11: =SUM(B11:D11) -> 678373.39 | F11: =SUMIF(IV!A:A,$A$1,IV!G:G) -> 245867.98 | G11: =SUMIF(V!A:A,$A$1,V!G:G) -> 154197.28 | H11: =SUMIF(VI!A:A,$A$1,VI!G:G) -> 266192.28 | I11: =SUM(F11:H11) -> 666257.55 | J11: =SUMIF(VII!A:A,$A$1,VII!G:G) -> 267822.97 | K11: =SUMIF(VIII!A:A,$A$1,VIII!G:G) -> 184649.17 | L11: =SUMIF(IX!A:A,$A$1,IX!G:G) -> 195394.81 | M11: =SUM(J11:L11) -> 647866.95 | N11: =SUMIF(X!A:A,$A$1,X!G:G) -> 269468.06 | O11: =SUMIF(XI!A:A,$A$1,XI!G:G) -> 248502.55 | P11: =SUMIF(XII!A:A,$A$1,XII!G:G) -> 142416.41 | Q11: =SUM(N11:P11) -> 660387.02 | R11: =E11+I11+M11+Q11 -> 2652884.9
A12: Sumaryczny Obrót | B12: =B11 -> 157021.69 | C12: =C11+B12 -> 408812.42 | D12: =D11+C12 -> 678373.39 | F12: =F11 -> 245867.98 | G12: =G11+F12 -> 400065.27 | H12: =H11+G12 -> 666257.55 | J12: =J11 -> 267822.97 | K12: =K11+J12 -> 452472.14 | L12: =L11+K12 -> 647866.95 | N12: =N11 -> 269468.06 | O12: =O11+N12 -> 517970.61 | P12: =P11+O12 -> 660387.02
A13: Wysokość Marży miesięcznej | B13: =B6/B11 -> 0.35098292 | C13: =C6/C11 -> 0.24999255 | D13: =D6/D11 -> 0.30225328 | F13: =F6/F11 -> 0.35605874 | G13: =G6/G11 -> 0.35825408 | H13: =H6/H11 -> 0.35876073 | J13: =J6/J11 -> 0.34966979 | K13: =K6/K11 -> 0.32858991 | L13: =L6/L11 -> 0.33994289 | N13: =N6/N11 -> 0.34212855 | O13: =O6/O11 -> 0.38226318 | P13: =P6/P11 -> 0.29422081
A14: Wysokość Marży sumarycznej | B14: =B7/B12 -> 0.35098292 | C14: =C7/C12 -> 0.28878217 | D14: =D7/D12 -> 0.2941351 | E14: - | F14: =F7/F12 -> 0.35605874 | G14: =G7/G12 -> 0.35690489 | H14: =H7/H12 -> 0.35764636 | J14: =J7/J12 -> 0.34966979 | K14: =K7/K12 -> 0.34106731 | L14: =L7/L12 -> 0.34072819 | N14: =N7/N12 -> 0.34212855 | O14: =O7/O12 -> 0.36138362 | P14: =P7/P12 -> 0.34689956
B16: PREMIE
A17: Wynagrodzenie zasadnicze | B17: 4700 | C17: 4700 | D17: 4700 | F17: 5500 | G17: 5500 | H17: 5500 | J17: 5500 | K17: 5500 | L17: 5500 | N17: 5500 | O17: 5500 | P17: 5500
A18: Wskaźnik Plan Sprzedaży Marża | B18: =B5 -> 54300 | C18: =C5 -> 114633.33 | D18: =D5 -> 181000 | F18: =F5 -> 60900 | G18: =G5 -> 128566.67 | H18: =H5 -> 203000 | J18: =J5 -> 61800 | K18: =K5 -> 130466.67 | L18: =L5 -> 200650 | N18: =N5 -> 63333.333 | O18: =O5 -> 133333.33 | P18: =P5 -> 205350
A19: Realizacja Wskaźnika Planu Sprzedaży Marża | B19: =B7 -> 55111.93 | C19: =C7 -> 118057.74 | D19: =D7 -> 199533.43 | F19: =F7 -> 87543.445 | G19: =G7 -> 142785.25 | H19: =H7 -> 238284.59 | J19: =J7 -> 93649.602 | K19: =K7 -> 154323.46 | L19: =L7 -> 220746.54 | N19: =N7 -> 92192.719 | O19: =O7 -> 187186.09 | P19: =P7 -> 229087.96
A20: Poziom realizacji Wskaźnika Sprzedaży Marża | B20: =B19/B18 -> 1.0149527 | C20: =C19/C18 -> 1.0298727 | D20: =D19/D18 -> 1.1023946 | F20: =F19/F18 -> 1.437495 | G20: =G19/G18 -> 1.1105931 | H20: =H19/H18 -> 1.1738157 | J20: =J19/J18 -> 1.5153657 | K20: =K19/K18 -> 1.1828574 | L20: =L19/L18 -> 1.1001572 | N20: =N19/N18 -> 1.4556745 | O20: =O19/O18 -> 1.4038957 | P20: =P19/P18 -> 1.1155976
A21: Wysokość premii Wskaźnik Sprzedaży Marża | B21: =B17*0.35 -> 1645 | C21: =C17*0.35 -> 1645 | D21: =D17*0.35 -> 1645 | F21: =F17*0.35 -> 1925 | G21: =G17*0.35 -> 1925 | H21: =H17*0.35 -> 1925 | J21: =J17*0.35 -> 1925 | K21: =K17*0.35 -> 1925 | L21: =L17*0.35 -> 1925 | N21: =N17*0.35 -> 1925 | O21: =O17*0.35 -> 1925 | P21: =P17*0.35 -> 1925
A22: Mnożnik premii miesięcznej Wskaźnika Sprzedaży Marża | B22: =IF(B20<80%,0,IF(B20<90%,0.5,IF(B20<95%,0.75,1))) -> 1 | C22: =IF(C20<80%,0,IF(C20<90%,0.5,IF(C20<95%,0.75,1))) -> 1 | D22: =IF(D20<80%,0,IF(D20<90%,0.5,IF(D20<95%,0.75,1))) -> 1 | F22: =IF(F20<80%,0,IF(F20<90%,0.5,IF(F20<95%,0.75,1))) -> 1 | G22: =IF(G20<80%,0,IF(G20<90%,0.5,IF(G20<95%,0.75,1))) -> 1 | H22: =IF(H20<80%,0,IF(H20<90%,0.5,IF(H20<95%,0.75,1))) -> 1 | J22: =IF(J20<80%,0,IF(J20<90%,0.5,IF(J20<95%,0.75,1))) -> 1 | K22: =IF(K20<80%,0,IF(K20<90%,0.5,IF(K20<95%,0.75,1))) -> 1 | L22: =IF(L20<80%,0,IF(L20<90%,0.5,IF(L20<95%,0.75,1))) -> 1 | N22: =IF(N20<80%,0,IF(N20<90%,0.5,IF(N20<95%,0.75,1))) -> 1 | O22: =IF(O20<80%,0,IF(O20<90%,0.5,IF(O20<95%,0.75,1))) -> 1 | P22: =IF(P20<80%,0,IF(P20<90%,0.5,IF(P20<95%,0.75,1))) -> 1
A23: Premia miesięczna za Wskaźnik Sprzedaży Marża | B23: =B22*B21 -> 1645 | C23: =C22*C21 -> 1645 | D23: =D22*D21 -> 1645 | F23: =F22*F21 -> 1925 | G23: =G22*G21 -> 1925 | H23: =H22*H21 -> 1925 | J23: =J22*J21 -> 1925 | K23: =K22*K21 -> 1925 | L23: =L22*L21 -> 1925 | N23: =N22*N21 -> 1925 | O23: =O22*O21 -> 1925 | P23: =P22*P21 -> 1925
A24: Wskaźnik CRM
A25: Wysokość premii CRM | B25: =B17*0.05 -> 235 | C25: =C17*0.05 -> 235 | D25: =D17*0.05 -> 235 | F25: =F17*0.05 -> 275 | G25: =G17*0.05 -> 275 | H25: =H17*0.05 -> 275 | J25: =J17*0.05 -> 275 | K25: =K17*0.05 -> 275 | L25: =L17*0.05 -> 275 | N25: =N17*0.05 -> 275 | O25: =O17*0.05 -> 275 | P25: =P17*0.05 -> 275
A26: Mnożnik premii Wskaźnik CRM | B26: 1 | C26: 1 | D26: 1 | F26: 1 | G26: 1 | H26: 1 | J26: 1 | K26: 1 | L26: 1 | N26: 1 | O26: 1 | P26: 1
A27: Premia miesięczna za Wskaźnik CRM | B27: =B26*B25 -> 235 | C27: =C26*C25 -> 235 | D27: =D26*D25 -> 235 | F27: =F26*F25 -> 275 | G27: =G26*G25 -> 275 | H27: =H26*H25 -> 275 | J27: =J26*J25 -> 275 | K27: =K26*K25 -> 275 | L27: =L26*L25 -> 275 | N27: =N26*N25 -> 275 | O27: =O26*O25 -> 275 | P27: =P26*P25 -> 275
A28: Suma Premii miesięcznych | B28: =B23+B27 -> 1880 | C28: =C23+C27 -> 1880 | D28: =D23+D27 -> 1880 | F28: =F23+F27 -> 2200 | G28: =G23+G27 -> 2200 | H28: =H23+H27 -> 2200 | J28: =J23+J27 -> 2200 | K28: =K23+K27 -> 2200 | L28: =L23+L27 -> 2200 | N28: =N23+N27 -> 2200 | O28: =O23+O27 -> 2200 | P28: =P23+P27 -> 2200
A29: Wskaźnik Premia Kwartalna Marża | B29: =D5 -> 181000 | F29: =H5 -> 203000 | J29: =L5 -> 200650 | N29: =P5 -> 205350
A30: Realizacja Wskaźnika Premia Kwartalna | B30: =D7 -> 199533.43 | F30: =H7 -> 238284.59 | J30: =L7 -> 220746.54 | N30: =P7 -> 229087.96
A31: Poziom realizacji Wskaźnika Premia Kwartalna | B31: =B30/B29 -> 1.1023946 | F31: =F30/F29 -> 1.1738157 | J31: =J30/J29 -> 1.1001572 | N31: =N30/N29 -> 1.1155976
A32: Wysokość premii kwartalnej. | B32: =D17 -> 4700 | F32: =H17 -> 5500 | J32: =L17 -> 5500 | N32: =P17 -> 5500
A33: Mnożnik premii kwartalnej | B33: =IF(B31<100%,0,IF(B31<105%,0.5,IF(B31<110%,0.7,1))) -> 1 | F33: =IF(F31<100%,0,IF(F31<105%,0.5,IF(F31<110%,0.7,1))) -> 1 | J33: =IF(J31<100%,0,IF(J31<105%,0.5,IF(J31<110%,0.7,1))) -> 1 | N33: =IF(N31<100%,0,IF(N31<105%,0.5,IF(N31<110%,0.7,1))) -> 1
A34: Premia kwartalna | B34: =B33*B32 -> 4700 | F34: =F33*F32 -> 5500 | J34: =J33*J32 -> 5500 | N34: =N33*N32 -> 5500
A36: Raport za miesiąc: | B36: styczeń | C36: luty | D36: marzec | E36: Suma | F36: kwiecień | G36: maj | H36: czerwiec | I36: Suma | J36: lipiec | K36: sierpień | L36: wrzesień | M36: Suma | N36: paździer. | O36: listopad | P36: grudzień | Q36: Suma | R36: Suma
A37: Ilość nowych Klientów: | B37: 0 | C37: 0 | D37: 0 | E37: =SUM(B37:D37) -> 0 | F37: 2 | G37: 2 | H37: 1 | I37: =SUM(F37:H37) -> 5 | J37: 0 | K37: 0 | L37: 0 | M37: =SUM(J37:L37) -> 0 | N37: 1 | O37: 1 | P37: 1 | Q37: =SUM(N37:P37) -> 3 | R37: =I37+M37+Q37+E37 -> 8
A38: Ilość Podmiotów na etapie współpracy Klient: | B38: 130 | C38: 132 | D38: 132 | F38: 134 | G38: 136 | H38: 137 | J38: 138 | K38: 138 | L38: 138 | N38: 139 | O38: 140 | P38: 141
A39: Ilość Podmiotów na etapie współpracy Handlowy: | B39: 35 | C39: 36 | D39: 34 | F39: 34 | G39: 35 | H39: 28 | J39: 27 | K39: 29 | L39: 29 | N39: 29 | O39: 30 | P39: 30
A40: Ilość Podmiotów na etapie współpracy Klient nieaktywny: | B40: 50 | C40: 48 | D40: 48 | F40: 53 | G40: 52 | H40: 52 | J40: 51 | K40: 51 | L40: 51 | N40: 51 | O40: 51 | P40: 51
A41: Ilość Podmiotów pod opieką: | B41: =SUM(B38:B40) -> 215 | C41: 216 | D41: 214 | F41: 221 | G41: 223 | H41: 217 | J41: 216 | K41: 218 | L41: 218 | N41: 219 | O41: 221 | P41: 222
A42: Ilość sprzedanych drukarek: | B42: 3 | C42: 3 | D42: 1 | E42: =SUM(B42:D42) -> 7 | F42: 1 | G42: 1 | H42: 3 | I42: =SUM(F42:H42) -> 5 | J42: 3 | K42: 3 | L42: 0 | M42: =SUM(J42:L42) -> 6 | N42: 3 | O42: 0 | P42: 3 | Q42: =SUM(N42:P42) -> 6 | R42: =I42+M42+Q42+E42 -> 24
A43: Ilość ofert dodanych w danym miesiącu: | B43: 40 | C43: 45 | D43: 77 | E43: =SUM(B43:D43) -> 162 | F43: 35 | G43: 37 | H43: 48 | I43: =SUM(F43:H43) -> 120 | J43: 35 | K43: 61 | L43: 57 | M43: =SUM(J43:L43) -> 153 | N43: 46 | O43: 58 | P43: 26 | Q43: =SUM(N43:P43) -> 130 | R43: =I43+M43+Q43+E43 -> 565
A44: Ilość ofert oczekujących na decyzję kontrahenta: | B44: 12 | C44: 7 | D44: 15 | F44: 9 | G44: 17 | H44: 10 | J44: 15 | K44: 25 | L44: 16 | N44: 11 | O44: 11 | P44: 8
A45: Ilość zaakceptowanych ofert przez kontrahenta: | B45: 25 | C45: 33 | D45: 45 | E45: =SUM(B45:D45) -> 103 | F45: 24 | G45: 24 | H45: 32 | I45: =SUM(F45:H45) -> 80 | J45: 16 | K45: 32 | L45: 32 | M45: =SUM(J45:L45) -> 80 | N45: 30 | O45: 27 | P45: 19 | Q45: =SUM(N45:P45) -> 76 | R45: =I45+M45+Q45+E45 -> 339
A46: Ilość odrzuconych ofert przez kontrahenta: | B46: 20 | C46: 16 | D46: 27 | E46: =SUM(B46:D46) -> 63 | F46: 15 | G46: 10 | H46: 18 | I46: =SUM(F46:H46) -> 43 | J46: 13 | K46: 20 | L46: 32 | M46: =SUM(J46:L46) -> 65 | N46: 17 | O46: 36 | P46: 10 | Q46: =SUM(N46:P46) -> 63 | R46: =I46+M46+Q46+E46 -> 234
A47: Ilość przekazanych podmiotów: | B47: 1 | C47: 1 | D47: 0 | E47: =SUM(B47:D47) -> 2 | F47: 3 | G47: 2 | H47: 3 | I47: =SUM(F47:H47) -> 8 | J47: 0 | K47: 2 | L47: 0 | M47: =SUM(J47:L47) -> 2 | N47: 2 | O47: 2 | P47: 2 | Q47: =SUM(N47:P47) -> 6 | R47: =I47+M47+Q47+E47 -> 18
A48: Ilość odebranych podmiotów (zmiana prowadzącego): | B48: 0 | C48: 0 | D48: 0 | E48: =SUM(B48:D48) -> 0 | F48: 0 | G48: 0 | H48: 0 | I48: =SUM(F48:H48) -> 0 | J48: 0 | K48: 0 | L48: 0 | M48: =SUM(J48:L48) -> 0 | N48: 0 | O48: 0 | P48: 0 | Q48: =SUM(N48:P48) -> 0 | R48: =I48+M48+Q48+E48 -> 0
A49: Ilość spotkań z Klientami: | B49: 0 | C49: 0 | D49: 0 | E49: =SUM(B49:D49) -> 0 | F49: 0 | G49: 1 | H49: 2 | I49: =SUM(F49:H49) -> 3 | J49: 2 | K49: 3 | L49: 7 | M49: =SUM(J49:L49) -> 12 | N49: 2 | O49: 0 | P49: 9 | Q49: =SUM(N49:P49) -> 11 | R49: =I49+M49+Q49+E49 -> 26
A50: Ilość aktualnie otwartych wdrożeń: | B50: 26 | C50: 30 | D50: 33 | F50: 26 | G50: 29 | H50: 18 | J50: 20 | K50: 20 | L50: 26 | N50: 20 | O50: 25 | P50: 26
A51: Ilość wdrożeń dodanych w danym miesiącu: | B51: 6 | C51: 11 | D51: 10 | E51: =SUM(B51:D51) -> 27 | F51: 9 | G51: 12 | H51: 8 | I51: =SUM(F51:H51) -> 29 | J51: 4 | K51: 11 | L51: 13 | M51: =SUM(J51:L51) -> 28 | N51: 6 | O51: 14 | P51: 9 | Q51: =SUM(N51:P51) -> 29 | R51: =I51+M51+Q51+E51 -> 113
A52: Ilość wdrożeń zamkniętych pozytywnie w danym mcu: | B52: 9 | C52: 3 | D52: 5 | E52: =SUM(B52:D52) -> 17 | F52: 3 | G52: 5 | H52: 6 | I52: =SUM(F52:H52) -> 14 | J52: 1 | K52: 5 | L52: 3 | M52: =SUM(J52:L52) -> 9 | N52: 7 | O52: 5 | P52: 7 | Q52: =SUM(N52:P52) -> 19 | R52: =I52+M52+Q52+E52 -> 59
A53: Ilość wdrożeń zamkniętych negatywnie w danym mcu: | B53: 7 | C53: 3 | D53: 4 | E53: =SUM(B53:D53) -> 14 | F53: 10 | G53: 6 | H53: 13 | I53: =SUM(F53:H53) -> 29 | J53: 1 | K53: 6 | L53: 4 | M53: =SUM(J53:L53) -> 11 | N53: 5 | O53: 5 | P53: 1 | Q53: =SUM(N53:P53) -> 11 | R53: =I53+M53+Q53+E53 -> 65
A54: Ilość aktualnie odłożonych wdrożeń: | B54: 1 | C54: 1 | D54: 1 | F54: 1 | G54: 1 | H54: 0 | J54: 0 | K54: 0 | L54: 0 | N54: 0 | O54: 0 | P54: 0

Sheet DH
A1: brak opiekuna | B1: PLANY SPRZEDAŻY 2022
A2: miesiąc | B2: styczeń | C2: luty | D2: marzec | E2: I KW | F2: kwiecień | G2: maj | H2: czerwiec | J2: lipiec | K2: sierpień | L2: wrzesień | N2: październik | O2: listopad | P2: grudzień | R2: suma
A3: Marża 2021 | B3: 238812.96 | C3: 236054.89 | D3: 310381.3 | E3: 785249.16 | F3: 269725.26 | G3: 258627.65 | H3: 273225.82 | I3: 801578.73 | J3: 274412.59 | K3: 251738.51 | L3: 250442.74 | M3: 776593.84 | N3: 258681.26 | O3: 284693.28 | P3: 346932.85 | Q3: 890307.39 | R3: 3253729.1 | T3: =R8*1.1 -> 4060647.8
A4: Sumaryczna Marża 2021 | B4: 238812.96 | C4: 474867.86 | D4: 785249.16 | F4: 1054974.4 | G4: 1313602.1 | H4: 1586827.9 | J4: 1861240.5 | K4: 2112979 | L4: 2363421.7 | N4: 2622103 | O4: 2906796.3 | P4: 3253729.1 | Q4: 27570.887 | S4: MINIMUM | T4: PLAN | U4: CEL
A5: Wzrost Marży 2022 w stos do Marży 2021 | B5: =B9/B4-1 -> 0.036625174 | C5: =C9/C4-1 -> 0.13248478 | D5: =D9/D4-1 -> 0.16521237 | E5: =E8/E3-1 -> 0.16521237 | F5: =F9/F4-1 -> 0.17898416 | G5: =G9/G4-1 -> 0.1819026 | H5: =H9/H4-1 -> 0.17477063 | I5: =I8/I3-1 -> 0.18413418 | J5: =J9/J4-1 -> 0.17916759 | K5: =K9/K4-1 -> 0.17658302 | L5: =L9/L4-1 -> 0.18589582 | M5: =M8/M3-1 -> 0.20862812 | N5: =N9/N4-1 -> 0.19874434 | O5: =O9/O4-1 -> 0.19479634 | P5: =P9/P4-1 -> 0.13454373 | Q5: =Q8/Q3-1 -> -0.0017761913 | R5: =R8/R3-1 -> 0.13454373 | S5: =S6/R3 -> 1.0452622 | T5: =T6/R3 -> 1.100276 | U5: =U6/R3 -> 1.1552898
A6: Plan Sprzedaży Marża | B6: ='Target 2022'!B22 -> 259200 | C6: ='Target 2022'!C22 -> 288000 | D6: ='Target 2022'!D22 -> 316800 | E6: =SUM(B6:D6) -> 864000 | F6: ='Target 2022'!E22 -> 301777.78 | G6: ='Target 2022'!F22 -> 301777.78 | H6: ='Target 2022'!G22 -> 301777.78 | I6: =SUM(F6:H6) -> 905333.33 | J6: ='Target 2022'!H22 -> 301777.78 | K6: ='Target 2022'!I22 -> 301777.78 | L6: ='Target 2022'!J22 -> 301777.78 | M6: =SUM(J6:L6) -> 905333.33 | N6: ='Target 2022'!K22 -> 301777.78 | O6: ='Target 2022'!L22 -> 301777.78 | P6: ='Target 2022'!M22 -> 301777.78 | Q6: =SUM(N6:P6) -> 905333.33 | R6: =B6+C6+D6+F6+G6+H6+J6+K6+L6+N6+O6+P6 -> 3580000 | S6: =DH!R6*0.95 -> 3401000 | T6: =R6 -> 3580000 | U6: ='Target 2022'!H26 -> 3759000
A7: Sumaryczny Plan Sprzedaży Marża | B7: =B6 -> 259200 | C7: =C6+B7 -> 547200 | D7: =D6+C7 -> 864000 | F7: =F6+D7 -> 1165777.8 | G7: =G6+F7 -> 1467555.6 | H7: =H6+G7 -> 1769333.3 | J7: =J6+H7 -> 2071111.1 | K7: =K6+J7 -> 2372888.9 | L7: =L6+K7 -> 2674666.7 | N7: =N6+L7 -> 2976444.4 | O7: =O6+N7 -> 3278222.2 | P7: =P6+O7 -> 3580000 | V7: =T6/T19 -> 0.33457944
A8: Miesięczna realizacja Planu Sprzedaży Marża | B8: =TOMEK!B6+RCKIK!B6+'1'!N6+BARTEK!B6+PIOTR!B6+KRZYSZTOF!B6+'0'!N6 -> 247559.53 | C8: =TOMEK!C6+RCKIK!C6+'1'!O6+BARTEK!C6+PIOTR!C6+KRZYSZTOF!C6+'0'!O6 -> 290221.09 | D8: =TOMEK!D6+RCKIK!D6+'1'!P6+BARTEK!D6+PIOTR!D6+KRZYSZTOF!D6+'0'!P6 -> 377201.41 | E8: =SUM(B8:D8) -> 914982.03 | F8: =TOMEK!F6+RCKIK!F6+'1'!J6+BARTEK!F6+PIOTR!F6+KRZYSZTOF!F6++'0'!J6 -> 328816.1 | G8: =TOMEK!G6+RCKIK!G6+'1'!K6+BARTEK!G6+PIOTR!G6+KRZYSZTOF!G6+'0'!K6 -> 308751.57 | H8: =TOMEK!H6+RCKIK!H6+'1'!L6+BARTEK!H6+PIOTR!H6+KRZYSZTOF!H6+'0'!L6 -> 311609.09 | I8: =SUM(F8:H8) -> 949176.76 | J8: =TOMEK!J6+RCKIK!J6+'0'!F6+BARTEK!J6+PIOTR!J6+KRZYSZTOF!J6+'1'!F6 -> 330555.64 | K8: =TOMEK!K6+RCKIK!K6+'0'!G6+BARTEK!K6+PIOTR!K6+KRZYSZTOF!K6+'1'!G6+SUMIF(VIII!A:A,$A$1,VIII!I:I) -> 291380.76 | L8: =TOMEK!L6+RCKIK!L6+'0'!H6+BARTEK!L6+PIOTR!L6+KRZYSZTOF!L6+'1'!H6 -> 316676.76 | M8: =SUM(J8:L8) -> 938613.16 | N8: =TOMEK!N6+RCKIK!N6+'0'!B6+BARTEK!N6+PIOTR!N6+KRZYSZTOF!N6+'1'!B6 -> 340459.17 | O8: =TOMEK!O6+RCKIK!O6+'0'!C6+BARTEK!O6+PIOTR!O6+KRZYSZTOF!O6+'1'!C6 -> 329798.41 | P8: =TOMEK!P6+RCKIK!P6+'0'!D6+BARTEK!P6+PIOTR!P6+KRZYSZTOF!P6+'1'!D6 -> 218468.45 | Q8: =SUM(N8:P8) -> 888726.03 | R8: =B8+C8+D8+F8+G8+H8+J8+K8+L8+N8+O8+P8 -> 3691498 | S8: =R8-R3 -> 437768.87 | T8: 2 | U8: 3 | W8: 4 | X8: 5 | Y8: 6 | AA8: 7 | AB8: 8 | AC8: 9 | AE8: 10 | AF8: 11 | AG8: 12
A9: Sumaryczna realizacja planu sprzedaży Marża | B9: =B8 -> 247559.53 | C9: =C8+B9 -> 537780.62 | D9: =D8+C9 -> 914982.03 | F9: =F8+D9 -> 1243798.1 | G9: =G8+F9 -> 1552549.7 | H9: =H8+G9 -> 1864158.8 | I9: =H9-H4 -> 277330.91 | J9: =J8+H9 -> 2194714.4 | K9: =K8+J9 -> 2486095.2 | L9: =L8+K9 -> 2802771.9 | M9: =M8/M3-1 -> 0.20862812 | N9: =N8+L9 -> 3143231.1 | O9: =O8+N9 -> 3473029.5 | P9: =P8+O9 -> 3691498 | Q9: =P7*0.95-P9 -> -290497.98
A10: Wysokość zrealizowania Miesięcznego Planu Sprzedaży Marża | B10: =B8/B6 -> 0.95509078 | C10: =C8/C6 -> 1.0077121 | D10: =D8/D6 -> 1.190661 | E10: =D7*0.95 -> 820800 | F10: =F8/F6 -> 1.0895968 | G10: =G8/G6 -> 1.023109 | H10: =H8/H6 -> 1.032578 | J10: =J8/J6 -> 1.0953611 | K10: =K8/K6 -> 0.96554744 | L10: =L8/L6 -> 1.0493707 | M10: =L4-L9 -> -439350.22 | N10: =N8/N6 -> 1.1281784 | O10: =O8/O6 -> 1.0928519 | P10: =P8/P6 -> 0.72393817 | Q10: =P4-P9 -> -437768.87 | X10: 2019 | Y10: =R3/12 -> 271144.09
A11: Różnica wskaźnika Marża | B11: =B9-B7 -> -11640.471 | C11: =C9-C7 -> -9419.382 | D11: =D9-D7 -> 50982.028 | E11: =E10-D9 -> -94182.028 | F11: =F9-F7 -> 78020.353 | G11: =G9-G7 -> 84994.146 | H11: =H9-H7 -> 94825.459 | I11: =H7*0.9-H9 -> -271758.79 | J11: =J9-J7 -> 123603.32 | K11: =K9-K7 -> 113206.3 | L11: =L9-L7 -> 128105.28 | M11: =J7*0.9-J9 -> -330714.43 | N11: =N9-N7 -> 166786.67 | O11: =O9-O7 -> 194807.3 | P11: =P9-P7 -> 111497.98 | X11: 2020 | Y11: =D9/3 -> 304994.01 | Z11: =1-Y10/Y11 -> 0.11098551
A12: Wysokość zrealizowania Planu Sprzedaży Marża | B12: =B9/B7 -> 0.95509078 | C12: =C9/C7 -> 0.98278622 | D12: =D9/D7 -> 1.059007 | F12: =F9/F7 -> 1.0669256 | G12: =G9/G7 -> 1.0579155 | H12: =H9/H7 -> 1.0535939 | J12: =J9/J7 -> 1.0596797 | K12: =K9/K7 -> 1.0477082 | L12: =L9/L7 -> 1.0478958 | N12: =N9/N7 -> 1.0560355 | O12: =O9/O7 -> 1.0594247 | P12: =P9/P7 -> 1.0311447 | X12: IV | Y12: =F8 -> 328816.1 | Z12: =1-Y11/Y12 -> 0.072448075
A13: Kwartalny Plan Sprzedaży Marża | B13: =TOMEK!B4+RCKIK!B4+'1'!N4+BARTEK!B4+PIOTR!B4+KRZYSZTOF!B4 -> #REF! | C13: =TOMEK!C4+RCKIK!C4+'1'!O4+BARTEK!C4+PIOTR!C4+KRZYSZTOF!C4+B13 -> #REF! | D13: =TOMEK!D4+RCKIK!D4+'1'!P4+BARTEK!D4+PIOTR!D4+KRZYSZTOF!D4+C13 -> #REF! | F13: =TOMEK!F4+RCKIK!F4+'1'!J4+BARTEK!F4+PIOTR!F4+KRZYSZTOF!F4 -> #REF! | G13: =TOMEK!G4+RCKIK!G4+'1'!K4+BARTEK!G4+PIOTR!G4+KRZYSZTOF!G4+F13 -> #REF! | H13: =TOMEK!H4+RCKIK!H4+'1'!L4+BARTEK!H4+PIOTR!H4+KRZYSZTOF!H4+G13 -> #REF! | J13: =TOMEK!J4+RCKIK!J4+'0'!B4+BARTEK!J4+PIOTR!J4+KRZYSZTOF!J4 -> #REF! | K13: =TOMEK!K4+RCKIK!K4+'0'!C4+BARTEK!K4+PIOTR!K4+KRZYSZTOF!K4+J13 -> #REF! | L13: =TOMEK!L4+RCKIK!L4+'0'!D4+BARTEK!L4+PIOTR!L4+KRZYSZTOF!L4+K13 -> #REF! | N13: =TOMEK!N4+RCKIK!N4+'0'!N4+BARTEK!N4+PIOTR!N4+KRZYSZTOF!N4 -> #REF! | O13: =TOMEK!O4+RCKIK!O4+'0'!O4+BARTEK!O4+PIOTR!O4+KRZYSZTOF!O4+N13 -> #REF! | P13: =TOMEK!P4+RCKIK!P4+'0'!P4+BARTEK!P4+PIOTR!P4+KRZYSZTOF!P4+O13 -> #REF! | Q13: =SUM(N13:P13) -> #REF! | Z13: =1-Y10/Y12 -> 0.1753929
A14: Sumaryczna Kwartalna Realizacja Planu Sprzedaży Marża | B14: =B8/B13 -> #REF! | C14: =(B8+C8)/C13 -> #REF! | D14: =(D8+C8+B8)/D13 -> #REF! | F14: =F8/F13 -> #REF! | G14: =(F8+G8)/G13 -> #REF! | H14: =(H8+G8+F8)/H13 -> #REF! | J14: =J8/J13 -> #REF! | K14: =(J8+K8)/K13 -> #REF! | L14: =(L8+K8+J8)/L13 -> #REF! | N14: =N8/N13 -> #REF! | O14: =(N8+O8)/O13 -> #REF! | P14: =(P8+O8+N8)/P13 -> #REF!
A16: Obrót 2021 | B16: 703250.41 | C16: 769350.78 | D16: 898341.47 | E16: 2370942.7 | F16: 763220.8 | G16: 815724.29 | H16: 849156.39 | I16: 2428101.5 | J16: 818261.8 | K16: 847995.24 | L16: 724519.68 | M16: 2390776.7 | N16: 805920.16 | O16: 790809.8 | P16: 999030.63 | Q16: 2595760.6 | R16: =Q16+M16+I16+E16 -> 9785581.5
A17: Sumaryczny Obrót 2021 | B17: 703250.41 | C17: 1472601.2 | D17: 2370942.7 | F17: 3134163.5 | G17: 3949887.8 | H17: 4799044.1 | J17: 5617305.9 | K17: 6465301.2 | L17: 7189820.9 | N17: 7995741 | O17: 8786550.8 | P17: 9785581.5 | S17: MINIMUM | T17: PLAN | U17: CEL
A18: Wzrost Obrotu 2022 w stos do Obrotu 2021 | B18: =B22/B17-1 -> 0.020242245 | C18: =C22/C17-1 -> 0.089224545 | D18: =D22/D17-1 -> 0.1318946 | F18: =F22/F17-1 -> 0.19569726 | G18: =G22/G17-1 -> 0.22450525 | H18: =H22/H17-1 -> 0.2139798 | J18: =J22/J17-1 -> 0.20693286 | K18: =K22/K17-1 -> 0.18126666 | L18: =L22/L17-1 -> 0.18470251 | N18: =N22/N17-1 -> 0.19048102 | O18: =O22/O17-1 -> 0.19674987 | P18: =P22/P17-1 -> 0.1491658 | Q18: =Q21/Q16 -> 1.0507351 | R18: =R21/R16 -> 1.1491658 | S18: =S19/R16 -> 1.0436273 | T18: =T19/R16 -> 1.0934455 | U18: =U19/R16 -> 1.1534828
A19: Plan Sprzedaży Obrót | B19: ='Target 2022'!B23 -> 780000 | C19: ='Target 2022'!C23 -> 866666.67 | D19: ='Target 2022'!D23 -> 953333.33 | F19: ='Target 2022'!E23 -> 905555.56 | G19: ='Target 2022'!F23 -> 905555.56 | H19: ='Target 2022'!G23 -> 905555.56 | J19: ='Target 2022'!H23 -> 905555.56 | K19: ='Target 2022'!I23 -> 905555.56 | L19: ='Target 2022'!J23 -> 905555.56 | N19: ='Target 2022'!K23 -> 905555.56 | O19: ='Target 2022'!L23 -> 905555.56 | P19: ='Target 2022'!M23 -> 905555.56 | R19: =B19+C19+D19+F19+G19+H19+J19+K19+L19+N19+O19+P19 -> 10750000 | S19: =DH!R19*0.95 -> 10212500 | T19: 10700000 | U19: ='Target 2022'!H27 -> 11287500
A20: Sumaryczny Plan Sprzedaży Obrót | B20: =B19 -> 780000 | C20: =C19+B20 -> 1646666.7 | D20: =D19+C20 -> 2600000 | F20: =F19+D20 -> 3505555.6 | G20: =G19+F20 -> 4411111.1 | H20: =H19+G20 -> 5316666.7 | I20: =H17-H22 -> -1026898.5 | J20: =J19+H20 -> 6222222.2 | K20: =K19+J20 -> 7127777.8 | L20: =L19+K20 -> 8033333.3 | N20: =N19+L20 -> 8938888.9 | O20: =O19+N20 -> 9844444.4 | P20: =P19+O20 -> 10750000
A21: Miesięczna realizacja Planu Sprzedaży Obrót | B21: =TOMEK!B11+RCKIK!B11+'1'!N13+BARTEK!B11+PIOTR!B11+KRZYSZTOF!B11+'0'!N13 -> 717485.78 | C21: =TOMEK!C11+RCKIK!C11+'1'!O13+BARTEK!C11+PIOTR!C11+KRZYSZTOF!C11+'0'!O13 -> 886507.59 | D21: =TOMEK!D11+RCKIK!D11+'1'!P13+BARTEK!D11+PIOTR!D11+KRZYSZTOF!D11+'0'!P13 -> 1079663.8 | E21: =SUM(B21:D21) -> 2683657.2 | F21: =TOMEK!F11+RCKIK!F11+'1'!J13+BARTEK!F11+PIOTR!F11+KRZYSZTOF!F11+'0'!J13 -> 1063853.5 | G21: =TOMEK!G11+RCKIK!G11+'1'!K13+BARTEK!G11+PIOTR!G11+KRZYSZTOF!G11+'0'!K13 -> 1089147.6 | H21: =TOMEK!H11+RCKIK!H11+'1'!L13+BARTEK!H11+PIOTR!H11+KRZYSZTOF!H11+'0'!L13 -> 989284.38 | I21: =SUM(F21:H21) -> 3142285.5 | J21: =TOMEK!J11+RCKIK!J11+'0'!F13+BARTEK!J11+PIOTR!J11+KRZYSZTOF!J11+'1'!F13 -> 953768.48 | K21: =TOMEK!K11+RCKIK!K11+'0'!G13+BARTEK!K11+PIOTR!K11+KRZYSZTOF!K11+'1'!G13+SUMIF(VIII!A:A,$A$1,VIII!G:G) -> 857533.63 | L21: =TOMEK!L11+RCKIK!L11+'0'!H13+BARTEK!L11+PIOTR!L11+KRZYSZTOF!L11+'1'!H13 -> 880554.04 | M21: =SUM(J21:L21) -> 2691856.1 | N21: =TOMEK!N11+RCKIK!N11+'0'!B13+BARTEK!N11+PIOTR!N11+KRZYSZTOF!N11+'1'!B13 -> 1000979.2 | O21: =TOMEK!O11+RCKIK!O11+'0'!C13+BARTEK!O11+PIOTR!O11+KRZYSZTOF!O11+'1'!C13 -> 996525.57 | P21: =TOMEK!P11+RCKIK!P11+'0'!D13+BARTEK!P11+PIOTR!P11+KRZYSZTOF!P11+'1'!D13 -> 729952.05 | Q21: =SUM(N21:P21) -> 2727456.8 | R21: =B21+C21+D21+F21+G21+H21+J21+K21+L21+N21+O21+P21 -> 11245256
A22: Sumaryczna realizacja planu sprzedaży Obrót | B22: =B21 -> 717485.78 | C22: =C21+B22 -> 1603993.4 | D22: =D21+C22 -> 2683657.2 | F22: =F21+D22 -> 3747510.6 | G22: =G21+F22 -> 4836658.3 | H22: =H21+G22 -> 5825942.6 | J22: =J21+H22 -> 6779711.1 | K22: =K21+J22 -> 7637244.8 | L22: =L21+K22 -> 8517798.8 | N22: =N21+L22 -> 9518778 | O22: =O21+N22 -> 10515304 | P22: =P21+O22 -> 11245256
A23: Wysokość zrealizowania Miesięcznego Planu Sprzedaży Obrót | B23: =B21/B19 -> 0.91985357 | C23: =C21/C19 -> 1.0228934 | D23: =D21/D19 -> 1.1325145 | F23: =F21/F19 -> 1.1748075 | G23: =G21/G19 -> 1.2027397 | H23: =H21/H19 -> 1.0924613 | I23: =G17-G22 -> -886770.52 | J23: =J21/J19 -> 1.0532413 | K23: =K21/K19 -> 0.94696966 | L23: =L21/L19 -> 0.97239096 | N23: =N21/N19 -> 1.1053758 | O23: =O21/O19 -> 1.1004577 | P23: =P21/P19 -> 0.80608202 | Q23: =P17-P22 -> -1459674.1
A24: Wysokość zrealizowania Planu Sprzedaży Obrót | B24: =B22/B20 -> 0.91985357 | C24: =C22/C20 -> 0.97408504 | D24: =D22/D20 -> 1.0321758 | F24: =F22/F20 -> 1.0690205 | G24: =G22/G20 -> 1.0964716 | H24: =H22/H20 -> 1.0957886 | J24: =J22/J20 -> 1.0895964 | K24: =K22/K20 -> 1.0714763 | L24: =L22/L20 -> 1.0603069 | N24: =N22/N20 -> 1.0648726 | O24: =O22/O20 -> 1.068146 | P24: =P22/P20 -> 1.0460703
A25: Różnica wskaźnika Obrót | B25: =B22-B20 -> -62514.219 | C25: =C22-C20 -> -42673.299 | D25: =D22-D20 -> 83657.188 | F25: =F22-F20 -> 241955.09 | G25: =G22-G20 -> 425547.16 | H25: =H22-H20 -> 509275.98 | J25: =J22-J20 -> 557488.9 | K25: =K22-K20 -> 509466.98 | L25: =L22-L20 -> 484465.46 | N25: =N22-N20 -> 579889.07 | O25: =O22-O20 -> 670859.08 | P25: =P22-P20 -> 495255.58
A27: Wysokość Marży miesięcznej | B27: =B8/B21 -> 0.34503754 | C27: =C8/C21 -> 0.32737575 | D27: =D8/D21 -> 0.34936932 | F27: =F8/F21 -> 0.30908026 | G27: =G8/G21 -> 0.28348 | H27: =H8/H21 -> 0.31498435 | J27: =J8/J21 -> 0.34657849 | K27: =K8/K21 -> 0.33978931 | L27: =L8/L21 -> 0.35963353 | N27: =N8/N21 -> 0.34012613 | O27: =O8/O21 -> 0.33094827 | P27: =P8/P21 -> 0.29929151
A28: Wysokość Marży sumarycznej | B28: =B9/B22 -> 0.34503754 | C28: =C9/C22 -> 0.33527609 | D28: =D9/D22 -> 0.34094594 | F28: =F9/F22 -> 0.33189983 | G28: =G9/G22 -> 0.32099636 | H28: =H9/H22 -> 0.31997548 | J28: =J9/J22 -> 0.32371799 | K28: =K9/K22 -> 0.32552252 | L28: =L9/L22 -> 0.32904886 | N28: =N9/N22 -> 0.33021372 | O28: =O9/O22 -> 0.33028334
B30: PREMIE
A31: Wynagrodzenie zasadnicze | B31: 8400 | C31: 8400 | D31: 8400 | F31: 9300 | G31: 9300 | H31: 9300 | J31: 0 | K31: 0 | L31: 0 | N31: 0 | O31: 0 | P31: 0
A32: Wskaźnik Plan Sprzedaży Marża | B32: =B7 -> 259200 | C32: =C7 -> 547200 | D32: =D7 -> 864000 | F32: =F7 -> 1165777.8 | G32: =G7 -> 1467555.6 | H32: =H7 -> 1769333.3 | J32: =J7 -> 2071111.1 | K32: =K7 -> 2372888.9 | L32: =L7 -> 2674666.7 | N32: =N7 -> 2976444.4 | O32: =O7 -> 3278222.2 | P32: =P7 -> 3580000
A33: Realizacja Wskaźnika Planu Sprzedaży Marża | B33: =B9 -> 247559.53 | C33: =C9 -> 537780.62 | D33: =D9 -> 914982.03 | F33: =F9 -> 1243798.1 | G33: =G9 -> 1552549.7 | H33: =H9 -> 1864158.8 | J33: =J9 -> 2194714.4 | K33: =K9 -> 2486095.2 | L33: =L9 -> 2802771.9 | N33: =N9 -> 3143231.1 | O33: =O9 -> 3473029.5 | P33: =P9 -> 3691498
A34: Poziom realizacji Wskaźnika Sprzedaży Marża | B34: =B33/B32 -> 0.95509078 | C34: =C33/C32 -> 0.98278622 | D34: =D33/D32 -> 1.059007 | F34: =F33/F32 -> 1.0669256 | G34: =G33/G32 -> 1.0579155 | H34: =H33/H32 -> 1.0535939 | J34: =J33/J32 -> 1.0596797 | K34: =K33/K32 -> 1.0477082 | L34: =L33/L32 -> 1.0478958 | N34: =N33/N32 -> 1.0560355 | O34: =O33/O32 -> 1.0594247 | P34: =P33/P32 -> 1.0311447
A35: Wysokość premii Wskaźnik Sprzedaży Marża | B35: =B31*0.3 -> 2520 | C35: =C31*0.3 -> 2520 | D35: =D31*0.3 -> 2520 | F35: =F31*0.3 -> 2790 | G35: =G31*0.3 -> 2790 | H35: =H31*0.3 -> 2790 | J35: =J31*0.3 -> 0 | K35: =K31*0.3 -> 0 | L35: =L31*0.3 -> 0 | N35: =N31*0.3 -> 0 | O35: =O31*0.3 -> 0 | P35: =P31*0.3 -> 0
A36: Mnożnik premii miesięcznej Wskaźnika Sprzedaży Marża | B36: =IF(B34<80%,0,IF(B34<90%,0.5,IF(B34<95%,0.75,1))) -> 1 | C36: =IF(C34<80%,0,IF(C34<90%,0.5,IF(C34<95%,0.75,1))) -> 1 | D36: =IF(D34<80%,0,IF(D34<90%,0.5,IF(D34<95%,0.75,1))) -> 1 | F36: =IF(F34<80%,0,IF(F34<90%,0.5,IF(F34<95%,0.75,1))) -> 1 | G36: =IF(G34<80%,0,IF(G34<90%,0.5,IF(G34<95%,0.75,1))) -> 1 | H36: =IF(H34<80%,0,IF(H34<90%,0.5,IF(H34<95%,0.75,1))) -> 1 | J36: =IF(J34<80%,0,IF(J34<90%,0.5,IF(J34<95%,0.75,1))) -> 1 | K36: =IF(K34<80%,0,IF(K34<90%,0.5,IF(K34<95%,0.75,1))) -> 1 | L36: =IF(L34<80%,0,IF(L34<90%,0.5,IF(L34<95%,0.75,1))) -> 1 | N36: =IF(N34<80%,0,IF(N34<90%,0.5,IF(N34<95%,0.75,1))) -> 1 | O36: =IF(O34<80%,0,IF(O34<90%,0.5,IF(O34<95%,0.75,1))) -> 1 | P36: =IF(P34<80%,0,IF(P34<90%,0.5,IF(P34<95%,0.75,1))) -> 1
A37: Premia miesięczna za Wskaźnik Sprzedaży Marża | B37: =B36*B35 -> 2520 | C37: =C36*C35 -> 2520 | D37: =D36*D35 -> 2520 | F37: =F36*F35 -> 2790 | G37: =G36*G35 -> 2790 | H37: =H36*H35 -> 2790 | J37: =J36*J35 -> 0 | K37: =K36*K35 -> 0 | L37: =L36*L35 -> 0 | N37: =N36*N35 -> 0 | O37: =O36*O35 -> 0 | P37: =P36*P35 -> 0
A38: Suma Premii miesięcznych | B38: =B37 -> 2520 | C38: =C37 -> 2520 | D38: =D37 -> 2520 | F38: =F37 -> 2790 | G38: =G37 -> 2790 | H38: =H37 -> 2790 | J38: =J37 -> 0 | K38: =K37 -> 0 | L38: =L37 -> 0 | N38: =N37 -> 0 | O38: =O37 -> 0 | P38: =P37 -> 0
A40: Raport za miesiąc: | B40: styczeń | C40: luty | D40: marzec | E40: Suma | F40: kwiecień | G40: maj | H40: czerwiec | I40: Suma | J40: lipiec | K40: sierpień | L40: wrzesień | M40: Suma | N40: paździer. | O40: listopad | P40: grudzień | Q40: Suma | R40: Suma
A41: Ilość nowych Klientów: | B41: =TOMEK!B37+RCKIK!B17+'1'!N48+BARTEK!B37+PIOTR!B37+KRZYSZTOF!B37+'0'!N48 -> 2 | C41: =TOMEK!C37+RCKIK!C17+'1'!O48+BARTEK!C37+PIOTR!C37+KRZYSZTOF!C37+'0'!O48 -> 5 | D41: =TOMEK!D37+RCKIK!D17+'1'!P48+BARTEK!D37+PIOTR!D37+KRZYSZTOF!D37+'0'!P48 -> 5 | E41: =SUM(B41:D41) -> 12 | F41: =TOMEK!F37+RCKIK!F17+'1'!J48+BARTEK!F37+PIOTR!F37+KRZYSZTOF!F37+'0'!J48 -> 5 | G41: =TOMEK!G37+RCKIK!G17+'1'!K48+BARTEK!G37+PIOTR!G37+KRZYSZTOF!G37+'0'!K48 -> 3 | H41: =TOMEK!H37+RCKIK!H17+'1'!L48+BARTEK!H37+PIOTR!H37+KRZYSZTOF!H37+'0'!L48 -> 2 | I41: =SUM(F41:H41) -> 10 | J41: =TOMEK!J37+RCKIK!J17+'1'!F48+BARTEK!J37+PIOTR!J37+KRZYSZTOF!J37+'0'!F48 -> 3 | K41: =TOMEK!K37+RCKIK!K17+'1'!G48+BARTEK!K37+PIOTR!K37+KRZYSZTOF!K37+'0'!G48 -> 4 | L41: =TOMEK!L37+RCKIK!L17+'1'!H48+BARTEK!L37+PIOTR!L37+KRZYSZTOF!L37+'0'!H48 -> 3 | M41: =SUM(J41:L41) -> 10 | N41: =TOMEK!N37+RCKIK!N17+'1'!B48+BARTEK!N37+PIOTR!N37+KRZYSZTOF!N37+'0'!B48 -> 6 | O41: =TOMEK!O37+RCKIK!O17+'1'!C48+BARTEK!O37+PIOTR!O37+KRZYSZTOF!O37+'0'!C48 -> 3 | P41: =TOMEK!P37+RCKIK!P17+'1'!D48+BARTEK!P37+PIOTR!P37+KRZYSZTOF!P37+'0'!D48 -> 3 | Q41: =SUM(N41:P41) -> 12 | R41: =Q41+M41+I41+E41 -> 44
A42: Ilość Podmiotów na etapie współpracy Klient: | B42: =TOMEK!B38+RCKIK!B18+'1'!N49+BARTEK!B38+PIOTR!B38+KRZYSZTOF!B38+'0'!N49 -> 704 | C42: =TOMEK!C38+RCKIK!C18+'1'!O49+BARTEK!C38+PIOTR!C38+KRZYSZTOF!C38+'0'!O49 -> 714 | D42: =TOMEK!D38+RCKIK!D18+'1'!P49+BARTEK!D38+PIOTR!D38+KRZYSZTOF!D38+'0'!P49 -> 724 | F42: =TOMEK!F38+RCKIK!F18+'1'!J49+BARTEK!F38+PIOTR!F38+KRZYSZTOF!F38+'0'!J49 -> 735 | G42: =TOMEK!G38+RCKIK!G18+'1'!K49+BARTEK!G38+PIOTR!G38+KRZYSZTOF!G38+'0'!K49 -> 743 | H42: =TOMEK!H38+RCKIK!H18+'1'!L49+BARTEK!H38+PIOTR!H38+KRZYSZTOF!H38+'0'!L49 -> 727 | J42: =TOMEK!J38+RCKIK!J18+'1'!F49+BARTEK!J38+PIOTR!J38+KRZYSZTOF!J38+'0'!F49 -> 736 | K42: =TOMEK!K38+RCKIK!K18+'1'!G49+BARTEK!K38+PIOTR!K38+KRZYSZTOF!K38+'0'!G49 -> 743 | L42: =TOMEK!L38+RCKIK!L18+'1'!H49+BARTEK!L38+PIOTR!L38+KRZYSZTOF!L38+'0'!H49 -> 748 | N42: =TOMEK!N38+RCKIK!N18+'1'!B49+BARTEK!N38+PIOTR!N38+KRZYSZTOF!N38+'0'!B49 -> 754 | O42: =TOMEK!O38+RCKIK!O18+'1'!C49+BARTEK!O38+PIOTR!O38+KRZYSZTOF!O38+'0'!C49 -> 761 | P42: =TOMEK!P38+RCKIK!P18+'1'!D49+BARTEK!P38+PIOTR!P38+KRZYSZTOF!P38+'0'!D49 -> 770
A43: Ilość Podmiotów na etapie współpracy Handlowy: | B43: =TOMEK!B39+RCKIK!B19+'1'!N50+BARTEK!B39+PIOTR!B39+KRZYSZTOF!B39+'0'!N50 -> 93 | C43: =TOMEK!C39+RCKIK!C19+'1'!O50+BARTEK!C39+PIOTR!C39+KRZYSZTOF!C39+'0'!O50 -> 93 | D43: =TOMEK!D39+RCKIK!D19+'1'!P50+BARTEK!D39+PIOTR!D39+KRZYSZTOF!D39+'0'!P50 -> 89 | F43: =TOMEK!F39+RCKIK!F19+'1'!J50+BARTEK!F39+PIOTR!F39+KRZYSZTOF!F39+'0'!J50 -> 106 | G43: =TOMEK!G39+RCKIK!G19+'1'!K50+BARTEK!G39+PIOTR!G39+KRZYSZTOF!G39+'0'!K50 -> 108 | H43: =TOMEK!H39+RCKIK!H19+'1'!L50+BARTEK!H39+PIOTR!H39+KRZYSZTOF!H39+'0'!L50 -> 101 | J43: =TOMEK!J39+RCKIK!J19+'1'!F50+BARTEK!J39+PIOTR!J39+KRZYSZTOF!J39+'0'!F50 -> 101 | K43: =TOMEK!K39+RCKIK!K19+'1'!G50+BARTEK!K39+PIOTR!K39+KRZYSZTOF!K39+'0'!G50 -> 103 | L43: =TOMEK!L39+RCKIK!L19+'1'!H50+BARTEK!L39+PIOTR!L39+KRZYSZTOF!L39+'0'!H50 -> 106 | N43: =TOMEK!N39+RCKIK!N19+'1'!B50+BARTEK!N39+PIOTR!N39+KRZYSZTOF!N39+'0'!B50 -> 108 | O43: =TOMEK!O39+RCKIK!O19+'1'!C50+BARTEK!O39+PIOTR!O39+KRZYSZTOF!O39+'0'!C50 -> 112 | P43: =TOMEK!P39+RCKIK!P19+'1'!D50+BARTEK!P39+PIOTR!P39+KRZYSZTOF!P39+'0'!D50 -> 114
A44: Ilość Podmiotów na etapie współpracy Klient nieaktywny: | B44: =TOMEK!B40+RCKIK!B20+'1'!N51+BARTEK!B40+PIOTR!B40+KRZYSZTOF!B40+'0'!N51 -> 899 | C44: =TOMEK!C40+RCKIK!C20+'1'!O51+BARTEK!C40+PIOTR!C40+KRZYSZTOF!C40+'0'!O51 -> 897 | D44: =TOMEK!D40+RCKIK!D20+'1'!P51+BARTEK!D40+PIOTR!D40+KRZYSZTOF!D40+'0'!P51 -> 896 | F44: =TOMEK!F40+RCKIK!F20+'1'!J51+BARTEK!F40+PIOTR!F40+KRZYSZTOF!F40+'0'!J51 -> 1017 | G44: =TOMEK!G40+RCKIK!G20+'1'!K51+BARTEK!G40+PIOTR!G40+KRZYSZTOF!G40+'0'!K51 -> 1012 | H44: =TOMEK!H40+RCKIK!H20+'1'!L51+BARTEK!H40+PIOTR!H40+KRZYSZTOF!H40+'0'!L51 -> 1009 | J44: =TOMEK!J40+RCKIK!J20+'1'!F51+BARTEK!J40+PIOTR!J40+KRZYSZTOF!J40+'0'!F51 -> 1003 | K44: =TOMEK!K40+RCKIK!K20+'1'!G51+BARTEK!K40+PIOTR!K40+KRZYSZTOF!K40+'0'!G51 -> 999 | L44: =TOMEK!L40+RCKIK!L20+'1'!H51+BARTEK!L40+PIOTR!L40+KRZYSZTOF!L40+'0'!H51 -> 997 | N44: =TOMEK!N40+RCKIK!N20+'1'!B51+BARTEK!N40+PIOTR!N40+KRZYSZTOF!N40+'0'!B51 -> 995 | O44: =TOMEK!O40+RCKIK!O20+'1'!C51+BARTEK!O40+PIOTR!O40+KRZYSZTOF!O40+'0'!C51 -> 992 | P44: =TOMEK!P40+RCKIK!P20+'1'!D51+BARTEK!P40+PIOTR!P40+KRZYSZTOF!P40+'0'!D51 -> 990
A45: Ilość Podmiotów pod opieką: | B45: =TOMEK!B41+RCKIK!B21+'1'!N52+BARTEK!B41+PIOTR!B41+KRZYSZTOF!B41+'0'!N52 -> 1696 | C45: =TOMEK!C41+RCKIK!C21+'1'!O52+BARTEK!C41+PIOTR!C41+KRZYSZTOF!C41+'0'!O52 -> 1704 | D45: =TOMEK!D41+RCKIK!D21+'1'!P52+BARTEK!D41+PIOTR!D41+KRZYSZTOF!D41+'0'!P52 -> 1709 | F45: =TOMEK!F41+RCKIK!F21+'1'!J52+BARTEK!F41+PIOTR!F41+KRZYSZTOF!F41+'0'!J52 -> 1858 | G45: =TOMEK!G41+RCKIK!G21+'1'!K52+BARTEK!G41+PIOTR!G41+KRZYSZTOF!G41+'0'!K52 -> 1863 | H45: =TOMEK!H41+RCKIK!H21+'1'!L52+BARTEK!H41+PIOTR!H41+KRZYSZTOF!H41+'0'!L52 -> 1837 | J45: =SUM(J43:J44) -> 1104 | K45: =SUM(K43:K44) -> 1102 | L45: =SUM(L43:L44) -> 1103 | N45: =SUM(N43:N44) -> 1103 | O45: =SUM(O43:O44) -> 1104 | P45: =SUM(P43:P44) -> 1104
A46: Ilość sprzedanych drukarek: | B46: =TOMEK!B42+RCKIK!B22+'1'!N53+BARTEK!B42+PIOTR!B42+KRZYSZTOF!B42+'0'!N53 -> 21 | C46: =TOMEK!C42+RCKIK!C22+'1'!O53+BARTEK!C42+PIOTR!C42+KRZYSZTOF!C42+'0'!O53 -> 17 | D46: =TOMEK!D42+RCKIK!D22+'1'!P53+BARTEK!D42+PIOTR!D42+KRZYSZTOF!D42+'0'!P53 -> 7 | E46: =SUM(B46:D46) -> 45 | F46: =TOMEK!F42+RCKIK!F22+'1'!J53+BARTEK!F42+PIOTR!F42+KRZYSZTOF!F42+'0'!J53 -> 8 | G46: =TOMEK!G42+RCKIK!G22+'1'!K53+BARTEK!G42+PIOTR!G42+KRZYSZTOF!G42+'0'!K53 -> 9 | H46: =TOMEK!H42+RCKIK!H22+'1'!L53+BARTEK!H42+PIOTR!H42+KRZYSZTOF!H42+'0'!L53 -> 9 | I46: =SUM(F46:H46) -> 26 | J46: =TOMEK!J42+RCKIK!J22+'1'!F53+BARTEK!J42+PIOTR!J42+KRZYSZTOF!J42+'0'!F53 -> 5 | K46: =TOMEK!K42+RCKIK!K22+'1'!G53+BARTEK!K42+PIOTR!K42+KRZYSZTOF!K42+'0'!G53 -> 7 | L46: =TOMEK!L42+RCKIK!L22+'1'!H53+BARTEK!L42+PIOTR!L42+KRZYSZTOF!L42+'0'!H53 -> 2 | M46: =SUM(J46:L46) -> 14 | N46: =TOMEK!N42+RCKIK!N22+'1'!B53+BARTEK!N42+PIOTR!N42+KRZYSZTOF!N42+'0'!B53 -> 6 | O46: =TOMEK!O42+RCKIK!O22+'1'!C53+BARTEK!O42+PIOTR!O42+KRZYSZTOF!O42+'0'!C53 -> 3 | P46: =TOMEK!P42+RCKIK!P22+'1'!D53+BARTEK!P42+PIOTR!P42+KRZYSZTOF!P42+'0'!D53 -> 7 | Q46: =SUM(N46:P46) -> 16 | R46: =Q46+M46+I46+E46 -> 101
A47: Ilość ofert dodanych w danym miesiącu: | B47: =TOMEK!B43+RCKIK!B23+'1'!N54+BARTEK!B43+PIOTR!B43+KRZYSZTOF!B43+'0'!N54 -> 131 | C47: =TOMEK!C43+RCKIK!C23+'1'!O54+BARTEK!C43+PIOTR!C43+KRZYSZTOF!C43+'0'!O54 -> 180 | D47: =TOMEK!D43+RCKIK!D23+'1'!P54+BARTEK!D43+PIOTR!D43+KRZYSZTOF!D43+'0'!P54 -> 223 | E47: =SUM(B47:D47) -> 534 | F47: =TOMEK!F43+RCKIK!F23+'1'!J54+BARTEK!F43+PIOTR!F43+KRZYSZTOF!F43+'0'!J54 -> 138 | G47: =TOMEK!G43+RCKIK!G23+'1'!K54+BARTEK!G43+PIOTR!G43+KRZYSZTOF!G43+'0'!K54 -> 144 | H47: =TOMEK!H43+RCKIK!H23+'1'!L54+BARTEK!H43+PIOTR!H43+KRZYSZTOF!H43+'0'!L54 -> 139 | I47: =SUM(F47:H47) -> 421 | J47: =TOMEK!J43+RCKIK!J23+'1'!F54+BARTEK!J43+PIOTR!J43+KRZYSZTOF!J43+'0'!F54 -> 126 | K47: =TOMEK!K43+RCKIK!K23+'1'!G54+BARTEK!K43+PIOTR!K43+KRZYSZTOF!K43+'0'!G54 -> 145 | L47: =TOMEK!L43+RCKIK!L23+'1'!H54+BARTEK!L43+PIOTR!L43+KRZYSZTOF!L43+'0'!H54 -> 146 | M47: =SUM(J47:L47) -> 417 | N47: =TOMEK!N43+RCKIK!N23+'1'!B54+BARTEK!N43+PIOTR!N43+KRZYSZTOF!N43+'0'!B54 -> 146 | O47: =TOMEK!O43+RCKIK!O23+'1'!C54+BARTEK!O43+PIOTR!O43+KRZYSZTOF!O43+'0'!C54 -> 149 | P47: =TOMEK!P43+RCKIK!P23+'1'!D54+BARTEK!P43+PIOTR!P43+KRZYSZTOF!P43+'0'!D54 -> 111 | Q47: =SUM(N47:P47) -> 406 | R47: =Q47+M47+I47+E47 -> 1778
A48: Ilość ofert oczekujących na decyzję kontrahenta: | B48: =TOMEK!B44+RCKIK!B24+'1'!N55+BARTEK!B44+PIOTR!B44+KRZYSZTOF!B44+'0'!N55 -> 54 | C48: =TOMEK!C44+RCKIK!C24+'1'!O55+BARTEK!C44+PIOTR!C44+KRZYSZTOF!C44+'0'!O55 -> 61 | D48: =TOMEK!D44+RCKIK!D24+'1'!P55+BARTEK!D44+PIOTR!D44+KRZYSZTOF!D44+'0'!P55 -> 66 | F48: =TOMEK!F44+RCKIK!F24+'1'!J55+BARTEK!F44+PIOTR!F44+KRZYSZTOF!F44+'0'!J55 -> 42 | G48: =TOMEK!G44+RCKIK!G24+'1'!K55+BARTEK!G44+PIOTR!G44+KRZYSZTOF!G44+'0'!K55 -> 58 | H48: =TOMEK!H44+RCKIK!H24+'1'!L55+BARTEK!H44+PIOTR!H44+KRZYSZTOF!H44+'0'!L55 -> 58 | J48: =TOMEK!J44+RCKIK!J24+'1'!F55+BARTEK!J44+PIOTR!J44+KRZYSZTOF!J44+'0'!F55 -> 48 | K48: =TOMEK!K44+RCKIK!K24+'1'!G55+BARTEK!K44+PIOTR!K44+KRZYSZTOF!K44+'0'!G55 -> 46 | L48: =TOMEK!L44+RCKIK!L24+'1'!H55+BARTEK!L44+PIOTR!L44+KRZYSZTOF!L44+'0'!H55 -> 48 | N48: =TOMEK!N44+RCKIK!N24+'1'!B55+BARTEK!N44+PIOTR!N44+KRZYSZTOF!N44+'0'!B55 -> 60 | O48: =TOMEK!O44+RCKIK!O24+'1'!C55+BARTEK!O44+PIOTR!O44+KRZYSZTOF!O44+'0'!C55 -> 51 | P48: =TOMEK!P44+RCKIK!P24+'1'!D55+BARTEK!P44+PIOTR!P44+KRZYSZTOF!P44+'0'!D55 -> 35
A49: Ilość zaakceptowanych ofert przez kontrahenta: | B49: =TOMEK!B45+RCKIK!B25+'1'!N56+BARTEK!B45+PIOTR!B45+KRZYSZTOF!B45+'0'!N56 -> 60 | C49: =TOMEK!C45+RCKIK!C25+'1'!O56+BARTEK!C45+PIOTR!C45+KRZYSZTOF!C45+'0'!O56 -> 96 | D49: =TOMEK!D45+RCKIK!D25+'1'!P56+BARTEK!D45+PIOTR!D45+KRZYSZTOF!D45+'0'!P56 -> 139 | E49: =SUM(B49:D49) -> 295 | F49: =TOMEK!F45+RCKIK!F25+'1'!J56+BARTEK!F45+PIOTR!F45+KRZYSZTOF!F45+'0'!J56 -> 90 | G49: =TOMEK!G45+RCKIK!G25+'1'!K56+BARTEK!G45+PIOTR!G45+KRZYSZTOF!G45+'0'!K56 -> 88 | H49: =TOMEK!H45+RCKIK!H25+'1'!L56+BARTEK!H45+PIOTR!H45+KRZYSZTOF!H45+'0'!L56 -> 90 | I49: =SUM(F49:H49) -> 268 | J49: =TOMEK!J45+RCKIK!J25+'1'!F56+BARTEK!J45+PIOTR!J45+KRZYSZTOF!J45+'0'!F56 -> 76 | K49: =TOMEK!K45+RCKIK!K25+'1'!G56+BARTEK!K45+PIOTR!K45+KRZYSZTOF!K45+'0'!G56 -> 101 | L49: =TOMEK!L45+RCKIK!L25+'1'!H56+BARTEK!L45+PIOTR!L45+KRZYSZTOF!L45+'0'!H56 -> 79 | M49: =SUM(J49:L49) -> 256 | N49: =TOMEK!N45+RCKIK!N25+'1'!B56+BARTEK!N45+PIOTR!N45+KRZYSZTOF!N45+'0'!B56 -> 82 | O49: =TOMEK!O45+RCKIK!O25+'1'!C56+BARTEK!O45+PIOTR!O45+KRZYSZTOF!O45+'0'!C56 -> 90 | P49: =TOMEK!P45+RCKIK!P25+'1'!D56+BARTEK!P45+PIOTR!P45+KRZYSZTOF!P45+'0'!D56 -> 76 | Q49: =SUM(N49:P49) -> 248 | R49: =Q49+M49+I49+E49 -> 1067
A50: Ilość odrzuconych ofert przez kontrahenta: | B50: =TOMEK!B46+RCKIK!B26+'1'!N57+BARTEK!B46+PIOTR!B46+KRZYSZTOF!B46+'0'!N57 -> 51 | C50: =TOMEK!C46+RCKIK!C26+'1'!O57+BARTEK!C46+PIOTR!C46+KRZYSZTOF!C46+'0'!O57 -> 68 | D50: =TOMEK!D46+RCKIK!D26+'1'!P57+BARTEK!D46+PIOTR!D46+KRZYSZTOF!D46+'0'!P57 -> 85 | E50: =SUM(B50:D50) -> 204 | F50: =TOMEK!F46+RCKIK!F26+'1'!J57+BARTEK!F46+PIOTR!F46+KRZYSZTOF!F46+'0'!J57 -> 54 | G50: =TOMEK!G46+RCKIK!G26+'1'!K57+BARTEK!G46+PIOTR!G46+KRZYSZTOF!G46+'0'!K57 -> 60 | H50: =TOMEK!H46+RCKIK!H26+'1'!L57+BARTEK!H46+PIOTR!H46+KRZYSZTOF!H46+'0'!L57 -> 46 | I50: =SUM(F50:H50) -> 160 | J50: =TOMEK!J46+RCKIK!J26+'1'!F57+BARTEK!J46+PIOTR!J46+KRZYSZTOF!J46+'0'!F57 -> 48 | K50: =TOMEK!K46+RCKIK!K26+'1'!G57+BARTEK!K46+PIOTR!K46+KRZYSZTOF!K46+'0'!G57 -> 58 | L50: =TOMEK!L46+RCKIK!L26+'1'!H57+BARTEK!L46+PIOTR!L46+KRZYSZTOF!L46+'0'!H57 -> 57 | M50: =SUM(J50:L50) -> 163 | N50: =TOMEK!N46+RCKIK!N26+'1'!B57+BARTEK!N46+PIOTR!N46+KRZYSZTOF!N46+'0'!B57 -> 44 | O50: =TOMEK!O46+RCKIK!O26+'1'!C57+BARTEK!O46+PIOTR!O46+KRZYSZTOF!O46+'0'!C57 -> 79 | P50: =TOMEK!P46+RCKIK!P26+'1'!D57+BARTEK!P46+PIOTR!P46+KRZYSZTOF!P46+'0'!D57 -> 53 | Q50: =SUM(N50:P50) -> 176 | R50: =Q50+M50+I50+E50 -> 703
A51: Ilość przekazanych podmiotów: | B51: =TOMEK!B47+RCKIK!B27+'1'!N58+BARTEK!B47+PIOTR!B47+KRZYSZTOF!B47+'0'!N58 -> 14 | C51: =TOMEK!C47+RCKIK!C27+'1'!O58+BARTEK!C47+PIOTR!C47+KRZYSZTOF!C47+'0'!O58 -> 12 | D51: =TOMEK!D47+RCKIK!D27+'1'!P58+BARTEK!D47+PIOTR!D47+KRZYSZTOF!D47+'0'!P58 -> 9 | E51: =SUM(B51:D51) -> 35 | F51: =TOMEK!F47+RCKIK!F27+'1'!J58+BARTEK!F47+PIOTR!F47+KRZYSZTOF!F47+'0'!J58 -> 11 | G51: =TOMEK!G47+RCKIK!G27+'1'!K58+BARTEK!G47+PIOTR!G47+KRZYSZTOF!G47+'0'!K58 -> 10 | H51: =TOMEK!H47+RCKIK!H27+'1'!L58+BARTEK!H47+PIOTR!H47+KRZYSZTOF!H47+'0'!L58 -> 12 | I51: =SUM(F51:H51) -> 33 | J51: =TOMEK!J47+RCKIK!J27+'1'!F58+BARTEK!J47+PIOTR!J47+KRZYSZTOF!J47+'0'!F58 -> 10 | K51: =TOMEK!K47+RCKIK!K27+'1'!G58+BARTEK!K47+PIOTR!K47+KRZYSZTOF!K47+'0'!G58 -> 7 | L51: =TOMEK!L47+RCKIK!L27+'1'!H58+BARTEK!L47+PIOTR!L47+KRZYSZTOF!L47+'0'!H58 -> 9 | M51: =SUM(J51:L51) -> 26 | N51: =TOMEK!N47+RCKIK!N27+'1'!B58+BARTEK!N47+PIOTR!N47+KRZYSZTOF!N47+'0'!B58 -> 20 | O51: =TOMEK!O47+RCKIK!O27+'1'!C58+BARTEK!O47+PIOTR!O47+KRZYSZTOF!O47+'0'!C58 -> 8 | P51: =TOMEK!P47+RCKIK!P27+'1'!D58+BARTEK!P47+PIOTR!P47+KRZYSZTOF!P47+'0'!D58 -> 14 | Q51: =SUM(N51:P51) -> 42 | R51: =Q51+M51+I51+E51 -> 136
A52: Ilość odebranych podmiotów (zmiana prowadzącego): | B52: =TOMEK!B48+RCKIK!B28+'1'!N59+BARTEK!B48+PIOTR!B48+KRZYSZTOF!B48+'0'!N59 -> 0 | C52: =TOMEK!C48+RCKIK!C28+'1'!O59+BARTEK!C48+PIOTR!C48+KRZYSZTOF!C48+'0'!O59 -> 0 | D52: =TOMEK!D48+RCKIK!D28+'1'!P59+BARTEK!D48+PIOTR!D48+KRZYSZTOF!D48+'0'!P59 -> 0 | E52: =SUM(B52:D52) -> 0 | F52: =TOMEK!F48+RCKIK!F28+'1'!J59+BARTEK!F48+PIOTR!F48+KRZYSZTOF!F48+'0'!J59 -> 0 | G52: =TOMEK!G48+RCKIK!G28+'1'!K59+BARTEK!G48+PIOTR!G48+KRZYSZTOF!G48+'0'!K59 -> 0 | H52: =TOMEK!H48+RCKIK!H28+'1'!L59+BARTEK!H48+PIOTR!H48+KRZYSZTOF!H48+'0'!L59 -> 0 | I52: =SUM(F52:H52) -> 0 | J52: =TOMEK!J48+RCKIK!J28+'1'!F59+BARTEK!J48+PIOTR!J48+KRZYSZTOF!J48+'0'!F59 -> 0 | K52: =TOMEK!K48+RCKIK!K28+'1'!G59+BARTEK!K48+PIOTR!K48+KRZYSZTOF!K48+'0'!G59 -> 0 | L52: =TOMEK!L48+RCKIK!L28+'1'!H59+BARTEK!L48+PIOTR!L48+KRZYSZTOF!L48+'0'!H59 -> 0 | M52: =SUM(J52:L52) -> 0 | N52: =TOMEK!N48+RCKIK!N28+'1'!B59+BARTEK!N48+PIOTR!N48+KRZYSZTOF!N48+'0'!B59 -> 0 | O52: =TOMEK!O48+RCKIK!O28+'1'!C59+BARTEK!O48+PIOTR!O48+KRZYSZTOF!O48+'0'!C59 -> 0 | P52: =TOMEK!P48+RCKIK!P28+'1'!D59+BARTEK!P48+PIOTR!P48+KRZYSZTOF!P48+'0'!D59 -> 0 | Q52: =SUM(N52:P52) -> 0 | R52: =Q52+M52+I52+E52 -> 0
A53: Ilość spotkań z Klientami: | B53: =TOMEK!B49+RCKIK!B29+'1'!N60+BARTEK!B49+PIOTR!B49+KRZYSZTOF!B49+'0'!N60 -> 6 | C53: =TOMEK!C49+RCKIK!C29+'1'!O60+BARTEK!C49+PIOTR!C49+KRZYSZTOF!C49+'0'!O60 -> 2 | D53: =TOMEK!D49+RCKIK!D29+'1'!P60+BARTEK!D49+PIOTR!D49+KRZYSZTOF!D49+'0'!P60 -> 3 | E53: =SUM(B53:D53) -> 11 | F53: =TOMEK!F49+RCKIK!F29+'1'!J60+BARTEK!F49+PIOTR!F49+KRZYSZTOF!F49+'0'!J60 -> 1 | G53: =TOMEK!G49+RCKIK!G29+'1'!K60+BARTEK!G49+PIOTR!G49+KRZYSZTOF!G49+'0'!K60 -> 6 | H53: =TOMEK!H49+RCKIK!H29+'1'!L60+BARTEK!H49+PIOTR!H49+KRZYSZTOF!H49+'0'!L60 -> 6 | I53: =SUM(F53:H53) -> 13 | J53: =TOMEK!J49+RCKIK!J29+'1'!F60+BARTEK!J49+PIOTR!J49+KRZYSZTOF!J49+'0'!F60 -> 5 | K53: =TOMEK!K49+RCKIK!K29+'1'!G60+BARTEK!K49+PIOTR!K49+KRZYSZTOF!K49+'0'!G60 -> 6 | L53: =TOMEK!L49+RCKIK!L29+'1'!H60+BARTEK!L49+PIOTR!L49+KRZYSZTOF!L49+'0'!H60 -> 12 | M53: =SUM(J53:L53) -> 23 | N53: =TOMEK!N49+RCKIK!N29+'1'!B60+BARTEK!N49+PIOTR!N49+KRZYSZTOF!N49+'0'!B60 -> 5 | O53: =TOMEK!O49+RCKIK!O29+'1'!C60+BARTEK!O49+PIOTR!O49+KRZYSZTOF!O49+'0'!C60 -> 4 | P53: =TOMEK!P49+RCKIK!P29+'1'!D60+BARTEK!P49+PIOTR!P49+KRZYSZTOF!P49+'0'!D60 -> 15 | Q53: =SUM(N53:P53) -> 24 | R53: =Q53+M53+I53+E53 -> 71
A54: Ilość aktualnie otwartych wdrożeń: | B54: =TOMEK!B50+RCKIK!B30+'1'!N61+BARTEK!B50+PIOTR!B50+KRZYSZTOF!B50+'0'!N61 -> 98 | C54: =TOMEK!C50+RCKIK!C30+'1'!O61+BARTEK!C50+PIOTR!C50+KRZYSZTOF!C50+'0'!O61 -> 92 | D54: =TOMEK!D50+RCKIK!D30+'1'!P61+BARTEK!D50+PIOTR!D50+KRZYSZTOF!D50+'0'!P61 -> 92 | F54: =TOMEK!F50+RCKIK!F30+'1'!J61+BARTEK!F50+PIOTR!F50+KRZYSZTOF!F50+'0'!J61 -> 77 | G54: =TOMEK!G50+RCKIK!G30+'1'!K61+BARTEK!G50+PIOTR!G50+KRZYSZTOF!G50+'0'!K61 -> 81 | H54: =TOMEK!H50+RCKIK!H30+'1'!L61+BARTEK!H50+PIOTR!H50+KRZYSZTOF!H50+'0'!L61 -> 64 | J54: =TOMEK!J50+RCKIK!J30+'1'!F61+BARTEK!J50+PIOTR!J50+KRZYSZTOF!J50+'0'!F61 -> 65 | K54: =TOMEK!K50+RCKIK!K30+'1'!G61+BARTEK!K50+PIOTR!K50+KRZYSZTOF!K50+'0'!G61 -> 63 | L54: =TOMEK!L50+RCKIK!L30+'1'!H61+BARTEK!L50+PIOTR!L50+KRZYSZTOF!L50+'0'!H61 -> 65 | N54: =TOMEK!N50+RCKIK!N30+'1'!B61+BARTEK!N50+PIOTR!N50+KRZYSZTOF!N50+'0'!B61 -> 64 | O54: =TOMEK!O50+RCKIK!O30+'1'!C61+BARTEK!O50+PIOTR!O50+KRZYSZTOF!O50+'0'!C61 -> 69 | P54: =TOMEK!P50+RCKIK!P30+'1'!D61+BARTEK!P50+PIOTR!P50+KRZYSZTOF!P50+'0'!D61 -> 63
A55: Ilość wdrożeń dodanych w danym miesiącu: | B55: =TOMEK!B51+RCKIK!B31+'1'!N62+BARTEK!B51+PIOTR!B51+KRZYSZTOF!B51+'0'!N62 -> 42 | C55: =TOMEK!C51+RCKIK!C31+'1'!O62+BARTEK!C51+PIOTR!C51+KRZYSZTOF!C51+'0'!O62 -> 35 | D55: =TOMEK!D51+RCKIK!D31+'1'!P62+BARTEK!D51+PIOTR!D51+KRZYSZTOF!D51+'0'!P62 -> 37 | E55: =SUM(B55:D55) -> 114 | F55: =TOMEK!F51+RCKIK!F31+'1'!J62+BARTEK!F51+PIOTR!F51+KRZYSZTOF!F51+'0'!J62 -> 42 | G55: =TOMEK!G51+RCKIK!G31+'1'!K62+BARTEK!G51+PIOTR!G51+KRZYSZTOF!G51+'0'!K62 -> 43 | H55: =TOMEK!H51+RCKIK!H31+'1'!L62+BARTEK!H51+PIOTR!H51+KRZYSZTOF!H51+'0'!L62 -> 27 | I55: =SUM(F55:H55) -> 112 | J55: =TOMEK!J51+RCKIK!J31+'1'!F62+BARTEK!J51+PIOTR!J51+KRZYSZTOF!J51+'0'!F62 -> 26 | K55: =TOMEK!K51+RCKIK!K31+'1'!G62+BARTEK!K51+PIOTR!K51+KRZYSZTOF!K51+'0'!G62 -> 29 | L55: =TOMEK!L51+RCKIK!L31+'1'!H62+BARTEK!L51+PIOTR!L51+KRZYSZTOF!L51+'0'!H62 -> 33 | M55: =SUM(J55:L55) -> 88 | N55: =TOMEK!N51+RCKIK!N31+'1'!B62+BARTEK!N51+PIOTR!N51+KRZYSZTOF!N51+'0'!B62 -> 31 | O55: =TOMEK!O51+RCKIK!O31+'1'!C62+BARTEK!O51+PIOTR!O51+KRZYSZTOF!O51+'0'!C62 -> 35 | P55: =TOMEK!P51+RCKIK!P31+'1'!D62+BARTEK!P51+PIOTR!P51+KRZYSZTOF!P51+'0'!D62 -> 31 | Q55: =SUM(N55:P55) -> 97 | R55: =Q55+M55+I55+E55 -> 411
A56: Ilość wdrożeń zamkniętych pozytywnie w danym mcu: | B56: =TOMEK!B52+RCKIK!B32+'1'!N63+BARTEK!B52+PIOTR!B52+KRZYSZTOF!B52+'0'!N63 -> 24 | C56: =TOMEK!C52+RCKIK!C32+'1'!O63+BARTEK!C52+PIOTR!C52+KRZYSZTOF!C52+'0'!O63 -> 14 | D56: =TOMEK!D52+RCKIK!D32+'1'!P63+BARTEK!D52+PIOTR!D52+KRZYSZTOF!D52+'0'!P63 -> 23 | E56: =SUM(B56:D56) -> 61 | F56: =TOMEK!F52+RCKIK!F32+'1'!J63+BARTEK!F52+PIOTR!F52+KRZYSZTOF!F52+'0'!J63 -> 19 | G56: =TOMEK!G52+RCKIK!G32+'1'!K63+BARTEK!G52+PIOTR!G52+KRZYSZTOF!G52+'0'!K63 -> 19 | H56: =TOMEK!H52+RCKIK!H32+'1'!L63+BARTEK!H52+PIOTR!H52+KRZYSZTOF!H52+'0'!L63 -> 12 | I56: =SUM(F56:H56) -> 50 | J56: =TOMEK!J52+RCKIK!J32+'1'!F63+BARTEK!J52+PIOTR!J52+KRZYSZTOF!J52+'0'!F63 -> 7 | K56: =TOMEK!K52+RCKIK!K32+'1'!G63+BARTEK!K52+PIOTR!K52+KRZYSZTOF!K52+'0'!G63 -> 18 | L56: =TOMEK!L52+RCKIK!L32+'1'!H63+BARTEK!L52+PIOTR!L52+KRZYSZTOF!L52+'0'!H63 -> 16 | M56: =SUM(J56:L56) -> 41 | N56: =TOMEK!N52+RCKIK!N32+'1'!B63+BARTEK!N52+PIOTR!N52+KRZYSZTOF!N52+'0'!B63 -> 15 | O56: =TOMEK!O52+RCKIK!O32+'1'!C63+BARTEK!O52+PIOTR!O52+KRZYSZTOF!O52+'0'!C63 -> 17 | P56: =TOMEK!P52+RCKIK!P32+'1'!D63+BARTEK!P52+PIOTR!P52+KRZYSZTOF!P52+'0'!D63 -> 19 | Q56: =SUM(N56:P56) -> 51 | R56: =Q56+M56+I56+E56 -> 203 | S56: =R56/(R56+R57) -> 0.43008475
A57: Ilość wdrożeń zamkniętych negatywnie w danym mcu: | B57: =TOMEK!B53+RCKIK!B33+'1'!N64+BARTEK!B53+PIOTR!B53+KRZYSZTOF!B53+'0'!N64 -> 39 | C57: =TOMEK!C53+RCKIK!C33+'1'!O64+BARTEK!C53+PIOTR!C53+KRZYSZTOF!C53+'0'!O64 -> 27 | D57: =TOMEK!D53+RCKIK!D33+'1'!P64+BARTEK!D53+PIOTR!D53+KRZYSZTOF!D53+'0'!P64 -> 20 | E57: =SUM(B57:D57) -> 86 | F57: =TOMEK!F53+RCKIK!F33+'1'!J64+BARTEK!F53+PIOTR!F53+KRZYSZTOF!F53+'0'!J64 -> 27 | G57: =TOMEK!G53+RCKIK!G33+'1'!K64+BARTEK!G53+PIOTR!G53+KRZYSZTOF!G53+'0'!K64 -> 24 | H57: =TOMEK!H53+RCKIK!H33+'1'!L64+BARTEK!H53+PIOTR!H53+KRZYSZTOF!H53+'0'!L64 -> 34 | I57: =SUM(F57:H57) -> 85 | J57: =TOMEK!J53+RCKIK!J33+'1'!F64+BARTEK!J53+PIOTR!J53+KRZYSZTOF!J53+'0'!F64 -> 17 | K57: =TOMEK!K53+RCKIK!K33+'1'!G64+BARTEK!K53+PIOTR!K53+KRZYSZTOF!K53+'0'!G64 -> 14 | L57: =TOMEK!L53+RCKIK!L33+'1'!H64+BARTEK!L53+PIOTR!L53+KRZYSZTOF!L53+'0'!H64 -> 17 | M57: =SUM(J57:L57) -> 48 | N57: =TOMEK!N53+RCKIK!N33+'1'!B64+BARTEK!N53+PIOTR!N53+KRZYSZTOF!N53+'0'!B64 -> 17 | O57: =TOMEK!O53+RCKIK!O33+'1'!C64+BARTEK!O53+PIOTR!O53+KRZYSZTOF!O53+'0'!C64 -> 16 | P57: =TOMEK!P53+RCKIK!P33+'1'!D64+BARTEK!P53+PIOTR!P53+KRZYSZTOF!P53+'0'!D64 -> 17 | Q57: =SUM(N57:P57) -> 50 | R57: =Q57+M57+I57+E57 -> 269 | S57: =R57/(R57+R56) -> 0.56991525
A58: Ilość aktualnie odłożonych wdrożeń: | B58: =TOMEK!B54+RCKIK!B34+'1'!N65+BARTEK!B54+PIOTR!B54+KRZYSZTOF!B54+'0'!N65 -> 4 | C58: =TOMEK!C54+RCKIK!C34+'1'!O65+BARTEK!C54+PIOTR!C54+KRZYSZTOF!C54+'0'!O65 -> 4 | D58: =TOMEK!D54+RCKIK!D34+'1'!P65+BARTEK!D54+PIOTR!D54+KRZYSZTOF!D54+'0'!P65 -> 4 | F58: =TOMEK!F54+RCKIK!F34+'1'!J65+BARTEK!F54+PIOTR!F54+KRZYSZTOF!F54+'0'!J65 -> 3 | G58: =TOMEK!G54+RCKIK!G34+'1'!K65+BARTEK!G54+PIOTR!G54+KRZYSZTOF!G54+'0'!K65 -> 2 | H58: =TOMEK!H54+RCKIK!H34+'1'!L65+BARTEK!H54+PIOTR!H54+KRZYSZTOF!H54+'0'!L65 -> 1 | J58: =TOMEK!J54+RCKIK!J34+'1'!F65+BARTEK!J54+PIOTR!J54+KRZYSZTOF!J54+'0'!F65 -> 1 | K58: =TOMEK!K54+RCKIK!K34+'1'!G65+BARTEK!K54+PIOTR!K54+KRZYSZTOF!K54+'0'!G65 -> 1 | L58: =TOMEK!L54+RCKIK!L34+'1'!H65+BARTEK!L54+PIOTR!L54+KRZYSZTOF!L54+'0'!H65 -> 1 | N58: =TOMEK!N54+RCKIK!N34+'1'!B65+BARTEK!N54+PIOTR!N54+KRZYSZTOF!N54+'0'!B65 -> 1 | O58: =TOMEK!O54+RCKIK!O34+'1'!C65+BARTEK!O54+PIOTR!O54+KRZYSZTOF!O54+'0'!C65 -> 1 | P58: =TOMEK!P54+RCKIK!P34+'1'!D65+BARTEK!P54+PIOTR!P54+KRZYSZTOF!P54+'0'!D65 -> 1

Sheet REALIZACJE
B1: PLANY SPRZEDAŻY 2022
A2: miesiąc | B2: styczeń | C2: luty | D2: marzec | E2: I KW | F2: kwiecień | G2: maj | H2: czerwiec | I2: II KW | J2: lipiec | K2: sierpień | L2: wrzesień | N2: październik | O2: listopad | P2: grudzień | R2: suma
A3: Marża 2021 | B3: =DH!B3 -> 238812.96 | C3: =DH!C3 -> 236054.89 | D3: =DH!D3 -> 310381.3 | E3: =DH!E3 -> 785249.16 | F3: =DH!F3 -> 269725.26 | G3: =DH!G3 -> 258627.65 | H3: =DH!H3 -> 273225.82 | I3: =DH!I3 -> 801578.73 | ... R3: =DH!R3 -> 3253729.1 | S3: =R6-R3 -> 326270.89
A4: Sumaryczna Marża 2021 | B4: =B3 -> 238812.96 | C4: =C3+B4 -> 474867.86 | D4: =D3+C4 -> 785249.16 | F4: =F3+D4 -> 1054974.4 | G4: =G3+F4 -> 1313602.1 | H4: =H3+G4 -> 1586827.9 | I4: =I3+E3 -> 1586827.9 | J4: =J3+H4 -> 1861240.5 | K4: =K3+J4 -> 2112979 | L4: =L3+K4 -> 2363421.7 | N4: =N3+L4 -> 2622103 | O4: =O3+N4 -> 2906796.3 | P4: =P3+O4 -> 3253729.1 | Q4: =Q3+M3 -> 1666901.2
A5: Wzrost Marży 2022 w stos do Marży 2021 | B5: =B9/B4-1 -> 0.036625174 | C5: =C9/C4-1 -> 0.13248478 | D5: =D9/D4-1 -> 0.16521237 | E5: =E8/E3-1 -> 0.16521237 | F5: =F9/F4-1 -> 0.17898416 | G5: =G9/G4-1 -> 0.1819026 | H5: =H9/H4-1 -> 0.17477063 | I5: =I8/I3-1 -> 0.18413418 | J5: =J9/J4-1 -> 0.17916759 | K5: =K9/K4-1 -> 0.17658302 | L5: =L9/L4-1 -> 0.18589582 | M5: =M8/M3-1 -> 0.20862812 | N5: =N9/N4-1 -> 0.19874434 | O5: =O9/O4-1 -> 0.19479634 | P5: =P9/P4-1 -> 0.13454373 | Q5: =Q8/Q3-1 -> -0.0017761913 | R5: =R6/R3-1 -> 0.10027598
A6: Plan Sprzedaży Marża | B6: =DH!B6 -> 259200 | C6: =DH!C6 -> 288000 | D6: =DH!D6 -> 316800 | E6: =SUM(B6:D6) -> 864000 | F6: =DH!F6 -> 301777.78 | G6: =DH!G6 -> 301777.78 | H6: =DH!H6 -> 301777.78 | I6: =SUM(F6:H6) -> 905333.33 | J6: =DH!J6 -> 301777.78 | K6: =DH!K6 -> 301777.78 | L6: =DH!L6 -> 301777.78 | M6: =SUM(J6:L6) -> 905333.33 | N6: =DH!N6 -> 301777.78 | O6: =DH!O6 -> 301777.78 | P6: =DH!P6 -> 301777.78 | Q6: =SUM(N6:P6) -> 905333.33 | R6: =B6+C6+D6+F6+G6+H6+J6+K6+L6+N6+O6+P6 -> 3580000
A7: Sumaryczny Plan Sprzedaży Marża | B7: =B6 -> 259200 | C7: =C6+B7 -> 547200 | D7: =DH!D7 -> 864000 | F7: =F6+D7 -> 1165777.8 | G7: =G6+F7 -> 1467555.6 | H7: =H6+G7 -> 1769333.3 | I7: =I6+E6 -> 1769333.3 | J7: =J6+H7 -> 2071111.1 | K7: =K6+J7 -> 2372888.9 | L7: =L6+K7 -> 2674666.7 | N7: =N6+L7 -> 2976444.4 | O7: =O6+N7 -> 3278222.2 | P7: =P6+O7 -> 3580000 | Q7: =Q6+M6 -> 1810666.7
A8: Miesięczna realizacja Planu Sprzedaży Marża | B8: =DH!B8 -> 247559.53 | C8: =DH!C8 -> 290221.09 | D8: =DH!D8 -> 377201.41 | E8: =SUM(B8:D8) -> 914982.03 | F8: =DH!F8 -> 328816.1 | G8: =DH!G8 -> 308751.57 | H8: =DH!H8 -> 311609.09 | I8: =SUM(F8:H8) -> 949176.76 | J8: =DH!J8 -> 330555.64 | K8: =DH!K8 -> 291380.76 | L8: =DH!L8 -> 316676.76 | M8: =SUM(J8:L8) -> 938613.16 | N8: =DH!N8 -> 340459.17 | O8: =DH!O8 -> 329798.41 | P8: =DH!P8 -> 218468.45 | Q8: =SUM(N8:P8) -> 888726.03 | R8: =B8+C8+D8+F8+G8+H8+J8+K8+L8+N8+O8+P8 -> 3691498 | S8: =R8/R6 -> 1.0311447
A9: Sumaryczna realizacja planu sprzedaży Marża | B9: =B8 -> 247559.53 | C9: =C8+B9 -> 537780.62 | D9: =D8+C9 -> 914982.03 | F9: =F8+D9 -> 1243798.1 | G9: =G8+F9 -> 1552549.7 | H9: =H8+G9 -> 1864158.8 | I9: =I8+E8 -> 1864158.8 | J9: =J8+H9 -> 2194714.4 | K9: =K8+J9 -> 2486095.2 | L9: =L8+K9 -> 2802771.9 | M9: =SUM(M8,I8,E8)/3 -> 934257.32 | N9: =N8+L9 -> 3143231.1 | O9: =O8+N9 -> 3473029.5 | P9: =P8+O9 -> 3691498 | Q9: =P7*0.95 -> 3401000 | R9: =R8*1.1 -> 4060647.8
A10: Wysokość zrealizowania Miesięcznego Planu Sprzedaży Marża | B10: =B8/B6 -> 0.95509078 | C10: =C8/C6 -> 1.0077121 | D10: =D8/D6 -> 1.190661 | F10: =F8/F6 -> 1.0895968 | G10: =G8/G6 -> 1.023109 | H10: =H8/H6 -> 1.032578 | J10: =J8/J6 -> 1.0953611 | K10: =K8/K6 -> 0.96554744 | L10: =L8/L6 -> 1.0493707 | N10: =N8/N6 -> 1.1281784 | O10: =O8/O6 -> 1.0928519 | P10: =P8/P6 -> 0.72393817 | Q10: =Q9-P9 -> -290497.98
A11: Różnica wskaźnika Marża | B11: =B9-B7 -> -11640.471 | C11: =C9-C7 -> -9419.382 | D11: =D9-D7 -> 50982.028 | F11: =F9-F7 -> 78020.353 | G11: =G9-G7 -> 84994.146 | H11: =H9-H7 -> 94825.459 | J11: =J9-J7 -> 123603.32 | K11: =K9-K7 -> 113206.3 | L11: =L9-L7 -> 128105.28 | N11: =N9-N7 -> 166786.67 | O11: =O9-O7 -> 194807.3 | P11: =P9-P7 -> 111497.98 | Q11: =Q10+P8 -> -72029.527
A12: Wysokość zrealizowania Planu Sprzedaży Marża | B12: =B9/B7 -> 0.95509078 | C12: =C9/C7 -> 0.98278622 | D12: =D9/D7 -> 1.059007 | F12: =F9/F7 -> 1.0669256 | G12: =G9/G7 -> 1.0579155 | H12: =H9/H7 -> 1.0535939 | J12: =J9/J7 -> 1.0596797 | K12: =K9/K7 -> 1.0477082 | L12: =L9/L7 -> 1.0478958 | N12: =N9/N7 -> 1.0560355 | O12: =O9/O7 -> 1.0594247 | P12: =P9/P7 -> 1.0311447
A13: Kwartalny Plan Sprzedaży Marża | B13: ='Target 2022'!C8 -> 259200 | C13: ='Target 2022'!D8 -> 288000 | D13: ='Target 2022'!E8 -> 316800 | E13: =SUM(B13:D13) -> 864000 | F13: ='Target 2022'!F8 -> 271800 | G13: ='Target 2022'!G8 -> 302000 | H13: ='Target 2022'!H8 -> 332200 | I13: =SUM(F13:H13) -> 906000 | J13: ='Target 2022'!I8 -> 271800 | K13: ='Target 2022'!J8 -> 302000 | L13: ='Target 2022'!K8 -> 332200 | M13: =SUM(J13:L13) -> 906000 | N13: ='Target 2022'!L8 -> 287216.67 | O13: ='Target 2022'!M8 -> 317450 | P13: ='Target 2022'!N8 -> 302333.33 | Q13: =SUM(N13:P13) -> 907000
A14: Sumaryczna Kwartalna Realizacja Planu Sprzedaży Marża | B14: =B8/B13 -> 0.95509078 | C14: =(B8+C8)/(B13+C13) -> 0.98278622 | D14: =(D8+C8+B8)/(B13+C13+D13) -> 1.059007 | E14: =E8-E13 -> 50982.028 | F14: =F8/F13 -> 1.2097723 | G14: =(F8+G8)/(F13+G13) -> 1.1111322 | H14: =(H8+G8+F8)/(F13+G13+H13) -> 1.0476565 | I14: =I8-I13 -> 43176.765 | J14: =J8/J13 -> 1.2161723 | K14: =(J8+K8)/(J13+K13) -> 1.0838906 | L14: =(L8+K8+J8)/(J13+K13+L13) -> 1.0359969 | M14: =M8-M13 -> 32613.157 | N14: =N8/N13 -> 1.185374 | O14: =(N8+O8)/(N13+O13) -> 1.1084745 | P14: =(P8+O8+N8)/(N13+O13+P13) -> 0.97985229 | Q14: =Q8-Q13 -> -18273.97
A15: Realizacja MINIMUM | B15: =B9/('Target 2022'!$D$26/12*REALIZACJE!B18) -> 0.87348261 | C15: =C9/('Target 2022'!$D$26/12*REALIZACJE!C18) -> 0.94874558 | D15: =D9/('Target 2022'!$D$26/12*REALIZACJE!D18) -> 1.0761329 | F15: =F9/('Target 2022'!$D$26/12*REALIZACJE!F18) -> 1.0971462 | G15: =G9/('Target 2022'!$D$26/12*REALIZACJE!G18) -> 1.0955952 | H15: =H9/('Target 2022'!$D$26/12*REALIZACJE!H18) -> 1.0962416 | J15: =J9/('Target 2022'!$D$26/12*REALIZACJE!J18) -> 1.1062533 | K15: =K9/('Target 2022'!$D$26/12*REALIZACJE!K18) -> 1.0964842 | L15: =L9/('Target 2022'!$D$26/12*REALIZACJE!L18) -> 1.0988031 | N15: =N9/('Target 2022'!$D$26/12*REALIZACJE!N18) -> 1.1090495 | O15: =O9/('Target 2022'!$D$26/12*REALIZACJE!O18) -> 1.1140134 | P15: =P9/('Target 2022'!$D$26/12*REALIZACJE!P18) -> 1.0854155
A16: Realizacja PLAN (CEL STRATEGICZNY) | B16: =B9/('Target 2022'!$F$26/12*REALIZACJE!B18) -> 0.82980848 | C16: =C9/('Target 2022'!$F$26/12*REALIZACJE!C18) -> 0.9013083 | D16: =D9/('Target 2022'!$F$26/12*REALIZACJE!D18) -> 1.0223263 | F16: =F9/('Target 2022'!$F$26/12*REALIZACJE!F18) -> 1.0422889 | G16: =G9/('Target 2022'!$F$26/12*REALIZACJE!G18) -> 1.0408154 | H16: =H9/('Target 2022'!$F$26/12*REALIZACJE!H18) -> 1.0414295 | J16: =J9/('Target 2022'!$F$26/12*REALIZACJE!J18) -> 1.0509407 | K16: =K9/('Target 2022'!$F$26/12*REALIZACJE!K18) -> 1.04166 | L16: =L9/('Target 2022'!$F$26/12*REALIZACJE!L18) -> 1.0438629 | N16: =N9/('Target 2022'!$F$26/12*REALIZACJE!N18) -> 1.053597 | O16: =O9/('Target 2022'!$F$26/12*REALIZACJE!O18) -> 1.0583127 | P16: =P9/('Target 2022'!$F$26/12*REALIZACJE!P18) -> 1.0311447
A17: Realizacja CEL | B17: =B9/('Target 2022'!$H$26/12*REALIZACJE!B18) -> 0.79029379 | C17: =C9/('Target 2022'!$H$26/12*REALIZACJE!C18) -> 0.85838886 | D17: =D9/('Target 2022'!$H$26/12*REALIZACJE!D18) -> 0.97364408 | F17: =F9/('Target 2022'!$H$26/12*REALIZACJE!F18) -> 0.99265613 | G17: =G9/('Target 2022'!$H$26/12*REALIZACJE!G18) -> 0.9912528 | H17: =H9/('Target 2022'!$H$26/12*REALIZACJE!H18) -> 0.99183761 | J17: =J9/('Target 2022'!$H$26/12*REALIZACJE!J18) -> 1.0008959 | K17: =K9/('Target 2022'!$H$26/12*REALIZACJE!K18) -> 0.99205714 | L17: =L9/('Target 2022'!$H$26/12*REALIZACJE!L18) -> 0.99415517 | N17: =N9/('Target 2022'!$H$26/12*REALIZACJE!N18) -> 1.0034257 | O17: =O9/('Target 2022'!$H$26/12*REALIZACJE!O18) -> 1.0079169 | P17: =P9/('Target 2022'!$H$26/12*REALIZACJE!P18) -> 0.98204256
B18: 1 | C18: 2 | D18: 3 | F18: 4 | G18: 5 | H18: 6 | J18: 7 | K18: 8 | L18: 9 | N18: 10 | O18: 11 | P18: 12
A19: Obrót 2021 | B19: 703250.41 | C19: 769350.78 | D19: 898341.47 | E19: 2370942.7 | F19: 763220.8 | G19: 815724.29 | H19: 849156.39 | I19: 2428101.5 | J19: 818261.8 | K19: 847995.24 | L19: 724519.68 | M19: 2390776.7 | N19: 805920.16 | O19: 790809.8 | P19: 999030.63 | Q19: 2595760.6 | R19: =SUM(Q19,M19,I19,E19) -> 9785581.5
A20: Sumaryczny Obrót 2021 | B20: 703250.41 | C20: 1472601.2 | D20: 2370942.7 | F20: 3134163.5 | G20: 3949887.8 | H20: 4799044.1 | J20: 5617305.9 | K20: 6465301.2 | L20: 7189820.9 | N20: 7995741 | O20: 8786550.8 | P20: 9785581.5
A21: Wzrost Obrotu 2022 w stos do Obrotu 2021 | B21: =B25/B20-1 -> 0.020242245 | C21: =C25/C20-1 -> 0.089224545 | D21: =D25/D20-1 -> 0.1318946 | E21: =E24/E19-1 -> 0.1318946 | F21: =F25/F20-1 -> 0.19569726 | G21: =G25/G20-1 -> 0.22450525 | H21: =H25/H20-1 -> 0.2139798 | I21: =I24/I19-1 -> 0.29413268 | J21: =J25/J20-1 -> 0.20693286 | K21: =K25/K20-1 -> 0.18126666 | L21: =L25/L20-1 -> 0.18470251 | M21: =M24/M19-1 -> 0.12593373 | N21: =N25/N20-1 -> 0.19048102 | O21: =O25/O20-1 -> 0.19674987 | P21: =P25/P20-1 -> 0.1491658 | Q21: =Q24/Q19-1 -> 0.050735102 | R21: =R22/R19 -> 1.0985551
A22: Plan Sprzedaży Obrót | B22: =DH!B19 -> 780000 | C22: =DH!C19 -> 866666.67 | D22: =DH!D19 -> 953333.33 | E22: =SUM(B22:D22) -> 2600000 | F22: =DH!F19 -> 905555.56 | G22: =DH!G19 -> 905555.56 | H22: =DH!H19 -> 905555.56 | I22: =SUM(F22:H22) -> 2716666.7 | J22: =DH!J19 -> 905555.56 | K22: =DH!K19 -> 905555.56 | L22: =DH!L19 -> 905555.56 | M22: =SUM(J22:L22) -> 2716666.7 | N22: =DH!N19 -> 905555.56 | O22: =DH!O19 -> 905555.56 | P22: =DH!P19 -> 905555.56 | Q22: =SUM(N22:P22) -> 2716666.7 | R22: =B22+C22+D22+F22+G22+H22+J22+K22+L22+N22+O22+P22 -> 10750000
A23: Sumaryczny Plan Sprzedaży Obrót | B23: =B22 -> 780000 | C23: =C22+B23 -> 1646666.7 | D23: =D22+C23 -> 2600000 | F23: =F22+D23 -> 3505555.6 | G23: =G22+F23 -> 4411111.1 | H23: =H22+G23 -> 5316666.7 | J23: =J22+H23 -> 6222222.2 | K23: =K22+J23 -> 7127777.8 | L23: =L22+K23 -> 8033333.3 | N23: =N22+L23 -> 8938888.9 | O23: =O22+N23 -> 9844444.4 | P23: =P22+O23 -> 10750000
A24: Miesięczna realizacja Planu Sprzedaży Obrót | B24: =DH!B21 -> 717485.78 | C24: =DH!C21 -> 886507.59 | D24: =DH!D21 -> 1079663.8 | E24: =SUM(B24:D24) -> 2683657.2 | F24: =DH!F21 -> 1063853.5 | G24: =DH!G21 -> 1089147.6 | H24: =DH!H21 -> 989284.38 | I24: =SUM(F24:H24) -> 3142285.5 | J24: =DH!J21 -> 953768.48 | K24: =DH!K21 -> 857533.63 | L24: =DH!L21 -> 880554.04 | M24: =SUM(J24:L24) -> 2691856.1 | N24: =DH!N21 -> 1000979.2 | O24: =DH!O21 -> 996525.57 | P24: =DH!P21 -> 729952.05 | Q24: =SUM(N24:P24) -> 2727456.8 | R24: =B24+C24+D24+F24+G24+H24+J24+K24+L24+N24+O24+P24 -> 11245256 | S24: =R24/R22 -> 1.0460703
A25: Sumaryczna realizacja planu sprzedaży Obrót | B25: =B24 -> 717485.78 | C25: =C24+B25 -> 1603993.4 | D25: =D24+C25 -> 2683657.2 | F25: =F24+D25 -> 3747510.6 | G25: =G24+F25 -> 4836658.3 | H25: =H24+G25 -> 5825942.6 | J25: =J24+H25 -> 6779711.1 | K25: =K24+J25 -> 7637244.8 | L25: =L24+K25 -> 8517798.8 | N25: =N24+L25 -> 9518778 | O25: =O24+N25 -> 10515304 | P25: =P24+O25 -> 11245256 | R25: =R24*1.1 -> 12369781
A26: Wysokość zrealizowania Miesięcznego Planu Sprzedaży Obrót | B26: =B24/B22 -> 0.91985357 | C26: =C24/C22 -> 1.0228934 | D26: =D24/D22 -> 1.1325145 | F26: =F24/F22 -> 1.1748075 | G26: =G24/G22 -> 1.2027397 | H26: =H24/H22 -> 1.0924613 | J26: =J24/J22 -> 1.0532413 | K26: =K24/K22 -> 0.94696966 | L26: =L24/L22 -> 0.97239096 | N26: =N24/N22 -> 1.1053758 | O26: =O24/O22 -> 1.1004577 | P26: =P24/P22 -> 0.80608202
A27: Wysokość zrealizowania Planu Sprzedaży Obrót | B27: =B25/B23 -> 0.91985357 | C27: =C25/C23 -> 0.97408504 | D27: =D25/D23 -> 1.0321758 | F27: =F25/F23 -> 1.0690205 | G27: =G25/G23 -> 1.0964716 | H27: =H25/H23 -> 1.0957886 | J27: =J25/J23 -> 1.0895964 | K27: =K25/K23 -> 1.0714763 | L27: =L25/L23 -> 1.0603069 | N27: =N25/N23 -> 1.0648726 | O27: =O25/O23 -> 1.068146 | P27: =P25/P23 -> 1.0460703
A28: Różnica wskaźnika Obrót | B28: =B25-B23 -> -62514.219 | C28: =C25-C23 -> -42673.299 | D28: =D25-D23 -> 83657.188 | F28: =F25-F23 -> 241955.09 | G28: =G25-G23 -> 425547.16 | H28: =H25-H23 -> 509275.98 | J28: =J25-J23 -> 557488.9 | K28: =K25-K23 -> 509466.98 | L28: =L25-L23 -> 484465.46 | N28: =N25-N23 -> 579889.07 | O28: =O25-O23 -> 670859.08 | P28: =P25-P23 -> 495255.58
A29: Realizacja MINIMUM | B29: =B25/('Target 2022'!$D$27/12*B18) -> 0.84306775 | C29: =C25/('Target 2022'!$D$27/12*C18) -> 0.94237064 | D29: =D25/('Target 2022'!$D$27/12*D18) -> 1.0511264 | F29: =F25/('Target 2022'!$D$27/12*F18) -> 1.1008599 | G29: =G25/('Target 2022'!$D$27/12*G18) -> 1.1366443 | H29: =H25/('Target 2022'!$D$27/12*H18) -> 1.1409435 | J29: =J25/('Target 2022'!$D$27/12*J18) -> 1.1380526 | K29: =K25/('Target 2022'!$D$27/12*K18) -> 1.1217495 | L29: =L25/('Target 2022'!$D$27/12*L18) -> 1.1120749 | N29: =N25/('Target 2022'!$D$27/12*N18) -> 1.1184855 | O29: =O25/('Target 2022'!$D$27/12*O18) -> 1.1232549 | P29: =P25/('Target 2022'!$D$27/12*P18) -> 1.1011266
A30: Realizacja PLAN (CEL STRATEGICZNY) | B30: =B25/('Target 2022'!$F$27/12*REALIZACJE!B18) -> 0.80091436 | C30: =C25/('Target 2022'!$F$27/12*REALIZACJE!C18) -> 0.89525211 | D30: =D25/('Target 2022'!$F$27/12*REALIZACJE!D18) -> 0.99857012 | F30: =F25/('Target 2022'!$F$27/12*REALIZACJE!F18) -> 1.0458169 | G30: =G25/('Target 2022'!$F$27/12*REALIZACJE!G18) -> 1.0798121 | H30: =H25/('Target 2022'!$F$27/12*REALIZACJE!H18) -> 1.0838963 | J30: =J25/('Target 2022'!$F$27/12*REALIZACJE!J18) -> 1.0811499 | K30: =K25/('Target 2022'!$F$27/12*REALIZACJE!K18) -> 1.0656621 | L30: =L25/('Target 2022'!$F$27/12*REALIZACJE!L18) -> 1.0564712 | N30: =N25/('Target 2022'!$F$27/12*REALIZACJE!N18) -> 1.0625613 | O30: =O25/('Target 2022'!$F$27/12*REALIZACJE!O18) -> 1.0670921 | P30: =P25/('Target 2022'!$F$27/12*REALIZACJE!P18) -> 1.0460703
A31: Realizacja CEL | B31: =B25/('Target 2022'!$H$27/12*B18) -> 0.76277558 | C31: =C25/('Target 2022'!$H$27/12*C18) -> 0.85262106 | D31: =D25/('Target 2022'!$H$27/12*D18) -> 0.95101916 | F31: =F25/('Target 2022'!$H$27/12*F18) -> 0.99601612 | G31: =G25/('Target 2022'!$H$27/12*G18) -> 1.0283925 | H31: =H25/('Target 2022'!$H$27/12*H18) -> 1.0322822 | J31: =J25/('Target 2022'!$H$27/12*J18) -> 1.0296666 | K31: =K25/('Target 2022'!$H$27/12*K18) -> 1.0149162 | L31: =L25/('Target 2022'!$H$27/12*L18) -> 1.006163 | N31: =N25/('Target 2022'!$H$27/12*N18) -> 1.0119631 | O31: =O25/('Target 2022'!$H$27/12*O18) -> 1.0162782 | P31: =P25/('Target 2022'!$H$27/12*P18) -> 0.99625742
A33: Wysokość Marży miesięcznej | B33: =B8/B24 -> 0.34503754 | C33: =C8/C24 -> 0.32737575 | D33: =D8/D24 -> 0.34936932 | F33: =F8/F24 -> 0.30908026 | G33: =G8/G24 -> 0.28348 | H33: =H8/H24 -> 0.31498435 | J33: =J8/J24 -> 0.34657849 | K33: =K8/K24 -> 0.33978931 | L33: =L8/L24 -> 0.35963353 | N33: =N8/N24 -> 0.34012613 | O33: =O8/O24 -> 0.33094827 | P33: =P8/P24 -> 0.29929151
A34: Wysokość Marży sumarycznej | B34: =B9/B25 -> 0.34503754 | C34: =C9/C25 -> 0.33527609 | D34: =D9/D25 -> 0.34094594 | F34: =F9/F25 -> 0.33189983 | G34: =G9/G25 -> 0.32099636 | H34: =H9/H25 -> 0.31997548 | J34: =J9/J25 -> 0.32371799 | K34: =K9/K25 -> 0.32552252 | L34: =L9/L25 -> 0.32904886 | N34: =N9/N25 -> 0.33021372 | O34: =O9/O25 -> 0.33028334 | P34: =P9/P25 -> 0.32827159 | R34: =R6/R22 -> 0.33302326

Sheet WYPŁATY
A2: PREMIA MIESIĘCZNA
B3: STYCZEŃ | C3: LUTY | D3: MARZEC | F3: KWIECIEŃ | G3: MAJ | H3: CZERWIEC | J3: LIPIEC | K3: SIERPIEŃ | L3: WRZESIEŃ | N3: PAŹDZIERNIK | O3: LISTOPAD | P3: GRUDZIEŃ
A4: Tomasz Sypień | B4: =TOMEK!B28 -> 1800 | C4: =TOMEK!C28 -> 1800 | D4: =TOMEK!D28 -> 1800 | F4: =TOMEK!F28 -> 2120 | G4: =TOMEK!G28 -> 2120 | H4: =TOMEK!H28 -> 2120 | J4: =TOMEK!J28 -> 2120 | K4: =TOMEK!K28 -> 2120 | L4: =TOMEK!L28 -> 2120 | N4: =TOMEK!N28 -> 2120 | O4: =TOMEK!O28 -> 2120 | P4: =TOMEK!P28 -> 2120 | Q4: =SUM(N4:P4,J4:L4,F4:H4,B4:D4) -> 24480
A5: Mirosław Zagaja | B5: =DH!B38 -> 2520 | C5: =DH!C38 -> 2520 | D5: =DH!D38 -> 2520 | F5: =DH!F38 -> 2790 | G5: =DH!G38 -> 2790 | H5: =DH!H38 -> 2790
A6: Bartłomiej Biskupski | B6: =BARTEK!B28 -> 2000 | C6: =BARTEK!C28 -> 2000 | D6: =BARTEK!D28 -> 2000 | F6: =BARTEK!F28 -> 2280 | G6: =BARTEK!G28 -> 2280 | H6: =BARTEK!H28 -> 2280 | J6: =BARTEK!J28 -> 2280 | K6: =BARTEK!K28 -> 2280 | L6: =BARTEK!L28 -> 2280 | N6: =BARTEK!N28 -> 2280 | O6: =BARTEK!O28 -> 2280 | P6: =BARTEK!P28 -> 2280 | Q6: =SUM(N6:P6,J6:L6,F6:H6,B6:D6) -> 26520
A7: Piotr Choma | B7: =PIOTR!B28 -> 1282.5 | C7: =PIOTR!C28 -> 1781.25 | D7: =PIOTR!D28 -> 1781.25 | F7: =PIOTR!F28 -> 2560 | G7: =PIOTR!G28 -> 2560 | H7: =PIOTR!H28 -> 2560 | J7: =PIOTR!J28 -> 2560 | K7: =PIOTR!K28 -> 2560 | L7: =PIOTR!L28 -> 2560 | N7: =PIOTR!N28 -> 2560 | O7: =PIOTR!O28 -> 2560 | P7: =PIOTR!P28 -> 2000 | Q7: =SUM(N7:P7,J7:L7,F7:H7,B7:D7) -> 27325
A8: Krzysztof Szwajdych | B8: =KRZYSZTOF!B28 -> 1880 | C8: =KRZYSZTOF!C28 -> 1880 | D8: =KRZYSZTOF!D28 -> 1880 | F8: =KRZYSZTOF!F28 -> 2200 | G8: =KRZYSZTOF!G28 -> 2200 | H8: =KRZYSZTOF!H28 -> 2200 | J8: =KRZYSZTOF!J28 -> 2200 | K8: =KRZYSZTOF!K28 -> 2200 | L8: =KRZYSZTOF!L28 -> 2200 | N8: =KRZYSZTOF!N28 -> 2200 | O8: =KRZYSZTOF!O28 -> 2200 | P8: =KRZYSZTOF!P28 -> 2200 | Q8: =SUM(N8:P8,J8:L8,F8:H8,B8:D8) -> 25440
A9: Piotr Lasia | B9: ='1'!N39 -> #REF! | C9: ='1'!O39 -> #REF! | D9: ='1'!P39 -> #REF! | F9: ='1'!J39 -> #REF! | G9: ='1'!K39 -> #REF! | H9: ='1'!L39 -> #REF! | J9: ='1'!F39 -> #REF! | K9: ='1'!G39 -> #REF! | L9: ='1'!H39 -> #REF! | N9: ='1'!B39 -> #REF! | O9: ='1'!C39 -> #REF! | P9: ='1'!D39 -> #REF!
A10: Artur Surówka | J10: ='0'!F39-520 -> #REF! | K10: ='0'!G39+520 -> #REF! | L10: ='0'!H39 -> #REF! | N10: ='0'!B39 -> #REF! | O10: ='0'!C39 -> #REF! | P10: ='0'!D39 -> #REF!
A12: PREMIA KWARTALNA
B13: I KWARTAŁ | F13: II KWARTAŁ | J13: III KWARTAŁ | N13: IV KWARTAŁ
A14: Tomasz Sypień | B14: =TOMEK!B34 -> 4500 | F14: =TOMEK!F34 -> 2650 | J14: =TOMEK!J34 -> 2650 | N14: =TOMEK!N34 -> 5300 | Q14: =SUM(N14,J14,F14,B14) -> 15100 | R14: =SUM(Q4,Q14) -> 39580
A15: Bartłomiej Biskupski | B15: =BARTEK!B34 -> 5000 | F15: =BARTEK!F34 -> 5700 | J15: =BARTEK!J34 -> 5700 | N15: =BARTEK!N34 -> 0 | Q15: =SUM(N15,J15,F15,B15) -> 16400 | R15: =SUM(Q6,Q15) -> 42920
A16: Piotr Choma | B16: =PIOTR!B34 -> 0 | F16: =PIOTR!F34 -> 4480 | J16: =PIOTR!J34 -> 0 | N16: =PIOTR!N34 -> 0 | Q16: =SUM(N16,J16,F16,B16) -> 4480 | R16: =SUM(Q7,Q16) -> 31805
A17: Krzysztof Szwajdych | B17: =KRZYSZTOF!B34 -> 4700 | F17: =KRZYSZTOF!F34 -> 5500 | J17: =KRZYSZTOF!J34 -> 5500 | N17: =KRZYSZTOF!N34 -> 5500 | Q17: =SUM(N17,J17,F17,B17) -> 21200 | R17: =SUM(R14:R16,Q8,Q17) -> 160945
A18: Piotr Lasia | B18: ='1'!N45 -> #REF! | F18: ='1'!J45 -> #REF! | J18: ='1'!F45 -> #REF! | N18: ='1'!B45 -> #REF!
A19: Artur Surówka | B19: ='0'!N45 -> #REF! | F19: ='0'!J45 -> #REF! | J19: ='0'!F45 -> #REF! | N19: ='0'!B45 -> #REF!
A22: PREMIA UZNANIOWA
B23: STYCZEŃ | C23: LUTY | D23: MARZEC | F23: KWIECIEŃ | G23: MAJ | H23: CZERWIEC | J23: LIPIEC | K23: SIERPIEŃ | L23: WRZESIEŃ | N23: PAŹDZIERNIK | O23: LISTOPAD | P23: GRUDZIEŃ
A24: Tomasz Sypień
A25: Mirosław Zagaja
A26: Bartłomiej Biskupski
A27: Piotr Choma
A28: Krzysztof Szwajdych
A29: Piotr Lasia
A30: Artur Surówka

Sheet Target 2022
A1: `
C2: I | D2: II | E2: III | F2: IV | G2: V | H2: VI | I2: VII | J2: VIII | K2: IX | L2: X | M2: XI | N2: XII | O2: Rok | P2: Realizacja | Q2: % real rocznego PS | R2: % PSDH | S2: % sumy real rocznej
A3: Tomasz Sypień | B3: 22 | C3: =C14 -> 43800 | D3: =E14 -> 48666.667 | E3: =G14 -> 53533.333 | F3: =I14 -> 46500 | G3: =K14 -> 51666.667 | H3: =M14 -> 56833.333 | I3: =C50 -> 45000 | J3: =E50 -> 50000 | K3: =G50 -> 55000 | L3: =C59 -> 47500 | M3: =E59 -> 52500 | N3: =G59 -> 50000 | O3: =SUM(C3:N3) -> 601000 | P3: =TOMEK!R6 -> 649046.84 | Q3: =P3/O3 -> 1.0799448 | R3: =O3/O8 -> 0.16773653 | S3: =P3/P8 -> 0.17582208
A4: Mirosław Zagaja | B4: 23 | C4: =C15 -> 26400 | D4: =E15 -> 29333.333 | E4: =G15 -> 32266.667 | F4: =I15 -> 27600 | G4: =K15 -> 30666.667 | H4: =M15 -> 33733.333 | I4: =C51 -> 22500 | J4: =E51 -> 25000 | K4: =G51 -> 27500 | L4: =C60 -> 28500 | M4: =E60 -> 31500 | N4: =G60 -> 30000 | O4: =SUM(C4:N4) -> 345000 | P4: =RCKIK!R6 -> 337642.1 | Q4: =P4/O4 -> 0.97867276 | R4: =O4/O8 -> 0.096288027 | S4: =P4/P8 -> 0.091464794
A5: Bartłomiej | B5: 29 | C5: =C16 -> 58350 | D5: =E16 -> 64833.333 | E5: =G16 -> 71316.667 | F5: =I16 -> 62100 | G5: =K16 -> 69000 | H5: =M16 -> 75900 | I5: =C52 -> 66000 | J5: =E52 -> 73333.333 | K5: =G52 -> 80666.667 | L5: =C61 -> 68716.667 | M5: =E61 -> 75950 | N5: =G61 -> 72333.333 | O5: =SUM(C5:N5) -> 838500 | P5: =BARTEK!R6 -> 881821.2 | Q5: =P5/O5 -> 1.0516651 | R5: =O5/O8 -> 0.23402177 | S5: =P5/P8 -> 0.23887896
A6: Piotr Choma | B6: 31 | C6: =C17 -> 76350 | D6: =E17 -> 84833.333 | E6: =G17 -> 93316.667 | F6: =I17 -> 74700 | G6: =K17 -> 83000 | H6: =M17 -> 91300 | I6: =C53 -> 76500 | J6: =E53 -> 85000 | K6: =G53 -> 93500 | L6: =C62 -> 79166.667 | M6: =E62 -> 87500 | N6: =G62 -> 83333.333 | O6: =SUM(C6:N6) -> 1008500 | P6: =PIOTR!R6 -> 935335.33 | Q6: =P6/O6 -> 0.92745199 | R6: =O6/O8 -> 0.28146804 | S6: =P6/P8 -> 0.25337555
A7: Krzysztof Szwajdych | B7: 32 | C7: =C18 -> 54300 | D7: =E18 -> 60333.333 | E7: =G18 -> 66366.667 | F7: =I18 -> 60900 | G7: =K18 -> 67666.667 | H7: =M18 -> 74433.333 | I7: =C54 -> 61800 | J7: =E54 -> 68666.667 | K7: =G54 -> 75533.333 | L7: =C63 -> 63333.333 | M7: =E63 -> 70000 | N7: =G63 -> 66666.667 | O7: =SUM(C7:N7) -> 790000 | P7: =KRZYSZTOF!R6 -> 887652.51 | Q7: =P7/O7 -> 1.1236108 | R7: =O7/O8 -> 0.22048563 | S7: =P7/P8 -> 0.24045862
A8: DZIAŁ: | C8: =SUM(C3:C7) -> 259200 | D8: =SUM(D3:D7) -> 288000 | E8: =SUM(E3:E7) -> 316800 | F8: =SUM(F3:F7) -> 271800 | G8: =SUM(G3:G7) -> 302000 | H8: =SUM(H3:H7) -> 332200 | I8: =SUM(I3:I7) -> 271800 | J8: =SUM(J3:J7) -> 302000 | ... N8: =SUM(N3:N7) -> 302333.33 | O8: =SUM(C8:N8) -> 3583000 | P8: =SUM(P3:P7) -> 3691498 | Q8: =P8/O8 -> 1.0302813 | R8: 100 | S8: 100
A9: PLAN SPRZEDAŻY ORAZ INDYWIDUALNE PLANY SPRZEDAŻY WSKAŹNIKA OBRÓT
B12: Styczeń | D12: Luty | F12: Marzec | H12: KWIECIEŃ | J12: MAJ | L12: CZERWIEC | N12: LIPIEC | P12: SIERPIEŃ | R12: WRZESIEŃ
B13: Obrót | C13: Marża | D13: Obrót | E13: Marża | F13: Obrót | G13: Marża | H13: Obrót | I13: Marża | J13: Obrót | K13: Marża | L13: Obrót | M13: Marża | N13: Obrót | O13: Marża | P13: Obrót | Q13: Marża | R13: Obrót | S13: Marża
A14: TS | B14: =B31 -> 0 | C14: =C31 -> 43800 | D14: =D31 -> 0 | E14: =E31 -> 48666.667 | F14: =F31 -> 0 | G14: =G31 -> 53533.333 | H14: =B40 -> 0 | I14: =C40 -> 46500 | J14: =D40 -> 0 | K14: =E40 -> 51666.667 | L14: =F40 -> 0 | M14: =G40 -> 56833.333 | N14: =B50 -> 0 | O14: =C50 -> 45000 | P14: =D50 -> 0 | Q14: =E50 -> 50000 | R14: =F50 -> 0 | S14: =G50 -> 55000
A15: MZ | B15: =B32 -> 0 | C15: =C32 -> 26400 | D15: =D32 -> 0 | E15: =E32 -> 29333.333 | F15: =F32 -> 0 | G15: =G32 -> 32266.667 | H15: =B41 -> 0 | I15: =C41 -> 27600 | J15: =D41 -> 0 | K15: =E41 -> 30666.667 | L15: =F41 -> 0 | M15: =G41 -> 33733.333 | N15: =B51 -> 0 | O15: =C51 -> 22500 | P15: =D51 -> 0 | Q15: =E51 -> 25000 | R15: =F51 -> 0 | S15: =G51 -> 27500
A16: BB | B16: =B33 -> 0 | C16: =C33 -> 58350 | D16: =D33 -> 0 | E16: =E33 -> 64833.333 | F16: =F33 -> 0 | G16: =G33 -> 71316.667 | H16: =B42 -> 0 | I16: =C42 -> 62100 | J16: =D42 -> 0 | K16: =E42 -> 69000 | L16: =F42 -> 0 | M16: =G42 -> 75900 | N16: =B52 -> 0 | O16: =C52 -> 66000 | P16: =D52 -> 0 | Q16: =E52 -> 73333.333 | R16: =F52 -> 0 | S16: =G52 -> 80666.667
A17: PC | B17: =B34 -> 0 | C17: =C34 -> 76350 | D17: =D34 -> 0 | E17: =E34 -> 84833.333 | F17: =F34 -> 0 | G17: =G34 -> 93316.667 | H17: =B43 -> 0 | I17: =C43 -> 74700 | J17: =D43 -> 0 | K17: =E43 -> 83000 | L17: =F43 -> 0 | M17: =G43 -> 91300 | N17: =B53 -> 0 | O17: =C53 -> 76500 | P17: =D53 -> 0 | Q17: =E53 -> 85000 | R17: =F53 -> 0 | S17: =G53 -> 93500
A18: KS | B18: =B35 -> 0 | C18: =C35 -> 54300 | D18: =D35 -> 0 | E18: =E35 -> 60333.333 | F18: =F35 -> 0 | G18: =G35 -> 66366.667 | H18: =B44 -> 0 | I18: =C44 -> 60900 | J18: =D44 -> 0 | K18: =E44 -> 67666.667 | L18: =F44 -> 0 | M18: =G44 -> 74433.333 | N18: =B54 -> 0 | O18: =C54 -> 61800 | P18: =D54 -> 0 | Q18: =E54 -> 68666.667 | R18: =F54 -> 0 | S18: =G54 -> 75533.333
A22: Marża | B22: 259200 | C22: 288000 | D22: 316800 | E22: 301777.78 | F22: 301777.78 | G22: 301777.78 | H22: 301777.78 | I22: 301777.78 | J22: 301777.78 | K22: 301777.78 | L22: 301777.78 | M22: 301777.78 | N22: =SUM(B22:M22) -> 3580000 | O22: =N22/12 -> 298333.33
A23: Obrót | B23: 780000 | C23: 866666.67 | D23: 953333.33 | E23: 905555.56 | F23: 905555.56 | G23: 905555.56 | H23: 905555.56 | I23: 905555.56 | J23: 905555.56 | K23: 905555.56 | L23: 905555.56 | M23: 905555.56 | N23: =SUM(B23:M23) -> 10750000 | O23: =N23/12 -> 895833.33
B25: 2021 | D25: 2022 MINIMUM | F25: 2022 PLAN | H25: 2022 CEL
A26: Marża | B26: =DH!R3 -> 3253729.1 | D26: =F26*0.95 -> 3401000 | E26: =D26/B26-1 -> 0.045262184 | F26: =N22 -> 3580000 | G26: =F26/B26-1 -> 0.10027598 | H26: =F26*1.05 -> 3759000 | I26: =H26/B26-1 -> 0.15528978 | J26: =H26/4 -> 939750
A27: Obrót | B27: =DH!R16 -> 9785581.5 | D27: =F27*0.95 -> 10212500 | E27: =D27/B27-1 -> 0.043627304 | F27: =N23 -> 10750000 | G27: =F27/B27-1 -> 0.098555057 | H27: =F27*1.05 -> 11287500 | I27: =H27/B27-1 -> 0.15348281 | J27: =H27/4 -> 2821875
J28: =F26/12 -> 298333.33
B29: Styczeń | D29: Luty | F29: Marzec | H29: Q1 | J29: =B26/12*0.9 -> 244029.68
B30: Obrót | C30: Marża | D30: Obrót | E30: Marża | F30: Obrót | G30: Marża | H30: Obrót | I30: Marża | J30: % sumy PS | K30: Realizacja suma Q | L30: % sumy real.Q
A31: TS | C31: 43800 | E31: 48666.667 | G31: 53533.333 | I31: =G31+E31+C31 -> 146000 | J31: =I31/I36 -> 0.16898148 | K31: =TOMEK!E6 -> 161816.64 | L31: =K31/K36 -> 0.17685226
A32: MZ | C32: 26400 | E32: 29333.333 | G32: 32266.667 | I32: =G32+E32+C32 -> 88000 | J32: =I32/I36 -> 0.10185185 | K32: =RCKIK!E6 -> 91749.457 | L32: =K32/K36 -> 0.1002746
A33: BB | C33: 58350 | E33: 64833.333 | G33: 71316.667 | I33: =G33+E33+C33 -> 194500 | J33: =I33/I36 -> 0.22511574 | K33: =BARTEK!E6 -> 225996.53 | L33: =K33/K36 -> 0.24699559
A34: PC | C34: 76350 | E34: 84833.333 | G34: 93316.667 | I34: =G34+E34+C34 -> 254500 | J34: =I34/I36 -> 0.29456019 | K34: =PIOTR!E6 -> 235885.98 | L34: =K34/K36 -> 0.25780395
A35: KS | C35: 54300 | E35: 60333.333 | G35: 66366.667 | I35: =G35+E35+C35 -> 181000 | J35: =I35/I36 -> 0.20949074 | K35: =KRZYSZTOF!E6 -> 199533.43 | L35: =K35/K36 -> 0.2180736
A36: Suma: | I36: =SUM(I31:I35) -> 864000 | J36: 100 | K36: =SUM(K31:K35) -> 914982.03 | L36: 100
B38: Kwiecień | D38: Maj | F38: Czerwiec | H38: Q2
B39: Obrót | C39: Marża | D39: Obrót | E39: Marża | F39: Obrót | G39: Marża | H39: Obrót | I39: Marża | K39: Realizacja suma Q | L39: % sumy real.Q
A40: Tomasz Sypień; | C40: 46500 | E40: 51666.667 | G40: 56833.333 | I40: =G40+E40+C40 -> 155000 | J40: =I40/I45 -> 0.17108168 | K40: =TOMEK!I6 -> 155769.93 | L40: =K40/K45 -> 0.16411056
A41: Mirosław Zagaja; | C41: 27600 | E41: 30666.667 | G41: 33733.333 | I41: =G41+E41+C41 -> 92000 | J41: =I41/I45 -> 0.10154525 | K41: =RCKIK!I6 -> 57729.267 | L41: =K41/K45 -> 0.060820354
A42: Bartłomiej Biskupski; | C42: 62100 | E42: 69000 | G42: 75900 | I42: =G42+E42+C42 -> 207000 | J42: =I42/I45 -> 0.22847682 | K42: =BARTEK!I6 -> 233072.82 | L42: =K42/K45 -> 0.2455526
A43: Piotr Choma; | C43: 74700 | E43: 83000 | G43: 91300 | I43: =G43+E43+C43 -> 249000 | J43: =I43/I45 -> 0.27483444 | K43: =PIOTR!I6 -> 264320.16 | L43: =K43/K45 -> 0.27847306
A44: Krzysztof Szwajdych; | C44: 60900 | E44: 67666.667 | G44: 74433.333 | I44: =G44+E44+C44 -> 203000 | J44: =I44/I45 -> 0.22406181 | K44: =KRZYSZTOF!I6 -> 238284.59 | L44: =K44/K45 -> 0.25104342
A45: Suma: | I45: =SUM(I40:I44) -> 906000 | J45: 100 | K45: =SUM(K40:K44) -> 949176.76 | L45: 100
B48: LIPIEC | D48: SIERPIEŃ | F48: WRZESIEŃ | H48: Q3
B49: Obrót | C49: Marża | D49: Obrót | E49: Marża | F49: Obrót | G49: Marża | H49: Obrót | I49: Marża | J49: % marży sumaQ | K49: Realizacja suma Q | L49: % sumy real.Q | M49: wynagr.zasad | N49: % sumy wynagr.zas
A50: Tomasz Sypień; | C50: 45000 | E50: 50000 | G50: 55000 | I50: =G50+E50+C50 -> 150000 | J50: =I50/I55 -> 0.16556291 | K50: =TOMEK!M6 -> 153169.51 | L50: =K50/K55 -> 0.16318705 | M50: =TOMEK!F17 -> 5300 | N50: =M50/M55 -> 0.22175732
A51: Mirosław Zagaja; | C51: 22500 | E51: 25000 | G51: 27500 | I51: =G51+E51+C51 -> 75000 | J51: =I51/I55 -> 0.082781457 | K51: =RCKIK!M6 -> 94526.875 | L51: =K51/K55 -> 0.10070909 | M51: 1000 | N51: =M51/M55 -> 0.041841004
A52: Bartłomiej Biskupski; | C52: 66000 | E52: 73333.333 | G52: 80666.667 | I52: =G52+E52+C52 -> 220000 | J52: =I52/I55 -> 0.24282561 | K52: =BARTEK!M6 -> 247729.82 | L52: =K52/K55 -> 0.26393176 | M52: =BARTEK!F17 -> 5700 | N52: =M52/M55 -> 0.23849372
A53: Piotr Choma; | C53: 76500 | E53: 85000 | G53: 93500 | I53: =G53+E53+C53 -> 255000 | J53: =I53/I55 -> 0.28145695 | K53: =PIOTR!M6 -> 222440.41 | L53: =K53/K55 -> 0.23698838 | M53: =PIOTR!F17 -> 6400 | N53: =M53/M55 -> 0.26778243
A54: Krzysztof Szwajdych; | C54: 61800 | E54: 68666.667 | G54: 75533.333 | I54: =G54+E54+C54 -> 206000 | J54: =I54/I55 -> 0.22737307 | K54: =KRZYSZTOF!M6 -> 220746.54 | L54: =K54/K55 -> 0.23518372 | M54: =KRZYSZTOF!F17 -> 5500 | N54: =M54/M55 -> 0.23012552
A55: Suma: | C55: 271800 | E55: 302000 | G55: 332200 | I55: =SUM(I50:I54) -> 906000 | J55: 100 | K55: =SUM(K50:K54) -> 938613.16 | L55: 100 | M55: =SUM(M50:M54) -> 23900 | N55: 100
B57: październik | D57: listopad | F57: grudzień | H57: Q4
B58: Obrót | C58: Marża | D58: Obrót | E58: Marża | F58: Obrót | G58: Marża | H58: Obrót | I58: Marża | J58: % marży sumaQ | K58: Realizacja suma Q | L58: % sumy real.Q
A59: Tomasz Sypień; | C59: 47500 | E59: 52500 | G59: 50000 | I59: =G59+E59+C59 -> 150000 | J59: =I59/I64 -> 0.16538037 | K59: =TOMEK!Q6 -> 178290.75 | L59: =K59/K64 -> 0.20061385
A60: Mirosław Zagaja; | C60: 28500 | E60: 31500 | G60: 30000 | I60: =G60+E60+C60 -> 90000 | J60: =I60/I64 -> 0.099228225 | K60: =RCKIK!Q6 -> 93636.504 | L60: =K60/K64 -> 0.10536037
A61: Bartłomiej Biskupski; | C61: 68716.667 | E61: 75950 | G61: 72333.333 | I61: =G61+E61+C61 -> 217000 | J61: =I61/I64 -> 0.23925028 | K61: =BARTEK!Q6 -> 175022.02 | L61: =K61/K64 -> 0.19693585
A62: Piotr Choma; | C62: 79166.667 | E62: 87500 | G62: 83333.333 | I62: =G62+E62+C62 -> 250000 | J62: =I62/I64 -> 0.27563396 | K62: =PIOTR!Q6 -> 212688.79 | L62: =K62/K64 -> 0.23931873
A63: Krzysztof Szwajdych; | C63: 63333.333 | E63: 70000 | G63: 66666.667 | I63: =G63+E63+C63 -> 200000 | J63: =I63/I64 -> 0.22050717 | K63: =KRZYSZTOF!Q6 -> 229087.96 | L63: =K63/K64 -> 0.25777119
A64: Suma: | B64: =SUM(B59:B63) -> 0 | C64: =SUM(C59:C63) -> 287216.67 | E64: =SUM(E59:E63) -> 317450 | G64: =SUM(G59:G63) -> 302333.33 | I64: =SUM(I59:I63) -> 907000 | J64: 100 | K64: =SUM(K59:K63) -> 888726.03 | L64: 100

Sheet I
A1: Pracownik | B1: Grupa | C1: Towar | D1: Ilość | E1: Jm | F1: Brutto | G1: Netto | H1: Koszt | I1: Zysk | J1: Marża
A2: Mirosław Zagaja | D2: 1835.895 | F2: 101978.19 | G2: 82909.094 | H2: 54371.803 | I2: 28537.287 | J2: 34.4199
A3: Tomasz Sypień | D3: 5213.395 | F3: 179808.67 | G3: 146185.86 | H3: 102178.53 | I3: 44007.332 | J3: 30.1036
A4: Krzysztof Szwajdych | D4: 6111.622 | F4: 193136.77 | G4: 157021.69 | H4: 101909.76 | I4: 55111.93 | J4: 35.0982
A5: Piotr Choma | D5: 4287.424 | F5: 222167.95 | G5: 180624.34 | H5: 123797.26 | I5: 56827.078 | J5: 31.4614
A6: Bartłomiej Biskupski | D6: 2690.048 | F6: 185416.16 | G6: 150744.8 | H6: 87668.896 | I6: 63075.902 | J6: 41.8428
A7: (Razem sprzedaż) | D7: 20138.384 | F7: 882507.75 | G7: 717485.75 | H7: 469926.25 | I7: 247559.53 | J7: 34.5037

Sheet II
A1: Pracownik | B1: Grupa | C1: Towar | D1: Ilość | E1: Jm | F1: Brutto | G1: Netto | H1: Koszt | I1: Zysk | J1: Marża
A2: Mirosław Zagaja | D2: 1615.67 | F2: 123722.27 | G2: 100587.18 | H2: 65087.327 | I2: 35499.852 | J2: 35.2926
A3: Tomasz Sypień | D3: 4165.22 | F3: 160099.73 | G3: 130162.39 | H3: 74958.205 | I3: 55204.184 | J3: 42.4117
A4: Piotr Choma | D4: 5029.751 | F4: 247557.84 | G4: 201266.55 | H4: 143804.6 | I4: =57461.9531+B13 -> 58179.823 | J4: 28.5501
A5: Krzysztof Szwajdych | D5: 6362.622 | F5: 309702.62 | G5: 251790.73 | H5: 188844.92 | I5: 62945.809 | J5: 24.9992
A6: Bartłomiej Biskupski | D6: 4786.097 | F6: 249321.95 | G6: 202700.73 | H6: 124309.32 | I6: 78391.422 | J6: 38.6734
A7: (Razem sprzedaż) | D7: 21959.36 | F7: 1090404.5 | G7: 886507.56 | H7: 597004.37 | I7: 289503.22 | J7: 32.6565
A13: YKPOLAND | B13: 717.87

Sheet III
A1: Pracownik | B1: Grupa | C1: Towar | D1: Ilość | E1: Jm | F1: Brutto | G1: Netto | H1: Koszt | I1: Zysk | J1: Marża
A2: Mirosław Zagaja | D2: 2157.255 | F2: 113416.67 | G2: 92208.648 | H2: 64496.332 | I2: 27712.318 | J2: 30.0539
A3: Tomasz Sypień | D3: 3716.766 | F3: 201388.5 | G3: 163730.41 | H3: 101125.29 | I3: 62605.121 | J3: 38.2367
A4: Krzysztof Szwajdych | D4: 5492.493 | F4: 331560.03 | G4: 269560.97 | H4: 188085.28 | I4: 81475.688 | J4: 30.2253
A5: Bartłomiej Biskupski | D5: 5904.418 | F5: 253367.44 | G5: 205989.8 | H5: 122170.23 | I5: =83819.5547+B19 -> 84529.205 | J5: 40.6911
A6: Piotr Choma | D6: 7294.001 | F6: 428169.38 | G6: 348174 | H6: 227294.91 | I6: 120879.08 | J6: 34.718
A7: (Razem sprzedaż) | D7: 24564.933 | F7: 1327902 | H7: 703172.05 | I7: 376491.75 | J7: 34.8712
A19: RESGRAPH | B19: 709.65

Sheet IV
A1: Pracownik | B1: Grupa | C1: Towar | D1: Ilość | E1: Jm | F1: Brutto | G1: Netto | H1: Koszt | I1: Zysk | J1: Marża
A2: Mirosław Zagaja | D2: 1755.895 | F2: 74603.906 | G2: 60653.57 | H2: 46828.419 | I2: 13825.151 | J2: 22.7936
A3: Tomasz Sypień | D3: 3904.699 | F3: 182473.14 | G3: 148352.09 | H3: 90684.808 | I3: =57667.2813+B22 -> 58160.781 | J3: 38.8719
A4: Piotr Choma | D4: 13599.662 | F4: 344814.5 | G4: 280336.91 | H4: 202961.67 | I4: =77375.2344+B20 -> 77554.474 | J4: 27.6008
A5: Krzysztof Szwajdych | D5: 12338.925 | F5: 302417.62 | G5: 245867.98 | H5: 158324.54 | I5: 87543.445 | J5: 35.6058
A6: Bartłomiej Biskupski | D6: 5679.774 | F6: 404230.81 | G6: 328642.91 | H6: 238097.78 | I6: =90545.1406+B16+B19+B21 -> 91732.251 | J6: 27.5512
A7: (Razem sprzedaż) | D7: 37278.955 | F7: 1308540 | G7: 1063853.5 | H7: 736897.21 | I7: 326956.25 | J7: 30.7332
A16: OLIDENT2 – 385,86 – dodaj marżę | B16: 385.86
A18: Bonus z EPSONA
A19: RESGRAPH – 698,10 – dodaj marżę | B19: 698.1
A20: YKPOLAND – 179,24 – dodaj marżę | B20: 179.24
A21: BPSKONCEPT – 103,15 – dodaj marżę | B21: 103.15
A22: CAFFARO – 493,50 – dodaj marżę | B22: 493.5

Sheet V
A1: Pracownik | B1: Grupa | C1: Towar | D1: Ilość | E1: Jm | F1: Brutto | G1: Netto | H1: Koszt | I1: Zysk | J1: Marża
A2: Mirosław Zagaja | D2: 848.495 | F2: 96011.227 | G2: 78057.906 | H2: 58449.085 | I2: 19608.824 | J2: 25.1208
A3: Tomasz Sypień | D3: 4095.85 | F3: 144050.03 | G3: 117113.81 | H3: 70122.977 | I3: 46990.832 | J3: 40.124
A4: Krzysztof Szwajdych | D4: 5651.75 | F4: 189662.66 | G4: 154197.28 | H4: 98955.474 | I4: 55241.805 | J4: 35.8254
A5: Bartłomiej Biskupski | D5: 3511.014 | F5: 294292.12 | G5: 239261.81 | H5: 168195.63 | I5: 71066.18 | J5: 29.7022
A6: Piotr Choma | D6: 9430.089 | F6: 615635.75 | G6: 500516.81 | H6: 384672.87 | I6: 115843.93 | J6: 23.1448
A7: (Razem sprzedaż) | D7: 23537.198 | F7: 1339651.8 | G7: 1089147.6 | H7: 780396.04 | I7: 308751.56 | J7: 28.348

Sheet VI
A1: Pracownik | B1: Grupa | C1: Towar | D1: Ilość | E1: Jm | F1: Brutto | G1: Netto | H1: Koszt | I1: Zysk | J1: Marża
A2: Mirosław Zagaja | D2: 2445.99 | F2: 146699.27 | G2: 119267.7 | H2: 94972.409 | I2: 24295.291 | J2: 20.3703
A3: Tomasz Sypień | D3: 4173.548 | F3: 169932.45 | G3: 138156.44 | H3: 87538.113 | I3: 50618.316 | J3: 36.6384
A4: Bartłomiej Biskupski | D4: 4603.25 | F4: 230964.25 | G4: 187775.8 | H4: 117752.63 | I4: =70023.1641+B11 -> 70274.394 | J4: 37.2908
A5: Piotr Choma | D5: 5915.92 | F5: 341807.44 | G5: 277892.16 | H5: 207476.25 | I5: =70415.9141+B12 -> 70921.754 | J5: 25.3392
A6: Krzysztof Szwajdych | D6: 6142.001 | F6: 327416.5 | G6: 266192.28 | H6: 170692.94 | I6: 95499.336 | J6: 35.876
A7: (Razem sprzedaż) | D7: 23280.709 | F7: 1216819.9 | G7: 989284.38 | H7: 678432.34 | I7: 310852.03 | J7: 31.4219
A10: Bonus z EPSONA
A11: RESGRAPH – 251,23 – dodaj marżę | B11: 251.23
A12: YKPOLAND – 505,84 – dodaj marżę | B12: 505.84

Sheet VII
A1: Pracownik | B1: Grupa | C1: Towar | D1: Ilość | E1: Jm | F1: Brutto | G1: Netto | H1: Koszt | I1: Zysk | J1: Marża
A2: Mirosław Zagaja | D2: 1645.875 | F2: 110908.34 | G2: 90169.391 | H2: 62971.753 | I2: 27197.637 | J2: 30.1628
A3: Tomasz Sypień | D3: 3097.42 | F3: 148370.47 | G3: 120626.37 | H3: 74781.27 | I3: 45845.102 | J3: 38.0058
A4: Bartłomiej Biskupski | D4: 3081.656 | F4: 227642.55 | G4: 185075.19 | H4: 112396.57 | I4: =72678.6094+C14 -> 73531.049 | J4: 39.2697
A5: Piotr Choma | D5: 5561.929 | F5: 356791.72 | G5: 290074.56 | H5: 199742.3 | I5: 90332.25 | J5: 31.141
A6: Krzysztof Szwajdych | D6: 6923.691 | F6: 329422.25 | G6: 267822.97 | H6: 174173.37 | I6: 93649.602 | J6: 34.9669
A7: (Razem sprzedaż) | D7: 20310.571 | F7: 1173135.4 | G7: 953768.44 | H7: 624065.26 | I7: 329703.19 | J7: 34.5684
A14: RESGRAPH – 852,44 – dodaj marżę | C14: 852.44

Sheet VIII
A1: Pracownik | B1: Grupa | C1: Towar | D1: Ilość | E1: Jm | F1: Brutto | G1: Netto | H1: Koszt | I1: Zysk | J1: Marża
A2: Mirosław Zagaja | D2: 1503.07 | F2: 122029.25 | G2: 99210.758 | H2: 67573.823 | I2: 31636.938 | J2: 31.8886
A3: Tomasz Sypień | D3: 3503.474 | F3: 171251.98 | G3: 139229.2 | H3: 87728.492 | I3: =51500.707+B12 -> 51814.257 | J3: 36.9898
A4: Krzysztof Szwajdych | D4: 4172.087 | F4: 227118.52 | G4: 184649.17 | H4: 123975.32 | I4: 60673.855 | J4: 32.8589
A5: Piotr Choma | D5: 6075.925 | F5: 310469.69 | G5: 252414.38 | H5: 185321.5 | I5: 67092.867 | J5: 26.5804
A6: Bartłomiej Biskupski | D6: 2975.428 | F6: 223897.11 | G6: 182030.12 | H6: 101971.35 | I6: =80058.7734+B11 -> 80162.843 | J6: 43.981
A7: (Razem sprzedaż) | D7: 18229.984 | F7: 1054766.5 | G7: 857533.62 | H7: 566570.48 | I7: 290963.12 | J7: 33.9302
A11: BPSKONCEPT – 104,07 – dodaj marżę | B11: 104.07
A12: CAFFARO – 313,55 – dodaj marżę | B12: 313.55

Sheet IX
A1: Pracownik | B1: Grupa | C1: Towar | D1: Ilość | E1: Jm | F1: Brutto | G1: Netto | H1: Koszt | I1: Zysk | J1: Marża
A2: Mirosław Zagaja | D2: 1788.26 | F2: 152268.2 | G2: 123795.28 | H2: 88102.979 | I2: 35692.301 | J2: 28.8317
A3: Tomasz Sypień | D3: 2790.681 | F3: 148749.62 | G3: 120934.63 | H3: 65424.476 | I3: 55510.156 | J3: 45.9009
A4: Piotr Choma | D4: 3945.648 | F4: 275310.97 | G4: 223829.92 | H4: 159581.36 | I4: =64248.5625+B12 -> 65015.293 | J4: 28.7041
A5: Krzysztof Szwajdych | D5: 5325.4 | F5: 240335.62 | G5: 195394.81 | H5: 128971.73 | I5: 66423.078 | J5: 33.9942
A6: Bartłomiej Biskupski | D6: 3236.641 | F6: 266417.31 | G6: 216599.39 | H6: 122563.46 | I6: 94035.93 | J6: 43.4146
A7: (Razem sprzedaż) | D7: 17086.63 | F7: 1083081.8 | G7: 880554 | H7: 564644 | I7: 315910.03 | J7: 35.8762
A12: YKPOLAND – 766,73 – dodaj marżę | B12: 766.73

Sheet X
A1: Pracownik | B1: Grupa | C1: Towar | D1: Ilość | E1: Jm | F1: Brutto | G1: Netto | H1: Koszt | I1: Zysk | J1: Marża
A2: Mirosław Zagaja | D2: 2236.976 | F2: 126741.29 | G2: 103041.69 | H2: 70188.418 | I2: 32853.273 | J2: 31.8834
A3: Tomasz Sypień | D3: 4217.26 | F3: 179987.78 | G3: 146331.55 | H3: 82760.121 | I3: 63571.418 | J3: 43.4434
A4: Bartłomiej Biskupski | D4: 6303.5 | F4: 208778.45 | G4: 169738.52 | H4: 99462.941 | I4: =70275.5781+C14+C15-C18 -> 70336.038 | J4: 41.4022
A5: Piotr Choma | D5: 7122.338 | F5: 384251.31 | G5: 312399.34 | H5: 231004.39 | I5: =81394.9375+C13 -> 81505.717 | J5: 26.0547
A6: Krzysztof Szwajdych | D6: 6086.735 | F6: 331445.72 | G6: 269468.06 | H6: 177275.34 | I6: 92192.719 | J6: 34.2128
A7: (Razem sprzedaż) | D7: 25966.809 | F7: 1231204.5 | G7: 1000979.1 | H7: 660691.21 | I7: 340287.94 | J7: 33.9955
A12: Bonus z EPSONA
A13: YKPOLAND – 110,78 – dodaj marżę | C13: 110.78 | D13: PC
A14: BPSKONCEPT – 37,11 – dodaj marżę | C14: 37.11 | D14: BB
A15: RESGRAPH – 447,69 – dodaj marżę | C15: 447.69 | D15: BB
A17: Utylizacja P 250X395/1 N24
A18: CERSANIT – 424,34 – obniż marżę | C18: 424.34 | D18: BB

Sheet XI
A1: Pracownik | B1: Grupa | C1: Towar | D1: Ilość | E1: Jm | F1: Brutto | G1: Netto | H1: Koszt | I1: Zysk | J1: Marża
A2: Mirosław Zagaja | D2: 1144.84 | F2: 93280.992 | G2: 75838.211 | H2: 50246.104 | I2: 25592.106 | J2: 33.7456
A3: Tomasz Sypień | D3: 2377.74 | F3: 245971.39 | G3: 199976.7 | H3: 135641.84 | I3: =64334.8594+C15 -> 64521.879 | J3: 32.1711
A4: Bartłomiej Biskupski | D4: 3647.861 | F4: 253697.69 | G4: 206258.27 | H4: 138217.47 | I4: =68040.7891+C13+C14 -> 68167.509 | J4: 32.9881
A5: Piotr Choma | D5: 5616.201 | F5: 327118.44 | G5: 265949.84 | H5: 189730.34 | I5: =76219.4922+C12 -> 76523.542 | J5: 28.6593
A6: Krzysztof Szwajdych | D6: 5439.355 | F6: 305658.19 | G6: 248502.55 | H6: 153509.16 | I6: 94993.375 | J6: 38.2263
A7: (Razem sprzedaż) | D7: 18225.997 | F7: 1225726.8 | G7: 996525.56 | H7: 667344.92 | I7: 329180.62 | J7: 33.0328
A12: YKPOLAND – 304,05 – dodaj marżę | C12: 304.05 | D12: PC
A13: BPSKONCEPT – 101,38 – dodaj marżę | C13: 101.38 | D13: BB
A14: RESGRAPH – 25,34 – dodaj marżę | C14: 25.34 | D14: BB
A15: CAFFARO – 187,02 – dodaj marżę | C15: 187.02 | D15: TS

Sheet XII
A1: Pracownik | B1: Grupa | C1: Towar | D1: Ilość | E1: Jm | F1: Brutto | G1: Netto | H1: Koszt | I1: Zysk | J1: Marża
A2: Mirosław Zagaja | D2: 1371.3 | F2: 133494.09 | G2: 108531.78 | H2: 73340.654 | I2: 35191.125 | J2: 32.4247
A3: Bartłomiej Biskupski | D3: 1755.808 | F3: 146239.3 | G3: 118893.73 | H3: 82375.257 | I3: 36518.473 | J3: 30.7152
A4: Krzysztof Szwajdych | D4: 3693.2 | F4: 175172.2 | G4: 142416.41 | H4: 100514.53 | I4: 41901.871 | J4: 29.422
A5: Tomasz Sypień | D5: 1779.418 | F5: 195767.5 | G5: 159160.55 | H5: 108963.09 | I5: 50197.457 | J5: 31.5388
A6: Piotr Choma | D6: 11094.215 | F6: 247168.19 | G6: 200949.59 | H6: 146290.07 | I6: 54659.527 | J6: 27.2006
A7: (Razem sprzedaż) | D7: 19693.941 | F7: 897841.31 | G7: 729952.06 | H7: 511483.6 | I7: 218468.45 | J7: 29.9291

Sheet 1
A1: Piotr Lasia | B1: PLAN IV KW Piotr Lasia | F1: PLAN III KW Piotr Lasia | J1: PLAN II KW Piotr Lasia | N1: PLAN I KW Piotr Lasia
A2: miesiąc | B2: październik | C2: listopad | D2: grudzień | E2: KW IV | F2: lipiec | G2: sierpień | H2: wrzesień | I2: KW III | J2: kwiecień | K2: maj | L2: czerwiec | M2: KW II | N2: styczeń | O2: luty | P2: marzec | Q2: KW I | R2: suma ROK
A4: Plan Sprzedaży Marża | B4: ='Target 2022'!#REF! -> #REF! | C4: ='Target 2022'!#REF! -> #REF! | D4: ='Target 2022'!#REF! -> #REF! | E4: =SUM(B4:D4) -> #REF! | F4: ='Target 2022'!#REF! -> #REF! | G4: ='Target 2022'!#REF! -> #REF! | H4: ='Target 2022'!#REF! -> #REF! | I4: =SUM(F4:H4) -> #REF! | J4: ='Target 2022'!#REF! -> #REF! | K4: ='Target 2022'!#REF! -> #REF! | L4: ='Target 2022'!#REF! -> #REF! | M4: =SUM(J4:L4) -> #REF! | N4: ='Target 2022'!#REF! -> #REF! | O4: ='Target 2022'!#REF! -> #REF! | P4: ='Target 2022'!#REF! -> #REF! | Q4: =SUM(N4:P4) -> #REF! | R4: =Q4+M4+I4+E4 -> #REF!
A5: Sumaryczny Plan Sprzedaży Marża | B5: =B4 -> #REF! | C5: =C4+B5 -> #REF! | D5: =D4+C5 -> #REF! | F5: =F4 -> #REF! | G5: =G4+F5 -> #REF! | H5: =H4+G5 -> #REF! | J5: =J4 -> #REF! | K5: =K4+J5 -> #REF! | L5: =L4+K5 -> #REF! | N5: =N4 -> #REF! | O5: =O4+N5 -> #REF! | P5: =P4+O5 -> #REF! | R5: =R6/R4 -> #REF!
A6: Miesięczna realizacja Planu Sprzedaży Marża | B6: =SUMIF(X!A:A,$A$1,X!I:I) -> 0 | C6: =SUMIF(XI!A:A,$A$1,XI!I:I) -> 0 | D6: =SUMIF(XII!A:A,$A$1,XII!I:I) -> 0 | E6: =SUM(B6:D6) -> 0 | F6: =SUMIF(VII!A:A,$A$1,VII!I:I) -> 0 | G6: =SUMIF(VIII!A:A,$A$1,VIII!I:I) -> 0 | H6: =SUMIF(IX!A:A,$A$1,IX!I:I) -> 0 | I6: =SUM(F6:H6) -> 0 | J6: =SUMIF(IV!A:A,$A$1,IV!I:I) -> 0 | K6: =SUMIF(V!A:A,$A$1,V!I:I) -> 0 | L6: =SUMIF(VI!A:A,$A$1,VI!I:I) -> 0 | M6: =SUM(J6:L6) -> 0 | N6: =SUMIF(I!A:A,$A$1,I!I:I) -> 0 | O6: =SUMIF(II!A:A,$A$1,II!I:I) -> 0 | P6: =SUMIF(III!A:A,$A$1,III!I:I) -> 0 | Q6: =SUM(N6:P6) -> 0 | R6: =Q6+M6+I6+E6 -> 0
A7: Sumaryczna realizacja planu sprzedaży Marża | B7: =B6 -> 0 | C7: =C6+B7 -> 0 | D7: =D6+C7 -> 0 | F7: =F6 -> 0 | G7: =G6+F7 -> 0 | H7: =H6+G7 -> 0 | J7: =J6 -> 0 | K7: =K6+J7 -> 0 | L7: =L6+K7 -> 0 | N7: =N6 -> 0 | O7: =O6+N7 -> 0 | P7: =P6+O7 -> 0
A8: Wysokość zrealizowania Miesięcznego Planu Sprzedaży Marża | B8: =B6/B4 -> #REF! | C8: =C6/C4 -> #REF! | D8: =D6/D4 -> #REF! | F8: =F6/F4 -> #REF! | G8: =G6/G4 -> #REF! | H8: =H6/H4 -> #REF! | J8: =J6/J4 -> #REF! | K8: =K6/K4 -> #REF! | L8: =L6/L4 -> #REF! | N8: =N6/N4 -> #REF! | O8: =O6/O4 -> #REF! | P8: =P6/P4 -> #REF!
A9: Wysokość zrealizowania Planu Sprzedaży Marża | B9: =B7/B5 -> #REF! | C9: =C7/C5 -> #REF! | D9: =D7/D5 -> #REF! | F9: =F7/F5 -> #REF! | G9: =G7/G5 -> #REF! | H9: =H7/H5 -> #REF! | J9: =J7/J5 -> #REF! | K9: =K7/K5 -> #REF! | L9: =L7/L5 -> #REF! | N9: =N7/N5 -> #REF! | O9: =O7/O5 -> #REF! | P9: =P7/P5 -> #REF!
A10: Różnica wskaźnika Marża | B10: =B7-B5 -> #REF! | C10: =C7-C5 -> #REF! | D10: =D7-D5 -> #REF! | F10: =F7-F5 -> #REF! | G10: =G7-G5 -> #REF! | H10: =H7-H5 -> #REF! | J10: =J7-J5 -> #REF! | K10: =K7-K5 -> #REF! | L10: =L7-L5 -> #REF! | N10: =N7-N5 -> #REF! | O10: =O7-O5 -> #REF! | P10: =P7-P5 -> #REF!
A11: Plan Sprzedaży Obrót | B11: ='Target 2022'!#REF! -> #REF! | C11: ='Target 2022'!#REF! -> #REF! | D11: ='Target 2022'!#REF! -> #REF! | E11: =SUM(B11:D11) -> #REF! | F11: ='Target 2022'!#REF! -> #REF! | G11: ='Target 2022'!#REF! -> #REF! | H11: ='Target 2022'!#REF! -> #REF! | I11: =SUM(F11:H11) -> #REF! | J11: ='Target 2022'!#REF! -> #REF! | K11: ='Target 2022'!#REF! -> #REF! | L11: ='Target 2022'!#REF! -> #REF! | M11: =SUM(J11:L11) -> #REF! | N11: ='Target 2022'!#REF! -> #REF! | O11: ='Target 2022'!#REF! -> #REF! | P11: ='Target 2022'!#REF! -> #REF! | Q11: =SUM(N11:P11) -> #REF! | R11: =Q11+M11+I11+E11 -> #REF!
A12: Sumaryczny Plan Sprzedaży Obrót | B12: =B11 -> #REF! | C12: =C11+B12 -> #REF! | D12: =D11+C12 -> #REF! | F12: =F11 -> #REF! | G12: =G11+F12 -> #REF! | H12: =H11+G12 -> #REF! | J12: =J11 -> #REF! | K12: =K11+J12 -> #REF! | L12: =L11+K12 -> #REF! | N12: =N11 -> #REF! | O12: =O11+N12 -> #REF! | P12: =P11+O12 -> #REF! | R12: =R13/R11 -> #REF!
A13: Miesięczna realizacja Planu Sprzedaży Obrót | B13: =SUMIF(X!A:A,$A$1,X!G:G) -> 0 | C13: =SUMIF(XI!A:A,$A$1,XI!G:G) -> 0 | D13: =SUMIF(XII!A:A,$A$1,XII!G:G) -> 0 | E13: =SUM(B13:D13) -> 0 | F13: =SUMIF(VII!A:A,$A$1,VII!G:G) -> 0 | G13: =SUMIF(VIII!A:A,$A$1,VIII!G:G) -> 0 | H13: =SUMIF(IX!A:A,$A$1,IX!G:G) -> 0 | I13: =SUM(F13:H13) -> 0 | J13: =SUMIF(IV!A:A,$A$1,IV!G:G) -> 0 | K13: =SUMIF(V!A:A,$A$1,V!G:G) -> 0 | L13: =SUMIF(VI!A:A,$A$1,VI!G:G) -> 0 | M13: =SUM(J13:L13) -> 0 | N13: =SUMIF(I!A:A,$A$1,I!G:G) -> 0 | O13: =SUMIF(II!A:A,$A$1,II!G:G) -> 0 | P13: =SUMIF(III!A:A,$A$1,III!G:G) -> 0 | Q13: =SUM(N13:P13) -> 0 | R13: =Q13+M13+I13+E13 -> 0
A14: Sumaryczna realizacja planu sprzedaży Obrót | B14: =B13 -> 0 | C14: =C13+B14 -> 0 | D14: =D13+C14 -> 0 | F14: =F13 -> 0 | G14: =G13+F14 -> 0 | H14: =H13+G14 -> 0 | J14: =J13 -> 0 | K14: =K13+J14 -> 0 | L14: =L13+K14 -> 0 | N14: =N13 -> 0 | O14: =O13+N14 -> 0 | P14: =P13+O14 -> 0
A15: Wysokość zrealizowania Miesięcznego Planu Sprzedaży Obrót | B15: =B13/B11 -> #REF! | C15: =C13/C11 -> #REF! | D15: =D13/D11 -> #REF! | F15: =F13/F11 -> #REF! | G15: =G13/G11 -> #REF! | H15: =H13/H11 -> #REF! | J15: =J13/J11 -> #REF! | K15: =K13/K11 -> #REF! | L15: =L13/L11 -> #REF! | N15: =N13/N11 -> #REF! | O15: =O13/O11 -> #REF! | P15: =P13/P11 -> #REF!
A16: Wysokość zrealizowania Planu Sprzedaży Obrót | B16: =B14/B12 -> #REF! | C16: =C14/C12 -> #REF! | D16: =D14/D12 -> #REF! | F16: =F14/F12 -> #REF! | G16: =G14/G12 -> #REF! | H16: =H14/H12 -> #REF! | J16: =J14/J12 -> #REF! | K16: =K14/K12 -> #REF! | L16: =L14/L12 -> #REF! | N16: =N14/N12 -> #REF! | O16: =O14/O12 -> #REF! | P16: =P14/P12 -> #REF!
A17: Różnica wskaźnika Obrót | B17: =B14-B12 -> #REF! | C17: =C14-C12 -> #REF! | D17: =D14-D12 -> #REF! | F17: =F14-F12 -> #REF! | G17: =G14-G12 -> #REF! | H17: =H14-H12 -> #REF! | J17: =J14-J12 -> #REF! | K17: =K14-K12 -> #REF! | L17: =L14-L12 -> #REF! | N17: =N14-N12 -> #REF! | O17: =O14-O12 -> #REF! | P17: =P14-P12 -> #REF!
A18: Wysokość Marży miesięcznej | B18: =B6/B13 -> #DIV/0! | C18: =C6/C13 -> #DIV/0! | D18: =D6/D13 -> #DIV/0! | F18: =F6/F13 -> #DIV/0! | G18: =G6/G13 -> #DIV/0! | H18: =H6/H13 -> #DIV/0! | J18: =J6/J13 -> #DIV/0! | K18: =K6/K13 -> #DIV/0! | L18: =L6/L13 -> #DIV/0! | N18: =N6/N13 -> #DIV/0! | O18: =O6/O13 -> #DIV/0! | P18: =P6/P13 -> #DIV/0!
A19: Wysokość Marży sumarycznej | B19: =B7/B14 -> #DIV/0! | C19: =C7/C14 -> #DIV/0! | D19: =D7/D14 -> #DIV/0! | F19: =F7/F14 -> #DIV/0! | G19: =G7/G14 -> #DIV/0! | H19: =H7/H14 -> #DIV/0! | J19: =J7/J14 -> #DIV/0! | K19: =K7/K14 -> #DIV/0! | L19: =L7/L14 -> #DIV/0! | N19: =N7/N14 -> #DIV/0! | O19: =O7/O14 -> #DIV/0! | P19: =P7/P14 -> #DIV/0!
N21: PREMIE
A22: Wynagrodzenie zasadnicze | B22: 3450 | C22: 3450 | D22: 3450 | F22: 3450 | G22: 3450 | H22: 3450 | J22: 3450 | K22: 3450 | L22: 3450 | N22: 3450 | O22: 3450 | P22: 3450
A23: Wskaźnik Plan Sprzedaży Marża | B23: =B5 -> #REF! | C23: =C5 -> #REF! | D23: =D5 -> #REF! | F23: =F5 -> #REF! | G23: =G5 -> #REF! | H23: =H5 -> #REF! | J23: =J5 -> #REF! | K23: =K5 -> #REF! | L23: =L5 -> #REF! | N23: =N5 -> #REF! | O23: =O5 -> #REF! | P23: =P5 -> #REF!
A24: Realizacja Wskaźnika Planu Sprzedaży Marża | B24: =B7 -> 0 | C24: =C7 -> 0 | D24: =D7 -> 0 | F24: =F7 -> 0 | G24: =G7 -> 0 | H24: =H7 -> 0 | J24: =J7 -> 0 | K24: =K7 -> 0 | L24: =L7 -> 0 | N24: =N7 -> 0 | O24: =O7 -> 0 | P24: =P7 -> 0
A25: Poziom realizacji Wskaźnika Sprzedaży Marża | B25: =B24/B23 -> #REF! | C25: =C24/C23 -> #REF! | D25: =D24/D23 -> #REF! | F25: =F24/F23 -> #REF! | G25: =G24/G23 -> #REF! | H25: =H24/H23 -> #REF! | J25: =J24/J23 -> #REF! | K25: =K24/K23 -> #REF! | L25: =L24/L23 -> #REF! | N25: =N24/N23 -> #REF! | O25: =O24/O23 -> #REF! | P25: =P24/P23 -> #REF!
A26: Wysokość premii Wskaźnik Sprzedaży Marża | B26: =B22*0.3 -> 1035 | C26: =C22*0.3 -> 1035 | D26: =D22*0.3 -> 1035 | F26: =F22*0.3 -> 1035 | G26: =G22*0.3 -> 1035 | H26: =H22*0.3 -> 1035 | J26: =J22*0.3 -> 1035 | K26: =K22*0.3 -> 1035 | L26: =L22*0.3 -> 1035 | N26: =N22*0.3 -> 1035 | O26: =O22*0.3 -> 1035 | P26: =P22*0.3 -> 1035
A27: Mnożnik premii miesięcznej Wskaźnika Sprzedaży Marża | B27: =IF(B25<80%,0,IF(B25<90%,0.5,IF(B25<95%,0.75,1))) -> #REF! | C27: =IF(C25<80%,0,IF(C25<90%,0.5,IF(C25<95%,0.75,1))) -> #REF! | D27: =IF(D25<80%,0,IF(D25<90%,0.5,IF(D25<95%,0.75,1))) -> #REF! | F27: =IF(F25<80%,0,IF(F25<90%,0.5,IF(F25<95%,0.75,1))) -> #REF! | G27: =IF(G25<80%,0,IF(G25<90%,0.5,IF(G25<95%,0.75,1))) -> #REF! | H27: =IF(H25<80%,0,IF(H25<90%,0.5,IF(H25<95%,0.75,1))) -> #REF! | J27: =IF(J25<80%,0,IF(J25<90%,0.5,IF(J25<95%,0.75,1))) -> #REF! | K27: =IF(K25<80%,0,IF(K25<90%,0.5,IF(K25<95%,0.75,1))) -> #REF! | L27: =IF(L25<80%,0,IF(L25<90%,0.5,IF(L25<95%,0.75,1))) -> #REF! | N27: =IF(N25<80%,0,IF(N25<90%,0.5,IF(N25<95%,0.75,1))) -> #REF! | O27: =IF(O25<80%,0,IF(O25<90%,0.5,IF(O25<95%,0.75,1))) -> #REF! | P27: =IF(P25<80%,0,IF(P25<90%,0.5,IF(P25<95%,0.75,1))) -> #REF!
A28: Premia miesięczna za Wskaźnik Sprzedaży Marża | B28: =B27*B26 -> #REF! | C28: =C27*C26 -> #REF! | D28: =D27*D26 -> #REF! | F28: =F27*F26 -> #REF! | G28: =G27*G26 -> #REF! | H28: =H27*H26 -> #REF! | J28: =J27*J26 -> #REF! | K28: =K27*K26 -> #REF! | L28: =L27*L26 -> #REF! | N28: =N27*N26 -> #REF! | O28: =O27*O26 -> #REF! | P28: =P27*P26 -> #REF!
A29: Wskaźnik Plan Sprzedaży Obrót | B29: =B12 -> #REF! | C29: =C12 -> #REF! | D29: =D12 -> #REF! | F29: =F12 -> #REF! | G29: =G12 -> #REF! | H29: =H12 -> #REF! | J29: =J12 -> #REF! | K29: =K12 -> #REF! | L29: =L12 -> #REF! | N29: =N12 -> #REF! | O29: =O12 -> #REF! | P29: =P12 -> #REF!
A30: Realizacja Wskaźnika Planu Sprzedaży Obrót | B30: =B14 -> 0 | C30: =C14 -> 0 | D30: =D14 -> 0 | F30: =F14 -> 0 | G30: =G14 -> 0 | H30: =H14 -> 0 | J30: =J14 -> 0 | K30: =K14 -> 0 | L30: =L14 -> 0 | N30: =N14 -> 0 | O30: =O14 -> 0 | P30: =P14 -> 0
A31: Poziom realizacji Wskaźnika Sprzedaży Obrót | B31: =B30/B29 -> #REF! | C31: =C30/C29 -> #REF! | D31: =D30/D29 -> #REF! | F31: =F30/F29 -> #REF! | G31: =G30/G29 -> #REF! | H31: =H30/H29 -> #REF! | J31: =J30/J29 -> #REF! | K31: =K30/K29 -> #REF! | L31: =L30/L29 -> #REF! | N31: =N30/N29 -> #REF! | O31: =O30/O29 -> #REF! | P31: =P30/P29 -> #REF!
A32: Wysokość premii Wskaźnik Sprzedaży Obrót | B32: =B22*0.15 -> 517.5 | C32: =C22*0.15 -> 517.5 | D32: =D22*0.15 -> 517.5 | F32: =F22*0.15 -> 517.5 | G32: =G22*0.15 -> 517.5 | H32: =H22*0.15 -> 517.5 | J32: =J22*0.15 -> 517.5 | K32: =K22*0.15 -> 517.5 | L32: =L22*0.15 -> 517.5 | N32: =N22*0.15 -> 517.5 | O32: =O22*0.15 -> 517.5 | P32: =P22*0.15 -> 517.5
A33: Mnożnik premii miesięcznej Wskaźnika Sprzedaży Obrót | B33: =IF(B31<80%,0,IF(B31<90%,0.5,IF(B31<95%,0.75,1))) -> #REF! | C33: =IF(C31<80%,0,IF(C31<90%,0.5,IF(C31<95%,0.75,1))) -> #REF! | D33: =IF(D31<80%,0,IF(D31<90%,0.5,IF(D31<95%,0.75,1))) -> #REF! | F33: =IF(F31<80%,0,IF(F31<90%,0.5,IF(F31<95%,0.75,1))) -> #REF! | G33: =IF(G31<80%,0,IF(G31<90%,0.5,IF(G31<95%,0.75,1))) -> #REF! | H33: =IF(H31<80%,0,IF(H31<90%,0.5,IF(H31<95%,0.75,1))) -> #REF! | J33: =IF(J31<80%,0,IF(J31<90%,0.5,IF(J31<95%,0.75,1))) -> #REF! | K33: =IF(K31<80%,0,IF(K31<90%,0.5,IF(K31<95%,0.75,1))) -> #REF! | L33: =IF(L31<80%,0,IF(L31<90%,0.5,IF(L31<95%,0.75,1))) -> #REF! | N33: =IF(N31<80%,0,IF(N31<90%,0.5,IF(N31<95%,0.75,1))) -> #REF! | O33: =IF(O31<80%,0,IF(O31<90%,0.5,IF(O31<95%,0.75,1))) -> #REF! | P33: =IF(P31<80%,0,IF(P31<90%,0.5,IF(P31<95%,0.75,1))) -> #REF!
A34: Premia miesięczna za Wskaźnik Sprzedaży Obrót | B34: =B33*B32 -> #REF! | C34: =C33*C32 -> #REF! | D34: =D33*D32 -> #REF! | F34: =F33*F32 -> #REF! | G34: =G33*G32 -> #REF! | H34: =H33*H32 -> #REF! | J34: =J33*J32 -> #REF! | K34: =K33*K32 -> #REF! | L34: =L33*L32 -> #REF! | N34: =N33*N32 -> #REF! | O34: =O33*O32 -> #REF! | P34: =P33*P32 -> #REF!
A35: Wskaźnik CRM | B35: 1 | C35: 1 | D35: 1 | F35: 1 | G35: 1 | H35: 1 | J35: 1 | K35: 1 | L35: 1 | N35: 1 | O35: 1 | P35: 1
A36: Wysokość premii CRM | B36: =B22*0.05 -> 172.5 | C36: =C22*0.05 -> 172.5 | D36: =D22*0.05 -> 172.5 | F36: =F22*0.05 -> 172.5 | G36: =G22*0.05 -> 172.5 | H36: =H22*0.05 -> 172.5 | J36: =J22*0.05 -> 172.5 | K36: =K22*0.05 -> 172.5 | L36: =L22*0.05 -> 172.5 | N36: =N22*0.05 -> 172.5 | O36: =O22*0.05 -> 172.5 | P36: =P22*0.05 -> 172.5
A37: Mnożnik premii Wskaźnik CRM | F37: 1 | G37: 1 | J37: 1 | K37: 1 | L37: 1 | N37: 1 | O37: 1 | P37: 1
A38: Premia miesięczna za Wskaźnik CRM | B38: =B37*B36 -> 0 | C38: =C37*C36 -> 0 | D38: =D37*D36 -> 0 | F38: =F37*F36 -> 172.5 | G38: =G37*G36 -> 172.5 | H38: =H37*H36 -> 0 | J38: =J37*J36 -> 172.5 | K38: =K37*K36 -> 172.5 | L38: =L37*L36 -> 172.5 | N38: =N37*N36 -> 172.5 | O38: =O37*O36 -> 172.5 | P38: =P37*P36 -> 172.5
A39: Suma Premii miesięcznych | B39: =B34+B28+B38 -> #REF! | C39: =C34+C28+C38 -> #REF! | D39: =D34+D28+D38 -> #REF! | F39: =F34+F28+F38 -> #REF! | G39: =G34+G28+G38 -> #REF! | H39: =H34+H28+H38 -> #REF! | J39: =J34+J28+J38 -> #REF! | K39: =K34+K28+K38+129.37 -> #REF! | L39: =L34+L28+L38 -> #REF! | N39: =N34+N28+N38 -> #REF! | O39: =O34+O28+O38 -> #REF! | P39: =P34+P28+P38 -> #REF!
A40: Wskaźnik Premia Kwartalna Marża | B40: =D5 -> #REF! | F40: =H5 -> #REF! | J40: =L5 -> #REF! | N40: =P5 -> #REF!
A41: Realizacja Wskaźnika Premia Kwartalna | B41: =D7 -> 0 | F41: =H7 -> 0 | J41: =L7 -> 0 | N41: =P7 -> 0
A42: Poziom realizacji Wskaźnika Premia Kwartalna | B42: =B41/B40 -> #REF! | F42: =F41/F40 -> #REF! | J42: =J41/J40 -> #REF! | N42: =N41/N40 -> #REF!
A43: Wysokość premii kwartalnej. | B43: =D22 -> 3450 | F43: =H22 -> 3450 | J43: =L22 -> 3450 | N43: =P22 -> 3450
A44: Mnożnik premii kwartalnej | B44: =IF(B42<100%,0,IF(B42<110%,0.5,1)) -> #REF! | F44: =IF(F42<100%,0,IF(F42<110%,0.5,1)) -> #REF! | J44: =IF(J42<100%,0,IF(J42<110%,0.5,1)) -> #REF! | N44: =IF(N42<100%,0,IF(N42<110%,0.5,1)) -> #REF!
A45: Premia kwartalna | B45: =B44*B43 -> #REF! | F45: =F44*F43 -> #REF! | J45: =J44*J43 -> #REF! | N45: =N44*N43 -> #REF!
A47: Raport za miesiąc: | B47: paździer. | C47: listopad | D47: grudzień | E47: Suma | F47: lipiec | G47: sierpień | H47: wrzesień | I47: Suma | J47: kwiecień | K47: maj | L47: czerwiec | M47: Suma | N47: styczeń | O47: luty | P47: marzec | Q47: Suma | R47: Suma
A48: Ilość nowych Klientów: | E48: =SUM(B48:D48) -> 0 | I48: =SUM(F48:H48) -> 0 | M48: =SUM(J48:L48) -> 0 | Q48: =SUM(N48:P48) -> 0 | R48: =M48+I48+E48+Q48 -> 0
A49: Ilość Podmiotów na etapie współpracy Klient:
A50: Ilość Podmiotów na etapie współpracy Handlowy:
A51: Ilość Podmiotów na etapie współpracy Klient nieaktywny:
A52: Ilość Podmiotów pod opieką:
A53: Ilość sprzedanych drukarek: | E53: =SUM(B53:D53) -> 0 | I53: =SUM(F53:H53) -> 0 | M53: =SUM(J53:L53) -> 0 | Q53: =SUM(N53:P53) -> 0 | R53: =M53+I53+E53+Q53 -> 0
A54: Ilość ofert dodanych w danym miesiącu: | E54: =SUM(B54:D54) -> 0 | I54: =SUM(F54:H54) -> 0 | M54: =SUM(J54:L54) -> 0 | Q54: =SUM(N54:P54) -> 0 | R54: =M54+I54+E54+Q54 -> 0
A55: Ilość ofert oczekujących na decyzję kontrahenta:
A56: Ilość zaakceptowanych ofert przez kontrahenta: | E56: =SUM(B56:D56) -> 0 | I56: =SUM(F56:H56) -> 0 | M56: =SUM(J56:L56) -> 0 | Q56: =SUM(N56:P56) -> 0 | R56: =M56+I56+E56+Q56 -> 0
A57: Ilość odrzuconych ofert przez kontrahenta: | E57: =SUM(B57:D57) -> 0 | I57: =SUM(F57:H57) -> 0 | M57: =SUM(J57:L57) -> 0 | Q57: =SUM(N57:P57) -> 0 | R57: =M57+I57+E57+Q57 -> 0
A58: Ilość przekazanych podmiotów: | E58: =SUM(B58:D58) -> 0 | I58: =SUM(F58:H58) -> 0 | M58: =SUM(J58:L58) -> 0 | Q58: =SUM(N58:P58) -> 0 | R58: =M58+I58+E58+Q58 -> 0
A59: Ilość odebranych podmiotów (zmiana prowadzącego): | E59: =SUM(B59:D59) -> 0 | I59: =SUM(F59:H59) -> 0 | M59: =SUM(J59:L59) -> 0 | Q59: =SUM(N59:P59) -> 0 | R59: =M59+I59+E59+Q59 -> 0
A60: Ilość spotkań z Klientami: | E60: =SUM(B60:D60) -> 0 | I60: =SUM(F60:H60) -> 0 | M60: =SUM(J60:L60) -> 0 | Q60: =SUM(N60:P60) -> 0 | R60: =M60+I60+E60+Q60 -> 0
A61: Ilość aktualnie otwartych wdrożeń:
A62: Ilość wdrożeń dodanych w danym miesiącu: | E62: =SUM(B62:D62) -> 0 | I62: =SUM(F62:H62) -> 0 | M62: =SUM(J62:L62) -> 0 | Q62: =SUM(N62:P62) -> 0 | R62: =M62+I62+E62+Q62 -> 0
A63: Ilość wdrożeń zamkniętych pozytywnie w danym mcu: | E63: =SUM(B63:D63) -> 0 | I63: =SUM(F63:H63) -> 0 | M63: =SUM(J63:L63) -> 0 | Q63: =SUM(N63:P63) -> 0 | R63: =M63+I63+E63+Q63 -> 0
A64: Ilość wdrożeń zamkniętych negatywnie w danym mcu: | E64: =SUM(B64:D64) -> 0 | I64: =SUM(F64:H64) -> 0 | M64: =SUM(J64:L64) -> 0 | Q64: =SUM(N64:P64) -> 0 | R64: =M64+I64+E64+Q64 -> 0
A65: Ilość aktualnie odłożonych wdrożeń:

Sheet 0
A1: Agnieszka Zagaja | B1: PLAN IV KW Agnieszka Zagaja | F1: PLAN III KW Agnieszka Zagaja | J1: PLAN II KW Agnieszka Zagaja | N1: PLAN I KW Agnieszka Zagaja
A2: miesiąc | B2: październik | C2: listopad | D2: grudzień | E2: KW IV | F2: lipiec | G2: sierpień | H2: wrzesień | I2: KW III | J2: kwiecień | K2: maj | L2: czerwiec | M2: KW II | N2: styczeń | O2: luty | P2: marzec | Q2: KW I | R2: suma ROK
A4: Plan Sprzedaży Marża | B4: ='Target 2022'!#REF! -> #REF! | C4: ='Target 2022'!#REF! -> #REF! | D4: ='Target 2022'!#REF! -> #REF! | E4: =SUM(B4:D4) -> #REF! | F4: ='Target 2022'!#REF! -> #REF! | G4: ='Target 2022'!#REF! -> #REF! | H4: ='Target 2022'!#REF! -> #REF! | I4: =SUM(F4:H4) -> #REF! | J4: ='Target 2022'!#REF! -> #REF! | K4: ='Target 2022'!#REF! -> #REF! | L4: ='Target 2022'!#REF! -> #REF! | N4: ='Target 2022'!#REF! -> #REF! | O4: ='Target 2022'!#REF! -> #REF! | P4: ='Target 2022'!#REF! -> #REF! | Q4: =SUM(N4:P4) -> #REF! | R4: =Q4+M4+I4+E4 -> #REF!
A5: Sumaryczny Plan Sprzedaży Marża | B5: =B4 -> #REF! | C5: =C4+B5 -> #REF! | D5: =D4+C5 -> #REF! | F5: =F4 -> #REF! | G5: =G4+F5 -> #REF! | H5: =H4+G5 -> #REF! | J5: =J4 -> #REF! | K5: =K4+J5 -> #REF! | L5: =L4+K5 -> #REF! | N5: =N4 -> #REF! | O5: =O4+N5 -> #REF! | P5: =P4+O5 -> #REF!
A6: Miesięczna realizacja Planu Sprzedaży Marża | B6: =SUMIF(X!A:A,$A$1,X!I:I) -> 0 | C6: =SUMIF(XI!A:A,$A$1,XI!I:I) -> 0 | D6: =SUMIF(XII!A:A,$A$1,XII!I:I) -> 0 | E6: =SUM(B6:D6) -> 0 | F6: =SUMIF(VII!A:A,$A$1,VII!I:I) -> 0 | G6: =SUMIF(VIII!A:A,$A$1,VIII!I:I) -> 0 | H6: =SUMIF(IX!A:A,$A$1,IX!I:I) -> 0 | I6: =SUM(F6:H6) -> 0 | J6: =SUMIF(IV!A:A,$A$1,IV!I:I) -> 0 | K6: =SUMIF(V!A:A,$A$1,V!I:I) -> 0 | L6: =SUMIF(VI!A:A,$A$1,VI!I:I) -> 0 | M6: =SUM(J6:L6) -> 0 | N6: =SUMIF(I!A:A,$A$1,I!I:I) -> 0 | O6: =SUMIF(II!A:A,$A$1,II!I:I) -> 0 | P6: =SUMIF(III!A:A,$A$1,III!I:I) -> 0 | Q6: =SUM(N6:P6) -> 0 | R6: =Q6+M6+I6+E6 -> 0
A7: Sumaryczna realizacja planu sprzedaży Marża | B7: =B6 -> 0 | C7: =C6+B7 -> 0 | D7: =D6+C7 -> 0 | F7: =F6 -> 0 | G7: =G6+F7 -> 0 | H7: =H6+G7 -> 0 | J7: =J6 -> 0 | K7: =K6+J7 -> 0 | L7: =L6+K7 -> 0 | N7: =N6 -> 0 | O7: =O6+N7 -> 0 | P7: =P6+O7 -> 0
A8: Wysokość zrealizowania Miesięcznego Planu Sprzedaży Marża | B8: =B6/B4 -> #REF! | C8: =C6/C4 -> #REF! | D8: =D6/D4 -> #REF! | F8: =F6/F4 -> #REF! | G8: =G6/G4 -> #REF! | H8: =H6/H4 -> #REF! | J8: =J6/J4 -> #REF! | K8: =K6/K4 -> #REF! | L8: =L6/L4 -> #REF! | N8: =N6/N4 -> #REF! | O8: =O6/O4 -> #REF! | P8: =P6/P4 -> #REF!
A9: Wysokość zrealizowania Planu Sprzedaży Marża | B9: =B7/B5 -> #REF! | C9: =C7/C5 -> #REF! | D9: =D7/D5 -> #REF! | F9: =F7/F5 -> #REF! | G9: =G7/G5 -> #REF! | H9: =H7/H5 -> #REF! | J9: =J7/J5 -> #REF! | K9: =K7/K5 -> #REF! | L9: =L7/L5 -> #REF! | N9: =N7/N5 -> #REF! | O9: =O7/O5 -> #REF! | P9: =P7/P5 -> #REF!
A10: Różnica wskaźnika Marża | B10: =B7-B5 -> #REF! | C10: =C7-C5 -> #REF! | D10: =D7-D5 -> #REF! | F10: =F7-F5 -> #REF! | G10: =G7-G5 -> #REF! | H10: =H7-H5 -> #REF! | J10: =J7-J5 -> #REF! | K10: =K7-K5 -> #REF! | L10: =L7-L5 -> #REF! | N10: =N7-N5 -> #REF! | O10: =O7-O5 -> #REF! | P10: =P7-P5 -> #REF!
A11: Plan Sprzedaży Obrót | B11: ='Target 2022'!#REF! -> #REF! | C11: ='Target 2022'!#REF! -> #REF! | D11: ='Target 2022'!#REF! -> #REF! | E11: =SUM(B11:D11) -> #REF! | F11: ='Target 2022'!#REF! -> #REF! | G11: ='Target 2022'!#REF! -> #REF! | H11: ='Target 2022'!#REF! -> #REF! | I11: =SUM(F11:H11) -> #REF! | K11: ='Target 2022'!#REF! -> #REF! | L11: ='Target 2022'!#REF! -> #REF! | M11: =SUM(J11:L11) -> #REF! | N11: ='Target 2022'!#REF! -> #REF! | O11: ='Target 2022'!#REF! -> #REF! | P11: ='Target 2022'!#REF! -> #REF! | Q11: =SUM(N11:P11) -> #REF! | R11: =Q11+M11+I11+E11 -> #REF!
A12: Sumaryczny Plan Sprzedaży Obrót | B12: =B11 -> #REF! | C12: =C11+B12 -> #REF! | D12: =D11+C12 -> #REF! | F12: =F11 -> #REF! | G12: =G11+F12 -> #REF! | H12: =H11+G12 -> #REF! | J12: =J11 -> 0 | K12: =K11+J12 -> #REF! | L12: =L11+K12 -> #REF! | N12: =N11 -> #REF! | O12: =O11+N12 -> #REF! | P12: =P11+O12 -> #REF!
A13: Miesięczna realizacja Planu Sprzedaży Obrót | B13: =SUMIF(X!A:A,$A$1,X!G:G) -> 0 | C13: =SUMIF(XI!A:A,$A$1,XI!G:G) -> 0 | D13: =SUMIF(XII!A:A,$A$1,XII!G:G) -> 0 | E13: =SUM(B13:D13) -> 0 | F13: =SUMIF(VII!A:A,$A$1,VII!G:G) -> 0 | G13: =SUMIF(VIII!A:A,$A$1,VIII!G:G) -> 0 | H13: =SUMIF(IX!A:A,$A$1,IX!G:G) -> 0 | I13: =SUM(F13:H13) -> 0 | J13: =SUMIF(IV!A:A,$A$1,IV!G:G) -> 0 | K13: =SUMIF(V!A:A,$A$1,V!G:G) -> 0 | L13: =SUMIF(VI!A:A,$A$1,VI!G:G) -> 0 | M13: =SUM(J13:L13) -> 0 | N13: =SUMIF(I!A:A,$A$1,I!G:G) -> 0 | O13: =SUMIF(II!A:A,$A$1,II!G:G) -> 0 | P13: =SUMIF(III!A:A,$A$1,III!G:G) -> 0 | Q13: =SUM(N13:P13) -> 0 | R13: =Q13+M13+I13+E13 -> 0
A14: Sumaryczna realizacja planu sprzedaży Obrót | B14: =B13 -> 0 | C14: =C13+B14 -> 0 | D14: =D13+C14 -> 0 | F14: =F13 -> 0 | G14: =G13+F14 -> 0 | H14: =H13+G14 -> 0 | J14: =J13 -> 0 | K14: =K13+J14 -> 0 | L14: =L13+K14 -> 0 | N14: =N13 -> 0 | O14: =O13+N14 -> 0 | P14: =P13+O14 -> 0
A15: Wysokość zrealizowania Miesięcznego Planu Sprzedaży Obrót | B15: =B13/B11 -> #REF! | C15: =C13/C11 -> #REF! | D15: =D13/D11 -> #REF! | F15: =F13/F11 -> #REF! | G15: =G13/G11 -> #REF! | H15: =H13/H11 -> #REF! | J15: =J13/J11 -> #DIV/0! | K15: =K13/K11 -> #REF! | L15: =L13/L11 -> #REF! | N15: =N13/N11 -> #REF! | O15: =O13/O11 -> #REF! | P15: =P13/P11 -> #REF!
A16: Wysokość zrealizowania Planu Sprzedaży Obrót | B16: =B14/B12 -> #REF! | C16: =C14/C12 -> #REF! | D16: =D14/D12 -> #REF! | F16: =F14/F12 -> #REF! | G16: =G14/G12 -> #REF! | H16: =H14/H12 -> #REF! | J16: =J14/J12 -> #DIV/0! | K16: =K14/K12 -> #REF! | L16: =L14/L12 -> #REF! | N16: =N14/N12 -> #REF! | O16: =O14/O12 -> #REF! | P16: =P14/P12 -> #REF!
A17: Różnica wskaźnika Obrót | B17: =B14-B12 -> #REF! | C17: =C14-C12 -> #REF! | D17: =D14-D12 -> #REF! | F17: =F14-F12 -> #REF! | G17: =G14-G12 -> #REF! | H17: =H14-H12 -> #REF! | J17: =J14-J12 -> 0 | K17: =K14-K12 -> #REF! | L17: =L14-L12 -> #REF! | N17: =N14-N12 -> #REF! | O17: =O14-O12 -> #REF! | P17: =P14-P12 -> #REF!
A18: Wysokość Marży miesięcznej | B18: =B6/B13 -> #DIV/0! | C18: =C6/C13 -> #DIV/0! | D18: =D6/D13 -> #DIV/0! | F18: =F6/F13 -> #DIV/0! | G18: =G6/G13 -> #DIV/0! | H18: =H6/H13 -> #DIV/0! | J18: =J6/J13 -> #DIV/0! | K18: =K6/K13 -> #DIV/0! | L18: =L6/L13 -> #DIV/0! | N18: =N6/N13 -> #DIV/0! | O18: =O6/O13 -> #DIV/0! | P18: =P6/P13 -> #DIV/0!
A19: Wysokość Marży sumarycznej | B19: =B7/B14 -> #DIV/0! | C19: =C7/C14 -> #DIV/0! | D19: =D7/D14 -> #DIV/0! | F19: =F7/F14 -> #DIV/0! | G19: =G7/G14 -> #DIV/0! | H19: =H7/H14 -> #DIV/0! | J19: =J7/J14 -> #DIV/0! | K19: =K7/K14 -> #DIV/0! | L19: =L7/L14 -> #DIV/0! | N19: =N7/N14 -> #DIV/0! | O19: =O7/O14 -> #DIV/0! | P19: =P7/P14 -> #DIV/0!
N21: PREMIE
A22: Wynagrodzenie zasadnicze | B22: 0 | C22: 0 | D22: 0 | F22: 0 | G22: 0 | H22: 0 | J22: 0 | K22: 0 | L22: 0 | N22: 0 | O22: 0 | P22: 0
A23: Wskaźnik Plan Sprzedaży Marża | B23: =B5 -> #REF! | C23: =C5 -> #REF! | D23: =D5 -> #REF! | F23: =F5 -> #REF! | G23: =G5 -> #REF! | H23: =H5 -> #REF! | J23: =J5 -> #REF! | K23: =K5 -> #REF! | L23: =L5 -> #REF! | N23: =N5 -> #REF! | O23: =O5 -> #REF! | P23: =P5 -> #REF!
A24: Realizacja Wskaźnika Planu Sprzedaży Marża | B24: =B7 -> 0 | C24: =C7 -> 0 | D24: =D7 -> 0 | F24: =F7 -> 0 | G24: =G7 -> 0 | H24: =H7 -> 0 | J24: =J7 -> 0 | K24: =K7 -> 0 | L24: =L7 -> 0 | N24: =N7 -> 0 | O24: =O7 -> 0 | P24: =P7 -> 0
A25: Poziom realizacji Wskaźnika Sprzedaży Marża | B25: =B24/B23 -> #REF! | C25: =C24/C23 -> #REF! | D25: =D24/D23 -> #REF! | F25: =F24/F23 -> #REF! | G25: =G24/G23 -> #REF! | H25: =H24/H23 -> #REF! | J25: =J24/J23 -> #REF! | K25: =K24/K23 -> #REF! | L25: =L24/L23 -> #REF! | N25: =N24/N23 -> #REF! | O25: =O24/O23 -> #REF! | P25: =P24/P23 -> #REF!
A26: Wysokość premii Wskaźnik Sprzedaży Marża | B26: =B22*0.2 -> 0 | C26: =C22*0.2 -> 0 | D26: =D22*0.2 -> 0 | F26: =F22*0.2 -> 0 | G26: =G22*0.2 -> 0 | H26: =H22*0.2 -> 0 | J26: =J22*0.2 -> 0 | K26: =K22*0.2 -> 0 | L26: =L22*0.2 -> 0 | N26: =N22*0.2 -> 0 | O26: =O22*0.2 -> 0 | P26: =P22*0.2 -> 0
A27: Mnożnik premii miesięcznej Wskaźnika Sprzedaży Marża | B27: =IF(B25<80%,0,IF(B25<90%,0.5,IF(B25<95%,0.75,1))) -> #REF! | C27: =IF(C25<80%,0,IF(C25<90%,0.5,IF(C25<95%,0.75,1))) -> #REF! | D27: =IF(D25<80%,0,IF(D25<90%,0.5,IF(D25<95%,0.75,1))) -> #REF! | F27: =IF(F25<80%,0,IF(F25<90%,0.5,IF(F25<95%,0.75,1))) -> #REF! | G27: =IF(G25<80%,0,IF(G25<90%,0.5,IF(G25<95%,0.75,1))) -> #REF! | H27: =IF(H25<80%,0,IF(H25<90%,0.5,IF(H25<95%,0.75,1))) -> #REF! | J27: =IF(J25<80%,0,IF(J25<90%,0.5,IF(J25<95%,0.75,1))) -> #REF! | K27: =IF(K25<80%,0,IF(K25<90%,0.5,IF(K25<95%,0.75,1))) -> #REF! | L27: =IF(L25<80%,0,IF(L25<90%,0.5,IF(L25<95%,0.75,1))) -> #REF! | N27: =IF(N25<80%,0,IF(N25<90%,0.5,IF(N25<95%,0.75,1))) -> #REF! | O27: =IF(O25<80%,0,IF(O25<90%,0.5,IF(O25<95%,0.75,1))) -> #REF! | P27: =IF(P25<80%,0,IF(P25<90%,0.5,IF(P25<95%,0.75,1))) -> #REF!
A28: Premia miesięczna za Wskaźnik Sprzedaży Marża | B28: =B27*B26 -> #REF! | C28: =C27*C26 -> #REF! | D28: =D27*D26 -> #REF! | F28: =F27*F26 -> #REF! | G28: =G27*G26 -> #REF! | H28: =H27*H26 -> #REF! | J28: =J27*J26 -> #REF! | K28: =K27*K26 -> #REF! | L28: =L27*L26 -> #REF! | N28: =N27*N26 -> #REF! | O28: =O27*O26 -> #REF! | P28: =P27*P26 -> #REF!
A29: Wskaźnik Plan Sprzedaży Obrót | B29: =B12 -> #REF! | C29: =C12 -> #REF! | D29: =D12 -> #REF! | F29: =F12 -> #REF! | G29: =G12 -> #REF! | H29: =H12 -> #REF! | J29: =J12 -> 0 | K29: =K12 -> #REF! | L29: =L12 -> #REF! | N29: =N12 -> #REF! | O29: =O12 -> #REF! | P29: =P12 -> #REF!
A30: Realizacja Wskaźnika Planu Sprzedaży Obrót | B30: =B14 -> 0 | C30: =C14 -> 0 | D30: =D14 -> 0 | F30: =F14 -> 0 | G30: =G14 -> 0 | H30: =H14 -> 0 | J30: =J14 -> 0 | K30: =K14 -> 0 | L30: =L14 -> 0 | N30: =N14 -> 0 | O30: =O14 -> 0 | P30: =P14 -> 0
A31: Poziom realizacji Wskaźnika Sprzedaży Obrót | B31: =B30/B29 -> #REF! | C31: =C30/C29 -> #REF! | D31: =D30/D29 -> #REF! | F31: =F30/F29 -> #REF! | G31: =G30/G29 -> #REF! | H31: =H30/H29 -> #REF! | J31: =J30/J29 -> #DIV/0! | K31: =K30/K29 -> #REF! | L31: =L30/L29 -> #REF! | N31: =N30/N29 -> #REF! | O31: =O30/O29 -> #REF! | P31: =P30/P29 -> #REF!
A32: Wysokość premii Wskaźnik Sprzedaży Obrót | B32: =B22*0.2 -> 0 | C32: =C22*0.2 -> 0 | D32: =D22*0.2 -> 0 | F32: =F22*0.2 -> 0 | G32: =G22*0.2 -> 0 | H32: =H22*0.2 -> 0 | J32: =J22*0.2 -> 0 | K32: =K22*0.2 -> 0 | L32: =L22*0.2 -> 0 | N32: =N22*0.2 -> 0 | O32: =O22*0.2 -> 0 | P32: =P22*0.2 -> 0
A33: Mnożnik premii miesięcznej Wskaźnika Sprzedaży Obrót | B33: =IF(B31<80%,0,IF(B31<90%,0.5,IF(B31<95%,0.75,1))) -> #REF! | C33: =IF(C31<80%,0,IF(C31<90%,0.5,IF(C31<95%,0.75,1))) -> #REF! | D33: =IF(D31<80%,0,IF(D31<90%,0.5,IF(D31<95%,0.75,1))) -> #REF! | F33: =IF(F31<80%,0,IF(F31<90%,0.5,IF(F31<95%,0.75,1))) -> #REF! | G33: =IF(G31<80%,0,IF(G31<90%,0.5,IF(G31<95%,0.75,1))) -> #REF! | H33: =IF(H31<80%,0,IF(H31<90%,0.5,IF(H31<95%,0.75,1))) -> #REF! | J33: =IF(J31<80%,0,IF(J31<90%,0.5,IF(J31<95%,0.75,1))) -> #DIV/0! | K33: =IF(K31<80%,0,IF(K31<90%,0.5,IF(K31<95%,0.75,1))) -> #REF! | L33: =IF(L31<80%,0,IF(L31<90%,0.5,IF(L31<95%,0.75,1))) -> #REF! | N33: =IF(N31<80%,0,IF(N31<90%,0.5,IF(N31<95%,0.75,1))) -> #REF! | O33: =IF(O31<80%,0,IF(O31<90%,0.5,IF(O31<95%,0.75,1))) -> #REF! | P33: =IF(P31<80%,0,IF(P31<90%,0.5,IF(P31<95%,0.75,1))) -> #REF!
A34: Premia miesięczna za Wskaźnik Sprzedaży Obrót | B34: =B33*B32 -> #REF! | C34: =C33*C32 -> #REF! | D34: =D33*D32 -> #REF! | F34: =F33*F32 -> #REF! | G34: =G33*G32 -> #REF! | H34: =H33*H32 -> #REF! | J34: =J33*J32 -> #DIV/0! | K34: =K33*K32 -> #REF! | L34: =L33*L32 -> #REF! | N34: =N33*N32 -> #REF! | O34: =O33*O32 -> #REF! | P34: =P33*P32 -> #REF!
A35: Wskaźnik CRM | B35: 1 | C35: 1 | D35: 1 | F35: 1 | G35: 1 | H35: 1 | J35: 1 | K35: 1 | L35: 1 | N35: 1 | O35: 1 | P35: 1
A36: Wysokość premii CRM | B36: =B22*0.1 -> 0 | C36: =C22*0.1 -> 0 | D36: =D22*0.1 -> 0 | F36: =F22*0.1 -> 0 | G36: =G22*0.1 -> 0 | H36: =H22*0.1 -> 0 | J36: =J22*0.1 -> 0 | K36: =K22*0.1 -> 0 | L36: =L22*0.1 -> 0 | N36: =N22*0.1 -> 0 | O36: =O22*0.1 -> 0 | P36: =P22*0.1 -> 0
A37: Mnożnik premii Wskaźnik CRM
A38: Premia miesięczna za Wskaźnik CRM | B38: =B37*B36 -> 0 | C38: =C37*C36 -> 0 | D38: =D37*D36 -> 0 | F38: =F37*F36 -> 0 | G38: =G37*G36 -> 0 | H38: =H37*H36 -> 0 | J38: =J37*J36 -> 0 | K38: =K37*K36 -> 0 | L38: =L37*L36 -> 0 | N38: =N37*N36 -> 0 | O38: =O37*O36 -> 0 | P38: =P37*P36 -> 0
A39: Suma Premii miesięcznych | B39: =B34+B28+B38 -> #REF! | C39: =C34+C28+C38 -> #REF! | D39: =D34+D28+D38 -> #REF! | F39: =F34+F28+F38 -> #REF! | G39: =G34+G28+G38 -> #REF! | H39: =H34+H28+H38 -> #REF! | J39: =J34+J28+J38 -> #DIV/0! | K39: =K34+K28+K38 -> #REF! | L39: =L34+L28+L38 -> #REF! | N39: =N34+N28+N38 -> #REF! | O39: =O34+O28+O38 -> #REF! | P39: =P34+P28+P38 -> #REF!
A40: Wskaźnik Premia Kwartalna Marża | B40: =D5 -> #REF! | F40: =H5 -> #REF! | J40: =L5 -> #REF! | N40: =P5 -> #REF!
A41: Realizacja Wskaźnika Premia Kwartalna | B41: =D7 -> 0 | F41: =H7 -> 0 | J41: =L7 -> 0 | N41: =P7 -> 0
A42: Poziom realizacji Wskaźnika Premia Kwartalna | B42: =B41/B40 -> #REF! | F42: =F41/F40 -> #REF! | J42: =J41/J40 -> #REF! | N42: =N41/N40 -> #REF!
A43: Wysokość premii kwartalnej. | B43: =D22 -> 0 | F43: =H22 -> 0 | J43: =L22 -> 0 | N43: =P22 -> 0
A44: Mnożnik premii kwartalnej | B44: =IF(B42<100%,0,IF(B42<110%,0.5,1)) -> #REF! | F44: =IF(F42<100%,0,IF(F42<110%,0.5,1)) -> #REF! | J44: =IF(J42<100%,0,IF(J42<110%,0.5,1)) -> #REF! | N44: =IF(N42<100%,0,IF(N42<110%,0.5,1)) -> #REF!
A45: Premia kwartalna | B45: =B44*B43 -> #REF! | F45: =F44*F43 -> #REF! | J45: =J44*J43 -> #REF! | N45: =N44*N43 -> #REF!
A47: Raport za miesiąc: | B47: paździer. | C47: listopad | D47: grudzień | E47: Suma | F47: lipiec | G47: sierpień | H47: wrzesień | I47: Suma | J47: kwiecień | K47: maj | L47: czerwiec | M47: Suma | N47: styczeń | O47: luty | P47: marzec | Q47: Suma | R47: Suma
A48: Ilość nowych Klientów: | E48: =SUM(B48:D48) -> 0 | I48: =SUM(F48:H48) -> 0 | M48: =SUM(J48:L48) -> 0 | Q48: =SUM(N48:P48) -> 0 | R48: =M48+I48+E48+Q48 -> 0
A49: Ilość Podmiotów na etapie współpracy Klient:
A50: Ilość Podmiotów na etapie współpracy Handlowy:
A51: Ilość Podmiotów na etapie współpracy Klient nieaktywny:
A52: Ilość Podmiotów pod opieką:
A53: Ilość sprzedanych drukarek: | E53: =SUM(B53:D53) -> 0 | I53: =SUM(F53:H53) -> 0 | M53: =SUM(J53:L53) -> 0 | Q53: =SUM(N53:P53) -> 0 | R53: =M53+I53+E53+Q53 -> 0
A54: Ilość ofert dodanych w danym miesiącu: | E54: =SUM(B54:D54) -> 0 | I54: =SUM(F54:H54) -> 0 | M54: =SUM(J54:L54) -> 0 | Q54: =SUM(N54:P54) -> 0 | R54: =M54+I54+E54+Q54 -> 0
A55: Ilość ofert oczekujących na decyzję kontrahenta:
A56: Ilość zaakceptowanych ofert przez kontrahenta: | E56: =SUM(B56:D56) -> 0 | I56: =SUM(F56:H56) -> 0 | M56: =SUM(J56:L56) -> 0 | Q56: =SUM(N56:P56) -> 0 | R56: =M56+I56+E56+Q56 -> 0
A57: Ilość odrzuconych ofert przez kontrahenta: | E57: =SUM(B57:D57) -> 0 | I57: =SUM(F57:H57) -> 0 | M57: =SUM(J57:L57) -> 0 | Q57: =SUM(N57:P57) -> 0 | R57: =M57+I57+E57+Q57 -> 0
A58: Ilość przekazanych podmiotów: | E58: =SUM(B58:D58) -> 0 | I58: =SUM(F58:H58) -> 0 | M58: =SUM(J58:L58) -> 0 | Q58: =SUM(N58:P58) -> 0 | R58: =M58+I58+E58+Q58 -> 0
A59: Ilość odebranych podmiotów (zmiana prowadzącego): | E59: =SUM(B59:D59) -> 0 | I59: =SUM(F59:H59) -> 0 | M59: =SUM(J59:L59) -> 0 | Q59: =SUM(N59:P59) -> 0 | R59: =M59+I59+E59+Q59 -> 0
A60: Ilość spotkań z Klientami: | E60: =SUM(B60:D60) -> 0 | I60: =SUM(F60:H60) -> 0 | M60: =SUM(J60:L60) -> 0 | Q60: =SUM(N60:P60) -> 0 | R60: =M60+I60+E60+Q60 -> 0
A61: Ilość aktualnie otwartych wdrożeń:
A62: Ilość wdrożeń dodanych w danym miesiącu: | E62: =SUM(B62:D62) -> 0 | I62: =SUM(F62:H62) -> 0 | M62: =SUM(J62:L62) -> 0 | Q62: =SUM(N62:P62) -> 0 | R62: =M62+I62+E62+Q62 -> 0
A63: Ilość wdrożeń zamkniętych pozytywnie w danym mcu: | E63: =SUM(B63:D63) -> 0 | I63: =SUM(F63:H63) -> 0 | M63: =SUM(J63:L63) -> 0 | Q63: =SUM(N63:P63) -> 0 | R63: =M63+I63+E63+Q63 -> 0
A64: Ilość wdrożeń zamkniętych negatywnie w danym mcu: | E64: =SUM(B64:D64) -> 0 | I64: =SUM(F64:H64) -> 0 | M64: =SUM(J64:L64) -> 0 | Q64: =SUM(N64:P64) -> 0 | R64: =M64+I64+E64+Q64 -> 0
A65: Ilość aktualnie odłożonych wdrożeń:
D66: =SUM(#REF!) -> #REF!

Sheet stanowiska

Sheet Arkusz1
B1: I | C1: II | D1: III | F1: IV | G1: V | H1: VI | I1: VII | J1: VIII | K1: IX | L1: X | M1: XI | N1: XII
A2: MARŻA | B2: 283301.84 | C2: 263419.34 | D2: 273088.12 | E2: =SUM(B2:D2) -> 819809.31
A3: OBRÓT | B3: 908036.31 | C3: 809745.81 | D3: 770639.12 | E3: =SUM(B3:D3) -> 2488421.2
E4: =E5-E2 -> 500.0012
A5: MARŻA | E5: 820309.31
A6: OBRÓT | E6: 2488421.2
A12: Kontrahent | B12: Symbol | C12: Ilość | D12: Netto | E12: Koszt | F12: Zysk | G12: Marża | H12: Netto | I12: Koszt | J12: Zysk | K12: Marża
A13: YKPOLAND | B13: EPSON C3500 INK (C) | C13: 10 | D13: 906.02 | E13: 958.6 | F13: -52.58 | G13: -5.8034 | H13: 59481.74 | I13: 47830.68 | J13: 11651.06 | K13: 19.5876 | L13: =D13*0.25 -> 226.505
A14: YKPOLAND | B14: EPSON C3500 INK (K) | C14: 6 | D14: 543.78 | E14: 572.22 | F14: -28.44 | G14: -5.23 | H14: 365.76 | I14: 386.32 | J14: -20.56 | K14: -5.6211 | L14: =D14*0.25 -> 135.945
A15: YKPOLAND | B15: EPSON C3500 INK (M) | C15: 7 | D15: 634.27 | E15: 670.04 | F15: -35.77 | G15: -5.6395 | H15: 91.44 | I15: 96.58 | J15: -5.14 | K15: -5.6211 | L15: =D15*0.25 -> 158.5675
A16: YKPOLAND | B16: EPSON C3500 INK (Y) | C16: 7 | D16: 635.51 | E16: 670.6 | F16: -35.09 | G16: -5.5215 | H16: 91.44 | I16: 96.58 | J16: -5.14 | K16: -5.6211 | L16: =D16*0.25 -> 158.8775
L17: =SUM(L13:L16) -> 679.895
