Workbook
Name OLE_LINK3: stanowiska!$A$16

Sheet TOMEK
A1: Tomasz Sypień | B1: PLAN I KW Tomasz Sypień | F1: PLAN II KW Tomasz Sypień | J1: PLAN III KW Tomasz Sypień | N1: PLAN IV KW Tomasz Sypień
A2: miesiąc | B2: styczeń | C2: luty | D2: marzec | E2: KW I | F2: kwiecień | G2: maj | H2: czerwiec | I2: KW II | J2: lipiec | K2: sierpień | L2: wrzesień | M2: KW III | N2: październik | O2: listopad | P2: grudzień | Q2: KW IV | R2: suma ROK
A4: Plan Sprzedaży Marża | B4: ='Target 2022'!C3 -> 43800 | C4: ='Target 2022'!D3 -> 48666.667 | D4: ='Target 2022'!E3 -> 53533.333 | E4: =SUM(B4:D4) -> 146000 | F4: ='Target 2022'!F3 -> 46500 | G4: ='Target 2022'!G3 -> 51666.667 | H4: ='Target 2022'!H3 -> 56833.333 | I4: =SUM(F4:H4) -> 155000 | J4: ='Target 2022'!I3 -> 45000 | K4: ='Target 2022'!J3 -> 50000 | L4: ='Target 2022'!K3 -> 55000 | M4: =SUM(J4:L4) -> 150000 | N4: ='Target 2022'!L3 -> 47500 | O4: ='Target 2022'!M3 -> 52500 | P4: ='Target 2022'!N3 -> 50000 | Q4: =SUM(N4:P4) -> 150000 | R4: =E4+I4+M4+Q4 -> 601000
A5: Sumaryczny Plan Sprzedaży Marża | B5: =B4 -> 43800 | C5: =C4+B5 -> 92466.667 | D5: =D4+C5 -> 146000 | F5: =F4 -> 46500 | G5: =G4+F5 -> 98166.667 | H5: =H4+G5 -> 155000 | J5: =J4 -> 45000 | K5: =K4+J5 -> 95000 | L5: =L4+K5 -> 150000 | N5: =N4 -> 47500 | O5: =O4+N5 -> 100000 | P5: =P4+O5 -> 150000 | R5: =R6/R4 -> 1.0799448
A6: Miesięczna realizacja Planu Sprzedaży Marża | B6: =SUMIF(I!A:A,$A$1,I!I:I) -> 44007.332 | C6: =SUMIF(II!A:A,$A$1,II!I:I) -> 55204.184 | D6: =SUMIF(III!A:A,$A$1,III!I:I) -> 62605.121 | E6: =SUM(B6:D6) -> 161816.64 | F6: =SUMIF(IV!A:A,$A$1,IV!I:I) -> 58160.781 | G6: =SUMIF(V!A:A,$A$1,V!I:I) -> 46990.832 | H6: =SUMIF(VI!A:A,$A$1,VI!I:I) -> 50618.316 | I6: =SUM(F6:H6) -> 155769.93 | J6: =SUMIF(VII!A:A,$A$1,VII!I:I) -> 45845.102 | K6: =SUMIF(VIII!A:A,$A$1,VIII!I:I) -> 51814.257 | L6: =SUMIF(IX!A:A,$A$1,IX!I:I) -> 55510.156 | M6: =SUM(J6:L6) -> 153169.51 | N6: =SUMIF(X!A:A,$A$1,X!I:I) -> 63571.418 | O6: =SUMIF(XI!A:A,$A$1,XI!I:I) -> 64521.879 | P6: =SUMIF(XII!A:A,$A$1,XII!I:I) -> 50197.457 | Q6: =SUM(N6:P6) -> 178290.75 | R6: =E6+I6+M6+Q6 -> 649046.84
A7: Sumaryczna realizacja planu sprzedaży Marża | B7: =B6 -> 44007.332 | C7: =C6+B7 -> 99211.516 | D7: =D6+C7 -> 161816.64 | F7: =F6 -> 58160.781 | G7: =G6+F7 -> 105151.61 | H7: =H6+G7 -> 155769.93 | J7: =J6 -> 45845.102 | K7: =K6+J7 -> 97659.359 | L7: =L6+K7 -> 153169.51 | M7: =SUM(E6,I6,M6)/3 -> 156918.69 | N7: =N6 -> 63571.418 | O7: =O6+N7 -> 128093.3 | P7: =P6+O7 -> 178290.75
A8: Wysokość zrealizowania Miesięcznego Planu Sprzedaży Marża | B8: =B6/B4 -> 1.0047336 | C8: =C6/C4 -> 1.1343325 | D8: =D6/D4 -> 1.1694605 | F8: =F6/F4 -> 1.2507695 | G8: =G6/G4 -> 0.90949997 | H8: =H6/H4 -> 0.89064486 | J8: =J6/J4 -> 1.01878 | K8: =K6/K4 -> 1.0362851 | L8: =L6/L4 -> 1.0092756 | N8: =N6/N4 -> 1.3383456 | O8: =O6/O4 -> 1.2289882 | P8: =P6/P4 -> 1.0039491
A9: Wysokość zrealizowania Planu Sprzedaży Marża | B9: =B7/B5 -> 1.0047336 | C9: =C7/C5 -> 1.0729436 | D9: =D7/D5 -> 1.1083331 | F9: =F7/F5 -> 1.2507695 | G9: =G7/G5 -> 1.071154 | H9: =H7/H5 -> 1.0049673 | J9: =J7/J5 -> 1.01878 | K9: =K7/K5 -> 1.0279932 | L9: =L7/L5 -> 1.0211301 | N9: =N7/N5 -> 1.3383456 | O9: =O7/O5 -> 1.280933 | P9: =P7/P5 -> 1.188605
A10: Różnica wskaźnika Marża | B10: =B7-B5 -> 207.332 | C10: =C7-C5 -> 6744.8489 | D10: =D7-D5 -> 15816.637 | F10: =F7-F5 -> 11660.781 | G10: =G7-G5 -> 6984.9466 | H10: =H7-H5 -> 769.9297 | J10: =J7-J5 -> 845.1016 | K10: =K7-K5 -> 2659.3586 | L10: =L7-L5 -> 3169.5149 | N10: =N7-N5 -> 16071.418 | O10: =O7-O5 -> 28093.297 | P10: =P7-P5 -> 28290.754
A11: Miesięczny Obrót | B11: =SUMIF(I!A:A,$A$1,I!G:G) -> 146185.86 | C11: =SUMIF(II!A:A,$A$1,II!G:G) -> 130162.39 | D11: =SUMIF(III!A:A,$A$1,III!G:G) -> 163730.41 | E11: =SUM(B11:D11) -> 440078.66 | F11: =SUMIF(IV!A:A,$A$1,IV!G:G) -> 148352.09 | G11: =SUMIF(V!A:A,$A$1,V!G:G) -> 117113.81 | H11: =SUMIF(VI!A:A,$A$1,VI!G:G) -> 138156.44 | I11: =SUM(F11:H11) -> 403622.34 | J11: =SUMIF(VII!A:A,$A$1,VII!G:G) -> 120626.37 | K11: =SUMIF(VIII!A:A,$A$1,VIII!G:G) -> 139229.2 | L11: =SUMIF(IX!A:A,$A$1,IX!G:G) -> 120934.63 | M11: =SUM(J11:L11) -> 380790.2 | N11: =SUMIF(X!A:A,$A$1,X!G:G) -> 146331.55 | O11: =SUMIF(XI!A:A,$A$1,XI!G:G) -> 199976.7 | P11: =SUMIF(XII!A:A,$A$1,XII!G:G) -> 159160.55 | Q11: =SUM(N11:P11) -> 505468.8 | R11: =E11+I11+M11+Q11 -> 1729960
A12: Sumaryczny Obrót | B12: =B11 -> 146185.86 | C12: =C11+B12 -> 276348.25 | D12: =D11+C12 -> 440078.66 | F12: =F11 -> 148352.09 | G12: =G11+F12 -> 265465.91 | H12: =H11+G12 -> 403622.34 | J12: =J11 -> 120626.37 | K12: =K11+J12 -> 259855.57 | L12: =L11+K12 -> 380790.2 | N12: =N11 -> 146331.55 | O12: =O11+N12 -> 346308.25 | P12: =P11+O12 -> 505468.8
A13: Wysokość Marży miesięcznej | B13: =B6/B11 -> 0.30103686 | C13: =C6/C11 -> 0.42411778 | D13: =D6/D11 -> 0.3823671 | F13: =F6/F11 -> 0.39204557 | G13: =G6/G11 -> 0.40124073 | H13: =H6/H11 -> 0.36638406 | J13: =J6/J11 -> 0.38005871 | K13: =K6/K11 -> 0.37215078 | L13: =L6/L11 -> 0.45900959 | N13: =N6/N11 -> 0.43443413 | O13: =O6/O11 -> 0.32264698 | P13: =P6/P11 -> 0.31538882
A14: Wysokość Marży sumarycznej | B14: =B7/B12 -> 0.30103686 | C14: =C7/C12 -> 0.35900902 | D14: =D7/D12 -> 0.36769935 | F14: =F7/F12 -> 0.39204557 | G14: =G7/G12 -> 0.39610214 | H14: =H7/H12 -> 0.3859299 | J14: =J7/J12 -> 0.38005871 | K14: =K7/K12 -> 0.37582169 | L14: =L7/L12 -> 0.40224122 | N14: =N7/N12 -> 0.43443413 | O14: =O7/O12 -> 0.36988232 | P14: =P7/P12 -> 0.35272356
A16: PREMIE
A17: Wynagrodzenie zasadnicze | B17: 4500 | C17: 4500 | D17: 4500 | F17: 5300 | G17: 5300 | H17: 5300 | J17: 5300 | K17: 5300 | L17: 5300 | N17: 5300 | O17: 5300 | P17: 5300
A18: Wskaźnik Plan Sprzedaży Marża | B18: =B5 -> 43800 | C18: =C5 -> 92466.667 | D18: =D5 -> 146000 | F18: =F5 -> 46500 | G18: =G5 -> 98166.667 | H18: =H5 -> 155000 | J18: =J5 -> 45000 | K18: =K5 -> 95000 | L18: =L5 -> 150000 | N18: =N5 -> 47500 | O18: =O5 -> 100000 | P18: =P5 -> 150000
A19: Realizacja Wskaźnika Planu Sprzedaży Marża | B19: =B7 -> 44007.332 | C19: =C7 -> 99211.516 | D19: =D7 -> 161816.64 | F19: =F7 -> 58160.781 | G19: =G7 -> 105151.61 | H19: =H7 -> 155769.93 | J19: =J7 -> 45845.102 | K19: =K7 -> 97659.359 | L19: =L7 -> 153169.51 | N19: =N7 -> 63571.418 | O19: =O7 -> 128093.3 | P19: =P7 -> 178290.75
A20: Poziom realizacji Wskaźnika Sprzedaży Marża | B20: =B19/B18 -> 1.0047336 | C20: =C19/C18 -> 1.0729436 | D20: =D19/D18 -> 1.1083331 | F20: =F19/F18 -> 1.2507695 | G20: =G19/G18 -> 1.071154 | H20: =H19/H18 -> 1.0049673 | J20: =J19/J18 -> 1.01878 | K20: =K19/K18 -> 1.0279932 | L20: =L19/L18 -> 1.0211301 | N20: =N19/N18 -> 1.3383456 | O20: =O19/O18 -> 1.280933 | P20: =P19/P18 -> 1.188605
A21: Wysokość premii Wskaźnik Sprzedaży Marża | B21: =B17*0.35 -> 1575 | C21: =C17*0.35 -> 1575 | D21: =D17*0.35 -> 1575 | F21: =F17*0.35 -> 1855 | G21: =G17*0.35 -> 1855 | H21: =H17*0.35 -> 1855 | J21: =J17*0.35 -> 1855 | K21: =K17*0.35 -> 1855 | L21: =L17*0.35 -> 1855 | N21: =N17*0.35 -> 1855 | O21: =O17*0.35 -> 1855 | P21: =P17*0.35 -> 1855
A22: Mnożnik premii miesięcznej Wskaźnika Sprzedaży Marża | B22: =IF(B20<80%,0,IF(B20<90%,0.5,IF(B20<95%,0.75,1))) -> 1 | C22: =IF(C20<80%,0,IF(C20<90%,0.5,IF(C20<95%,0.75,1))) -> 1 | D22: =IF(D20<80%,0,IF(D20<90%,0.5,IF(D20<95%,0.75,1))) -> 1 | F22: =IF(F20<80%,0,IF(F20<90%,0.5,IF(F20<95%,0.75,1))) -> 1 | G22: =IF(G20<80%,0,IF(G20<90%,0.5,IF(G20<95%,0.75,1))) -> 1 | H22: =IF(H20<80%,0,IF(H20<90%,0.5,IF(H20<95%,0.75,1))) -> 1 | J22: =IF(J20<80%,0,IF(J20<90%,0.5,IF(J20<95%,0.75,1))) -> 1 | K22: =IF(K20<80%,0,IF(K20<90%,0.5,IF(K20<95%,0.75,1))) -> 1 | L22: =IF(L20<80%,0,IF(L20<90%,0.5,IF(L20<95%,0.75,1))) -> 1 | N22: =IF(N20<80%,0,IF(N20<90%,0.5,IF(N20<95%,0.75,1))) -> 1 | O22: =IF(O20<80%,0,IF(O20<90%,0.5,IF(O20<95%,0.75,1))) -> 1 | P22: =IF(P20<80%,0,IF(P20<90%,0.5,IF(P20<95%,0.75,1))) -> 1
A23: Premia miesięczna za Wskaźnik Sprzedaży Marża | B23: =B22*B21 -> 1575 | C23: =C22*C21 -> 1575 | D23: =D22*D21 -> 1575 | F23: =F22*F21 -> 1855 | G23: =G22*G21 -> 1855 | H23: =H22*H21 -> 1855 | J23: =J22*J21 -> 1855 | K23: =K22*K21 -> 1855 | L23: =L22*L21 -> 1855 | N23: =N22*N21 -> 1855 | O23: =O22*O21 -> 1855 | P23: =P22*P21 -> 1855
A24: Wskaźnik CRM
A25: Wysokość premii CRM | B25: =B17*0.05 -> 225 | C25: =C17*0.05 -> 225 | D25: =D17*0.05 -> 225 | F25: =F17*0.05 -> 265 | G25: =G17*0.05 -> 265 | H25: =H17*0.05 -> 265 | J25: =J17*0.05 -> 265 | K25: =K17*0.05 -> 265 | L25: =L17*0.05 -> 265 | N25: =N17*0.05 -> 265 | O25: =O17*0.05 -> 265 | P25: =P17*0.05 -> 265
A26: Mnożnik premii Wskaźnik CRM | B26: 1 | C26: 1 | D26: 1 | F26: 1 | G26: 1 | H26: 1 | J26: 1 | K26: 1 | L26: 1 | N26: 1 | O26: 1 | P26: 1
A27: Premia miesięczna za Wskaźnik CRM | B27: =B26*B25 -> 225 | C27: =C26*C25 -> 225 | D27: =D26*D25 -> 225 | F27: =F26*F25 -> 265 | G27: =G26*G25 -> 265 | H27: =H26*H25 -> 265 | J27: =J26*J25 -> 265 | K27: =K26*K25 -> 265 | L27: =L26*L25 -> 265 | N27: =N26*N25 -> 265 | O27: =O26*O25 -> 265 | P27: =P26*P25 -> 265
A28: Suma Premii miesięcznych | B28: =B23+B27 -> 1800 | C28: =C23+C27 -> 1800 | D28: =D23+D27 -> 1800 | F28: =F23+F27 -> 2120 | G28: =G23+G27 -> 2120 | H28: =H23+H27 -> 2120 | J28: =J23+J27 -> 2120 | K28: =K23+K27 -> 2120 | L28: =L23+L27 -> 2120 | N28: =N23+N27 -> 2120 | O28: =O23+O27 -> 2120 | P28: =P23+P27 -> 2120
A29: Wskaźnik Premia Kwartalna Marża | B29: =D5 -> 146000 | F29: =H5 -> 155000 | J29: =L5 -> 150000 | N29: =P5 -> 150000
A30: Realizacja Wskaźnika Premia Kwartalna | B30: =D7 -> 161816.64 | F30: =H7 -> 155769.93 | J30: =L7 -> 153169.51 | N30: =P7 -> 178290.75
A31: Poziom realizacji Wskaźnika Premia Kwartalna | B31: =B30/B29 -> 1.1083331 | F31: =F30/F29 -> 1.0049673 | J31: =J30/J29 -> 1.0211301 | N31: =N30/N29 -> 1.188605
A32: Wysokość premii kwartalnej. | B32: =D17 -> 4500 | F32: =H17 -> 5300 | J32: =L17 -> 5300 | N32: =P17 -> 5300
A33: Mnożnik premii kwartalnej | B33: =IF(B31<100%,0,IF(B31<105%,0.5,IF(B31<110%,0.7,1))) -> 1 | F33: =IF(F31<100%,0,IF(F31<105%,0.5,IF(F31<110%,0.7,1))) -> 0.5 | J33: =IF(J31<100%,0,IF(J31<105%,0.5,IF(J31<110%,0.7,1))) -> 0.5 | N33: =IF(N31<100%,0,IF(N31<105%,0.5,IF(N31<110%,0.7,1))) -> 1
A34: Premia kwartalna | B34: =B33*B32 -> 4500 | F34: =F33*F32 -> 2650 | J34: =J33*J32 -> 2650 | N34: =N33*N32 -> 5300
A36: Raport za miesiąc: | B36: styczeń | C36: luty | D36: marzec | E36: Suma | F36: kwiecień | G36: maj | H36: czerwiec | I36: Suma | J36: lipiec | K36: sierpień | L36: wrzesień | M36: Suma | N36: paździer. | O36: listopad | P36: grudzień | Q36: Suma | R36: Suma
A37: Ilość nowych Klientów: | B37: 1 | C37: 4 | D37: 3 | E37: =SUM(B37:D37) -> 8 | F37: 1 | G37: 1 | H37: 1 | I37: =SUM(F37:H37) -> 3 | J37: 3 | K37: 2 | L37: 2 | M37: =SUM(J37:L37) -> 7 | N37: 4 | O37: 2 | P37: 0 | Q37: =SUM(N37:P37) -> 6 | R37: =I37+M37+Q37+E37 -> 24
A38: Ilość Podmiotów na etapie współpracy Klient: | B38: 414 | C38: 420 | D38: 428 | F38: 435 | G38: 440 | H38: 445 | J38: 452 | K38: 457 | L38: 461 | N38: 464 | O38: 470 | P38: 475
A39: Ilość Podmiotów na etapie współpracy Handlowy: | B39: 5 | C39: 5 | D39: 2 | F39: 7 | G39: 4 | H39: 3 | J39: 2 | K39: 2 | L39: 3 | N39: 3 | O39: 3 | P39: 4
A40: Ilość Podmiotów na etapie współpracy Klient nieaktywny: | B40: 796 | C40: 796 | D40: 794 | F40: 904 | G40: 901 | H40: 898 | J40: 893 | K40: 889 | L40: 887 | N40: 886 | O40: 882 | P40: 880
A41: Ilość Podmiotów pod opieką: | B41: =SUM(B38:B40) -> 1215 | C41: =SUM(C38:C40) -> 1221 | D41: =SUM(D38:D40) -> 1224 | F41: =SUM(F38:F40) -> 1346 | G41: =SUM(G38:G40) -> 1345 | H41: =SUM(H38:H40) -> 1346 | J41: 1347 | K41: 1348 | L41: =SUM(L38:L40) -> 1351 | N41: =SUM(N38:N40) -> 1353 | O41: =SUM(O38:O40) -> 1355 | P41: =SUM(P38:P40) -> 1359
A42: Ilość sprzedanych drukarek: | B42: 4 | C42: 4 | D42: 2 | E42: =SUM(B42:D42) -> 10 | F42: 1 | G42: 2 | H42: 5 | I42: =SUM(F42:H42) -> 8 | J42: 2 | K42: 3 | L42: 2 | M42: =SUM(J42:L42) -> 7 | N42: 3 | O42: 2 | P42: 1 | Q42: =SUM(N42:P42) -> 6 | R42: =I42+M42+Q42+E42 -> 31
A43: Ilość ofert dodanych w danym miesiącu: | B43: 19 | C43: 37 | D43: 29 | E43: =SUM(B43:D43) -> 85 | F43: 17 | G43: 18 | H43: 17 | I43: =SUM(F43:H43) -> 52 | J43: 21 | K43: 22 | L43: 17 | M43: =SUM(J43:L43) -> 60 | N43: 16 | O43: 13 | P43: 15 | Q43: =SUM(N43:P43) -> 44 | R43: =I43+M43+Q43+E43 -> 241
...

Sheet RCKIK
A1: Mirosław Zagaja
A2: miesiąc | B2: styczeń | C2: luty | D2: marzec | E2: KW I | F2: kwiecień | G2: maj | H2: czerwiec | J2: lipiec | K2: sierpień | L2: wrzesień | N2: październik | O2: listopad | P2: grudzień | R2: suma
A4: Plan Sprzedaży Marża | B4: ='Target 2022'!C4 -> 26400 | C4: ='Target 2022'!D4 -> 29333.333 | D4: ='Target 2022'!E4 -> 32266.667 | E4: =SUM(B4:D4) -> 88000 | F4: ='Target 2022'!F4 -> 27600 | G4: ='Target 2022'!G4 -> 30666.667 | H4: ='Target 2022'!H4 -> 33733.333 | I4: =SUM(F4:H4) -> 92000 | J4: ='Target 2022'!I4 -> 22500 | K4: ='Target 2022'!J4 -> 25000 | L4: ='Target 2022'!K4 -> 27500 | M4: =SUM(J4:L4) -> 75000 | N4: ='Target 2022'!L4 -> 28500 | O4: ='Target 2022'!M4 -> 31500 | P4: ='Target 2022'!N4 -> 30000 | Q4: =SUM(N4:P4) -> 90000 | R4: =B4+C4+D4+F4+G4+H4+J4+K4+L4+N4+O4+P4 -> 345000
A5: Sumaryczny Plan Sprzedaży Marża | B5: =B4 -> 26400 | C5: =C4+B5 -> 55733.333 | D5: =D4+C5 -> 88000 | F5: =F4 -> 27600 | G5: =G4+F5 -> 58266.667 | H5: =H4+G5 -> 92000 | J5: =J4 -> 22500 | K5: =K4+J5 -> 47500 | L5: =L4+K5 -> 75000 | N5: =N4 -> 28500 | O5: =O4+N5 -> 60000 | P5: =P4+O5 -> 90000 | R5: =R6/R4 -> 0.97867276
A6: Miesięczna realizacja Planu Sprzedaży Marża | B6: =SUMIF(I!A:A,$A$1,I!I:I) -> 28537.287 | C6: =SUMIF(II!A:A,$A$1,II!I:I) -> 35499.852 | D6: =SUMIF(III!A:A,$A$1,III!I:I) -> 27712.318 | E6: =SUM(B6:D6) -> 91749.457 | F6: =SUMIF(IV!A:A,$A$1,IV!I:I) -> 13825.151 | G6: =SUMIF(V!A:A,$A$1,V!I:I) -> 19608.824 | H6: =SUMIF(VI!A:A,$A$1,VI!I:I) -> 24295.291 | I6: =SUM(F6:H6) -> 57729.267 | J6: =SUMIF(VII!A:A,$A$1,VII!I:I) -> 27197.637 | K6: =SUMIF(VIII!A:A,$A$1,VIII!I:I) -> 31636.938 | L6: =SUMIF(IX!A:A,$A$1,IX!I:I) -> 35692.301 | M6: =SUM(J6:L6) -> 94526.875 | N6: =SUMIF(X!A:A,$A$1,X!I:I) -> 32853.273 | O6: =SUMIF(XI!A:A,$A$1,XI!I:I) -> 25592.106 | P6: =SUMIF(XII!A:A,$A$1,XII!I:I) -> 35191.125 | Q6: =SUM(N6:P6) -> 93636.504 | R6: =B6+C6+D6+F6+G6+H6+J6+K6+L6+N6+O6+P6 -> 337642.1
A7: Sumaryczna realizacja planu sprzedaży Marża | B7: =B6 -> 28537.287 | C7: =C6+B7 -> 64037.139 | D7: =D6+C7 -> 91749.457 | F7: =F6 -> 13825.151 | G7: =G6+F7 -> 33433.976 | H7: =H6+G7 -> 57729.267 | J7: =J6 -> 27197.637 | K7: =K6+J7 -> 58834.574 | L7: =L6+K7 -> 94526.875 | M7: =SUM(E6,I6,M6)/3 -> 81335.2 | N7: =N6 -> 32853.273 | O7: =O6+N7 -> 58445.379 | P7: =P6+O7 -> 93636.504
A8: Wysokość zrealizowania Miesięcznego Planu Sprzedaży Marża | B8: =B6/B4 -> 1.0809578 | C8: =C6/C4 -> 1.2102222 | D8: =D6/D4 -> 0.85885284 | F8: =F6/F4 -> 0.50091128 | G8: =G6/G4 -> 0.63941818 | H8: =H6/H4 -> 0.72021614 | J8: =J6/J4 -> 1.2087839 | K8: =K6/K4 -> 1.2654775 | L8: =L6/L4 -> 1.2979018 | N8: =N6/N4 -> 1.1527464 | O8: =O6/O4 -> 0.81244779 | P8: =P6/P4 -> 1.1730375
A9: Wysokość zrealizowania Planu Sprzedaży Marża | B9: =B7/B5 -> 1.0809578 | C9: =C7/C5 -> 1.1489917 | D9: =D7/D5 -> 1.0426075 | F9: =F7/F5 -> 0.50091128 | G9: =G7/G5 -> 0.57380965 | H9: =H7/H5 -> 0.62749203 | J9: =J7/J5 -> 1.2087839 | K9: =K7/K5 -> 1.2386226 | L9: =L7/L5 -> 1.2603583 | N9: =N7/N5 -> 1.1527464 | O9: =O7/O5 -> 0.97408965 | P9: =P7/P5 -> 1.0404056
A10: Różnica wskaźnika Marża | B10: =B7-B5 -> 2137.2871 | C10: =C7-C5 -> 8303.8054 | D10: =D7-D5 -> 3749.4571 | F10: =F7-F5 -> -13774.849 | G10: =G7-G5 -> -24832.691 | H10: =H7-H5 -> -34270.733 | J10: =J7-J5 -> 4697.6367 | K10: =K7-K5 -> 11334.574 | L10: =L7-L5 -> 19526.875 | N10: =N7-N5 -> 4353.2734 | O10: =O7-O5 -> -1554.6211 | P10: =P7-P5 -> 3636.5039
A11: Miesięczny Obrót | B11: =SUMIF(I!A:A,$A$1,I!G:G) -> 82909.094 | C11: =SUMIF(II!A:A,$A$1,II!G:G) -> 100587.18 | D11: =SUMIF(III!A:A,$A$1,III!G:G) -> 92208.648 | E11: =SUM(B11:D11) -> 275704.92 | F11: =SUMIF(IV!A:A,$A$1,IV!G:G) -> 60653.57 | G11: =SUMIF(V!A:A,$A$1,V!G:G) -> 78057.906 | H11: =SUMIF(VI!A:A,$A$1,VI!G:G) -> 119267.7 | I11: =SUM(F11:H11) -> 257979.18 | J11: =SUMIF(VII!A:A,$A$1,VII!G:G) -> 90169.391 | K11: =SUMIF(VIII!A:A,$A$1,VIII!G:G) -> 99210.758 | L11: =SUMIF(IX!A:A,$A$1,IX!G:G) -> 123795.28 | M11: =SUM(J11:L11) -> 313175.43 | N11: =SUMIF(X!A:A,$A$1,X!G:G) -> 103041.69 | O11: =SUMIF(XI!A:A,$A$1,XI!G:G) -> 75838.211 | P11: =SUMIF(XII!A:A,$A$1,XII!G:G) -> 108531.78 | R11: =SUM(B11:E11) -> 551409.84
A12: Sumaryczny Obrót | B12: =B11 -> 82909.094 | C12: =C11+B12 -> 183496.27 | D12: =D11+C12 -> 275704.92 | F12: =F11 -> 60653.57 | G12: =G11+F12 -> 138711.48 | H12: =H11+G12 -> 257979.18 | J12: =J11 -> 90169.391 | K12: =K11+J12 -> 189380.15 | L12: =L11+K12 -> 313175.43 | N12: =N11 -> 103041.69 | O12: =O11+N12 -> 178879.9 | P12: =P11+O12 -> 287411.68
A13: Wysokość Marży miesięcznej | B13: =B6/B11 -> 0.34419972 | C13: =C6/C11 -> 0.3529262 | D13: =D6/D11 -> 0.30053925 | F13: =F6/F11 -> 0.22793632 | G13: =G6/G11 -> 0.25120869 | H13: =H6/H11 -> 0.20370386 | J13: =J6/J11 -> 0.30162826 | K13: =K6/K11 -> 0.31888616 | L13: =L6/L11 -> 0.28831713 | N13: =N6/N11 -> 0.31883478 | O13: =O6/O11 -> 0.33745661 | P13: =P6/P11 -> 0.32424719
A14: Wysokość Marży sumarycznej | B14: =B7/B12 -> 0.34419972 | C14: =C7/C12 -> 0.34898332 | D14: =D7/D12 -> 0.33278135 | F14: =F7/F12 -> 0.22793632 | G14: =G7/G12 -> 0.24103251 | H14: =H7/H12 -> 0.22377491 | J14: =J7/J12 -> 0.30162826 | K14: =K7/K12 -> 0.31066917 | L14: =L7/L12 -> 0.30183362 | N14: =N7/N12 -> 0.31883478 | O14: =O7/O12 -> 0.32672972 | P14: =P7/P12 -> 0.32579227
A16: Raport za miesiąc: | B16: styczeń | C16: luty | D16: marzec | E16: Suma | F16: kwiecień | G16: maj | H16: czerwiec | I16: Suma | J16: lipiec | K16: sierpień | L16: wrzesień | M16: Suma | N16: paździer. | O16: listopad | P16: grudzień | Q16: Suma | R16: Suma
A17: Ilość nowych Klientów: | B17: 0 | C17: 0 | D17: 0 | E17: =SUM(B17:D17) -> 0 | F17: 0 | G17: 0 | I17: =SUM(F17:H17) -> 0 | M17: =SUM(J17:L17) -> 0 | Q17: =SUM(N17:P17) -> 0 | R17: =I17+M17+Q17+E17 -> 0
A18: Ilość Podmiotów na etapie współpracy Klient: | B18: 26 | C18: 26 | D18: 26 | F18: 26 | G18: 22
A19: Ilość Podmiotów na etapie współpracy Handlowy: | B19: 0 | C19: 0 | D19: 0 | F19: 0 | G19: 0
A20: Ilość Podmiotów na etapie współpracy Klient nieaktywny: | B20: 0 | C20: 0 | D20: 0 | F20: 0 | G20: 0
A21: Ilość Podmiotów pod opieką: | B21: =SUM(B17:B20) -> 26 | C21: =SUM(C17:C20) -> 26 | D21: =SUM(D17:D20) -> 26 | F21: =SUM(F17:F20) -> 26 | G21: =SUM(G17:G20) -> 22
A22: Ilość sprzedanych drukarek: | B22: 1 | C22: 8 | D22: 0 | E22: =SUM(B22:D22) -> 9 | F22: 0 | G22: 0 | I22: =SUM(F22:H22) -> 0 | M22: =SUM(J22:L22) -> 0 | Q22: =SUM(N22:P22) -> 0 | R22: =I22+M22+Q22+E22 -> 9
A23: Ilość ofert dodanych w danym miesiącu: | B23: 10 | C23: 8 | D23: 4 | E23: =SUM(B23:D23) -> 22 | F23: 5 | G23: 8 | I23: =SUM(F23:H23) -> 13 | M23: =SUM(J23:L23) -> 0 | Q23: =SUM(N23:P23) -> 0 | R23: =I23+M23+Q23+E23 -> 35
A24: Ilość ofert oczekujących na decyzję kontrahenta: | B24: 8 | C24: 4 | D24: 2 | F24: 1 | G24: 1
A25: Ilość zaakceptowanych ofert przez kontrahenta: | B25: 2 | C25: 7 | D25: 5 | E25: =SUM(B25:D25) -> 14 | F25: 5 | G25: 8 | I25: =SUM(F25:H25) -> 13 | M25: =SUM(J25:L25) -> 0 | Q25: =SUM(N25:P25) -> 0 | R25: =I25+M25+Q25+E25 -> 27
A26: Ilość odrzuconych ofert przez kontrahenta: | B26: 0 | C26: 1 | D26: 0 | E26: =SUM(B26:D26) -> 1 | F26: 0 | G26: 3 | I26: =SUM(F26:H26) -> 3 | M26: =SUM(J26:L26) -> 0 | Q26: =SUM(N26:P26) -> 0 | R26: =I26+M26+Q26+E26 -> 4
A27: Ilość przekazanych podmiotów: | B27: 0 | C27: 0 | D27: 0 | E27: =SUM(B27:D27) -> 0 | F27: 0 | G27: 0 | I27: =SUM(F27:H27) -> 0 | M27: =SUM(J27:L27) -> 0 | Q27: =SUM(N27:P27) -> 0 | R27: =I27+M27+Q27+E27 -> 0
A28: Ilość odebranych podmiotów (zmiana prowadzącego): | B28: 0 | C28: 0 | D28: 0 | E28: =SUM(B28:D28) -> 0 | F28: 0 | G28: 0 | I28: =SUM(F28:H28) -> 0 | M28: =SUM(J28:L28) -> 0 | Q28: =SUM(N28:P28) -> 0 | R28: =I28+M28+Q28+E28 -> 0
A29: Ilość spotkań z Klientami: | B29: 0 | C29: 0 | D29: 0 | E29: =SUM(B29:D29) -> 0 | F29: 0 | G29: 0 | I29: =SUM(F29:H29) -> 0 | M29: =SUM(J29:L29) -> 0 | Q29: =SUM(N29:P29) -> 0 | R29: =I29+M29+Q29+E29 -> 0
A30: Ilość aktualnie otwartych wdrożeń: | B30: 6 | C30: 6 | D30: 6 | F30: 0 | G30: 0
A31: Ilość wdrożeń dodanych w danym miesiącu: | B31: 0 | C31: 0 | D31: 0 | E31: =SUM(B31:D31) -> 0 | F31: 0 | G31: 0 | I31: =SUM(F31:H31) -> 0 | M31: =SUM(J31:L31) -> 0 | Q31: =SUM(N31:P31) -> 0 | R31: =I31+M31+Q31+E31 -> 0
A32: Ilość wdrożeń zamkniętych pozytywnie w danym mcu: | B32: 0 | C32: 0 | D32: 0 | E32: =SUM(B32:D32) -> 0 | F32: 0 | G32: 0 | I32: =SUM(F32:H32) -> 0 | M32: =SUM(J32:L32) -> 0 | Q32: =SUM(N32:P32) -> 0 | R32: =I32+M32+Q32+E32 -> 0
A33: Ilość wdrożeń zamkniętych negatywnie w danym mcu: | B33: 0 | C33: 0 | D33: 0 | E33: =SUM(B33:D33) -> 0 | F33: 1 | G33: 0 | I33: =SUM(F33:H33) -> 1 | M33: =SUM(J33:L33) -> 0 | Q33: =SUM(N33:P33) -> 0 | R33: =I33+M33+Q33+E33 -> 1
A34: Ilość aktualnie odłożonych wdrożeń: | B34: 0 | C34: 0 | D34: 0 | F34: 0 | G34: 0

Sheet BARTEK
A1: Bartłomiej Biskupski | B1: PLAN I KW BARTŁOMIEJ BISKUPSKI | F1: PLAN II KW BARTŁOMIEJ BISKUPSKI | J1: PLAN III KW BARTŁOMIEJ BISKUPSKI | N1: PLAN IV KW BARTŁOMIEJ BISKUPSKI
A2: miesiąc | B2: styczeń | C2: luty | D2: marzec | E2: KW I | F2: kwiecień | G2: maj | H2: czerwiec | I2: KW II | J2: lipiec | K2: sierpień | L2: wrzesień | M2: KW III | N2: październik | O2: listopad | P2: grudzień | Q2: KW IV | R2: suma ROK
A4: Plan Sprzedaży Marża | B4: ='Target 2022'!C5 -> 58350 | C4: ='Target 2022'!D5 -> 64833.333 | D4: ='Target 2022'!E5 -> 71316.667 | E4: =SUM(B4:D4) -> 194500 | F4: ='Target 2022'!F5 -> 62100 | G4: ='Target 2022'!G5 -> 69000 | H4: ='Target 2022'!H5 -> 75900 | I4: =SUM(F4:H4) -> 207000 | J4: ='Target 2022'!I5 -> 66000 | K4: ='Target 2022'!J5 -> 73333.333 | L4: ='Target 2022'!K5 -> 80666.667 | M4: =SUM(J4:L4) -> 220000 | N4: ='Target 2022'!L5 -> 68716.667 | O4: ='Target 2022'!M5 -> 75950 | P4: ='Target 2022'!N5-32800 -> 39533.333 | Q4: =SUM(N4:P4) -> 184200 | R4: =E4+I4+M4+Q4 -> 805700
A5: Sumaryczny Plan Sprzedaży Marża | B5: =B4 -> 58350 | C5: =C4+B5 -> 123183.33 | D5: =D4+C5 -> 194500 | F5: =F4 -> 62100 | G5: =G4+F5 -> 131100 | H5: =H4+G5 -> 207000 | J5: =J4 -> 66000 | K5: =K4+J5 -> 139333.33 | L5: =L4+K5 -> 220000 | N5: =N4 -> 68716.667 | O5: =O4+N5 -> 144666.67 | P5: =P4+O5 -> 184200 | R5: =R6/R4 -> 1.0944783
A6: Miesięczna realizacja Planu Sprzedaży Marża | B6: =SUMIF(I!A:A,$A$1,I!I:I) -> 63075.902 | C6: =SUMIF(II!A:A,$A$1,II!I:I) -> 78391.422 | D6: =SUMIF(III!A:A,$A$1,III!I:I) -> 84529.205 | E6: =SUM(B6:D6) -> 225996.53 | F6: =SUMIF(IV!A:A,$A$1,IV!I:I) -> 91732.251 | G6: =SUMIF(V!A:A,$A$1,V!I:I) -> 71066.18 | H6: =SUMIF(VI!A:A,$A$1,VI!I:I) -> 70274.394 | I6: =SUM(F6:H6) -> 233072.82 | J6: =SUMIF(VII!A:A,$A$1,VII!I:I) -> 73531.049 | K6: =SUMIF(VIII!A:A,$A$1,VIII!I:I) -> 80162.843 | L6: =SUMIF(IX!A:A,$A$1,IX!I:I) -> 94035.93 | M6: =SUM(J6:L6) -> 247729.82 | N6: =SUMIF(X!A:A,$A$1,X!I:I) -> 70336.038 | O6: =SUMIF(XI!A:A,$A$1,XI!I:I) -> 68167.509 | P6: =SUMIF(XII!A:A,$A$1,XII!I:I) -> 36518.473 | Q6: =SUM(N6:P6) -> 175022.02 | R6: =E6+I6+M6+Q6 -> 881821.2
A7: Sumaryczna realizacja planu sprzedaży Marża | B7: =B6 -> 63075.902 | C7: =C6+B7 -> 141467.32 | D7: =D6+C7 -> 225996.53 | F7: =F6 -> 91732.251 | G7: =G6+F7 -> 162798.43 | H7: =H6+G7 -> 233072.82 | J7: =J6 -> 73531.049 | K7: =K6+J7 -> 153693.89 | L7: =L6+K7 -> 247729.82 | M7: =SUM(E6,I6,M6)/3 -> 235599.73 | N7: =N6 -> 70336.038 | O7: =O6+N7 -> 138503.55 | P7: =P6+O7 -> 175022.02
A8: Wysokość zrealizowania Miesięcznego Planu Sprzedaży Marża | B8: =B6/B4 -> 1.0809923 | C8: =C6/C4 -> 1.2091222 | D8: =D6/D4 -> 1.1852658 | F8: =F6/F4 -> 1.4771699 | G8: =G6/G4 -> 1.0299446 | H8: =H6/H4 -> 0.92588135 | J8: =J6/J4 -> 1.1141068 | K8: =K6/K4 -> 1.0931297 | L8: =L6/L4 -> 1.1657347 | N8: =N6/N4 -> 1.0235659 | O8: =O6/O4 -> 0.89753139 | P8: =P6/P4 -> 0.92373877 | Q8: =Q4*1.05 -> 193410
A9: Wysokość zrealizowania Planu Sprzedaży Marża | B9: =B7/B5 -> 1.0809923 | C9: =C7/C5 -> 1.1484291 | D9: =D7/D5 -> 1.1619359 | F9: =F7/F5 -> 1.4771699 | G9: =G7/G5 -> 1.2417882 | H9: =H7/H5 -> 1.1259557 | J9: =J7/J5 -> 1.1141068 | K9: =K7/K5 -> 1.1030662 | L9: =L7/L5 -> 1.1260446 | N9: =N7/N5 -> 1.0235659 | O9: =O7/O5 -> 0.95739779 | P9: =P7/P5 -> 0.95017383 | Q9: =Q8-Q6 -> 18387.98
A10: Różnica wskaźnika Marża | B10: =B7-B5 -> 4725.9023 | C10: =C7-C5 -> 18283.991 | D10: =D7-D5 -> 31496.529 | F10: =F7-F5 -> 29632.251 | G10: =G7-G5 -> 31698.43 | H10: =H7-H5 -> 26072.824 | J10: =J7-J5 -> 7531.0494 | K10: =K7-K5 -> 14360.559 | L10: =L7-L5 -> 27729.823 | N10: =N7-N5 -> 1619.3714 | O10: =O7-O5 -> -6163.1195 | P10: =P7-P5 -> -9177.9801
A11: Miesięczny Obrót | B11: =SUMIF(I!A:A,$A$1,I!G:G) -> 150744.8 | C11: =SUMIF(II!A:A,$A$1,II!G:G) -> 202700.73 | D11: =SUMIF(III!A:A,$A$1,III!G:G) -> 205989.8 | E11: =SUM(B11:D11) -> 559435.33 | F11: =SUMIF(IV!A:A,$A$1,IV!G:G) -> 328642.91 | G11: =SUMIF(V!A:A,$A$1,V!G:G) -> 239261.81 | H11: =SUMIF(VI!A:A,$A$1,VI!G:G) -> 187775.8 | I11: =SUM(F11:H11) -> 755680.52 | J11: =SUMIF(VII!A:A,$A$1,VII!G:G) -> 185075.19 | K11: =SUMIF(VIII!A:A,$A$1,VIII!G:G) -> 182030.12 | L11: =SUMIF(IX!A:A,$A$1,IX!G:G) -> 216599.39 | M11: =SUM(J11:L11) -> 583704.7 | N11: =SUMIF(X!A:A,$A$1,X!G:G) -> 169738.52 | O11: =SUMIF(XI!A:A,$A$1,XI!G:G) -> 206258.27 | P11: =SUMIF(XII!A:A,$A$1,XII!G:G) -> 118893.73 | Q11: =SUM(N11:P11) -> 494890.51 | R11: =E11+I11+M11+Q11 -> 2393711.1
A12: Sumaryczny Obrót | B12: =B11 -> 150744.8 | C12: =C11+B12 -> 353445.53 | D12: =D11+C12 -> 559435.33 | F12: =F11 -> 328642.91 | G12: =G11+F12 -> 567904.72 | H12: =H11+G12 -> 755680.52 | J12: =J11 -> 185075.19 | K12: =K11+J12 -> 367105.31 | L12: =L11+K12 -> 583704.7 | N12: =N11 -> 169738.52 | O12: =O11+N12 -> 375996.78 | P12: =P11+O12 -> 494890.51
A13: Wysokość Marży miesięcznej | B13: =B6/B11 -> 0.41842839 | C13: =C6/C11 -> 0.38673477 | D13: =D6/D11 -> 0.41035627 | F13: =F6/F11 -> 0.27912439 | G13: =G6/G11 -> 0.29702266 | H13: =H6/H11 -> 0.37424628 | J13: =J6/J11 -> 0.39730366 | K13: =K6/K11 -> 0.44038229 | L13: =L6/L11 -> 0.43414679 | N13: =N6/N11 -> 0.41437877 | O13: =O6/O11 -> 0.33049589 | P13: =P6/P11 -> 0.30715223
A14: Wysokość Marży sumarycznej | B14: =B7/B12 -> 0.41842839 | C14: =C7/C12 -> 0.40025212 | D14: =D7/D12 -> 0.40397257 | F14: =F7/F12 -> 0.27912439 | G14: =G7/G12 -> 0.28666504 | H14: =H7/H12 -> 0.30842773 | J14: =J7/J12 -> 0.39730366 | K14: =K7/K12 -> 0.41866431 | L14: =L7/L12 -> 0.4244095 | N14: =N7/N12 -> 0.41437877 | O14: =O7/O12 -> 0.36836365 | P14: =P7/P12 -> 0.35365807
B16: PREMIE
A17: Wynagrodzenie zasadnicze | B17: 5000 | C17: 5000 | D17: 5000 | F17: 5700 | G17: 5700 | H17: 5700 | J17: 5700 | K17: 5700 | L17: 5700 | N17: 5700 | O17: 5700 | P17: 5700
A18: Wskaźnik Plan Sprzedaży Marża | B18: =B5 -> 58350 | C18: =C5 -> 123183.33 | D18: =D5 -> 194500 | F18: =F5 -> 62100 | G18: =G5 -> 131100 | H18: =H5 -> 207000 | J18: =J5 -> 66000 | K18: =K5 -> 139333.33 | L18: =L5 -> 220000 | N18: =N5 -> 68716.667 | O18: =O5 -> 144666.67 | P18: =P5 -> 184200
A19: Realizacja Wskaźnika Planu Sprzedaży Marża | B19: =B7 -> 63075.902 | C19: =C7 -> 141467.32 | D19: =D7 -> 225996.53 | F19: =F7 -> 91732.251 | G19: =G7 -> 162798.43 | H19: =H7 -> 233072.82 | J19: =J7 -> 73531.049 | K19: =K7 -> 153693.89 | L19: =L7 -> 247729.82 | N19: =N7 -> 70336.038 | O19: =O7 -> 138503.55 | P19: =P7 -> 175022.02
A20: Poziom realizacji Wskaźnika Sprzedaży Marża | B20: =B19/B18 -> 1.0809923 | C20: =C19/C18 -> 1.1484291 | D20: =D19/D18 -> 1.1619359 | F20: =F19/F18 -> 1.4771699 | G20: =G19/G18 -> 1.2417882 | H20: =H19/H18 -> 1.1259557 | J20: =J19/J18 -> 1.1141068 | K20: =K19/K18 -> 1.1030662 | L20: =L19/L18 -> 1.1260446 | N20: =N19/N18 -> 1.0235659 | O20: =O19/O18 -> 0.95739779 | P20: =P19/P18 -> 0.95017383
A21: Wysokość premii Wskaźnik Sprzedaży Marża | B21: =B17*0.35 -> 1750 | C21: =C17*0.35 -> 1750 | D21: =D17*0.35 -> 1750 | F21: =F17*0.35 -> 1995 | G21: =G17*0.35 -> 1995 | H21: =H17*0.35 -> 1995 | J21: =J17*0.35 -> 1995 | K21: =K17*0.35 -> 1995 | L21: =L17*0.35 -> 1995 | N21: =N17*0.35 -> 1995 | O21: =O17*0.35 -> 1995 | P21: =P17*0.35 -> 1995
A22: Mnożnik premii miesięcznej Wskaźnika Sprzedaży Marża | B22: =IF(B20<80%,0,IF(B20<90%,0.5,IF(B20<95%,0.75,1))) -> 1 | C22: =IF(C20<80%,0,IF(C20<90%,0.5,IF(C20<95%,0.75,1))) -> 1 | D22: =IF(D20<80%,0,IF(D20<90%,0.5,IF(D20<95%,0.75,1))) -> 1 | F22: =IF(F20<80%,0,IF(F20<90%,0.5,IF(F20<95%,0.75,1))) -> 1 | G22: =IF(G20<80%,0,IF(G20<90%,0.5,IF(G20<95%,0.75,1))) -> 1 | H22: =IF(H20<80%,0,IF(H20<90%,0.5,IF(H20<95%,0.75,1))) -> 1 | J22: =IF(J20<80%,0,IF(J20<90%,0.5,IF(J20<95%,0.75,1))) -> 1 | K22: =IF(K20<80%,0,IF(K20<90%,0.5,IF(K20<95%,0.75,1))) -> 1 | L22: =IF(L20<80%,0,IF(L20<90%,0.5,IF(L20<95%,0.75,1))) -> 1 | N22: =IF(N20<80%,0,IF(N20<90%,0.5,IF(N20<95%,0.75,1))) -> 1 | O22: =IF(O20<80%,0,IF(O20<90%,0.5,IF(O20<95%,0.75,1))) -> 1 | P22: =IF(P20<80%,0,IF(P20<90%,0.5,IF(P20<95%,0.75,1))) -> 1
A23: Premia miesięczna za Wskaźnik Sprzedaży Marża | B23: =B22*B21 -> 1750 | C23: =C22*C21 -> 1750 | D23: =D22*D21 -> 1750 | F23: =F22*F21 -> 1995 | G23: =G22*G21 -> 1995 | H23: =H22*H21 -> 1995 | J23: =J22*J21 -> 1995 | K23: =K22*K21 -> 1995 | L23: =L22*L21 -> 1995 | N23: =N22*N21 -> 1995 | O23: =O22*O21 -> 1995 | P23: =P22*P21 -> 1995
A24: Wskaźnik CRM | F24: 1
A25: Wysokość premii CRM | B25: =B17*0.05 -> 250 | C25: =C17*0.05 -> 250 | D25: =D17*0.05 -> 250 | F25: =F17*0.05 -> 285 | G25: =G17*0.05 -> 285 | H25: =H17*0.05 -> 285 | J25: =J17*0.05 -> 285 | K25: =K17*0.05 -> 285 | L25: =L17*0.05 -> 285 | N25: =N17*0.05 -> 285 | O25: =O17*0.05 -> 285 | P25: =P17*0.05 -> 285
A26: Mnożnik premii Wskaźnik CRM | B26: 1 | C26: 1 | D26: 1 | F26: 1 | G26: 1 | H26: 1 | J26: 1 | K26: 1 | L26: 1 | N26: 1 | O26: 1 | P26: 1
A27: Premia miesięczna za Wskaźnik CRM | B27: =B26*B25 -> 250 | C27: =C26*C25 -> 250 | D27: =D26*D25 -> 250 | F27: =F26*F25 -> 285 | G27: =G26*G25 -> 285 | H27: =H26*H25 -> 285 | J27: =J26*J25 -> 285 | K27: =K26*K25 -> 285 | L27: =L26*L25 -> 285 | N27: =N26*N25 -> 285 | O27: =O26*O25 -> 285 | P27: =P26*P25 -> 285
A28: Suma Premii miesięcznych | B28: =B23+B27 -> 2000 | C28: =C23+C27 -> 2000 | D28: =D23+D27 -> 2000 | F28: =F23+F27 -> 2280 | G28: =G23+G27 -> 2280 | H28: =H23+H27 -> 2280 | J28: =J23+J27 -> 2280 | K28: =K23+K27 -> 2280 | L28: =L23+L27 -> 2280 | N28: =N23+N27 -> 2280 | O28: =O23+O27 -> 2280 | P28: =P23+P27 -> 2280
A29: Wskaźnik Premia Kwartalna Marża | B29: =D5 -> 194500 | F29: =H5 -> 207000 | J29: =L5 -> 220000 | N29: =P5 -> 184200
A30: Realizacja Wskaźnika Premia Kwartalna | B30: =D7 -> 225996.53 | F30: =H7 -> 233072.82 | J30: =L7 -> 247729.82 | N30: =P7 -> 175022.02
A31: Poziom realizacji Wskaźnika Premia Kwartalna | B31: =B30/B29 -> 1.1619359 | F31: =F30/F29 -> 1.1259557 | J31: =J30/J29 -> 1.1260446 | N31: =N30/N29 -> 0.95017383
A32: Wysokość premii kwartalnej. | B32: =D17 -> 5000 | F32: =H17 -> 5700 | J32: =L17 -> 5700 | N32: =P17 -> 5700
A33: Mnożnik premii kwartalnej | B33: =IF(B31<100%,0,IF(B31<105%,0.5,IF(B31<110%,0.7,1))) -> 1 | F33: =IF(F31<100%,0,IF(F31<105%,0.5,IF(F31<110%,0.7,1))) -> 1 | J33: =IF(J31<100%,0,IF(J31<105%,0.5,IF(J31<110%,0.7,1))) -> 1 | N33: =IF(N31<100%,0,IF(N31<105%,0.5,IF(N31<110%,0.7,1))) -> 0
A34: Premia kwartalna | B34: =B33*B32 -> 5000 | F34: =F33*F32 -> 5700 | J34: =J33*J32 -> 5700 | N34: =N33*N32 -> 0
A36: Raport za miesiąc: | B36: styczeń | C36: luty | D36: marzec | E36: Suma | F36: kwiecień | G36: maj | H36: czerwiec | I36: Suma | J36: lipiec | K36: sierpień | L36: wrzesień | M36: Suma | N36: paździer. | O36: listopad | P36: grudzień | Q36: Suma | R36: Suma
A37: Ilość nowych Klientów: | B37: 0 | C37: 0 | D37: 0 | E37: =SUM(B37:D37) -> 0 | F37: 0 | G37: 0 | H37: 0 | I37: =SUM(F37:H37) -> 0 | J37: 0 | K37: 1 | L37: 0 | M37: =SUM(J37:L37) -> 1 | N37: 0 | O37: 0 | P37: 1 | Q37: =SUM(N37:P37) -> 1 | R37: =I37+M37+Q37+E37 -> 2
A38: Ilość Podmiotów na etapie współpracy Klient: | B38: 72 | C38: 72 | D38: 72 | F38: 72 | G38: 74 | H38: 74 | J38: 75 | K38: 76 | L38: 76 | N38: 76 | O38: 76 | P38: 78
A39: Ilość Podmiotów na etapie współpracy Handlowy: | B39: 12 | C39: 12 | D39: 12 | F39: 23 | G39: 26 | H39: 27 | J39: 27 | K39: 26 | L39: 28 | N39: 27 | O39: 26 | P39: 28
A40: Ilość Podmiotów na etapie współpracy Klient nieaktywny: | B40: 21 | C40: 21 | D40: 22 | F40: 28 | G40: 27 | H40: 27 | J40: 27 | K40: 27 | L40: 27 | N40: 27 | O40: 27 | P40: 26
A41: Ilość Podmiotów pod opieką: | B41: =SUM(B38:B40) -> 105 | C41: =SUM(C38:C40) -> 105 | D41: =SUM(D38:D40) -> 106 | F41: =SUM(F38:F40) -> 123 | G41: =SUM(G38:G40) -> 127 | H41: =SUM(H38:H40) -> 128 | J41: 129 | K41: 129 | L41: =SUM(L38:L40) -> 131 | N41: =SUM(N38:N40) -> 130 | O41: =SUM(O38:O40) -> 129 | P41: =SUM(P38:P40) -> 132
A42: Ilość sprzedanych drukarek: | B42: 3 | C42: 1 | D42: 2 | E42: =SUM(B42:D42) -> 6 | F42: 0 | G42: 1 | H42: 1 | I42: =SUM(F42:H42) -> 2 | J42: 0 | K42: 1 | L42: 0 | M42: =SUM(J42:L42) -> 1 | N42: 0 | O42: 0 | P42: 1 | Q42: =SUM(N42:P42) -> 1 | R42: =I42+M42+Q42+E42 -> 10
A43: Ilość ofert dodanych w danym miesiącu: | B43: 33 | C43: 33 | D43: 54 | E43: =SUM(B43:D43) -> 120 | F43: 36 | G43: 33 | H43: 24 | I43: =SUM(F43:H43) -> 93 | J43: 42 | K43: 38 | L43: 28 | M43: =SUM(J43:L43) -> 108 | N43: 30 | O43: 25 | P43: 31 | Q43: =SUM(N43:P43) -> 86 | R43: =I43+M43+Q43+E43 -> 407
...

Sheet PIOTR
A1: Piotr Choma | B1: PLAN I KW Piotr Choma | F1: PLAN II KW Piotr Choma | J1: PLAN III KW Piotr Choma | N1: PLAN IV KW Piotr Choma
A2: miesiąc | B2: styczeń | C2: luty | D2: marzec | E2: KW I | F2: kwiecień | G2: maj | H2: czerwiec | I2: KW II | J2: lipiec | K2: sierpień | L2: wrzesień | M2: KW III | N2: październik | O2: listopad | P2: grudzień | Q2: KW IV | R2: suma ROK
A4: Plan Sprzedaży Marża | B4: ='Target 2022'!C6-6000 -> 70350 | C4: ='Target 2022'!D6-30000 -> 54833.333 | D4: ='Target 2022'!E6+6000+30000 -> 129316.67 | E4: =SUM(B4:D4) -> 254500 | F4: ='Target 2022'!F6 -> 74700 | G4: ='Target 2022'!G6 -> 83000 | H4: ='Target 2022'!H6 -> 91300 | I4: =SUM(F4:H4) -> 249000 | J4: ='Target 2022'!I6 -> 76500 | K4: ='Target 2022'!J6 -> 85000 | L4: ='Target 2022'!K6-20900 -> 72600 | M4: =SUM(J4:L4) -> 234100 | N4: ='Target 2022'!L6 -> 79166.667 | O4: ='Target 2022'!M6-700 -> 86800 | P4: ='Target 2022'!N6+20900+700-36000 -> 68933.333 | Q4: =SUM(N4:P4) -> 234900 | R4: =E4+I4+M4+Q4 -> 972500
A5: Sumaryczny Plan Sprzedaży Marża | B5: =B4 -> 70350 | C5: =C4+B5 -> 125183.33 | D5: =D4+C5 -> 254500 | F5: =F4 -> 74700 | G5: =G4+F5 -> 157700 | H5: =H4+G5 -> 249000 | J5: =J4 -> 76500 | K5: =K4+J5 -> 161500 | L5: =L4+K5 -> 234100 | N5: =N4 -> 79166.667 | O5: =O4+N5 -> 165966.67 | P5: =P4+O5 -> 234900 | R5: =R6/R4 -> 0.96178441
A6: Miesięczna realizacja Planu Sprzedaży Marża | B6: =SUMIF(I!A:A,$A$1,I!I:I) -> 56827.078 | C6: =SUMIF(II!A:A,$A$1,II!I:I) -> 58179.823 | D6: =SUMIF(III!A:A,$A$1,III!I:I) -> 120879.08 | E6: =SUM(B6:D6) -> 235885.98 | F6: =SUMIF(IV!A:A,$A$1,IV!I:I) -> 77554.474 | G6: =SUMIF(V!A:A,$A$1,V!I:I) -> 115843.93 | H6: =SUMIF(VI!A:A,$A$1,VI!I:I) -> 70921.754 | I6: =SUM(F6:H6) -> 264320.16 | J6: =SUMIF(VII!A:A,$A$1,VII!I:I) -> 90332.25 | K6: =SUMIF(VIII!A:A,$A$1,VIII!I:I) -> 67092.867 | L6: =SUMIF(IX!A:A,$A$1,IX!I:I) -> 65015.293 | M6: =SUM(J6:L6) -> 222440.41 | N6: =SUMIF(X!A:A,$A$1,X!I:I) -> 81505.717 | O6: =SUMIF(XI!A:A,$A$1,XI!I:I) -> 76523.542 | P6: =SUMIF(XII!A:A,$A$1,XII!I:I) -> 54659.527 | Q6: =SUM(N6:P6) -> 212688.79 | R6: =E6+I6+M6+Q6 -> 935335.33
A7: Sumaryczna realizacja planu sprzedaży Marża | B7: =B6 -> 56827.078 | C7: =C6+B7 -> 115006.9 | D7: =D6+C7 -> 235885.98 | F7: =F6 -> 77554.474 | G7: =G6+F7 -> 193398.4 | H7: =H6+G7 -> 264320.16 | J7: =J6 -> 90332.25 | K7: =K6+J7 -> 157425.12 | L7: =L6+K7 -> 222440.41 | M7: =SUM(E6,I6,M6)/3 -> 240882.18 | N7: =N6 -> 81505.717 | O7: =O6+N7 -> 158029.26 | P7: =P6+O7 -> 212688.79
A8: Wysokość zrealizowania Miesięcznego Planu Sprzedaży Marża | B8: =B6/B4 -> 0.80777652 | C8: =C6/C4 -> 1.0610302 | D8: =D6/D4 -> 0.9347525 | F8: =F6/F4 -> 1.0382125 | G8: =G6/G4 -> 1.39571 | H8: =H6/H4 -> 0.77679906 | J8: =J6/J4 -> 1.1808137 | K8: =K6/K4 -> 0.78932785 | L8: =L6/L4 -> 0.89552744 | N8: =N6/N4 -> 1.0295459 | O8: =O6/O4 -> 0.88160763 | P8: =P6/P4 -> 0.79293318
A9: Wysokość zrealizowania Planu Sprzedaży Marża | B9: =B7/B5 -> 0.80777652 | C9: =C7/C5 -> 0.91870777 | D9: =D7/D5 -> 0.92686043 | F9: =F7/F5 -> 1.0382125 | G9: =G7/G5 -> 1.2263691 | H9: =H7/H5 -> 1.0615267 | J9: =J7/J5 -> 1.1808137 | K9: =K7/K5 -> 0.97476853 | L9: =L7/L5 -> 0.95019398 | N9: =N7/N5 -> 1.0295459 | O9: =O7/O5 -> 0.95217469 | P9: =P7/P5 -> 0.90544396
A10: Różnica wskaźnika Marża | B10: =B7-B5 -> -13522.922 | C10: =C7-C5 -> -10176.432 | D10: =D7-D5 -> -18614.021 | F10: =F7-F5 -> 2854.4744 | G10: =G7-G5 -> 35698.404 | H10: =H7-H5 -> 15320.158 | J10: =J7-J5 -> 13832.25 | K10: =K7-K5 -> -4074.8828 | L10: =L7-L5 -> -11659.59 | N10: =N7-N5 -> 2339.0508 | O10: =O7-O5 -> -7937.407 | P10: =P7-P5 -> -22211.213
A11: Miesięczny Obrót | B11: =SUMIF(I!A:A,$A$1,I!G:G) -> 180624.34 | C11: =SUMIF(II!A:A,$A$1,II!G:G) -> 201266.55 | D11: =SUMIF(III!A:A,$A$1,III!G:G) -> 348174 | E11: =SUM(B11:D11) -> 730064.89 | F11: =SUMIF(IV!A:A,$A$1,IV!G:G) -> 280336.91 | G11: =SUMIF(V!A:A,$A$1,V!G:G) -> 500516.81 | H11: =SUMIF(VI!A:A,$A$1,VI!G:G) -> 277892.16 | I11: =SUM(F11:H11) -> 1058745.9 | J11: =SUMIF(VII!A:A,$A$1,VII!G:G) -> 290074.56 | K11: =SUMIF(VIII!A:A,$A$1,VIII!G:G) -> 252414.38 | L11: =SUMIF(IX!A:A,$A$1,IX!G:G) -> 223829.92 | M11: =SUM(J11:L11) -> 766318.86 | N11: =SUMIF(X!A:A,$A$1,X!G:G) -> 312399.34 | O11: =SUMIF(XI!A:A,$A$1,XI!G:G) -> 265949.84 | P11: =SUMIF(XII!A:A,$A$1,XII!G:G) -> 200949.59 | Q11: =SUM(N11:P11) -> 779298.78 | R11: =E11+I11+M11+Q11 -> 3334428.4
A12: Sumaryczny Obrót | B12: =B11 -> 180624.34 | C12: =C11+B12 -> 381890.89 | D12: =D11+C12 -> 730064.89 | F12: =F11 -> 280336.91 | G12: =G11+F12 -> 780853.72 | H12: =H11+G12 -> 1058745.9 | J12: =J11 -> 290074.56 | K12: =K11+J12 -> 542488.94 | L12: =L11+K12 -> 766318.86 | N12: =N11 -> 312399.34 | O12: =O11+N12 -> 578349.19 | P12: =P11+O12 -> 779298.78
A13: Wysokość Marży miesięcznej | B13: =B6/B11 -> 0.31461472 | C13: =C6/C11 -> 0.28906852 | D13: =D6/D11 -> 0.34718008 | F13: =F6/F11 -> 0.27664739 | G13: =G6/G11 -> 0.23144863 | H13: =H6/H11 -> 0.25521323 | J13: =J6/J11 -> 0.31141045 | K13: =K6/K11 -> 0.26580446 | L13: =L6/L11 -> 0.29046739 | N13: =N6/N11 -> 0.26090233 | O13: =O6/O11 -> 0.28773674 | P13: =P6/P11 -> 0.27200616
A14: Wysokość Marży sumarycznej | B14: =B7/B12 -> 0.31461472 | C14: =C7/C12 -> 0.3011512 | D14: =D7/D12 -> 0.32310276 | F14: =F7/F12 -> 0.27664739 | G14: =G7/G12 -> 0.24767559 | H14: =H7/H12 -> 0.24965401 | J14: =J7/J12 -> 0.31141045 | K14: =K7/K12 -> 0.29019047 | L14: =L7/L12 -> 0.29027135 | N14: =N7/N12 -> 0.26090233 | O14: =O7/O12 -> 0.27324195 | P14: =P7/P12 -> 0.27292329
B16: PREMIE
A17: Wynagrodzenie zasadnicze | B17: 5700 | C17: 5700 | D17: 5700 | F17: 6400 | G17: 6400 | H17: 6400 | J17: 6400 | K17: 6400 | L17: 6400 | N17: 6400 | O17: 6400 | P17: 6400
A18: Wskaźnik Plan Sprzedaży Marża | B18: =B5 -> 70350 | C18: =C5 -> 125183.33 | D18: =D5 -> 254500 | F18: =F5 -> 74700 | G18: =G5 -> 157700 | H18: =H5 -> 249000 | J18: =J5 -> 76500 | K18: =K5 -> 161500 | L18: =L5 -> 234100 | N18: =N5 -> 79166.667 | O18: =O5 -> 165966.67 | P18: =P5 -> 234900
A19: Realizacja Wskaźnika Planu Sprzedaży Marża | B19: =B7 -> 56827.078 | C19: =C7 -> 115006.9 | D19: =D7 -> 235885.98 | F19: =F7 -> 77554.474 | G19: =G7 -> 193398.4 | H19: =H7 -> 264320.16 | J19: =J7 -> 90332.25 | K19: =K7 -> 157425.12 | L19: =L7 -> 222440.41 | N19: =N7 -> 81505.717 | O19: =O7 -> 158029.26 | P19: =P7 -> 212688.79
A20: Poziom realizacji Wskaźnika Sprzedaży Marża | B20: =B19/B18 -> 0.80777652 | C20: =C19/C18 -> 0.91870777 | D20: =D19/D18 -> 0.92686043 | F20: =F19/F18 -> 1.0382125 | G20: =G19/G18 -> 1.2263691 | H20: =H19/H18 -> 1.0615267 | J20: =J19/J18 -> 1.1808137 | K20: =K19/K18 -> 0.97476853 | L20: =L19/L18 -> 0.95019398 | N20: =N19/N18 -> 1.0295459 | O20: =O19/O18 -> 0.95217469 | P20: =P19/P18 -> 0.90544396
A21: Wysokość premii Wskaźnik Sprzedaży Marża | B21: =B17*0.35 -> 1995 | C21: =C17*0.35 -> 1995 | D21: =D17*0.35 -> 1995 | F21: =F17*0.35 -> 2240 | G21: =G17*0.35 -> 2240 | H21: =H17*0.35 -> 2240 | J21: =J17*0.35 -> 2240 | K21: =K17*0.35 -> 2240 | L21: =L17*0.35 -> 2240 | N21: =N17*0.35 -> 2240 | O21: =O17*0.35 -> 2240 | P21: =P17*0.35 -> 2240
A22: Mnożnik premii miesięcznej Wskaźnika Sprzedaży Marża | B22: =IF(B20<80%,0,IF(B20<90%,0.5,IF(B20<95%,0.75,1))) -> 0.5 | C22: =IF(C20<80%,0,IF(C20<90%,0.5,IF(C20<95%,0.75,1))) -> 0.75 | D22: =IF(D20<80%,0,IF(D20<90%,0.5,IF(D20<95%,0.75,1))) -> 0.75 | F22: =IF(F20<80%,0,IF(F20<90%,0.5,IF(F20<95%,0.75,1))) -> 1 | G22: =IF(G20<80%,0,IF(G20<90%,0.5,IF(G20<95%,0.75,1))) -> 1 | H22: =IF(H20<80%,0,IF(H20<90%,0.5,IF(H20<95%,0.75,1))) -> 1 | J22: =IF(J20<80%,0,IF(J20<90%,0.5,IF(J20<95%,0.75,1))) -> 1 | K22: =IF(K20<80%,0,IF(K20<90%,0.5,IF(K20<95%,0.75,1))) -> 1 | L22: =IF(L20<80%,0,IF(L20<90%,0.5,IF(L20<95%,0.75,1))) -> 1 | N22: =IF(N20<80%,0,IF(N20<90%,0.5,IF(N20<95%,0.75,1))) -> 1 | O22: =IF(O20<80%,0,IF(O20<90%,0.5,IF(O20<95%,0.75,1))) -> 1 | P22: =IF(P20<80%,0,IF(P20<90%,0.5,IF(P20<95%,0.75,1))) -> 0.75
A23: Premia miesięczna za Wskaźnik Sprzedaży Marża | B23: =B22*B21 -> 997.5 | C23: =C22*C21 -> 1496.25 | D23: =D22*D21 -> 1496.25 | F23: =F22*F21 -> 2240 | G23: =G22*G21 -> 2240 | H23: =H22*H21 -> 2240 | J23: =J22*J21 -> 2240 | K23: =K22*K21 -> 2240 | L23: =L22*L21 -> 2240 | N23: =N22*N21 -> 2240 | O23: =O22*O21 -> 2240 | P23: =P22*P21 -> 1680
A24: Wskaźnik CRM
A25: Wysokość premii CRM | B25: =B17*0.05 -> 285 | C25: =C17*0.05 -> 285 | D25: =D17*0.05 -> 285 | F25: =F17*0.05 -> 320 | G25: =G17*0.05 -> 320 | H25: =H17*0.05 -> 320 | J25: =J17*0.05 -> 320 | K25: =K17*0.05 -> 320 | L25: =L17*0.05 -> 320 | N25: =N17*0.05 -> 320 | O25: =O17*0.05 -> 320 | P25: =P17*0.05 -> 320
A26: Mnożnik premii Wskaźnik CRM | B26: 1 | C26: 1 | D26: 1 | F26: 1 | G26: 1 | H26: 1 | J26: 1 | K26: 1 | L26: 1 | N26: 1 | O26: 1 | P26: 1
A27: Premia miesięczna za Wskaźnik CRM | B27: =B26*B25 -> 285 | C27: =C26*C25 -> 285 | D27: =D26*D25 -> 285 | F27: =F26*F25 -> 320 | G27: =G26*G25 -> 320 | H27: =H26*H25 -> 320 | J27: =J26*J25 -> 320 | K27: =K26*K25 -> 320 | L27: =L26*L25 -> 320 | N27: =N26*N25 -> 320 | O27: =O26*O25 -> 320 | P27: =P26*P25 -> 320
A28: Suma Premii miesięcznych | B28: =B23+B27 -> 1282.5 | C28: =C23+C27 -> 1781.25 | D28: =D23+D27 -> 1781.25 | F28: =F23+F27 -> 2560 | G28: =G23+G27 -> 2560 | H28: =H23+H27 -> 2560 | J28: =J23+J27 -> 2560 | K28: =K23+K27 -> 2560 | L28: =L23+L27 -> 2560 | N28: =N23+N27 -> 2560 | O28: =O23+O27 -> 2560 | P28: =P23+P27 -> 2000
A29: Wskaźnik Premia Kwartalna Marża | B29: =D5 -> 254500 | F29: =H5 -> 249000 | J29: =L5 -> 234100 | N29: =P5 -> 234900
A30: Realizacja Wskaźnika Premia Kwartalna | B30: =D7 -> 235885.98 | F30: =H7 -> 264320.16 | J30: =L7 -> 222440.41 | N30: =P7 -> 212688.79
A31: Poziom realizacji Wskaźnika Premia Kwartalna | B31: =B30/B29 -> 0.92686043 | F31: =F30/F29 -> 1.0615267 | J31: =J30/J29 -> 0.95019398 | N31: =N30/N29 -> 0.90544396
A32: Wysokość premii kwartalnej. | B32: =D17 -> 5700 | F32: =H17 -> 6400 | J32: =L17 -> 6400 | N32: =P17 -> 6400
A33: Mnożnik premii kwartalnej | B33: =IF(B31<100%,0,IF(B31<105%,0.5,IF(B31<110%,0.7,1))) -> 0 | F33: =IF(F31<100%,0,IF(F31<105%,0.5,IF(F31<110%,0.7,1))) -> 0.7 | J33: =IF(J31<100%,0,IF(J31<105%,0.5,IF(J31<110%,0.7,1))) -> 0 | N33: =IF(N31<100%,0,IF(N31<105%,0.5,IF(N31<110%,0.7,1))) -> 0
A34: Premia kwartalna | B34: =B33*B32 -> 0 | F34: =F33*F32 -> 4480 | J34: =J33*J32 -> 0 | N34: =N33*N32 -> 0
A36: Raport za miesiąc: | B36: styczeń | C36: luty | D36: marzec | E36: Suma | F36: kwiecień | G36: maj | H36: czerwiec | I36: Suma | J36: lipiec | K36: sierpień | L36: wrzesień | M36: Suma | N36: paździer. | O36: listopad | P36: grudzień | Q36: Suma | R36: Suma
A37: Ilość nowych Klientów: | B37: 1 | C37: 1 | D37: 2 | E37: =SUM(B37:D37) -> 4 | F37: 2 | G37: 0 | H37: 0 | I37: =SUM(F37:H37) -> 2 | J37: 0 | K37: 1 | L37: 1 | M37: =SUM(J37:L37) -> 2 | N37: 1 | O37: 0 | P37: 1 | Q37: =SUM(N37:P37) -> 2 | R37: =I37+M37+Q37+E37 -> 10
A38: Ilość Podmiotów na etapie współpracy Klient: | B38: 62 | C38: 64 | D38: 66 | F38: 68 | G38: 71 | H38: 71 | J38: 71 | K38: 72 | L38: 73 | N38: 75 | O38: 75 | P38: 76
A39: Ilość Podmiotów na etapie współpracy Handlowy: | B39: 41 | C39: 40 | D39: 41 | F39: 42 | G39: 43 | H39: 43 | J39: 45 | K39: 46 | L39: 46 | N39: 49 | O39: 53 | P39: 52
A40: Ilość Podmiotów na etapie współpracy Klient nieaktywny: | B40: 32 | C40: 32 | D40: 32 | F40: 32 | G40: 32 | H40: 32 | J40: 32 | K40: 32 | L40: 32 | N40: 31 | O40: 32 | P40: 33
A41: Ilość Podmiotów pod opieką: | B41: =SUM(B38:B40) -> 135 | C41: =SUM(C38:C40) -> 136 | D41: =SUM(D38:D40) -> 139 | F41: =SUM(F38:F40) -> 142 | G41: =SUM(G38:G40) -> 146 | H41: =SUM(H38:H40) -> 146 | J41: 148 | K41: 150 | L41: =SUM(L38:L40) -> 151 | N41: =SUM(N38:N40) -> 155 | O41: =SUM(O38:O40) -> 160 | P41: 161
A42: Ilość sprzedanych drukarek: | B42: 10 | C42: 1 | D42: 2 | E42: =SUM(B42:D42) -> 13 | F42: 6 | G42: 5 | H42: 0 | I42: =SUM(F42:H42) -> 11 | J42: 0 | K42: 0 | L42: 0 | M42: =SUM(J42:L42) -> 0 | N42: 0 | O42: 1 | P42: 2 | Q42: =SUM(N42:P42) -> 3 | R42: =I42+M42+Q42+E42 -> 27
A43: Ilość ofert dodanych w danym miesiącu: | B43: 29 | C43: 57 | D43: 59 | E43: =SUM(B43:D43) -> 145 | F43: 45 | G43: 48 | H43: 50 | I43: =SUM(F43:H43) -> 143 | J43: 28 | K43: 24 | L43: 44 | M43: =SUM(J43:L43) -> 96 | N43: 54 | O43: 53 | P43: 39 | Q43: =SUM(N43:P43) -> 146 | R43: =I43+M43+Q43+E43 -> 530
...

Sheet KRZYSZTOF
A1: Krzysztof Szwajdych | B1: PLAN I KW Krzysztof Szwajdych | F1: PLAN II KW Krzysztof Szwajdych | J1: PLAN III KW Krzysztof Szwajdych | N1: PLAN IV KW Krzysztof Szwajdych
A2: miesiąc | B2: styczeń | C2: luty | D2: marzec | E2: KW I | F2: kwiecień | G2: maj | H2: czerwiec | I2: KW II | J2: lipiec | K2: sierpień | L2: wrzesień | M2: KW III | N2: październik | O2: listopad | P2: grudzień | Q2: KW IV | R2: suma ROK
A4: Plan Sprzedaży Marża | B4: ='Target 2022'!C7 -> 54300 | C4: ='Target 2022'!D7 -> 60333.333 | D4: ='Target 2022'!E7 -> 66366.667 | E4: =SUM(B4:D4) -> 181000 | F4: ='Target 2022'!F7 -> 60900 | G4: ='Target 2022'!G7 -> 67666.667 | H4: ='Target 2022'!H7 -> 74433.333 | I4: =SUM(F4:H4) -> 203000 | J4: ='Target 2022'!I7 -> 61800 | K4: ='Target 2022'!J7 -> 68666.667 | L4: ='Target 2022'!K7-5350 -> 70183.333 | M4: =SUM(J4:L4) -> 200650 | N4: ='Target 2022'!L7 -> 63333.333 | O4: ='Target 2022'!M7 -> 70000 | P4: ='Target 2022'!N7+5350 -> 72016.667 | Q4: =SUM(N4:P4) -> 205350 | R4: =E4+I4+M4+Q4 -> 790000
A5: Sumaryczny Plan Sprzedaży Marża | B5: =B4 -> 54300 | C5: =C4+B5 -> 114633.33 | D5: =D4+C5 -> 181000 | F5: =F4 -> 60900 | G5: =G4+F5 -> 128566.67 | H5: =H4+G5 -> 203000 | J5: =J4 -> 61800 | K5: =K4+J5 -> 130466.67 | L5: =L4+K5 -> 200650 | N5: =N4 -> 63333.333 | O5: =O4+N5 -> 133333.33 | P5: =P4+O5 -> 205350 | R5: =R6/R4 -> 1.1236108
A6: Miesięczna realizacja Planu Sprzedaży Marża | B6: =SUMIF(I!A:A,$A$1,I!I:I) -> 55111.93 | C6: =SUMIF(II!A:A,$A$1,II!I:I) -> 62945.809 | D6: =SUMIF(III!A:A,$A$1,III!I:I) -> 81475.688 | E6: =SUM(B6:D6) -> 199533.43 | F6: =SUMIF(IV!A:A,$A$1,IV!I:I) -> 87543.445 | G6: =SUMIF(V!A:A,$A$1,V!I:I) -> 55241.805 | H6: =SUMIF(VI!A:A,$A$1,VI!I:I) -> 95499.336 | I6: =SUM(F6:H6) -> 238284.59 | J6: =SUMIF(VII!A:A,$A$1,VII!I:I) -> 93649.602 | K6: =SUMIF(VIII!A:A,$A$1,VIII!I:I) -> 60673.855 | L6: =SUMIF(IX!A:A,$A$1,IX!I:I) -> 66423.078 | M6: =SUM(J6:L6) -> 220746.54 | N6: =SUMIF(X!A:A,$A$1,X!I:I) -> 92192.719 | O6: =SUMIF(XI!A:A,$A$1,XI!I:I) -> 94993.375 | P6: =SUMIF(XII!A:A,$A$1,XII!I:I) -> 41901.871 | Q6: =SUM(N6:P6) -> 229087.96 | R6: =E6+I6+M6+Q6 -> 887652.51
A7: Sumaryczna realizacja planu sprzedaży Marża | B7: =B6 -> 55111.93 | C7: =C6+B7 -> 118057.74 | D7: =D6+C7 -> 199533.43 | F7: =F6 -> 87543.445 | G7: =G6+F7 -> 142785.25 | H7: =H6+G7 -> 238284.59 | J7: =J6 -> 93649.602 | K7: =K6+J7 -> 154323.46 | L7: =L6+K7 -> 220746.54 | M7: =SUM(E6,I6,M6)/3 -> 219521.52 | N7: =N6 -> 92192.719 | O7: =O6+N7 -> 187186.09 | P7: =P6+O7 -> 229087.96
A8: Wysokość zrealizowania Miesięcznego Planu Sprzedaży Marża | B8: =B6/B4 -> 1.0149527 | C8: =C6/C4 -> 1.0433007 | D8: =D6/D4 -> 1.2276598 | F8: =F6/F4 -> 1.437495 | G8: =G6/G4 -> 0.81638135 | H8: =H6/H4 -> 1.2830184 | J8: =J6/J4 -> 1.5153657 | K8: =K6/K4 -> 0.88359984 | L8: =L6/L4 -> 0.94642239 | N8: =N6/N4 -> 1.4556745 | O8: =O6/O4 -> 1.3570482 | P8: =P6/P4 -> 0.58183575
A9: Wysokość zrealizowania Planu Sprzedaży Marża | B9: =B7/B5 -> 1.0149527 | C9: =C7/C5 -> 1.0298727 | D9: =D7/D5 -> 1.1023946 | F9: =F7/F5 -> 1.437495 | G9: =G7/G5 -> 1.1105931 | H9: =H7/H5 -> 1.1738157 | J9: =J7/J5 -> 1.5153657 | K9: =K7/K5 -> 1.1828574 | L9: =L7/L5 -> 1.1001572 | N9: =N7/N5 -> 1.4556745 | O9: =O7/O5 -> 1.4038957 | P9: =P7/P5 -> 1.1155976
A10: Różnica wskaźnika Marża | B10: =B7-B5 -> 811.9297 | C10: =C7-C5 -> 3424.405 | D10: =D7-D5 -> 18533.426 | F10: =F7-F5 -> 26643.445 | G10: =G7-G5 -> 14218.583 | H10: =H7-H5 -> 35284.586 | J10: =J7-J5 -> 31849.602 | K10: =K7-K5 -> 23856.79 | L10: =L7-L5 -> 20096.535 | N10: =N7-N5 -> 28859.385 | O10: =O7-O5 -> 53852.76 | P10: =P7-P5 -> 23737.965
A11: Miesięczny Obrót | B11: =SUMIF(I!A:A,$A$1,I!G:G) -> 157021.69 | C11: =SUMIF(II!A:A,$A$1,II!G:G) -> 251790.73 | D11: =SUMIF(III!A:A,$A$1,III!G:G) -> 269560.97 | E11: =SUM(B11:D11) -> 678373.39 | F11: =SUMIF(IV!A:A,$A$1,IV!G:G) -> 245867.98 | G11: =SUMIF(V!A:A,$A$1,V!G:G) -> 154197.28 | H11: =SUMIF(VI!A:A,$A$1,VI!G:G) -> 266192.28 | I11: =SUM(F11:H11) -> 666257.55 | J11: =SUMIF(VII!A:A,$A$1,VII!G:G) -> 267822.97 | K11: =SUMIF(VIII!A:A,$A$1,VIII!G:G) -> 184649.17 | L11: =SUMIF(IX!A:A,$A$1,IX!G:G) -> 195394.81 | M11: =SUM(J11:L11) -> 647866.95 | N11: =SUMIF(X!A:A,$A$1,X!G:G) -> 269468.06 | O11: =SUMIF(XI!A:A,$A$1,XI!G:G) -> 248502.55 | P11: =SUMIF(XII!A:A,$A$1,XII!G:G) -> 142416.41 | Q11: =SUM(N11:P11) -> 660387.02 | R11: =E11+I11+M11+Q11 -> 2652884.9
A12: Sumaryczny Obrót | B12: =B11 -> 157021.69 | C12: =C11+B12 -> 408812.42 | D12: =D11+C12 -> 678373.39 | F12: =F11 -> 245867.98 | G12: =G11+F12 -> 400065.27 | H12: =H11+G12 -> 666257.55 | J12: =J11 -> 267822.97 | K12: =K11+J12 -> 452472.14 | L12: =L11+K12 -> 647866.95 | N12: =N11 -> 269468.06 | O12: =O11+N12 -> 517970.61 | P12: =P11+O12 -> 660387.02
A13: Wysokość Marży miesięcznej | B13: =B6/B11 -> 0.35098292 | C13: =C6/C11 -> 0.24999255 | D13: =D6/D11 -> 0.30225328 | F13: =F6/F11 -> 0.35605874 | G13: =G6/G11 -> 0.35825408 | H13: =H6/H11 -> 0.35876073 | J13: =J6/J11 -> 0.34966979 | K13: =K6/K11 -> 0.32858991 | L13: =L6/L11 -> 0.33994289 | N13: =N6/N11 -> 0.34212855 | O13: =O6/O11 -> 0.38226318 | P13: =P6/P11 -> 0.29422081
A14: Wysokość Marży sumarycznej | B14: =B7/B12 -> 0.35098292 | C14: =C7/C12 -> 0.28878217 | D14: =D7/D12 -> 0.2941351 | E14: - | F14: =F7/F12 -> 0.35605874 | G14: =G7/G12 -> 0.35690489 | H14: =H7/H12 -> 0.35764636 | J14: =J7/J12 -> 0.34966979 | K14: =K7/K12 -> 0.34106731 | L14: =L7/L12 -> 0.34072819 | N14: =N7/N12 -> 0.34212855 | O14: =O7/O12 -> 0.36138362 | P14: =P7/P12 -> 0.34689956
B16: PREMIE
A17: Wynagrodzenie zasadnicze | B17: 4700 | C17: 4700 | D17: 4700 | F17: 5500 | G17: 5500 | H17: 5500 | J17: 5500 | K17: 5500 | L17: 5500 | N17: 5500 | O17: 5500 | P17: 5500
A18: Wskaźnik Plan Sprzedaży Marża | B18: =B5 -> 54300 | C18: =C5 -> 114633.33 | D18: =D5 -> 181000 | F18: =F5 -> 60900 | G18: =G5 -> 128566.67 | H18: =H5 -> 203000 | J18: =J5 -> 61800 | K18: =K5 -> 130466.67 | L18: =L5 -> 200650 | N18: =N5 -> 63333.333 | O18: =O5 -> 133333.33 | P18: =P5 -> 205350
A19: Realizacja Wskaźnika Planu Sprzedaży Marża | B19: =B7 -> 55111.93 | C19: =C7 -> 118057.74 | D19: =D7 -> 199533.43 | F19: =F7 -> 87543.445 | G19: =G7 -> 142785.25 | H19: =H7 -> 238284.59 | J19: =J7 -> 93649.602 | K19: =K7 -> 154323.46 | L19: =L7 -> 220746.54 | N19: =N7 -> 92192.719 | O19: =O7 -> 187186.09 | P19: =P7 -> 229087.96
A20: Poziom realizacji Wskaźnika Sprzedaży Marża | B20: =B19/B18 -> 1.0149527 | C20: =C19/C18 -> 1.0298727 | D20: =D19/D18 -> 1.1023946 | F20: =F19/F18 -> 1.437495 | G20: =G19/G18 -> 1.1105931 | H20: =H19/H18 -> 1.1738157 | J20: =J19/J18 -> 1.5153657 | K20: =K19/K18 -> 1.1828574 | L20: =L19/L18 -> 1.1001572 | N20: =N19/N18 -> 1.4556745 | O20: =O19/O18 -> 1.4038957 | P20: =P19/P18 -> 1.1155976
A21: Wysokość premii Wskaźnik Sprzedaży Marża | B21: =B17*0.35 -> 1645 | C21: =C17*0.35 -> 1645 | D21: =D17*0.35 -> 1645 | F21: =F17*0.35 -> 1925 | G21: =G17*0.35 -> 1925 | H21: =H17*0.35 -> 1925 | J21: =J17*0.35 -> 1925 | K21: =K17*0.35 -> 1925 | L21: =L17*0.35 -> 1925 | N21: =N17*0.35 -> 1925 | O21: =O17*0.35 -> 1925 | P21: =P17*0.35 -> 1925
A22: Mnożnik premii miesięcznej Wskaźnika Sprzedaży Marża | B22: =IF(B20<80%,0,IF(B20<90%,0.5,IF(B20<95%,0.75,1))) -> 1 | C22: =IF(C20<80%,0,IF(C20<90%,0.5,IF(C20<95%,0.75,1))) -> 1 | D22: =IF(D20<80%,0,IF(D20<90%,0.5,IF(D20<95%,0.75,1))) -> 1 | F22: =IF(F20<80%,0,IF(F20<90%,0.5,IF(F20<95%,0.75,1))) -> 1 | G22: =IF(G20<80%,0,IF(G20<90%,0.5,IF(G20<95%,0.75,1))) -> 1 | H22: =IF(H20<80%,0,IF(H20<90%,0.5,IF(H20<95%,0.75,1))) -> 1 | J22: =IF(J20<80%,0,IF(J20<90%,0.5,IF(J20<95%,0.75,1))) -> 1 | K22: =IF(K20<80%,0,IF(K20<90%,0.5,IF(K20<95%,0.75,1))) -> 1 | L22: =IF(L20<80%,0,IF(L20<90%,0.5,IF(L20<95%,0.75,1))) -> 1 | N22: =IF(N20<80%,0,IF(N20<90%,0.5,IF(N20<95%,0.75,1))) -> 1 | O22: =IF(O20<80%,0,IF(O20<90%,0.5,IF(O20<95%,0.75,1))) -> 1 | P22: =IF(P20<80%,0,IF(P20<90%,0.5,IF(P20<95%,0.75,1))) -> 1
A23: Premia miesięczna za Wskaźnik Sprzedaży Marża | B23: =B22*B21 -> 1645 | C23: =C22*C21 -> 1645 | D23: =D22*D21 -> 1645 | F23: =F22*F21 -> 1925 | G23: =G22*G21 -> 1925 | H23: =H22*H21 -> 1925 | J23: =J22*J21 -> 1925 | K23: =K22*K21 -> 1925 | L23: =L22*L21 -> 1925 | N23: =N22*N21 -> 1925 | O23: =O22*O21 -> 1925 | P23: =P22*P21 -> 1925
A24: Wskaźnik CRM
A25: Wysokość premii CRM | B25: =B17*0.05 -> 235 | C25: =C17*0.05 -> 235 | D25: =D17*0.05 -> 235 | F25: =F17*0.05 -> 275 | G25: =G17*0.05 -> 275 | H25: =H17*0.05 -> 275 | J25: =J17*0.05 -> 275 | K25: =K17*0.05 -> 275 | L25: =L17*0.05 -> 275 | N25: =N17*0.05 -> 275 | O25: =O17*0.05 -> 275 | P25: =P17*0.05 -> 275
A26: Mnożnik premii Wskaźnik CRM | B26: 1 | C26: 1 | D26: 1 | F26: 1 | G26: 1 | H26: 1 | J26: 1 | K26: 1 | L26: 1 | N26: 1 | O26: 1 | P26: 1
A27: Premia miesięczna za Wskaźnik CRM | B27: =B26*B25 -> 235 | C27: =C26*C25 -> 235 | D27: =D26*D25 -> 235 | F27: =F26*F25 -> 275 | G27: =G26*G25 -> 275 | H27: =H26*H25 -> 275 | J27: =J26*J25 -> 275 | K27: =K26*K25 -> 275 | L27: =L26*L25 -> 275 | N27: =N26*N25 -> 275 | O27: =O26*O25 -> 275 | P27: =P26*P25 -> 275
A28: Suma Premii miesięcznych | B28: =B23+B27 -> 1880 | C28: =C23+C27 -> 1880 | D28: =D23+D27 -> 1880 | F28: =F23+F27 -> 2200 | G28: =G23+G27 -> 2200 | H28: =H23+H27 -> 2200 | J28: =J23+J27 -> 2200 | K28: =K23+K27 -> 2200 | L28: =L23+L27 -> 2200 | N28: =N23+N27 -> 2200 | O28: =O23+O27 -> 2200 | P28: =P23+P27 -> 2200
A29: Wskaźnik Premia Kwartalna Marża | B29: =D5 -> 181000 | F29: =H5 -> 203000 | J29: =L5 -> 200650 | N29: =P5 -> 205350
A30: Realizacja Wskaźnika Premia Kwartalna | B30: =D7 -> 199533.43 | F30: =H7 -> 238284.59 | J30: =L7 -> 220746.54 | N30: =P7 -> 229087.96
A31: Poziom realizacji Wskaźnika Premia Kwartalna | B31: =B30/B29 -> 1.1023946 | F31: =F30/F29 -> 1.1738157 | J31: =J30/J29 -> 1.1001572 | N31: =N30/N29 -> 1.1155976
A32: Wysokość premii kwartalnej. | B32: =D17 -> 4700 | F32: =H17 -> 5500 | J32: =L17 -> 5500 | N32: =P17 -> 5500
A33: Mnożnik premii kwartalnej | B33: =IF(B31<100%,0,IF(B31<105%,0.5,IF(B31<110%,0.7,1))) -> 1 | F33: =IF(F31<100%,0,IF(F31<105%,0.5,IF(F31<110%,0.7,1))) -> 1 | J33: =IF(J31<100%,0,IF(J31<105%,0.5,IF(J31<110%,0.7,1))) -> 1 | N33: =IF(N31<100%,0,IF(N31<105%,0.5,IF(N31<110%,0.7,1))) -> 1
A34: Premia kwartalna | B34: =B33*B32 -> 4700 | F34: =F33*F32 -> 5500 | J34: =J33*J32 -> 5500 | N34: =N33*N32 -> 5500
A36: Raport za miesiąc: | B36: styczeń | C36: luty | D36: marzec | E36: Suma | F36: kwiecień | G36: maj | H36: czerwiec | I36: Suma | J36: lipiec | K36: sierpień | L36: wrzesień | M36: Suma | N36: paździer. | O36: listopad | P36: grudzień | Q36: Suma | R36: Suma
A37: Ilość nowych Klientów: | B37: 0 | C37: 0 | D37: 0 | E37: =SUM(B37:D37) -> 0 | F37: 2 | G37: 2 | H37: 1 | I37: =SUM(F37:H37) -> 5 | J37: 0 | K37: 0 | L37: 0 | M37: =SUM(J37:L37) -> 0 | N37: 1 | O37: 1 | P37: 1 | Q37: =SUM(N37:P37) -> 3 | R37: =I37+M37+Q37+E37 -> 8
A38: Ilość Podmiotów na etapie współpracy Klient: | B38: 130 | C38: 132 | D38: 132 | F38: 134 | G38: 136 | H38: 137 | J38: 138 | K38: 138 | L38: 138 | N38: 139 | O38: 140 | P38: 141
A39: Ilość Podmiotów na etapie współpracy Handlowy: | B39: 35 | C39: 36 | D39: 34 | F39: 34 | G39: 35 | H39: 28 | J39: 27 | K39: 29 | L39: 29 | N39: 29 | O39: 30 | P39: 30
A40: Ilość Podmiotów na etapie współpracy Klient nieaktywny: | B40: 50 | C40: 48 | D40: 48 | F40: 53 | G40: 52 | H40: 52 | J40: 51 | K40: 51 | L40: 51 | N40: 51 | O40: 51 | P40: 51
A41: Ilość Podmiotów pod opieką: | B41: =SUM(B38:B40) -> 215 | C41: 216 | D41: 214 | F41: 221 | G41: 223 | H41: 217 | J41: 216 | K41: 218 | L41: 218 | N41: 219 | O41: 221 | P41: 222
A42: Ilość sprzedanych drukarek: | B42: 3 | C42: 3 | D42: 1 | E42: =SUM(B42:D42) -> 7 | F42: 1 | G42: 1 | H42: 3 | I42: =SUM(F42:H42) -> 5 | J42: 3 | K42: 3 | L42: 0 | M42: =SUM(J42:L42) -> 6 | N42: 3 | O42: 0 | P42: 3 | Q42: =SUM(N42:P42) -> 6 | R42: =I42+M42+Q42+E42 -> 24
A43: Ilość ofert dodanych w danym miesiącu: | B43: 40 | C43: 45 | D43: 77 | E43: =SUM(B43:D43) -> 162 | F43: 35 | G43: 37 | H43: 48 | I43: =SUM(F43:H43) -> 120 | J43: 35 | K43: 61 | L43: 57 | M43: =SUM(J43:L43) -> 153 | N43: 46 | O43: 58 | P43: 26 | Q43: =SUM(N43:P43) -> 130 | R43: =I43+M43+Q43+E43 -> 565
...

Sheet DH
A1: brak opiekuna | B1: PLANY SPRZEDAŻY 2022
A2: miesiąc | B2: styczeń | C2: luty | D2: marzec | E2: I KW | F2: kwiecień | G2: maj | H2: czerwiec | J2: lipiec | K2: sierpień | L2: wrzesień | N2: październik | O2: listopad | P2: grudzień | R2: suma
A3: Marża 2021 | B3: 238812.96 | C3: 236054.89 | D3: 310381.3 | E3: 785249.16 | F3: 269725.26 | G3: 258627.65 | H3: 273225.82 | I3: 801578.73 | J3: 274412.59 | K3: 251738.51 | L3: 250442.74 | M3: 776593.84 | N3: 258681.26 | O3: 284693.28 | P3: 346932.85 | Q3: 890307.39 | R3: 3253729.1 | T3: =R8*1.1 -> 4060647.8
A4: Sumaryczna Marża 2021 | B4: 238812.96 | C4: 474867.86 | D4: 785249.16 | F4: 1054974.4 | G4: 1313602.1 | H4: 1586827.9 | J4: 1861240.5 | K4: 2112979 | L4: 2363421.7 | N4: 2622103 | O4: 2906796.3 | P4: 3253729.1 | Q4: 27570.887 | S4: MINIMUM | T4: PLAN | U4: CEL
A5: Wzrost Marży 2022 w stos do Marży 2021 | B5: =B9/B4-1 -> 0.036625174 | C5: =C9/C4-1 -> 0.13248478 | D5: =D9/D4-1 -> 0.16521237 | E5: =E8/E3-1 -> 0.16521237 | F5: =F9/F4-1 -> 0.17898416 | G5: =G9/G4-1 -> 0.1819026 | H5: =H9/H4-1 -> 0.17477063 | I5: =I8/I3-1 -> 0.18413418 | J5: =J9/J4-1 -> 0.17916759 | K5: =K9/K4-1 -> 0.17658302 | L5: =L9/L4-1 -> 0.18589582 | M5: =M8/M3-1 -> 0.20862812 | N5: =N9/N4-1 -> 0.19874434 | O5: =O9/O4-1 -> 0.19479634 | P5: =P9/P4-1 -> 0.13454373 | Q5: =Q8/Q3-1 -> -0.0017761913 | R5: =R8/R3-1 -> 0.13454373 | S5: =S6/R3 -> 1.0452622 | T5: =T6/R3 -> 1.100276 | U5: =U6/R3 -> 1.1552898
A6: Plan Sprzedaży Marża | B6: ='Target 2022'!B22 -> 259200 | C6: ='Target 2022'!C22 -> 288000 | D6: ='Target 2022'!D22 -> 316800 | E6: =SUM(B6:D6) -> 864000 | F6: ='Target 2022'!E22 -> 301777.78 | G6: ='Target 2022'!F22 -> 301777.78 | H6: ='Target 2022'!G22 -> 301777.78 | I6: =SUM(F6:H6) -> 905333.33 | J6: ='Target 2022'!H22 -> 301777.78 | K6: ='Target 2022'!I22 -> 301777.78 | L6: ='Target 2022'!J22 -> 301777.78 | M6: =SUM(J6:L6) -> 905333.33 | N6: ='Target 2022'!K22 -> 301777.78 | O6: ='Target 2022'!L22 -> 301777.78 | P6: ='Target 2022'!M22 -> 301777.78 | Q6: =SUM(N6:P6) -> 905333.33 | R6: =B6+C6+D6+F6+G6+H6+J6+K6+L6+N6+O6+P6 -> 3580000 | S6: =DH!R6*0.95 -> 3401000 | T6: =R6 -> 3580000 | U6: ='Target 2022'!H26 -> 3759000
A7: Sumaryczny Plan Sprzedaży Marża | B7: =B6 -> 259200 | C7: =C6+B7 -> 547200 | D7: =D6+C7 -> 864000 | F7: =F6+D7 -> 1165777.8 | G7: =G6+F7 -> 1467555.6 | H7: =H6+G7 -> 1769333.3 | J7: =J6+H7 -> 2071111.1 | K7: =K6+J7 -> 2372888.9 | L7: =L6+K7 -> 2674666.7 | N7: =N6+L7 -> 2976444.4 | O7: =O6+N7 -> 3278222.2 | P7: =P6+O7 -> 3580000 | V7: =T6/T19 -> 0.33457944
