Workbook

Sheet 2021 BEZ CLP
A1: Nazwa | B1: Netto | C1: Zysk | D1: Marża
A2: TUBAN | B2: 7822.13 | C2: 2397.4267 | D2: 30.6492 | E2: =IF(COUNTIF('2021 Opiekun'!A:A,A2)=1,"OK","brak w bazie") -> OK
A3: MAGUR | B3: 2628.08 | C3: 1627.962 | D3: 61.9449 | E3: =IF(COUNTIF('2021 Opiekun'!A:A,A3)=1,"OK","brak w bazie") -> OK
A4: KOBEX | B4: 1630 | C4: 801.44 | D4: 49.168 | E4: =IF(COUNTIF('2021 Opiekun'!A:A,A4)=1,"OK","brak w bazie") -> OK
A5: HHSILIKATY | B5: 2926 | C5: 380.314 | D5: 12.9977 | E5: =IF(COUNTIF('2021 Opiekun'!A:A,A5)=1,"OK","brak w bazie") -> OK
A6: ARSHW | B6: 897.68 | C6: 245.831 | D6: 27.3851 | E6: =IF(COUNTIF('2021 Opiekun'!A:A,A6)=1,"OK","brak w bazie") -> OK
A7: BWIPOLAND | B7: 2867.4 | C7: 576.08 | D7: 20.0906 | E7: =IF(COUNTIF('2021 Opiekun'!A:A,A7)=1,"OK","brak w bazie") -> OK
A8: POLPLAST | B8: 280869.69 | C8: 74219.708 | D8: 26.4249 | E8: =IF(COUNTIF('2021 Opiekun'!A:A,A8)=1,"OK","brak w bazie") -> OK
A9: RCKIK WAR | B9: 151649.04 | C9: 37368.848 | D9: 24.6416 | E9: =IF(COUNTIF('2021 Opiekun'!A:A,A9)=1,"OK","brak w bazie") -> OK
A10: TREFL | B10: 53819.81 | C10: 24985.34 | D10: 46.424 | E10: =IF(COUNTIF('2021 Opiekun'!A:A,A10)=1,"OK","brak w bazie") -> OK
A11: PULSAR | B11: 33443.34 | C11: 10731.441 | D11: 32.0884 | E11: =IF(COUNTIF('2021 Opiekun'!A:A,A11)=1,"OK","brak w bazie") -> OK
A12: SMREK | B12: 18524.11 | C12: 8670.3955 | D12: 46.806 | E12: =IF(COUNTIF('2021 Opiekun'!A:A,A12)=1,"OK","brak w bazie") -> OK
A13: GALDREW | B13: 18070.24 | C13: 7780.2171 | D13: 43.0554 | E13: =IF(COUNTIF('2021 Opiekun'!A:A,A13)=1,"OK","brak w bazie") -> OK
... A676: RESGRAPH | B676: 70407.04 | C676: -11220.71 | D676: -15.9369 | E676: =IF(COUNTIF('2021 Opiekun'!A:A,A676)=1,"OK","brak w bazie") -> OK

Sheet I K
A1: Nazwa | B1: Netto | C1: Zysk | D1: Marża
A2: HUSQVARNA | B2: 133303.07 | C2: 47175.29 | D2: 35.3894
A3: ROYALCAN2 | B3: 75842.82 | C3: 39494.207 | D3: 52.0737
A4: PHARMACOSM | B4: 66945.68 | C4: 29147.712 | D4: 43.5393
A5: RCKIK SZCZ | B5: 40408.75 | C5: 26924.452 | D5: 66.6302
A6: POLPLAST | B6: 77349.84 | C6: 19555.259 | D6: 25.2815
A7: CERKAMED | B7: 51066 | C7: 18505.053 | D7: 36.2375
A8: VESUVIUS | B8: 36329.75 | C8: 16147.44 | D8: 44.4468
A9: TECH | B9: 27359.02 | C9: 16104.484 | D9: 58.8635
A10: TEVA | B10: 46359.27 | C10: 13354.6 | D10: 28.8067
A11: CERSANIT | B11: 57910.51 | C11: 11873.323 | D11: 20.5028
A12: BITNER2 | B12: 39024.84 | C12: 10719.55 | D12: 27.4685
A13: MĄCZKA | B13: 43393.28 | C13: 9562.0567 | D13: 22.0358
... A64: STEINHOFGR | B64: 6226.32 | C64: 2570.28 | D64: 41.2808
A65: YKPOLAND | B65: 11832.32 | C65: =2554.24+'Epson Q1'!M5 -> 3493.26 | D65: 21.5869
A66: ZIELGAZ | B66: 4418.38 | C66: 2552.56 | D66: 57.7714
A67: SZPITALZAM | B67: 5530 | C67: 2527.19 | D67: 45.6996
A68: AXTONE | B68: 7125.6 | C68: 2524.4 | D68: 35.4271
A69: AG | B69: 4094.13 | C69: 2505.79 | D69: 61.2044
A70: ILLOCHROM3 | B70: 3935.88 | C70: 2421.3 | D70: 61.5186
A71: MORIS | B71: 8826.9 | C71: 2384.1 | D71: 27.0094
A72: SZPITALUNI | B72: 5252.18 | C72: 2305.414 | D72: 43.8944
A73: ALUTEC | B73: 8747.87 | C73: 2291.0804 | D73: 26.1901
A74: MAGKRAK | B74: 7213.48 | C74: 2287.97 | D74: 31.7179
A75: RCKIK KIEL | B75: 6770.05 | C75: 2273.1625 | D75: 33.5767
A76: RCKIK OLSZ | B76: 8580 | C76: 2263.2 | D76: 26.3776
A77: EUPHORA | B77: 5454.25 | C77: 2259.49 | D77: 41.4262
... A200: SIBET | B200: 4550 | C200: 687.75 | D200: 15.1153
A201: CAFFARO | B201: 5838.17 | C201: =678.01+'Epson Q1'!M13 -> 1103.3 | D201: 11.6133
A202: KAPRIN | B202: 3336.6 | C202: 674.3 | D202: 20.2091
A203: CTECH | B203: 1845.03 | C203: 667.61 | D203: 36.1842
A204: R&G | B204: 1234.8 | C204: 664.2 | D204: 53.79
A205: KARPIEL | B205: 1581.24 | C205: 661.8894 | D205: 41.8588
A206: INGLOT | B206: 1068.09 | C206: 655.38 | D206: 61.3599
A207: UTCCCS | B207: 5708.67 | C207: 641.27 | D207: 11.2332
A208: SUPERIOR | B208: 1727.16 | C208: 639.36 | D208: 37.0179
A209: MARROB | B209: 3261 | C209: 635.12 | D209: 19.4762
A210: VITROLIVE | B210: 1772.91 | C210: 634.69 | D210: 35.7993
A211: PMPPREF | B211: 1807.11 | C211: 628.02 | D211: 34.7527
A212: WERTEKS | B212: 1225 | C212: 598.35 | D212: 48.8448
...

Sheet II K
A1: Nazwa | B1: Netto | C1: Zysk | D1: Marża
A2: ROYALCAN2 | B2: 100729.41 | C2: 52644.542 | D2: 52.2633
A3: PHARMACOSM | B3: 90497.77 | C3: 44032.974 | D3: 48.6564
A4: TECH | B4: 41238.05 | C4: 24354.377 | D4: 59.058
A5: POLPLAST | B5: 86476.56 | C5: 23573.63 | D5: 27.2601
A6: RCKIK SZCZ | B6: 32580 | C6: 19411.228 | D6: 59.5801
A7: CERKAMED | B7: 46112.86 | C7: 19338.342 | D7: 41.9369
A8: HUSQVARNA | B8: 62545.67 | C8: 17771.805 | D8: 28.4141
A9: AXTONE | B9: 88277 | C9: 17403.33 | D9: 19.7144
A10: ARCELOR | B10: 77611.2 | C10: 17031.59 | D10: 21.9447
A11: CERSANIT | B11: 66442.52 | C11: 13968.273 | D11: 21.023
A12: MĄCZKA | B12: 52975.22 | C12: 13140.831 | D12: 24.8056
A13: TEVA | B13: 42281.46 | C13: 12558.185 | D13: 29.7013
... A393: TRADEX | B393: -2159.7 | C393: -1458.6 | D393: -67.5371

Sheet III K
A1: Nazwa | B1: Netto | C1: Zysk | D1: Marża
A2: POLPLAST | B2: 68276.45 | C2: 18430.229 | D2: 26.9935
A3: RCKIK WAR | B3: 27053.7 | C3: 6878.2119 | D3: 25.4242
A4: TREFL | B4: 9732.72 | C4: 4399.452 | D4: 45.2026
A5: DONPLAST | B5: 7653.67 | C5: 1381.2565 | D5: 18.0469
A6: BANERASTYL | B6: 4841.42 | C6: 1506.74 | D6: 31.1218
A7: SMREK | B7: 4587.34 | C7: 2151.1525 | D7: 46.8932
A8: AKTYWIZACJ | B8: 4244.71 | C8: 2488.1 | D8: 58.6164
A9: JUKA | B9: 4056.36 | C9: 2537.62 | D9: 62.559
A10: GALDREW | B10: 3984.55 | C10: 1520.0725 | D10: 38.1491
A11: RCKIK RADO | B11: 3842.25 | C11: 705.0395 | D11: 18.3496
A12: PULSAR | B12: 3766.42 | C12: 1116.751 | D12: 29.6501
A13: RCKIK SŁUP | B13: 3407 | C13: 1247.1 | D13: 36.604
... A395: LIMATHERM2 | B395: 20.12 | C395: 12.32 | D395: 61.2326

Sheet IV K
A1: Nazwa | B1: Netto | C1: Zysk | D1: Marża
A2: SAMBUD2SPJ | B2: 4393.28 | C2: -235.1 | D2: -5.3513
A3: CAFFARO | B3: 1831.1 | C3: -79.88 | D3: -4.3624
A4: OKPL | B4: 0 | C4: 0 | D4: 0
A5: RCKIK OPOL | B5: 3230 | C5: 354.818 | D5: 10.985
A6: ARKUS | B6: 2669.96 | C6: 293.72 | D6: 11.0009
A7: TARNWELL | B7: 170 | C7: 20 | D7: 11.7647
A8: PILCH | B8: 272.23 | C8: 33.818 | D8: 12.4225
A9: HHPOLSKA | B9: 46442 | C9: 5964.004 | D9: 12.8418
A10: MAAN2 | B10: 3310.6 | C10: 434.6 | D10: 13.1275
A11: RCKIK LODZ | B11: 5090.16 | C11: 701.555 | D11: 13.7825
A12: STALPRODWAM | B12: 280 | C12: 40 | D12: 14.2857
A13: UTCCCS | B13: 5464.79 | C13: 786.24 | D13: 14.3873
... A376: LABTRONIK | B376: 100 | C376: 93.92 | D376: 93.92

Sheet 2021 Opiekun
C1: I KW | E1: II KW | G1: III KW | I1: IV KW | K1: 2021
C2: obrót | D2: marża | E2: obrót | F2: marża | G2: obrót | H2: marża | I2: obrót | J2: marża | K2: obrót | L2: marża
A3: AG | B3: Tomasz Sypień; | C3: =SUMIF('I K'!A:A,A3,'I K'!B:B) -> 4094.13 | D3: =SUMIF('I K'!A:A,A3,'I K'!C:C) -> 2505.79 | E3: =SUMIF('II K'!A:A,A3,'II K'!B:B) -> 0 | F3: =SUMIF('II K'!A:A,A3,'II K'!C:C) -> 0 | G3: =SUMIF('III K'!A:A,A3,'III K'!B:B) -> 257.08 | H3: =SUMIF('III K'!A:A,A3,'III K'!C:C) -> 157.855 | I3: =SUMIF('IV K'!A:A,A3,'IV K'!B:B) -> 2706.05 | J3: =SUMIF('IV K'!A:A,A3,'IV K'!C:C) -> 1580.29 | K3: =SUMIF('2021 BEZ CLP'!A:A,A3,'2021 BEZ CLP'!B:B) -> 7057.26 | L3: =SUMIF('2021 BEZ CLP'!A:A,A3,'2021 BEZ CLP'!C:C) -> 4243.935
A4: AKTYWIZACJ | B4: Bartłomiej Biskupski; | C4: =SUMIF('I K'!A:A,A4,'I K'!B:B) -> 8430.72 | D4: =SUMIF('I K'!A:A,A4,'I K'!C:C) -> 3797.94 | E4: =SUMIF('II K'!A:A,A4,'II K'!B:B) -> 1449.96 | F4: =SUMIF('II K'!A:A,A4,'II K'!C:C) -> 585.36 | G4: =SUMIF('III K'!A:A,A4,'III K'!B:B) -> 4244.71 | H4: =SUMIF('III K'!A:A,A4,'III K'!C:C) -> 2488.1 | I4: =SUMIF('IV K'!A:A,A4,'IV K'!B:B) -> 0 | J4: =SUMIF('IV K'!A:A,A4,'IV K'!C:C) -> 0 | K4: =SUMIF('2021 BEZ CLP'!A:A,A4,'2021 BEZ CLP'!B:B) -> 14125.39 | L4: =SUMIF('2021 BEZ CLP'!A:A,A4,'2021 BEZ CLP'!C:C) -> 6871.4
A5: AMEX | B5: Krzysztof Szwajdych; | C5: =SUMIF('I K'!A:A,A5,'I K'!B:B) -> 0 | D5: =SUMIF('I K'!A:A,A5,'I K'!C:C) -> 0 | E5: =SUMIF('II K'!A:A,A5,'II K'!B:B) -> 0 | F5: =SUMIF('II K'!A:A,A5,'II K'!C:C) -> 0 | G5: =SUMIF('III K'!A:A,A5,'III K'!B:B) -> 1526.42 | H5: =SUMIF('III K'!A:A,A5,'III K'!C:C) -> 715.04 | I5: =SUMIF('IV K'!A:A,A5,'IV K'!B:B) -> 0 | J5: =SUMIF('IV K'!A:A,A5,'IV K'!C:C) -> 0 | K5: =SUMIF('2021 BEZ CLP'!A:A,A5,'2021 BEZ CLP'!B:B) -> 1526.42 | L5: =SUMIF('2021 BEZ CLP'!A:A,A5,'2021 BEZ CLP'!C:C) -> 715.04
A6: ASPEL | B6: Krzysztof Szwajdych; | C6: =SUMIF('I K'!A:A,A6,'I K'!B:B) -> 135.71 | D6: =SUMIF('I K'!A:A,A6,'I K'!C:C) -> 76.488 | E6: =SUMIF('II K'!A:A,A6,'II K'!B:B) -> 846.05 | F6: =SUMIF('II K'!A:A,A6,'II K'!C:C) -> 300.58 | G6: =SUMIF('III K'!A:A,A6,'III K'!B:B) -> 212.11 | H6: =SUMIF('III K'!A:A,A6,'III K'!C:C) -> 110.4 | I6: =SUMIF('IV K'!A:A,A6,'IV K'!B:B) -> 2060.58 | J6: =SUMIF('IV K'!A:A,A6,'IV K'!C:C) -> 897.362 | K6: =SUMIF('2021 BEZ CLP'!A:A,A6,'2021 BEZ CLP'!B:B) -> 3254.45 | L6: =SUMIF('2021 BEZ CLP'!A:A,A6,'2021 BEZ CLP'!C:C) -> 1384.83
A7: BANERASTYL | B7: Tomasz Sypień; | C7: =SUMIF('I K'!A:A,A7,'I K'!B:B) -> 0 | D7: =SUMIF('I K'!A:A,A7,'I K'!C:C) -> 0 | E7: =SUMIF('II K'!A:A,A7,'II K'!B:B) -> 0 | F7: =SUMIF('II K'!A:A,A7,'II K'!C:C) -> 0 | G7: =SUMIF('III K'!A:A,A7,'III K'!B:B) -> 4841.42 | H7: =SUMIF('III K'!A:A,A7,'III K'!C:C) -> 1506.74 | I7: =SUMIF('IV K'!A:A,A7,'IV K'!B:B) -> 0 | J7: =SUMIF('IV K'!A:A,A7,'IV K'!C:C) -> 0 | K7: =SUMIF('2021 BEZ CLP'!A:A,A7,'2021 BEZ CLP'!B:B) -> 4841.42 | L7: =SUMIF('2021 BEZ CLP'!A:A,A7,'2021 BEZ CLP'!C:C) -> 1506.74
A8: TREFL | B8: Bartłomiej Biskupski; | C8: =SUMIF('I K'!A:A,A8,'I K'!B:B) -> 14189.45 | D8: =SUMIF('I K'!A:A,A8,'I K'!C:C) -> 6793.876 | E8: =SUMIF('II K'!A:A,A8,'II K'!B:B) -> 10477.11 | F8: =SUMIF('II K'!A:A,A8,'II K'!C:C) -> 4841.526 | G8: =SUMIF('III K'!A:A,A8,'III K'!B:B) -> 9732.72 | H8: =SUMIF('III K'!A:A,A8,'III K'!C:C) -> 4399.452 | I8: =SUMIF('IV K'!A:A,A8,'IV K'!B:B) -> 19420.53 | J8: =SUMIF('IV K'!A:A,A8,'IV K'!C:C) -> 8950.486 | K8: =SUMIF('2021 BEZ CLP'!A:A,A8,'2021 BEZ CLP'!B:B) -> 53819.81 | L8: =SUMIF('2021 BEZ CLP'!A:A,A8,'2021 BEZ CLP'!C:C) -> 24985.34
A9: GORSTAL | B9: Krzysztof Szwajdych; | C9: =SUMIF('I K'!A:A,A9,'I K'!B:B) -> 2612.52 | D9: =SUMIF('I K'!A:A,A9,'I K'!C:C) -> 142.52 | E9: =SUMIF('II K'!A:A,A9,'II K'!B:B) -> 0 | F9: =SUMIF('II K'!A:A,A9,'II K'!C:C) -> 0 | G9: =SUMIF('III K'!A:A,A9,'III K'!B:B) -> 0 | H9: =SUMIF('III K'!A:A,A9,'III K'!C:C) -> 0 | I9: =SUMIF('IV K'!A:A,A9,'IV K'!B:B) -> 0 | J9: =SUMIF('IV K'!A:A,A9,'IV K'!C:C) -> 0 | K9: =SUMIF('2021 BEZ CLP'!A:A,A9,'2021 BEZ CLP'!B:B) -> 2612.52 | L9: =SUMIF('2021 BEZ CLP'!A:A,A9,'2021 BEZ CLP'!C:C) -> 142.52
A10: EBATABIS | B10: Tomasz Sypień; | C10: =SUMIF('I K'!A:A,A10,'I K'!B:B) -> 219.53 | D10: =SUMIF('I K'!A:A,A10,'I K'!C:C) -> 95.238 | E10: =SUMIF('II K'!A:A,A10,'II K'!B:B) -> 0 | F10: =SUMIF('II K'!A:A,A10,'II K'!C:C) -> 0 | G10: =SUMIF('III K'!A:A,A10,'III K'!B:B) -> 74.4 | H10: =SUMIF('III K'!A:A,A10,'III K'!C:C) -> 45.528 | I10: =SUMIF('IV K'!A:A,A10,'IV K'!B:B) -> 216.04 | J10: =SUMIF('IV K'!A:A,A10,'IV K'!C:C) -> 95.692 | K10: =SUMIF('2021 BEZ CLP'!A:A,A10,'2021 BEZ CLP'!B:B) -> 509.97 | L10: =SUMIF('2021 BEZ CLP'!A:A,A10,'2021 BEZ CLP'!C:C) -> 236.458
A11: BRUKBET | B11: Piotr Choma; | C11: =SUMIF('I K'!A:A,A11,'I K'!B:B) -> 5658.5 | D11: =SUMIF('I K'!A:A,A11,'I K'!C:C) -> 1321.5 | E11: =SUMIF('II K'!A:A,A11,'II K'!B:B) -> 13913.39 | F11: =SUMIF('II K'!A:A,A11,'II K'!C:C) -> 2451.65 | G11: =SUMIF('III K'!A:A,A11,'III K'!B:B) -> 500 | H11: =SUMIF('III K'!A:A,A11,'III K'!C:C) -> 474.24 | I11: =SUMIF('IV K'!A:A,A11,'IV K'!B:B) -> 9283 | J11: =SUMIF('IV K'!A:A,A11,'IV K'!C:C) -> 1536.54 | K11: =SUMIF('2021 BEZ CLP'!A:A,A11,'2021 BEZ CLP'!B:B) -> 29354.89 | L11: =SUMIF('2021 BEZ CLP'!A:A,A11,'2021 BEZ CLP'!C:C) -> 5783.93
A12: CERVAX | B12: Bartłomiej Biskupski; | C12: =SUMIF('I K'!A:A,A12,'I K'!B:B) -> 0 | D12: =SUMIF('I K'!A:A,A12,'I K'!C:C) -> 0 | E12: =SUMIF('II K'!A:A,A12,'II K'!B:B) -> 0 | F12: =SUMIF('II K'!A:A,A12,'II K'!C:C) -> 0 | G12: =SUMIF('III K'!A:A,A12,'III K'!B:B) -> 0 | H12: =SUMIF('III K'!A:A,A12,'III K'!C:C) -> 0 | I12: =SUMIF('IV K'!A:A,A12,'IV K'!B:B) -> 1567.78 | J12: =SUMIF('IV K'!A:A,A12,'IV K'!C:C) -> 611.92 | K12: =SUMIF('2021 BEZ CLP'!A:A,A12,'2021 BEZ CLP'!B:B) -> 1567.78 | L12: =SUMIF('2021 BEZ CLP'!A:A,A12,'2021 BEZ CLP'!C:C) -> 611.92
A13: CONHPOL-BI | B13: Krzysztof Szwajdych; | C13: =SUMIF('I K'!A:A,A13,'I K'!B:B) -> 0 | D13: =SUMIF('I K'!A:A,A13,'I K'!C:C) -> 0 | E13: =SUMIF('II K'!A:A,A13,'II K'!B:B) -> 0 | F13: =SUMIF('II K'!A:A,A13,'II K'!C:C) -> 0 | G13: =SUMIF('III K'!A:A,A13,'III K'!B:B) -> 0 | H13: =SUMIF('III K'!A:A,A13,'III K'!C:C) -> 0 | I13: =SUMIF('IV K'!A:A,A13,'IV K'!B:B) -> 58.66 | J13: =SUMIF('IV K'!A:A,A13,'IV K'!C:C) -> 29.668 | K13: =SUMIF('2021 BEZ CLP'!A:A,A13,'2021 BEZ CLP'!B:B) -> 58.66 | L13: =SUMIF('2021 BEZ CLP'!A:A,A13,'2021 BEZ CLP'!C:C) -> 29.668
A14: DONPLAST | B14: Bartłomiej Biskupski; | C14: =SUMIF('I K'!A:A,A14,'I K'!B:B) -> 5444.89 | D14: =SUMIF('I K'!A:A,A14,'I K'!C:C) -> 984.033 | E14: =SUMIF('II K'!A:A,A14,'II K'!B:B) -> 4211.48 | F14: =SUMIF('II K'!A:A,A14,'II K'!C:C) -> 572.2865 | G14: =SUMIF('III K'!A:A,A14,'III K'!B:B) -> 7653.67 | H14: =SUMIF('III K'!A:A,A14,'III K'!C:C) -> 1381.2565 | I14: =SUMIF('IV K'!A:A,A14,'IV K'!B:B) -> 8550.45 | J14: =SUMIF('IV K'!A:A,A14,'IV K'!C:C) -> 1387.3355 | K14: =SUMIF('2021 BEZ CLP'!A:A,A14,'2021 BEZ CLP'!B:B) -> 25860.49 | L14: =SUMIF('2021 BEZ CLP'!A:A,A14,'2021 BEZ CLP'!C:C) -> 4324.9115
... A263: SŁOWACKI | B263: Tomasz Sypień; | C263: =SUMIF('I K'!A:A,A263,'I K'!B:B) -> 0 | D263: =SUMIF('I K'!A:A,A263,'I K'!C:C) -> 0 | E263: =SUMIF('II K'!A:A,A263,'II K'!B:B) -> 0 | F263: =SUMIF('II K'!A:A,A263,'II K'!C:C) -> 0 | G263: =SUMIF('III K'!A:A,A263,'III K'!B:B) -> 0 | H263: =SUMIF('III K'!A:A,A263,'III K'!C:C) -> 0 | I263: =SUMIF('IV K'!A:A,A263,'IV K'!B:B) -> 4102.71 | J263: =SUMIF('IV K'!A:A,A263,'IV K'!C:C) -> 852.2916 | K263: =SUMIF('2021 BEZ CLP'!A:A,A263,'2021 BEZ CLP'!B:B) -> 4102.71 | L263: =SUMIF('2021 BEZ CLP'!A:A,A263,'2021 BEZ CLP'!C:C) -> 852.2916
A264: CAFFARO | B264: Tomasz Sypień; | C264: =SUMIF('I K'!A:A,A264,'I K'!B:B) -> 5838.17 | D264: =SUMIF('I K'!A:A,A264,'I K'!C:C) -> 1103.3 | E264: =SUMIF('II K'!A:A,A264,'II K'!B:B) -> 4746.71 | F264: =SUMIF('II K'!A:A,A264,'II K'!C:C) -> 703.05 | G264: =SUMIF('III K'!A:A,A264,'III K'!B:B) -> 2346.72 | H264: =SUMIF('III K'!A:A,A264,'III K'!C:C)+'Epson Q3'!I11 -> 576.8175 | I264: =SUMIF('IV K'!A:A,A264,'IV K'!B:B) -> 1831.1 | J264: =SUMIF('IV K'!A:A,A264,'IV K'!C:C) -> -79.88 | K264: =SUMIF('2021 BEZ CLP'!A:A,A264,'2021 BEZ CLP'!B:B) -> 14762.7 | L264: =SUMIF('2021 BEZ CLP'!A:A,A264,'2021 BEZ CLP'!C:C)+Epson21!I11 -> 2923.0725
A265: CRACOVIA | B265: Piotr Choma; | C265: =SUMIF('I K'!A:A,A265,'I K'!B:B) -> 0 | D265: =SUMIF('I K'!A:A,A265,'I K'!C:C) -> 0 | E265: =SUMIF('II K'!A:A,A265,'II K'!B:B) -> 0 | F265: =SUMIF('II K'!A:A,A265,'II K'!C:C) -> 0 | G265: =SUMIF('III K'!A:A,A265,'III K'!B:B) -> 12804.57 | H265: =SUMIF('III K'!A:A,A265,'III K'!C:C) -> 4003.8929 | I265: =SUMIF('IV K'!A:A,A265,'IV K'!B:B) -> 0 | J265: =SUMIF('IV K'!A:A,A265,'IV K'!C:C) -> 0 | K265: =SUMIF('2021 BEZ CLP'!A:A,A265,'2021 BEZ CLP'!B:B) -> 12804.57 | L265: =SUMIF('2021 BEZ CLP'!A:A,A265,'2021 BEZ CLP'!C:C) -> 4003.8929
A266: COZL | B266: Tomasz Sypień; | C266: =SUMIF('I K'!A:A,A266,'I K'!B:B) -> 0 | D266: =SUMIF('I K'!A:A,A266,'I K'!C:C) -> 0 | E266: =SUMIF('II K'!A:A,A266,'II K'!B:B) -> 4615 | F266: =SUMIF('II K'!A:A,A266,'II K'!C:C) -> 1841.75 | G266: =SUMIF('III K'!A:A,A266,'III K'!B:B) -> 0 | H266: =SUMIF('III K'!A:A,A266,'III K'!C:C) -> 0 | I266: =SUMIF('IV K'!A:A,A266,'IV K'!B:B) -> 0 | J266: =SUMIF('IV K'!A:A,A266,'IV K'!C:C) -> 0 | K266: =SUMIF('2021 BEZ CLP'!A:A,A266,'2021 BEZ CLP'!B:B) -> 4615 | L266: =SUMIF('2021 BEZ CLP'!A:A,A266,'2021 BEZ CLP'!C:C) -> 1841.75
A267: MARLUX | B267: Tomasz Sypień; | C267: =SUMIF('I K'!A:A,A267,'I K'!B:B) -> 0 | D267: =SUMIF('I K'!A:A,A267,'I K'!C:C) -> 0 | E267: =SUMIF('II K'!A:A,A267,'II K'!B:B) -> 1500 | F267: =SUMIF('II K'!A:A,A267,'II K'!C:C) -> 418.77 | G267: =SUMIF('III K'!A:A,A267,'III K'!B:B) -> 0 | H267: =SUMIF('III K'!A:A,A267,'III K'!C:C) -> 0 | I267: =SUMIF('IV K'!A:A,A267,'IV K'!B:B) -> 0 | J267: =SUMIF('IV K'!A:A,A267,'IV K'!C:C) -> 0 | K267: =SUMIF('2021 BEZ CLP'!A:A,A267,'2021 BEZ CLP'!B:B) -> 1500 | L267: =SUMIF('2021 BEZ CLP'!A:A,A267,'2021 BEZ CLP'!C:C) -> 418.77
A268: TAKT | B268: Piotr Choma; | C268: =SUMIF('I K'!A:A,A268,'I K'!B:B) -> 409.86 | D268: =SUMIF('I K'!A:A,A268,'I K'!C:C) -> 304.865 | E268: =SUMIF('II K'!A:A,A268,'II K'!B:B) -> 0 | F268: =SUMIF('II K'!A:A,A268,'II K'!C:C) -> 0 | G268: =SUMIF('III K'!A:A,A268,'III K'!B:B) -> 0 | H268: =SUMIF('III K'!A:A,A268,'III K'!C:C) -> 0 | I268: =SUMIF('IV K'!A:A,A268,'IV K'!B:B) -> 0 | J268: =SUMIF('IV K'!A:A,A268,'IV K'!C:C) -> 0 | K268: =SUMIF('2021 BEZ CLP'!A:A,A268,'2021 BEZ CLP'!B:B) -> 409.86 | L268: =SUMIF('2021 BEZ CLP'!A:A,A268,'2021 BEZ CLP'!C:C) -> 304.865
A269: PABOR | B269: Tomasz Sypień; | C269: =SUMIF('I K'!A:A,A269,'I K'!B:B) -> 1772.1 | D269: =SUMIF('I K'!A:A,A269,'I K'!C:C) -> 323.476 | E269: =SUMIF('II K'!A:A,A269,'II K'!B:B) -> 1283.65 | F269: =SUMIF('II K'!A:A,A269,'II K'!C:C) -> 206.942 | G269: =SUMIF('III K'!A:A,A269,'III K'!B:B) -> 1932.99 | H269: =SUMIF('III K'!A:A,A269,'III K'!C:C) -> 334.426 | I269: =SUMIF('IV K'!A:A,A269,'IV K'!B:B) -> 0 | J269: =SUMIF('IV K'!A:A,A269,'IV K'!C:C) -> 0 | K269: =SUMIF('2021 BEZ CLP'!A:A,A269,'2021 BEZ CLP'!B:B) -> 4988.74 | L269: =SUMIF('2021 BEZ CLP'!A:A,A269,'2021 BEZ CLP'!C:C) -> 864.844
A270: ŁYSOŃ3 | B270: Krzysztof Szwajdych; | C270: =SUMIF('I K'!A:A,A270,'I K'!B:B) -> 0 | D270: =SUMIF('I K'!A:A,A270,'I K'!C:C) -> 0 | E270: =SUMIF('II K'!A:A,A270,'II K'!B:B) -> 2646.15 | F270: =SUMIF('II K'!A:A,A270,'II K'!C:C) -> 1116 | G270: =SUMIF('III K'!A:A,A270,'III K'!B:B) -> 293.8 | H270: =SUMIF('III K'!A:A,A270,'III K'!C:C) -> 128.52 | I270: =SUMIF('IV K'!A:A,A270,'IV K'!B:B) -> 0 | J270: =SUMIF('IV K'!A:A,A270,'IV K'!C:C) -> 0 | K270: =SUMIF('2021 BEZ CLP'!A:A,A270,'2021 BEZ CLP'!B:B) -> 2939.95 | L270: =SUMIF('2021 BEZ CLP'!A:A,A270,'2021 BEZ CLP'!C:C) -> 1244.52
A271: NORMA VARI | B271: Krzysztof Szwajdych; | C271: =SUMIF('I K'!A:A,A271,'I K'!B:B) -> 31392.14 | D271: =SUMIF('I K'!A:A,A271,'I K'!C:C) -> 8169.07 | E271: =SUMIF('II K'!A:A,A271,'II K'!B:B) -> 27316.52 | F271: =SUMIF('II K'!A:A,A271,'II K'!C:C) -> 5724.13 | G271: =SUMIF('III K'!A:A,A271,'III K'!B:B) -> 22500.84 | H271: =SUMIF('III K'!A:A,A271,'III K'!C:C) -> 5413.655 | I271: =SUMIF('IV K'!A:A,A271,'IV K'!B:B) -> 29214.07 | J271: =SUMIF('IV K'!A:A,A271,'IV K'!C:C) -> 6427.965 | K271: =SUMIF('2021 BEZ CLP'!A:A,A271,'2021 BEZ CLP'!B:B) -> 110423.57 | L271: =SUMIF('2021 BEZ CLP'!A:A,A271,'2021 BEZ CLP'!C:C) -> 25734.82
A272: CAOLIN | B272: Bartłomiej Biskupski; | C272: =SUMIF('I K'!A:A,A272,'I K'!B:B) -> 4708.8 | D272: =SUMIF('I K'!A:A,A272,'I K'!C:C) -> 1106.37 | E272: =SUMIF('II K'!A:A,A272,'II K'!B:B) -> 10163.3 | F272: =SUMIF('II K'!A:A,A272,'II K'!C:C) -> 1566.856 | G272: =SUMIF('III K'!A:A,A272,'III K'!B:B) -> 900 | H272: =SUMIF('III K'!A:A,A272,'III K'!C:C) -> 656.35 | I272: =SUMIF('IV K'!A:A,A272,'IV K'!B:B) -> 6881.4 | J272: =SUMIF('IV K'!A:A,A272,'IV K'!C:C) -> 1551.024 | K272: =SUMIF('2021 BEZ CLP'!A:A,A272,'2021 BEZ CLP'!B:B) -> 22653.5 | L272: =SUMIF('2021 BEZ CLP'!A:A,A272,'2021 BEZ CLP'!C:C) -> 4880.6
A273: ELKAG | B273: Tomasz Sypień; | C273: =SUMIF('I K'!A:A,A273,'I K'!B:B) -> 0 | D273: =SUMIF('I K'!A:A,A273,'I K'!C:C) -> 0 | E273: =SUMIF('II K'!A:A,A273,'II K'!B:B) -> 0 | F273: =SUMIF('II K'!A:A,A273,'II K'!C:C) -> 0 | G273: =SUMIF('III K'!A:A,A273,'III K'!B:B) -> 0 | H273: =SUMIF('III K'!A:A,A273,'III K'!C:C) -> 0 | I273: =SUMIF('IV K'!A:A,A273,'IV K'!B:B) -> 618.82 | J273: =SUMIF('IV K'!A:A,A273,'IV K'!C:C) -> 340.84 | K273: =SUMIF('2021 BEZ CLP'!A:A,A273,'2021 BEZ CLP'!B:B) -> 618.82 | L273: =SUMIF('2021 BEZ CLP'!A:A,A273,'2021 BEZ CLP'!C:C) -> 340.84
A274: DOOSAN | B274: Tomasz Sypień; | C274: =SUMIF('I K'!A:A,A274,'I K'!B:B) -> 0 | D274: =SUMIF('I K'!A:A,A274,'I K'!C:C) -> 0 | E274: =SUMIF('II K'!A:A,A274,'II K'!B:B) -> 2346 | F274: =SUMIF('II K'!A:A,A274,'II K'!C:C) -> 1062.584 | G274: =SUMIF('III K'!A:A,A274,'III K'!B:B) -> 900 | H274: =SUMIF('III K'!A:A,A274,'III K'!C:C) -> 372 | I274: =SUMIF('IV K'!A:A,A274,'IV K'!B:B) -> 0 | J274: =SUMIF('IV K'!A:A,A274,'IV K'!C:C) -> 0 | K274: =SUMIF('2021 BEZ CLP'!A:A,A274,'2021 BEZ CLP'!B:B) -> 3246 | L274: =SUMIF('2021 BEZ CLP'!A:A,A274,'2021 BEZ CLP'!C:C) -> 1434.584
A275: KASZKIET | B275: Tomasz Sypień; | C275: =SUMIF('I K'!A:A,A275,'I K'!B:B) -> 0 | D275: =SUMIF('I K'!A:A,A275,'I K'!C:C) -> 0 | E275: =SUMIF('II K'!A:A,A275,'II K'!B:B) -> 0 | F275: =SUMIF('II K'!A:A,A275,'II K'!C:C) -> 0 | G275: =SUMIF('III K'!A:A,A275,'III K'!B:B) -> 0 | H275: =SUMIF('III K'!A:A,A275,'III K'!C:C) -> 0 | I275: =SUMIF('IV K'!A:A,A275,'IV K'!B:B) -> 684.35 | J275: =SUMIF('IV K'!A:A,A275,'IV K'!C:C) -> 455.15 | K275: =SUMIF('2021 BEZ CLP'!A:A,A275,'2021 BEZ CLP'!B:B) -> 684.35 | L275: =SUMIF('2021 BEZ CLP'!A:A,A275,'2021 BEZ CLP'!C:C) -> 455.15
A276: SPLAST | B276: Piotr Choma; | C276: =SUMIF('I K'!A:A,A276,'I K'!B:B) -> 9902.89 | D276: =SUMIF('I K'!A:A,A276,'I K'!C:C) -> 4216.556 | E276: =SUMIF('II K'!A:A,A276,'II K'!B:B) -> 6740.37 | F276: =SUMIF('II K'!A:A,A276,'II K'!C:C) -> 2836.795 | G276: =SUMIF('III K'!A:A,A276,'III K'!B:B) -> 6350.35 | H276: =SUMIF('III K'!A:A,A276,'III K'!C:C) -> 2553.712 | I276: =SUMIF('IV K'!A:A,A276,'IV K'!B:B) -> 5189.07 | J276: =SUMIF('IV K'!A:A,A276,'IV K'!C:C) -> 2475.727 | K276: =SUMIF('2021 BEZ CLP'!A:A,A276,'2021 BEZ CLP'!B:B) -> 28182.68 | L276: =SUMIF('2021 BEZ CLP'!A:A,A276,'2021 BEZ CLP'!C:C) -> 12082.79
... A303: ZABOROWSCY | B303: Tomasz Sypień; | C303: =SUMIF('I K'!A:A,A303,'I K'!B:B) -> 0 | D303: =SUMIF('I K'!A:A,A303,'I K'!C:C) -> 0 | E303: =SUMIF('II K'!A:A,A303,'II K'!B:B) -> 3599.2 | F303: =SUMIF('II K'!A:A,A303,'II K'!C:C) -> 2278.284 | G303: =SUMIF('III K'!A:A,A303,'III K'!B:B) -> 0 | H303: =SUMIF('III K'!A:A,A303,'III K'!C:C) -> 0 | I303: =SUMIF('IV K'!A:A,A303,'IV K'!B:B) -> 5735.37 | J303: =SUMIF('IV K'!A:A,A303,'IV K'!C:C) -> 3020.5187 | K303: =SUMIF('2021 BEZ CLP'!A:A,A303,'2021 BEZ CLP'!B:B) -> 9334.57 | L303: =SUMIF('2021 BEZ CLP'!A:A,A303,'2021 BEZ CLP'!C:C) -> 5298.8027
A304: YKPOLAND | B304: Piotr Choma; | C304: =SUMIF('I K'!A:A,A304,'I K'!B:B) -> 11832.32 | D304: =SUMIF('I K'!A:A,A304,'I K'!C:C) -> 3493.26 | E304: =SUMIF('II K'!A:A,A304,'II K'!B:B) -> 4584.84 | F304: =SUMIF('II K'!A:A,A304,'II K'!C:C) -> 1251.864 | G304: =SUMIF('III K'!A:A,A304,'III K'!B:B) -> 2901.02 | H304: =SUMIF('III K'!A:A,A304,'III K'!C:C)+'Epson Q3'!I26 -> 743.2775 | I304: =SUMIF('IV K'!A:A,A304,'IV K'!B:B) -> 12021.81 | J304: =SUMIF('IV K'!A:A,A304,'IV K'!C:C) -> 3125.13 | K304: =SUMIF('2021 BEZ CLP'!A:A,A304,'2021 BEZ CLP'!B:B) -> 31339.99 | L304: =SUMIF('2021 BEZ CLP'!A:A,A304,'2021 BEZ CLP'!C:C)+Epson21!I26 -> 9803.7515
A305: SZPITALSZCZ | B305: Tomasz Sypień; | C305: =SUMIF('I K'!A:A,A305,'I K'!B:B) -> 0 | D305: =SUMIF('I K'!A:A,A305,'I K'!C:C) -> 0 | E305: =SUMIF('II K'!A:A,A305,'II K'!B:B) -> 0 | F305: =SUMIF('II K'!A:A,A305,'II K'!C:C) -> 0 | G305: =SUMIF('III K'!A:A,A305,'III K'!B:B) -> 0 | H305: =SUMIF('III K'!A:A,A305,'III K'!C:C) -> 0 | I305: =SUMIF('IV K'!A:A,A305,'IV K'!B:B) -> 0 | J305: =SUMIF('IV K'!A:A,A305,'IV K'!C:C) -> 0 | K305: =SUMIF('2021 BEZ CLP'!A:A,A305,'2021 BEZ CLP'!B:B) -> 660 | L305: =SUMIF('2021 BEZ CLP'!A:A,A305,'2021 BEZ CLP'!C:C) -> 238.8
A306: AUTOMONT | B306: Krzysztof Szwajdych; | C306: =SUMIF('I K'!A:A,A306,'I K'!B:B) -> 0 | D306: =SUMIF('I K'!A:A,A306,'I K'!C:C) -> 0 | E306: =SUMIF('II K'!A:A,A306,'II K'!B:B) -> 0 | F306: =SUMIF('II K'!A:A,A306,'II K'!C:C) -> 0 | G306: =SUMIF('III K'!A:A,A306,'III K'!B:B) -> 0 | H306: =SUMIF('III K'!A:A,A306,'III K'!C:C) -> 0 | I306: =SUMIF('IV K'!A:A,A306,'IV K'!B:B) -> 0 | J306: =SUMIF('IV K'!A:A,A306,'IV K'!C:C) -> 0 | K306: =SUMIF('2021 BEZ CLP'!A:A,A306,'2021 BEZ CLP'!B:B) -> 0 | L306: =SUMIF('2021 BEZ CLP'!A:A,A306,'2021 BEZ CLP'!C:C) -> 0
A307: PATRZALEK | B307: Tomasz Sypień; | C307: =SUMIF('I K'!A:A,A307,'I K'!B:B) -> 0 | D307: =SUMIF('I K'!A:A,A307,'I K'!C:C) -> 0 | E307: =SUMIF('II K'!A:A,A307,'II K'!B:B) -> 0 | F307: =SUMIF('II K'!A:A,A307,'II K'!C:C) -> 0 | G307: =SUMIF('III K'!A:A,A307,'III K'!B:B) -> 220.74 | H307: =SUMIF('III K'!A:A,A307,'III K'!C:C) -> 111.745 | I307: =SUMIF('IV K'!A:A,A307,'IV K'!B:B) -> 0 | J307: =SUMIF('IV K'!A:A,A307,'IV K'!C:C) -> 0 | K307: =SUMIF('2021 BEZ CLP'!A:A,A307,'2021 BEZ CLP'!B:B) -> 220.74 | L307: =SUMIF('2021 BEZ CLP'!A:A,A307,'2021 BEZ CLP'!C:C) -> 111.745
A308: DND | B308: Krzysztof Szwajdych; | C308: =SUMIF('I K'!A:A,A308,'I K'!B:B) -> 0 | D308: =SUMIF('I K'!A:A,A308,'I K'!C:C) -> 0 | E308: =SUMIF('II K'!A:A,A308,'II K'!B:B) -> 0 | F308: =SUMIF('II K'!A:A,A308,'II K'!C:C) -> 0 | G308: =SUMIF('III K'!A:A,A308,'III K'!B:B) -> 0 | H308: =SUMIF('III K'!A:A,A308,'III K'!C:C) -> 0 | I308: =SUMIF('IV K'!A:A,A308,'IV K'!B:B) -> 0 | J308: =SUMIF('IV K'!A:A,A308,'IV K'!C:C) -> 0 | K308: =SUMIF('2021 BEZ CLP'!A:A,A308,'2021 BEZ CLP'!B:B) -> 0 | L308: =SUMIF('2021 BEZ CLP'!A:A,A308,'2021 BEZ CLP'!C:C) -> 0
A309: COMPLETE | B309: Tomasz Sypień; | C309: =SUMIF('I K'!A:A,A309,'I K'!B:B) -> 0 | D309: =SUMIF('I K'!A:A,A309,'I K'!C:C) -> 0 | E309: =SUMIF('II K'!A:A,A309,'II K'!B:B) -> 0 | F309: =SUMIF('II K'!A:A,A309,'II K'!C:C) -> 0 | G309: =SUMIF('III K'!A:A,A309,'III K'!B:B) -> 180.29 | H309: =SUMIF('III K'!A:A,A309,'III K'!C:C) -> 81.89 | I309: =SUMIF('IV K'!A:A,A309,'IV K'!B:B) -> 0 | J309: =SUMIF('IV K'!A:A,A309,'IV K'!C:C) -> 0 | K309: =SUMIF('2021 BEZ CLP'!A:A,A309,'2021 BEZ CLP'!B:B) -> 180.29 | L309: =SUMIF('2021 BEZ CLP'!A:A,A309,'2021 BEZ CLP'!C:C) -> 81.89
A310: IDEA | B310: Bartłomiej Biskupski; | C310: =SUMIF('I K'!A:A,A310,'I K'!B:B) -> 0 | D310: =SUMIF('I K'!A:A,A310,'I K'!C:C) -> 0 | E310: =SUMIF('II K'!A:A,A310,'II K'!B:B) -> 0 | F310: =SUMIF('II K'!A:A,A310,'II K'!C:C) -> 0 | G310: =SUMIF('III K'!A:A,A310,'III K'!B:B) -> 0 | H310: =SUMIF('III K'!A:A,A310,'III K'!C:C) -> 0 | I310: =SUMIF('IV K'!A:A,A310,'IV K'!B:B) -> 6652.37 | J310: =SUMIF('IV K'!A:A,A310,'IV K'!C:C) -> 2316.39 | K310: =SUMIF('2021 BEZ CLP'!A:A,A310,'2021 BEZ CLP'!B:B) -> 6652.37 | L310: =SUMIF('2021 BEZ CLP'!A:A,A310,'2021 BEZ CLP'!C:C) -> 2316.39
A311: PSSEJAW | B311: Tomasz Sypień; | C311: =SUMIF('I K'!A:A,A311,'I K'!B:B) -> 0 | D311: =SUMIF('I K'!A:A,A311,'I K'!C:C) -> 0 | E311: =SUMIF('II K'!A:A,A311,'II K'!B:B) -> 0 | F311: =SUMIF('II K'!A:A,A311,'II K'!C:C) -> 0 | G311: =SUMIF('III K'!A:A,A311,'III K'!B:B) -> 0 | H311: =SUMIF('III K'!A:A,A311,'III K'!C:C) -> 0 | I311: =SUMIF('IV K'!A:A,A311,'IV K'!B:B) -> 101.5 | J311: =SUMIF('IV K'!A:A,A311,'IV K'!C:C) -> 75.197 | K311: =SUMIF('2021 BEZ CLP'!A:A,A311,'2021 BEZ CLP'!B:B) -> 101.5 | L311: =SUMIF('2021 BEZ CLP'!A:A,A311,'2021 BEZ CLP'!C:C) -> 75.197
A312: STALPRODWAM | B312: Bartłomiej Biskupski; | C312: =SUMIF('I K'!A:A,A312,'I K'!B:B) -> 0 | D312: =SUMIF('I K'!A:A,A312,'I K'!C:C) -> 0 | E312: =SUMIF('II K'!A:A,A312,'II K'!B:B) -> 0 | F312: =SUMIF('II K'!A:A,A312,'II K'!C:C) -> 0 | G312: =SUMIF('III K'!A:A,A312,'III K'!B:B) -> 0 | H312: =SUMIF('III K'!A:A,A312,'III K'!C:C) -> 0 | I312: =SUMIF('IV K'!A:A,A312,'IV K'!B:B) -> 280 | J312: =SUMIF('IV K'!A:A,A312,'IV K'!C:C) -> 40 | K312: =SUMIF('2021 BEZ CLP'!A:A,A312,'2021 BEZ CLP'!B:B) -> 280 | L312: =SUMIF('2021 BEZ CLP'!A:A,A312,'2021 BEZ CLP'!C:C) -> 40
A313: MTU | B313: Piotr Choma; | C313: =SUMIF('I K'!A:A,A313,'I K'!B:B) -> 4438 | D313: =SUMIF('I K'!A:A,A313,'I K'!C:C) -> 466.5 | E313: =SUMIF('II K'!A:A,A313,'II K'!B:B) -> 0 | F313: =SUMIF('II K'!A:A,A313,'II K'!C:C) -> 0 | G313: =SUMIF('III K'!A:A,A313,'III K'!B:B) -> 0 | H313: =SUMIF('III K'!A:A,A313,'III K'!C:C) -> 0 | I313: =SUMIF('IV K'!A:A,A313,'IV K'!B:B) -> 1549.4 | J313: =SUMIF('IV K'!A:A,A313,'IV K'!C:C) -> 946.756 | K313: =SUMIF('2021 BEZ CLP'!A:A,A313,'2021 BEZ CLP'!B:B) -> 5987.4 | L313: =SUMIF('2021 BEZ CLP'!A:A,A313,'2021 BEZ CLP'!C:C) -> 1413.256
A314: PRODUKTSOL | B314: Tomasz Sypień; | C314: =SUMIF('I K'!A:A,A314,'I K'!B:B) -> 462 | D314: =SUMIF('I K'!A:A,A314,'I K'!C:C) -> 256.2 | E314: =SUMIF('II K'!A:A,A314,'II K'!B:B) -> 0 | F314: =SUMIF('II K'!A:A,A314,'II K'!C:C) -> 0 | G314: =SUMIF('III K'!A:A,A314,'III K'!B:B) -> 0 | H314: =SUMIF('III K'!A:A,A314,'III K'!C:C) -> 0 | I314: =SUMIF('IV K'!A:A,A314,'IV K'!B:B) -> 0 | J314: =SUMIF('IV K'!A:A,A314,'IV K'!C:C) -> 0 | K314: =SUMIF('2021 BEZ CLP'!A:A,A314,'2021 BEZ CLP'!B:B) -> 462 | L314: =SUMIF('2021 BEZ CLP'!A:A,A314,'2021 BEZ CLP'!C:C) -> 256.2
...

Sheet Obliczenia
B1: Q1 | D1: ROK | F1: Średnia Q | H1: Średnia Średnia ART. | J1: Wzrost | L1: CLP | N1: Projekty | P1: Suma Q1
B2: Obrót | C2: Marża | D2: Obrót | E2: Marża | F2: Obrót | G2: Marża | H2: Obrót | I2: Marża | J2: Obrót | K2: Marża | L2: Obrót | M2: Marża | N2: Obrót | O2: Marża | P2: Obrót | Q2: Marża | S2: 2022 | V2: 2021
A3: Tomasz Sypień; | B3: =SUMIF('2021 Opiekun'!B:B,A3,'2021 Opiekun'!C:C) -> 338862.73 | C3: =SUMIF('2021 Opiekun'!B:B,A3,'2021 Opiekun'!D:D) -> 136070.84 | D3: =SUMIF('2021 Opiekun'!B:B,A3,'2021 Opiekun'!K:K) -> 1369134.5 | E3: =SUMIF('2021 Opiekun'!B:B,A3,'2021 Opiekun'!L:L) -> 551163.77 | F3: =D3/4 -> 342283.63 | G3: =E3/4 -> 137790.94 | H3: =(F3+B3)/2 -> 340573.18 | I3: =(G3+C3)/2 -> 136930.89 | J3: 0.1 | K3: 0.07 | P3: =H3*J3+H3+L3+N3 -> 374630.5 | Q3: =I3*K3+I3+M3+O3 -> 146516.05 | R3: =Q3/P3 -> 0.39109484 | S3: 375000 | T3: 146000 | V3: 375000 | W3: 145000
A4: Grupa RCKIK; | B4: =SUMIF('2021 Opiekun'!B:B,A4,'2021 Opiekun'!C:C) -> 238999.51 | C4: =SUMIF('2021 Opiekun'!B:B,A4,'2021 Opiekun'!D:D) -> 75043.772 | D4: =SUMIF('2021 Opiekun'!B:B,A4,'2021 Opiekun'!K:K) -> 967070.83 | E4: =SUMIF('2021 Opiekun'!B:B,A4,'2021 Opiekun'!L:L) -> 300875.74 | F4: =D4/4 -> 241767.71 | G4: =E4/4 -> 75218.935 | H4: =(F4+B4)/2 -> 240383.61 | I4: =(G4+C4)/2 -> 75131.354 | J4: 0.1 | K4: 0.07 | P4: =H4*J4+H4+L4+N4 -> 264421.97 | Q4: =I4*K4+I4+M4+O4 -> 80390.548 | R4: =Q4/P4 -> 0.30402371 | S4: 300000 | T4: 88000 | V4: 350000 | W4: 120000
A5: Bartłomiej Biskupski; | B5: =SUMIF('2021 Opiekun'!B:B,A5,'2021 Opiekun'!C:C) -> 486641.69 | C5: =SUMIF('2021 Opiekun'!B:B,A5,'2021 Opiekun'!D:D) -> 167101.91 | D5: =SUMIF('2021 Opiekun'!B:B,A5,'2021 Opiekun'!K:K) -> 2093583.6 | E5: =SUMIF('2021 Opiekun'!B:B,A5,'2021 Opiekun'!L:L) -> 726453.68 | F5: =D5/4 -> 523395.9 | G5: =E5/4 -> 181613.42 | H5: =(F5+B5)/2 -> 505018.8 | I5: =(G5+C5)/2 -> 174357.66 | J5: 0.17 | K5: 0.125 | P5: =H5*J5+H5+L5+N5 -> 590871.99 | Q5: =I5*K5+I5+M5+O5 -> 196152.37 | R5: =Q5/P5 -> 0.33197101 | S5: 583000 | T5: 194500 | V5: 685000 | W5: 204000
A6: Piotr Choma; | B6: =SUMIF('2021 Opiekun'!B:B,A6,'2021 Opiekun'!C:C) -> 765691.77 | C6: =SUMIF('2021 Opiekun'!B:B,A6,'2021 Opiekun'!D:D) -> 244350.46 | D6: =SUMIF('2021 Opiekun'!B:B,A6,'2021 Opiekun'!K:K) -> 2764524.3 | E6: =SUMIF('2021 Opiekun'!B:B,A6,'2021 Opiekun'!L:L) -> 895982.56 | F6: =D6/4 -> 691131.06 | G6: =E6/4 -> 223995.64 | H6: =(F6+B6)/2 -> 728411.42 | I6: =(G6+C6)/2 -> 234173.05 | J6: 0.17 | K6: 0.125 | P6: =H6*J6+H6+L6+N6 -> 852241.36 | Q6: =I6*K6+I6+M6+O6 -> 263444.68 | R6: =Q6/P6 -> 0.30911981 | S6: 811000 | T6: 254500 | V6: 775000 | W6: 238000
A7: Krzysztof Szwajdych; | B7: =SUMIF('2021 Opiekun'!B:B,A7,'2021 Opiekun'!C:C) -> 429797.35 | C7: =SUMIF('2021 Opiekun'!B:B,A7,'2021 Opiekun'!D:D) -> 152834.24 | D7: =SUMIF('2021 Opiekun'!B:B,A7,'2021 Opiekun'!K:K) -> 1922677 | E7: =SUMIF('2021 Opiekun'!B:B,A7,'2021 Opiekun'!L:L) -> 674757.23 | F7: =D7/4 -> 480669.26 | G7: =E7/4 -> 168689.31 | H7: =(F7+B7)/2 -> 455233.3 | I7: =(G7+C7)/2 -> 160761.77 | J7: 0.17 | K7: 0.125 | P7: =H7*J7+H7+L7+N7 -> 532622.97 | Q7: =I7*K7+I7+M7+O7 -> 180856.99 | R7: =Q7/P7 -> 0.33955913 | S7: 531000 | T7: 181000 | V7: 490000 | W7: 157000
A8: Suma: | B8: =SUM(B3:B7) -> 2259993.1 | C8: =SUM(C3:C7) -> 775401.22 | D8: =SUM(D3:D7) -> 9116990.2 | E8: =SUM(E3:E7) -> 3149233 | F8: =SUM(F3:F7) -> 2279247.6 | G8: =SUM(G3:G7) -> 787308.24 | H8: =SUM(H3:H7) -> 2269620.3 | I8: =SUM(I3:I7) -> 781354.73 | L8: =SUM(L3:L7) -> 0 | M8: =SUM(M3:M7) -> 0 | N8: =SUM(N3:N7) -> 0 | O8: =SUM(O3:O7) -> 0 | P8: =SUM(P3:P7) -> 2614788.8 | Q8: =SUM(Q3:Q7) -> 867360.65 | R8: =Q8/P8 -> 0.33171347 | S8: =SUM(S3:S7) -> 2600000 | T8: =SUM(T3:T7) -> 864000 | V8: =SUM(V3:V7) -> 2675000 | W8: =SUM(W3:W7) -> 864000
P9: ='Plan Roczny'!G3/4 -> 2037500 | Q9: ='Plan Roczny'!F3/4 -> 679000
B10: Q2 | D10: ROK | F10: Średnia Q | H10: Średnia Średnia ART. | J10: Wzrost | L10: CLP | N10: Projekty | P10: Suma Q2
B11: Obrót | C11: Marża | D11: Obrót | E11: Marża | F11: Obrót | G11: Marża | H11: Obrót | I11: Marża | J11: Obrót | K11: Marża | L11: Obrót | M11: Marża | N11: Obrót | O11: Marża | P11: Obrót | Q11: Marża
A12: Tomasz Sypień; | B12: =SUMIF('2021 Opiekun'!B:B,A12,'2021 Opiekun'!E:E) -> 354407.33 | C12: =SUMIF('2021 Opiekun'!B:B,A12,'2021 Opiekun'!F:F) -> 137963.09 | D12: =SUMIF('2021 Opiekun'!B:B,A12,'2021 Opiekun'!K:K) -> 1369134.5 | E12: =SUMIF('2021 Opiekun'!B:B,A12,'2021 Opiekun'!L:L) -> 551163.77 | F12: =D12/4 -> 342283.63 | G12: =E12/4 -> 137790.94 | H12: =(F12+B12)/2 -> 348345.48 | I12: =(G12+C12)/2 -> 137877.02 | J12: 0.12 | K12: 0.12 | P12: =H12*J12+H12+L12+N12 -> 390146.94 | Q12: =I12*K12+I12+M12+O12 -> 154422.26 | R12: =Q12/P12 -> 0.39580539 | T12: 155000 | V12: 350000 | W12: 137000
A13: Grupa RCKIK; | B13: =SUMIF('2021 Opiekun'!B:B,A13,'2021 Opiekun'!E:E) -> 224912.8 | C13: =SUMIF('2021 Opiekun'!B:B,A13,'2021 Opiekun'!F:F) -> 71010.773 | D13: =SUMIF('2021 Opiekun'!B:B,A13,'2021 Opiekun'!K:K) -> 967070.83 | E13: =SUMIF('2021 Opiekun'!B:B,A13,'2021 Opiekun'!L:L) -> 300875.74 | F13: =D13/4 -> 241767.71 | G13: =E13/4 -> 75218.935 | H13: =(F13+B13)/2 -> 233340.25 | I13: =(G13+C13)/2 -> 73114.854 | J13: 0.15 | K13: 0.17 | P13: =H13*J13+H13+L13+N13 -> 268341.29 | Q13: =I13*K13+I13+M13+O13 -> 85544.379 | R13: =Q13/P13 -> 0.31878947 | T13: 92000 | V13: 290000 | W13: 107000
A14: Bartłomiej Biskupski; | B14: =SUMIF('2021 Opiekun'!B:B,A14,'2021 Opiekun'!E:E) -> 542482.68 | C14: =SUMIF('2021 Opiekun'!B:B,A14,'2021 Opiekun'!F:F) -> 177956.42 | D14: =SUMIF('2021 Opiekun'!B:B,A14,'2021 Opiekun'!K:K) -> 2093583.6 | E14: =SUMIF('2021 Opiekun'!B:B,A14,'2021 Opiekun'!L:L) -> 726453.68 | F14: =D14/4 -> 523395.9 | G14: =E14/4 -> 181613.42 | H14: =(F14+B14)/2 -> 532939.29 | I14: =(G14+C14)/2 -> 179784.92 | J14: 0.2 | K14: 0.17 | P14: =H14*J14+H14+L14+N14 -> 639527.15 | Q14: =I14*K14+I14+M14+O14 -> 210348.36 | R14: =Q14/P14 -> 0.32891231 | T14: 207000 | V14: 680000 | W14: 205000
A15: Piotr Choma; | B15: =SUMIF('2021 Opiekun'!B:B,A15,'2021 Opiekun'!E:E) -> 697128.92 | C15: =SUMIF('2021 Opiekun'!B:B,A15,'2021 Opiekun'!F:F) -> 221020.63 | D15: =SUMIF('2021 Opiekun'!B:B,A15,'2021 Opiekun'!K:K) -> 2764524.3 | E15: =SUMIF('2021 Opiekun'!B:B,A15,'2021 Opiekun'!L:L) -> 895982.56 | F15: =D15/4 -> 691131.06 | G15: =E15/4 -> 223995.64 | H15: =(F15+B15)/2 -> 694129.99 | I15: =(G15+C15)/2 -> 222508.14 | J15: 0.2 | K15: 0.15 | P15: =H15*J15+H15+L15+N15 -> 832955.99 | Q15: =I15*K15+I15+M15+O15 -> 255884.36 | R15: =Q15/P15 -> 0.30720033 | T15: 249000 | V15: 820000 | W15: 245000
A16: Krzysztof Szwajdych; | B16: =SUMIF('2021 Opiekun'!B:B,A16,'2021 Opiekun'!E:E) -> 506771.34 | C16: =SUMIF('2021 Opiekun'!B:B,A16,'2021 Opiekun'!F:F) -> 178010.85 | D16: =SUMIF('2021 Opiekun'!B:B,A16,'2021 Opiekun'!K:K) -> 1922677 | E16: =SUMIF('2021 Opiekun'!B:B,A16,'2021 Opiekun'!L:L) -> 674757.23 | F16: =D16/4 -> 480669.26 | G16: =E16/4 -> 168689.31 | H16: =(F16+B16)/2 -> 493720.3 | I16: =(G16+C16)/2 -> 173350.08 | J16: 0.2 | K16: 0.17 | P16: =H16*J16+H16+L16+N16 -> 592464.36 | Q16: =I16*K16+I16+M16+O16 -> 202819.59 | R16: =Q16/P16 -> 0.34233214 | T16: 203000 | V16: 535000 | W16: 170000
A17: Suma: | B17: =SUM(B12:B16) -> 2325703.1 | C17: =SUM(C12:C16) -> 785961.77 | D17: =SUM(D12:D16) -> 9116990.2 | E17: =SUM(E12:E16) -> 3149233 | F17: =SUM(F12:F16) -> 2279247.6 | G17: =SUM(G12:G16) -> 787308.24 | H17: =SUM(H12:H16) -> 2302475.3 | I17: =SUM(I12:I16) -> 786635.01 | L17: =SUM(L12:L16) -> 0 | M17: =SUM(M12:M16) -> 0 | N17: =SUM(N12:N16) -> 0 | O17: =SUM(O12:O16) -> 0 | P17: =SUM(P12:P16) -> 2723435.7 | Q17: =SUM(Q12:Q16) -> 909018.94 | R17: =Q17/P17 -> 0.33377654 | S17: =SUM(S12:S16) -> 0 | T17: =SUM(T12:T16) -> 906000 | V17: =SUM(V12:V16) -> 2675000 | W17: =SUM(W12:W16) -> 864000
P18: =905555.555555556*3 -> 2716666.7 | Q18: =(3580000-864000)/9*3 -> 905333.33
B19: Q3 | D19: ROK | F19: Średnia Q | H19: Średnia Średnia ART. | J19: Wzrost | L19: CLP | N19: Projekty | P19: Suma Q3
B20: Obrót | C20: Marża | D20: Obrót | E20: Marża | F20: Obrót | G20: Marża | H20: Obrót | I20: Marża | J20: Obrót | K20: Marża | L20: Obrót | M20: Marża | N20: Obrót | O20: Marża | P20: Obrót | Q20: Marża
A21: Tomasz Sypień; | B21: =SUMIF('2021 Opiekun'!B:B,A21,'2021 Opiekun'!G:G) -> 309215.63 | C21: =SUMIF('2021 Opiekun'!B:B,A21,'2021 Opiekun'!H:H) -> 129152.26 | D21: =SUMIF('2021 Opiekun'!B:B,A21,'2021 Opiekun'!K:K) -> 1369134.5 | E21: =SUMIF('2021 Opiekun'!B:B,A21,'2021 Opiekun'!L:L) -> 551163.77 | F21: =D21/4 -> 342283.63 | G21: =E21/4 -> 137790.94 | H21: =(F21+B21)/2 -> 325749.63 | I21: =(G21+C21)/2 -> 133471.6 | J21: 0.1 | K21: 0.12 | P21: =H21*J21+H21+L21+N21 -> 358324.59 | Q21: =I21*K21+I21+M21+O21 -> 149488.19 | R21: =Q21/P21 -> 0.41718654 | T21: 150000 | V21: 330000 | W21: 145000
A22: Grupa RCKIK; | B22: =SUMIF('2021 Opiekun'!B:B,A22,'2021 Opiekun'!G:G) -> 191268.76 | C22: =SUMIF('2021 Opiekun'!B:B,A22,'2021 Opiekun'!H:H) -> 58387.268 | D22: =SUMIF('2021 Opiekun'!B:B,A22,'2021 Opiekun'!K:K) -> 967070.83 | E22: =SUMIF('2021 Opiekun'!B:B,A22,'2021 Opiekun'!L:L) -> 300875.74 | F22: =D22/4 -> 241767.71 | G22: =E22/4 -> 75218.935 | H22: =(F22+B22)/2 -> 216518.23 | I22: =(G22+C22)/2 -> 66803.102 | J22: 0.1 | K22: 0.12 | P22: =H22*J22+H22+L22+N22 -> 238170.06 | Q22: =I22*K22+I22+M22+O22 -> 74819.474 | R22: =Q22/P22 -> 0.31414307 | T22: 75000 | V22: 290000 | W22: 106500
A23: Bartłomiej Biskupski; | B23: =SUMIF('2021 Opiekun'!B:B,A23,'2021 Opiekun'!G:G) -> 555298.24 | C23: =SUMIF('2021 Opiekun'!B:B,A23,'2021 Opiekun'!H:H) -> 185440.18 | D23: =SUMIF('2021 Opiekun'!B:B,A23,'2021 Opiekun'!K:K) -> 2093583.6 | E23: =SUMIF('2021 Opiekun'!B:B,A23,'2021 Opiekun'!L:L) -> 726453.68 | F23: =D23/4 -> 523395.9 | G23: =E23/4 -> 181613.42 | H23: =(F23+B23)/2 -> 539347.07 | I23: =(G23+C23)/2 -> 183526.8 | J23: 0.25 | K23: 0.2 | P23: =H23*J23+H23+L23+N23 -> 674183.84 | Q23: =I23*K23+I23+M23+O23 -> 220232.16 | R23: =Q23/P23 -> 0.32666484 | T23: 220000 | V23: 715000 | W23: 210000
A24: Piotr Choma; | B24: =SUMIF('2021 Opiekun'!B:B,A24,'2021 Opiekun'!G:G) -> 596746.43 | C24: =SUMIF('2021 Opiekun'!B:B,A24,'2021 Opiekun'!H:H) -> 194524.22 | D24: =SUMIF('2021 Opiekun'!B:B,A24,'2021 Opiekun'!K:K) -> 2764524.3 | E24: =SUMIF('2021 Opiekun'!B:B,A24,'2021 Opiekun'!L:L) -> 895982.56 | F24: =D24/4 -> 691131.06 | G24: =E24/4 -> 223995.64 | H24: =(F24+B24)/2 -> 643938.75 | I24: =(G24+C24)/2 -> 209259.93 | J24: 0.25 | K24: 0.22 | P24: =H24*J24+H24+L24+N24 -> 804923.43 | Q24: =I24*K24+I24+M24+O24 -> 255297.11 | R24: =Q24/P24 -> 0.31716944 | T24: 255000 | V24: 730000 | W24: 235000
A25: Krzysztof Szwajdych; | B25: =SUMIF('2021 Opiekun'!B:B,A25,'2021 Opiekun'!G:G) -> 465897.33 | C25: =SUMIF('2021 Opiekun'!B:B,A25,'2021 Opiekun'!H:H) -> 161722.65 | D25: =SUMIF('2021 Opiekun'!B:B,A25,'2021 Opiekun'!K:K) -> 1922677 | E25: =SUMIF('2021 Opiekun'!B:B,A25,'2021 Opiekun'!L:L) -> 674757.23 | F25: =D25/4 -> 480669.26 | G25: =E25/4 -> 168689.31 | H25: =(F25+B25)/2 -> 473283.29 | I25: =(G25+C25)/2 -> 165205.98 | J25: 0.27 | K25: 0.25 | P25: =H25*J25+H25+L25+N25 -> 601069.78 | Q25: =I25*K25+I25+M25+O25 -> 206507.47 | R25: =Q25/P25 -> 0.34356655 | T25: 206000 | V25: 410000 | W25: 167000
A26: BRAK | B26: =SUMIF('2021 Opiekun'!B:B,A26,'2021 Opiekun'!G:G) -> 0 | C26: =SUMIF('2021 Opiekun'!B:B,A26,'2021 Opiekun'!H:H) -> 0
A27: Suma: | B27: =SUM(B21:B25) -> 2118426.4 | C27: =SUM(C21:C26) -> 729226.57 | D27: =SUM(D21:D25) -> 9116990.2 | E27: =SUM(E21:E25) -> 3149233 | F27: =SUM(F21:F25) -> 2279247.6 | G27: =SUM(G21:G25) -> 787308.24 | H27: =SUM(H21:H25) -> 2198837 | I27: =SUM(I21:I25) -> 758267.41 | L27: =SUM(L21:L25) -> 0 | M27: =SUM(M21:M25) -> 0 | N27: =SUM(N21:N25) -> 0 | O27: =SUM(O21:O25) -> 0 | P27: =SUM(P21:P25) -> 2676671.7 | Q27: =SUM(Q21:Q25) -> 906344.41 | R27: =Q27/P27 -> 0.33860873 | S27: =SUM(S21:S25) -> 0 | T27: =SUM(T21:T25) -> 906000 | V27: =SUM(V21:V25) -> 2475000 | W27: =SUM(W21:W25) -> 863500
P28: =905555.555555556*3 -> 2716666.7 | Q28: =(3580000-864000)/9*3 -> 905333.33 | R28: =Q28/P28 -> 0.33325153 | T28: 734000 | W28: 734000
B29: Q4 | D29: ROK | F29: Średnia Q | H29: Średnia Średnia ART. | J29: Wzrost | L29: CLP | N29: Projekty | P29: Suma Q4
B30: Obrót | C30: Marża | D30: Obrót | E30: Marża | F30: Obrót | G30: Marża | H30: Obrót | I30: Marża | J30: Obrót | K30: Marża | L30: Obrót | M30: Marża | N30: Obrót | O30: Marża | P30: Obrót | Q30: Marża
A31: Tomasz Sypień; | B31: =SUMIF('2021 Opiekun'!B:B,A31,'2021 Opiekun'!I:I) -> 362088.82 | C31: =SUMIF('2021 Opiekun'!B:B,A31,'2021 Opiekun'!J:J) -> 146075.89 | D31: =SUMIF('2021 Opiekun'!B:B,A31,'2021 Opiekun'!K:K) -> 1369134.5 | E31: =SUMIF('2021 Opiekun'!B:B,A31,'2021 Opiekun'!L:L) -> 551163.77 | F31: =D31/4 -> 342283.63 | G31: =E31/4 -> 137790.94 | H31: =(F31+B31)/2 -> 352186.22 | I31: =(G31+C31)/2 -> 141933.42 | J31: 0.14 | K31: 0.06 | P31: =H31*J31+H31+L31+N31 -> 401492.3 | Q31: =I31*K31+I31+M31+O31 -> 150449.42 | R31: =Q31/P31 -> 0.37472555 | T31: 150000 | V31: 340000 | W31: 134000
A32: Grupa RCKIK; | B32: =SUMIF('2021 Opiekun'!B:B,A32,'2021 Opiekun'!I:I) -> 307989.76 | C32: =SUMIF('2021 Opiekun'!B:B,A32,'2021 Opiekun'!J:J) -> 94639.928 | D32: =SUMIF('2021 Opiekun'!B:B,A32,'2021 Opiekun'!K:K) -> 967070.83 | E32: =SUMIF('2021 Opiekun'!B:B,A32,'2021 Opiekun'!L:L) -> 300875.74 | F32: =D32/4 -> 241767.71 | G32: =E32/4 -> 75218.935 | H32: =(F32+B32)/2 -> 274878.73 | I32: =(G32+C32)/2 -> 84929.432 | J32: 0.06 | K32: 0.06 | P32: =H32*J32+H32+L32+N32 -> 291371.46 | Q32: =I32*K32+I32+M32+O32 -> 90025.198 | R32: =Q32/P32 -> 0.30897054 | T32: 90000 | V32: 325000 | W32: 110000
A33: Bartłomiej Biskupski; | B33: =SUMIF('2021 Opiekun'!B:B,A33,'2021 Opiekun'!I:I) -> 499529.1 | C33: =SUMIF('2021 Opiekun'!B:B,A33,'2021 Opiekun'!J:J) -> 190039.97 | D33: =SUMIF('2021 Opiekun'!B:B,A33,'2021 Opiekun'!K:K) -> 2093583.6 | E33: =SUMIF('2021 Opiekun'!B:B,A33,'2021 Opiekun'!L:L) -> 726453.68 | F33: =D33/4 -> 523395.9 | G33: =E33/4 -> 181613.42 | H33: =(F33+B33)/2 -> 511462.5 | I33: =(G33+C33)/2 -> 185826.7 | J33: 0.18 | K33: 0.17 | P33: =H33*J33+H33+L33+N33 -> 603525.75 | Q33: =I33*K33+I33+M33+O33 -> 217417.23 | R33: =Q33/P33 -> 0.36024517 | T33: 217000 | V33: 610000 | W33: 190000
A34: Piotr Choma; | B34: =SUMIF('2021 Opiekun'!B:B,A34,'2021 Opiekun'!I:I) -> 688660.38 | C34: =SUMIF('2021 Opiekun'!B:B,A34,'2021 Opiekun'!J:J) -> 232545.49 | D34: =SUMIF('2021 Opiekun'!B:B,A34,'2021 Opiekun'!K:K) -> 2764524.3 | E34: =SUMIF('2021 Opiekun'!B:B,A34,'2021 Opiekun'!L:L) -> 895982.56 | F34: =D34/4 -> 691131.06 | G34: =E34/4 -> 223995.64 | H34: =(F34+B34)/2 -> 689895.72 | I34: =(G34+C34)/2 -> 228270.56 | J34: 0.21 | K34: 0.1 | P34: =H34*J34+H34+L34+N34 -> 834773.82 | Q34: =I34*K34+I34+M34+O34 -> 251097.62 | R34: =Q34/P34 -> 0.30079719 | T34: 250000 | V34: 870000 | W34: 255000
A35: Krzysztof Szwajdych; | B35: =SUMIF('2021 Opiekun'!B:B,A35,'2021 Opiekun'!I:I) -> 516028.66 | C35: =SUMIF('2021 Opiekun'!B:B,A35,'2021 Opiekun'!J:J) -> 180570.29 | D35: =SUMIF('2021 Opiekun'!B:B,A35,'2021 Opiekun'!K:K) -> 1922677 | E35: =SUMIF('2021 Opiekun'!B:B,A35,'2021 Opiekun'!L:L) -> 674757.23 | F35: =D35/4 -> 480669.26 | G35: =E35/4 -> 168689.31 | H35: =(F35+B35)/2 -> 498348.96 | I35: =(G35+C35)/2 -> 174629.8 | J35: 0.18 | K35: 0.15 | P35: =H35*J35+H35+L35+N35 -> 588051.77 | Q35: =I35*K35+I35+M35+O35 -> 200824.27 | R35: =Q35/P35 -> 0.3415078 | T35: 200000 | V35: 530000 | W35: 175000
A36: BRAK | B36: =SUMIF('2021 Opiekun'!B:B,A36,'2021 Opiekun'!I:I) -> 0 | C36: =SUMIF('2021 Opiekun'!B:B,A36,'2021 Opiekun'!J:J) -> 0 | D36: =SUMIF('2021 Opiekun'!B:B,A36,'2021 Opiekun'!G:G) -> 0 | E36: =SUMIF('2021 Opiekun'!B:B,A36,'2021 Opiekun'!H:H) -> 0
A37: Suma: | B37: =SUM(B31:B35) -> 2374296.7 | C37: =SUM(C31:C35) -> 843871.57 | D37: =SUM(D31:D35) -> 9116990.2 | E37: =SUM(E31:E35) -> 3149233 | F37: =SUM(F31:F35) -> 2279247.6 | G37: =SUM(G31:G35) -> 787308.24 | H37: =SUM(H31:H35) -> 2326772.1 | I37: =SUM(I31:I35) -> 815589.91 | L37: =SUM(L31:L35) -> 0 | M37: =SUM(M31:M35) -> 0 | N37: =SUM(N31:N35) -> 0 | O37: =SUM(O31:O35) -> 0 | P37: =SUM(P31:P35) -> 2719215.1 | Q37: =SUM(Q31:Q35) -> 909813.74 | R37: =Q37/P37 -> 0.3345869 | S37: =SUM(S31:S35) -> 0 | T37: =SUM(T31:T35) -> 907000 | V37: =SUM(V31:V35) -> 2675000 | W37: =SUM(W31:W35) -> 864000
P38: =P28 -> 2716666.7 | Q38: =Q28 -> 905333.33 | R38: =Q38/P38 -> 0.33325153

Sheet WYLICZENIA
B1: Styczeń | C1: Luty | D1: Marzec | E1: Q1 | G1: Suma Q1 | I1: Suma Q1
B2: Marża | C2: Marża | D2: Marża | E2: Marża | G2: Obrót | H2: Marża | I2: Obrót | J2: Marża
A3: Tomasz Sypień; | B3: =E3/3*0.9 -> 43800 | C3: =E3/3 -> 48666.667 | D3: =E3/3*1.1 -> 53533.333 | E3: =Obliczenia!T3 -> 146000 | G3: =Obliczenia!P3 -> 374630.5 | H3: =Obliczenia!Q3 -> 146516.05 | I3: =Obliczenia!V3 -> 375000 | J3: =Obliczenia!W3 -> 145000
A4: Mirosław Zagaja; | B4: =E4/3*0.9 -> 26400 | C4: =E4/3 -> 29333.333 | D4: =E4/3*1.1 -> 32266.667 | E4: =Obliczenia!T4 -> 88000 | G4: =Obliczenia!P4 -> 264421.97 | H4: =Obliczenia!Q4 -> 80390.548 | I4: =Obliczenia!V4 -> 350000 | J4: =Obliczenia!W4 -> 120000
A5: Bartłomiej Biskupski; | B5: =E5/3*0.9 -> 58350 | C5: =E5/3 -> 64833.333 | D5: =E5/3*1.1 -> 71316.667 | E5: =Obliczenia!T5 -> 194500 | G5: =Obliczenia!P5 -> 590871.99 | H5: =Obliczenia!Q5 -> 196152.37 | I5: =Obliczenia!V5 -> 685000 | J5: =Obliczenia!W5 -> 204000
A6: Piotr Choma; | B6: =E6/3*0.9 -> 76350 | C6: =E6/3 -> 84833.333 | D6: =E6/3*1.1 -> 93316.667 | E6: =Obliczenia!T6 -> 254500 | G6: =Obliczenia!P6 -> 852241.36 | H6: =Obliczenia!Q6 -> 263444.68 | I6: =Obliczenia!V6 -> 775000 | J6: =Obliczenia!W6 -> 238000
A7: Krzysztof Szwajdych; | B7: =E7/3*0.9 -> 54300 | C7: =E7/3 -> 60333.333 | D7: =E7/3*1.1 -> 66366.667 | E7: =Obliczenia!T7 -> 181000 | G7: =Obliczenia!P7 -> 532622.97 | H7: =Obliczenia!Q7 -> 180856.99 | I7: =Obliczenia!V7 -> 490000 | J7: =Obliczenia!W7 -> 157000
A8: Suma: | B8: =SUM(B3:B7) -> 259200 | C8: =SUM(C3:C7) -> 288000 | D8: =SUM(D3:D7) -> 316800 | E8: =SUM(E3:E7) -> 864000 | G8: =SUM(G3:G7) -> 2614788.8 | H8: =SUM(H3:H7) -> 867360.65 | I8: =SUM(I3:I7) -> 2675000 | J8: =SUM(J3:J7) -> 864000
B10: Kwiecień | C10: Maj | D10: Czerwiec | E10: Q2 | G10: Suma Q2 | I10: Suma Q2
B11: Marża | C11: Marża | D11: Marża | E11: Marża | G11: Obrót | H11: Marża | I11: Obrót | J11: Marża
A12: Tomasz Sypień; | B12: =J12/3*0.9 -> 46500 | C12: =J12/3 -> 51666.667 | D12: =J12/3*1.1 -> 56833.333 | E12: =B12+C12+D12 -> 155000 | G12: =Obliczenia!P12 -> 390146.94 | H12: =Obliczenia!Q12 -> 154422.26 | I12: =Obliczenia!P12 -> 390146.94 | J12: =Obliczenia!T12 -> 155000
A13: Mirosław Zagaja; | B13: =J13/3*0.9 -> 27600 | C13: =J13/3 -> 30666.667 | D13: =J13/3*1.1 -> 33733.333 | E13: =B13+C13+D13 -> 92000 | G13: =Obliczenia!P13 -> 268341.29 | H13: =Obliczenia!Q13 -> 85544.379 | I13: =Obliczenia!P13 -> 268341.29 | J13: =Obliczenia!T13 -> 92000
A14: Bartłomiej Biskupski; | B14: =J14/3*0.9 -> 62100 | C14: =J14/3 -> 69000 | D14: =J14/3*1.1 -> 75900 | E14: =B14+C14+D14 -> 207000 | G14: =Obliczenia!P14 -> 639527.15 | H14: =Obliczenia!Q14 -> 210348.36 | I14: =Obliczenia!P14 -> 639527.15 | J14: =Obliczenia!T14 -> 207000
A15: Piotr Choma; | B15: =J15/3*0.9 -> 74700 | C15: =J15/3 -> 83000 | D15: =J15/3*1.1 -> 91300 | E15: =B15+C15+D15 -> 249000 | G15: =Obliczenia!P15 -> 832955.99 | H15: =Obliczenia!Q15 -> 255884.36 | I15: =Obliczenia!P15 -> 832955.99 | J15: =Obliczenia!T15 -> 249000
A16: Krzysztof Szwajdych; | B16: =J16/3*0.9 -> 60900 | C16: =J16/3 -> 67666.667 | D16: =J16/3*1.1 -> 74433.333 | E16: =B16+C16+D16 -> 203000 | G16: =Obliczenia!P16 -> 592464.36 | H16: =Obliczenia!Q16 -> 202819.59 | I16: =Obliczenia!P16 -> 592464.36 | J16: =Obliczenia!T16 -> 203000
A17: Suma: | B17: =SUM(B12:B16) -> 271800 | C17: =SUM(C12:C16) -> 302000 | D17: =SUM(D12:D16) -> 332200 | E17: =SUM(E12:E16) -> 906000 | G17: =SUM(G12:G16) -> 2723435.7 | H17: =SUM(H12:H16) -> 909018.94 | I17: =SUM(I12:I16) -> 2723435.7 | J17: =SUM(J12:J16) -> 906000
B19: Lipiec | C19: Sierpień | D19: Wrzesień | E19: Q3 | G19: Suma Q3 | I19: Suma Q3
B20: Marża | C20: Marża | D20: Marża | E20: Marża | G20: Obrót | H20: Marża | I20: Obrót | J20: Marża
A21: Tomasz Sypień; | B21: =J21/3*0.9 -> 45000 | C21: =J21/3 -> 50000 | D21: =J21/3*1.1 -> 55000 | E21: =B21+C21+D21 -> 150000 | H21: =Obliczenia!Q21 -> 149488.19 | J21: =Obliczenia!T21 -> 150000
A22: Grupa RCKIK | B22: =J22/3*0.9 -> 22500 | C22: =J22/3 -> 25000 | D22: =J22/3*1.1 -> 27500 | E22: =B22+C22+D22 -> 75000 | H22: =Obliczenia!Q22 -> 74819.474 | J22: =Obliczenia!T22 -> 75000
A23: Bartłomiej Biskupski; | B23: =J23/3*0.9 -> 66000 | C23: =J23/3 -> 73333.333 | D23: =J23/3*1.1 -> 80666.667 | E23: =B23+C23+D23 -> 220000 | H23: =Obliczenia!Q23 -> 220232.16 | J23: =Obliczenia!T23 -> 220000
A24: Piotr Choma; | B24: =J24/3*0.9 -> 76500 | C24: =J24/3 -> 85000 | D24: =J24/3*1.1 -> 93500 | E24: =B24+C24+D24 -> 255000 | H24: =Obliczenia!Q24 -> 255297.11 | J24: =Obliczenia!T24 -> 255000
A25: Krzysztof Szwajdych; | B25: =J25/3*0.9 -> 61800 | C25: =J25/3 -> 68666.667 | D25: =J25/3*1.1 -> 75533.333 | E25: =B25+C25+D25 -> 206000 | H25: =Obliczenia!Q25 -> 206507.47 | J25: =Obliczenia!T25 -> 206000
A26: Suma: | B26: =SUM(B21:B25) -> 271800 | C26: =SUM(C21:C25) -> 302000 | D26: =SUM(D21:D25) -> 332200 | E26: =SUM(E21:E25) -> 906000 | G26: =SUM(G21:G25) -> 0 | H26: =SUM(H21:H25) -> 906344.41 | I26: =SUM(I21:I25) -> 0 | J26: =SUM(J21:J25) -> 906000
B28: październik | C28: listopad | D28: grudzień | E28: Q4 | G28: Suma Q4 | I28: Suma Q4
B29: Marża | C29: Marża | D29: Marża | E29: Marża | G29: Obrót | H29: Marża | I29: Obrót | J29: Marża
A30: Tomasz Sypień; | B30: =J30/3*0.95 -> 47500 | C30: =J30/3*1.05 -> 52500 | D30: =J30/3*1 -> 50000 | E30: =B30+C30+D30 -> 150000 | H30: =Obliczenia!Q31 -> 150449.42 | J30: =Obliczenia!T31 -> 150000
A31: Mirosław Zagaja; | B31: =J31/3*0.95 -> 28500 | C31: =J31/3*1.05 -> 31500 | D31: =J31/3*1 -> 30000 | E31: =B31+C31+D31 -> 90000 | H31: =Obliczenia!Q32 -> 90025.198 | J31: =Obliczenia!T32 -> 90000
A32: Bartłomiej Biskupski; | B32: =J32/3*0.95 -> 68716.667 | C32: =J32/3*1.05 -> 75950 | D32: =J32/3*1 -> 72333.333 | E32: =B32+C32+D32 -> 217000 | H32: =Obliczenia!Q33 -> 217417.23 | J32: =Obliczenia!T33 -> 217000
A33: Piotr Choma; | B33: =J33/3*0.95 -> 79166.667 | C33: =J33/3*1.05 -> 87500 | D33: =J33/3*1 -> 83333.333 | E33: =B33+C33+D33 -> 250000 | H33: =Obliczenia!Q34 -> 251097.62 | J33: =Obliczenia!T34 -> 250000
A34: Krzysztof Szwajdych; | B34: =J34/3*0.95 -> 63333.333 | C34: =J34/3*1.05 -> 70000 | D34: =J34/3*1 -> 66666.667 | E34: =B34+C34+D34 -> 200000 | H34: =Obliczenia!Q35 -> 200824.27 | J34: =Obliczenia!T35 -> 200000
B35: =J35/3*0.95 -> 0 | C35: =J35/3*1.05 -> 0 | D35: =J35/3*1 -> 0 | E35: =B35+C35+D35 -> 0 | H35: =Obliczenia!Q36 -> 0 | J35: =Obliczenia!T36 -> 0
A36: Suma: | B36: =SUM(B30:B35) -> 287216.67 | C36: =SUM(C30:C35) -> 317450 | D36: =SUM(D30:D35) -> 302333.33 | E36: =SUM(E30:E35) -> 907000 | G36: =SUM(G30:G35) -> 0 | H36: =SUM(H30:H35) -> 909813.74 | I36: =SUM(I30:I35) -> 0 | J36: =SUM(J30:J35) -> 907000
A37: Plan | E37: ='Plan Roczny'!F3/4 -> 679000
A38: Minimum | E38: ='Plan Roczny'!D3/4 -> 645050
A39: Cel | E39: ='Plan Roczny'!H3/4 -> 712950

Sheet Plan Roczny
B1: Rok poprzedni | D1: MINIMUM | F1: PLAN | H1: CEL
B2: Marża | C2: Obrót | D2: Marża | E2: Obrót | F2: Marża | G2: Obrót | H2: Marża | I2: Obrót
B3: 3099103 | C3: 9594598.8 | D3: =F3*0.95 -> 2580200 | E3: =G3*0.95 -> 7742500 | F3: =3580000-D8-C8-B8 -> 2716000 | G3: =10750000-B9-C9-D9 -> 8150000 | H3: =F3*1.05 -> 2851800 | I3: =G3*1.05 -> 8557500 | J3: =B3*0.99 -> 3068111.9
A4: wzrost Marży | D4: =D3/B3-1 -> -0.16743651 | F4: =F3/B3-1 -> -0.12361738 | G4: =F3/G3 -> 0.33325153 | H4: =H3/B3-1 -> -0.079798245
A5: wzrost Obrotu | C5: =B3/C3 -> 0.32300496 | E5: =E3/C3-1 -> -0.19303557 | G5: =G3/C3-1 -> -0.15056376 | I5: =I3/C3-1 -> -0.10809194
A6: kwartał | D6: =D3/4 -> 645050 | E6: =E3/4 -> 1935625 | F6: =F3/4 -> 679000 | G6: =G3/4 -> 2037500 | H6: =H3/4 -> 712950 | I6: =I3/4 -> 2139375
B7: I | C7: II | D7: III | E7: IV | F7: V | G7: VI | H7: VII | I7: VIII | J7: IX | K7: X | L7: XI | M7: XII
A8: Marża | B8: 259200 | C8: 288000 | D8: 316800 | E8: =$F$3/9*E10 -> 301777.78 | F8: =$F$3/9*F10 -> 301777.78 | G8: =$F$3/9*G10 -> 301777.78 | H8: =$F$3/9*H10 -> 301777.78 | I8: =$F$3/9*I10 -> 301777.78 | J8: =$F$3/9*J10 -> 301777.78 | K8: =$F$3/9*K10 -> 301777.78 | L8: =$F$3/9*L10 -> 301777.78 | M8: =$F$3/9*M10 -> 301777.78 | N8: =SUM(B8:M8) -> 3580000
A9: Obrót | B9: 780000 | C9: 866666.67 | D9: 953333.33 | E9: =$G$3/9*E10 -> 905555.56 | F9: =$G$3/9*F10 -> 905555.56 | G9: =$G$3/9*G10 -> 905555.56 | H9: =$G$3/9*H10 -> 905555.56 | I9: =$G$3/9*I10 -> 905555.56 | J9: =$G$3/9*J10 -> 905555.56 | K9: =$G$3/9*K10 -> 905555.56 | L9: =$G$3/9*L10 -> 905555.56 | M9: =$G$3/9*M10 -> 905555.56 | N9: =SUM(B9:M9) -> 10750000
B10: 0.9 | C10: 1 | D10: 1.1 | E10: 1 | F10: 1 | G10: 1 | H10: 1 | I10: 1 | J10: 1 | K10: 1 | L10: 1 | M10: 1
E11: 1 | F11: 1.05 | G11: 1.1 | H11: 0.9 | I11: 0.9 | J11: 1 | K11: 1.05 | L11: 1.05 | M11: 1
D12: =SUM(B8:D8) -> 864000 | G12: =SUM(B8:G8) -> 1769333.3 | H12: =SUM(H8:M8) -> 1810666.7
D14: =SUM(B9:D9) -> 2600000 | H14: =H3/4 -> 712950
D15: 10750000
D16: =D15-D14 -> 8150000
D17: =D16/9 -> 905555.56
E20: =F3/4 -> 679000
E21: =H3/4 -> 712950

Sheet Epson21
A1: Kontrahent | B1: Symbol | C1: Ilość | D1: Netto | E1: Koszt | F1: Zysk | G1: Marża
A2: BPSKONCEPT | B2: EPSON C3500 BOX | C2: 1 | D2: 139.65 | E2: 138.26 | F2: 1.39 | G2: 0.9953 | H2: =E2*0.25 -> 34.565
A3: BPSKONCEPT | B3: EPSON C3500 INK (C) | C3: 3 | D3: 286.95 | E3: 290.14 | F3: -3.19 | G3: -1.1116 | H3: =E3*0.25 -> 72.535
A4: BPSKONCEPT | B4: EPSON C3500 INK (K) | C4: 3 | D4: 286.95 | E4: 287.68 | F4: -0.73 | G4: -0.2543 | H4: =E4*0.25 -> 71.92
A5: BPSKONCEPT | B5: EPSON C3500 INK (M) | C5: 3 | D5: 286.95 | E5: 287.68 | F5: -0.73 | G5: -0.2543 | H5: =E5*0.25 -> 71.92
A6: BPSKONCEPT | B6: EPSON C3500 INK (Y) | C6: 3 | D6: 286.95 | E6: 287.68 | F6: -0.73 | G6: -0.2543 | H6: =E6*0.25 -> 71.92 | I6: =SUM(H2:H6) -> 322.86
A7: CAFFARO | B7: EPSON C7500 BOX | C7: 2 | D7: 228.65 | E7: 234.18 | F7: -5.53 | G7: -2.4185 | H7: =E7*0.25 -> 58.545
A8: CAFFARO | B8: EPSON C7500G INK (C) | C8: 2 | D8: 1113.68 | E8: 1128.51 | F8: -14.83 | G8: -1.3316 | H8: =E8*0.25 -> 282.1275
A9: CAFFARO | B9: EPSON C7500G INK (K) | C9: 6 | D9: 3377.27 | E9: 3480.81 | F9: -103.54 | G9: -3.0657 | H9: =E9*0.25 -> 870.2025
A10: CAFFARO | B10: EPSON C7500G INK (M) | C10: 2 | D10: 1113.68 | E10: 1128.51 | F10: -14.83 | G10: -1.3316 | H10: =E10*0.25 -> 282.1275
A11: CAFFARO | B11: EPSON C7500G INK (Y) | C11: 1 | D11: 557.92 | E11: 568.16 | F11: -10.24 | G11: -1.8353 | H11: =E11*0.25 -> 142.04 | I11: =SUM(H7:H11) -> 1635.0425
A12: RESGRAPH | B12: EPSON C3500 BOX | C12: 65 | D12: 7322.28 | E12: 8471.55 | F12: -1149.27 | G12: -15.6955 | H12: =E12*0.25 -> 2117.8875
A13: RESGRAPH | B13: EPSON C3500 INK (C) | C13: 195 | D13: 15358.09 | E13: 17811.3 | F13: -2453.21 | G13: -15.9734 | H13: =E13*0.25 -> 4452.825
A14: RESGRAPH | B14: EPSON C3500 INK (K) | C14: 215 | D14: 17010.49 | E14: 19722.3 | F14: -2711.81 | G14: -15.9419 | H14: =E14*0.25 -> 4930.575
A15: RESGRAPH | B15: EPSON C3500 INK (M) | C15: 195 | D15: 15358.09 | E15: 17811.3 | F15: -2453.21 | G15: -15.9734 | H15: =E15*0.25 -> 4452.825
A16: RESGRAPH | B16: EPSON C3500 INK (Y) | C16: 195 | D16: 15358.09 | E16: 17811.3 | F16: -2453.21 | G16: -15.9734 | H16: =E16*0.25 -> 4452.825 | I16: =SUM(H12:H16) -> 20406.938
A17: WAY2WEB | B17: EPSON C7500 BOX | C17: 10 | D17: 1226.72 | E17: 1142.43 | F17: 84.29 | G17: 6.8711 | H17: =E17*0.25 -> 285.6075
A18: WAY2WEB | B18: EPSON C7500G INK (C) | C18: 10 | D18: 5087.91 | E18: 5703.1 | F18: -615.19 | G18: -12.0912 | H18: =E18*0.25 -> 1425.775
A19: WAY2WEB | B19: EPSON C7500G INK (K) | C19: 18 | D19: 9161 | E19: 10246.03 | F19: -1085.03 | G19: -11.844 | H19: =E19*0.25 -> 2561.5075
A20: WAY2WEB | B20: EPSON C7500G INK (M) | C20: 14 | D20: 7119.79 | E20: 7958.83 | F20: -839.04 | G20: -11.7846 | H20: =E20*0.25 -> 1989.7075
A21: WAY2WEB | B21: EPSON C7500G INK (Y) | C21: 12 | D21: 6116.27 | E21: 6846.05 | F21: -729.78 | G21: -11.9317 | H21: =E21*0.25 -> 1711.5125 | I21: =SUM(H17:H21) -> 7974.11
A22: YKPOLAND | B22: EPSON C3500 BOX | C22: 3 | D22: 389.7 | E22: 385.83 | F22: 3.87 | G22: 0.993 | H22: =E22*0.25 -> 96.4575
A23: YKPOLAND | B23: EPSON C3500 INK (C) | C23: 25 | D23: 2264.06 | E23: 2286.91 | F23: -22.85 | G23: -1.0092 | H23: =E23*0.25 -> 571.7275
A24: YKPOLAND | B24: EPSON C3500 INK (K) | C24: 47 | D24: 4278.48 | E24: 4329.78 | F24: -51.3 | G24: -1.199 | H24: =E24*0.25 -> 1082.445
A25: YKPOLAND | B25: EPSON C3500 INK (M) | C25: 24 | D25: 2174.49 | E25: 2201.43 | F25: -26.94 | G25: -1.2389 | H25: =E25*0.25 -> 550.3575
A26: YKPOLAND | B26: EPSON C3500 INK (Y) | C26: 24 | D26: 2169.21 | E26: 2190 | F26: -20.79 | G26: -0.9584 | H26: =E26*0.25 -> 547.5 | I26: =SUM(H22:H26) -> 2848.4875

Sheet Epson Q1
A1: Kontrahent | B1: Grupa | C1: Towar | D1: Symbol | E1: Ilość | F1: Jm | G1: Brutto | H1: Netto | I1: Koszt | J1: Zysk | K1: Marża
A2: YKPOLAND | B2: Inne | C2: Ink cartridge for EPSON TM-C3500 CYAN | D2: EPSON C3500 INK (C) | E2: 11 | F2: szt. | G2: 1220.82 | H2: 992.53 | I2: 983.28 | J2: 9.25 | K2: 0.9319 | L2: =I2*0.25 -> 245.82
A3: YKPOLAND | B3: Inne | C3: Ink cartridge for EPSON TM-C3500 BLACK | D3: EPSON C3500 INK (K) | E3: 12 | F3: szt. | G3: 1331.09 | H3: 1082.18 | I3: 1072.12 | J3: 10.06 | K3: 0.9296 | L3: =I3*0.25 -> 268.03
A4: YKPOLAND | B4: Inne | C4: Ink cartridge for EPSON TM-C3500 MAGENTA | D4: EPSON C3500 INK (M) | E4: 8 | F4: szt. | G4: 890.01 | H4: 723.58 | I4: 717.4 | J4: 6.18 | K4: 0.854 | L4: =I4*0.25 -> 179.35
A5: YKPOLAND | B5: Inne | C5: Ink cartridge for EPSON TM-C3500 YELLOW | D5: EPSON C3500 INK (Y) | E5: 11 | F5: szt. | G5: 1220.82 | H5: 992.53 | I5: 983.28 | J5: 9.25 | K5: 0.9319 | L5: =I5*0.25 -> 245.82 | M5: =SUM(L2:L5) -> 939.02
A6: WAY2WEB | B6: Inne | C6: Maintenance box SJMB7500 | D6: EPSON C7500 BOX | E6: 5 | F6: szt. | G6: 756.26 | H6: 614.84 | I6: 570.4 | J6: 44.44 | K6: 7.2278 | L6: =I6*0.25 -> 142.6
A7: WAY2WEB | B7: Inne | C7: Ink cartridge for C7500G (Cyan) 294,3 ml | D7: EPSON C7500G INK (C) | E7: 4 | F7: szt. | G7: 2514.53 | H7: 2044.33 | I7: 2288.19 | J7: -243.86 | K7: -11.9286 | L7: =I7*0.25 -> 572.0475
A8: WAY2WEB | B8: Inne | C8: Ink cartridge for C7500G (Black) 294,3 ml | D8: EPSON C7500G INK (K) | E8: 10 | F8: szt. | G8: 6273.06 | H8: 5100.04 | I8: 5675 | J8: -574.96 | K8: -11.2736 | L8: =I8*0.25 -> 1418.75
A9: WAY2WEB | B9: Inne | C9: Ink cartridge for C7500G (Magenta) 294,3 ml | D9: EPSON C7500G INK (M) | E9: 6 | F9: szt. | G9: 3765.7 | H9: 3061.54 | I9: 3405.71 | J9: -344.17 | K9: -11.2417 | L9: =I9*0.25 -> 851.4275
A10: WAY2WEB | B10: Inne | C10: Ink cartridge for C7500G (Yellow) 294,3 ml | D10: EPSON C7500G INK (Y) | E10: 5 | F10: szt. | G10: 3155.37 | H10: 2565.35 | I10: 2853.27 | J10: -287.92 | K10: -11.2234 | L10: =I10*0.25 -> 713.3175 | M10: =SUM(L6:L10) -> 3698.1425
A11: CAFFARO | B11: Inne | C11: Ink cartridge for C7500G (Cyan) 294,3 ml | D11: EPSON C7500G INK (C) | E11: 1 | F11: szt. | G11: 683.58 | H11: 555.76 | I11: 569.15 | J11: -13.39 | K11: -2.4093 | L11: =I11*0.25 -> 142.2875
A12: CAFFARO | B12: Inne | C12: Ink cartridge for C7500G (Black) 294,3 ml | D12: EPSON C7500G INK (K) | E12: 1 | F12: szt. | G12: 679.14 | H12: 552.15 | I12: 562.86 | J12: -10.71 | K12: -1.9396 | L12: =I12*0.25 -> 140.715
