Workbook

Sheet I półrocze 24
A1: Symbol | B1: Nazwa | C1: Netto | D1: Marża kwotowa | E1: Marża % | F1: Grupa | G1: Opiekun | H1: Premia za I półrocze (brutto)
A2: BIOLOGISTIC | B2: BIOLOGISTIC | C2: 244.71 | D2: 44.37 | E2: 18.1316 | F2: NKP24 | G2: Bartłomiej Biskupski; | H2: marża poniżej 1000,00
A3: LUNACORP | B3: LUNACORP | C3: 10897.19 | D3: 2469.72 | E3: 22.6638 | F3: NKP24 | G3: Bartłomiej Biskupski; | H3: =D3*15% -> 370.458
A4: WITPAK | B4: WITPAK | C4: 4386 | D4: 527.76 | E4: 12.0328 | F4: NKP24 | G4: Bartłomiej Biskupski; | H4: marża poniżej 1000,00
A5: LASER3D | B5: LASER3D | C5: 4217.65 | D5: 1483.736 | E5: 35.1792 | F5: NKP24 | G5: Krzysztof Szwajdych; | H5: =D5*15% -> 222.5604
A6: GASINSKA | B6: GASINSKA | C6: 3945 | D6: 1874.36 | E6: 47.5122 | F6: NKP24 | G6: Tomasz Sypień; | H6: =D6*15% -> 281.154
A7: GREMI | B7: GREMI | C7: 2890 | D7: 1169.06 | E7: 40.4519 | F7: NKP24 | G7: Tomasz Sypień; | H7: =D7*15% -> 175.359 | I7: =SUM(H6:H7) -> 456.513
A8: POLDAUN | B8: POLDAUN | C8: 1750 | D8: 930.76 | E8: 53.1862 | F8: NKP24 | G8: Tomasz Sypień; | H8: marża poniżej 1000,00

Sheet Rok 2024
A1: Grupa | B1: Opiekun | C1: Symbol | D1: Obrót 24 | E1: Marża kwotowa 24 | F1: Marża % | G1: Premia roczna 24 | H1: Wypłacona premia I kwartał 24 | I1: Premia do wypłaty
A2: NKP24 | B2: Bartłomiej Biskupski; | C2: BIOLOGISTIC | D2: 244.71 | E2: 44.37 | F2: 18.1316 | G2: marża poniżej 1000,00
A3: NKP24 | B3: Bartłomiej Biskupski; | C3: LUNACORP | D3: 74810.65 | E3: 13222.38 | F3: 17.6744 | G3: =E3*15% -> 1983.357 | H3: ='I półrocze 24'!H3 -> 370.458 | I3: =G3-H3 -> 1612.899
A4: NKP24 | B4: Bartłomiej Biskupski; | C4: WITPAK | D4: 4386 | E4: 527.76 | F4: 12.0328 | G4: marża poniżej 1000,00
A5: NKP24 | B5: Krzysztof Szwajdych; | C5: LASER3D | D5: 4217.65 | E5: 1483.736 | F5: 35.1792 | G5: =E5*15% -> 222.5604 | H5: ='I półrocze 24'!H5 -> 222.5604 | I5: =G5-H5 -> 0
A6: NKP24 | B6: Krzysztof Szwajdych; | C6: PROMAR | D6: 2795.47 | E6: 699.838 | F6: 25.0347 | G6: marża poniżej 1000,00
A7: NKP24 | B7: Krzysztof Szwajdych; | C7: UNIIGNAT | D7: 4700.7 | E7: 899.08 | F7: 19.1265 | G7: marża poniżej 1000,00
A8: NKP24 | B8: Piotr Choma; | C8: INEE | D8: 17761.03 | E8: 5730.26 | F8: 32.2631 | G8: =E8*15% -> 859.539 | H8: 0 | I8: =G8-H8 -> 859.539
A9: NKP24 | B9: Piotr Choma; | C9: SANA | D9: 1074.95 | E9: 209.85 | F9: 19.5218 | G9: marża poniżej 1000,00
A10: NKP24 | B10: Piotr Choma; | C10: STRUMIN | D10: 8143.37 | E10: 1552.796 | F10: 19.0682 | G10: =E10*15% -> 232.9194 | H10: 0 | I10: =G10-H10 -> 232.9194
A11: NKP24 | B11: Tomasz Sypień; | C11: ELPIGAZGOR | D11: 3965.38 | E11: 1568.78 | F11: 39.5619 | G11: =E11*15% -> 235.317 | H11: 0 | I11: =G11-H11 -> 235.317
A12: NKP24 | B12: Tomasz Sypień; | C12: GASINSKA | D12: 3945 | E12: 1874.36 | F12: 47.5122 | G12: =E12*15% -> 281.154 | H12: ='I półrocze 24'!H6 -> 281.154 | I12: =G12-H12 -> 0
A13: NKP24 | B13: Tomasz Sypień; | C13: GREMI | D13: 2890 | E13: 1169.06 | F13: 40.4519 | G13: =E13*15% -> 175.359 | H13: ='I półrocze 24'!H7 -> 175.359 | I13: =G13-H13 -> 0
A14: NKP24 | B14: Tomasz Sypień; | C14: JIJSPORT | D14: 1309 | E14: 1143.729 | F14: 87.3742 | G14: =E14*15% -> 171.55935 | H14: 0 | I14: =G14-H14 -> 171.55935
A15: NKP24 | B15: Tomasz Sypień; | C15: POLDAUN | D15: 1750 | E15: 930.76 | F15: 53.1862 | G15: marża poniżej 1000,00
A16: NKP24 | B16: Tomasz Sypień; | C16: POLSTAL | D16: 2941.52 | E16: 1131.15 | F16: 38.4546 | G16: =E16*15% -> 169.6725 | H16: 0 | I16: =G16-H16 -> 169.6725
A17: NKP24 | B17: Tomasz Sypień; | C17: QBA | D17: 129.3 | E17: 61.156 | F17: 47.2977 | G17: marża poniżej 1000,00
A18: NKP24 | B18: Tomasz Sypień; | C18: SZPITALTBG | D18: 1760 | E18: 1108.09 | F18: 62.9596 | G18: =E18*15% -> 166.2135 | H18: 0 | I18: =G18-H18 -> 166.2135
A19: NKP24 | B19: Tomasz Sypień; | C19: WSKVATRA | D19: 2688 | E19: 1593.6 | F19: 59.2857 | G19: =E19*15% -> 239.04 | H19: 0 | I19: =G19-H19 -> 239.04

Sheet BB
A1: Grupa | B1: Opiekun | C1: Symbol | D1: Obrót 24 | E1: Marża kwotowa 24 | F1: Marża % | G1: Premia roczna 24 | H1: Wypłacona premia I kwartał 24 | I1: Premia do wypłaty
A2: NKP24 | B2: Bartłomiej Biskupski; | C2: BIOLOGISTIC | D2: 244.71 | E2: 44.37 | F2: 18.1316 | G2: marża poniżej 1000,00
A3: NKP24 | B3: Bartłomiej Biskupski; | C3: LUNACORP | D3: 74810.65 | E3: 13222.38 | F3: 17.6744 | G3: =E3*15% -> 1983.357 | H3: ='I półrocze 24'!H3 -> 370.458 | I3: =G3-H3 -> 1612.899
A4: NKP24 | B4: Bartłomiej Biskupski; | C4: WITPAK | D4: 4386 | E4: 527.76 | F4: 12.0328 | G4: marża poniżej 1000,00
I5: =SUM(I2:I4) -> 1612.899

Sheet TS
A1: Grupa | B1: Opiekun | C1: Symbol | D1: Obrót 24 | E1: Marża kwotowa 24 | F1: Marża % | G1: Premia roczna 24 | H1: Wypłacona premia I kwartał 24 | I1: Premia do wypłaty
A2: NKP24 | B2: Tomasz Sypień; | C2: ELPIGAZGOR | D2: 3965.38 | E2: 1568.78 | F2: 39.5619 | G2: =E2*15% -> 235.317 | H2: 0 | I2: =G2-H2 -> 235.317
A3: NKP24 | B3: Tomasz Sypień; | C3: GASINSKA | D3: 3945 | E3: 1874.36 | F3: 47.5122 | G3: =E3*15% -> 281.154 | H3: ='I półrocze 24'!H6 -> 281.154 | I3: =G3-H3 -> 0
A4: NKP24 | B4: Tomasz Sypień; | C4: GREMI | D4: 2890 | E4: 1169.06 | F4: 40.4519 | G4: =E4*15% -> 175.359 | H4: ='I półrocze 24'!H7 -> 175.359 | I4: =G4-H4 -> 0
A5: NKP24 | B5: Tomasz Sypień; | C5: JIJSPORT | D5: 1309 | E5: 1143.729 | F5: 87.3742 | G5: =E5*15% -> 171.55935 | H5: 0 | I5: =G5-H5 -> 171.55935
A6: NKP24 | B6: Tomasz Sypień; | C6: POLDAUN | D6: 1750 | E6: 930.76 | F6: 53.1862 | G6: marża poniżej 1000,00
A7: NKP24 | B7: Tomasz Sypień; | C7: POLSTAL | D7: 2941.52 | E7: 1131.15 | F7: 38.4546 | G7: =E7*15% -> 169.6725 | H7: 0 | I7: =G7-H7 -> 169.6725
A8: NKP24 | B8: Tomasz Sypień; | C8: QBA | D8: 129.3 | E8: 61.156 | F8: 47.2977 | G8: marża poniżej 1000,00
A9: NKP24 | B9: Tomasz Sypień; | C9: SZPITALTBG | D9: 1760 | E9: 1108.09 | F9: 62.9596 | G9: =E9*15% -> 166.2135 | H9: 0 | I9: =G9-H9 -> 166.2135
A10: NKP24 | B10: Tomasz Sypień; | C10: WSKVATRA | D10: 2688 | E10: 1593.6 | F10: 59.2857 | G10: =E10*15% -> 239.04 | H10: 0 | I10: =G10-H10 -> 239.04
I11: =SUM(I2:I10) -> 981.80235

Sheet KS
A1: Grupa | B1: Opiekun | C1: Symbol | D1: Obrót 24 | E1: Marża kwotowa 24 | F1: Marża % | G1: Premia roczna 24 | H1: Wypłacona premia I kwartał 24 | I1: Premia do wypłaty
A2: NKP24 | B2: Krzysztof Szwajdych; | C2: LASER3D | D2: 4217.65 | E2: 1483.736 | F2: 35.1792 | G2: =E2*15% -> 222.5604 | H2: ='I półrocze 24'!H5 -> 222.5604 | I2: =G2-H2 -> 0
A3: NKP24 | B3: Krzysztof Szwajdych; | C3: PROMAR | D3: 2795.47 | E3: 699.838 | F3: 25.0347 | G3: marża poniżej 1000,00
A4: NKP24 | B4: Krzysztof Szwajdych; | C4: UNIIGNAT | D4: 4700.7 | E4: 899.08 | F4: 19.1265 | G4: marża poniżej 1000,00
I5: =SUM(I2:I4) -> 0

Sheet PC
A1: Grupa | B1: Opiekun | C1: Symbol | D1: Obrót 24 | E1: Marża kwotowa 24 | F1: Marża % | G1: Premia roczna 24 | H1: Wypłacona premia I kwartał 24 | I1: Premia do wypłaty
A2: NKP24 | B2: Piotr Choma; | C2: INEE | D2: 17761.03 | E2: 5730.26 | F2: 32.2631 | G2: =E2*15% -> 859.539 | H2: 0 | I2: =G2-H2 -> 859.539
A3: NKP24 | B3: Piotr Choma; | C3: SANA | D3: 1074.95 | E3: 209.85 | F3: 19.5218 | G3: marża poniżej 1000,00
A4: NKP24 | B4: Piotr Choma; | C4: STRUMIN | D4: 8143.37 | E4: 1552.796 | F4: 19.0682 | G4: =E4*15% -> 232.9194 | H4: 0 | I4: =G4-H4 -> 232.9194
I5: =SUM(I2:I4) -> 1092.4584
