Workbook

Sheet ETISOFT GLIWICE
A1: Zestawienie za okres I półrocze 2024 (sprzedaż grupy towarowe: Folia bez nadruku, Folia nadruk FL, HP, Papier bez nadruku, Papier nadruk FL, HP)
A3: Kontrahent | B3: Symbol | C3: Symbol dostawcy | D3: Data wystawienia | E3: Numer | F3: Ilość | G3: Jednostka miary | H3: Wartość Netto | I3: Zysk | J3: Marża
A4: ACHTI3 | B4: ='ETISOFT GLIWICE'!H1236 -> 2119930.2 | C4: ='ETISOFT GLIWICE'!I1236 -> 695094.25 | D4: =C4/B4 -> 0.32788544 | E4: FS 1818/MG1/2024 | F4: 5.8 | G4: 1000 szt. | H4: 194.59 | I4: 115.13 | J4: 59.1654
A5: ORION | B5: P 40X25/1 C01 | C5: W0201040025C0001 | D5: 45358 | E5: FS 771/MG1/2024 | F5: 5.45 | G5: 1000 szt. | H5: 41.04 | I5: 24.036 | J5: 58.5672
A6: ETISOFT WARSZAWA | B6: P 50X30/1 C01 | C6: W0201050030C0001 | D6: 45313 | E6: FS 204/MG1/2024 | F6: 13.95 | G6: 1000 szt. | H6: 155.54 | I6: 90.533 | J6: 58.2056
A7: ACHTI3 | B7: P 50X30/1 C01 | C7: W0201050030C0001 | D7: 45349 | E7: FS 646/MG1/2024 | F7: 9.3 | G7: 1000 szt. | H7: 102.49 | I7: 59.152 | J7: 57.7148
A8: ACHTI3 | B8: P 50X30/1 C01 | C8: W0201050030C0001 | D8: 45394 | E8: FS 1199/MG1/2024 | F8: 9.3 | G8: 1000 szt. | H8: 101.28 | I8: 58.779 | J8: 58.0361
A9: ACHTI3 | B9: P 50X30/1 C01 | C9: W0201050030C0001 | D9: 45454 | E9: FS 1818/MG1/2024 | F9: 9.3 | G9: 1000 szt. | H9: 102.95 | I9: 60.449 | J9: 58.7168
A10: ADLER | B10: P 100X69,8/1 C01 | C10: W0201100070C0001 | D10: 45335 | E10: FS 470/MG1/2024 | F10: 12 | G10: 1000 szt. | H10: 466.08 | I10: 234 | J10: 50.2059
A11: ADLER | B11: P 100X69,8/1 C01 | C11: W0201100070C0001 | D11: 45454 | E11: FS 1804/MG1/2024 | F11: 12 | G11: 1000 szt. | H11: 464.4 | I11: 235.8 | J11: 50.7751
A12: ADLER | B12: P 105X148/1 C01 | C12: W0201105148C0001 | D12: 45335 | E12: FS 470/MG1/2024 | F12: 20 | G12: 1000 szt. | H12: 1618 | I12: 767.57 | J12: 47.4394
A13: ADLER | B13: P 105X148/1 C01 | C13: W0201105148C0001 | D13: 45454 | E13: FS 1804/MG1/2024 | F13: 15 | G13: 1000 szt. | H13: 1209.3 | I13: 587.25 | J13: 48.5611
A14: ADLER | B14: P 105X148/1 C01 | C14: W0201105148C0001 | D14: 45460 | E14: FS 1870/MG1/2024 | F14: 5 | G14: 1000 szt. | H14: 403.1 | I14: 195.75 | J14: 48.5611
A15: AG | B15: 1003 59X11/1 C01 | C15: W1003059011C0001 | D15: 45384 | E15: FS 1069/MG1/2024 | F15: 30 | G15: 1000 szt. | H15: 4266.3 | I15: 2803.5 | J15: 65.7126
A16: AG | B16: P 50X30/1 C01 | C16: W0201050030C0001 | D16: 45384 | E16: FS 1069/MG1/2024 | F16: 13.95 | G16: 1000 szt. | H16: 154.85 | I16: 91.0985 | J16: 58.8301
... A1235: ZŁOTYKŁOS | B1235: P 50X40/2 C01 | C1235: W0201050040C0001 | D1235: 45369 | E1235: FS 877/MG1/2024 | F1235: 140 | G1235: 1000 szt. | H1235: 1335.6 | I1235: 478.8 | J1235: 35.849
H1236: =SUM(H4:H1235) -> 2119930.2 | I1236: =SUM(I4:I1235) -> 695094.25

Sheet ZESTAWIENIE
A1: Zestawienie za okres I półrocze 2024 (sprzedaż grupy towarowe: Folia bez nadruku, Folia nadruk FL, HP, Papier bez nadruku, Papier nadruk FL, HP)
B3: Obrót netto | C3: Marża kwotowa | D3: Marża %
A4: ETISOFT GLIWICE | B4: ='ETISOFT GLIWICE'!H1236 -> 2119930.2 | C4: ='ETISOFT GLIWICE'!I1236 -> 695094.25 | D4: =C4/B4 -> 0.32788544
A5: ORION | B5: =ORION!H349 -> 709713.42 | C5: =ORION!I349 -> 298508.48 | D5: =C5/B5 -> 0.42060426
A6: ETISOFT WARSZAWA | B6: ='ETISOFT WARSZAWA'!H289 -> 357483.09 | C6: ='ETISOFT WARSZAWA'!I289 -> 136642.24 | D6: =C6/B6 -> 0.38223415
A7: PRESSART | B7: =PRESSART!H75 -> 109600.77 | C7: =PRESSART!I75 -> 33073.958 | D7: =C7/B7 -> 0.30176757

Sheet ORION
A1: Kontrahent | B1: Symbol | C1: Symbol dostawcy | D1: Data wystawienia | E1: Numer | F1: Ilość | G1: Jednostka miary | H1: Wartość Netto | I1: Zysk | J1: Marża
A2: ACHTI3 | B2: KAR220 40X60,96 C01 | C2: OR-102195 | D2: 45343 | E2: FS 566/MG1/2024 | F2: 105 | G2: 1000 szt. | H2: 3734.85 | I2: 1938.3 | J2: 51.8976
A3: ACHTI3 | B3: KAR220 40X60,96 C01 | C3: OR-102195 | D3: 45464 | E3: FS 1952/MG1/2024 | F3: 40 | G3: 1000 szt. | H3: 1586 | I3: 868.8 | J3: 54.7793
A4: ACHTI3 | B4: KAR220 40X60,96 C01 | C4: OR-102195 | D4: 45468 | E4: FS 1985/MG1/2024 | F4: 61.265 | G4: 1000 szt. | H4: 2429.16 | I4: 1331.2912 | J4: 54.8045
A5: AGROSUR | B5: PET150 90X152/1 C01 | C5: OR-42256 | D5: 45422 | E5: FS 1476/MG1/2024 | F5: 5 | G5: 1000 szt. | H5: 800 | I5: 496 | J5: 62
A6: ALUTEC | B6: HDPE 100X152,4/1 C07 | C6: OR-93776 | D6: 45310 | E6: FS 192/MG1/2024 | F6: 31.5 | G6: 1000 szt. | H6: 5318.63 | I6: 1503.035 | J6: 28.2598
A7: ALUTEC | B7: HDPE 100X152,4/1 C07 | C7: OR-93776 | D7: 45468 | E7: FS 1976/MG1/2024 | F7: 30 | G7: 1000 szt. | H7: 4971.23 | I7: 585.83 | J7: 11.7844
A8: ALUTEC | B8: HDPE 100X75/1 C01 | C8: OR-99701 | D8: 45310 | E8: FS 192/MG1/2024 | F8: 32 | G8: 1000 szt. | H8: 3226.9 | I8: 1215.38 | J8: 37.664
A9: ALUTEC | B9: HDPE 100X75/1 C01 | C9: OR-99701 | D9: 45387 | E9: FS 1117/MG1/2024 | F9: 30 | G9: 1000 szt. | H9: 3519.09 | I9: 1286.79 | J9: 36.5659
A10: ALUTEC | B10: HDPE 100X75/1 C01 | C10: OR-99701 | D10: 45393 | E10: FS 1179/MG1/2024 | F10: 55 | G10: 1000 szt. | H10: 5372.98 | I10: 1287.58 | J10: 23.9639
A11: ANTKIEWIC2 | B11: P 70X45/1 N03 | C11: OR-125035 | D11: 45419 | E11: FS 1439/MG1/2024 | F11: 210 | G11: 1000 szt. | H11: 6232.8 | I11: 2633.4 | J11: 42.2506
A12: AXASTENMAN | B12: P+ 50X40/1 N01 | C12: OR-115080 | D12: 45308 | E12: FS 165/MG1/2024 | F12: 6.392 | G12: 1000 szt. | H12: 441.88 | I12: 189.1403 | J12: 42.8035
A13: AXASTENMAN | B13: P+ 50X40/1 N01 | C13: OR-115080 | D13: 45365 | E13: FS 849/MG1/2024 | F13: 6.628 | G13: 1000 szt. | H13: 447.79 | I13: 191.3527 | J13: 42.7326
... A348: ZABOROWSCY | B348: P 100X60/1 N14 | C348: OR-115709 | D348: 45372 | E348: FS 960/MG1/2024 | F348: 32.136 | G348: 1000 szt. | H348: 2603.02 | I348: 975.9743 | J348: 37.4939
H349: =SUM(H2:H348) -> 709713.42 | I349: =SUM(I2:I348) -> 298508.48

Sheet ETISOFT WARSZAWA
A1: Kontrahent | B1: Symbol | C1: Symbol dostawcy | D1: Data wystawienia | E1: Numer | F1: Ilość | G1: Jednostka miary | H1: Wartość Netto | I1: Zysk | J1: Marża
A2: AKTYWIZACJ | B2: 1551 41X132/1 N01 | C2: WW1551041132N0001 | D2: 45357 | E2: FS 743/MG1/2024 | F2: 20 | G2: 1000 szt. | H2: 1822 | I2: 1026.2 | J2: 56.3227
A3: ARCARTON2 | B3: P 105X148/1 N03 | C3: WW0201105148N0009 | D3: 45404 | E3: FS 1305/MG1/2024 | F3: 20 | G3: 1000 szt. | H3: 2520.8 | I3: 973.6 | J3: 38.6226
A4: ARCELOR | B4: 7010 80X49/1 N01 | C4: WW2010080049N0001 | D4: 45371 | E4: FS 920/MG1/2024 | F4: 10 | G4: 1000 szt. | H4: 950 | I4: 173.9 | J4: 18.3052
A5: ARKUS | B5: 207 100X150/1 C05 | C5: WW0207100150C0001 | D5: 45345 | E5: FS 594/MG1/2024 | F5: 30 | G5: 1000 szt. | H5: 1881 | I5: 469.5 | J5: 24.9601
A6: ARKUS | B6: 207 100X150/1 C05 | C6: WW0207100150C0001 | D6: 45398 | E6: FS 1225/MG1/2024 | F6: 50 | G6: 1000 szt. | H6: 3135 | I6: 874.5 | J6: 27.8947
A7: ARKUS | B7: 3586 45X25/1 C01 | C7: WW3586045025C0001 | D7: 45362 | E7: FS 805/MG1/2024 | F7: 0 | G7: 1000 szt. | H7: 0 | I7: 0 | J7: 0
A8: ARKUS | B8: 3586 45X25/1 C01 | C8: WW3586045025C0001 | D8: 45362 | E8: FS 805/MG1/2024 | F8: 144 | G8: 1000 szt. | H8: 4212 | I8: 1497.6 | J8: 35.5555
A9: AXASTENMAN | B9: 1032 100X70/1 N02 | C9: WW1032100070N0006 | D9: 45331 | E9: FS 438/MG1/2024 | F9: 24 | G9: 1000 szt. | H9: 2359.92 | I9: 655.44 | J9: 27.7738
A10: AXASTENMAN | B10: 1032 100X70/1 N02 | C10: WW1032100070N0006 | D10: 45343 | E10: FS 572/MG1/2024 | F10: 24 | G10: 1000 szt. | H10: 2290.59 | I10: 805.23 | J10: 35.1538
A11: AXASTENMAN | B11: 1032 23X15/4 N01 | C11: WW1032023015N0001 | D11: 45331 | E11: FS 438/MG1/2024 | F11: 120 | G11: 1000 szt. | H11: 1580.4 | I11: 537.6 | J11: 34.0167
A12: AXASTENMAN | B12: 1032 23X15/4 N01 | C12: WW1032023015N0001 | D12: 45343 | E12: FS 574/MG1/2024 | F12: 120 | G12: 1000 szt. | H12: 1533.97 | I12: 606.37 | J12: 39.5294
A13: AXASTENMAN | B13: 1032 23X15/4 N01 | C13: WW1032023015N0001 | D13: 45461 | E13: FS 1899/MG1/2024 | F13: 120 | G13: 1000 szt. | H13: 1548.96 | I13: 1060.56 | J13: 68.4691
... A288: ZOZMYSLENI | B288: 260 40X14/1 N02 | C288: WW0260040014N0002 | D288: 45432 | E288: FS 1569/MG1/2024 | F288: 10 | G288: 1000 szt. | H288: 63.3 | I288: 30.6 | J288: 48.3412
H289: =SUM(H2:H288) -> 357483.09 | I289: =SUM(I2:I288) -> 136642.24

Sheet PRESSART
A1: Kontrahent | B1: Symbol | C1: Symbol dostawcy | D1: Data wystawienia | E1: Numer | F1: Ilość | G1: Jednostka miary | H1: Wartość Netto | I1: Zysk | J1: Marża
A2: ADLER | B2: P 30X30/A N03 | C2: PA-02642402 | D2: 45351 | E2: FS 670/MG1/2024 | F2: 1.5 | G2: 1000 szt. | H2: 177 | I2: 52.005 | J2: 29.3813
A3: ADLER | B3: P 55X50/A N01 | C3: PA-008724 | D3: 45351 | E3: FS 670/MG1/2024 | F3: 3 | G3: 1000 szt. | H3: 435.3 | I3: 231.3 | J3: 53.1357
A4: ALUPROF | B4: P+ 105X297/A N01 | C4: PA-001124 | D4: 45316 | E4: FS 256/MG1/2024 | F4: 1 | G4: 1000 szt. | H4: 730 | I4: 128 | J4: 17.5342
A5: ALUPROF | B5: P+ 105X297/A N01 | C5: PA-001124 | D5: 45422 | E5: FS 1484/MG1/2024 | F5: 1 | G5: 1000 szt. | H5: 730 | I5: 128 | J5: 17.5342
A6: ALUPROF | B6: P+ 148X205/A N02 | C6: PA-012024 | D6: 45390 | E6: FS 1128/MG1/2024 | F6: 6 | G6: 1000 szt. | H6: 2400 | I6: 600 | J6: 25
A7: DRUMET | B7: P+ FI50/A N03 | C7: PA-002824 | D7: 45328 | E7: FS 393/MG1/2024 | F7: 10 | G7: 1000 szt. | H7: 1970 | I7: 650 | J7: 32.9949
A8: DUBIELVIT2 | B8: P 178X40/A N01 | C8: PA-000724 | D8: 45303 | E8: FS 108/MG1/2024 | F8: 5 | G8: 1000 szt. | H8: 1350 | I8: 439 | J8: 32.5185
A9: DUBIELVIT2 | B9: P 200X40/A N01 | C9: PA-042123 | D9: 45314 | E9: FS 211/MG1/2024 | F9: 2 | G9: 1000 szt. | H9: 1360 | I9: 506.86 | J9: 37.2691
A10: DUBIELVIT2 | B10: P 297X210/A N03 | C10: GH-015-140-10-2022 | D10: 45323 | E10: FS 328/MG1/2024 | F10: 0.5 | G10: 1000 szt. | H10: 1000 | I10: 329.34 | J10: 32.934
A11: DUBIELVIT2 | B11: P 297X210/A N03 | C11: GH-015-140-10-2022 | D11: 45335 | E11: FS 458/MG1/2024 | F11: 0.5 | G11: 1000 szt. | H11: 1000 | I11: 497 | J11: 49.7
A12: DUBIELVIT2 | B12: P 297X210/A N05 | C12: GH-014-164-10-2022 | D12: 45335 | E12: FS 458/MG1/2024 | F12: 1 | G12: 1000 szt. | H12: 2000 | I12: 994 | J12: 49.7
A13: DUBIELVIT2 | B13: P 297X210/A N07 | C13: GH-011-225-10-2022 | D13: 45323 | E13: FS 328/MG1/2024 | F13: 0.5 | G13: 1000 szt. | H13: 1000 | I13: 329.34 | J13: 32.934
... A74: TMTECHNOLO | B74: FB+ 22X63/A N02 | C74: PA-008124 | D74: 45363 | E74: FS 810/MG1/2024 | F74: 100 | G74: 1000 szt. | H74: 8400 | I74: 1016 | J74: 12.0952
H75: =SUM(H2:H74) -> 109600.77 | I75: =SUM(I2:I74) -> 33073.958
