Workbook

Sheet PAWEŁ
A1: Paweł Młynarski
A2: miesiąc | B2: styczeń | C2: luty | D2: marzec | E2: KW I | F2: kwiecień | G2: maj | H2: czerwiec | I2: KW II | J2: lipiec | K2: sierpień | L2: wrzesień | M2: KW III | N2: październik | O2: listopad | P2: grudzień | Q2: KW IV | R2: suma ROK
A3: Plan Sprzedaży Obrót miesięczny | B3: =REALIZACJE!B3 -> 800938.97 | C3: =REALIZACJE!C3 -> 800938.97 | D3: =REALIZACJE!D3 -> 800938.97 | E3: =REALIZACJE!E3 -> 2402816.9 | F3: =REALIZACJE!F3 -> 830931.88 | G3: =REALIZACJE!G3 -> 830931.88 | H3: =REALIZACJE!H3 -> 830931.88 | I3: =REALIZACJE!I3 -> 2492795.6 | ... R3: =REALIZACJE!R3 -> 9876703.8
A4: Indywidualny Miesięczny Obrót | B4: =SUMIF(I!A:A,$A$1,I!G:G) -> 337543.12 | C4: =SUMIF(II!A:A,$A$1,II!G:G) -> 231933.64 | D4: =SUMIF(III!A:A,$A$1,III!G:G) -> 136515.31 | E4: =SUM(B4:D4) -> 705992.08 | F4: =SUMIF(IV!A:A,$A$1,IV!G:G) -> 186306.27 | G4: =SUMIF(V!A:A,$A$1,V!G:G) -> 199044.72 | H4: =SUMIF(VI!A:A,$A$1,VI!G:G) -> 67259.008 | I4: =SUM(F4:H4) -> 452609.99 | J4: =SUMIF(VII!A:A,$A$1,VII!G:G) -> 244652.73 | K4: =SUMIF(VIII!A:A,$A$1,VIII!G:G) -> 105041.45 | L4: =SUMIF(IX!A:A,$A$1,IX!G:G) -> 218632.38 | M4: =SUM(J4:L4) -> 568326.56 | N4: =SUMIF(X!A:A,$A$1,X!G:G) -> 229388.14 | O4: =SUMIF(XI!A:A,$A$1,XI!G:G) -> 72856.328 | P4: =SUMIF(XII!A:A,$A$1,XII!G:G) -> 104823.54 | Q4: =SUM(N4:P4) -> 407068.01 | R4: =E4+I4+M4+Q4 -> 2133996.6
A5: Indywidualny Sumaryczny Obrót | B5: =B4 -> 337543.12 | C5: =C4+B5 -> 569476.77 | D5: =D4+C5 -> 705992.08 | F5: =F4 -> 186306.27 | G5: =G4+F5 -> 385350.98 | H5: =H4+G5 -> 452609.99 | J5: =J4 -> 244652.73 | K5: =K4+J5 -> 349694.19 | L5: =L4+K5 -> 568326.56 | N5: =N4 -> 229388.14 | O5: =O4+N5 -> 302244.47 | P5: =P4+O5 -> 407068.01
A7: PREMIE
A8: Kwota bazowa na dany okres | B8: 7000 | C8: 7000 | D8: 7000 | F8: 7000 | G8: 7000 | H8: 7000 | J8: 7000 | K8: 7000 | L8: 7000 | N8: 7000 | O8: 7000 | P8: 7000
A9: Mnożnik kwoty bazowej | B9: =IF(B12<80%,0,IF(B12<90%,0.5,IF(B12<95%,0.75,1))) -> 0.75 | C9: =IF(C12<80%,0,IF(C12<90%,0.5,IF(C12<95%,0.75,1))) -> 1 | D9: =IF(D12<80%,0,IF(D12<90%,0.5,IF(D12<95%,0.75,1))) -> 0.5 | F9: =IF(F12<80%,0,IF(F12<90%,0.5,IF(F12<95%,0.75,1))) -> 1 | G9: =IF(G12<80%,0,IF(G12<90%,0.5,IF(G12<95%,0.75,1))) -> 0.75 | H9: =IF(H12<80%,0,IF(H12<90%,0.5,IF(H12<95%,0.75,1))) -> 0.5 | J9: =IF(J12<80%,0,IF(J12<90%,0.5,IF(J12<95%,0.75,1))) -> 1 | K9: =IF(K12<80%,0,IF(K12<90%,0.5,IF(K12<95%,0.75,1))) -> 0 | L9: =IF(L12<80%,0,IF(L12<90%,0.5,IF(L12<95%,0.75,1))) -> 0.75 | N9: =IF(N12<80%,0,IF(N12<90%,0.5,IF(N12<95%,0.75,1))) -> 1 | O9: =IF(O12<80%,0,IF(O12<90%,0.5,IF(O12<95%,0.75,1))) -> 0.5 | P9: =IF(P12<80%,0,IF(P12<90%,0.5,IF(P12<95%,0.75,1))) -> 0
A10: Kwota bazowa na dany miesiąc | B10: =B9*B8 -> 5250 | C10: =C9*C8 -> 7000 | D10: =D9*D8 -> 3500 | F10: =F9*F8 -> 7000 | G10: =G9*G8 -> 5250 | H10: =H9*H8 -> 3500 | J10: =J9*J8 -> 7000 | K10: =K9*K8 -> 0 | L10: =L9*L8 -> 5250 | N10: =N9*N8 -> 7000 | O10: =O9*O8 -> 3500 | P10: =P9*P8 -> 0
A11: Obrót miesięczny | B11: =DH!B5 -> 735313.23 | C11: =DH!C5 -> 864042.09 | D11: =DH!D5 -> 682276.62 | E11: =SUM(B11:D11) -> 2281631.9 | F11: =DH!F5 -> 902392.27 | G11: =DH!G5 -> 770807.83 | H11: =DH!H5 -> 668332.33 | I11: =SUM(F11:H11) -> 2341532.4 | J11: =DH!J5 -> 815918.61 | K11: =DH!K5 -> 552755.38 | L11: =DH!L5 -> 781695.27 | M11: =SUM(J11:L11) -> 2150369.3 | N11: =DH!N5 -> 823854.56 | O11: =DH!O5 -> 574341.16 | P11: =DH!P5 -> 569291.9
A12: Poziom % realizacji Planu Sprzedaży Obrót | B12: =B11/REALIZACJE!B3 -> 0.91806399 | C12: =C11/REALIZACJE!C3 -> 1.0787864 | D12: =D11/REALIZACJE!D3 -> 0.85184596 | E12: =REALIZACJE!E10 -> 0.94956546 | F12: =F11/REALIZACJE!F3 -> 1.0860003 | G12: =G11/REALIZACJE!G3 -> 0.92764262 | H12: =H11/REALIZACJE!H3 -> 0.80431663 | I12: =REALIZACJE!I10 -> 0.93931985 | J12: =J11/REALIZACJE!J3 -> 0.98193201 | K12: =K11/REALIZACJE!K3 -> 0.66522345 | L12: =L11/REALIZACJE!L3 -> 0.94074532 | M12: =REALIZACJE!M10 -> 0.86263359 | N12: =N11/REALIZACJE!N3 -> 0.99148267 | O12: =O11/REALIZACJE!O3 -> 0.80222878 | P12: =P11/REALIZACJE!P3 -> 0.60470854
A13: Indywidualny Obrót miesięczny | B13: =B4 -> 337543.12 | C13: =C4 -> 231933.64 | D13: =D4 -> 136515.31 | F13: =F4 -> 186306.27 | G13: =G4 -> 199044.72 | H13: =H4 -> 67259.008 | J13: =J4 -> 244652.73 | K13: =K4 -> 105041.45 | L13: =L4 -> 218632.38 | N13: =N4 -> 229388.14 | O13: =O4 -> 72856.328 | P13: =P4 -> 104823.54
A14: Udział % Obrotu miesięcznego | B14: =B13/B11 -> 0.45904672 | C14: =C13/C11 -> 0.26842864 | D14: =D13/D11 -> 0.20008792 | F14: =F13/F11 -> 0.20645818 | G14: =G13/G11 -> 0.25822872 | H14: =H13/H11 -> 0.10063707 | J14: =J13/J11 -> 0.29984944 | K14: =K13/K11 -> 0.19003244 | L14: =L13/L11 -> 0.27969003 | N14: =N13/N11 -> 0.27843281 | O14: =O13/O11 -> 0.12685201 | P14: =P13/P11 -> 0.18412969
A15: Wysokość premii wskaźnik Obrót % | B15: =B10*0.2 -> 1050 | C15: =C10*0.2 -> 1400 | D15: =D10*0.2 -> 700 | F15: =F10*0.2 -> 1400 | G15: =G10*0.2 -> 1050 | H15: =H10*0.2 -> 700 | J15: =J10*0.2 -> 1400 | K15: =K10*0.2 -> 0 | L15: =L10*0.2 -> 1050 | N15: =N10*0.2 -> 1400 | O15: =O10*0.2 -> 700 | P15: =P10*0.2 -> 0
A16: Mnożnik premii miesięcznej wskaźnika Obrót % | B16: =IF(B14<15%,0,IF(B14<33%,0.5,IF(B14<66%,0.75,1))) -> 0.75 | C16: =IF(C14<15%,0,IF(C14<33%,0.5,IF(C14<66%,0.75,1))) -> 0.5 | D16: =IF(D14<15%,0,IF(D14<33%,0.5,IF(D14<66%,0.75,1))) -> 0.5 | F16: =IF(F14<15%,0,IF(F14<33%,0.5,IF(F14<66%,0.75,1))) -> 0.5 | G16: =IF(G14<15%,0,IF(G14<33%,0.5,IF(G14<66%,0.75,1))) -> 0.5 | H16: =IF(H14<15%,0,IF(H14<33%,0.5,IF(H14<66%,0.75,1))) -> 0 | J16: =IF(J14<15%,0,IF(J14<33%,0.5,IF(J14<66%,0.75,1))) -> 0.5 | K16: =IF(K14<15%,0,IF(K14<33%,0.5,IF(K14<66%,0.75,1))) -> 0.5 | L16: =IF(L14<15%,0,IF(L14<33%,0.5,IF(L14<66%,0.75,1))) -> 0.5 | N16: =IF(N14<15%,0,IF(N14<33%,0.5,IF(N14<66%,0.75,1))) -> 0.5 | O16: =IF(O14<15%,0,IF(O14<33%,0.5,IF(O14<66%,0.75,1))) -> 0 | P16: =IF(P14<15%,0,IF(P14<33%,0.5,IF(P14<66%,0.75,1))) -> 0.5
A17: Premia miesięczna za wskaźnik Obrót % | B17: =B16*B15 -> 787.5 | C17: =C16*C15 -> 700 | D17: =D16*D15 -> 350 | E17: =SUM(B17:D17) -> 1837.5 | F17: =F16*F15 -> 700 | G17: =G16*G15 -> 525 | H17: =H16*H15 -> 0 | I17: =SUM(F17:H17) -> 1225 | J17: =J16*J15 -> 700 | K17: =K16*K15 -> 0 | L17: =L16*L15 -> 525 | M17: =SUM(J17:L17) -> 1225 | N17: =N16*N15 -> 700 | O17: =O16*O15 -> 0 | P17: =P16*P15 -> 0
A18: PROGI
A19: min 95% PSO | B19: =B3*95% -> 760892.02 | C19: =C3*95% -> 760892.02 | D19: =D3*95% -> 760892.02 | F19: =F3*95% -> 789385.29 | G19: =G3*95% -> 789385.29 | H19: =H3*95% -> 789385.29 | J19: =J3*95% -> 789385.29 | K19: =K3*95% -> 789385.29 | L19: =L3*95% -> 789385.29 | N19: =N3*95% -> 789385.29 | O19: =O3*95% -> 680135.29 | P19: =P3*95% -> 894360.29
A20: min 90% PSO | B20: =B3*90% -> 720845.07 | C20: =C3*90% -> 720845.07 | D20: =D3*90% -> 720845.07 | F20: =F3*90% -> 747838.69 | G20: =G3*90% -> 747838.69 | H20: =H3*90% -> 747838.69 | J20: =J3*90% -> 747838.69 | K20: =K3*90% -> 747838.69 | L20: =L3*90% -> 747838.69 | N20: =N3*90% -> 747838.69 | O20: =O3*90% -> 644338.69 | P20: =P3*90% -> 847288.69
A21: min 80% PSO | B21: =B3*80% -> 640751.18 | C21: =C3*80% -> 640751.18 | D21: =D3*80% -> 640751.18 | F21: =F3*80% -> 664745.5 | G21: =G3*80% -> 664745.5 | H21: =H3*80% -> 664745.5 | J21: =J3*80% -> 664745.5 | K21: =K3*80% -> 664745.5 | L21: =L3*80% -> 664745.5 | N21: =N3*80% -> 664745.5 | O21: =O3*80% -> 572745.5 | P21: =P3*80% -> 753145.5
O22: korekta PSO | P22: korekta PSO

Sheet KAMIL
A1: Kamil Milewski
A2: miesiąc | B2: styczeń | C2: luty | D2: marzec | E2: KW I | F2: kwiecień | G2: maj | H2: czerwiec | I2: KW II | J2: lipiec | K2: sierpień | L2: wrzesień | M2: KW III | N2: październik | O2: listopad | P2: grudzień | Q2: KW IV | R2: suma ROK
A3: Plan Sprzedaży Obrót miesięczny | B3: =REALIZACJE!B3 -> 800938.97 | C3: =REALIZACJE!C3 -> 800938.97 | D3: =REALIZACJE!D3 -> 800938.97 | E3: =REALIZACJE!E3 -> 2402816.9 | F3: =REALIZACJE!F3 -> 830931.88 | G3: =REALIZACJE!G3 -> 830931.88 | H3: =REALIZACJE!H3 -> 830931.88 | I3: =REALIZACJE!I3 -> 2492795.6 | ... R3: =REALIZACJE!R3 -> 9876703.8
A4: Indywidualny Miesięczny Obrót | B4: =SUMIF(I!A:A,$A$1,I!G:G) -> 113151.38 | C4: =SUMIF(II!A:A,$A$1,II!G:G) -> 108924.33 | D4: =SUMIF(III!A:A,$A$1,III!G:G) -> 132729.5 | E4: =SUM(B4:D4) -> 354805.21 | F4: =SUMIF(IV!A:A,$A$1,IV!G:G) -> 137916.62 | G4: =SUMIF(V!A:A,$A$1,V!G:G) -> 126810.92 | H4: =SUMIF(VI!A:A,$A$1,VI!G:G) -> 107889.32 | I4: =SUM(F4:H4) -> 372616.87 | J4: =SUMIF(VII!A:A,$A$1,VII!G:G) -> 294121.25 | K4: =SUMIF(VIII!A:A,$A$1,VIII!G:G) -> 119427.3 | L4: =SUMIF(IX!A:A,$A$1,IX!G:G) -> 130108.99 | M4: =SUM(J4:L4) -> 543657.54 | N4: =SUMIF(X!A:A,$A$1,X!G:G) -> 185692.52 | O4: =SUMIF(XI!A:A,$A$1,XI!G:G) -> 126308.42 | P4: =SUMIF(XII!A:A,$A$1,XII!G:G) -> 81022.641 | Q4: =SUM(N4:P4) -> 393023.58 | R4: =E4+I4+M4+Q4 -> 1664103.2
A5: Indywidualny Sumaryczny Obrót | B5: =B4 -> 113151.38 | C5: =C4+B5 -> 222075.71 | D5: =D4+C5 -> 354805.21 | F5: =F4 -> 137916.62 | G5: =G4+F5 -> 264727.55 | H5: =H4+G5 -> 372616.87 | J5: =J4 -> 294121.25 | K5: =K4+J5 -> 413548.55 | L5: =L4+K5 -> 543657.54 | N5: =N4 -> 185692.52 | O5: =O4+N5 -> 312000.94 | P5: =P4+O5 -> 393023.58
A7: PREMIE
A8: Wysokość ustalonej kwoty bazowej na dany okres | B8: 7000 | C8: 7000 | D8: 7000 | F8: 7000 | G8: 7000 | H8: 7000 | J8: 7000 | K8: 7000 | L8: 7000 | N8: 7000 | O8: 7000 | P8: 7000
A9: Mnożnik kwoty bazowej | B9: =IF(B12<80%,0,IF(B12<90%,0.5,IF(B12<95%,0.75,1))) -> 0.75 | C9: =IF(C12<80%,0,IF(C12<90%,0.5,IF(C12<95%,0.75,1))) -> 1 | D9: =IF(D12<80%,0,IF(D12<90%,0.5,IF(D12<95%,0.75,1))) -> 0.5 | F9: =IF(F12<80%,0,IF(F12<90%,0.5,IF(F12<95%,0.75,1))) -> 1 | G9: =IF(G12<80%,0,IF(G12<90%,0.5,IF(G12<95%,0.75,1))) -> 0.75 | H9: =IF(H12<80%,0,IF(H12<90%,0.5,IF(H12<95%,0.75,1))) -> 0.5 | J9: =IF(J12<80%,0,IF(J12<90%,0.5,IF(J12<95%,0.75,1))) -> 1 | K9: =IF(K12<80%,0,IF(K12<90%,0.5,IF(K12<95%,0.75,1))) -> 0 | L9: =IF(L12<80%,0,IF(L12<90%,0.5,IF(L12<95%,0.75,1))) -> 0.75 | N9: =IF(N12<80%,0,IF(N12<90%,0.5,IF(N12<95%,0.75,1))) -> 1 | O9: =IF(O12<80%,0,IF(O12<90%,0.5,IF(O12<95%,0.75,1))) -> 0.5 | P9: =IF(P12<80%,0,IF(P12<90%,0.5,IF(P12<95%,0.75,1))) -> 0
A10: Kwota bazowa za dany miesiąc | B10: =B9*B8 -> 5250 | C10: =C9*C8 -> 7000 | D10: =D9*D8 -> 3500 | F10: =F9*F8 -> 7000 | G10: =G9*G8 -> 5250 | H10: =H9*H8 -> 3500 | J10: =J9*J8 -> 7000 | K10: =K9*K8 -> 0 | L10: =L9*L8 -> 5250 | N10: =N9*N8 -> 7000 | O10: =O9*O8 -> 3500 | P10: =P9*P8 -> 0
A11: Obrót miesięczny | B11: =DH!B5 -> 735313.23 | C11: =DH!C5 -> 864042.09 | D11: =DH!D5 -> 682276.62 | E11: =SUM(B11:D11) -> 2281631.9 | F11: =DH!F5 -> 902392.27 | G11: =DH!G5 -> 770807.83 | H11: =DH!H5 -> 668332.33 | I11: =SUM(F11:H11) -> 2341532.4 | J11: =DH!J5 -> 815918.61 | K11: =DH!K5 -> 552755.38 | L11: =DH!L5 -> 781695.27 | M11: =SUM(J11:L11) -> 2150369.3 | N11: =DH!N5 -> 823854.56 | O11: =DH!O5 -> 574341.16 | P11: =DH!P5 -> 569291.9
A12: Poziom % realizacji Planu Sprzedaży Obrót | B12: =B11/REALIZACJE!B3 -> 0.91806399 | C12: =C11/REALIZACJE!C3 -> 1.0787864 | D12: =D11/REALIZACJE!D3 -> 0.85184596 | E12: =REALIZACJE!E10 -> 0.94956546 | F12: =F11/REALIZACJE!F3 -> 1.0860003 | G12: =G11/REALIZACJE!G3 -> 0.92764262 | H12: =H11/REALIZACJE!H3 -> 0.80431663 | I12: =REALIZACJE!I10 -> 0.93931985 | J12: =J11/REALIZACJE!J3 -> 0.98193201 | K12: =K11/REALIZACJE!K3 -> 0.66522345 | L12: =L11/REALIZACJE!L3 -> 0.94074532 | M12: =REALIZACJE!M10 -> 0.86263359 | N12: =N11/REALIZACJE!N3 -> 0.99148267 | O12: =O11/REALIZACJE!O3 -> 0.80222878 | P12: =P11/REALIZACJE!P3 -> 0.60470854
A13: Indywidualny Obrót miesięczny | B13: =B4 -> 113151.38 | C13: =C4 -> 108924.33 | D13: =D4 -> 132729.5 | F13: =F4 -> 137916.62 | G13: =G4 -> 126810.92 | H13: =H4 -> 107889.32 | J13: =J4 -> 294121.25 | K13: =K4 -> 119427.3 | L13: =L4 -> 130108.99 | N13: =N4 -> 185692.52 | O13: =O4 -> 126308.42 | P13: =P4 -> 81022.641
A14: Wskaźnik % Obrotu miesięcznego | B14: =B13/B11 -> 0.15388188 | C14: =C13/C11 -> 0.12606368 | D14: =D13/D11 -> 0.19453913 | F14: =F13/F11 -> 0.15283445 | G14: =G13/G11 -> 0.16451691 | H14: =H13/H11 -> 0.16143065 | J14: =J13/J11 -> 0.36047866 | K14: =K13/K11 -> 0.21605814 | L14: =L13/L11 -> 0.16644464 | N14: =N13/N11 -> 0.22539478 | O14: =O13/O11 -> 0.21991881 | P14: =P13/P11 -> 0.14232179
A15: Wysokość premii wskaźnik Obrót % | B15: =B10*0.2 -> 1050 | C15: =C10*0.2 -> 1400 | D15: =D10*0.2 -> 700 | F15: =F10*0.2 -> 1400 | G15: =G10*0.2 -> 1050 | H15: =H10*0.2 -> 700 | J15: =J10*0.2 -> 1400 | K15: =K10*0.2 -> 0 | L15: =L10*0.2 -> 1050 | N15: =N10*0.2 -> 1400 | O15: =O10*0.2 -> 700 | P15: =P10*0.2 -> 0
A16: Mnożnik premii miesięcznej wskaźnika Obrót % | B16: =IF(B14<15%,0,IF(B14<33%,0.5,IF(B14<66%,0.75,1))) -> 0.5 | C16: =IF(C14<15%,0,IF(C14<33%,0.5,IF(C14<66%,0.75,1))) -> 0 | D16: =IF(D14<15%,0,IF(D14<33%,0.5,IF(D14<66%,0.75,1))) -> 0.5 | F16: =IF(F14<15%,0,IF(F14<33%,0.5,IF(F14<66%,0.75,1))) -> 0.5 | G16: =IF(G14<15%,0,IF(G14<33%,0.5,IF(G14<66%,0.75,1))) -> 0.5 | H16: =IF(H14<15%,0,IF(H14<33%,0.5,IF(H14<66%,0.75,1))) -> 0.5 | J16: =IF(J14<15%,0,IF(J14<33%,0.5,IF(J14<66%,0.75,1))) -> 0.75 | K16: =IF(K14<15%,0,IF(K14<33%,0.5,IF(K14<66%,0.75,1))) -> 0.5 | L16: =IF(L14<15%,0,IF(L14<33%,0.5,IF(L14<66%,0.75,1))) -> 0.5 | N16: =IF(N14<15%,0,IF(N14<33%,0.5,IF(N14<66%,0.75,1))) -> 0.5 | O16: =IF(O14<15%,0,IF(O14<33%,0.5,IF(O14<66%,0.75,1))) -> 0.5 | P16: =IF(P14<15%,0,IF(P14<33%,0.5,IF(P14<66%,0.75,1))) -> 0
A17: Premia miesięczna za wskaźnik Obrót % | B17: =B16*B15 -> 525 | C17: =C16*C15 -> 0 | D17: =D16*D15 -> 350 | E17: =SUM(B17:D17) -> 875 | F17: =F16*F15 -> 700 | G17: =G16*G15 -> 525 | H17: =H16*H15 -> 350 | I17: =SUM(F17:H17) -> 1575 | J17: =J16*J15 -> 1050 | K17: =K16*K15 -> 0 | L17: =L16*L15 -> 525 | M17: =SUM(J17:L17) -> 1575 | N17: =N16*N15 -> 700 | O17: =O16*O15 -> 350 | P17: =P16*P15 -> 0
A18: PROGI
A19: min 95% PSO | B19: =B3*95% -> 760892.02 | C19: =C3*95% -> 760892.02 | D19: =D3*95% -> 760892.02 | F19: =F3*95% -> 789385.29 | G19: =G3*95% -> 789385.29 | H19: =H3*95% -> 789385.29 | J19: =J3*95% -> 789385.29 | K19: =K3*95% -> 789385.29 | L19: =L3*95% -> 789385.29 | N19: =N3*95% -> 789385.29 | O19: =O3*95% -> 680135.29 | P19: =P3*95% -> 894360.29
A20: min 90% PSO | B20: =B3*90% -> 720845.07 | C20: =C3*90% -> 720845.07 | D20: =D3*90% -> 720845.07 | F20: =F3*90% -> 747838.69 | G20: =G3*90% -> 747838.69 | H20: =H3*90% -> 747838.69 | J20: =J3*90% -> 747838.69 | K20: =K3*90% -> 747838.69 | L20: =L3*90% -> 747838.69 | N20: =N3*90% -> 747838.69 | O20: =O3*90% -> 644338.69 | P20: =P3*90% -> 847288.69
A21: min 80% PSO | B21: =B3*80% -> 640751.18 | C21: =C3*80% -> 640751.18 | D21: =D3*80% -> 640751.18 | F21: =F3*80% -> 664745.5 | G21: =G3*80% -> 664745.5 | H21: =H3*80% -> 664745.5 | J21: =J3*80% -> 664745.5 | K21: =K3*80% -> 664745.5 | L21: =L3*80% -> 664745.5 | N21: =N3*80% -> 664745.5 | O21: =O3*80% -> 572745.5 | P21: =P3*80% -> 753145.5
O22: korekta PSO | P22: korekta PSO

Sheet KASIA K
A1: Katarzyna Kucharzyk
A2: miesiąc | B2: styczeń | C2: luty | D2: marzec | E2: KW I | F2: kwiecień | G2: maj | H2: czerwiec | I2: KW II | J2: lipiec | K2: sierpień | L2: wrzesień | M2: KW III | N2: październik | O2: listopad | P2: grudzień | Q2: KW IV | R2: suma ROK
A3: Plan Sprzedaży Obrót miesięczny | B3: =REALIZACJE!B3 -> 800938.97 | C3: =REALIZACJE!C3 -> 800938.97 | D3: =REALIZACJE!D3 -> 800938.97 | E3: =REALIZACJE!E3 -> 2402816.9 | F3: =REALIZACJE!F3 -> 830931.88 | G3: =REALIZACJE!G3 -> 830931.88 | H3: =REALIZACJE!H3 -> 830931.88 | I3: =REALIZACJE!I3 -> 2492795.6 | ... R3: =REALIZACJE!R3 -> 9876703.8
A4: Indywidualny Miesięczny Obrót | B4: =SUMIF(I!A:A,$A$1,I!G:G) -> 284618.72 | C4: =SUMIF(II!A:A,$A$1,II!G:G) -> 523184.12 | D4: =SUMIF(III!A:A,$A$1,III!G:G) -> 413031.81 | E4: =SUM(B4:D4) -> 1220834.7 | F4: =SUMIF(IV!A:A,$A$1,IV!G:G) -> 578169.38 | G4: =SUMIF(V!A:A,$A$1,V!G:G) -> 444952.19 | H4: =SUMIF(VI!A:A,$A$1,VI!G:G) -> 493184 | I4: =SUM(F4:H4) -> 1516305.6 | J4: =SUMIF(VII!A:A,$A$1,VII!G:G) -> 277144.62 | K4: =SUMIF(VIII!A:A,$A$1,VIII!G:G) -> 328286.62 | L4: =SUMIF(IX!A:A,$A$1,IX!G:G) -> 432953.91 | M4: =SUM(J4:L4) -> 1038385.2 | N4: =SUMIF(X!A:A,$A$1,X!G:G) -> 408773.91 | O4: =SUMIF(XI!A:A,$A$1,XI!G:G) -> 375176.41 | P4: =SUMIF(XII!A:A,$A$1,XII!G:G) -> 383445.72 | Q4: =SUM(N4:P4) -> 1167396 | R4: =E4+I4+M4+Q4 -> 4942921.4
A5: Indywidualny Sumaryczny Obrót | B5: =B4 -> 284618.72 | C5: =C4+B5 -> 807802.84 | D5: =D4+C5 -> 1220834.7 | F5: =F4 -> 578169.38 | G5: =G4+F5 -> 1023121.6 | H5: =H4+G5 -> 1516305.6 | J5: =J4 -> 277144.62 | K5: =K4+J5 -> 605431.25 | L5: =L4+K5 -> 1038385.2 | N5: =N4 -> 408773.91 | O5: =O4+N5 -> 783950.31 | P5: =P4+O5 -> 1167396
A7: PREMIE
A8: Wysokość ustalonej kwoty bazowej na dany okres | B8: 7000 | C8: 7000 | D8: 7000 | F8: 7000 | G8: 7000 | H8: 7000 | J8: 7000 | K8: 7000 | L8: 7000 | N8: 7000 | O8: 7000 | P8: 7000
A9: Mnożnik kwoty bazowej | B9: =IF(B12<80%,0,IF(B12<90%,0.5,IF(B12<95%,0.75,1))) -> 0.75 | C9: =IF(C12<80%,0,IF(C12<90%,0.5,IF(C12<95%,0.75,1))) -> 1 | D9: =IF(D12<80%,0,IF(D12<90%,0.5,IF(D12<95%,0.75,1))) -> 0.5 | F9: =IF(F12<80%,0,IF(F12<90%,0.5,IF(F12<95%,0.75,1))) -> 1 | G9: =IF(G12<80%,0,IF(G12<90%,0.5,IF(G12<95%,0.75,1))) -> 0.75 | H9: =IF(H12<80%,0,IF(H12<90%,0.5,IF(H12<95%,0.75,1))) -> 0.5 | J9: =IF(J12<80%,0,IF(J12<90%,0.5,IF(J12<95%,0.75,1))) -> 1 | K9: =IF(K12<80%,0,IF(K12<90%,0.5,IF(K12<95%,0.75,1))) -> 0 | L9: =IF(L12<80%,0,IF(L12<90%,0.5,IF(L12<95%,0.75,1))) -> 0.75 | N9: =IF(N12<80%,0,IF(N12<90%,0.5,IF(N12<95%,0.75,1))) -> 1 | O9: =IF(O12<80%,0,IF(O12<90%,0.5,IF(O12<95%,0.75,1))) -> 0.5 | P9: =IF(P12<80%,0,IF(P12<90%,0.5,IF(P12<95%,0.75,1))) -> 0
A10: Kwota bazowa za dany miesiąc | B10: =B9*B8 -> 5250 | C10: =C9*C8 -> 7000 | D10: =D9*D8 -> 3500 | F10: =F9*F8 -> 7000 | G10: =G9*G8 -> 5250 | H10: =H9*H8 -> 3500 | J10: =J9*J8 -> 7000 | K10: =K9*K8 -> 0 | L10: =L9*L8 -> 5250 | N10: =N9*N8 -> 7000 | O10: =O9*O8 -> 3500 | P10: =P9*P8 -> 0
A11: Obrót miesięczny | B11: =DH!B5 -> 735313.23 | C11: =DH!C5 -> 864042.09 | D11: =DH!D5 -> 682276.62 | E11: =SUM(B11:D11) -> 2281631.9 | F11: =DH!F5 -> 902392.27 | G11: =DH!G5 -> 770807.83 | H11: =DH!H5 -> 668332.33 | I11: =SUM(F11:H11) -> 2341532.4 | J11: =DH!J5 -> 815918.61 | K11: =DH!K5 -> 552755.38 | L11: =DH!L5 -> 781695.27 | M11: =SUM(J11:L11) -> 2150369.3 | N11: =DH!N5 -> 823854.56 | O11: =DH!O5 -> 574341.16 | P11: =DH!P5 -> 569291.9
A12: Poziom % realizacji Planu Sprzedaży Obrót | B12: =B11/REALIZACJE!B3 -> 0.91806399 | C12: =C11/REALIZACJE!C3 -> 1.0787864 | D12: =D11/REALIZACJE!D3 -> 0.85184596 | E12: =REALIZACJE!E10 -> 0.94956546 | F12: =F11/REALIZACJE!F3 -> 1.0860003 | G12: =G11/REALIZACJE!G3 -> 0.92764262 | H12: =H11/REALIZACJE!H3 -> 0.80431663 | I12: =REALIZACJE!I10 -> 0.93931985 | J12: =J11/REALIZACJE!J3 -> 0.98193201 | K12: =K11/REALIZACJE!K3 -> 0.66522345 | L12: =L11/REALIZACJE!L3 -> 0.94074532 | M12: =REALIZACJE!M10 -> 0.86263359 | N12: =N11/REALIZACJE!N3 -> 0.99148267 | O12: =O11/REALIZACJE!O3 -> 0.80222878 | P12: =P11/REALIZACJE!P3 -> 0.60470854
A13: Indywidualny Obrót miesięczny | B13: =B4 -> 284618.72 | C13: =C4 -> 523184.12 | D13: =D4 -> 413031.81 | F13: =F4 -> 578169.38 | G13: =G4 -> 444952.19 | H13: =H4 -> 493184 | J13: =J4 -> 277144.62 | K13: =K4 -> 328286.62 | L13: =L4 -> 432953.91 | N13: =N4 -> 408773.91 | O13: =O4 -> 375176.41 | P13: =P4 -> 383445.72
A14: Wskaźnik % Obrotu miesięcznego | B14: =B13/B11 -> 0.3870714 | C14: =C13/C11 -> 0.60550768 | D14: =D13/D11 -> 0.60537295 | F14: =F13/F11 -> 0.64070737 | G14: =G13/G11 -> 0.57725437 | H14: =H13/H11 -> 0.73793228 | J14: =J13/J11 -> 0.3396719 | K14: =K13/K11 -> 0.59390942 | L14: =L13/L11 -> 0.55386532 | N14: =N13/N11 -> 0.49617241 | O14: =O13/O11 -> 0.65322919 | P14: =P13/P11 -> 0.67354853
A15: Wysokość premii wskaźnik Obrót % | B15: =B10*0.2 -> 1050 | C15: =C10*0.2 -> 1400 | D15: =D10*0.2 -> 700 | F15: =F10*0.2 -> 1400 | G15: =G10*0.2 -> 1050 | H15: =H10*0.2 -> 700 | J15: =J10*0.2 -> 1400 | K15: =K10*0.2 -> 0 | L15: =L10*0.2 -> 1050 | N15: =N10*0.2 -> 1400 | O15: =O10*0.2 -> 700 | P15: =P10*0.2 -> 0
A16: Mnożnik premii miesięcznej wskaźnika Obrót % | B16: =IF(B14<15%,0,IF(B14<33%,0.5,IF(B14<66%,0.75,1))) -> 0.75 | C16: =IF(C14<15%,0,IF(C14<33%,0.5,IF(C14<66%,0.75,1))) -> 0.75 | D16: =IF(D14<15%,0,IF(D14<33%,0.5,IF(D14<66%,0.75,1))) -> 0.75 | F16: =IF(F14<15%,0,IF(F14<33%,0.5,IF(F14<66%,0.75,1))) -> 0.75 | G16: =IF(G14<15%,0,IF(G14<33%,0.5,IF(G14<66%,0.75,1))) -> 0.75 | H16: =IF(H14<15%,0,IF(H14<33%,0.5,IF(H14<66%,0.75,1))) -> 1 | J16: =IF(J14<15%,0,IF(J14<33%,0.5,IF(J14<66%,0.75,1))) -> 0.75 | K16: =IF(K14<15%,0,IF(K14<33%,0.5,IF(K14<66%,0.75,1))) -> 0.75 | L16: =IF(L14<15%,0,IF(L14<33%,0.5,IF(L14<66%,0.75,1))) -> 0.75 | N16: =IF(N14<15%,0,IF(N14<33%,0.5,IF(N14<66%,0.75,1))) -> 0.75 | O16: =IF(O14<15%,0,IF(O14<33%,0.5,IF(O14<66%,0.75,1))) -> 0.75 | P16: =IF(P14<15%,0,IF(P14<33%,0.5,IF(P14<66%,0.75,1))) -> 1
A17: Premia miesięczna za wskaźnik Obrót % | B17: =B16*B15 -> 787.5 | C17: =C16*C15 -> 1050 | D17: =D16*D15 -> 525 | E17: =SUM(B17:D17) -> 2362.5 | F17: =F16*F15 -> 1050 | G17: =G16*G15 -> 787.5 | H17: =H16*H15 -> 700 | I17: =SUM(F17:H17) -> 2537.5 | J17: =J16*J15 -> 1050 | K17: =K16*K15 -> 0 | L17: =L16*L15 -> 787.5 | M17: =SUM(J17:L17) -> 1837.5 | N17: =N16*N15 -> 1050 | O17: =O16*O15 -> 525 | P17: =P16*P15 -> 0
A18: PROGI
A19: min 95% PSO | B19: =B3*95% -> 760892.02 | C19: =C3*95% -> 760892.02 | D19: =D3*95% -> 760892.02 | F19: =F3*95% -> 789385.29 | G19: =G3*95% -> 789385.29 | H19: =H3*95% -> 789385.29 | J19: =J3*95% -> 789385.29 | K19: =K3*95% -> 789385.29 | L19: =L3*95% -> 789385.29 | N19: =N3*95% -> 789385.29 | O19: =O3*95% -> 680135.29 | P19: =P3*95% -> 894360.29
A20: min 90% PSO | B20: =B3*90% -> 720845.07 | C20: =C3*90% -> 720845.07 | D20: =D3*90% -> 720845.07 | F20: =F3*90% -> 747838.69 | G20: =G3*90% -> 747838.69 | H20: =H3*90% -> 747838.69 | J20: =J3*90% -> 747838.69 | K20: =K3*90% -> 747838.69 | L20: =L3*90% -> 747838.69 | N20: =N3*90% -> 747838.69 | O20: =O3*90% -> 644338.69 | P20: =P3*90% -> 847288.69
A21: min 80% PSO | B21: =B3*80% -> 640751.18 | C21: =C3*80% -> 640751.18 | D21: =D3*80% -> 640751.18 | F21: =F3*80% -> 664745.5 | G21: =G3*80% -> 664745.5 | H21: =H3*80% -> 664745.5 | J21: =J3*80% -> 664745.5 | K21: =K3*80% -> 664745.5 | L21: =L3*80% -> 664745.5 | N21: =N3*80% -> 664745.5 | O21: =O3*80% -> 572745.5 | P21: =P3*80% -> 753145.5
O22: korekta PSO | P22: korekta PSO

Sheet 02
A2: miesiąc | B2: styczeń | C2: luty | D2: marzec | E2: KW I | F2: kwiecień | G2: maj | H2: czerwiec | I2: KW II | J2: lipiec | K2: sierpień | L2: wrzesień | M2: KW III | N2: październik | O2: listopad | P2: grudzień | Q2: KW IV | R2: suma ROK
R3: =#REF! -> #REF!
A4: Plan Sprzedaży Marża | B4: =#REF! -> #REF! | C4: =#REF! -> #REF! | D4: =#REF! -> #REF! | E4: =SUM(B4:D4) -> #REF! | F4: =#REF! -> #REF! | G4: =#REF! -> #REF! | H4: =#REF! -> #REF! | I4: =SUM(F4:H4) -> #REF! | J4: =#REF! -> #REF! | K4: =#REF! -> #REF! | L4: =#REF! -> #REF! | M4: =SUM(J4:L4) -> #REF! | N4: =#REF! -> #REF! | O4: =#REF! -> #REF! | P4: =#REF! -> #REF! | Q4: =SUM(N4:P4) -> #REF! | R4: =E4+I4+M4+Q4 -> #REF!
A5: Sumaryczny Plan Sprzedaży Marża | B5: =B4 -> #REF! | C5: =C4+B5 -> #REF! | D5: =D4+C5 -> #REF! | F5: =F4 -> #REF! | G5: =G4+F5 -> #REF! | H5: =H4+G5 -> #REF! | J5: =J4 -> #REF! | K5: =K4+J5 -> #REF! | L5: =L4+K5 -> #REF! | N5: =N4 -> #REF! | O5: =O4+N5 -> #REF! | P5: =P4+O5 -> #REF! | R5: =R6/R4 -> #REF!
A6: Miesięczna realizacja Planu Sprzedaży Marża | B6: =SUMIF(I!A:A,$A$1,I!I:I) -> 0 | C6: =SUMIF(II!A:A,$A$1,II!I:I) -> 0 | D6: =SUMIF(III!A:A,$A$1,III!I:I) -> 0 | E6: =SUM(B6:D6) -> 0 | F6: =SUMIF(IV!A:A,$A$1,IV!I:I) -> 0 | G6: =SUMIF(V!A:A,$A$1,V!I:I) -> 0 | H6: =SUMIF(VI!A:A,$A$1,VI!I:I) -> 0 | I6: =SUM(F6:H6) -> 0 | J6: =SUMIF(VII!A:A,$A$1,VII!I:I) -> 0 | K6: =SUMIF(VIII!A:A,$A$1,VIII!I:I) -> 0 | L6: =SUMIF(IX!A:A,$A$1,IX!I:I) -> 0 | M6: =SUM(J6:L6) -> 0 | N6: =SUMIF(X!A:A,$A$1,X!I:I) -> 0 | O6: =SUMIF(XI!A:A,$A$1,XI!I:I) -> 0 | P6: =SUMIF(XII!A:A,$A$1,XII!I:I) -> 0 | Q6: =SUM(N6:P6) -> 0 | R6: =E6+I6+M6+Q6 -> 0
A7: Sumaryczna realizacja planu sprzedaży Marża | B7: =B6 -> 0 | C7: =C6+B7 -> 0 | D7: =D6+C7 -> 0 | F7: =F6 -> 0 | G7: =G6+F7 -> 0 | H7: =H6+G7 -> 0 | J7: =J6 -> 0 | K7: =K6+J7 -> 0 | L7: =L6+K7 -> 0 | M7: =SUM(E6,I6,M6)/3 -> 0 | N7: =N6 -> 0 | O7: =O6+N7 -> 0 | P7: =P6+O7 -> 0 | R7: =R3-R4 -> #REF!
A8: Wysokość zrealizowania Miesięcznego Planu Sprzedaży Marża | B8: =B6/B4 -> #REF! | C8: =C6/C4 -> #REF! | D8: =D6/D4 -> #REF! | F8: =F6/F4 -> #REF! | G8: =G6/G4 -> #REF! | H8: =H6/H4 -> #REF! | J8: =J6/J4 -> #REF! | K8: =K6/K4 -> #REF! | L8: =L6/L4 -> #REF! | N8: =N6/N4 -> #REF! | O8: =O6/O4 -> #REF! | P8: =P6/P4 -> #REF! | R8: =R7*100/R3 -> #REF!
A9: Wysokość zrealizowania Planu Sprzedaży Marża | B9: =B7/B5 -> #REF! | C9: =C7/C5 -> #REF! | D9: =D7/D5 -> #REF! | F9: =F7/F5 -> #REF! | G9: =G7/G5 -> #REF! | H9: =H7/H5 -> #REF! | J9: =J7/J5 -> #REF! | K9: =K7/K5 -> #REF! | L9: =L7/L5 -> #REF! | N9: =N7/N5 -> #REF! | O9: =O7/O5 -> #REF! | P9: =P7/P5 -> #REF!
A10: Różnica wskaźnika Marża | B10: =B7-B5 -> #REF! | C10: =C7-C5 -> #REF! | D10: =D7-D5 -> #REF! | F10: =F7-F5 -> #REF! | G10: =G7-G5 -> #REF! | H10: =H7-H5 -> #REF! | J10: =J7-J5 -> #REF! | K10: =K7-K5 -> #REF! | L10: =L7-L5 -> #REF! | N10: =N7-N5 -> #REF! | O10: =O7-O5 -> #REF! | P10: =P7-P5 -> #REF!
A11: Miesięczny Obrót | B11: =SUMIF(I!A:A,$A$1,I!G:G) -> 0 | C11: =SUMIF(II!A:A,$A$1,II!G:G) -> 0 | D11: =SUMIF(III!A:A,$A$1,III!G:G) -> 0 | E11: =SUM(B11:D11) -> 0 | F11: =SUMIF(IV!A:A,$A$1,IV!G:G) -> 0 | G11: =SUMIF(V!A:A,$A$1,V!G:G) -> 0 | H11: =SUMIF(VI!A:A,$A$1,VI!G:G) -> 0 | I11: =SUM(F11:H11) -> 0 | J11: =SUMIF(VII!A:A,$A$1,VII!G:G) -> 0 | K11: =SUMIF(VIII!A:A,$A$1,VIII!G:G) -> 0 | L11: =SUMIF(IX!A:A,$A$1,IX!G:G) -> 0 | M11: =SUM(J11:L11) -> 0 | N11: =SUMIF(X!A:A,$A$1,X!G:G) -> 0 | O11: =SUMIF(XI!A:A,$A$1,XI!G:G) -> 0 | P11: =SUMIF(XII!A:A,$A$1,XII!G:G) -> 0 | Q11: =SUM(N11:P11) -> 0 | R11: =E11+I11+M11+Q11 -> 0
A12: Sumaryczny Obrót | B12: =B11 -> 0 | C12: =C11+B12 -> 0 | D12: =D11+C12 -> 0 | F12: =F11 -> 0 | G12: =G11+F12 -> 0 | H12: =H11+G12 -> 0 | J12: =J11 -> 0 | K12: =K11+J12 -> 0 | L12: =L11+K12 -> 0 | N12: =N11 -> 0 | O12: =O11+N12 -> 0 | P12: =P11+O12 -> 0
A13: Wysokość % Marży miesięcznej | B13: =B6/B11 -> #DIV/0! | C13: =C6/C11 -> #DIV/0! | D13: =D6/D11 -> #DIV/0! | F13: =F6/F11 -> #DIV/0! | G13: =G6/G11 -> #DIV/0! | H13: =H6/H11 -> #DIV/0! | J13: =J6/J11 -> #DIV/0! | K13: =K6/K11 -> #DIV/0! | L13: =L6/L11 -> #DIV/0! | N13: =N6/N11 -> #DIV/0! | O13: =O6/O11 -> #DIV/0! | P13: =P6/P11 -> #DIV/0!
A14: Wysokość % Marży sumarycznej | B14: =B7/B12 -> #DIV/0! | C14: =C7/C12 -> #DIV/0! | D14: =D7/D12 -> #DIV/0! | E14: - | F14: =F7/F12 -> #DIV/0! | G14: =G7/G12 -> #DIV/0! | H14: =H7/H12 -> #DIV/0! | J14: =J7/J12 -> #DIV/0! | K14: =K7/K12 -> #DIV/0! | L14: =L7/L12 -> #DIV/0! | N14: =N7/N12 -> #DIV/0! | O14: =O7/O12 -> #DIV/0! | P14: =P7/P12 -> #DIV/0!
B16: PREMIE
A17: Wynagrodzenie zasadnicze | B17: 6400 | C17: 6400 | D17: 6400 | F17: 6400 | G17: 6400 | H17: 6400 | J17: 6400 | K17: 6400 | L17: 6400 | N17: 6400 | O17: 6400 | P17: 6400
A18: Wskaźnik Plan Sprzedaży Marża | B18: =B5 -> #REF! | C18: =C5 -> #REF! | D18: =D5 -> #REF! | F18: =F5 -> #REF! | G18: =G5 -> #REF! | H18: =H5 -> #REF! | J18: =J5 -> #REF! | K18: =K5 -> #REF! | L18: =L5 -> #REF! | N18: =N5 -> #REF! | O18: =O5 -> #REF! | P18: =P5 -> #REF!
A19: Realizacja Wskaźnika Planu Sprzedaży Marża | B19: =B7 -> 0 | C19: =C7 -> 0 | D19: =D7 -> 0 | F19: =F7 -> 0 | G19: =G7 -> 0 | H19: =H7 -> 0 | J19: =J7 -> 0 | K19: =K7 -> 0 | L19: =L7 -> 0 | N19: =N7 -> 0 | O19: =O7 -> 0 | P19: =P7 -> 0
A20: Poziom realizacji Wskaźnika Sprzedaży Marża | B20: =B19/B18 -> #REF! | C20: =C19/C18 -> #REF! | D20: =D19/D18 -> #REF! | F20: =F19/F18 -> #REF! | G20: =G19/G18 -> #REF! | H20: =H19/H18 -> #REF! | J20: =J19/J18 -> #REF! | K20: =K19/K18 -> #REF! | L20: =L19/L18 -> #REF! | N20: =N19/N18 -> #REF! | O20: =O19/O18 -> #REF! | P20: =P19/P18 -> #REF!
A21: Wysokość premii Wskaźnik Sprzedaży Marża | B21: =B17*0.35 -> 2240 | C21: =C17*0.35 -> 2240 | D21: =D17*0.35 -> 2240 | F21: =F17*0.35 -> 2240 | G21: =G17*0.35 -> 2240 | H21: =H17*0.35 -> 2240 | J21: =J17*0.35 -> 2240 | K21: =K17*0.35 -> 2240 | L21: =L17*0.35 -> 2240 | N21: =N17*0.35 -> 2240 | O21: =O17*0.35 -> 2240 | P21: =P17*0.35 -> 2240
A22: Mnożnik premii miesięcznej Wskaźnika Sprzedaży Marża | B22: =IF(B20<80%,0,IF(B20<90%,0.5,IF(B20<95%,0.75,1))) -> #REF! | C22: =IF(C20<80%,0,IF(C20<90%,0.5,IF(C20<95%,0.75,1))) -> #REF! | D22: =IF(D20<80%,0,IF(D20<90%,0.5,IF(D20<95%,0.75,1))) -> #REF! | F22: =IF(F20<80%,0,IF(F20<90%,0.5,IF(F20<95%,0.75,1))) -> #REF! | G22: =IF(G20<80%,0,IF(G20<90%,0.5,IF(G20<95%,0.75,1))) -> #REF! | H22: =IF(H20<80%,0,IF(H20<90%,0.5,IF(H20<95%,0.75,1))) -> #REF! | J22: =IF(J20<80%,0,IF(J20<90%,0.5,IF(J20<95%,0.75,1))) -> #REF! | K22: =IF(K20<80%,0,IF(K20<90%,0.5,IF(K20<95%,0.75,1))) -> #REF! | L22: =IF(L20<80%,0,IF(L20<90%,0.5,IF(L20<95%,0.75,1))) -> #REF! | N22: =IF(N20<80%,0,IF(N20<90%,0.5,IF(N20<95%,0.75,1))) -> #REF! | O22: =IF(O20<80%,0,IF(O20<90%,0.5,IF(O20<95%,0.75,1))) -> #REF! | P22: =IF(P20<80%,0,IF(P20<90%,0.5,IF(P20<95%,0.75,1))) -> #REF!
A23: Premia miesięczna za Wskaźnik Sprzedaży Marża | B23: =B22*B21 -> #REF! | C23: =C22*C21 -> #REF! | D23: =D22*D21 -> #REF! | F23: =F22*F21 -> #REF! | G23: =G22*G21 -> #REF! | H23: =H22*H21 -> #REF! | J23: =J22*J21 -> #REF! | K23: =K22*K21 -> #REF! | L23: =L22*L21 -> #REF! | N23: =N22*N21 -> #REF! | O23: =O22*O21 -> #REF! | P23: =P22*P21 -> #REF!
A24: Wskaźnik CRM
A25: Wysokość premii CRM | B25: =B17*0.05 -> 320 | C25: =C17*0.05 -> 320 | D25: =D17*0.05 -> 320 | F25: =F17*0.05 -> 320 | G25: =G17*0.05 -> 320 | H25: =H17*0.05 -> 320 | J25: =J17*0.05 -> 320 | K25: =K17*0.05 -> 320 | L25: =L17*0.05 -> 320 | N25: =N17*0.05 -> 320 | O25: =O17*0.05 -> 320 | P25: =P17*0.05 -> 320
A26: Mnożnik premii Wskaźnik CRM | B26: 1
A27: Premia miesięczna za Wskaźnik CRM | B27: =B26*B25 -> 320 | C27: =C26*C25 -> 0 | D27: =D26*D25 -> 0 | F27: =F26*F25 -> 0 | G27: =G26*G25 -> 0 | H27: =H26*H25 -> 0 | J27: =J26*J25 -> 0 | K27: =K26*K25 -> 0 | L27: =L26*L25 -> 0 | N27: =N26*N25 -> 0 | O27: =O26*O25 -> 0 | P27: =P26*P25 -> 0
A28: Suma Premii miesięcznych | B28: =B23+B27 -> #REF! | C28: =C23+C27 -> #REF! | D28: =D23+D27 -> #REF! | F28: =F23+F27 -> #REF! | G28: =G23+G27 -> #REF! | H28: =H23+H27 -> #REF! | J28: =J23+J27 -> #REF! | K28: =K23+K27 -> #REF! | L28: =L23+L27 -> #REF! | N28: =N23+N27 -> #REF! | O28: =O23+O27 -> #REF! | P28: =P23+P27 -> #REF!
A29: Wskaźnik Premia Kwartalna Marża | B29: =D5 -> #REF! | F29: =H5 -> #REF! | J29: =L5 -> #REF! | N29: =P5 -> #REF!
A30: Realizacja Wskaźnika Premia Kwartalna | B30: =D7 -> 0 | F30: =H7 -> 0 | J30: =L7 -> 0 | N30: =P7 -> 0
A31: Poziom realizacji Wskaźnika Premia Kwartalna | B31: =B30/B29 -> #REF! | F31: =F30/F29 -> #REF! | J31: =J30/J29 -> #REF! | N31: =N30/N29 -> #REF!
A32: Wysokość premii kwartalnej. | B32: =D17 -> 6400 | F32: =H17 -> 6400 | J32: =L17 -> 6400 | N32: =P17 -> 6400
A33: Mnożnik premii kwartalnej | B33: =IF(B31<100%,0,IF(B31<105%,0.5,IF(B31<110%,0.7,1))) -> #REF! | F33: =IF(F31<100%,0,IF(F31<105%,0.5,IF(F31<110%,0.7,1))) -> #REF! | J33: =IF(J31<100%,0,IF(J31<105%,0.5,IF(J31<110%,0.7,1))) -> #REF! | N33: =IF(N31<100%,0,IF(N31<105%,0.5,IF(N31<110%,0.7,1))) -> #REF!
A34: Premia kwartalna | B34: =B33*B32 -> #REF! | F34: =F33*F32 -> #REF! | J34: =J33*J32 -> #REF! | N34: =N33*N32 -> #REF!

Sheet DH
A1: brak opiekuna | B1: PLANY SPRZEDAŻY 2025
A2: miesiąc | B2: styczeń | C2: luty | D2: marzec | E2: I KW | F2: kwiecień | G2: maj | H2: czerwiec | I2: II KW | J2: lipiec | K2: sierpień | L2: wrzesień | M2: III KW | N2: październik | O2: listopad | P2: grudzień | Q2: IV KW | R2: suma
A3: Miesięczna realizacja Marża | B3: =PAWEŁ!#REF!+KAMIL!#REF!+'KASIA K'!#REF! -> #REF! | C3: =PAWEŁ!#REF!+KAMIL!#REF!+'KASIA K'!#REF! -> #REF! | D3: =PAWEŁ!#REF!+KAMIL!#REF!+'KASIA K'!#REF! -> #REF! | E3: =SUM(B3:D3) -> #REF! | F3: =PAWEŁ!#REF!+KAMIL!#REF!+'KASIA K'!#REF! -> #REF! | G3: =PAWEŁ!#REF!+KAMIL!#REF!+'KASIA K'!#REF! -> #REF! | H3: =PAWEŁ!#REF!+KAMIL!#REF!+'KASIA K'!#REF! -> #REF! | I3: =SUM(F3:H3) -> #REF! | J3: =PAWEŁ!#REF!+KAMIL!#REF!+'KASIA K'!#REF! -> #REF! | K3: =PAWEŁ!#REF!+KAMIL!#REF!+'KASIA K'!#REF! -> #REF! | L3: =PAWEŁ!#REF!+KAMIL!#REF!+'KASIA K'!#REF! -> #REF! | M3: =SUM(J3:L3) -> #REF! | N3: =PAWEŁ!#REF!+KAMIL!#REF!+'KASIA K'!#REF! -> #REF! | O3: =PAWEŁ!#REF!+KAMIL!#REF!+'KASIA K'!#REF! -> #REF! | P3: =PAWEŁ!#REF!+KAMIL!#REF!+'KASIA K'!#REF! -> #REF! | Q3: =SUM(N3:P3) -> #REF! | R3: =B3+C3+D3+F3+G3+H3+J3+K3+L3+N3+O3+P3 -> #REF! | T3: 2 | U3: 3 | W3: 4 | X3: 5 | Y3: 6 | AA3: 7 | AB3: 8 | AC3: 9 | AE3: 10 | AF3: 11 | AG3: 12
A4: Sumaryczna realizacja Marża | B4: =B3 -> #REF! | C4: =C3+B4 -> #REF! | D4: =D3+C4 -> #REF! | F4: =F3+D4 -> #REF! | G4: =G3+F4 -> #REF! | H4: =H3+G4 -> #REF! | J4: =J3+H4 -> #REF! | K4: =K3+J4 -> #REF! | L4: =L3+K4 -> #REF! | N4: =N3+L4 -> #REF! | O4: =O3+N4 -> #REF! | P4: =P3+O4 -> #REF!
A5: Miesięczna realizacja Planu Sprzedaży Obrót | B5: =PAWEŁ!B4+KAMIL!B4+'KASIA K'!B4 -> 735313.23 | C5: =PAWEŁ!C4+KAMIL!C4+'KASIA K'!C4 -> 864042.09 | D5: =PAWEŁ!D4+KAMIL!D4+'KASIA K'!D4 -> 682276.62 | E5: =SUM(B5:D5) -> 2281631.9 | F5: =PAWEŁ!F4+KAMIL!F4+'KASIA K'!F4 -> 902392.27 | G5: =PAWEŁ!G4+KAMIL!G4+'KASIA K'!G4 -> 770807.83 | H5: =PAWEŁ!H4+KAMIL!H4+'KASIA K'!H4 -> 668332.33 | I5: =SUM(F5:H5) -> 2341532.4 | J5: =PAWEŁ!J4+KAMIL!J4+'KASIA K'!J4 -> 815918.61 | K5: =PAWEŁ!K4+KAMIL!K4+'KASIA K'!K4 -> 552755.38 | L5: =PAWEŁ!L4+KAMIL!L4+'KASIA K'!L4 -> 781695.27 | M5: =SUM(J5:L5) -> 2150369.3 | N5: =PAWEŁ!N4+KAMIL!N4+'KASIA K'!N4 -> 823854.56 | O5: =PAWEŁ!O4+KAMIL!O4+'KASIA K'!O4 -> 574341.16 | P5: =PAWEŁ!P4+KAMIL!P4+'KASIA K'!P4 -> 569291.9 | Q5: =SUM(N5:P5) -> 1967487.6 | R5: =B5+C5+D5+F5+G5+H5+J5+K5+L5+N5+O5+P5 -> 8741021.2
A6: Sumaryczna realizacja planu sprzedaży Obrót | B6: =B5 -> 735313.23 | C6: =C5+B6 -> 1599355.3 | D6: =D5+C6 -> 2281631.9 | F6: =F5+D6 -> 3184024.2 | G6: =G5+F6 -> 3954832 | H6: =H5+G6 -> 4623164.4 | J6: =J5+H6 -> 5439083 | K6: =K5+J6 -> 5991838.4 | L6: =L5+K6 -> 6773533.6 | N6: =N5+L6 -> 7597388.2 | O6: =O5+N6 -> 8171729.3 | P6: =P5+O6 -> 8741021.2
A7: Wysokość % Marży miesięcznej | B7: =B3/B5 -> #REF! | C7: =C3/C5 -> #REF! | D7: =D3/D5 -> #REF! | F7: =F3/F5 -> #REF! | G7: =G3/G5 -> #REF! | H7: =H3/H5 -> #REF! | J7: =J3/J5 -> #REF! | K7: =K3/K5 -> #REF! | L7: =L3/L5 -> #REF! | N7: =N3/N5 -> #REF! | O7: =O3/O5 -> #REF! | P7: =P3/P5 -> #REF!
A8: Wysokość % Marży sumarycznej | B8: =B4/B6 -> #REF! | C8: =C4/C6 -> #REF! | D8: =D4/D6 -> #REF! | F8: =F4/F6 -> #REF! | G8: =G4/G6 -> #REF! | H8: =H4/H6 -> #REF! | J8: =J4/J6 -> #REF! | K8: =K4/K6 -> #REF! | L8: =L4/L6 -> #REF! | N8: =N4/N6 -> #REF! | O8: =O4/O6 -> #REF!

Sheet REALIZACJE
B1: REALIZACJA
A2: miesiąc | B2: styczeń | C2: luty | D2: marzec | E2: I KW | F2: kwiecień | G2: maj | H2: czerwiec | I2: II KW | J2: lipiec | K2: sierpień | L2: wrzesień | M2: III KW | N2: październik | O2: listopad | P2: grudzień | Q2: IV KW | R2: suma | S2: Plan Sprzedaży | T2: Średnia miesięczna
A3: Plan Sprzedaży Obrót | B3: 800938.97 | C3: 800938.97 | D3: 800938.97 | E3: =SUM(B3:D3) -> 2402816.9 | F3: 830931.88 | G3: 830931.88 | H3: 830931.88 | I3: =SUM(F3:H3) -> 2492795.6 | J3: 830931.88 | K3: 830931.88 | L3: 830931.88 | M3: =SUM(J3:L3) -> 2492795.6 | N3: 830931.88 | O3: =830931.88-115000 -> 715931.88 | P3: =830931.88+110500 -> 941431.88 | Q3: =SUM(N3:P3) -> 2488295.6 | R3: =SUM(Q3,M3,I3,E3) -> 9876703.8
A4: Średni kwartalny Plan Sprzedaży Obrót | E4: =E3/3 -> 800938.97 | I4: =I3/3 -> 830931.88 | M4: =M3/3 -> 830931.88 | Q4: =Q3/3 -> 829431.88
A5: Miesięczny Obrót | B5: =DH!B5 -> 735313.23 | C5: =DH!C5 -> 864042.09 | D5: =DH!D5 -> 682276.62 | E5: =SUM(B5:D5) -> 2281631.9 | F5: =DH!F5 -> 902392.27 | G5: =DH!G5 -> 770807.83 | H5: =DH!H5 -> 668332.33 | I5: =SUM(F5:H5) -> 2341532.4 | J5: =DH!J5 -> 815918.61 | K5: =DH!K5 -> 552755.38 | L5: =DH!L5 -> 781695.27 | M5: =SUM(J5:L5) -> 2150369.3 | N5: =DH!N5 -> 823854.56 | O5: =DH!O5 -> 574341.16 | P5: =DH!P5 -> 569291.9 | Q5: =SUM(N5:P5) -> 1967487.6 | R5: =B5+C5+D5+F5+G5+H5+J5+K5+L5+N5+O5+P5 -> 8741021.2 | S5: 10200000 | T5: =S5/12 -> 850000
A6: Sumaryczny Obrót | B6: =B5 -> 735313.23 | C6: =C5+B6 -> 1599355.3 | D6: =D5+C6 -> 2281631.9 | F6: =F5+D6 -> 3184024.2 | G6: =G5+F6 -> 3954832 | H6: =H5+G6 -> 4623164.4 | J6: =J5+H6 -> 5439083 | K6: =K5+J6 -> 5991838.4 | L6: =L5+K6 -> 6773533.6 | N6: =N5+L6 -> 7597388.2 | O6: =O5+N6 -> 8171729.3 | P6: =P5+O6 -> 8741021.2
A7: Wysokość % Marży miesięcznej | B7: =B6/(#REF!/12*#REF!) -> #REF! | C7: =C6/(#REF!/12*#REF!) -> #REF! | D7: =D6/(#REF!/12*#REF!) -> #REF! | F7: =F6/(#REF!/12*#REF!) -> #REF! | G7: =G6/(#REF!/12*#REF!) -> #REF! | H7: =H6/(#REF!/12*#REF!) -> #REF! | J7: =J6/(#REF!/12*#REF!) -> #REF! | K7: =K6/(#REF!/12*#REF!) -> #REF! | L7: =L6/(#REF!/12*#REF!) -> #REF! | N7: =N6/(#REF!/12*#REF!) -> #REF! | O7: =O6/(#REF!/12*#REF!) -> #REF! | P7: =P6/(#REF!/12*#REF!) -> #REF!
A8: Wysokość % Marży sumarycznej | B8: =B6/(#REF!/12*REALIZACJE!#REF!) -> #REF! | C8: =C6/(#REF!/12*REALIZACJE!#REF!) -> #REF! | D8: =D6/(#REF!/12*REALIZACJE!#REF!) -> #REF! | F8: =F6/(#REF!/12*REALIZACJE!#REF!) -> #REF! | G8: =G6/(#REF!/12*REALIZACJE!#REF!) -> #REF! | H8: =H6/(#REF!/12*REALIZACJE!#REF!) -> #REF! | J8: =J6/(#REF!/12*REALIZACJE!#REF!) -> #REF! | K8: =K6/(#REF!/12*REALIZACJE!#REF!) -> #REF! | L8: =L6/(#REF!/12*REALIZACJE!#REF!) -> #REF! | N8: =N6/(#REF!/12*REALIZACJE!#REF!) -> #REF! | O8: =O6/(#REF!/12*REALIZACJE!#REF!) -> #REF! | P8: =P6/(#REF!/12*REALIZACJE!#REF!) -> #REF!
A9: Realizacja CEL | B9: =B6/(#REF!/12*#REF!) -> #REF! | C9: =C6/(#REF!/12*#REF!) -> #REF! | D9: =D6/(#REF!/12*#REF!) -> #REF! | F9: =F6/(#REF!/12*#REF!) -> #REF! | G9: =G6/(#REF!/12*#REF!) -> #REF! | H9: =H6/(#REF!/12*#REF!) -> #REF! | J9: =J6/(#REF!/12*#REF!) -> #REF! | K9: =K6/(#REF!/12*#REF!) -> #REF! | L9: =L6/(#REF!/12*#REF!) -> #REF! | N9: =N6/(#REF!/12*#REF!) -> #REF! | O9: =O6/(#REF!/12*#REF!) -> #REF! | P9: =P6/(#REF!/12*#REF!) -> #REF!
A10: Poziom % realizacji Planu Sprzedaży Obrót | B10: =B5/B3 -> 0.91806399 | C10: =C5/C3 -> 1.0787864 | D10: =D5/D3 -> 0.85184596 | E10: =E5/E3 -> 0.94956546 | F10: =F5/F3 -> 1.0860003 | G10: =G5/G3 -> 0.92764262 | H10: =H5/H3 -> 0.80431663 | I10: =I5/I3 -> 0.93931985 | ... R10: =R5/R3 -> 0.88501401
A12: PROGI
A13: min 95% PSO | B13: =B3*95% -> 760892.02 | C13: =C3*95% -> 760892.02 | D13: =D3*95% -> 760892.02 | F13: =F3*95% -> 789385.29 | G13: =G3*95% -> 789385.29 | H13: =H3*95% -> 789385.29 | J13: =J3*95% -> 789385.29 | K13: =K3*95% -> 789385.29 | L13: =L3*95% -> 789385.29 | N13: =N3*95% -> 789385.29 | O13: =O3*95% -> 680135.29 | P13: =P3*95% -> 894360.29 | Q13: =Q4*95% -> 787960.29
A14: min 90% PSO | B14: =B3*90% -> 720845.07 | C14: =C3*90% -> 720845.07 | D14: =D3*90% -> 720845.07 | F14: =F3*90% -> 747838.69 | G14: =G3*90% -> 747838.69 | H14: =H3*90% -> 747838.69 | J14: =J3*90% -> 747838.69 | K14: =K3*90% -> 747838.69 | L14: =L3*90% -> 747838.69 | N14: =N3*90% -> 747838.69 | O14: =O3*90% -> 644338.69 | P14: =P3*90% -> 847288.69 | Q14: =Q4*90% -> 746488.69
A15: min 80% PSO | B15: =B3*80% -> 640751.18 | C15: =C3*80% -> 640751.18 | D15: =D3*80% -> 640751.18 | F15: =F3*80% -> 664745.5 | G15: =G3*80% -> 664745.5 | H15: =H3*80% -> 664745.5 | J15: =J3*80% -> 664745.5 | K15: =K3*80% -> 664745.5 | L15: =L3*80% -> 664745.5 | N15: =N3*80% -> 664745.5 | O15: =O3*80% -> 572745.5 | P15: =P3*80% -> 753145.5 | Q15: =Q4*80% -> 663545.5

Sheet WYPŁATY
A2: PREMIA MIESIĘCZNA
B3: STYCZEŃ | C3: LUTY | D3: MARZEC | F3: KWIECIEŃ | G3: MAJ | H3: CZERWIEC | J3: LIPIEC | K3: SIERPIEŃ | L3: WRZESIEŃ | N3: PAŹDZIERNIK | O3: LISTOPAD | P3: GRUDZIEŃ
A4: Paweł Młynarski | B4: =PAWEŁ!B17 -> 787.5 | C4: =PAWEŁ!C17 -> 700 | D4: =PAWEŁ!D17 -> 350 | E4: =PAWEŁ!E17 -> 1837.5 | F4: =PAWEŁ!F17 -> 700 | G4: =PAWEŁ!G17 -> 525 | H4: =PAWEŁ!H17 -> 0 | J4: =PAWEŁ!J17 -> 700 | K4: =PAWEŁ!K17 -> 0 | L4: =PAWEŁ!L17 -> 525 | M4: =PAWEŁ!M17 -> 1225 | N4: =PAWEŁ!N17 -> 700 | O4: =PAWEŁ!O17 -> 0 | P4: =PAWEŁ!P17 -> 0
A5: Kamil Milewski | B5: =KAMIL!B17 -> 525 | C5: =KAMIL!C17 -> 0 | D5: =KAMIL!D17 -> 350 | E5: =KAMIL!E17 -> 875 | F5: =KAMIL!F17 -> 700 | G5: =KAMIL!G17 -> 525 | H5: =KAMIL!H17 -> 350 | J5: =KAMIL!J17 -> 1050 | K5: =KAMIL!K17 -> 0 | L5: =KAMIL!L17 -> 525 | M5: =KAMIL!M17 -> 1575 | N5: =KAMIL!N17 -> 700 | O5: =KAMIL!O17 -> 350 | P5: =KAMIL!P17 -> 0
A6: Katarzyna Kucharzyk | B6: ='KASIA K'!B17 -> 787.5 | C6: ='KASIA K'!C17 -> 1050 | D6: ='KASIA K'!D17 -> 525 | E6: ='KASIA K'!#REF! -> #REF! | F6: ='KASIA K'!F17 -> 1050 | G6: ='KASIA K'!G17 -> 787.5 | H6: ='KASIA K'!H17 -> 700 | J6: ='KASIA K'!J17 -> 1050 | K6: ='KASIA K'!K17 -> 0 | L6: ='KASIA K'!L17 -> 787.5 | M6: ='KASIA K'!#REF! -> #REF! | N6: ='KASIA K'!N17 -> 1050 | O6: ='KASIA K'!O17 -> 525 | P6: ='KASIA K'!P17 -> 0
B7: ='02'!B28 -> #REF! | C7: ='02'!C28 -> #REF! | D7: ='02'!D28 -> #REF! | E7: ='02'!E28 -> 0 | F7: ='02'!F28 -> #REF! | G7: ='02'!G28 -> #REF! | H7: ='02'!H28 -> #REF! | I7: ='02'!I28 -> 0 | ... P7: ='02'!P28 -> #REF!
A8: Piotr Lasia | B8: =#REF! -> #REF! | C8: =#REF! -> #REF! | D8: =#REF! -> #REF! | E8: =#REF! -> #REF! | F8: =#REF! -> #REF! | G8: =#REF! -> #REF! | H8: =#REF! -> #REF! | I8: =#REF! -> #REF! | ... P8: =#REF! -> #REF!
A9: suma | B9: =SUM(B4:B6) -> 2100 | C9: =SUM(C4:C6) -> 1750 | D9: =SUM(D4:D6) -> 1225 | F9: =SUM(F4:F6) -> 2450 | G9: =SUM(G4:G6) -> 1837.5 | H9: =SUM(H4:H6) -> 1050 | J9: =SUM(J4:J6) -> 2800 | K9: =SUM(K4:K6) -> 0 | L9: =SUM(L4:L6) -> 1837.5 | N9: =SUM(N4:N6) -> 2450 | O9: =SUM(O4:O6) -> 875 | P9: =SUM(P4:P6) -> 0
A11: PREMIA KWARTALNA
B12: I KWARTAŁ | F12: II KWARTAŁ | J12: III KWARTAŁ | N12: IV KWARTAŁ
A13: Paweł Młynarski | B13: =PAWEŁ!#REF! -> #REF! | F13: =PAWEŁ!#REF! -> #REF! | J13: =PAWEŁ!#REF! -> #REF! | N13: =PAWEŁ!#REF! -> #REF!
A14: Kamil Milewski | B14: =KAMIL!#REF! -> #REF! | F14: =KAMIL!#REF! -> #REF! | J14: =KAMIL!#REF! -> #REF! | N14: =KAMIL!#REF! -> #REF!
A15: Katarzyna Kucharzyk | B15: ='KASIA K'!#REF! -> #REF! | F15: ='KASIA K'!#REF! -> #REF! | J15: ='KASIA K'!#REF! -> #REF! | N15: ='KASIA K'!#REF! -> #REF!
B16: ='02'!B34 -> #REF! | F16: ='02'!F34 -> #REF! | J16: ='02'!J34 -> #REF! | N16: ='02'!N34 -> #REF!
A17: Piotr Lasia | B17: =#REF! -> #REF! | F17: =#REF! -> #REF! | J17: =#REF! -> #REF! | N17: =#REF! -> #REF!
A21: PREMIA DODATKOWA
B22: STYCZEŃ | C22: LUTY | D22: MARZEC | F22: KWIECIEŃ | G22: MAJ | H22: CZERWIEC | J22: LIPIEC | K22: SIERPIEŃ | L22: WRZESIEŃ | N22: PAŹDZIERNIK | O22: LISTOPAD | P22: GRUDZIEŃ
A23: Paweł Młynarski
A24: Kamil Milewski
A25: Katarzyna Kucharzyk
A27: Piotr Lasia

Sheet I
A1: Pracownik | B1: Grupa | C1: Towar | D1: Ilość | E1: Jm | F1: Brutto | G1: Netto | H1: Koszt | I1: Zysk | J1: Marża
A2: Kamil Milewski | D2: 2900.619 | F2: 139176.3 | G2: 113151.38 | H2: 55694.985 | I2: 57456.395 | J2: 50.7783
A3: Katarzyna Kucharzyk | D3: 6654.465 | F3: 350081.12 | G3: 284618.72 | H3: 183341.23 | I3: 101277.5 | J3: 35.5835
A4: Paweł Młynarski | D4: 9263.058 | F4: 415178.22 | G4: 337543.12 | H4: 225550.11 | I4: 111993 | J4: 33.1788
A5: (Razem sprzedaż) | D5: 18818.142 | F5: 904435.62 | G5: 735313.25 | H5: 464586.32 | I5: 270726.91 | J5: 36.8179

Sheet II
A1: Pracownik | B1: Grupa | C1: Towar | D1: Ilość | E1: Jm | F1: Brutto | G1: Netto | H1: Koszt | I1: Zysk | J1: Marża
A2: Kamil Milewski | D2: 2878.872 | F2: 133976.89 | G2: 108924.33 | H2: 63404.073 | I2: 45520.258 | J2: 41.7907
A3: Paweł Młynarski | D3: 3421.643 | F3: 285278.47 | G3: 231933.64 | H3: 159733.45 | I3: 72200.195 | J3: 31.1296
A4: Katarzyna Kucharzyk | D4: 11356.657 | F4: 642992.62 | G4: 523184.12 | H4: 321964.06 | I4: 201220.06 | J4: 38.4606
A5: (Razem sprzedaż) | D5: 17657.172 | F5: 1062248 | G5: 864042.06 | H5: 545101.57 | I5: 318940.53 | J5: 36.9126

Sheet III
A1: Pracownik | B1: Grupa | C1: Towar | D1: Ilość | E1: Jm | F1: Brutto | G1: Netto | H1: Koszt | I1: Zysk | J1: Marża
A2: Paweł Młynarski | D2: 3674.24 | F2: 167913.91 | G2: 136515.31 | H2: 95478.833 | I2: 41036.488 | J2: 30.0599
A3: Kamil Milewski | D3: 2532.917 | F3: 161700.11 | G3: 132729.5 | H3: 63100.883 | I3: 69628.617 | J3: 52.459
A4: Katarzyna Kucharzyk | D4: 9353.99 | F4: 508029.34 | G4: 413031.81 | H4: 255324.82 | I4: 157706.98 | J4: 38.1827
A5: (Razem sprzedaż) | D5: 15561.147 | F5: 837643.31 | G5: 682276.62 | H5: 413904.54 | I5: 268372.09 | J5: 39.3347

Sheet IV
A1: Pracownik | B1: Grupa | C1: Towar | D1: Ilość | E1: Jm | F1: Brutto | G1: Netto | H1: Koszt | I1: Zysk | J1: Marża
A2: Paweł Młynarski | D2: 3591.292 | F2: 229156.69 | G2: 186306.27 | H2: 127646.91 | I2: 58659.355 | J2: 31.4854
A3: Kamil Milewski | D3: 2711.396 | F3: 169637.48 | G3: 137916.62 | H3: 78472.019 | I3: 59444.609 | J3: 43.1018
A4: Katarzyna Kucharzyk | D4: 16238.301 | F4: 709837.69 | G4: 578169.38 | H4: 384735.7 | I4: 193433.7 | J4: 33.4562
A5: (Razem sprzedaż) | D5: 22540.989 | F5: 1108631.9 | G5: 902392.31 | H5: 590854.63 | I5: 311537.66 | J5: 34.5235

Sheet V
A1: Pracownik | B1: Grupa | C1: Towar | D1: Ilość | E1: Jm | F1: Brutto | G1: Netto | H1: Koszt | I1: Zysk | J1: Marża
A2: Kamil Milewski | D2: 2536.74 | F2: 155977.52 | G2: 126810.92 | H2: 75868.705 | I2: 50942.215 | J2: 40.1717
A3: Paweł Młynarski | D3: 4376.742 | F3: 244825 | G3: 199044.72 | H3: 136564.61 | I3: 62480.113 | J3: 31.3899
A4: Katarzyna Kucharzyk | D4: 10376.979 | F4: 546293.12 | G4: 444952.19 | H4: 273144.03 | I4: 171808.17 | J4: 38.6127
A5: (Razem sprzedaż) | D5: 17290.461 | F5: 947095.62 | G5: 770807.81 | H5: 485577.34 | I5: 285230.5 | J5: 37.004

Sheet VI
A1: Pracownik | B1: Grupa | C1: Towar | D1: Ilość | E1: Jm | F1: Brutto | G1: Netto | H1: Koszt | I1: Zysk | J1: Marża
A2: Paweł Młynarski | D2: 1651.41 | F2: 82728.633 | G2: 67259.008 | H2: 43703.565 | I2: 23555.445 | J2: 35.0219
A3: Kamil Milewski | D3: 1078.963 | F3: 132703.91 | G3: 107889.32 | H3: 51796.127 | I3: 56093.191 | J3: 51.9914
A4: Katarzyna Kucharzyk | D4: 19453.392 | F4: 606616.5 | G4: 493184 | H4: 313396.38 | I4: 179787.62 | J4: 36.4544
A5: (Razem sprzedaż) | D5: 22183.765 | F5: 822049.06 | G5: 668332.31 | H5: 408896.07 | I5: 259436.25 | J5: 38.8184

Sheet VII
A1: Pracownik | B1: Grupa | C1: Towar | D1: Ilość | E1: Jm | F1: Brutto | G1: Netto | H1: Koszt | I1: Zysk | J1: Marża
A2: Paweł Młynarski | D2: 6792.516 | F2: 300922.91 | G2: 244652.73 | H2: 165078 | I2: 79574.742 | J2: 32.5255
A3: Katarzyna Kucharzyk | D3: 8734.602 | F3: 340887.88 | G3: 277144.62 | H3: 177444.73 | I3: 99699.891 | J3: 35.9739
A4: Kamil Milewski | D4: 5698.168 | F4: 361769.19 | G4: 294121.25 | H4: 170963.14 | I4: 123158.11 | J4: 41.8732
A5: (Razem sprzedaż) | D5: 21225.286 | F5: 1003580 | G5: 815918.62 | H5: 513485.87 | I5: 302432.75 | J5: 37.0665

Sheet VIII
A1: Pracownik | B1: Grupa | C1: Towar | D1: Ilość | E1: Jm | F1: Brutto | G1: Netto | H1: Koszt | I1: Zysk | J1: Marża
A2: Paweł Młynarski | D2: 1716.424 | F2: 129201.02 | G2: 105041.45 | H2: 72054.85 | I2: 32986.602 | J2: 31.4034
A3: Kamil Milewski | D3: 1595.371 | F3: 146895.64 | G3: 119427.3 | H3: 71165.718 | I3: 48261.582 | J3: 40.4108
A4: Katarzyna Kucharzyk | D4: 7830.456 | F4: 403792.53 | G4: 328286.62 | H4: 202830.18 | I4: 125456.45 | J4: 38.2155
A5: (Razem sprzedaż) | D5: 11142.251 | F5: 679889.19 | G5: 552755.38 | H5: 346050.75 | I5: 206704.64 | J5: 37.3953

Sheet IX
A1: Pracownik | B1: Grupa | C1: Towar | D1: Ilość | E1: Jm | F1: Brutto | G1: Netto | H1: Koszt | I1: Zysk | J1: Marża
A2: Kamil Milewski | D2: 2859.002 | F2: 160034.16 | G2: 130108.99 | H2: 80018.234 | I2: 50090.758 | J2: 38.499
A3: Paweł Młynarski | D3: 3807.979 | F3: 268917.84 | G3: 218632.38 | H3: 140599.52 | I3: 78032.859 | J3: 35.6913
A4: Katarzyna Kucharzyk | D4: 12147.488 | F4: 532533.38 | G4: 432953.91 | H4: 270501.88 | I4: 162452.02 | J4: 37.5217
A5: (Razem sprzedaż) | D5: 18814.469 | F5: 961485.38 | G5: 781695.25 | H5: 491119.64 | I5: 290575.62 | J5: 37.1724

Sheet X
A1: Pracownik | B1: Grupa | C1: Towar | D1: Ilość | E1: Jm | F1: Brutto | G1: Netto | H1: Koszt | I1: Zysk | J1: Marża
A2: Paweł Młynarski | D2: 4823.377 | F2: 281551.69 | G2: 229388.14 | H2: 152620.62 | I2: 76767.523 | J2: 33.4662
A3: Kamil Milewski | D3: 14483.217 | F3: 228401.8 | G3: 185692.52 | H3: 92910.678 | I3: 92781.844 | J3: 49.9653
A4: Katarzyna Kucharzyk | D4: 8160.189 | F4: 502792.06 | G4: 408773.91 | H4: 249593.24 | I4: 159180.67 | J4: 38.941
A5: (Razem sprzedaż) | D5: 27466.783 | F5: 1012745.6 | G5: 823854.56 | H5: 495124.54 | I5: 328730.03 | J5: 39.9014

Sheet XI
A1: Pracownik | B1: Grupa | C1: Towar | D1: Ilość | E1: Jm | F1: Brutto | G1: Netto | H1: Koszt | I1: Zysk | J1: Marża
A2: Paweł Młynarski | D2: 1561.488 | F2: 89613.25 | G2: 72856.328 | H2: 48524.803 | I2: 24331.527 | J2: 33.3965
A3: Kamil Milewski | D3: 3013.45 | F3: 155359.41 | G3: 126308.42 | H3: 70125.515 | I3: 56182.906 | J3: 44.4807
A4: Katarzyna Kucharzyk | D4: 8262.963 | F4: 461467 | G4: 375176.41 | H4: 229512.76 | I4: 145663.64 | J4: 38.8253
A5: (Razem sprzedaż) | D5: 12837.901 | F5: 706439.69 | G5: 574341.12 | H5: 348163.08 | I5: 226178.06 | J5: 39.3804

Sheet XII
A1: Pracownik | B1: Grupa | C1: Towar | D1: Ilość | E1: Jm | F1: Brutto | G1: Netto | H1: Koszt | I1: Zysk | J1: Marża
A2: Paweł Młynarski | D2: 1827.325 | F2: 128932.96 | G2: 104823.54 | H2: 69578.664 | I2: 35244.875 | J2: 33.623
A3: Kamil Milewski | D3: 2414.575 | F3: 99657.812 | G3: 81022.641 | H3: 42590 | I3: 38432.641 | J3: 47.4344
A4: Katarzyna Kucharzyk | D4: 7331.983 | F4: 471638.31 | G4: 383445.72 | H4: 237736.38 | I4: 145709.34 | J4: 37.9999
A5: (Razem sprzedaż) | D5: 11573.883 | F5: 700229.06 | G5: 569291.94 | H5: 349905.05 | I5: 219386.86 | J5: 38.5367

Sheet Regulamin
A1: PREMIA MIESIĘCZNA BOK | B1: KWOTA BAZOWA na dany rok - wysokość kwoty bazowej ustalona jest na dany okres i uzależniona od Planu Sprzedaży Obrót Firmy
B2: KWOTA BAZOWA na dany miesiąc - wysokość kwoty bazowej na dany miesiąc uzależniona jest od procentowej, miesięcznej realizacji Planu Sprzedaży Obrót i podlega ocenie wg poniższej tabeli.
B3: Wysokość zrealizowania PSO; Mnożnik kwoty bazowej na dany rok
B4: 0 - 79,99%; 0
B5: 80,00 - 89,99 %; 0,5
B6: 90,00 - 94,99 %; 0,75
B7: 95,00 % i więcej; 1
B8: Wysokość indywidualnej premii miesięcznej stanowi maksymalnie 20% kwoty bazowej na dany miesiąc
B9: Wysokość indywidualnej premii miesięcznej uzależniona jest od % udziału indywidualnego obrotu z wystawionych w danym miesiącu faktur przez pracownika BOK w sumarycznym obrocie firmy i podlega ocene wg poniżych wskaźników.
B10: Poziom % indywidualnego obrotu miesięcznego w sumarycznym obrocie miesięcznym firmy; Mnożnik kwoty bazowej bazowej na dany miesiąc
B11: 0 - 14,99%; 0
B12: 15,00 - 32,99 %; 0,5
B13: 33,00 - 65,99 %; 0,75
... B16: Premia miesięczna stanowi kwotę brutto i wypłacana jest w z wynagrodzeniem za miesiąc następujący po miesiącu, za który jest naliczana (tzn. premia miesięczna za styczeń zostanie przesłana z wynagrodzeniem zasadniczym za luty, itd.).
