Workbook
Name OLE_LINK3: regulamin!$A$16

Sheet TOMEK
A1: Tomasz Sypień | B1: PLAN I KW Tomasz Sypień | F1: PLAN II KW Tomasz Sypień | J1: PLAN III KW Tomasz Sypień | N1: PLAN IV KW Tomasz Sypień
A2: miesiąc | B2: styczeń | C2: luty | D2: marzec | E2: KW I | F2: kwiecień | G2: maj | H2: czerwiec | I2: KW II | J2: lipiec | K2: sierpień | L2: wrzesień | M2: KW III | N2: październik | O2: listopad | P2: grudzień | Q2: KW IV | R2: suma ROK
I3: 297759.12 | R3: =Target!O3 -> 675001.28
A4: Indywidualny Plan Sprzedaży Marża | B4: =Target!C3 -> 47400 | C4: =Target!D3 -> 52666.667 | D4: =Target!E3 -> 57933.333 | E4: =SUM(B4:D4) -> 158000 | F4: =Target!F3 -> 51700.128 | G4: =Target!G3-6400 -> 51044.587 | H4: =Target!H3+6400 -> 69589.045 | I4: =SUM(F4:H4) -> 172333.76 | J4: =Target!I3 -> 51700.128 | K4: =Target!J3 -> 57444.587 | L4: =Target!K3 -> 63189.045 | M4: =SUM(J4:L4) -> 172333.76 | N4: =Target!L3 -> 51700.128 | O4: =Target!M3 -> 57444.587 | P4: =Target!N3 -> 63189.045 | Q4: =SUM(N4:P4) -> 172333.76 | R4: =E4+I4+M4+Q4 -> 675001.28
A5: Sumaryczny Indywidulany Plan Sprzedaży Marża | B5: =B4 -> 47400 | C5: =C4+B5 -> 100066.67 | D5: =D4+C5 -> 158000 | F5: =F4 -> 51700.128 | G5: =G4+F5 -> 102744.71 | H5: =H4+G5 -> 172333.76 | J5: =J4 -> 51700.128 | K5: =K4+J5 -> 109144.71 | L5: =L4+K5 -> 172333.76 | N5: =N4 -> 51700.128 | O5: =O4+N5 -> 109144.71 | P5: =P4+O5 -> 172333.76 | R5: =R6/R4 -> 0.46897601
A6: Miesięczna realizacja Planu Sprzedaży Marża | B6: =SUMIF(I!A:A,$A$1,I!I:I) -> 66644.211 | C6: =SUMIF(II!A:A,$A$1,II!I:I) -> 43412.004 | D6: =SUMIF(III!A:A,$A$1,III!I:I) -> 64012.938 | E6: =SUM(B6:D6) -> 174069.15 | F6: =SUMIF(IV!A:A,$A$1,IV!I:I) -> 50985.477 | G6: =SUMIF(V!A:A,$A$1,V!I:I) -> 46704.855 | H6: =SUMIF(VI!A:A,$A$1,VI!I:I) -> 44799.926 | I6: =SUM(F6:H6) -> 142490.26 | J6: =SUMIF(VII!A:A,$A$1,VII!I:I) -> 0 | K6: =SUMIF(VIII!A:A,$A$1,VIII!I:I) -> 0 | L6: =SUMIF(IX!A:A,$A$1,IX!I:I) -> 0 | M6: =SUM(J6:L6) -> 0 | N6: =SUMIF(X!A:A,$A$1,X!I:I) -> 0 | O6: =SUMIF(XI!A:A,$A$1,XI!I:I) -> 0 | P6: =SUMIF(XII!A:A,$A$1,XII!I:I) -> 0 | Q6: =SUM(N6:P6) -> 0 | R6: =E6+I6+M6+Q6 -> 316559.41
A7: Sumaryczna realizacja Planu Sprzedaży Marża | B7: =B6 -> 66644.211 | C7: =C6+B7 -> 110056.21 | D7: =D6+C7 -> 174069.15 | F7: =F6 -> 50985.477 | G7: =G6+F7 -> 97690.332 | H7: =H6+G7 -> 142490.26 | I7: =SUM(E6,I6) -> 316559.41 | J7: =J6 -> 0 | K7: =K6+J7 -> 0 | L7: =L6+K7 -> 0 | M7: =SUM(E6,I6,M6)/3 -> 105519.8 | N7: =N6 -> 0 | O7: =O6+N7 -> 0 | P7: =P6+O7 -> 0 | R7: =R3-R4 -> 0
A8: Wysokość % zrealizowania IPSM miesięcznego | B8: =B6/B4 -> 1.405996 | C8: =C6/C4 -> 0.82427856 | D8: =D6/D4 -> 1.1049414 | F8: =F6/F4 -> 0.98617699 | G8: =G6/G4 -> 0.91498156 | H8: =H6/H4 -> 0.64377842 | I8: =I7/I3-1 -> 0.063139259 | J8: =J6/J4 -> 0 | K8: =K6/K4 -> 0 | L8: =L6/L4 -> 0 | N8: =N6/N4 -> 0 | O8: =O6/O4 -> 0 | P8: =P6/P4 -> 0 | R8: =R7*100/R3 -> 0
A9: Wysokość % zrealizowania IPSM sumarycznego | B9: =B7/B5 -> 1.405996 | C9: =C7/C5 -> 1.0998289 | D9: =D7/D5 -> 1.1017035 | F9: =F7/F5 -> 0.98617699 | G9: =G7/G5 -> 0.9508064 | H9: =H7/H5 -> 0.8268273 | I9: =I7-I3 -> 18800.29 | J9: =J7/J5 -> 0 | K9: =K7/K5 -> 0 | L9: =L7/L5 -> 0 | N9: =N7/N5 -> 0 | O9: =O7/O5 -> 0 | P9: =P7/P5 -> 0
A10: Różnica | B10: =B7-B5 -> 19244.211 | C10: =C7-C5 -> 9989.5481 | D10: =D7-D5 -> 16069.152 | F10: =F7-F5 -> -714.6514 | G10: =G7-G5 -> -5054.3826 | H10: =H7-H5 -> -29843.502 | J10: =J7-J5 -> -51700.128 | K10: =K7-K5 -> -109144.71 | L10: =L7-L5 -> -172333.76 | N10: =N7-N5 -> -51700.128 | O10: =O7-O5 -> -109144.71 | P10: =P7-P5 -> -172333.76
A11: Miesięczny Obrót | B11: =SUMIF(I!A:A,$A$1,I!G:G) -> 161231.2 | C11: =SUMIF(II!A:A,$A$1,II!G:G) -> 105582.71 | D11: =SUMIF(III!A:A,$A$1,III!G:G) -> 128569.29 | E11: =SUM(B11:D11) -> 395383.2 | F11: =SUMIF(IV!A:A,$A$1,IV!G:G) -> 130849.06 | G11: =SUMIF(V!A:A,$A$1,V!G:G) -> 96547.938 | H11: =SUMIF(VI!A:A,$A$1,VI!G:G) -> 103195.87 | I11: =SUM(F11:H11) -> 330592.87 | J11: =SUMIF(VII!A:A,$A$1,VII!G:G) -> 0 | K11: =SUMIF(VIII!A:A,$A$1,VIII!G:G) -> 0 | L11: =SUMIF(IX!A:A,$A$1,IX!G:G) -> 0 | M11: =SUM(J11:L11) -> 0 | N11: =SUMIF(X!A:A,$A$1,X!G:G) -> 0 | O11: =SUMIF(XI!A:A,$A$1,XI!G:G) -> 0 | P11: =SUMIF(XII!A:A,$A$1,XII!G:G) -> 0 | Q11: =SUM(N11:P11) -> 0 | R11: =E11+I11+M11+Q11 -> 725976.07
A12: Sumaryczny Obrót | B12: =B11 -> 161231.2 | C12: =C11+B12 -> 266813.91 | D12: =D11+C12 -> 395383.2 | F12: =F11 -> 130849.06 | G12: =G11+F12 -> 227397 | H12: =H11+G12 -> 330592.87 | J12: =J11 -> 0 | K12: =K11+J12 -> 0 | L12: =L11+K12 -> 0 | N12: =N11 -> 0 | O12: =O11+N12 -> 0 | P12: =P11+O12 -> 0
A13: Wysokość % Marży miesięcznej | B13: =B6/B11 -> 0.41334562 | C13: =C6/C11 -> 0.41116584 | D13: =D6/D11 -> 0.49788669 | F13: =F6/F11 -> 0.38965107 | G13: =G6/G11 -> 0.48374783 | H13: =H6/H11 -> 0.43412519 | J13: =J6/J11 -> #DIV/0! | K13: =K6/K11 -> #DIV/0! | L13: =L6/L11 -> #DIV/0! | N13: =N6/N11 -> #DIV/0! | O13: =O6/O11 -> #DIV/0! | P13: =P6/P11 -> #DIV/0!
A14: Wysokość % Marży sumarycznej | B14: =B7/B12 -> 0.41334562 | C14: =C7/C12 -> 0.41248304 | D14: =D7/D12 -> 0.44025429 | F14: =F7/F12 -> 0.38965107 | G14: =G7/G12 -> 0.42960255 | H14: =H7/H12 -> 0.43101431 | J14: =J7/J12 -> #DIV/0! | K14: =K7/K12 -> #DIV/0! | L14: =L7/L12 -> #DIV/0! | N14: =N7/N12 -> #DIV/0! | O14: =O7/O12 -> #DIV/0! | P14: =P7/P12 -> #DIV/0!
A16: PREMIE | B16: PREMIE
A17: Wynagrodzenie zasadnicze | B17: =Target!O31 -> 6100 | C17: =Target!O31 -> 6100 | D17: =Target!O31 -> 6100 | F17: =Target!O40 -> 6800 | G17: =Target!O40 -> 6800 | H17: =Target!O40 -> 6800 | J17: =Target!O50 -> 6800 | K17: =Target!O50 -> 6800 | L17: =Target!O50 -> 6800 | N17: =Target!O59 -> 6800 | O17: =Target!O59 -> 6800 | P17: =Target!O59 -> 6800
A18: Wysokość Kwoty bazowej na dany okres | F18: =Target!N40 -> 7000 | G18: =Target!N40 -> 7000 | H18: =Target!N40 -> 7000 | J18: =Target!N50 -> 7000 | K18: =Target!N50 -> 7000 | L18: =Target!N50 -> 7000 | N18: =Target!N59 -> 7000 | O18: =Target!N59 -> 7000 | P18: =Target!N59 -> 7000
A19: Udział % IPSM w PSM | F19: =Target!J40 -> 0.18684521 | G19: =Target!J40 -> 0.18684521 | H19: =Target!J40 -> 0.18684521 | J19: =Target!J50 -> 0.18684521 | K19: =Target!J50 -> 0.18684521 | L19: =Target!J50 -> 0.18684521 | N19: =Target!J59 -> 0.18684521 | O19: =Target!J59 -> 0.18684521 | P19: =Target!J59 -> 0.18684521
A20: Wysokość Indywidualnej Kwoty bazowej | F20: =Target!M40 -> 5231.6658 | G20: =Target!M40 -> 5231.6658 | H20: =Target!M40 -> 5231.6658 | J20: =Target!M50 -> 5231.6658 | K20: =Target!M50 -> 5231.6658 | L20: =Target!M50 -> 5231.6658 | N20: =Target!M59 -> 5231.6658 | O20: =Target!M59 -> 5231.6658 | P20: =Target!M59 -> 5231.6658
A21: Sumaryczny Indywidualny Plan Sprzedaży Marża | B21: =B5 -> 47400 | C21: =C5 -> 100066.67 | D21: =D5 -> 158000 | F21: =F5 -> 51700.128 | G21: =G5 -> 102744.71 | H21: =H5 -> 172333.76 | J21: =J5 -> 51700.128 | K21: =K5 -> 109144.71 | L21: =L5 -> 172333.76 | N21: =N5 -> 51700.128 | O21: =O5 -> 109144.71 | P21: =P5 -> 172333.76
A22: Miesięczna realizacja Planu Sprzedaży Marża | B22: =B7 -> 66644.211 | C22: =C7 -> 110056.21 | D22: =D7 -> 174069.15 | F22: =F7 -> 50985.477 | G22: =G7 -> 97690.332 | H22: =H7 -> 142490.26 | J22: =J7 -> 0 | K22: =K7 -> 0 | L22: =L7 -> 0 | N22: =N7 -> 0 | O22: =O7 -> 0 | P22: =P7 -> 0
A23: Wysokość % zrealizowania IPSM sumarycznego | B23: =B22/B21 -> 1.405996 | C23: =C22/C21 -> 1.0998289 | D23: =D22/D21 -> 1.1017035 | F23: =F22/F21 -> 0.98617699 | G23: =G22/G21 -> 0.9508064 | H23: =H22/H21 -> 0.8268273 | J23: =J22/J21 -> 0 | K23: =K22/K21 -> 0 | L23: =L22/L21 -> 0 | N23: =N22/N21 -> 0 | O23: =O22/O21 -> 0 | P23: =P22/P21 -> 0
A24: Wysokość premii Wskaźnik Sprzedaży Marża | B24: =B17*0.35 -> 2135 | C24: =C17*0.35 -> 2135 | D24: =D17*0.35 -> 2135 | F24: =F20*0.35 -> 1831.083 | G24: =G20*0.35 -> 1831.083 | H24: =H20*0.35 -> 1831.083 | J24: =J20*0.35 -> 1831.083 | K24: =K20*0.35 -> 1831.083 | L24: =L20*0.35 -> 1831.083 | N24: =N20*0.35 -> 1831.083 | O24: =O20*0.35 -> 1831.083 | P24: =P20*0.35 -> 1831.083
A25: Mnożnik premii miesięcznej Wskaźnika Sprzedaży Marża | B25: =IF(B23<80%,0,IF(B23<90%,0.5,IF(B23<95%,0.75,1))) -> 1 | C25: =IF(C23<80%,0,IF(C23<90%,0.5,IF(C23<95%,0.75,1))) -> 1 | D25: =IF(D23<80%,0,IF(D23<90%,0.5,IF(D23<95%,0.75,1))) -> 1 | F25: =IF(F23<80%,0,IF(F23<90%,0.5,IF(F23<95%,0.75,1))) -> 1 | G25: =IF(G23<80%,0,IF(G23<90%,0.5,IF(G23<95%,0.75,1))) -> 1 | H25: =IF(H23<80%,0,IF(H23<90%,0.5,IF(H23<95%,0.75,1))) -> 0.5 | J25: =IF(J23<80%,0,IF(J23<90%,0.5,IF(J23<95%,0.75,1))) -> 0 | K25: =IF(K23<80%,0,IF(K23<90%,0.5,IF(K23<95%,0.75,1))) -> 0 | L25: =IF(L23<80%,0,IF(L23<90%,0.5,IF(L23<95%,0.75,1))) -> 0 | N25: =IF(N23<80%,0,IF(N23<90%,0.5,IF(N23<95%,0.75,1))) -> 0 | O25: =IF(O23<80%,0,IF(O23<90%,0.5,IF(O23<95%,0.75,1))) -> 0 | P25: =IF(P23<80%,0,IF(P23<90%,0.5,IF(P23<95%,0.75,1))) -> 0
A26: Premia miesięczna za Wskaźnik Sprzedaży Marża | B26: =B25*B24 -> 2135 | C26: =C25*C24 -> 2135 | D26: =D25*D24 -> 2135 | F26: =F25*F24 -> 1831.083 | G26: =G25*G24 -> 1831.083 | H26: =H25*H24 -> 915.54151 | J26: =J25*J24 -> 0 | K26: =K25*K24 -> 0 | L26: =L25*L24 -> 0 | N26: =N25*N24 -> 0 | O26: =O25*O24 -> 0 | P26: =P25*P24 -> 0
A27: Wskaźnik CRM
A28: Wysokość premii CRM | B28: =B17*0.05 -> 305 | C28: =C17*0.05 -> 305 | D28: =D17*0.05 -> 305 | F28: =F18*0.05 -> 350 | G28: =G18*0.05 -> 350 | H28: =H18*0.05 -> 350 | J28: =J18*0.05 -> 350 | K28: =K18*0.05 -> 350 | L28: =L18*0.05 -> 350 | N28: =N18*0.05 -> 350 | O28: =O18*0.05 -> 350 | P28: =P18*0.05 -> 350
A29: Mnożnik premii Wskaźnik CRM | B29: 1 | C29: 1 | D29: 1 | F29: 1 | G29: 1 | H29: 1
A30: Premia miesięczna za Wskaźnik CRM | B30: =B29*B28 -> 305 | C30: =C29*C28 -> 305 | D30: =D29*D28 -> 305 | F30: =F29*F28 -> 350 | G30: =G29*G28 -> 350 | H30: =H29*H28 -> 350 | J30: =J29*J28 -> 0 | K30: =K29*K28 -> 0 | L30: =L29*L28 -> 0 | N30: =N29*N28 -> 0 | O30: =O29*O28 -> 0 | P30: =P29*P28 -> 0
A31: Suma Premii miesięcznych | B31: =B26+B30 -> 2440 | C31: =C26+C30 -> 2440 | D31: =D26+D30 -> 2440 | F31: =F26+F30 -> 2181.083 | G31: =G26+G30 -> 2181.083 | H31: =H26+H30 -> 1265.5415 | J31: =J26+J30 -> 0 | K31: =K26+K30 -> 0 | L31: =L26+L30 -> 0 | N31: =N26+N30 -> 0 | O31: =O26+O30 -> 0 | P31: =P26+P30 -> 0
A32: Wskaźnik Premia Kwartalna Marża | B32: =D5 -> 158000 | F32: =H5 -> 172333.76 | J32: =L5 -> 172333.76 | N32: =P5 -> 172333.76
A33: Realizacja Wskaźnika Premia Kwartalna | B33: =D7 -> 174069.15 | F33: =H7 -> 142490.26 | J33: =L7 -> 0 | N33: =P7 -> 0
A34: Poziom realizacji Wskaźnika Premia Kwartalna | B34: =B33/B32 -> 1.1017035 | F34: =F33/F32 -> 0.8268273 | J34: =J33/J32 -> 0 | N34: =N33/N32 -> 0
A35: Wysokość premii kwartalnej. | B35: =D17 -> 6100 | F35: =H18 -> 7000 | J35: =L18 -> 7000 | N35: =P18 -> 7000
A36: Mnożnik premii kwartalnej | B36: =IF(B34<100%,0,IF(B34<105%,0.5,IF(B34<110%,0.7,1))) -> 1 | F36: =IF(F34<100%,0,IF(F34<105%,0.5,IF(F34<110%,0.7,1))) -> 0 | J36: =IF(J34<100%,0,IF(J34<105%,0.5,IF(J34<110%,0.7,1))) -> 0 | N36: =IF(N34<100%,0,IF(N34<105%,0.5,IF(N34<110%,0.7,1))) -> 0
A37: Premia kwartalna | B37: =B36*B35 -> 6100 | F37: =F36*F35 -> 0 | J37: =J36*J35 -> 0 | N37: =N36*N35 -> 0
A39: Raport za miesiąc: | B39: styczeń | C39: luty | D39: marzec | E39: Suma | F39: kwiecień | G39: maj | H39: czerwiec | I39: Suma | J39: lipiec | K39: sierpień | L39: wrzesień | M39: Suma | N39: paździer. | O39: listopad | P39: grudzień | Q39: Suma | R39: Suma
A40: Ilość nowych Klientów: | E40: =SUM(B40:D40) -> 0 | I40: =SUM(F40:H40) -> 0 | M40: =SUM(J40:L40) -> 0 | Q40: =SUM(N40:P40) -> 0 | R40: =I40+M40+Q40+E40 -> 0
A41: Ilość Podmiotów na etapie współpracy Klient:
A42: Ilość Podmiotów na etapie współpracy Handlowy:
A43: Ilość Podmiotów na etapie współpracy Klient nieaktywny:
A44: Ilość Podmiotów pod opieką:
A45: Ilość sprzedanych drukarek: | E45: =SUM(B45:D45) -> 0 | I45: =SUM(F45:H45) -> 0 | M45: =SUM(J45:L45) -> 0 | Q45: =SUM(N45:P45) -> 0 | R45: =I45+M45+Q45+E45 -> 0
A46: Ilość ofert dodanych w danym miesiącu: | E46: =SUM(B46:D46) -> 0 | I46: =SUM(F46:H46) -> 0 | M46: =SUM(J46:L46) -> 0 | Q46: =SUM(N46:P46) -> 0 | R46: =I46+M46+Q46+E46 -> 0
A47: Ilość ofert oczekujących na decyzję kontrahenta:
A48: Ilość zaakceptowanych ofert przez kontrahenta: | E48: =SUM(B48:D48) -> 0 | I48: =SUM(F48:H48) -> 0 | M48: =SUM(J48:L48) -> 0 | Q48: =SUM(N48:P48) -> 0 | R48: =I48+M48+Q48+E48 -> 0
A49: Ilość odrzuconych ofert przez kontrahenta: | E49: =SUM(B49:D49) -> 0 | I49: =SUM(F49:H49) -> 0 | M49: =SUM(J49:L49) -> 0 | Q49: =SUM(N49:P49) -> 0 | R49: =I49+M49+Q49+E49 -> 0
A50: Ilość przekazanych podmiotów: | E50: =SUM(B50:D50) -> 0 | I50: =SUM(F50:H50) -> 0 | M50: =SUM(J50:L50) -> 0 | Q50: =SUM(N50:P50) -> 0 | R50: =I50+M50+Q50+E50 -> 0
A51: Ilość odebranych podmiotów (zmiana prowadzącego): | E51: =SUM(B51:D51) -> 0 | I51: =SUM(F51:H51) -> 0 | M51: =SUM(J51:L51) -> 0 | Q51: =SUM(N51:P51) -> 0 | R51: =I51+M51+Q51+E51 -> 0
A52: Ilość spotkań z Klientami: | E52: =SUM(B52:D52) -> 0 | I52: =SUM(F52:H52) -> 0 | M52: =SUM(J52:L52) -> 0 | Q52: =SUM(N52:P52) -> 0 | R52: =I52+M52+Q52+E52 -> 0
A53: Ilość aktualnie otwartych wdrożeń:
A54: Ilość wdrożeń dodanych w danym miesiącu: | E54: =SUM(B54:D54) -> 0 | I54: =SUM(F54:H54) -> 0 | M54: =SUM(J54:L54) -> 0 | Q54: =SUM(N54:P54) -> 0 | R54: =I54+M54+Q54+E54 -> 0
A55: Ilość wdrożeń zamkniętych pozytywnie w danym mcu: | E55: =SUM(B55:D55) -> 0 | I55: =SUM(F55:H55) -> 0 | M55: =SUM(J55:L55) -> 0 | Q55: =SUM(N55:P55) -> 0 | R55: =I55+M55+Q55+E55 -> 0
A56: Ilość wdrożeń zamkniętych negatywnie w danym mcu: | E56: =SUM(B56:D56) -> 0 | I56: =SUM(F56:H56) -> 0 | M56: =SUM(J56:L56) -> 0 | Q56: =SUM(N56:P56) -> 0 | R56: =I56+M56+Q56+E56 -> 0
A57: Ilość aktualnie odłożonych wdrożeń:

Sheet RCKIK
A1: Grupa RCKIK
A2: miesiąc | B2: styczeń | C2: luty | D2: marzec | E2: KW I | F2: kwiecień | G2: maj | H2: czerwiec | I2: KW II | J2: lipiec | K2: sierpień | L2: wrzesień | M2: KW III | N2: październik | O2: listopad | P2: grudzień | Q2: KW IV | R2: suma
I3: 121952.63
A4: Indywidualny Plan Sprzedaży Marża | B4: =Target!C4 -> 16800 | C4: =Target!D4 -> 18666.667 | D4: =Target!E4 -> 20533.333 | E4: =SUM(B4:D4) -> 56000 | F4: =Target!F4 -> 16800 | G4: =Target!G4 -> 18666.667 | H4: =Target!H4 -> 20533.333 | I4: =SUM(F4:H4) -> 56000 | J4: =Target!I4 -> 16800 | K4: =Target!J4 -> 18666.667 | L4: =Target!K4 -> 20533.333 | M4: =SUM(J4:L4) -> 56000 | N4: =Target!L4 -> 16800 | O4: =Target!M4 -> 18666.667 | P4: =Target!N4 -> 20533.333 | Q4: =SUM(N4:P4) -> 56000 | R4: =B4+C4+D4+F4+G4+H4+J4+K4+L4+N4+O4+P4 -> 224000
A5: Sumaryczny Plan Sprzedaży Marża | B5: =B4 -> 16800 | C5: =C4+B5 -> 35466.667 | D5: =D4+C5 -> 56000 | F5: =F4 -> 16800 | G5: =G4+F5 -> 35466.667 | H5: =H4+G5 -> 56000 | J5: =J4 -> 16800 | K5: =K4+J5 -> 35466.667 | L5: =L4+K5 -> 56000 | N5: =N4 -> 16800 | O5: =O4+N5 -> 35466.667 | P5: =P4+O5 -> 56000 | R5: =R6/R4 -> 0.26337975
A6: Miesięczna realizacja Planu Sprzedaży Marża | B6: =SUMIF(I!A:A,$A$1,I!I:I) -> 4526.1787 | C6: =SUMIF(II!A:A,$A$1,II!I:I) -> 16210.623 | D6: =SUMIF(III!A:A,$A$1,III!I:I) -> 9987.3594 | E6: =SUM(B6:D6) -> 30724.161 | F6: =SUMIF(IV!A:A,$A$1,IV!I:I) -> 12628.626 | G6: =SUMIF(V!A:A,$A$1,V!I:I) -> 7248.355 | H6: =SUMIF(VI!A:A,$A$1,VI!I:I) -> 8395.9209 | I6: =SUM(F6:H6) -> 28272.902 | J6: =SUMIF(VII!A:A,$A$1,VII!I:I) -> 0 | K6: =SUMIF(VIII!A:A,$A$1,VIII!I:I) -> 0 | L6: =SUMIF(IX!A:A,$A$1,IX!I:I) -> 0 | M6: =SUM(J6:L6) -> 0 | N6: =SUMIF(X!A:A,$A$1,X!I:I) -> 0 | O6: =SUMIF(XI!A:A,$A$1,XI!I:I) -> 0 | P6: =SUMIF(XII!A:A,$A$1,XII!I:I) -> 0 | Q6: =SUM(N6:P6) -> 0 | R6: =B6+C6+D6+F6+G6+H6+J6+K6+L6+N6+O6+P6 -> 58997.063
A7: Sumaryczna realizacja planu sprzedaży Marża | B7: =B6 -> 4526.1787 | C7: =C6+B7 -> 20736.802 | D7: =D6+C7 -> 30724.161 | F7: =F6 -> 12628.626 | G7: =G6+F7 -> 19876.981 | H7: =H6+G7 -> 28272.902 | I7: =SUM(E6,I6) -> 58997.063 | J7: =J6 -> 0 | K7: =K6+J7 -> 0 | L7: =L6+K7 -> 0 | M7: =SUM(E6,I6,M6)/3 -> 19665.688 | N7: =N6 -> 0 | O7: =O6+N7 -> 0 | P7: =P6+O7 -> 0
A8: Wysokość zrealizowania Miesięcznego Planu Sprzedaży Marża | B8: =B6/B4 -> 0.2694154 | C8: =C6/C4 -> 0.86842623 | D8: =D6/D4 -> 0.48639737 | F8: =F6/F4 -> 0.75170393 | G8: =G6/G4 -> 0.38830473 | H8: =H6/H4 -> 0.40889225 | I8: =I7/I3-1 -> -0.51622968 | J8: =J6/J4 -> 0 | K8: =K6/K4 -> 0 | L8: =L6/L4 -> 0 | N8: =N6/N4 -> 0 | O8: =O6/O4 -> 0 | P8: =P6/P4 -> 0
A9: Wysokość zrealizowania Planu Sprzedaży Marża | B9: =B7/B5 -> 0.2694154 | C9: =C7/C5 -> 0.58468426 | D9: =D7/D5 -> 0.54864573 | F9: =F7/F5 -> 0.75170393 | G9: =G7/G5 -> 0.56044119 | H9: =H7/H5 -> 0.50487325 | I9: =I7-I3 -> -62955.567 | J9: =J7/J5 -> 0 | K9: =K7/K5 -> 0 | L9: =L7/L5 -> 0 | N9: =N7/N5 -> 0 | O9: =O7/O5 -> 0 | P9: =P7/P5 -> 0
A10: Różnica wskaźnika Marża | B10: =B7-B5 -> -12273.821 | C10: =C7-C5 -> -14729.865 | D10: =D7-D5 -> -25275.839 | F10: =F7-F5 -> -4171.374 | G10: =G7-G5 -> -15589.686 | H10: =H7-H5 -> -27727.098 | J10: =J7-J5 -> -16800 | K10: =K7-K5 -> -35466.667 | L10: =L7-L5 -> -56000 | N10: =N7-N5 -> -16800 | O10: =O7-O5 -> -35466.667 | P10: =P7-P5 -> -56000
A11: Miesięczny Obrót | B11: =SUMIF(I!A:A,$A$1,I!G:G) -> 29044.18 | C11: =SUMIF(II!A:A,$A$1,II!G:G) -> 60277.551 | D11: =SUMIF(III!A:A,$A$1,III!G:G) -> 41778.879 | E11: =SUM(B11:D11) -> 131100.61 | F11: =SUMIF(IV!A:A,$A$1,IV!G:G) -> 53329.84 | G11: =SUMIF(V!A:A,$A$1,V!G:G) -> 42500.449 | H11: =SUMIF(VI!A:A,$A$1,VI!G:G) -> 27933.529 | I11: =SUM(F11:H11) -> 123763.82 | J11: =SUMIF(VII!A:A,$A$1,VII!G:G) -> 0 | K11: =SUMIF(VIII!A:A,$A$1,VIII!G:G) -> 0 | L11: =SUMIF(IX!A:A,$A$1,IX!G:G) -> 0 | M11: =SUM(J11:L11) -> 0 | N11: =SUMIF(X!A:A,$A$1,X!G:G) -> 0 | O11: =SUMIF(XI!A:A,$A$1,XI!G:G) -> 0 | P11: =SUMIF(XII!A:A,$A$1,XII!G:G) -> 0 | Q11: =SUM(N11:P11) -> 0 | R11: =SUM(B11:E11) -> 262201.22
A12: Sumaryczny Obrót | B12: =B11 -> 29044.18 | C12: =C11+B12 -> 89321.731 | D12: =D11+C12 -> 131100.61 | F12: =F11 -> 53329.84 | G12: =G11+F12 -> 95830.289 | H12: =H11+G12 -> 123763.82 | J12: =J11 -> 0 | K12: =K11+J12 -> 0 | L12: =L11+K12 -> 0 | N12: =N11 -> 0 | O12: =O11+N12 -> 0 | P12: =P11+O12 -> 0
A13: Wysokość % Marży miesięcznej | B13: =B6/B11 -> 0.15583772 | C13: =C6/C11 -> 0.26893301 | D13: =D6/D11 -> 0.23905283 | F13: =F6/F11 -> 0.23680225 | G13: =G6/G11 -> 0.17054773 | H13: =H6/H11 -> 0.30056785 | J13: =J6/J11 -> #DIV/0! | K13: =K6/K11 -> #DIV/0! | L13: =L6/L11 -> #DIV/0! | N13: =N6/N11 -> #DIV/0! | O13: =O6/O11 -> #DIV/0! | P13: =P6/P11 -> #DIV/0!
A14: Wysokość % Marży sumarycznej | B14: =B7/B12 -> 0.15583772 | C14: =C7/C12 -> 0.23215853 | D14: =D7/D12 -> 0.23435559 | F14: =F7/F12 -> 0.23680225 | G14: =G7/G12 -> 0.20741856 | H14: =H7/H12 -> 0.22844239 | J14: =J7/J12 -> #DIV/0! | K14: =K7/K12 -> #DIV/0! | L14: =L7/L12 -> #DIV/0! | N14: =N7/N12 -> #DIV/0! | O14: =O7/O12 -> #DIV/0! | P14: =P7/P12 -> #DIV/0!
A16: PREMIE
A17: Premia funkcyjna | B17: 1400 | C17: 1400 | D17: 1400 | F17: 1400 | G17: 1400 | H17: 1400 | J17: 1400 | K17: 1400 | L17: 1400 | N17: 1400 | O17: 1400 | P17: 1400
A29: Wskaźnik Premia Kwartalna Marża | B29: =D5 -> 56000 | F29: =H5 -> 56000 | J29: =L5 -> 56000 | N29: =P5 -> 56000
A30: Realizacja Wskaźnika Premia Kwartalna | B30: =D7 -> 30724.161 | F30: =H7 -> 28272.902 | J30: =L7 -> 0 | N30: =P7 -> 0
A31: Poziom realizacji Wskaźnika Premia Kwartalna | B31: =B30/B29 -> 0.54864573 | F31: =F30/F29 -> 0.50487325 | J31: =J30/J29 -> 0 | N31: =N30/N29 -> 0
A32: Wysokość premii kwartalnej. | B32: =D17 -> 1400 | F32: =H17 -> 1400 | J32: =L17 -> 1400 | N32: =P17 -> 1400
A33: Mnożnik premii kwartalnej | B33: =IF(B31<100%,0,IF(B31<105%,0.5,IF(B31<110%,0.7,1))) -> 0 | F33: =IF(F31<100%,0,IF(F31<105%,0.5,IF(F31<110%,0.7,1))) -> 0 | J33: =IF(J31<100%,0,IF(J31<105%,0.5,IF(J31<110%,0.7,1))) -> 0 | N33: =IF(N31<100%,0,IF(N31<105%,0.5,IF(N31<110%,0.7,1))) -> 0
A34: Premia kwartalna dodatkowa | B34: =B33*B32 -> 0 | F34: =F33*F32 -> 0 | J34: =J33*J32 -> 0 | N34: =N33*N32 -> 0

Sheet BARTEK
A1: Bartłomiej Biskupski | B1: PLAN I KW BARTŁOMIEJ BISKUPSKI | F1: PLAN II KW BARTŁOMIEJ BISKUPSKI | J1: PLAN III KW BARTŁOMIEJ BISKUPSKI | N1: PLAN IV KW BARTŁOMIEJ BISKUPSKI
A2: miesiąc | B2: styczeń | C2: luty | D2: marzec | E2: KW I | F2: kwiecień | G2: maj | H2: czerwiec | I2: KW II | J2: lipiec | K2: sierpień | L2: wrzesień | M2: KW III | N2: październik | O2: listopad | P2: grudzień | Q2: KW IV | R2: suma ROK
I3: 422422.12 | R3: =Target!O5 -> 999001.36
A4: Indywidualny Plan Sprzedaży Marża | B4: =Target!C5-3800 -> 64000 | C4: =Target!D5 -> 75333.333 | D4: =Target!E5+3800 -> 86666.667 | E4: =SUM(B4:D4) -> 226000 | F4: =Target!F5 -> 77300.136 | G4: =Target!G5 -> 85889.04 | H4: =Target!H5 -> 94477.944 | I4: =SUM(F4:H4) -> 257667.12 | J4: =Target!I5 -> 77300.136 | K4: =Target!J5 -> 85889.04 | L4: =Target!K5 -> 94477.944 | M4: =SUM(J4:L4) -> 257667.12 | N4: =Target!L5 -> 77300.136 | O4: =Target!M5 -> 85889.04 | P4: =Target!N5 -> 94477.944 | Q4: =SUM(N4:P4) -> 257667.12 | R4: =E4+I4+M4+Q4 -> 999001.36
A5: Sumaryczny Indywidulany Plan Sprzedaży Marża | B5: =B4 -> 64000 | C5: =C4+B5 -> 139333.33 | D5: =D4+C5 -> 226000 | F5: =F4 -> 77300.136 | G5: =G4+F5 -> 163189.18 | H5: =H4+G5 -> 257667.12 | J5: =J4 -> 77300.136 | K5: =K4+J5 -> 163189.18 | L5: =L4+K5 -> 257667.12 | N5: =N4 -> 77300.136 | O5: =O4+N5 -> 163189.18 | P5: =P4+O5 -> 257667.12 | R5: =R6/R4 -> 0.5009091
A6: Miesięczna realizacja Planu Sprzedaży Marża | B6: =SUMIF(I!A:A,$A$1,I!I:I) -> 60864.18 | C6: =SUMIF(II!A:A,$A$1,II!I:I) -> 94166.219 | D6: =SUMIF(III!A:A,$A$1,III!I:I) -> 85052.258 | E6: =SUM(B6:D6) -> 240082.66 | F6: =SUMIF(IV!A:A,$A$1,IV!I:I) -> 86700.594 | G6: =SUMIF(V!A:A,$A$1,V!I:I) -> 80725.25 | H6: =SUMIF(VI!A:A,$A$1,VI!I:I) -> 92900.367 | I6: =SUM(F6:H6) -> 260326.21 | J6: =SUMIF(VII!A:A,$A$1,VII!I:I) -> 0 | K6: =SUMIF(VIII!A:A,$A$1,VIII!I:I) -> 0 | L6: =SUMIF(IX!A:A,$A$1,IX!I:I) -> 0 | M6: =SUM(J6:L6) -> 0 | N6: =SUMIF(X!A:A,$A$1,X!I:I) -> 0 | O6: =SUMIF(XI!A:A,$A$1,XI!I:I) -> 0 | P6: =SUMIF(XII!A:A,$A$1,XII!I:I) -> 0 | Q6: =SUM(N6:P6) -> 0 | R6: =E6+I6+M6+Q6 -> 500408.87
A7: Sumaryczna realizacja Planu Sprzedaży Marża | B7: =B6 -> 60864.18 | C7: =C6+B7 -> 155030.4 | D7: =D6+C7 -> 240082.66 | F7: =F6 -> 86700.594 | G7: =G6+F7 -> 167425.84 | H7: =H6+G7 -> 260326.21 | I7: =SUM(E6,I6) -> 500408.87 | J7: =J6 -> 0 | K7: =K6+J7 -> 0 | L7: =L6+K7 -> 0 | M7: =SUM(E6,I6,M6)/3 -> 166802.96 | N7: =N6 -> 0 | O7: =O6+N7 -> 0 | P7: =P6+O7 -> 0 | R7: =R3-R4 -> 0
A8: Wysokość % zrealizowania IPSM miesięcznego | B8: =B6/B4 -> 0.95100281 | C8: =C6/C4 -> 1.2499941 | D8: =D6/D4 -> 0.98137221 | F8: =F6/F4 -> 1.1216098 | G8: =G6/G4 -> 0.93987836 | H8: =H6/H4 -> 0.98330217 | I8: =I7/I3-1 -> 0.18461805 | J8: =J6/J4 -> 0 | K8: =K6/K4 -> 0 | L8: =L6/L4 -> 0 | N8: =N6/N4 -> 0 | O8: =O6/O4 -> 0 | P8: =P6/P4 -> 0 | Q8: =Q4*1.05 -> 270550.48 | R8: =R7*100/R3 -> 0
A9: Wysokość % zrealizowania IPSM sumarycznego | B9: =B7/B5 -> 0.95100281 | C9: =C7/C5 -> 1.1126584 | D9: =D7/D5 -> 1.0623126 | F9: =F7/F5 -> 1.1216098 | G9: =G7/G5 -> 1.0259617 | H9: =H7/H5 -> 1.0103199 | I9: =I7-I3 -> 77986.747 | J9: =J7/J5 -> 0 | K9: =K7/K5 -> 0 | L9: =L7/L5 -> 0 | N9: =N7/N5 -> 0 | O9: =O7/O5 -> 0 | P9: =P7/P5 -> 0 | Q9: =Q8-Q6 -> 270550.48
A10: Różnica | B10: =B7-B5 -> -3135.8203 | C10: =C7-C5 -> 15697.065 | D10: =D7-D5 -> 14082.656 | F10: =F7-F5 -> 9400.4578 | G10: =G7-G5 -> 4236.6678 | H10: =H7-H5 -> 2659.091 | J10: =J7-J5 -> -77300.136 | K10: =K7-K5 -> -163189.18 | L10: =L7-L5 -> -257667.12 | N10: =N7-N5 -> -77300.136 | O10: =O7-O5 -> -163189.18 | P10: =P7-P5 -> -257667.12
A11: Miesięczny Obrót | B11: =SUMIF(I!A:A,$A$1,I!G:G) -> 143664.91 | C11: =SUMIF(II!A:A,$A$1,II!G:G) -> 234312.84 | D11: =SUMIF(III!A:A,$A$1,III!G:G) -> 177334.09 | E11: =SUM(B11:D11) -> 555311.84 | F11: =SUMIF(IV!A:A,$A$1,IV!G:G) -> 204078.89 | G11: =SUMIF(V!A:A,$A$1,V!G:G) -> 185067.41 | H11: =SUMIF(VI!A:A,$A$1,VI!G:G) -> 189107.3 | I11: =SUM(F11:H11) -> 578253.59 | J11: =SUMIF(VII!A:A,$A$1,VII!G:G) -> 0 | K11: =SUMIF(VIII!A:A,$A$1,VIII!G:G) -> 0 | L11: =SUMIF(IX!A:A,$A$1,IX!G:G) -> 0 | M11: =SUM(J11:L11) -> 0 | N11: =SUMIF(X!A:A,$A$1,X!G:G) -> 0 | O11: =SUMIF(XI!A:A,$A$1,XI!G:G) -> 0 | P11: =SUMIF(XII!A:A,$A$1,XII!G:G) -> 0 | Q11: =SUM(N11:P11) -> 0 | R11: =E11+I11+M11+Q11 -> 1133565.4
A12: Sumaryczny Obrót | B12: =B11 -> 143664.91 | C12: =C11+B12 -> 377977.75 | D12: =D11+C12 -> 555311.84 | F12: =F11 -> 204078.89 | G12: =G11+F12 -> 389146.3 | H12: =H11+G12 -> 578253.59 | J12: =J11 -> 0 | K12: =K11+J12 -> 0 | L12: =L11+K12 -> 0 | N12: =N11 -> 0 | O12: =O11+N12 -> 0 | P12: =P11+O12 -> 0
A13: Wysokość % Marży miesięcznej | B13: =B6/B11 -> 0.42365377 | C13: =C6/C11 -> 0.40188245 | D13: =D6/D11 -> 0.47961594 | F13: =F6/F11 -> 0.42483862 | G13: =G6/G11 -> 0.43619377 | H13: =H6/H11 -> 0.49125744 | J13: =J6/J11 -> #DIV/0! | K13: =K6/K11 -> #DIV/0! | L13: =L6/L11 -> #DIV/0! | N13: =N6/N11 -> #DIV/0! | O13: =O6/O11 -> #DIV/0! | P13: =P6/P11 -> #DIV/0!
A14: Wysokość % Marży sumarycznej | B14: =B7/B12 -> 0.42365377 | C14: =C7/C12 -> 0.41015747 | D14: =D7/D12 -> 0.43233844 | F14: =F7/F12 -> 0.42483862 | G14: =G7/G12 -> 0.43023882 | H14: =H7/H12 -> 0.45019385 | J14: =J7/J12 -> #DIV/0! | K14: =K7/K12 -> #DIV/0! | L14: =L7/L12 -> #DIV/0! | N14: =N7/N12 -> #DIV/0! | O14: =O7/O12 -> #DIV/0! | P14: =P7/P12 -> #DIV/0!
A16: PREMIE | B16: PREMIE
A17: Wynagrodzenie zasadnicze | B17: =Target!O33 -> 6400 | C17: =Target!O33 -> 6400 | D17: =Target!O33 -> 6400 | F17: =Target!O42 -> 6800 | G17: =Target!O42 -> 6800 | H17: =Target!O42 -> 6800 | J17: =Target!O52 -> 6800 | K17: =Target!O52 -> 6800 | L17: =Target!O52 -> 6800 | N17: =Target!O61 -> 6800 | O17: =Target!O61 -> 6800 | P17: =Target!O61 -> 6800
A18: Wysokość Kwoty bazowej na dany okres | F18: =Target!N40 -> 7000 | G18: =Target!N40 -> 7000 | H18: =Target!N40 -> 7000 | J18: =Target!N50 -> 7000 | K18: =Target!N50 -> 7000 | L18: =Target!N50 -> 7000 | N18: =Target!N59 -> 7000 | O18: =Target!N59 -> 7000 | P18: =Target!N59 -> 7000
A19: Udział % IPSM w PSM | F19: =Target!J42 -> 0.2793641 | G19: =Target!J42 -> 0.2793641 | H19: =Target!J42 -> 0.2793641 | J19: =Target!J52 -> 0.2793641 | K19: =Target!J52 -> 0.2793641 | L19: =Target!J52 -> 0.2793641 | N19: =Target!J61 -> 0.2793641 | O19: =Target!J61 -> 0.2793641 | P19: =Target!J61 -> 0.2793641
A20: Wysokość Indywidualnej Kwoty bazowej | F20: =Target!M42 -> 7822.1949 | G20: =Target!M42 -> 7822.1949 | H20: =Target!M42 -> 7822.1949 | J20: =Target!M52 -> 7822.1949 | K20: =Target!M52 -> 7822.1949 | L20: =Target!M52 -> 7822.1949 | N20: =Target!M61 -> 7822.1949 | O20: =Target!M61 -> 7822.1949 | P20: =Target!M61 -> 7822.1949
A21: Sumaryczny Indywidualny Plan Sprzedaży Marża | B21: =B5 -> 64000 | C21: =C5 -> 139333.33 | D21: =D5 -> 226000 | F21: =F5 -> 77300.136 | G21: =G5 -> 163189.18 | H21: =H5 -> 257667.12 | J21: =J5 -> 77300.136 | K21: =K5 -> 163189.18 | L21: =L5 -> 257667.12 | N21: =N5 -> 77300.136 | O21: =O5 -> 163189.18 | P21: =P5 -> 257667.12
A22: Miesięczna realizacja Planu Sprzedaży Marża | B22: =B7 -> 60864.18 | C22: =C7 -> 155030.4 | D22: =D7 -> 240082.66 | F22: =F7 -> 86700.594 | G22: =G7 -> 167425.84 | H22: =H7 -> 260326.21 | J22: =J7 -> 0 | K22: =K7 -> 0 | L22: =L7 -> 0 | N22: =N7 -> 0 | O22: =O7 -> 0 | P22: =P7 -> 0
A23: Wysokość % zrealizowania IPSM sumarycznego | B23: =B22/B21 -> 0.95100281 | C23: =C22/C21 -> 1.1126584 | D23: =D22/D21 -> 1.0623126 | F23: =F22/F21 -> 1.1216098 | G23: =G22/G21 -> 1.0259617 | H23: =H22/H21 -> 1.0103199 | J23: =J22/J21 -> 0 | K23: =K22/K21 -> 0 | L23: =L22/L21 -> 0 | N23: =N22/N21 -> 0 | O23: =O22/O21 -> 0 | P23: =P22/P21 -> 0
A24: Wysokość premii Wskaźnik Sprzedaży Marża | B24: =B17*0.35 -> 2240 | C24: =C17*0.35 -> 2240 | D24: =D17*0.35 -> 2240 | F24: =F20*0.35 -> 2737.7682 | G24: =G20*0.35 -> 2737.7682 | H24: =H20*0.35 -> 2737.7682 | J24: =J20*0.35 -> 2737.7682 | K24: =K20*0.35 -> 2737.7682 | L24: =L20*0.35 -> 2737.7682 | N24: =N20*0.35 -> 2737.7682 | O24: =O20*0.35 -> 2737.7682 | P24: =P20*0.35 -> 2737.7682
A25: Mnożnik premii miesięcznej Wskaźnika Sprzedaży Marża | B25: =IF(B23<80%,0,IF(B23<90%,0.5,IF(B23<95%,0.75,1))) -> 1 | C25: =IF(C23<80%,0,IF(C23<90%,0.5,IF(C23<95%,0.75,1))) -> 1 | D25: =IF(D23<80%,0,IF(D23<90%,0.5,IF(D23<95%,0.75,1))) -> 1 | F25: =IF(F23<80%,0,IF(F23<90%,0.5,IF(F23<95%,0.75,1))) -> 1 | G25: =IF(G23<80%,0,IF(G23<90%,0.5,IF(G23<95%,0.75,1))) -> 1 | H25: =IF(H23<80%,0,IF(H23<90%,0.5,IF(H23<95%,0.75,1))) -> 1 | J25: =IF(J23<80%,0,IF(J23<90%,0.5,IF(J23<95%,0.75,1))) -> 0 | K25: =IF(K23<80%,0,IF(K23<90%,0.5,IF(K23<95%,0.75,1))) -> 0 | L25: =IF(L23<80%,0,IF(L23<90%,0.5,IF(L23<95%,0.75,1))) -> 0 | N25: =IF(N23<80%,0,IF(N23<90%,0.5,IF(N23<95%,0.75,1))) -> 0 | O25: =IF(O23<80%,0,IF(O23<90%,0.5,IF(O23<95%,0.75,1))) -> 0 | P25: =IF(P23<80%,0,IF(P23<90%,0.5,IF(P23<95%,0.75,1))) -> 0
A26: Premia miesięczna za Wskaźnik Sprzedaży Marża | B26: =B25*B24 -> 2240 | C26: =C25*C24 -> 2240 | D26: =D25*D24 -> 2240 | F26: =F25*F24 -> 2737.7682 | G26: =G25*G24 -> 2737.7682 | H26: =H25*H24 -> 2737.7682 | J26: =J25*J24 -> 0 | K26: =K25*K24 -> 0 | L26: =L25*L24 -> 0 | N26: =N25*N24 -> 0 | O26: =O25*O24 -> 0 | P26: =P25*P24 -> 0
A27: Wskaźnik CRM
A28: Wysokość premii CRM | B28: =B17*0.05 -> 320 | C28: =C17*0.05 -> 320 | D28: =D17*0.05 -> 320 | F28: =F18*0.05 -> 350 | G28: =G18*0.05 -> 350 | H28: =H18*0.05 -> 350 | J28: =J18*0.05 -> 350 | K28: =K18*0.05 -> 350 | L28: =L18*0.05 -> 350 | N28: =N18*0.05 -> 350 | O28: =O18*0.05 -> 350 | P28: =P18*0.05 -> 350
A29: Mnożnik premii Wskaźnik CRM | B29: 1 | C29: 1 | D29: 1 | F29: 1 | G29: 1 | H29: 1
A30: Premia miesięczna za Wskaźnik CRM | B30: =B29*B28 -> 320 | C30: =C29*C28 -> 320 | D30: =D29*D28 -> 320 | F30: =F29*F28 -> 350 | G30: =G29*G28 -> 350 | H30: =H29*H28 -> 350 | J30: =J29*J28 -> 0 | K30: =K29*K28 -> 0 | L30: =L29*L28 -> 0 | N30: =N29*N28 -> 0 | O30: =O29*O28 -> 0 | P30: =P29*P28 -> 0
A31: Suma Premii miesięcznych | B31: =B26+B30 -> 2560 | C31: =C26+C30 -> 2560 | D31: =D26+D30 -> 2560 | F31: =F26+F30 -> 3087.7682 | G31: =G26+G30 -> 3087.7682 | H31: =H26+H30 -> 3087.7682 | J31: =J26+J30 -> 0 | K31: =K26+K30 -> 0 | L31: =L26+L30 -> 0 | N31: =N26+N30 -> 0 | O31: =O26+O30 -> 0 | P31: =P26+P30 -> 0
A32: Wskaźnik Premia Kwartalna Marża | B32: =D5 -> 226000 | F32: =H5 -> 257667.12 | J32: =L5 -> 257667.12 | N32: =P5 -> 257667.12
A33: Realizacja Wskaźnika Premia Kwartalna | B33: =D7 -> 240082.66 | F33: =H7 -> 260326.21 | J33: =L7 -> 0 | N33: =P7 -> 0
A34: Poziom realizacji Wskaźnika Premia Kwartalna | B34: =B33/B32 -> 1.0623126 | F34: =F33/F32 -> 1.0103199 | J34: =J33/J32 -> 0 | N34: =N33/N32 -> 0
A35: Wysokość premii kwartalnej. | B35: =D17 -> 6400 | F35: =H18 -> 7000 | J35: =L18 -> 7000 | N35: =P18 -> 7000
A36: Mnożnik premii kwartalnej | B36: =IF(B34<100%,0,IF(B34<105%,0.5,IF(B34<110%,0.7,1))) -> 0.7 | F36: =IF(F34<100%,0,IF(F34<105%,0.5,IF(F34<110%,0.7,1))) -> 0.5 | J36: =IF(J34<100%,0,IF(J34<105%,0.5,IF(J34<110%,0.7,1))) -> 0 | N36: =IF(N34<100%,0,IF(N34<105%,0.5,IF(N34<110%,0.7,1))) -> 0
A37: Premia kwartalna | B37: =B36*B35 -> 4480 | F37: =F36*F35 -> 3500 | J37: =J36*J35 -> 0 | N37: =N36*N35 -> 0
A39: Raport za miesiąc: | B39: styczeń | C39: luty | D39: marzec | E39: Suma | F39: kwiecień | G39: maj | H39: czerwiec | I39: Suma | J39: lipiec | K39: sierpień | L39: wrzesień | M39: Suma | N39: paździer. | O39: listopad | P39: grudzień | Q39: Suma | R39: Suma
A40: Ilość nowych Klientów: | E40: =SUM(B40:D40) -> 0 | I40: =SUM(F40:H40) -> 0 | M40: =SUM(J40:L40) -> 0 | Q40: =SUM(N40:P40) -> 0 | R40: =I40+M40+Q40+E40 -> 0
A41: Ilość Podmiotów na etapie współpracy Klient:
A42: Ilość Podmiotów na etapie współpracy Handlowy:
A43: Ilość Podmiotów na etapie współpracy Klient nieaktywny:
A44: Ilość Podmiotów pod opieką:
A45: Ilość sprzedanych drukarek: | E45: =SUM(B45:D45) -> 0 | I45: =SUM(F45:H45) -> 0 | M45: =SUM(J45:L45) -> 0 | Q45: =SUM(N45:P45) -> 0 | R45: =I45+M45+Q45+E45 -> 0
A46: Ilość ofert dodanych w danym miesiącu: | E46: =SUM(B46:D46) -> 0 | I46: =SUM(F46:H46) -> 0 | M46: =SUM(J46:L46) -> 0 | Q46: =SUM(N46:P46) -> 0 | R46: =I46+M46+Q46+E46 -> 0
A47: Ilość ofert oczekujących na decyzję kontrahenta:
A48: Ilość zaakceptowanych ofert przez kontrahenta: | E48: =SUM(B48:D48) -> 0 | I48: =SUM(F48:H48) -> 0 | M48: =SUM(J48:L48) -> 0 | Q48: =SUM(N48:P48) -> 0 | R48: =I48+M48+Q48+E48 -> 0
A49: Ilość odrzuconych ofert przez kontrahenta: | E49: =SUM(B49:D49) -> 0 | I49: =SUM(F49:H49) -> 0 | M49: =SUM(J49:L49) -> 0 | Q49: =SUM(N49:P49) -> 0 | R49: =I49+M49+Q49+E49 -> 0
A50: Ilość przekazanych podmiotów: | E50: =SUM(B50:D50) -> 0 | I50: =SUM(F50:H50) -> 0 | M50: =SUM(J50:L50) -> 0 | Q50: =SUM(N50:P50) -> 0 | R50: =I50+M50+Q50+E50 -> 0
A51: Ilość odebranych podmiotów (zmiana prowadzącego): | E51: =SUM(B51:D51) -> 0 | I51: =SUM(F51:H51) -> 0 | M51: =SUM(J51:L51) -> 0 | Q51: =SUM(N51:P51) -> 0 | R51: =I51+M51+Q51+E51 -> 0
A52: Ilość spotkań z Klientami: | E52: =SUM(B52:D52) -> 0 | I52: =SUM(F52:H52) -> 0 | M52: =SUM(J52:L52) -> 0 | Q52: =SUM(N52:P52) -> 0 | R52: =I52+M52+Q52+E52 -> 0
A53: Ilość aktualnie otwartych wdrożeń:
A54: Ilość wdrożeń dodanych w danym miesiącu: | E54: =SUM(B54:D54) -> 0 | I54: =SUM(F54:H54) -> 0 | M54: =SUM(J54:L54) -> 0 | Q54: =SUM(N54:P54) -> 0 | R54: =I54+M54+Q54+E54 -> 0
A55: Ilość wdrożeń zamkniętych pozytywnie w danym mcu: | E55: =SUM(B55:D55) -> 0 | I55: =SUM(F55:H55) -> 0 | M55: =SUM(J55:L55) -> 0 | Q55: =SUM(N55:P55) -> 0 | R55: =I55+M55+Q55+E55 -> 0
A56: Ilość wdrożeń zamkniętych negatywnie w danym mcu: | E56: =SUM(B56:D56) -> 0 | I56: =SUM(F56:H56) -> 0 | M56: =SUM(J56:L56) -> 0 | Q56: =SUM(N56:P56) -> 0 | R56: =I56+M56+Q56+E56 -> 0
A57: Ilość aktualnie odłożonych wdrożeń:

Sheet PIOTR
A1: Piotr Choma | B1: PLAN I KW Piotr Choma | F1: PLAN II KW Piotr Choma | J1: PLAN III KW Piotr Choma | N1: PLAN IV KW Piotr Choma
A2: miesiąc | B2: styczeń | C2: luty | D2: marzec | E2: KW I | F2: kwiecień | G2: maj | H2: czerwiec | I2: KW II | J2: lipiec | K2: sierpień | L2: wrzesień | M2: KW III | N2: październik | O2: listopad | P2: grudzień | Q2: KW IV | R2: suma ROK
I3: 468248.65 | R3: =Target!O6 -> 930001.3
A4: Indywidualny Plan Sprzedaży Marża | B4: =Target!C6 -> 67800 | C4: =Target!D6 -> 75333.333 | D4: =Target!E6 -> 82866.667 | E4: =SUM(B4:D4) -> 226000 | F4: =Target!F6 -> 70400.13 | G4: =Target!G6 -> 78222.367 | H4: =Target!H6 -> 86044.603 | I4: =SUM(F4:H4) -> 234667.1 | J4: =Target!I6 -> 70400.13 | K4: =Target!J6 -> 78222.367 | L4: =Target!K6 -> 86044.603 | M4: =SUM(J4:L4) -> 234667.1 | N4: =Target!L6 -> 70400.13 | O4: =Target!M6 -> 78222.367 | P4: =Target!N6 -> 86044.603 | Q4: =SUM(N4:P4) -> 234667.1 | R4: =E4+I4+M4+Q4 -> 930001.3
A5: Sumaryczny Indywidulany Plan Sprzedaży Marża | B5: =B4 -> 67800 | C5: =C4+B5 -> 143133.33 | D5: =D4+C5 -> 226000 | F5: =F4 -> 70400.13 | G5: =G4+F5 -> 148622.5 | H5: =H4+G5 -> 234667.1 | J5: =J4 -> 70400.13 | K5: =K4+J5 -> 148622.5 | L5: =L4+K5 -> 234667.1 | N5: =N4 -> 70400.13 | O5: =O4+N5 -> 148622.5 | P5: =P4+O5 -> 234667.1 | R5: =R6/R4 -> 0.5109496
A6: Miesięczna realizacja Planu Sprzedaży Marża | B6: =SUMIF(I!A:A,$A$1,I!I:I) -> 74516.641 | C6: =SUMIF(II!A:A,$A$1,II!I:I) -> 79292.469 | D6: =SUMIF(III!A:A,$A$1,III!I:I) -> 61748.938 | E6: =SUM(B6:D6) -> 215558.05 | F6: =SUMIF(IV!A:A,$A$1,IV!I:I) -> 98031.68 | G6: =SUMIF(V!A:A,$A$1,V!I:I) -> 87473.93 | H6: =SUMIF(VI!A:A,$A$1,VI!I:I) -> 74120.133 | I6: =SUM(F6:H6) -> 259625.74 | J6: =SUMIF(VII!A:A,$A$1,VII!I:I) -> 0 | K6: =SUMIF(VIII!A:A,$A$1,VIII!I:I) -> 0 | L6: =SUMIF(IX!A:A,$A$1,IX!I:I) -> 0 | M6: =SUM(J6:L6) -> 0 | N6: =SUMIF(X!A:A,$A$1,X!I:I) -> 0 | O6: =SUMIF(XI!A:A,$A$1,XI!I:I) -> 0 | P6: =SUMIF(XII!A:A,$A$1,XII!I:I) -> 0 | Q6: =SUM(N6:P6) -> 0 | R6: =E6+I6+M6+Q6 -> 475183.79
A7: Sumaryczna realizacja Planu Sprzedaży Marża | B7: =B6 -> 74516.641 | C7: =C6+B7 -> 153809.11 | D7: =D6+C7 -> 215558.05 | F7: =F6 -> 98031.68 | G7: =G6+F7 -> 185505.61 | H7: =H6+G7 -> 259625.74 | I7: =SUM(E6,I6) -> 475183.79 | J7: =J6 -> 0 | K7: =K6+J7 -> 0 | L7: =L6+K7 -> 0 | M7: =SUM(E6,I6,M6)/3 -> 158394.6 | N7: =N6 -> 0 | O7: =O6+N7 -> 0 | P7: =P6+O7 -> 0 | R7: =R3-R4 -> 0
A8: Wysokość % zrealizowania IPSM miesięcznego | B8: =B6/B4 -> 1.0990655 | C8: =C6/C4 -> 1.0525549 | D8: =D6/D4 -> 0.74516015 | F8: =F6/F4 -> 1.3924929 | G8: =G6/G4 -> 1.1182726 | H8: =H6/H4 -> 0.86141524 | I8: =I7/I3-1 -> 0.014810804 | J8: =J6/J4 -> 0 | K8: =K6/K4 -> 0 | L8: =L6/L4 -> 0 | N8: =N6/N4 -> 0 | O8: =O6/O4 -> 0 | P8: =P6/P4 -> 0 | R8: =R7*100/R3 -> 0
A9: Wysokość % zrealizowania IPSM sumarycznego | B9: =B7/B5 -> 1.0990655 | C9: =C7/C5 -> 1.0745862 | D9: =D7/D5 -> 0.95379667 | F9: =F7/F5 -> 1.3924929 | G9: =G7/G5 -> 1.2481664 | H9: =H7/H5 -> 1.1063577 | I9: =I7-I3 -> 6935.1391 | J9: =J7/J5 -> 0 | K9: =K7/K5 -> 0 | L9: =L7/L5 -> 0 | N9: =N7/N5 -> 0 | O9: =O7/O5 -> 0 | P9: =P7/P5 -> 0
A10: Różnica | B10: =B7-B5 -> 6716.6406 | C10: =C7-C5 -> 10675.776 | D10: =D7-D5 -> -10441.953 | F10: =F7-F5 -> 27631.55 | G10: =G7-G5 -> 36883.113 | H10: =H7-H5 -> 24958.642 | J10: =J7-J5 -> -70400.13 | K10: =K7-K5 -> -148622.5 | L10: =L7-L5 -> -234667.1 | N10: =N7-N5 -> -70400.13 | O10: =O7-O5 -> -148622.5 | P10: =P7-P5 -> -234667.1
A11: Miesięczny Obrót | B11: =SUMIF(I!A:A,$A$1,I!G:G) -> 234790.69 | C11: =SUMIF(II!A:A,$A$1,II!G:G) -> 265468.94 | D11: =SUMIF(III!A:A,$A$1,III!G:G) -> 199307.95 | E11: =SUM(B11:D11) -> 699567.58 | F11: =SUMIF(IV!A:A,$A$1,IV!G:G) -> 312540.22 | G11: =SUMIF(V!A:A,$A$1,V!G:G) -> 295717.25 | H11: =SUMIF(VI!A:A,$A$1,VI!G:G) -> 247289.08 | I11: =SUM(F11:H11) -> 855546.55 | J11: =SUMIF(VII!A:A,$A$1,VII!G:G) -> 0 | K11: =SUMIF(VIII!A:A,$A$1,VIII!G:G) -> 0 | L11: =SUMIF(IX!A:A,$A$1,IX!G:G) -> 0 | M11: =SUM(J11:L11) -> 0 | N11: =SUMIF(X!A:A,$A$1,X!G:G) -> 0 | O11: =SUMIF(XI!A:A,$A$1,XI!G:G) -> 0 | P11: =SUMIF(XII!A:A,$A$1,XII!G:G) -> 0 | Q11: =SUM(N11:P11) -> 0 | R11: =E11+I11+M11+Q11 -> 1555114.1
A12: Sumaryczny Obrót | B12: =B11 -> 234790.69 | C12: =C11+B12 -> 500259.62 | D12: =D11+C12 -> 699567.58 | F12: =F11 -> 312540.22 | G12: =G11+F12 -> 608257.47 | H12: =H11+G12 -> 855546.55 | J12: =J11 -> 0 | K12: =K11+J12 -> 0 | L12: =L11+K12 -> 0 | N12: =N11 -> 0 | O12: =O11+N12 -> 0 | P12: =P11+O12 -> 0
A13: Wysokość % Marży miesięcznej | B13: =B6/B11 -> 0.31737477 | C13: =C6/C11 -> 0.29868831 | D13: =D6/D11 -> 0.30981673 | F13: =F6/F11 -> 0.31366101 | G13: =G6/G11 -> 0.29580259 | H13: =H6/H11 -> 0.29973072 | J13: =J6/J11 -> #DIV/0! | K13: =K6/K11 -> #DIV/0! | L13: =L6/L11 -> #DIV/0! | N13: =N6/N11 -> #DIV/0! | O13: =O6/O11 -> #DIV/0! | P13: =P6/P11 -> #DIV/0!
A14: Wysokość % Marży sumarycznej | B14: =B7/B12 -> 0.31737477 | C14: =C7/C12 -> 0.30745857 | D14: =D7/D12 -> 0.30813041 | F14: =F7/F12 -> 0.31366101 | G14: =G7/G12 -> 0.30497876 | H14: =H7/H12 -> 0.30346186 | J14: =J7/J12 -> #DIV/0! | K14: =K7/K12 -> #DIV/0! | L14: =L7/L12 -> #DIV/0! | N14: =N7/N12 -> #DIV/0! | O14: =O7/O12 -> #DIV/0! | P14: =P7/P12 -> #DIV/0!
A16: PREMIE | B16: PREMIE
A17: Wynagrodzenie zasadnicze | B17: =Target!O34 -> 7200 | C17: =Target!O34 -> 7200 | D17: =Target!O34 -> 7200 | F17: =Target!O43 -> 7500 | G17: =Target!O43 -> 7500 | H17: =Target!O43 -> 7500 | J17: =Target!O53 -> 7500 | K17: =Target!O53 -> 7500 | L17: =Target!O53 -> 7500 | N17: =Target!O62 -> 7500 | O17: =Target!O62 -> 7500 | P17: =Target!O62 -> 7500
A18: Wysokość Kwoty bazowej na dany okres | F18: =Target!N40 -> 7000 | G18: =Target!N40 -> 7000 | H18: =Target!N40 -> 7000 | J18: =Target!N50 -> 7000 | K18: =Target!N50 -> 7000 | L18: =Target!N50 -> 7000 | N18: =Target!N59 -> 7000 | O18: =Target!N59 -> 7000 | P18: =Target!N59 -> 7000
A19: Udział % IPSM w PSM | F19: =Target!J43 -> 0.25442736 | G19: =Target!J43 -> 0.25442736 | H19: =Target!J43 -> 0.25442736 | J19: =Target!J53 -> 0.25442736 | K19: =Target!J53 -> 0.25442736 | L19: =Target!J53 -> 0.25442736 | N19: =Target!J62 -> 0.25442736 | O19: =Target!J62 -> 0.25442736 | P19: =Target!J62 -> 0.25442736
A20: Wysokość Indywidualnej Kwoty bazowej | F20: =Target!M43 -> 7123.966 | G20: =Target!M43 -> 7123.966 | H20: =Target!M43 -> 7123.966 | J20: =Target!M53 -> 7123.966 | K20: =Target!M53 -> 7123.966 | L20: =Target!M53 -> 7123.966 | N20: =Target!M62 -> 7123.966 | O20: =Target!M62 -> 7123.966 | P20: =Target!M62 -> 7123.966
A21: Sumaryczny Indywidualny Plan Sprzedaży Marża | B21: =B5 -> 67800 | C21: =C5 -> 143133.33 | D21: =D5 -> 226000 | F21: =F5 -> 70400.13 | G21: =G5 -> 148622.5 | H21: =H5 -> 234667.1 | J21: =J5 -> 70400.13 | K21: =K5 -> 148622.5 | L21: =L5 -> 234667.1 | N21: =N5 -> 70400.13 | O21: =O5 -> 148622.5 | P21: =P5 -> 234667.1
A22: Miesięczna realizacja Planu Sprzedaży Marża | B22: =B7 -> 74516.641 | C22: =C7 -> 153809.11 | D22: =D7 -> 215558.05 | F22: =F7 -> 98031.68 | G22: =G7 -> 185505.61 | H22: =H7 -> 259625.74 | J22: =J7 -> 0 | K22: =K7 -> 0 | L22: =L7 -> 0 | N22: =N7 -> 0 | O22: =O7 -> 0 | P22: =P7 -> 0
A23: Wysokość % zrealizowania IPSM sumarycznego | B23: =B22/B21 -> 1.0990655 | C23: =C22/C21 -> 1.0745862 | D23: =D22/D21 -> 0.95379667 | F23: =F22/F21 -> 1.3924929 | G23: =G22/G21 -> 1.2481664 | H23: =H22/H21 -> 1.1063577 | J23: =J22/J21 -> 0 | K23: =K22/K21 -> 0 | L23: =L22/L21 -> 0 | N23: =N22/N21 -> 0 | O23: =O22/O21 -> 0 | P23: =P22/P21 -> 0
A24: Wysokość premii Wskaźnik Sprzedaży Marża | B24: =B17*0.35 -> 2520 | C24: =C17*0.35 -> 2520 | D24: =D17*0.35 -> 2520 | F24: =F20*0.35 -> 2493.3881 | G24: =G20*0.35 -> 2493.3881 | H24: =H20*0.35 -> 2493.3881 | J24: =J20*0.35 -> 2493.3881 | K24: =K20*0.35 -> 2493.3881 | L24: =L20*0.35 -> 2493.3881 | N24: =N20*0.35 -> 2493.3881 | O24: =O20*0.35 -> 2493.3881 | P24: =P20*0.35 -> 2493.3881
A25: Mnożnik premii miesięcznej Wskaźnika Sprzedaży Marża | B25: =IF(B23<80%,0,IF(B23<90%,0.5,IF(B23<95%,0.75,1))) -> 1 | C25: =IF(C23<80%,0,IF(C23<90%,0.5,IF(C23<95%,0.75,1))) -> 1 | D25: =IF(D23<80%,0,IF(D23<90%,0.5,IF(D23<95%,0.75,1))) -> 1 | F25: =IF(F23<80%,0,IF(F23<90%,0.5,IF(F23<95%,0.75,1))) -> 1 | G25: =IF(G23<80%,0,IF(G23<90%,0.5,IF(G23<95%,0.75,1))) -> 1 | H25: =IF(H23<80%,0,IF(H23<90%,0.5,IF(H23<95%,0.75,1))) -> 1 | J25: =IF(J23<80%,0,IF(J23<90%,0.5,IF(J23<95%,0.75,1))) -> 0 | K25: =IF(K23<80%,0,IF(K23<90%,0.5,IF(K23<95%,0.75,1))) -> 0 | L25: =IF(L23<80%,0,IF(L23<90%,0.5,IF(L23<95%,0.75,1))) -> 0 | N25: =IF(N23<80%,0,IF(N23<90%,0.5,IF(N23<95%,0.75,1))) -> 0 | O25: =IF(O23<80%,0,IF(O23<90%,0.5,IF(O23<95%,0.75,1))) -> 0 | P25: =IF(P23<80%,0,IF(P23<90%,0.5,IF(P23<95%,0.75,1))) -> 0
A26: Premia miesięczna za Wskaźnik Sprzedaży Marża | B26: =B25*B24 -> 2520 | C26: =C25*C24 -> 2520 | D26: =D25*D24 -> 2520 | F26: =F25*F24 -> 2493.3881 | G26: =G25*G24 -> 2493.3881 | H26: =H25*H24 -> 2493.3881 | J26: =J25*J24 -> 0 | K26: =K25*K24 -> 0 | L26: =L25*L24 -> 0 | N26: =N25*N24 -> 0 | O26: =O25*O24 -> 0 | P26: =P25*P24 -> 0
A27: Wskaźnik CRM
A28: Wysokość premii CRM | B28: =B17*0.05 -> 360 | C28: =C17*0.05 -> 360 | D28: =D17*0.05 -> 360 | F28: =F18*0.05 -> 350 | G28: =G18*0.05 -> 350 | H28: =H18*0.05 -> 350 | J28: =J18*0.05 -> 350 | K28: =K18*0.05 -> 350 | L28: =L18*0.05 -> 350 | N28: =N18*0.05 -> 350 | O28: =O18*0.05 -> 350 | P28: =P18*0.05 -> 350
A29: Mnożnik premii Wskaźnik CRM | B29: 1 | C29: 1 | D29: 1 | F29: 1 | G29: 1 | H29: 1
A30: Premia miesięczna za Wskaźnik CRM | B30: =B29*B28 -> 360 | C30: =C29*C28 -> 360 | D30: =D29*D28 -> 360 | F30: =F29*F28 -> 350 | G30: =G29*G28 -> 350 | H30: =H29*H28 -> 350 | J30: =J29*J28 -> 0 | K30: =K29*K28 -> 0 | L30: =L29*L28 -> 0 | N30: =N29*N28 -> 0 | O30: =O29*O28 -> 0 | P30: =P29*P28 -> 0
A31: Suma Premii miesięcznych | B31: =B26+B30 -> 2880 | C31: =C26+C30 -> 2880 | D31: =D26+D30 -> 2880 | F31: =F26+F30 -> 2843.3881 | G31: =G26+G30 -> 2843.3881 | H31: =H26+H30 -> 2843.3881 | J31: =J26+J30 -> 0 | K31: =K26+K30 -> 0 | L31: =L26+L30 -> 0 | N31: =N26+N30 -> 0 | O31: =O26+O30 -> 0 | P31: =P26+P30 -> 0
A32: Wskaźnik Premia Kwartalna Marża | B32: =D5 -> 226000 | F32: =H5 -> 234667.1 | J32: =L5 -> 234667.1 | N32: =P5 -> 234667.1
A33: Realizacja Wskaźnika Premia Kwartalna | B33: =D7 -> 215558.05 | F33: =H7 -> 259625.74 | J33: =L7 -> 0 | N33: =P7 -> 0
A34: Poziom realizacji Wskaźnika Premia Kwartalna | B34: =B33/B32 -> 0.95379667 | F34: =F33/F32 -> 1.1063577 | J34: =J33/J32 -> 0 | N34: =N33/N32 -> 0
A35: Wysokość premii kwartalnej. | B35: =D17 -> 7200 | F35: =H18 -> 7000 | J35: =L18 -> 7000 | N35: =P18 -> 7000
A36: Mnożnik premii kwartalnej | B36: =IF(B34<100%,0,IF(B34<105%,0.5,IF(B34<110%,0.7,1))) -> 0 | F36: =IF(F34<100%,0,IF(F34<105%,0.5,IF(F34<110%,0.7,1))) -> 1 | J36: =IF(J34<100%,0,IF(J34<105%,0.5,IF(J34<110%,0.7,1))) -> 0 | N36: =IF(N34<100%,0,IF(N34<105%,0.5,IF(N34<110%,0.7,1))) -> 0
A37: Premia kwartalna | B37: =B36*B35 -> 0 | F37: =F36*F35 -> 7000 | J37: =J36*J35 -> 0 | N37: =N36*N35 -> 0
A39: Raport za miesiąc: | B39: styczeń | C39: luty | D39: marzec | E39: Suma | F39: kwiecień | G39: maj | H39: czerwiec | I39: Suma | J39: lipiec | K39: sierpień | L39: wrzesień | M39: Suma | N39: paździer. | O39: listopad | P39: grudzień | Q39: Suma | R39: Suma
A40: Ilość nowych Klientów: | E40: =SUM(B40:D40) -> 0 | I40: =SUM(F40:H40) -> 0 | M40: =SUM(J40:L40) -> 0 | Q40: =SUM(N40:P40) -> 0 | R40: =I40+M40+Q40+E40 -> 0
A41: Ilość Podmiotów na etapie współpracy Klient:
A42: Ilość Podmiotów na etapie współpracy Handlowy:
A43: Ilość Podmiotów na etapie współpracy Klient nieaktywny:
A44: Ilość Podmiotów pod opieką:
A45: Ilość sprzedanych drukarek: | E45: =SUM(B45:D45) -> 0 | I45: =SUM(F45:H45) -> 0 | M45: =SUM(J45:L45) -> 0 | Q45: =SUM(N45:P45) -> 0 | R45: =I45+M45+Q45+E45 -> 0
A46: Ilość ofert dodanych w danym miesiącu: | E46: =SUM(B46:D46) -> 0 | I46: =SUM(F46:H46) -> 0 | M46: =SUM(J46:L46) -> 0 | Q46: =SUM(N46:P46) -> 0 | R46: =I46+M46+Q46+E46 -> 0
A47: Ilość ofert oczekujących na decyzję kontrahenta:
A48: Ilość zaakceptowanych ofert przez kontrahenta: | E48: =SUM(B48:D48) -> 0 | I48: =SUM(F48:H48) -> 0 | M48: =SUM(J48:L48) -> 0 | Q48: =SUM(N48:P48) -> 0 | R48: =I48+M48+Q48+E48 -> 0
A49: Ilość odrzuconych ofert przez kontrahenta: | E49: =SUM(B49:D49) -> 0 | I49: =SUM(F49:H49) -> 0 | M49: =SUM(J49:L49) -> 0 | Q49: =SUM(N49:P49) -> 0 | R49: =I49+M49+Q49+E49 -> 0
A50: Ilość przekazanych podmiotów: | E50: =SUM(B50:D50) -> 0 | I50: =SUM(F50:H50) -> 0 | M50: =SUM(J50:L50) -> 0 | Q50: =SUM(N50:P50) -> 0 | R50: =I50+M50+Q50+E50 -> 0
A51: Ilość odebranych podmiotów (zmiana prowadzącego): | E51: =SUM(B51:D51) -> 0 | I51: =SUM(F51:H51) -> 0 | M51: =SUM(J51:L51) -> 0 | Q51: =SUM(N51:P51) -> 0 | R51: =I51+M51+Q51+E51 -> 0
A52: Ilość spotkań z Klientami: | E52: =SUM(B52:D52) -> 0 | I52: =SUM(F52:H52) -> 0 | M52: =SUM(J52:L52) -> 0 | Q52: =SUM(N52:P52) -> 0 | R52: =I52+M52+Q52+E52 -> 0
A53: Ilość aktualnie otwartych wdrożeń:
A54: Ilość wdrożeń dodanych w danym miesiącu: | E54: =SUM(B54:D54) -> 0 | I54: =SUM(F54:H54) -> 0 | M54: =SUM(J54:L54) -> 0 | Q54: =SUM(N54:P54) -> 0 | R54: =I54+M54+Q54+E54 -> 0
A55: Ilość wdrożeń zamkniętych pozytywnie w danym mcu: | E55: =SUM(B55:D55) -> 0 | I55: =SUM(F55:H55) -> 0 | M55: =SUM(J55:L55) -> 0 | Q55: =SUM(N55:P55) -> 0 | R55: =I55+M55+Q55+E55 -> 0
A56: Ilość wdrożeń zamkniętych negatywnie w danym mcu: | E56: =SUM(B56:D56) -> 0 | I56: =SUM(F56:H56) -> 0 | M56: =SUM(J56:L56) -> 0 | Q56: =SUM(N56:P56) -> 0 | R56: =I56+M56+Q56+E56 -> 0
A57: Ilość aktualnie odłożonych wdrożeń:

Sheet KRZYSZTOF
A1: Krzysztof Szwajdych | B1: PLAN I KW Krzysztof Szwajdych | F1: PLAN II KW Krzysztof Szwajdych | J1: PLAN III KW Krzysztof Szwajdych | N1: PLAN IV KW Krzysztof Szwajdych
A2: miesiąc | B2: styczeń | C2: luty | D2: marzec | E2: KW I | F2: kwiecień | G2: maj | H2: czerwiec | I2: KW II | J2: lipiec | K2: sierpień | L2: wrzesień | M2: KW III | N2: październik | O2: listopad | P2: grudzień | Q2: KW IV | R2: suma ROK
I3: 387652.27 | R3: =Target!O7 -> 791999.23
A4: Indywidualny Plan Sprzedaży Marża | B4: =Target!C7 -> 56100 | C4: =Target!D7 -> 62333.333 | D4: =Target!E7 -> 68566.667 | E4: =SUM(B4:D4) -> 187000 | F4: =Target!F7 -> 60499.923 | G4: =Target!G7 -> 67222.137 | H4: =Target!H7 -> 73944.35 | I4: =SUM(F4:H4) -> 201666.41 | J4: =Target!I7 -> 60499.923 | K4: =Target!J7 -> 67222.137 | L4: =Target!K7 -> 73944.35 | M4: =SUM(J4:L4) -> 201666.41 | N4: =Target!L7 -> 60499.923 | O4: =Target!M7 -> 67222.137 | P4: =Target!N7 -> 73944.35 | Q4: =SUM(N4:P4) -> 201666.41 | R4: =E4+I4+M4+Q4 -> 791999.23
A5: Sumaryczny Indywidulany Plan Sprzedaży Marża | B5: =B4 -> 56100 | C5: =C4+B5 -> 118433.33 | D5: =D4+C5 -> 187000 | F5: =F4 -> 60499.923 | G5: =G4+F5 -> 127722.06 | H5: =H4+G5 -> 201666.41 | J5: =J4 -> 60499.923 | K5: =K4+J5 -> 127722.06 | L5: =L4+K5 -> 201666.41 | N5: =N4 -> 60499.923 | O5: =O4+N5 -> 127722.06 | P5: =P4+O5 -> 201666.41 | R5: =R6/R4 -> 0.45845347
A6: Miesięczna realizacja Planu Sprzedaży Marża | B6: =SUMIF(I!A:A,$A$1,I!I:I) -> 64175.684 | C6: =SUMIF(II!A:A,$A$1,II!I:I) -> 85859.203 | D6: =SUMIF(III!A:A,$A$1,III!I:I) -> 47570.598 | E6: =SUM(B6:D6) -> 197605.48 | F6: =SUMIF(IV!A:A,$A$1,IV!I:I) -> 63191.297 | G6: =SUMIF(V!A:A,$A$1,V!I:I) -> 63078.109 | H6: =SUMIF(VI!A:A,$A$1,VI!I:I) -> 39219.906 | I6: =SUM(F6:H6) -> 165489.31 | J6: =SUMIF(VII!A:A,$A$1,VII!I:I) -> 0 | K6: =SUMIF(VIII!A:A,$A$1,VIII!I:I) -> 0 | L6: =SUMIF(IX!A:A,$A$1,IX!I:I) -> 0 | M6: =SUM(J6:L6) -> 0 | N6: =SUMIF(X!A:A,$A$1,X!I:I) -> 0 | O6: =SUMIF(XI!A:A,$A$1,XI!I:I) -> 0 | P6: =SUMIF(XII!A:A,$A$1,XII!I:I) -> 0 | Q6: =SUM(N6:P6) -> 0 | R6: =E6+I6+M6+Q6 -> 363094.8
A7: Sumaryczna realizacja Planu Sprzedaży Marża | B7: =B6 -> 64175.684 | C7: =C6+B7 -> 150034.89 | D7: =D6+C7 -> 197605.48 | F7: =F6 -> 63191.297 | G7: =G6+F7 -> 126269.41 | H7: =H6+G7 -> 165489.31 | I7: =SUM(E6,I6) -> 363094.8 | J7: =J6 -> 0 | K7: =K6+J7 -> 0 | L7: =L6+K7 -> 0 | M7: =SUM(E6,I6,M6)/3 -> 121031.6 | N7: =N6 -> 0 | O7: =O6+N7 -> 0 | P7: =P6+O7 -> 0 | R7: =R3-R4 -> 0
A8: Wysokość % zrealizowania IPSM miesięcznego | B8: =B6/B4 -> 1.1439516 | C8: =C6/C4 -> 1.3774204 | D8: =D6/D4 -> 0.69378606 | F8: =F6/F4 -> 1.0444856 | G8: =G6/G4 -> 0.93835323 | H8: =H6/H4 -> 0.5303976 | I8: =I7/I3-1 -> -0.06334923 | J8: =J6/J4 -> 0 | K8: =K6/K4 -> 0 | L8: =L6/L4 -> 0 | N8: =N6/N4 -> 0 | O8: =O6/O4 -> 0 | P8: =P6/P4 -> 0 | R8: =R7*100/R3 -> 0
A9: Wysokość % zrealizowania IPSM sumarycznego | B9: =B7/B5 -> 1.1439516 | C9: =C7/C5 -> 1.2668299 | D9: =D7/D5 -> 1.0567138 | F9: =F7/F5 -> 1.0444856 | G9: =G7/G5 -> 0.98862645 | H9: =H7/H5 -> 0.82060921 | I9: =I7-I3 -> -24557.473 | J9: =J7/J5 -> 0 | K9: =K7/K5 -> 0 | L9: =L7/L5 -> 0 | N9: =N7/N5 -> 0 | O9: =O7/O5 -> 0 | P9: =P7/P5 -> 0
A10: Różnica | B10: =B7-B5 -> 8075.6836 | C10: =C7-C5 -> 31601.553 | D10: =D7-D5 -> 10605.484 | F10: =F7-F5 -> 2691.3739 | G10: =G7-G5 -> -1452.6534 | H10: =H7-H5 -> -36177.097 | J10: =J7-J5 -> -60499.923 | K10: =K7-K5 -> -127722.06 | L10: =L7-L5 -> -201666.41 | N10: =N7-N5 -> -60499.923 | O10: =O7-O5 -> -127722.06 | P10: =P7-P5 -> -201666.41
A11: Miesięczny Obrót | B11: =SUMIF(I!A:A,$A$1,I!G:G) -> 166582.27 | C11: =SUMIF(II!A:A,$A$1,II!G:G) -> 198400.05 | D11: =SUMIF(III!A:A,$A$1,III!G:G) -> 135286.41 | E11: =SUM(B11:D11) -> 500268.72 | F11: =SUMIF(IV!A:A,$A$1,IV!G:G) -> 201594.3 | G11: =SUMIF(V!A:A,$A$1,V!G:G) -> 150974.8 | H11: =SUMIF(VI!A:A,$A$1,VI!G:G) -> 100806.56 | I11: =SUM(F11:H11) -> 453375.66 | J11: =SUMIF(VII!A:A,$A$1,VII!G:G) -> 0 | K11: =SUMIF(VIII!A:A,$A$1,VIII!G:G) -> 0 | L11: =SUMIF(IX!A:A,$A$1,IX!G:G) -> 0 | M11: =SUM(J11:L11) -> 0 | N11: =SUMIF(X!A:A,$A$1,X!G:G) -> 0 | O11: =SUMIF(XI!A:A,$A$1,XI!G:G) -> 0 | P11: =SUMIF(XII!A:A,$A$1,XII!G:G) -> 0 | Q11: =SUM(N11:P11) -> 0 | R11: =E11+I11+M11+Q11 -> 953644.38
A12: Sumaryczny Obrót | B12: =B11 -> 166582.27 | C12: =C11+B12 -> 364982.31 | D12: =D11+C12 -> 500268.72 | F12: =F11 -> 201594.3 | G12: =G11+F12 -> 352569.09 | H12: =H11+G12 -> 453375.66 | J12: =J11 -> 0 | K12: =K11+J12 -> 0 | L12: =L11+K12 -> 0 | N12: =N11 -> 0 | O12: =O11+N12 -> 0 | P12: =P11+O12 -> 0
A13: Wysokość % Marży miesięcznej | B13: =B6/B11 -> 0.38524919 | C13: =C6/C11 -> 0.43275798 | D13: =D6/D11 -> 0.35162881 | F13: =F6/F11 -> 0.31345776 | G13: =G6/G11 -> 0.41780556 | H13: =H6/H11 -> 0.38906104 | J13: =J6/J11 -> #DIV/0! | K13: =K6/K11 -> #DIV/0! | L13: =L6/L11 -> #DIV/0! | N13: =N6/N11 -> #DIV/0! | O13: =O6/O11 -> #DIV/0! | P13: =P6/P11 -> #DIV/0!
A14: Wysokość % Marży sumarycznej | B14: =B7/B12 -> 0.38524919 | C14: =C7/C12 -> 0.4110744 | D14: =D7/D12 -> 0.39499868 | E14: - | F14: =F7/F12 -> 0.31345776 | G14: =G7/G12 -> 0.35814088 | H14: =H7/H12 -> 0.36501588 | J14: =J7/J12 -> #DIV/0! | K14: =K7/K12 -> #DIV/0! | L14: =L7/L12 -> #DIV/0! | N14: =N7/N12 -> #DIV/0! | O14: =O7/O12 -> #DIV/0! | P14: =P7/P12 -> #DIV/0!
A16: PREMIE | B16: PREMIE
A17: Wynagrodzenie zasadnicze | B17: =Target!O35 -> 6400 | C17: =Target!O35 -> 6400 | D17: =Target!O35 -> 6400 | F17: =Target!O44 -> 6800 | G17: =Target!O44 -> 6800 | H17: =Target!O44 -> 6800 | J17: =Target!O54 -> 6800 | K17: =Target!O54 -> 6800 | L17: =Target!O54 -> 6800 | N17: =Target!O63 -> 6800 | O17: =Target!O63 -> 6800 | P17: =Target!O63 -> 6800
A18: Wysokość Kwoty bazowej na dany okres | F18: =Target!N40 -> 7000 | G18: =Target!N40 -> 7000 | H18: =Target!N40 -> 7000 | J18: =Target!N50 -> 7000 | K18: =Target!N50 -> 7000 | L18: =Target!N50 -> 7000 | N18: =Target!N59 -> 7000 | O18: =Target!N59 -> 7000 | P18: =Target!N59 -> 7000
A19: Udział % IPSM w PSM | F19: =Target!J44 -> 0.21864783 | G19: =Target!J44 -> 0.21864783 | H19: =Target!J44 -> 0.21864783 | J19: =Target!J54 -> 0.21864783 | K19: =Target!J54 -> 0.21864783 | L19: =Target!J54 -> 0.21864783 | N19: =Target!J63 -> 0.21864783 | O19: =Target!J63 -> 0.21864783 | P19: =Target!J63 -> 0.21864783
A20: Wysokość Indywidualnej Kwoty bazowej | F20: =Target!M44 -> 6122.1392 | G20: =Target!M44 -> 6122.1392 | H20: =Target!M44 -> 6122.1392 | J20: =Target!M54 -> 6122.1392 | K20: =Target!M54 -> 6122.1392 | L20: =Target!M54 -> 6122.1392 | N20: =Target!M63 -> 6122.1392 | O20: =Target!M63 -> 6122.1392 | P20: =Target!M63 -> 6122.1392
A21: Sumaryczny Indywidualny Plan Sprzedaży Marża | B21: =B5 -> 56100 | C21: =C5 -> 118433.33 | D21: =D5 -> 187000 | F21: =F5 -> 60499.923 | G21: =G5 -> 127722.06 | H21: =H5 -> 201666.41 | J21: =J5 -> 60499.923 | K21: =K5 -> 127722.06 | L21: =L5 -> 201666.41 | N21: =N5 -> 60499.923 | O21: =O5 -> 127722.06 | P21: =P5 -> 201666.41
A22: Miesięczna realizacja Planu Sprzedaży Marża | B22: =B7 -> 64175.684 | C22: =C7 -> 150034.89 | D22: =D7 -> 197605.48 | F22: =F7 -> 63191.297 | G22: =G7 -> 126269.41 | H22: =H7 -> 165489.31 | J22: =J7 -> 0 | K22: =K7 -> 0 | L22: =L7 -> 0 | N22: =N7 -> 0 | O22: =O7 -> 0 | P22: =P7 -> 0
A23: Wysokość % zrealizowania IPSM sumarycznego | B23: =B22/B21 -> 1.1439516 | C23: =C22/C21 -> 1.2668299 | D23: =D22/D21 -> 1.0567138 | F23: =F22/F21 -> 1.0444856 | G23: =G22/G21 -> 0.98862645 | H23: =H22/H21 -> 0.82060921 | J23: =J22/J21 -> 0 | K23: =K22/K21 -> 0 | L23: =L22/L21 -> 0 | N23: =N22/N21 -> 0 | O23: =O22/O21 -> 0 | P23: =P22/P21 -> 0
A24: Wysokość premii Wskaźnik Sprzedaży Marża | B24: =B17*0.35 -> 2240 | C24: =C17*0.35 -> 2240 | D24: =D17*0.35 -> 2240 | F24: =F20*0.35 -> 2142.7487 | G24: =G20*0.35 -> 2142.7487 | H24: =H20*0.35 -> 2142.7487 | J24: =J20*0.35 -> 2142.7487 | K24: =K20*0.35 -> 2142.7487 | L24: =L20*0.35 -> 2142.7487 | N24: =N20*0.35 -> 2142.7487 | O24: =O20*0.35 -> 2142.7487 | P24: =P20*0.35 -> 2142.7487
A25: Mnożnik premii miesięcznej Wskaźnika Sprzedaży Marża | B25: =IF(B23<80%,0,IF(B23<90%,0.5,IF(B23<95%,0.75,1))) -> 1 | C25: =IF(C23<80%,0,IF(C23<90%,0.5,IF(C23<95%,0.75,1))) -> 1 | D25: =IF(D23<80%,0,IF(D23<90%,0.5,IF(D23<95%,0.75,1))) -> 1 | F25: =IF(F23<80%,0,IF(F23<90%,0.5,IF(F23<95%,0.75,1))) -> 1 | G25: =IF(G23<80%,0,IF(G23<90%,0.5,IF(G23<95%,0.75,1))) -> 1 | H25: =IF(H23<80%,0,IF(H23<90%,0.5,IF(H23<95%,0.75,1))) -> 0.5 | J25: =IF(J23<80%,0,IF(J23<90%,0.5,IF(J23<95%,0.75,1))) -> 0 | K25: =IF(K23<80%,0,IF(K23<90%,0.5,IF(K23<95%,0.75,1))) -> 0 | L25: =IF(L23<80%,0,IF(L23<90%,0.5,IF(L23<95%,0.75,1))) -> 0 | N25: =IF(N23<80%,0,IF(N23<90%,0.5,IF(N23<95%,0.75,1))) -> 0 | O25: =IF(O23<80%,0,IF(O23<90%,0.5,IF(O23<95%,0.75,1))) -> 0 | P25: =IF(P23<80%,0,IF(P23<90%,0.5,IF(P23<95%,0.75,1))) -> 0
A26: Premia miesięczna za Wskaźnik Sprzedaży Marża | B26: =B25*B24 -> 2240 | C26: =C25*C24 -> 2240 | D26: =D25*D24 -> 2240 | F26: =F25*F24 -> 2142.7487 | G26: =G25*G24 -> 2142.7487 | H26: =H25*H24 -> 1071.3744 | J26: =J25*J24 -> 0 | K26: =K25*K24 -> 0 | L26: =L25*L24 -> 0 | N26: =N25*N24 -> 0 | O26: =O25*O24 -> 0 | P26: =P25*P24 -> 0
A27: Wskaźnik CRM
A28: Wysokość premii CRM | B28: =B17*0.05 -> 320 | C28: =C17*0.05 -> 320 | D28: =D17*0.05 -> 320 | F28: =F18*0.05 -> 350 | G28: =G18*0.05 -> 350 | H28: =H18*0.05 -> 350 | J28: =J18*0.05 -> 350 | K28: =K18*0.05 -> 350 | L28: =L18*0.05 -> 350 | N28: =N18*0.05 -> 350 | O28: =O18*0.05 -> 350 | P28: =P18*0.05 -> 350
A29: Mnożnik premii Wskaźnik CRM | B29: 1 | C29: 1 | D29: 1 | F29: 1 | G29: 1 | H29: 1
A30: Premia miesięczna za Wskaźnik CRM | B30: =B29*B28 -> 320 | C30: =C29*C28 -> 320 | D30: =D29*D28 -> 320 | F30: =F29*F28 -> 350 | G30: =G29*G28 -> 350 | H30: =H29*H28 -> 350 | J30: =J29*J28 -> 0 | K30: =K29*K28 -> 0 | L30: =L29*L28 -> 0 | N30: =N29*N28 -> 0 | O30: =O29*O28 -> 0 | P30: =P29*P28 -> 0
A31: Suma Premii miesięcznych | B31: =B26+B30 -> 2560 | C31: =C26+C30 -> 2560 | D31: =D26+D30 -> 2560 | F31: =F26+F30 -> 2492.7487 | G31: =G26+G30 -> 2492.7487 | H31: =H26+H30 -> 1421.3744 | J31: =J26+J30 -> 0 | K31: =K26+K30 -> 0 | L31: =L26+L30 -> 0 | N31: =N26+N30 -> 0 | O31: =O26+O30 -> 0 | P31: =P26+P30 -> 0
A32: Wskaźnik Premia Kwartalna Marża | B32: =D5 -> 187000 | F32: =H5 -> 201666.41 | J32: =L5 -> 201666.41 | N32: =P5 -> 201666.41
A33: Realizacja Wskaźnika Premia Kwartalna | B33: =D7 -> 197605.48 | F33: =H7 -> 165489.31 | J33: =L7 -> 0 | N33: =P7 -> 0
A34: Poziom realizacji Wskaźnika Premia Kwartalna | B34: =B33/B32 -> 1.0567138 | F34: =F33/F32 -> 0.82060921 | J34: =J33/J32 -> 0 | N34: =N33/N32 -> 0
A35: Wysokość premii kwartalnej. | B35: =D17 -> 6400 | F35: =H18 -> 7000 | J35: =L18 -> 7000 | N35: =P20 -> 6122.1392
A36: Mnożnik premii kwartalnej | B36: =IF(B34<100%,0,IF(B34<105%,0.5,IF(B34<110%,0.7,1))) -> 0.7 | F36: =IF(F34<100%,0,IF(F34<105%,0.5,IF(F34<110%,0.7,1))) -> 0 | J36: =IF(J34<100%,0,IF(J34<105%,0.5,IF(J34<110%,0.7,1))) -> 0 | N36: =IF(N34<100%,0,IF(N34<105%,0.5,IF(N34<110%,0.7,1))) -> 0
A37: Premia kwartalna | B37: =B36*B35 -> 4480 | F37: =F36*F35 -> 0 | J37: =J36*J35 -> 0 | N37: =N36*N35 -> 0
A39: Raport za miesiąc: | B39: styczeń | C39: luty | D39: marzec | E39: Suma | F39: kwiecień | G39: maj | H39: czerwiec | I39: Suma | J39: lipiec | K39: sierpień | L39: wrzesień | M39: Suma | N39: paździer. | O39: listopad | P39: grudzień | Q39: Suma | R39: Suma
A40: Ilość nowych Klientów: | E40: =SUM(B40:D40) -> 0 | I40: =SUM(F40:H40) -> 0 | M40: =SUM(J40:L40) -> 0 | Q40: =SUM(N40:P40) -> 0 | R40: =I40+M40+Q40+E40 -> 0
A41: Ilość Podmiotów na etapie współpracy Klient:
A42: Ilość Podmiotów na etapie współpracy Handlowy:
A43: Ilość Podmiotów na etapie współpracy Klient nieaktywny:
A44: Ilość Podmiotów pod opieką:
A45: Ilość sprzedanych drukarek: | E45: =SUM(B45:D45) -> 0 | I45: =SUM(F45:H45) -> 0 | M45: =SUM(J45:L45) -> 0 | Q45: =SUM(N45:P45) -> 0 | R45: =I45+M45+Q45+E45 -> 0
A46: Ilość ofert dodanych w danym miesiącu: | E46: =SUM(B46:D46) -> 0 | I46: =SUM(F46:H46) -> 0 | M46: =SUM(J46:L46) -> 0 | Q46: =SUM(N46:P46) -> 0 | R46: =I46+M46+Q46+E46 -> 0
A47: Ilość ofert oczekujących na decyzję kontrahenta:
A48: Ilość zaakceptowanych ofert przez kontrahenta: | E48: =SUM(B48:D48) -> 0 | I48: =SUM(F48:H48) -> 0 | M48: =SUM(J48:L48) -> 0 | Q48: =SUM(N48:P48) -> 0 | R48: =I48+M48+Q48+E48 -> 0
A49: Ilość odrzuconych ofert przez kontrahenta: | E49: =SUM(B49:D49) -> 0 | I49: =SUM(F49:H49) -> 0 | M49: =SUM(J49:L49) -> 0 | Q49: =SUM(N49:P49) -> 0 | R49: =I49+M49+Q49+E49 -> 0
A50: Ilość przekazanych podmiotów: | E50: =SUM(B50:D50) -> 0 | I50: =SUM(F50:H50) -> 0 | M50: =SUM(J50:L50) -> 0 | Q50: =SUM(N50:P50) -> 0 | R50: =I50+M50+Q50+E50 -> 0
A51: Ilość odebranych podmiotów (zmiana prowadzącego): | E51: =SUM(B51:D51) -> 0 | I51: =SUM(F51:H51) -> 0 | M51: =SUM(J51:L51) -> 0 | Q51: =SUM(N51:P51) -> 0 | R51: =I51+M51+Q51+E51 -> 0
A52: Ilość spotkań z Klientami: | E52: =SUM(B52:D52) -> 0 | I52: =SUM(F52:H52) -> 0 | M52: =SUM(J52:L52) -> 0 | Q52: =SUM(N52:P52) -> 0 | R52: =I52+M52+Q52+E52 -> 0
A53: Ilość aktualnie otwartych wdrożeń:
A54: Ilość wdrożeń dodanych w danym miesiącu: | E54: =SUM(B54:D54) -> 0 | I54: =SUM(F54:H54) -> 0 | M54: =SUM(J54:L54) -> 0 | Q54: =SUM(N54:P54) -> 0 | R54: =I54+M54+Q54+E54 -> 0
A55: Ilość wdrożeń zamkniętych pozytywnie w danym mcu: | E55: =SUM(B55:D55) -> 0 | I55: =SUM(F55:H55) -> 0 | M55: =SUM(J55:L55) -> 0 | Q55: =SUM(N55:P55) -> 0 | R55: =I55+M55+Q55+E55 -> 0
A56: Ilość wdrożeń zamkniętych negatywnie w danym mcu: | E56: =SUM(B56:D56) -> 0 | I56: =SUM(F56:H56) -> 0 | M56: =SUM(J56:L56) -> 0 | Q56: =SUM(N56:P56) -> 0 | R56: =I56+M56+Q56+E56 -> 0
A57: Ilość aktualnie odłożonych wdrożeń:

Sheet DH
A1: brak opiekuna | B1: PLANY SPRZEDAŻY 2025
A2: miesiąc | B2: styczeń | C2: luty | D2: marzec | E2: I KW | F2: kwiecień | G2: maj | H2: czerwiec | I2: II KW | J2: lipiec | K2: sierpień | L2: wrzesień | M2: III KW | N2: październik | O2: listopad | P2: grudzień | Q2: IV KW | R2: suma
A3: Marża 2024 | B3: 226808.74 | C3: 357078.13 | D3: 304259.63 | E3: =SUM(B3:D3) -> 888146.5 | F3: 320858.49 | G3: 191442.27 | H3: 297587.9 | I3: =SUM(F3:H3) -> 809888.66 | J3: 318026.28 | K3: 288173.55 | L3: 243971.66 | M3: =SUM(J3:L3) -> 850171.49 | N3: 334005.33 | O3: 320598.48 | P3: 244268.06 | Q3: =SUM(N3:P3) -> 898871.87 | R3: =SUM(Q3,M3,I3,E3) -> 3447078.5 | T3: =R8*1.1 -> 1885668.3
S4: MINIMUM | T4: PLAN | U4: CEL
A5: Wzrost Marży 2025 w stos do Marży 2024 | B5: =B9/B4-1 -> #DIV/0! | C5: =C9/C4-1 -> #DIV/0! | D5: =D9/D4-1 -> #DIV/0! | E5: =E8/E3-1 -> -0.033898686 | F5: =F9/F4-1 -> #DIV/0! | G5: =G9/G4-1 -> #DIV/0! | H5: =H9/H4-1 -> #DIV/0! | I5: =I8/I3-1 -> 0.057187818 | J5: =J9/J4-1 -> #DIV/0! | K5: =K9/K4-1 -> #DIV/0! | L5: =L9/L4-1 -> #DIV/0! | M5: =M8/M3-1 -> -1 | N5: =N9/N4-1 -> #DIV/0! | O5: =O9/O4-1 -> #DIV/0! | P5: =P9/P4-1 -> #DIV/0! | Q5: =Q8/Q3-1 -> -1 | R5: =R8/R3-1 -> -0.50269658 | S5: =S6/R3 -> 0.99765729 | T5: =T6/R3 -> 1.0501656 | U5: =U6/R3 -> 1.1026738
A6: Plan Sprzedaży Marża | B6: =Target!B22 -> 255900 | C6: =Target!C22 -> 284333.33 | D6: =Target!D22 -> 312766.67 | E6: =SUM(B6:D6) -> 853000 | F6: =Target!E22 -> 276700.32 | G6: =Target!F22 -> 307444.8 | H6: =Target!G22 -> 338189.28 | I6: =SUM(F6:H6) -> 922334.39 | J6: =Target!H22 -> 276700.32 | K6: =Target!I22 -> 307444.8 | L6: =Target!J22 -> 338189.28 | M6: =SUM(J6:L6) -> 922334.39 | N6: =Target!K22 -> 276700.32 | O6: =Target!L22 -> 307444.8 | P6: =Target!M22 -> 338189.28 | Q6: =SUM(N6:P6) -> 922334.39 | R6: =B6+C6+D6+F6+G6+H6+J6+K6+L6+N6+O6+P6 -> 3620003.2 | S6: =DH!R6*0.95 -> 3439003 | T6: =R6 -> 3620003.2 | U6: =Target!H26 -> 3801003.3
A7: Sumaryczny Plan Sprzedaży Marża | B7: =B6 -> 255900 | C7: =C6+B7 -> 540233.33 | D7: =D6+C7 -> 853000 | F7: =F6+D7 -> 1129700.3 | G7: =G6+F7 -> 1437145.1 | H7: =H6+G7 -> 1775334.4 | J7: =J6+H7 -> 2052034.7 | K7: =K6+J7 -> 2359479.5 | L7: =L6+K7 -> 2697668.8 | N7: =N6+L7 -> 2974369.1 | O7: =O6+N7 -> 3281813.9 | P7: =P6+O7 -> 3620003.2 | V7: =T6/T19 -> 0.36635244
A8: Miesięczna realizacja Planu Sprzedaży Marża | B8: =TOMEK!B6+RCKIK!B6+'1'!N6+BARTEK!B6+PIOTR!B6+KRZYSZTOF!B6+'0'!N6 -> 270726.89 | C8: =TOMEK!C6+RCKIK!C6+'1'!O6+BARTEK!C6+PIOTR!C6+KRZYSZTOF!C6+'0'!O6 -> 318940.52 | D8: =TOMEK!D6+RCKIK!D6+'1'!P6+BARTEK!D6+PIOTR!D6+KRZYSZTOF!D6+'0'!P6 -> 268372.09 | E8: =SUM(B8:D8) -> 858039.5 | F8: =TOMEK!F6+RCKIK!F6+'1'!J6+BARTEK!F6+PIOTR!F6+KRZYSZTOF!F6++'0'!J6 -> 311537.67 | G8: =TOMEK!G6+RCKIK!G6+'1'!K6+BARTEK!G6+PIOTR!G6+KRZYSZTOF!G6+'0'!K6 -> 285230.5 | H8: =TOMEK!H6+RCKIK!H6+'1'!L6+BARTEK!H6+PIOTR!H6+KRZYSZTOF!H6+'0'!L6 -> 259436.25 | I8: =SUM(F8:H8) -> 856204.43 | J8: =TOMEK!J6+RCKIK!J6+'0'!F6+BARTEK!J6+PIOTR!J6+KRZYSZTOF!J6+'1'!F6 -> 0 | K8: =TOMEK!K6+RCKIK!K6+'0'!G6+BARTEK!K6+PIOTR!K6+KRZYSZTOF!K6+'1'!G6+SUMIF(VIII!A:A,$A$1,VIII!I:I) -> 0 | L8: =TOMEK!L6+RCKIK!L6+'0'!H6+BARTEK!L6+PIOTR!L6+KRZYSZTOF!L6+'1'!H6 -> 0 | M8: =SUM(J8:L8) -> 0 | N8: =TOMEK!N6+RCKIK!N6+'0'!B6+BARTEK!N6+PIOTR!N6+KRZYSZTOF!N6+'1'!B6 -> 0 | O8: =TOMEK!O6+RCKIK!O6+'0'!C6+BARTEK!O6+PIOTR!O6+KRZYSZTOF!O6+'1'!C6 -> 0 | P8: =TOMEK!P6+RCKIK!P6+'0'!D6+BARTEK!P6+PIOTR!P6+KRZYSZTOF!P6+'1'!D6 -> 0 | Q8: =SUM(N8:P8) -> 0 | R8: =B8+C8+D8+F8+G8+H8+J8+K8+L8+N8+O8+P8 -> 1714243.9 | T8: 2 | U8: 3 | W8: 4 | X8: 5 | Y8: 6 | AA8: 7 | AB8: 8 | AC8: 9 | AE8: 10 | AF8: 11 | AG8: 12
A9: Sumaryczna realizacja planu sprzedaży Marża | B9: =B8 -> 270726.89 | C9: =C8+B9 -> 589667.41 | D9: =D8+C9 -> 858039.5 | F9: =F8+D9 -> 1169577.2 | G9: =G8+F9 -> 1454807.7 | H9: =H8+G9 -> 1714243.9 | J9: =J8+H9 -> 1714243.9 | K9: =K8+J9 -> 1714243.9 | L9: =L8+K9 -> 1714243.9 | N9: =N8+L9 -> 1714243.9 | O9: =O8+N9 -> 1714243.9 | P9: =P8+O9 -> 1714243.9
A10: Wysokość zrealizowania Miesięcznego Planu Sprzedaży Marża | B10: =B8/B6 -> 1.0579402 | C10: =C8/C6 -> 1.1217134 | D10: =D8/D6 -> 0.85805848 | E10: =D7*0.95 -> 810350 | F10: =F8/F6 -> 1.1259028 | G10: =G8/G6 -> 0.92774541 | H10: =H8/H6 -> 0.76713329 | J10: =J8/J6 -> 0 | K10: =K8/K6 -> 0 | L10: =L8/L6 -> 0 | M10: =L4-L9 -> -1714243.9 | N10: =N8/N6 -> 0 | O10: =O8/O6 -> 0 | P10: =P8/P6 -> 0 | Q10: =P4-P9 -> -1714243.9 | X10: 2019 | Y10: =R3/12 -> 287256.54
A11: Różnica wskaźnika Marża | B11: =B9-B7 -> 14826.894 | C11: =C9-C7 -> 49434.078 | D11: =D9-D7 -> 5039.501 | E11: =E10-D9 -> -47689.501 | F11: =F9-F7 -> 39876.857 | G11: =G9-G7 -> 17662.56 | H11: =H9-H7 -> -61090.463 | I11: =H7*0.9-H9 -> -116442.98 | J11: =J9-J7 -> -337790.78 | K11: =K9-K7 -> -645235.58 | L11: =L9-L7 -> -983424.85 | M11: =J7*0.9-J9 -> 132587.31 | N11: =N9-N7 -> -1260125.2 | O11: =O9-O7 -> -1567570 | P11: =P9-P7 -> -1905759.2 | X11: 2020 | Y11: =D9/3 -> 286013.17 | Z11: =1-Y10/Y11 -> -0.0043472696
A12: Wysokość zrealizowania Planu Sprzedaży Marża | B12: =B9/B7 -> 1.0579402 | C12: =C9/C7 -> 1.091505 | D12: =D9/D7 -> 1.005908 | F12: =F9/F7 -> 1.0352986 | G12: =G9/G7 -> 1.01229 | H12: =H9/H7 -> 0.96558932 | J12: =J9/J7 -> 0.83538739 | K12: =K9/K7 -> 0.72653478 | L12: =L9/L7 -> 0.63545382 | N12: =N9/N7 -> 0.57633867 | O12: =O9/O7 -> 0.52234648 | P12: =P9/P7 -> 0.47354763 | X12: IV | Y12: =F8 -> 311537.67 | Z12: =1-Y11/Y12 -> 0.08193072
A13: Kwartalny Plan Sprzedaży Marża | B13: =Target!C8 -> 255900 | C13: =Target!D8 -> 284333.33 | D13: =Target!E8 -> 312766.67 | E13: =SUM(B13:D13) -> 853000 | F13: =Target!F8 -> 276700.32 | G13: =Target!G8 -> 307444.8 | H13: =Target!H8 -> 338189.28 | I13: =SUM(F13:H13) -> 922334.39 | J13: =Target!I8 -> 276700.32 | K13: =Target!J8 -> 307444.8 | L13: =Target!K8 -> 338189.28 | M13: =SUM(J13:L13) -> 922334.39 | N13: =Target!L8 -> 276700.32 | O13: =Target!M8 -> 307444.8 | P13: =Target!N8 -> 338189.28 | Q13: =SUM(N13:P13) -> 922334.39 | Z13: =1-Y10/Y12 -> 0.077939626
A14: Sumaryczna Kwartalna Realizacja Planu Sprzedaży Marża | B14: =B8/B13 -> 1.0579402 | C14: =(B8+C8)/C13 -> 2.0738596 | D14: =(D8+C8+B8)/D13 -> 2.7433854 | F14: =F8/F13 -> 1.1259028 | G14: =(F8+G8)/G13 -> 1.941058 | H14: =(H8+G8+F8)/H13 -> 2.5317314 | J14: =J8/J13 -> 0 | K14: =(J8+K8)/K13 -> 0 | L14: =(L8+K8+J8)/L13 -> 0 | N14: =N8/N13 -> 0 | O14: =(N8+O8)/O13 -> 0 | P14: =(P8+O8+N8)/P13 -> 0
A16: Obrót 2024 | B16: 691721.1 | C16: 997536.9 | D16: 813771.08 | E16: =SUM(B16:D16) -> 2503029.1 | F16: 882952.5 | G16: 577673.01 | H16: 790124.75 | I16: =SUM(F16:H16) -> 2250750.3 | J16: 839556.05 | K16: 746286.5 | L16: 679180.01 | M16: =SUM(J16:L16) -> 2265022.6 | N16: 804813.31 | O16: 825481.94 | P16: 682240.2 | Q16: =SUM(N16:P16) -> 2312535.5 | R16: =SUM(Q16,M16,I16,E16) -> 9331337.3
S17: MINIMUM | T17: PLAN | U17: CEL
A18: Wzrost Obrotu 2025 w stos do Obrotu 2024 | B18: =B22/B17-1 -> #DIV/0! | C18: =C22/C17-1 -> #DIV/0! | D18: =D22/D17-1 -> #DIV/0! | F18: =F22/F17-1 -> #DIV/0! | G18: =G22/G17-1 -> #DIV/0! | H18: =H22/H17-1 -> #DIV/0! | J18: =J22/J17-1 -> #DIV/0! | K18: =K22/K17-1 -> #DIV/0! | L18: =L22/L17-1 -> #DIV/0! | N18: =N22/N17-1 -> #DIV/0! | O18: =O22/O17-1 -> #DIV/0! | P18: =P22/P17-1 -> #DIV/0! | Q18: =Q21/Q16 -> 0 | R18: =R21/R16 -> 0.495445 | S18: =S19/R16 -> 1.0059805 | T18: =T19/R16 -> 1.0589269 | U18: =U19/R16 -> 1.1118732
A19: Plan Sprzedaży Obrót | B19: =Target!B23 -> 720845.07 | C19: =Target!C23 -> 800938.97 | D19: =Target!D23 -> 881032.86 | F19: =Target!E23 -> 747838.69 | G19: =Target!F23 -> 830931.88 | H19: =Target!G23 -> 914025.07 | J19: =Target!H23 -> 747838.69 | K19: =Target!I23 -> 830931.88 | L19: =Target!J23 -> 914025.07 | N19: =Target!K23 -> 747838.69 | O19: =Target!L23 -> 830931.88 | P19: =Target!M23 -> 914025.07 | R19: =B19+C19+D19+F19+G19+H19+J19+K19+L19+N19+O19+P19 -> 9881203.8 | S19: =DH!R19*0.95 -> 9387143.7 | T19: =Target!F27 -> 9881203.8 | U19: =Target!H27 -> 10375264
A20: Sumaryczny Plan Sprzedaży Obrót | B20: =B19 -> 720845.07 | C20: =C19+B20 -> 1521784 | D20: =D19+C20 -> 2402816.9 | F20: =F19+D20 -> 3150655.6 | G20: =G19+F20 -> 3981587.5 | H20: =H19+G20 -> 4895612.6 | J20: =J19+H20 -> 5643451.2 | K20: =K19+J20 -> 6474383.1 | L20: =L19+K20 -> 7388408.2 | N20: =N19+L20 -> 8136246.9 | O20: =O19+N20 -> 8967178.8 | P20: =P19+O20 -> 9881203.8
A21: Miesięczna realizacja Planu Sprzedaży Obrót | B21: =TOMEK!B11+RCKIK!B11+'1'!N13+BARTEK!B11+PIOTR!B11+KRZYSZTOF!B11+'0'!N13 -> 735313.24 | C21: =TOMEK!C11+RCKIK!C11+'1'!O13+BARTEK!C11+PIOTR!C11+KRZYSZTOF!C11+'0'!O13 -> 864042.09 | D21: =TOMEK!D11+RCKIK!D11+'1'!P13+BARTEK!D11+PIOTR!D11+KRZYSZTOF!D11+'0'!P13 -> 682276.62 | E21: =SUM(B21:D21) -> 2281632 | F21: =TOMEK!F11+RCKIK!F11+'1'!J13+BARTEK!F11+PIOTR!F11+KRZYSZTOF!F11+'0'!J13 -> 902392.31 | G21: =TOMEK!G11+RCKIK!G11+'1'!K13+BARTEK!G11+PIOTR!G11+KRZYSZTOF!G11+'0'!K13 -> 770807.84 | H21: =TOMEK!H11+RCKIK!H11+'1'!L13+BARTEK!H11+PIOTR!H11+KRZYSZTOF!H11+'0'!L13 -> 668332.33 | I21: =SUM(F21:H21) -> 2341532.5 | J21: =TOMEK!J11+RCKIK!J11+'0'!F13+BARTEK!J11+PIOTR!J11+KRZYSZTOF!J11+'1'!F13 -> 0 | K21: =TOMEK!K11+RCKIK!K11+'0'!G13+BARTEK!K11+PIOTR!K11+KRZYSZTOF!K11+'1'!G13+SUMIF(VIII!A:A,$A$1,VIII!G:G) -> 0 | L21: =TOMEK!L11+RCKIK!L11+'0'!H13+BARTEK!L11+PIOTR!L11+KRZYSZTOF!L11+'1'!H13 -> 0 | M21: =SUM(J21:L21) -> 0 | N21: =TOMEK!N11+RCKIK!N11+'0'!B13+BARTEK!N11+PIOTR!N11+KRZYSZTOF!N11+'1'!B13 -> 0 | O21: =TOMEK!O11+RCKIK!O11+'0'!C13+BARTEK!O11+PIOTR!O11+KRZYSZTOF!O11+'1'!C13 -> 0 | P21: =TOMEK!P11+RCKIK!P11+'0'!D13+BARTEK!P11+PIOTR!P11+KRZYSZTOF!P11+'1'!D13 -> 0 | Q21: =SUM(N21:P21) -> 0 | R21: =B21+C21+D21+F21+G21+H21+J21+K21+L21+N21+O21+P21 -> 4623164.4
A22: Sumaryczna realizacja planu sprzedaży Obrót | B22: =B21 -> 735313.24 | C22: =C21+B22 -> 1599355.3 | D22: =D21+C22 -> 2281632 | F22: =F21+D22 -> 3184024.3 | G22: =G21+F22 -> 3954832.1 | H22: =H21+G22 -> 4623164.4 | J22: =J21+H22 -> 4623164.4 | K22: =K21+J22 -> 4623164.4 | L22: =L21+K22 -> 4623164.4 | N22: =N21+L22 -> 4623164.4 | O22: =O21+N22 -> 4623164.4 | P22: =P21+O22 -> 4623164.4
A23: Wysokość zrealizowania Miesięcznego Planu Sprzedaży Obrót | B23: =B21/B19 -> 1.0200711 | C23: =C21/C19 -> 1.0787864 | D23: =D21/D19 -> 0.77440542 | F23: =F21/F19 -> 1.206667 | G23: =G21/G19 -> 0.92764263 | H23: =H21/H19 -> 0.73119694 | I23: =G17-G22 -> -3954832.1 | J23: =J21/J19 -> 0 | K23: =K21/K19 -> 0 | L23: =L21/L19 -> 0 | N23: =N21/N19 -> 0 | O23: =O21/O19 -> 0 | P23: =P21/P19 -> 0 | Q23: =P17-P22 -> -4623164.4
A24: Wysokość zrealizowania Planu Sprzedaży Obrót | B24: =B22/B20 -> 1.0200711 | C24: =C22/C20 -> 1.0509739 | D24: =D22/D20 -> 0.94956547 | F24: =F22/F20 -> 1.010591 | G24: =G22/G20 -> 0.99328022 | H24: =H22/H20 -> 0.94434851 | J24: =J22/J20 -> 0.81920871 | K24: =K22/K20 -> 0.71407026 | L24: =L22/L20 -> 0.62573213 | N24: =N22/N20 -> 0.56821831 | O24: =O22/O20 -> 0.5155651 | P24: =P22/P20 -> 0.46787461
A25: Różnica wskaźnika Obrót | B25: =B22-B20 -> 14468.172 | C25: =C22-C20 -> 77571.295 | D25: =D22-D20 -> -121184.95 | F25: =F22-F20 -> 33368.666 | G25: =G22-G20 -> -26755.377 | H25: =H22-H20 -> -272448.11 | J25: =J22-J20 -> -1020286.8 | K25: =K22-K20 -> -1851218.7 | L25: =L22-L20 -> -2765243.8 | N25: =N22-N20 -> -3513082.5 | O25: =O22-O20 -> -4344014.3 | P25: =P22-P20 -> -5258039.4
A27: Wysokość % Marży miesięcznej | B27: =B8/B21 -> 0.368179 | C27: =C8/C21 -> 0.36912614 | D27: =D8/D21 -> 0.39334792 | F27: =F8/F21 -> 0.34523529 | G27: =G8/G21 -> 0.37004099 | H27: =H8/H21 -> 0.3881845 | J27: =J8/J21 -> #DIV/0! | K27: =K8/K21 -> #DIV/0! | L27: =L8/L21 -> #DIV/0! | N27: =N8/N21 -> #DIV/0! | O27: =O8/O21 -> #DIV/0! | P27: =P8/P21 -> #DIV/0!
A28: Wysokość % Marży sumarycznej | B28: =B9/B22 -> 0.368179 | C28: =C9/C22 -> 0.36869068 | D28: =D9/D22 -> 0.37606394 | F28: =F9/F22 -> 0.36732672 | G28: =G9/G22 -> 0.36785574 | H28: =H9/H22 -> 0.3707945 | J28: =J9/J22 -> 0.3707945 | K28: =K9/K22 -> 0.3707945 | L28: =L9/L22 -> 0.3707945 | N28: =N9/N22 -> 0.3707945 | O28: =O9/O22 -> 0.3707945
A40: Raport za miesiąc: | B40: styczeń | C40: luty | D40: marzec | E40: Suma | F40: kwiecień | G40: maj | H40: czerwiec | I40: Suma | J40: lipiec | K40: sierpień | L40: wrzesień | M40: Suma | N40: paździer. | O40: listopad | P40: grudzień | Q40: Suma | R40: Suma
A41: Ilość nowych Klientów: | B41: =TOMEK!B40+BARTEK!B40+PIOTR!B40+KRZYSZTOF!B40 -> 0 | C41: =TOMEK!C40+BARTEK!C40+PIOTR!C40+KRZYSZTOF!C40 -> 0 | D41: =TOMEK!D40+BARTEK!D40+PIOTR!D40+KRZYSZTOF!D40 -> 0 | E41: =SUM(B41:D41) -> 0 | F41: =TOMEK!F40+BARTEK!F40+PIOTR!F40+KRZYSZTOF!F40 -> 0 | G41: =TOMEK!G40+BARTEK!G40+PIOTR!G40+KRZYSZTOF!G40 -> 0 | H41: =TOMEK!H40+BARTEK!H40+PIOTR!H40+KRZYSZTOF!H40 -> 0 | I41: =SUM(F41:H41) -> 0 | J41: =TOMEK!J40+BARTEK!J40+PIOTR!J40+KRZYSZTOF!J40 -> 0 | K41: =TOMEK!K40+BARTEK!K40+PIOTR!K40+KRZYSZTOF!K40 -> 0 | L41: =TOMEK!L40+BARTEK!L40+PIOTR!L40+KRZYSZTOF!L40 -> 0 | M41: =SUM(J41:L41) -> 0 | N41: =TOMEK!N40+BARTEK!N40+PIOTR!N40+KRZYSZTOF!N40 -> 0 | O41: =TOMEK!O40+BARTEK!O40+PIOTR!O40+KRZYSZTOF!O40 -> 0 | P41: =TOMEK!P40+BARTEK!P40+PIOTR!P40+KRZYSZTOF!P40 -> 0 | Q41: =SUM(N41:P41) -> 0 | R41: =I41+M41+Q41+E41 -> 0
A42: Ilość Podmiotów na etapie współpracy Klient: | B42: =TOMEK!B41+BARTEK!B41+PIOTR!B41+KRZYSZTOF!B41 -> 0 | C42: =TOMEK!C41+BARTEK!C41+PIOTR!C41+KRZYSZTOF!C41 -> 0 | D42: =TOMEK!D41+BARTEK!D41+PIOTR!D41+KRZYSZTOF!D41 -> 0 | F42: =TOMEK!F41+BARTEK!F41+PIOTR!F41+KRZYSZTOF!F41 -> 0 | G42: =TOMEK!G41+BARTEK!G41+PIOTR!G41+KRZYSZTOF!G41 -> 0 | H42: =TOMEK!H41+BARTEK!H41+PIOTR!H41+KRZYSZTOF!H41 -> 0 | J42: =TOMEK!J41+BARTEK!J41+PIOTR!J41+KRZYSZTOF!J41 -> 0 | K42: =TOMEK!K41+BARTEK!K41+PIOTR!K41+KRZYSZTOF!K41 -> 0 | L42: =TOMEK!L41+BARTEK!L41+PIOTR!L41+KRZYSZTOF!L41 -> 0 | N42: =TOMEK!N41+BARTEK!N41+PIOTR!N41+KRZYSZTOF!N41 -> 0 | O42: =TOMEK!O41+BARTEK!O41+PIOTR!O41+KRZYSZTOF!O41 -> 0 | P42: =TOMEK!P41+BARTEK!P41+PIOTR!P41+KRZYSZTOF!P41 -> 0
A43: Ilość Podmiotów na etapie współpracy Handlowy: | B43: =TOMEK!B42+BARTEK!B42+PIOTR!B42+KRZYSZTOF!B42 -> 0 | C43: =TOMEK!C42+BARTEK!C42+PIOTR!C42+KRZYSZTOF!C42 -> 0 | D43: =TOMEK!D42+BARTEK!D42+PIOTR!D42+KRZYSZTOF!D42 -> 0 | F43: =TOMEK!F42+BARTEK!F42+PIOTR!F42+KRZYSZTOF!F42 -> 0 | G43: =TOMEK!G42+BARTEK!G42+PIOTR!G42+KRZYSZTOF!G42 -> 0 | H43: =TOMEK!H42+BARTEK!H42+PIOTR!H42+KRZYSZTOF!H42 -> 0 | J43: =TOMEK!J42+BARTEK!J42+PIOTR!J42+KRZYSZTOF!J42 -> 0 | K43: =TOMEK!K42+BARTEK!K42+PIOTR!K42+KRZYSZTOF!K42 -> 0 | L43: =TOMEK!L42+BARTEK!L42+PIOTR!L42+KRZYSZTOF!L42 -> 0 | N43: =TOMEK!N42+BARTEK!N42+PIOTR!N42+KRZYSZTOF!N42 -> 0 | O43: =TOMEK!O42+BARTEK!O42+PIOTR!O42+KRZYSZTOF!O42 -> 0 | P43: =TOMEK!P42+BARTEK!P42+PIOTR!P42+KRZYSZTOF!P42 -> 0
A44: Ilość Podmiotów na etapie współpracy Klient nieaktywny: | B44: =TOMEK!B43+BARTEK!B43+PIOTR!B43+KRZYSZTOF!B43 -> 0 | C44: =TOMEK!C43+BARTEK!C43+PIOTR!C43+KRZYSZTOF!C43 -> 0 | D44: =TOMEK!D43+BARTEK!D43+PIOTR!D43+KRZYSZTOF!D43 -> 0 | F44: =TOMEK!F43+BARTEK!F43+PIOTR!F43+KRZYSZTOF!F43 -> 0 | G44: =TOMEK!G43+BARTEK!G43+PIOTR!G43+KRZYSZTOF!G43 -> 0 | H44: =TOMEK!H43+BARTEK!H43+PIOTR!H43+KRZYSZTOF!H43 -> 0 | J44: =TOMEK!J43+BARTEK!J43+PIOTR!J43+KRZYSZTOF!J43 -> 0 | K44: =TOMEK!K43+BARTEK!K43+PIOTR!K43+KRZYSZTOF!K43 -> 0 | L44: =TOMEK!L43+BARTEK!L43+PIOTR!L43+KRZYSZTOF!L43 -> 0 | N44: =TOMEK!N43+BARTEK!N43+PIOTR!N43+KRZYSZTOF!N43 -> 0 | O44: =TOMEK!O43+BARTEK!O43+PIOTR!O43+KRZYSZTOF!O43 -> 0 | P44: =TOMEK!P43+BARTEK!P43+PIOTR!P43+KRZYSZTOF!P43 -> 0
A45: Ilość Podmiotów pod opieką: | B45: =TOMEK!B44+BARTEK!B44+PIOTR!B44+KRZYSZTOF!B44 -> 0 | C45: =TOMEK!C44+BARTEK!C44+PIOTR!C44+KRZYSZTOF!C44 -> 0 | D45: =TOMEK!D44+BARTEK!D44+PIOTR!D44+KRZYSZTOF!D44 -> 0 | F45: =TOMEK!F44+BARTEK!F44+PIOTR!F44+KRZYSZTOF!F44 -> 0 | G45: =TOMEK!G44+BARTEK!G44+PIOTR!G44+KRZYSZTOF!G44 -> 0 | H45: =TOMEK!H44+BARTEK!H44+PIOTR!H44+KRZYSZTOF!H44 -> 0 | J45: =TOMEK!J44+BARTEK!J44+PIOTR!J44+KRZYSZTOF!J44 -> 0 | K45: =TOMEK!K44+BARTEK!K44+PIOTR!K44+KRZYSZTOF!K44 -> 0 | L45: =TOMEK!L44+BARTEK!L44+PIOTR!L44+KRZYSZTOF!L44 -> 0 | N45: =TOMEK!N44+BARTEK!N44+PIOTR!N44+KRZYSZTOF!N44 -> 0 | O45: =TOMEK!O44+BARTEK!O44+PIOTR!O44+KRZYSZTOF!O44 -> 0 | P45: =TOMEK!P44+BARTEK!P44+PIOTR!P44+KRZYSZTOF!P44 -> 0
A46: Ilość sprzedanych drukarek: | B46: =TOMEK!B45+BARTEK!B45+PIOTR!B45+KRZYSZTOF!B45 -> 0 | C46: =TOMEK!C45+BARTEK!C45+PIOTR!C45+KRZYSZTOF!C45 -> 0 | D46: =TOMEK!D45+BARTEK!D45+PIOTR!D45+KRZYSZTOF!D45 -> 0 | E46: =SUM(B46:D46) -> 0 | F46: =TOMEK!F45+BARTEK!F45+PIOTR!F45+KRZYSZTOF!F45 -> 0 | G46: =TOMEK!G45+BARTEK!G45+PIOTR!G45+KRZYSZTOF!G45 -> 0 | H46: =TOMEK!H45+BARTEK!H45+PIOTR!H45+KRZYSZTOF!H45 -> 0 | I46: =SUM(F46:H46) -> 0 | J46: =TOMEK!J45+BARTEK!J45+PIOTR!J45+KRZYSZTOF!J45 -> 0 | K46: =TOMEK!K45+BARTEK!K45+PIOTR!K45+KRZYSZTOF!K45 -> 0 | L46: =TOMEK!L45+BARTEK!L45+PIOTR!L45+KRZYSZTOF!L45 -> 0 | M46: =SUM(J46:L46) -> 0 | N46: =TOMEK!N45+BARTEK!N45+PIOTR!N45+KRZYSZTOF!N45 -> 0 | O46: =TOMEK!O45+BARTEK!O45+PIOTR!O45+KRZYSZTOF!O45 -> 0 | P46: =TOMEK!P45+BARTEK!P45+PIOTR!P45+KRZYSZTOF!P45 -> 0 | Q46: =SUM(N46:P46) -> 0 | R46: =I46+M46+Q46+E46 -> 0
A47: Ilość ofert dodanych w danym miesiącu: | B47: =TOMEK!B46+BARTEK!B46+PIOTR!B46+KRZYSZTOF!B46 -> 0 | C47: =TOMEK!C46+BARTEK!C46+PIOTR!C46+KRZYSZTOF!C46 -> 0 | D47: =TOMEK!D46+BARTEK!D46+PIOTR!D46+KRZYSZTOF!D46 -> 0 | E47: =SUM(B47:D47) -> 0 | F47: =TOMEK!F46+BARTEK!F46+PIOTR!F46+KRZYSZTOF!F46 -> 0 | G47: =TOMEK!G46+BARTEK!G46+PIOTR!G46+KRZYSZTOF!G46 -> 0 | H47: =TOMEK!H46+BARTEK!H46+PIOTR!H46+KRZYSZTOF!H46 -> 0 | I47: =SUM(F47:H47) -> 0 | J47: =TOMEK!J46+BARTEK!J46+PIOTR!J46+KRZYSZTOF!J46 -> 0 | K47: =TOMEK!K46+BARTEK!K46+PIOTR!K46+KRZYSZTOF!K46 -> 0 | L47: =TOMEK!L46+BARTEK!L46+PIOTR!L46+KRZYSZTOF!L46 -> 0 | M47: =SUM(J47:L47) -> 0 | N47: =TOMEK!N46+BARTEK!N46+PIOTR!N46+KRZYSZTOF!N46 -> 0 | O47: =TOMEK!O46+BARTEK!O46+PIOTR!O46+KRZYSZTOF!O46 -> 0 | P47: =TOMEK!P46+BARTEK!P46+PIOTR!P46+KRZYSZTOF!P46 -> 0 | Q47: =SUM(N47:P47) -> 0 | R47: =I47+M47+Q47+E47 -> 0
A48: Ilość ofert oczekujących na decyzję kontrahenta: | B48: =TOMEK!B47+BARTEK!B47+PIOTR!B47+KRZYSZTOF!B47 -> 0 | C48: =TOMEK!C47+BARTEK!C47+PIOTR!C47+KRZYSZTOF!C47 -> 0 | D48: =TOMEK!D47+BARTEK!D47+PIOTR!D47+KRZYSZTOF!D47 -> 0 | F48: =TOMEK!F47+BARTEK!F47+PIOTR!F47+KRZYSZTOF!F47 -> 0 | G48: =TOMEK!G47+BARTEK!G47+PIOTR!G47+KRZYSZTOF!G47 -> 0 | H48: =TOMEK!H47+BARTEK!H47+PIOTR!H47+KRZYSZTOF!H47 -> 0 | J48: =TOMEK!J47+BARTEK!J47+PIOTR!J47+KRZYSZTOF!J47 -> 0 | K48: =TOMEK!K47+BARTEK!K47+PIOTR!K47+KRZYSZTOF!K47 -> 0 | L48: =TOMEK!L47+BARTEK!L47+PIOTR!L47+KRZYSZTOF!L47 -> 0 | N48: =TOMEK!N47+BARTEK!N47+PIOTR!N47+KRZYSZTOF!N47 -> 0 | O48: =TOMEK!O47+BARTEK!O47+PIOTR!O47+KRZYSZTOF!O47 -> 0 | P48: =TOMEK!P47+BARTEK!P47+PIOTR!P47+KRZYSZTOF!P47 -> 0
A49: Ilość zaakceptowanych ofert przez kontrahenta: | B49: =TOMEK!B48+BARTEK!B48+PIOTR!B48+KRZYSZTOF!B48 -> 0 | C49: =TOMEK!C48+BARTEK!C48+PIOTR!C48+KRZYSZTOF!C48 -> 0 | D49: =TOMEK!D48+BARTEK!D48+PIOTR!D48+KRZYSZTOF!D48 -> 0 | E49: =SUM(E46:E48) -> 0 | F49: =TOMEK!F48+BARTEK!F48+PIOTR!F48+KRZYSZTOF!F48 -> 0 | G49: =TOMEK!G48+BARTEK!G48+PIOTR!G48+KRZYSZTOF!G48 -> 0 | H49: =TOMEK!H48+BARTEK!H48+PIOTR!H48+KRZYSZTOF!H48 -> 0 | I49: =SUM(I46:I48) -> 0 | J49: =TOMEK!J48+BARTEK!J48+PIOTR!J48+KRZYSZTOF!J48 -> 0 | K49: =TOMEK!K48+BARTEK!K48+PIOTR!K48+KRZYSZTOF!K48 -> 0 | L49: =TOMEK!L48+BARTEK!L48+PIOTR!L48+KRZYSZTOF!L48 -> 0 | M49: =SUM(M46:M48) -> 0 | N49: =TOMEK!N48+BARTEK!N48+PIOTR!N48+KRZYSZTOF!N48 -> 0 | O49: =TOMEK!O48+BARTEK!O48+PIOTR!O48+KRZYSZTOF!O48 -> 0 | P49: =TOMEK!P48+BARTEK!P48+PIOTR!P48+KRZYSZTOF!P48 -> 0 | Q49: =SUM(Q46:Q48) -> 0 | R49: =I49+M49+Q49+E49 -> 0
A50: Ilość odrzuconych ofert przez kontrahenta: | B50: =TOMEK!B49+BARTEK!B49+PIOTR!B49+KRZYSZTOF!B49 -> 0 | C50: =TOMEK!C49+BARTEK!C49+PIOTR!C49+KRZYSZTOF!C49 -> 0 | D50: =TOMEK!D49+BARTEK!D49+PIOTR!D49+KRZYSZTOF!D49 -> 0 | E50: =SUM(E47:E49) -> 0 | F50: =TOMEK!F49+BARTEK!F49+PIOTR!F49+KRZYSZTOF!F49 -> 0 | G50: =TOMEK!G49+BARTEK!G49+PIOTR!G49+KRZYSZTOF!G49 -> 0 | H50: =TOMEK!H49+BARTEK!H49+PIOTR!H49+KRZYSZTOF!H49 -> 0 | I50: =SUM(I47:I49) -> 0 | J50: =TOMEK!J49+BARTEK!J49+PIOTR!J49+KRZYSZTOF!J49 -> 0 | K50: =TOMEK!K49+BARTEK!K49+PIOTR!K49+KRZYSZTOF!K49 -> 0 | L50: =TOMEK!L49+BARTEK!L49+PIOTR!L49+KRZYSZTOF!L49 -> 0 | M50: =SUM(M47:M49) -> 0 | N50: =TOMEK!N49+BARTEK!N49+PIOTR!N49+KRZYSZTOF!N49 -> 0 | O50: =TOMEK!O49+BARTEK!O49+PIOTR!O49+KRZYSZTOF!O49 -> 0 | P50: =TOMEK!P49+BARTEK!P49+PIOTR!P49+KRZYSZTOF!P49 -> 0 | Q50: =SUM(Q47:Q49) -> 0 | R50: =I50+M50+Q50+E50 -> 0
A51: Ilość przekazanych podmiotów: | B51: =TOMEK!B50+BARTEK!B50+PIOTR!B50+KRZYSZTOF!B50 -> 0 | C51: =TOMEK!C50+BARTEK!C50+PIOTR!C50+KRZYSZTOF!C50 -> 0 | D51: =TOMEK!D50+BARTEK!D50+PIOTR!D50+KRZYSZTOF!D50 -> 0 | E51: =SUM(E48:E50) -> 0 | F51: =TOMEK!F50+BARTEK!F50+PIOTR!F50+KRZYSZTOF!F50 -> 0 | G51: =TOMEK!G50+BARTEK!G50+PIOTR!G50+KRZYSZTOF!G50 -> 0 | H51: =TOMEK!H50+BARTEK!H50+PIOTR!H50+KRZYSZTOF!H50 -> 0 | I51: =SUM(I48:I50) -> 0 | J51: =TOMEK!J50+BARTEK!J50+PIOTR!J50+KRZYSZTOF!J50 -> 0 | K51: =TOMEK!K50+BARTEK!K50+PIOTR!K50+KRZYSZTOF!K50 -> 0 | L51: =TOMEK!L50+BARTEK!L50+PIOTR!L50+KRZYSZTOF!L50 -> 0 | M51: =SUM(M48:M50) -> 0 | N51: =TOMEK!N50+BARTEK!N50+PIOTR!N50+KRZYSZTOF!N50 -> 0 | O51: =TOMEK!O50+BARTEK!O50+PIOTR!O50+KRZYSZTOF!O50 -> 0 | P51: =TOMEK!P50+BARTEK!P50+PIOTR!P50+KRZYSZTOF!P50 -> 0 | Q51: =SUM(Q48:Q50) -> 0 | R51: =I51+M51+Q51+E51 -> 0
A52: Ilość odebranych podmiotów (zmiana prowadzącego): | B52: =TOMEK!B51+BARTEK!B51+PIOTR!B51+KRZYSZTOF!B51 -> 0 | C52: =TOMEK!C51+BARTEK!C51+PIOTR!C51+KRZYSZTOF!C51 -> 0 | D52: =TOMEK!D51+BARTEK!D51+PIOTR!D51+KRZYSZTOF!D51 -> 0 | E52: =SUM(E49:E51) -> 0 | F52: =TOMEK!F51+BARTEK!F51+PIOTR!F51+KRZYSZTOF!F51 -> 0 | G52: =TOMEK!G51+BARTEK!G51+PIOTR!G51+KRZYSZTOF!G51 -> 0 | H52: =TOMEK!H51+BARTEK!H51+PIOTR!H51+KRZYSZTOF!H51 -> 0 | I52: =SUM(I49:I51) -> 0 | J52: =TOMEK!J51+BARTEK!J51+PIOTR!J51+KRZYSZTOF!J51 -> 0 | K52: =TOMEK!K51+BARTEK!K51+PIOTR!K51+KRZYSZTOF!K51 -> 0 | L52: =TOMEK!L51+BARTEK!L51+PIOTR!L51+KRZYSZTOF!L51 -> 0 | M52: =SUM(M49:M51) -> 0 | N52: =TOMEK!N51+BARTEK!N51+PIOTR!N51+KRZYSZTOF!N51 -> 0 | O52: =TOMEK!O51+BARTEK!O51+PIOTR!O51+KRZYSZTOF!O51 -> 0 | P52: =TOMEK!P51+BARTEK!P51+PIOTR!P51+KRZYSZTOF!P51 -> 0 | Q52: =SUM(Q49:Q51) -> 0 | R52: =I52+M52+Q52+E52 -> 0
A53: Ilość spotkań z Klientami: | B53: =TOMEK!B52+BARTEK!B52+PIOTR!B52+KRZYSZTOF!B52 -> 0 | C53: =TOMEK!C52+BARTEK!C52+PIOTR!C52+KRZYSZTOF!C52 -> 0 | D53: =TOMEK!D52+BARTEK!D52+PIOTR!D52+KRZYSZTOF!D52 -> 0 | E53: =SUM(E50:E52) -> 0 | F53: =TOMEK!F52+BARTEK!F52+PIOTR!F52+KRZYSZTOF!F52 -> 0 | G53: =TOMEK!G52+BARTEK!G52+PIOTR!G52+KRZYSZTOF!G52 -> 0 | H53: =TOMEK!H52+BARTEK!H52+PIOTR!H52+KRZYSZTOF!H52 -> 0 | I53: =SUM(I50:I52) -> 0 | J53: =TOMEK!J52+BARTEK!J52+PIOTR!J52+KRZYSZTOF!J52 -> 0 | K53: =TOMEK!K52+BARTEK!K52+PIOTR!K52+KRZYSZTOF!K52 -> 0 | L53: =TOMEK!L52+BARTEK!L52+PIOTR!L52+KRZYSZTOF!L52 -> 0 | M53: =SUM(M50:M52) -> 0 | N53: =TOMEK!N52+BARTEK!N52+PIOTR!N52+KRZYSZTOF!N52 -> 0 | O53: =TOMEK!O52+BARTEK!O52+PIOTR!O52+KRZYSZTOF!O52 -> 0 | P53: =TOMEK!P52+BARTEK!P52+PIOTR!P52+KRZYSZTOF!P52 -> 0 | Q53: =SUM(Q50:Q52) -> 0 | R53: =I53+M53+Q53+E53 -> 0
A54: Ilość aktualnie otwartych wdrożeń: | B54: =TOMEK!B53+BARTEK!B53+PIOTR!B53+KRZYSZTOF!B53 -> 0 | C54: =TOMEK!C53+BARTEK!C53+PIOTR!C53+KRZYSZTOF!C53 -> 0 | D54: =TOMEK!D53+BARTEK!D53+PIOTR!D53+KRZYSZTOF!D53 -> 0 | F54: =TOMEK!F53+BARTEK!F53+PIOTR!F53+KRZYSZTOF!F53 -> 0 | G54: =TOMEK!G53+BARTEK!G53+PIOTR!G53+KRZYSZTOF!G53 -> 0 | H54: =TOMEK!H53+BARTEK!H53+PIOTR!H53+KRZYSZTOF!H53 -> 0 | J54: =TOMEK!J53+BARTEK!J53+PIOTR!J53+KRZYSZTOF!J53 -> 0 | K54: =TOMEK!K53+BARTEK!K53+PIOTR!K53+KRZYSZTOF!K53 -> 0 | L54: =TOMEK!L53+BARTEK!L53+PIOTR!L53+KRZYSZTOF!L53 -> 0 | N54: =TOMEK!N53+BARTEK!N53+PIOTR!N53+KRZYSZTOF!N53 -> 0 | O54: =TOMEK!O53+BARTEK!O53+PIOTR!O53+KRZYSZTOF!O53 -> 0 | P54: =TOMEK!P53+BARTEK!P53+PIOTR!P53+KRZYSZTOF!P53 -> 0
A55: Ilość wdrożeń dodanych w danym miesiącu: | B55: =TOMEK!B54+BARTEK!B54+PIOTR!B54+KRZYSZTOF!B54 -> 0 | C55: =TOMEK!C54+BARTEK!C54+PIOTR!C54+KRZYSZTOF!C54 -> 0 | D55: =TOMEK!D54+BARTEK!D54+PIOTR!D54+KRZYSZTOF!D54 -> 0 | E55: =SUM(B55:D55) -> 0 | F55: =TOMEK!F54+BARTEK!F54+PIOTR!F54+KRZYSZTOF!F54 -> 0 | G55: =TOMEK!G54+BARTEK!G54+PIOTR!G54+KRZYSZTOF!G54 -> 0 | H55: =TOMEK!H54+BARTEK!H54+PIOTR!H54+KRZYSZTOF!H54 -> 0 | I55: =SUM(F55:H55) -> 0 | J55: =TOMEK!J54+BARTEK!J54+PIOTR!J54+KRZYSZTOF!J54 -> 0 | K55: =TOMEK!K54+BARTEK!K54+PIOTR!K54+KRZYSZTOF!K54 -> 0 | L55: =TOMEK!L54+BARTEK!L54+PIOTR!L54+KRZYSZTOF!L54 -> 0 | M55: =SUM(J55:L55) -> 0 | N55: =TOMEK!N54+BARTEK!N54+PIOTR!N54+KRZYSZTOF!N54 -> 0 | O55: =TOMEK!O54+BARTEK!O54+PIOTR!O54+KRZYSZTOF!O54 -> 0 | P55: =TOMEK!P54+BARTEK!P54+PIOTR!P54+KRZYSZTOF!P54 -> 0 | Q55: =SUM(N55:P55) -> 0 | R55: =I55+M55+Q55+E55 -> 0
A56: Ilość wdrożeń zamkniętych pozytywnie w danym mcu: | B56: =TOMEK!B55+BARTEK!B55+PIOTR!B55+KRZYSZTOF!B55 -> 0 | C56: =TOMEK!C55+BARTEK!C55+PIOTR!C55+KRZYSZTOF!C55 -> 0 | D56: =TOMEK!D55+BARTEK!D55+PIOTR!D55+KRZYSZTOF!D55 -> 0 | E56: =SUM(B56:D56) -> 0 | F56: =TOMEK!F55+BARTEK!F55+PIOTR!F55+KRZYSZTOF!F55 -> 0 | G56: =TOMEK!G55+BARTEK!G55+PIOTR!G55+KRZYSZTOF!G55 -> 0 | H56: =TOMEK!H55+BARTEK!H55+PIOTR!H55+KRZYSZTOF!H55 -> 0 | I56: =SUM(F56:H56) -> 0 | J56: =TOMEK!J55+BARTEK!J55+PIOTR!J55+KRZYSZTOF!J55 -> 0 | K56: =TOMEK!K55+BARTEK!K55+PIOTR!K55+KRZYSZTOF!K55 -> 0 | L56: =TOMEK!L55+BARTEK!L55+PIOTR!L55+KRZYSZTOF!L55 -> 0 | M56: =SUM(J56:L56) -> 0 | N56: =TOMEK!N55+BARTEK!N55+PIOTR!N55+KRZYSZTOF!N55 -> 0 | O56: =TOMEK!O55+BARTEK!O55+PIOTR!O55+KRZYSZTOF!O55 -> 0 | P56: =TOMEK!P55+BARTEK!P55+PIOTR!P55+KRZYSZTOF!P55 -> 0 | Q56: =SUM(N56:P56) -> 0 | R56: =I56+M56+Q56+E56 -> 0 | S56: =R56/(R56+R57) -> #DIV/0!
A57: Ilość wdrożeń zamkniętych negatywnie w danym mcu: | B57: =TOMEK!B56+BARTEK!B56+PIOTR!B56+KRZYSZTOF!B56 -> 0 | C57: =TOMEK!C56+BARTEK!C56+PIOTR!C56+KRZYSZTOF!C56 -> 0 | D57: =TOMEK!D56+BARTEK!D56+PIOTR!D56+KRZYSZTOF!D56 -> 0 | E57: =SUM(B57:D57) -> 0 | F57: =TOMEK!F56+BARTEK!F56+PIOTR!F56+KRZYSZTOF!F56 -> 0 | G57: =TOMEK!G56+BARTEK!G56+PIOTR!G56+KRZYSZTOF!G56 -> 0 | H57: =TOMEK!H56+BARTEK!H56+PIOTR!H56+KRZYSZTOF!H56 -> 0 | I57: =SUM(F57:H57) -> 0 | J57: =TOMEK!J56+BARTEK!J56+PIOTR!J56+KRZYSZTOF!J56 -> 0 | K57: =TOMEK!K56+BARTEK!K56+PIOTR!K56+KRZYSZTOF!K56 -> 0 | L57: =TOMEK!L56+BARTEK!L56+PIOTR!L56+KRZYSZTOF!L56 -> 0 | M57: =SUM(J57:L57) -> 0 | N57: =TOMEK!N56+BARTEK!N56+PIOTR!N56+KRZYSZTOF!N56 -> 0 | O57: =TOMEK!O56+BARTEK!O56+PIOTR!O56+KRZYSZTOF!O56 -> 0 | P57: =TOMEK!P56+BARTEK!P56+PIOTR!P56+KRZYSZTOF!P56 -> 0 | Q57: =SUM(N57:P57) -> 0 | R57: =I57+M57+Q57+E57 -> 0 | S57: =R57/(R56+R57) -> #DIV/0!
A58: Ilość aktualnie odłożonych wdrożeń: | B58: =TOMEK!B57+BARTEK!B57+PIOTR!B57+KRZYSZTOF!B57 -> 0 | C58: =TOMEK!C57+BARTEK!C57+PIOTR!C57+KRZYSZTOF!C57 -> 0 | D58: =TOMEK!D57+BARTEK!D57+PIOTR!D57+KRZYSZTOF!D57 -> 0 | F58: =TOMEK!F57+BARTEK!F57+PIOTR!F57+KRZYSZTOF!F57 -> 0 | G58: =TOMEK!G57+BARTEK!G57+PIOTR!G57+KRZYSZTOF!G57 -> 0 | H58: =TOMEK!H57+BARTEK!H57+PIOTR!H57+KRZYSZTOF!H57 -> 0 | J58: =TOMEK!J57+BARTEK!J57+PIOTR!J57+KRZYSZTOF!J57 -> 0 | K58: =TOMEK!K57+BARTEK!K57+PIOTR!K57+KRZYSZTOF!K57 -> 0 | L58: =TOMEK!L57+BARTEK!L57+PIOTR!L57+KRZYSZTOF!L57 -> 0 | N58: =TOMEK!N57+BARTEK!N57+PIOTR!N57+KRZYSZTOF!N57 -> 0 | O58: =TOMEK!O57+BARTEK!O57+PIOTR!O57+KRZYSZTOF!O57 -> 0 | P58: =TOMEK!P57+BARTEK!P57+PIOTR!P57+KRZYSZTOF!P57 -> 0

Sheet REALIZACJE
B1: PLAN SPRZEDAŻY
A2: miesiąc | B2: styczeń | C2: luty | D2: marzec | E2: I KW | F2: kwiecień | G2: maj | H2: czerwiec | I2: II KW | J2: lipiec | K2: sierpień | L2: wrzesień | M2: III KW | N2: październik | O2: listopad | P2: grudzień | Q2: IV KW | R2: suma | T2: średnia
A3: Marża 2024 | B3: =DH!B3 -> 226808.74 | C3: =DH!C3 -> 357078.13 | D3: =DH!D3 -> 304259.63 | E3: =DH!E3 -> 888146.5 | F3: =DH!F3 -> 320858.49 | G3: =DH!G3 -> 191442.27 | H3: =DH!H3 -> 297587.9 | I3: =DH!I3 -> 809888.66 | ... R3: =DH!R3 -> 3447078.5 | S3: =R6-R3 -> 172924.65 | T3: =SUM(Q3,M3,I3,E3)/12 -> 287256.54 | U3: =T3/T6 -> 0.9522308
A4: Sumaryczna Marża 2024 | B4: =B3 -> 226808.74 | C4: =C3+B4 -> 583886.87 | D4: =D3+C4 -> 888146.5 | F4: =F3+D4 -> 1209005 | G4: =G3+F4 -> 1400447.3 | H4: =H3+G4 -> 1698035.2 | I4: =I3+E3 -> 1698035.2 | J4: =J3+H4 -> 2016061.4 | K4: =K3+J4 -> 2304235 | L4: =L3+K4 -> 2548206.7 | N4: =N3+L4 -> 2882212 | O4: =O3+N4 -> 3202810.5 | P4: =P3+O4 -> 3447078.5 | Q4: =Q3+M3 -> 1749043.4
A5: Wzrost Marży 2025 w stos do Marży 2024 | B5: =B9/B4-1 -> 0.19363519 | C5: =C9/C4-1 -> 0.0099001046 | D5: =D9/D4-1 -> -0.033898686 | E5: =E8/E3-1 -> -0.033898686 | F5: =F9/F4-1 -> -0.032611789 | G5: =G9/G4-1 -> 0.038816466 | H5: =H9/H4-1 -> 0.0095456013 | I5: =I8/I3-1 -> 0.057187818 | J5: =J9/J4-1 -> -0.14970651 | K5: =K9/K4-1 -> -0.2560464 | L5: =L9/L4-1 -> -0.32727437 | M5: =M8/M3-1 -> -1 | N5: =N9/N4-1 -> -0.40523322 | O5: =O9/O4-1 -> -0.46476885 | P5: =P9/P4-1 -> -0.50269658 | Q5: =Q8/Q3-1 -> -1 | R5: =R6/R3-1 -> 0.050165567
A6: Plan Sprzedaży Marża | B6: =DH!B6 -> 255900 | C6: =DH!C6 -> 284333.33 | D6: =DH!D6 -> 312766.67 | E6: =SUM(B6:D6) -> 853000 | F6: =DH!F6 -> 276700.32 | G6: =DH!G6 -> 307444.8 | H6: =DH!H6 -> 338189.28 | I6: =SUM(F6:H6) -> 922334.39 | J6: =DH!J6 -> 276700.32 | K6: =DH!K6 -> 307444.8 | L6: =DH!L6 -> 338189.28 | M6: =SUM(J6:L6) -> 922334.39 | N6: =DH!N6 -> 276700.32 | O6: =DH!O6 -> 307444.8 | P6: =DH!P6 -> 338189.28 | Q6: =SUM(N6:P6) -> 922334.39 | R6: =B6+C6+D6+F6+G6+H6+J6+K6+L6+N6+O6+P6 -> 3620003.2 | T6: =SUM(Q6,M6,I6,E6)/12 -> 301666.93 | U6: =T6/T3 -> 1.0501656
A7: Sumaryczny Plan Sprzedaży Marża | B7: =B6 -> 255900 | C7: =C6+B7 -> 540233.33 | D7: =DH!D7 -> 853000 | E7: =E6/E3-1 -> -0.039572863 | F7: =F6+D7 -> 1129700.3 | G7: =G6+F7 -> 1437145.1 | H7: =H6+G7 -> 1775334.4 | I7: =I6/I3-1 -> 0.13884097 | J7: =J6+H7 -> 2052034.7 | K7: =K6+J7 -> 2359479.5 | L7: =L6+K7 -> 2697668.8 | M7: =M6/M3-1 -> 0.084880405 | N7: =N6+L7 -> 2974369.1 | O7: =O6+N7 -> 3281813.9 | P7: =P6+O7 -> 3620003.2 | Q7: =Q6/Q3-1 -> 0.026102185 | R7: =R8/R6 -> 0.47354763
A8: Miesięczna realizacja Planu Sprzedaży Marża | B8: =DH!B8 -> 270726.89 | C8: =DH!C8 -> 318940.52 | D8: =DH!D8 -> 268372.09 | E8: =SUM(B8:D8) -> 858039.5 | F8: =DH!F8 -> 311537.67 | G8: =DH!G8 -> 285230.5 | H8: =DH!H8 -> 259436.25 | I8: =SUM(F8:H8) -> 856204.43 | J8: =DH!J8 -> 0 | K8: =DH!K8 -> 0 | L8: =DH!L8 -> 0 | M8: =SUM(J8:L8) -> 0 | N8: =DH!N8 -> 0 | O8: =DH!O8 -> 0 | P8: =DH!P8 -> 0 | Q8: =SUM(N8:P8) -> 0 | R8: =B8+C8+D8+F8+G8+H8+J8+K8+L8+N8+O8+P8 -> 1714243.9 | S8: =R8/R6 -> 0.47354763 | T8: =SUM(Q8,M8,I8,E8)/12 -> 142853.66
A9: Sumaryczna realizacja planu sprzedaży Marża | B9: =B8 -> 270726.89 | C9: =C8+B9 -> 589667.41 | D9: =D8+C9 -> 858039.5 | E9: =E8-E3 -> -30106.999 | F9: =F8+D9 -> 1169577.2 | G9: =G8+F9 -> 1454807.7 | H9: =H8+G9 -> 1714243.9 | I9: =(E8+I8)-(E3+I3) -> 16208.767 | J9: =J8+H9 -> 1714243.9 | K9: =K8+J9 -> 1714243.9 | L9: =L8+K9 -> 1714243.9 | M9: =(E8+I8+M8)-(E3+I3+M3) -> -833962.72 | N9: =N8+L9 -> 1714243.9 | O9: =O8+N9 -> 1714243.9 | P9: =P8+O9 -> 1714243.9 | Q9: =P7*0.95 -> 3439003
A10: Wysokość zrealizowania Miesięcznego Planu Sprzedaży Marża | B10: =B8/B6 -> 1.0579402 | C10: =C8/C6 -> 1.1217134 | D10: =D8/D6 -> 0.85805848 | F10: =F8/F6 -> 1.1259028 | G10: =G8/G6 -> 0.92774541 | H10: =H8/H6 -> 0.76713329 | I10: =H7/I4-1 -> 0.04552275 | J10: =J8/J6 -> 0 | K10: =K8/K6 -> 0 | L10: =L8/L6 -> 0 | N10: =N8/N6 -> 0 | O10: =O8/O6 -> 0 | P10: =P8/P6 -> 0
A11: Różnica wskaźnika Marża | B11: =B9-B7 -> 14826.894 | C11: =C9-C7 -> 49434.078 | D11: =D9-D7 -> 5039.501 | F11: =F9-F7 -> 39876.857 | G11: =G9-G7 -> 17662.56 | H11: =H9-H7 -> -61090.463 | I11: =(E6+I6)-(E3+I3) -> 77299.23 | J11: =J9-J7 -> -337790.78 | K11: =K9-K7 -> -645235.58 | L11: =L9-L7 -> -983424.85 | M11: =(E8+I8+M8)/3 -> 571414.64 | N11: =N9-N7 -> -1260125.2 | O11: =O9-O7 -> -1567570 | P11: =P9-P7 -> -1905759.2
A12: Wysokość zrealizowania Planu Sprzedaży Marża | B12: =B9/B7 -> 1.0579402 | C12: =C9/C7 -> 1.091505 | D12: =D9/D7 -> 1.005908 | F12: =F9/F7 -> 1.0352986 | G12: =G9/G7 -> 1.01229 | H12: =H9/H7 -> 0.96558932 | J12: =J9/J7 -> 0.83538739 | K12: =K9/K7 -> 0.72653478 | L12: =L9/L7 -> 0.63545382 | N12: =N9/N7 -> 0.57633867 | O12: =O9/O7 -> 0.52234648 | P12: =P9/P7 -> 0.47354763
A13: Kwartalny Plan Sprzedaży Marża | B13: =Target!C8 -> 255900 | C13: =Target!D8 -> 284333.33 | D13: =Target!E8 -> 312766.67 | E13: =SUM(B13:D13) -> 853000 | F13: =Target!F8 -> 276700.32 | G13: =Target!G8 -> 307444.8 | H13: =Target!H8 -> 338189.28 | I13: =SUM(F13:H13) -> 922334.39 | J13: =Target!I8 -> 276700.32 | K13: =Target!J8 -> 307444.8 | L13: =Target!K8 -> 338189.28 | M13: =SUM(J13:L13) -> 922334.39 | N13: =Target!L8 -> 276700.32 | O13: =Target!M8 -> 307444.8 | P13: =Target!N8 -> 338189.28 | Q13: =SUM(N13:P13) -> 922334.39
A14: Sumaryczna Kwartalna Realizacja Planu Sprzedaży Marża | B14: =B8/B13 -> 1.0579402 | C14: =(B8+C8)/(B13+C13) -> 1.091505 | D14: =(D8+C8+B8)/(B13+C13+D13) -> 1.005908 | E14: =E8-E13 -> 5039.501 | F14: =F8/F13 -> 1.1259028 | G14: =(F8+G8)/(F13+G13) -> 1.0216095 | H14: =(H8+G8+F8)/(F13+G13+H13) -> 0.92830153 | I14: =I8-I13 -> -66129.964 | J14: =J8/J13 -> 0 | K14: =(J8+K8)/(J13+K13) -> 0 | L14: =(L8+K8+J8)/(J13+K13+L13) -> 0 | M14: =M8-M13 -> -922334.39 | N14: =N8/N13 -> 0 | O14: =(N8+O8)/(N13+O13) -> 0 | P14: =(P8+O8+N8)/(N13+O13+P13) -> 0 | Q14: =Q8-Q13 -> -922334.39
A15: Realizacja MINIMUM | B15: =B9/(Target!$D$26/12*REALIZACJE!B18) -> 0.94466993 | C15: =C9/(Target!$D$26/12*REALIZACJE!C18) -> 1.0287878 | D15: =D9/(Target!$D$26/12*REALIZACJE!D18) -> 0.9980096 | F15: =F9/(Target!$D$26/12*REALIZACJE!F18) -> 1.0202758 | G15: =G9/(Target!$D$26/12*REALIZACJE!G18) -> 1.0152763 | H15: =H9/(Target!$D$26/12*REALIZACJE!H18) -> 0.99694238 | J15: =J9/(Target!$D$26/12*REALIZACJE!J18) -> 0.85452204 | K15: =K9/(Target!$D$26/12*REALIZACJE!K18) -> 0.74770679 | L15: =L9/(Target!$D$26/12*REALIZACJE!L18) -> 0.66462825 | N15: =N9/(Target!$D$26/12*REALIZACJE!N18) -> 0.59816543 | O15: =O9/(Target!$D$26/12*REALIZACJE!O18) -> 0.54378675 | P15: =P9/(Target!$D$26/12*REALIZACJE!P18) -> 0.49847119
A16: Realizacja PLAN (CEL STRATEGICZNY) | B16: =B9/(Target!$F$26/12*REALIZACJE!B18) -> 0.89743643 | C16: =C9/(Target!$F$26/12*REALIZACJE!C18) -> 0.97734844 | D16: =D9/(Target!$F$26/12*REALIZACJE!D18) -> 0.94810912 | F16: =F9/(Target!$F$26/12*REALIZACJE!F18) -> 0.969262 | G16: =G9/(Target!$F$26/12*REALIZACJE!G18) -> 0.96451253 | H16: =H9/(Target!$F$26/12*REALIZACJE!H18) -> 0.94709526 | J16: =J9/(Target!$F$26/12*REALIZACJE!J18) -> 0.81179594 | K16: =K9/(Target!$F$26/12*REALIZACJE!K18) -> 0.71032145 | L16: =L9/(Target!$F$26/12*REALIZACJE!L18) -> 0.63139684 | N16: =N9/(Target!$F$26/12*REALIZACJE!N18) -> 0.56825716 | O16: =O9/(Target!$F$26/12*REALIZACJE!O18) -> 0.51659742 | P16: =P9/(Target!$F$26/12*REALIZACJE!P18) -> 0.47354763
A17: Realizacja CEL | B17: =B9/(Target!$H$26/12*REALIZACJE!B18) -> 0.85470136 | C17: =C9/(Target!$H$26/12*REALIZACJE!C18) -> 0.93080804 | D17: =D9/(Target!$H$26/12*REALIZACJE!D18) -> 0.90296106 | F17: =F9/(Target!$H$26/12*REALIZACJE!F18) -> 0.92310667 | G17: =G9/(Target!$H$26/12*REALIZACJE!G18) -> 0.91858336 | H17: =H9/(Target!$H$26/12*REALIZACJE!H18) -> 0.90199549 | J17: =J9/(Target!$H$26/12*REALIZACJE!J18) -> 0.77313899 | K17: =K9/(Target!$H$26/12*REALIZACJE!K18) -> 0.67649662 | L17: =L9/(Target!$H$26/12*REALIZACJE!L18) -> 0.60133033 | N17: =N9/(Target!$H$26/12*REALIZACJE!N18) -> 0.54119729 | O17: =O9/(Target!$H$26/12*REALIZACJE!O18) -> 0.49199754 | P17: =P9/(Target!$H$26/12*REALIZACJE!P18) -> 0.45099774
B18: 1 | C18: 2 | D18: 3 | F18: 4 | G18: 5 | H18: 6 | J18: 7 | K18: 8 | L18: 9 | N18: 10 | O18: 11 | P18: 12
A19: Obrót 2024 | B19: =DH!B16 -> 691721.1 | C19: =DH!C16 -> 997536.9 | D19: =DH!D16 -> 813771.08 | E19: =DH!E16 -> 2503029.1 | F19: =DH!F16 -> 882952.5 | G19: =DH!G16 -> 577673.01 | H19: =DH!H16 -> 790124.75 | I19: =DH!I16 -> 2250750.3 | ... R19: =DH!R16 -> 9331337.3 | S19: =R22-R19 -> 549866.5 | T19: =SUM(Q19,M19,I19,E19)/12 -> 777611.45 | U19: =T19/T22 -> 0.94435228
A20: Sumaryczny Obrót 2024 | B20: =B19 -> 691721.1 | C20: =C19+B20 -> 1689258 | D20: =D19+C20 -> 2503029.1 | F20: =F19+D20 -> 3385981.6 | G20: =G19+F20 -> 3963654.6 | H20: =H19+G20 -> 4753779.3 | I20: =I19+E19 -> 4753779.3 | J20: =J19+H20 -> 5593335.4 | K20: =K19+J20 -> 6339621.9 | L20: =L19+K20 -> 7018801.9 | N20: =N19+L20 -> 7823615.2 | O20: =O19+N20 -> 8649097.1 | P20: =P19+O20 -> 9331337.3
A21: Wzrost Obrotu 2025 w stos do Obrotu 2024 | B21: =B25/B20-1 -> 0.063019824 | C21: =C25/C20-1 -> -0.053220211 | D21: =D25/D20-1 -> -0.08845168 | E21: =E24/E19-1 -> -0.08845168 | F21: =F25/F20-1 -> -0.059645132 | G21: =G25/G20-1 -> -0.0022258469 | H21: =H25/H20-1 -> -0.027476013 | I21: =I24/I19-1 -> 0.040334205 | J21: =J25/J20-1 -> -0.17345124 | K21: =K25/K20-1 -> -0.27075076 | L21: =L25/L20-1 -> -0.34131715 | M21: =M24/M19-1 -> -1 | N21: =N25/N20-1 -> -0.40907569 | O21: =O25/O20-1 -> -0.46547433 | P21: =P25/P20-1 -> -0.504555 | Q21: =Q24/Q19-1 -> -1 | R21: =R22/R19-1 -> 0.058926869
A22: Plan Sprzedaży Obrót | B22: =DH!B19 -> 720845.07 | C22: =DH!C19 -> 800938.97 | D22: =DH!D19 -> 881032.86 | E22: =SUM(B22:D22) -> 2402816.9 | F22: =DH!F19 -> 747838.69 | G22: =DH!G19 -> 830931.88 | H22: =DH!H19 -> 914025.07 | I22: =SUM(F22:H22) -> 2492795.6 | J22: =DH!J19 -> 747838.69 | K22: =DH!K19 -> 830931.88 | L22: =DH!L19 -> 914025.07 | M22: =SUM(J22:L22) -> 2492795.6 | N22: =DH!N19 -> 747838.69 | O22: =DH!O19 -> 830931.88 | P22: =DH!P19 -> 914025.07 | Q22: =SUM(N22:P22) -> 2492795.6 | R22: =B22+C22+D22+F22+G22+H22+J22+K22+L22+N22+O22+P22 -> 9881203.8 | T22: =SUM(Q22,M22,I22,E22)/12 -> 823433.65 | U22: =T22/T19 -> 1.0589269
A23: Sumaryczny Plan Sprzedaży Obrót | B23: =B22 -> 720845.07 | C23: =C22+B23 -> 1521784 | D23: =D22+C23 -> 2402816.9 | E23: =E22/E19-1 -> -0.040036362 | F23: =F22+D23 -> 3150655.6 | G23: =G22+F23 -> 3981587.5 | H23: =H22+G23 -> 4895612.6 | I23: =I22/I19-1 -> 0.10753987 | J23: =J22+H23 -> 5643451.2 | K23: =K22+J23 -> 6474383.1 | L23: =L22+K23 -> 7388408.2 | M23: =M22/M19-1 -> 0.10056107 | N23: =N22+L23 -> 8136246.9 | O23: =O22+N23 -> 8967178.8 | P23: =P22+O23 -> 9881203.8 | Q23: =Q22/Q19-1 -> 0.077949161 | R23: =R24/R22 -> 0.46787461
A24: Miesięczna realizacja Planu Sprzedaży Obrót | B24: =DH!B21 -> 735313.24 | C24: =DH!C21 -> 864042.09 | D24: =DH!D21 -> 682276.62 | E24: =SUM(B24:D24) -> 2281632 | F24: =DH!F21 -> 902392.31 | G24: =DH!G21 -> 770807.84 | H24: =DH!H21 -> 668332.33 | I24: =SUM(F24:H24) -> 2341532.5 | J24: =DH!J21 -> 0 | K24: =DH!K21 -> 0 | L24: =DH!L21 -> 0 | M24: =SUM(J24:L24) -> 0 | N24: =DH!N21 -> 0 | O24: =DH!O21 -> 0 | P24: =DH!P21 -> 0 | Q24: =SUM(N24:P24) -> 0 | R24: =B24+C24+D24+F24+G24+H24+J24+K24+L24+N24+O24+P24 -> 4623164.4 | S24: =R24/R22 -> 0.46787461
A25: Sumaryczna realizacja planu sprzedaży Obrót | B25: =B24 -> 735313.24 | C25: =C24+B25 -> 1599355.3 | D25: =D24+C25 -> 2281632 | E25: =E24-E19 -> -221397.13 | F25: =F24+D25 -> 3184024.3 | G25: =G24+F25 -> 3954832.1 | H25: =H24+G25 -> 4623164.4 | I25: =(E24+I24)-(E19+I19) -> -130614.9 | J25: =J24+H25 -> 4623164.4 | K25: =K24+J25 -> 4623164.4 | L25: =L24+K25 -> 4623164.4 | N25: =N24+L25 -> 4623164.4 | O25: =O24+N25 -> 4623164.4 | P25: =P24+O25 -> 4623164.4 | R25: =R24*1.1 -> 5085480.9
A26: Wysokość zrealizowania Miesięcznego Planu Sprzedaży Obrót | B26: =B24/B22 -> 1.0200711 | C26: =C24/C22 -> 1.0787864 | D26: =D24/D22 -> 0.77440542 | F26: =F24/F22 -> 1.206667 | G26: =G24/G22 -> 0.92764263 | H26: =H24/H22 -> 0.73119694 | J26: =J24/J22 -> 0 | K26: =K24/K22 -> 0 | L26: =L24/L22 -> 0 | N26: =N24/N22 -> 0 | O26: =O24/O22 -> 0 | P26: =P24/P22 -> 0
A27: Wysokość zrealizowania Planu Sprzedaży Obrót | B27: =B25/B23 -> 1.0200711 | C27: =C25/C23 -> 1.0509739 | D27: =D25/D23 -> 0.94956547 | F27: =F25/F23 -> 1.010591 | G27: =G25/G23 -> 0.99328022 | H27: =H25/H23 -> 0.94434851 | J27: =J25/J23 -> 0.81920871 | K27: =K25/K23 -> 0.71407026 | L27: =L25/L23 -> 0.62573213 | N27: =N25/N23 -> 0.56821831 | O27: =O25/O23 -> 0.5155651 | P27: =P25/P23 -> 0.46787461
A28: Różnica wskaźnika Obrót | B28: =B25-B23 -> 14468.172 | C28: =C25-C23 -> 77571.295 | D28: =D25-D23 -> -121184.95 | F28: =F25-F23 -> 33368.666 | G28: =G25-G23 -> -26755.377 | H28: =H25-H23 -> -272448.11 | J28: =J25-J23 -> -1020286.8 | K28: =K25-K23 -> -1851218.7 | L28: =L25-L23 -> -2765243.8 | N28: =N25-N23 -> -3513082.5 | O28: =O25-O23 -> -4344014.3 | P28: =P25-P23 -> -5258039.4
A29: Realizacja MINIMUM | B29: =B25/(Target!$D$27/12*B18) -> 0.93998337 | C29: =C25/(Target!$D$27/12*C18) -> 1.0222633 | D29: =D25/(Target!$D$27/12*D18) -> 0.97223694 | F29: =F25/(Target!$D$27/12*F18) -> 1.0175697 | G29: =G25/(Target!$D$27/12*G18) -> 1.0111273 | H29: =H25/(Target!$D$27/12*H18) -> 0.98499919 | J29: =J25/(Target!$D$27/12*J18) -> 0.84428502 | K29: =K25/(Target!$D$27/12*K18) -> 0.73874939 | L29: =L25/(Target!$D$27/12*L18) -> 0.65666612 | N29: =N25/(Target!$D$27/12*N18) -> 0.59099951 | O29: =O25/(Target!$D$27/12*O18) -> 0.53727228 | P29: =P25/(Target!$D$27/12*P18) -> 0.49249959
A30: Realizacja PLAN (CEL STRATEGICZNY) | B30: =B25/(Target!$F$27/12*REALIZACJE!B18) -> 0.8929842 | C30: =C25/(Target!$F$27/12*REALIZACJE!C18) -> 0.97115009 | D30: =D25/(Target!$F$27/12*REALIZACJE!D18) -> 0.92362509 | F30: =F25/(Target!$F$27/12*REALIZACJE!F18) -> 0.9666912 | G30: =G25/(Target!$F$27/12*REALIZACJE!G18) -> 0.96057092 | H30: =H25/(Target!$F$27/12*REALIZACJE!H18) -> 0.93574923 | J30: =J25/(Target!$F$27/12*REALIZACJE!J18) -> 0.80207077 | K30: =K25/(Target!$F$27/12*REALIZACJE!K18) -> 0.70181192 | L30: =L25/(Target!$F$27/12*REALIZACJE!L18) -> 0.62383282 | N30: =N25/(Target!$F$27/12*REALIZACJE!N18) -> 0.56144954 | O30: =O25/(Target!$F$27/12*REALIZACJE!O18) -> 0.51040867 | P30: =P25/(Target!$F$27/12*REALIZACJE!P18) -> 0.46787461
A31: Realizacja CEL | B31: =B25/(Target!$H$27/12*B18) -> 0.85046114 | C31: =C25/(Target!$H$27/12*C18) -> 0.92490485 | D31: =D25/(Target!$H$27/12*D18) -> 0.87964294 | F31: =F25/(Target!$H$27/12*F18) -> 0.92065828 | G31: =G25/(Target!$H$27/12*G18) -> 0.91482945 | H31: =H25/(Target!$H$27/12*H18) -> 0.89118974 | J31: =J25/(Target!$H$27/12*J18) -> 0.76387692 | K31: =K25/(Target!$H$27/12*K18) -> 0.66839231 | L31: =L25/(Target!$H$27/12*L18) -> 0.59412649 | N31: =N25/(Target!$H$27/12*N18) -> 0.53471384 | O31: =O25/(Target!$H$27/12*O18) -> 0.4861035 | P31: =P25/(Target!$H$27/12*P18) -> 0.44559487
A33: Wysokość % Marży miesięcznej | B33: =B8/B24 -> 0.368179 | C33: =C8/C24 -> 0.36912614 | D33: =D8/D24 -> 0.39334792 | E33: =E6/E22 -> 0.355 | F33: =F8/F24 -> 0.34523529 | G33: =G8/G24 -> 0.37004099 | H33: =H8/H24 -> 0.3881845 | I33: =I6/I22 -> 0.37 | J33: =J8/J24 -> #DIV/0! | K33: =K8/K24 -> #DIV/0! | L33: =L8/L24 -> #DIV/0! | M33: =M6/M22 -> 0.37 | N33: =N8/N24 -> #DIV/0! | O33: =O8/O24 -> #DIV/0! | P33: =P8/P24 -> #DIV/0! | Q33: =Q6/Q22 -> 0.37
A34: Wysokość % Marży sumarycznej | B34: =B9/B25 -> 0.368179 | C34: =C9/C25 -> 0.36869068 | D34: =D9/D25 -> 0.37606394 | F34: =F9/F25 -> 0.36732672 | G34: =G9/G25 -> 0.36785574 | H34: =H9/H25 -> 0.3707945 | J34: =J9/J25 -> 0.3707945 | K34: =K9/K25 -> 0.3707945 | L34: =L9/L25 -> 0.3707945 | N34: =N9/N25 -> 0.3707945 | O34: =O9/O25 -> 0.3707945 | P34: =P9/P25 -> 0.3707945 | R34: =R6/R22 -> 0.36635244

Sheet WYPŁATY
A2: PREMIA MIESIĘCZNA | R2: Symulacja zarobków miesięcznych
B3: STYCZEŃ | C3: LUTY | D3: MARZEC | F3: KWIECIEŃ | G3: MAJ | H3: CZERWIEC | J3: LIPIEC | K3: SIERPIEŃ | L3: WRZESIEŃ | N3: PAŹDZIERNIK | O3: LISTOPAD | P3: GRUDZIEŃ | R3: zasadnicza | S3: premia 15 | V3: suma mies
A4: Tomasz Sypień | B4: =TOMEK!B31 -> 2440 | C4: =TOMEK!C31 -> 2440 | D4: =TOMEK!D31 -> 2440 | F4: =TOMEK!F31 -> 2181.083 | G4: =TOMEK!G31 -> 2181.083 | H4: =TOMEK!H31 -> 1265.5415 | J4: =TOMEK!J31 -> 0 | K4: =TOMEK!K31 -> 0 | L4: =TOMEK!L31 -> 0 | N4: =TOMEK!N31 -> 0 | O4: =TOMEK!O31 -> 0 | P4: =TOMEK!P31 -> 0 | Q4: =SUM(N4:P4,J4:L4,F4:H4,B4:D4) -> 12947.708 | R4: 6800 | S4: =R4*15% -> 1020 | T4: =SUM(R4:S4) -> 7820 | U4: =F4 -> 2181.083 | V4: =SUM(T4:U4) -> 10001.083
A5: Bartłomiej Biskupski | B5: =BARTEK!B31 -> 2560 | C5: =BARTEK!C31 -> 2560 | D5: =BARTEK!D31 -> 2560 | F5: =BARTEK!F31 -> 3087.7682 | G5: =BARTEK!G31 -> 3087.7682 | H5: =BARTEK!H31 -> 3087.7682 | J5: =BARTEK!J31 -> 0 | K5: =BARTEK!K31 -> 0 | L5: =BARTEK!L31 -> 0 | N5: =BARTEK!N31 -> 0 | O5: =BARTEK!O31 -> 0 | P5: =BARTEK!P31 -> 0 | Q5: =SUM(N5:P5,J5:L5,F5:H5,B5:D5) -> 16943.305 | R5: 6800 | S5: =R5*15% -> 1020 | T5: =SUM(R5:S5) -> 7820 | U5: =F5 -> 3087.7682 | V5: =SUM(T5:U5) -> 10907.768
A6: Piotr Choma | B6: =PIOTR!B31 -> 2880 | C6: =PIOTR!C31 -> 2880 | D6: =PIOTR!D31 -> 2880 | F6: =PIOTR!F31 -> 2843.3881 | G6: =PIOTR!G31 -> 2843.3881 | H6: =PIOTR!H31 -> 2843.3881 | J6: =PIOTR!J31 -> 0 | K6: =PIOTR!K31 -> 0 | L6: =PIOTR!L31 -> 0 | N6: =PIOTR!N31 -> 0 | O6: =PIOTR!O31 -> 0 | P6: =PIOTR!P31 -> 0 | Q6: =SUM(N6:P6,J6:L6,F6:H6,B6:D6) -> 17170.164 | R6: 7500 | S6: =R6*15% -> 1125 | T6: =SUM(R6:S6) -> 8625 | U6: =F6 -> 2843.3881 | V6: =SUM(T6:U6) -> 11468.388
A7: Krzysztof Szwajdych | B7: =KRZYSZTOF!B31 -> 2560 | C7: =KRZYSZTOF!C31 -> 2560 | D7: =KRZYSZTOF!D31 -> 2560 | F7: =KRZYSZTOF!F31 -> 2492.7487 | G7: =KRZYSZTOF!G31 -> 2492.7487 | H7: =KRZYSZTOF!H31 -> 1421.3744 | J7: =KRZYSZTOF!J31 -> 0 | K7: =KRZYSZTOF!K31 -> 0 | L7: =KRZYSZTOF!L31 -> 0 | N7: =KRZYSZTOF!N31 -> 0 | O7: =KRZYSZTOF!O31 -> 0 | P7: =KRZYSZTOF!P31 -> 0 | Q7: =SUM(N7:P7,J7:L7,F7:H7,B7:D7) -> 14086.872 | R7: 6800 | S7: =R7*15% -> 1020 | T7: =SUM(R7:S7) -> 7820 | U7: =F7 -> 2492.7487 | V7: =SUM(T7:U7) -> 10312.749
A8: Piotr Lasia | B8: ='1'!N39 -> #REF! | C8: ='1'!O39 -> #REF! | D8: ='1'!P39 -> #REF! | F8: ='1'!J39 -> #REF! | G8: ='1'!K39 -> #REF! | H8: ='1'!L39 -> #REF! | J8: ='1'!F39 -> #REF! | K8: ='1'!G39 -> #REF! | L8: ='1'!H39 -> #REF! | N8: ='1'!B39 -> #REF! | O8: ='1'!C39 -> #REF! | P8: ='1'!D39 -> #REF!
B10: =SUM(B4:B7) -> 10440 | C10: =SUM(C4:C7) -> 10440 | D10: =SUM(D4:D7) -> 10440 | F10: =SUM(F4:F7) -> 10604.988 | G10: =SUM(G4:G7) -> 10604.988 | H10: =SUM(H4:H7) -> 8618.0722
A11: PREMIA KWARTALNA
B12: I KWARTAŁ | F12: II KWARTAŁ | J12: III KWARTAŁ | N12: IV KWARTAŁ
A13: Tomasz Sypień | B13: =TOMEK!B37 -> 6100 | F13: =TOMEK!F37 -> 0 | J13: =TOMEK!J37 -> 0 | N13: =TOMEK!N37 -> 0 | Q13: =SUM(B13:P13) -> 6100
A14: Bartłomiej Biskupski | B14: =BARTEK!B37 -> 4480 | F14: =BARTEK!F37 -> 3500 | J14: =BARTEK!J37 -> 0 | N14: =BARTEK!N37 -> 0 | Q14: =SUM(B14:P14) -> 7980
A15: Piotr Choma | B15: =PIOTR!B37 -> 0 | F15: =PIOTR!F37 -> 7000 | J15: =PIOTR!J37 -> 0 | N15: =PIOTR!N37 -> 0 | Q15: =SUM(B15:P15) -> 7000
A16: Krzysztof Szwajdych | B16: =KRZYSZTOF!B37 -> 4480 | F16: =KRZYSZTOF!F37 -> 0 | J16: =KRZYSZTOF!J37 -> 0 | N16: =KRZYSZTOF!N37 -> 0 | Q16: =SUM(B16:P16) -> 4480
A17: Piotr Lasia | B17: ='1'!N45 -> #REF! | F17: ='1'!J45 -> #REF! | J17: ='1'!F45 -> #REF! | N17: ='1'!B45 -> #REF!
A21: PREMIA DODATKOWA
B22: STYCZEŃ | C22: LUTY | D22: MARZEC | F22: KWIECIEŃ | G22: MAJ | H22: CZERWIEC | J22: LIPIEC | K22: SIERPIEŃ | L22: WRZESIEŃ | N22: PAŹDZIERNIK | O22: LISTOPAD | P22: GRUDZIEŃ
A23: Tomasz Sypień
A24: Bartłomiej Biskupski
A25: Piotr Choma
A26: Krzysztof Szwajdych | D26: =RCKIK!B34 -> 0 | H26: =RCKIK!F34 -> 0 | L26: =RCKIK!J34 -> 0 | P26: =RCKIK!N34 -> 0
A27: Piotr Lasia

Sheet Target
A1: `
C2: I | D2: II | E2: III | F2: IV | G2: V | H2: VI | I2: VII | J2: VIII | K2: IX | L2: X | M2: XI | N2: XII | O2: Rok | P2: Realizacja | Q2: % real rocznego PS | R2: % PSDH | S2: % sumy real rocznej
A3: Tomasz Sypień | C3: =C14 -> 47400 | D3: =E14 -> 52666.667 | E3: =G14 -> 57933.333 | F3: =I14 -> 51700.128 | G3: =K14 -> 57444.587 | H3: =M14 -> 63189.045 | I3: =C50 -> 51700.128 | J3: =E50 -> 57444.587 | K3: =G50 -> 63189.045 | L3: =C59 -> 51700.128 | M3: =E59 -> 57444.587 | N3: =G59 -> 63189.045 | O3: =SUM(C3:N3) -> 675001.28 | P3: =TOMEK!R6 -> 316559.41 | Q3: =P3/O3 -> 0.46897601 | R3: =O3/O8 -> 0.18646428 | S3: =P3/P8 -> 0.18466416
A4: Grupa RCKIK | C4: =C15 -> 16800 | D4: =E15 -> 18666.667 | E4: =G15 -> 20533.333 | F4: =I15 -> 16800 | G4: =K15 -> 18666.667 | H4: =M15 -> 20533.333 | I4: =C51 -> 16800 | J4: =E51 -> 18666.667 | K4: =G51 -> 20533.333 | L4: =C60 -> 16800 | M4: =E60 -> 18666.667 | N4: =G60 -> 20533.333 | O4: =SUM(C4:N4) -> 224000 | P4: =RCKIK!R6 -> 58997.063 | Q4: =P4/O4 -> 0.26337975 | R4: =O4/O8 -> 0.061878399 | S4: =P4/P8 -> 0.034415792
A5: Bartłomiej Biskupski | C5: =C16 -> 67800 | D5: =E16 -> 75333.333 | E5: =G16 -> 82866.667 | F5: =I16 -> 77300.136 | G5: =K16 -> 85889.04 | H5: =M16 -> 94477.944 | I5: =C52 -> 77300.136 | J5: =E52 -> 85889.04 | K5: =G52 -> 94477.944 | L5: =C61 -> 77300.136 | M5: =E61 -> 85889.04 | N5: =G61 -> 94477.944 | O5: =SUM(C5:N5) -> 999001.36 | P5: =BARTEK!R6 -> 500408.87 | Q5: =P5/O5 -> 0.5009091 | R5: =O5/O8 -> 0.27596698 | S5: =P5/P8 -> 0.29191229
A6: Piotr Choma | C6: =C17 -> 67800 | D6: =E17 -> 75333.333 | E6: =G17 -> 82866.667 | F6: =I17 -> 70400.13 | G6: =K17 -> 78222.367 | H6: =M17 -> 86044.603 | I6: =C53 -> 70400.13 | J6: =E53 -> 78222.367 | K6: =G53 -> 86044.603 | L6: =C62 -> 70400.13 | M6: =E62 -> 78222.367 | N6: =G62 -> 86044.603 | O6: =SUM(C6:N6) -> 930001.3 | P6: =PIOTR!R6 -> 475183.79 | Q6: =P6/O6 -> 0.5109496 | R6: =O6/O8 -> 0.25690621 | S6: =P6/P8 -> 0.2771973
A7: Krzysztof Szwajdych | C7: =C18 -> 56100 | D7: =E18 -> 62333.333 | E7: =G18 -> 68566.667 | F7: =I18 -> 60499.923 | G7: =K18 -> 67222.137 | H7: =M18 -> 73944.35 | I7: =C54 -> 60499.923 | J7: =E54 -> 67222.137 | K7: =G54 -> 73944.35 | L7: =C63 -> 60499.923 | M7: =E63 -> 67222.137 | N7: =G63 -> 73944.35 | O7: =SUM(C7:N7) -> 791999.23 | P7: =KRZYSZTOF!R6 -> 363094.8 | Q7: =P7/O7 -> 0.45845347 | R7: =O7/O8 -> 0.21878413 | S7: =P7/P8 -> 0.21181046
A8: DZIAŁ: | C8: =SUM(C3:C7) -> 255900 | D8: =SUM(D3:D7) -> 284333.33 | E8: =SUM(E3:E7) -> 312766.67 | F8: =SUM(F3:F7) -> 276700.32 | G8: =SUM(G3:G7) -> 307444.8 | H8: =SUM(H3:H7) -> 338189.28 | I8: =SUM(I3:I7) -> 276700.32 | J8: =SUM(J3:J7) -> 307444.8 | ... N8: =SUM(N3:N7) -> 338189.28 | O8: =SUM(C8:N8) -> 3620003.2 | P8: =SUM(P3:P7) -> 1714243.9 | Q8: =P8/O8 -> 0.47354763 | R8: 100 | S8: 100
B12: Styczeń | D12: Luty | F12: Marzec | H12: KWIECIEŃ | J12: MAJ | L12: CZERWIEC | N12: LIPIEC | P12: SIERPIEŃ | R12: WRZESIEŃ | T12: PAŹDZIERNIK | V12: LISTOPAD | X12: GRUDZIEŃ
B13: Obrót | C13: Marża | D13: Obrót | E13: Marża | F13: Obrót | G13: Marża | H13: Obrót | I13: Marża | J13: Obrót | K13: Marża | L13: Obrót | M13: Marża | N13: Obrót | O13: Marża | P13: Obrót | Q13: Marża | R13: Obrót | S13: Marża | T13: Obrót | U13: Marża | V13: Obrót | W13: Marża | X13: Obrót | Y13: Marża
A14: Tomasz Sypień; | B14: =B31 -> 0 | C14: =C31 -> 47400 | D14: =D31 -> 0 | E14: =E31 -> 52666.667 | F14: =F31 -> 0 | G14: =G31 -> 57933.333 | H14: =B40 -> 0 | I14: =C40 -> 51700.128 | J14: =D40 -> 0 | K14: =E40 -> 57444.587 | L14: =F40 -> 0 | M14: =G40 -> 63189.045 | N14: =B50 -> 0 | O14: =C50 -> 51700.128 | P14: =D50 -> 0 | Q14: =E50 -> 57444.587 | R14: =F50 -> 0 | S14: =G50 -> 63189.045 | T14: =B59 -> 0 | U14: =C59 -> 51700.128 | V14: =D59 -> 0 | W14: =E59 -> 57444.587 | X14: =F59 -> 0 | Y14: =G59 -> 63189.045
A15: Grupa RCKIK | B15: =B32 -> 0 | C15: =C32 -> 16800 | D15: =D32 -> 0 | E15: =E32 -> 18666.667 | F15: =F32 -> 0 | G15: =G32 -> 20533.333 | H15: =B41 -> 0 | I15: =C41 -> 16800 | J15: =D41 -> 0 | K15: =E41 -> 18666.667 | L15: =F41 -> 0 | M15: =G41 -> 20533.333 | N15: =B51 -> 0 | O15: =C51 -> 16800 | P15: =D51 -> 0 | Q15: =E51 -> 18666.667 | R15: =F51 -> 0 | S15: =G51 -> 20533.333 | T15: =B60 -> 0 | U15: =C60 -> 16800 | V15: =D60 -> 0 | W15: =E60 -> 18666.667 | X15: =F60 -> 0 | Y15: =G60 -> 20533.333
A16: Bartłomiej Biskupski; | B16: =B33 -> 0 | C16: =C33 -> 67800 | D16: =D33 -> 0 | E16: =E33 -> 75333.333 | F16: =F33 -> 0 | G16: =G33 -> 82866.667 | H16: =B42 -> 0 | I16: =C42 -> 77300.136 | J16: =D42 -> 0 | K16: =E42 -> 85889.04 | L16: =F42 -> 0 | M16: =G42 -> 94477.944 | N16: =B52 -> 0 | O16: =C52 -> 77300.136 | P16: =D52 -> 0 | Q16: =E52 -> 85889.04 | R16: =F52 -> 0 | S16: =G52 -> 94477.944 | T16: =B61 -> 0 | U16: =C61 -> 77300.136 | V16: =D61 -> 0 | W16: =E61 -> 85889.04 | X16: =F61 -> 0 | Y16: =G61 -> 94477.944
A17: Piotr Choma; | B17: =B34 -> 0 | C17: =C34 -> 67800 | D17: =D34 -> 0 | E17: =E34 -> 75333.333 | F17: =F34 -> 0 | G17: =G34 -> 82866.667 | H17: =B43 -> 0 | I17: =C43 -> 70400.13 | J17: =D43 -> 0 | K17: =E43 -> 78222.367 | L17: =F43 -> 0 | M17: =G43 -> 86044.603 | N17: =B53 -> 0 | O17: =C53 -> 70400.13 | P17: =D53 -> 0 | Q17: =E53 -> 78222.367 | R17: =F53 -> 0 | S17: =G53 -> 86044.603 | T17: =B62 -> 0 | U17: =C62 -> 70400.13 | V17: =D62 -> 0 | W17: =E62 -> 78222.367 | X17: =F62 -> 0 | Y17: =G62 -> 86044.603
A18: Krzysztof Szwajdych; | B18: =B35 -> 0 | C18: =C35 -> 56100 | D18: =D35 -> 0 | E18: =E35 -> 62333.333 | F18: =F35 -> 0 | G18: =G35 -> 68566.667 | H18: =B44 -> 0 | I18: =C44 -> 60499.923 | J18: =D44 -> 0 | K18: =E44 -> 67222.137 | L18: =F44 -> 0 | M18: =G44 -> 73944.35 | N18: =B54 -> 0 | O18: =C54 -> 60499.923 | P18: =D54 -> 0 | Q18: =E54 -> 67222.137 | R18: =F54 -> 0 | S18: =G54 -> 73944.35 | T18: =B63 -> 0 | U18: =C63 -> 60499.923 | V18: =D63 -> 0 | W18: =E63 -> 67222.137 | X18: =F63 -> 0 | Y18: =G63 -> 73944.35
B21: I | C21: II | D21: III | E21: IV | F21: V | G21: VI | H21: VII | I21: VIII | J21: IX | K21: X | L21: XI | M21: XII
A22: Marża | B22: =C8 -> 255900 | C22: =D8 -> 284333.33 | D22: =E8 -> 312766.67 | E22: =F8 -> 276700.32 | F22: =G8 -> 307444.8 | G22: =H8 -> 338189.28 | H22: =I8 -> 276700.32 | I22: =J8 -> 307444.8 | ... M22: =N8 -> 338189.28 | N22: =SUM(B22:M22) -> 3620003.2 | O22: =N22/12 -> 301666.93
A23: Obrót | B23: =B22*100/35.5 -> 720845.07 | C23: =C22*100/35.5 -> 800938.97 | D23: =D22*100/35.5 -> 881032.86 | E23: =E22*100/37 -> 747838.69 | F23: =F22*100/37 -> 830931.88 | G23: =G22*100/37 -> 914025.07 | H23: =H22*100/37 -> 747838.69 | I23: =I22*100/37 -> 830931.88 | J23: =J22*100/37 -> 914025.07 | K23: =K22*100/37 -> 747838.69 | L23: =L22*100/37 -> 830931.88 | M23: =M22*100/37 -> 914025.07 | N23: =SUM(B23:M23) -> 9881203.8 | O23: =N23/12 -> 823433.65
D25: MINIMUM | F25: PLAN | H25: CEL
A26: Marża | B26: =DH!R3 -> 3447078.5 | D26: =F26*0.95 -> 3439003 | E26: =D26/B26-1 -> -0.0023427109 | F26: =N22 -> 3620003.2 | G26: =F26/B26-1 -> 0.050165567 | H26: =F26*1.05 -> 3801003.3 | I26: =H26/B26-1 -> 0.10267385 | J26: =H26/4 -> 950250.83
A27: Obrót | B27: =DH!R16 -> 9331337.3 | D27: =F27*0.95 -> 9387143.7 | E27: =D27/B27-1 -> 0.0059805259 | F27: =N23 -> 9881203.8 | G27: =F27/B27-1 -> 0.058926869 | H27: =F27*1.05 -> 10375264 | I27: =H27/B27-1 -> 0.11187321 | J27: =H27/4 -> 2593816
J28: =F26/12 -> 301666.93
B29: Styczeń | D29: Luty | F29: Marzec | H29: Q1
B30: Obrót | C30: Marża | D30: Obrót | E30: Marża | F30: Obrót | G30: Marża | H30: Obrót | I30: Marża | J30: Udział % w PSM | K30: Realizacja suma Q | L30: % sumy real.Q | M30: Ind. Kwota bazowa | N30: Kwota bazowa | O30: wynagr.zasad | P30: % sumy wynagr.zas
A31: Tomasz Sypień; | C31: =(I31/3)*0.9 -> 47400 | E31: =I31/3 -> 52666.667 | G31: =I31/3*1.1 -> 57933.333 | I31: 158000 | J31: =I31/I36 -> 0.1852286 | K31: =TOMEK!E6 -> 174069.15 | L31: =K31/K36 -> 0.20286846 | M31: =M36*J31 -> 5186.4009 | N31: =N36/4 -> 7000 | O31: 6100 | P31: =O31/O36 -> 0.22181818 | Q31: =O3*12%/12 -> 6750.0128
A32: Grupa RCKIK | C32: =(I32/3)*0.9 -> 16800 | E32: =I32/3 -> 18666.667 | G32: =I32/3*1.1 -> 20533.333 | I32: 56000 | J32: =I32/I36 -> 0.065650645 | K32: =RCKIK!E6 -> 30724.161 | L32: =K32/K36 -> 0.035807397 | M32: =M36*J32 -> 1838.2181 | O32: 1400 | P32: =O32/O36 -> 0.050909091 | Q32: =O4*12%/12 -> 2240
A33: Bartłomiej Biskupski; | C33: =(I33/3)*0.9 -> 67800 | E33: =I33/3 -> 75333.333 | G33: =I33/3*1.1 -> 82866.667 | I33: 226000 | J33: =I33/I36 -> 0.26494725 | K33: =BARTEK!E6 -> 240082.66 | L33: =K33/K36 -> 0.27980373 | M33: =M36*J33 -> 7418.5229 | N33: =N36/4 -> 7000 | O33: 6400 | P33: =O33/O36 -> 0.23272727 | Q33: =O5*12%/12 -> 9990.0136
A34: Piotr Choma; | C34: =(I34/3)*0.9 -> 67800 | E34: =I34/3 -> 75333.333 | G34: =I34/3*1.1 -> 82866.667 | I34: 226000 | J34: =I34/I36 -> 0.26494725 | K34: =PIOTR!E6 -> 215558.05 | L34: =K34/K36 -> 0.25122159 | M34: =M36*J34 -> 7418.5229 | N34: =N36/4 -> 7000 | O34: 7200 | P34: =O34/O36 -> 0.26181818 | Q34: =O6*12%/12 -> 9300.013
A35: Krzysztof Szwajdych; | C35: =(I35/3)*0.9 -> 56100 | E35: =I35/3 -> 62333.333 | G35: =I35/3*1.1 -> 68566.667 | I35: 187000 | J35: =I35/I36 -> 0.21922626 | K35: =KRZYSZTOF!E6 -> 197605.48 | L35: =K35/K36 -> 0.23029882 | M35: =M36*J35 -> 6138.3353 | N35: =N36/4 -> 7000 | O35: 6400 | P35: =O35/O36 -> 0.23272727 | Q35: =O7*12%/12 -> 7919.9923
A36: Suma: | I36: =SUM(I31:I35) -> 853000 | J36: 1 | K36: =SUM(K31:K35) -> 858039.5 | L36: 1 | M36: 28000 | N36: 28000 | O36: =SUM(O31:O35) -> 27500 | P36: 1
B38: Kwiecień | D38: Maj | F38: Czerwiec | H38: Q2
B39: Obrót | C39: Marża | D39: Obrót | E39: Marża | F39: Obrót | G39: Marża | H39: Obrót | I39: Marża | J39: Udział % w PSM | K39: Realizacja suma Q | L39: % sumy real.Q | M39: Ind. Kwota bazowa | N39: Kwota bazowa | O39: wynagr.zasad
A40: Tomasz Sypień; | C40: =(I40/3)*0.9 -> 51700.128 | E40: =I40/3 -> 57444.587 | G40: =I40/3*1.1 -> 63189.045 | I40: =I31*1.09072 -> 172333.76 | J40: =I40/I45 -> 0.18684521 | K40: =TOMEK!I6 -> 142490.26 | L40: =K40/K45 -> 0.16642084 | M40: =M45*J40 -> 5231.6658 | N40: =N45/4 -> 7000 | O40: 6800
A41: Grupa RCKIK | C41: =(I41/3)*0.9 -> 16800 | E41: =I41/3 -> 18666.667 | G41: =I41/3*1.1 -> 20533.333 | I41: =I32 -> 56000 | J41: =I41/I45 -> 0.060715507 | K41: =RCKIK!I6 -> 28272.902 | L41: =K41/K45 -> 0.033021205 | M41: =M45*J41 -> 1700.0342 | O41: 1400
A42: Bartłomiej Biskupski; | C42: =(I42/3)*0.9 -> 77300.136 | E42: =I42/3 -> 85889.04 | G42: =I42/3*1.1 -> 94477.944 | I42: =I33*1.14012 -> 257667.12 | J42: =I42/I45 -> 0.2793641 | K42: =BARTEK!I6 -> 260326.21 | L42: =K42/K45 -> 0.30404679 | M42: =M45*J42 -> 7822.1949 | N42: =N45/4 -> 7000 | O42: 6800
A43: Piotr Choma; | C43: =(I43/3)*0.9 -> 70400.13 | E43: =I43/3 -> 78222.367 | G43: =I43/3*1.1 -> 86044.603 | I43: =I34*1.03835 -> 234667.1 | J43: =I43/I45 -> 0.25442736 | K43: =PIOTR!I6 -> 259625.74 | L43: =K43/K45 -> 0.30322869 | M43: =M45*J43 -> 7123.966 | N43: =N45/4 -> 7000 | O43: 7500
A44: Krzysztof Szwajdych; | C44: =(I44/3)*0.9 -> 60499.923 | E44: =I44/3 -> 67222.137 | G44: =I44/3*1.1 -> 73944.35 | I44: =I35*1.07843 -> 201666.41 | J44: =I44/I45 -> 0.21864783 | K44: =KRZYSZTOF!I6 -> 165489.31 | L44: =K44/K45 -> 0.19328248 | M44: =M45*J44 -> 6122.1392 | N44: =N45/4 -> 7000 | O44: 6800
A45: Suma: | I45: =SUM(I40:I44) -> 922334.39 | J45: 1 | K45: =SUM(K40:K44) -> 856204.43 | L45: 1 | M45: 28000 | N45: 28000 | O45: =SUM(O40:O44) -> 29300
B48: lipiec | D48: sierpień | F48: wrzesień | H48: Q3
B49: Obrót | C49: Marża | D49: Obrót | E49: Marża | F49: Obrót | G49: Marża | H49: Obrót | I49: Marża | J49: Udział % w PSM | K49: Realizacja suma Q | L49: % sumy real.Q | M49: Ind. Kwota bazowa | N49: Kwota bazowa | O49: wynagr.zasad
A50: Tomasz Sypień; | C50: =(I50/3)*0.9 -> 51700.128 | E50: =I50/3 -> 57444.587 | G50: =I50/3*1.1 -> 63189.045 | I50: =I31*1.09072 -> 172333.76 | J50: =I50/I55 -> 0.18684521 | K50: =TOMEK!M6 -> 0 | L50: =K50/K55 -> #DIV/0! | M50: =M55*J50 -> 5231.6658 | N50: =N55/4 -> 7000 | O50: 6800
A51: Grupa RCKIK | C51: =(I51/3)*0.9 -> 16800 | E51: =I51/3 -> 18666.667 | G51: =I51/3*1.1 -> 20533.333 | I51: =I32 -> 56000 | J51: =I51/I55 -> 0.060715507 | K51: =RCKIK!M6 -> 0 | L51: =K51/K55 -> #DIV/0! | M51: =M55*J51 -> 1700.0342 | O51: 1400
A52: Bartłomiej Biskupski; | C52: =(I52/3)*0.9 -> 77300.136 | E52: =I52/3 -> 85889.04 | G52: =I52/3*1.1 -> 94477.944 | I52: =I33*1.14012 -> 257667.12 | J52: =I52/I55 -> 0.2793641 | K52: =BARTEK!M6 -> 0 | L52: =K52/K55 -> #DIV/0! | M52: =M55*J52 -> 7822.1949 | N52: =N55/4 -> 7000 | O52: 6800
A53: Piotr Choma; | C53: =(I53/3)*0.9 -> 70400.13 | E53: =I53/3 -> 78222.367 | G53: =I53/3*1.1 -> 86044.603 | I53: =I34*1.03835 -> 234667.1 | J53: =I53/I55 -> 0.25442736 | K53: =PIOTR!M6 -> 0 | L53: =K53/K55 -> #DIV/0! | M53: =M55*J53 -> 7123.966 | N53: =N55/4 -> 7000 | O53: 7500
A54: Krzysztof Szwajdych; | C54: =(I54/3)*0.9 -> 60499.923 | E54: =I54/3 -> 67222.137 | G54: =I54/3*1.1 -> 73944.35 | I54: =I35*1.07843 -> 201666.41 | J54: =I54/I55 -> 0.21864783 | K54: =KRZYSZTOF!M6 -> 0 | L54: =K54/K55 -> #DIV/0! | M54: =M55*J54 -> 6122.1392 | N54: =N55/4 -> 7000 | O54: 6800
A55: Suma: | I55: =SUM(I50:I54) -> 922334.39 | J55: 1 | K55: =SUM(K50:K54) -> 0 | L55: 1 | M55: 28000 | N55: 28000 | O55: =SUM(O50:O54) -> 29300
B57: październik | D57: listopad | F57: grudzień | H57: Q4
B58: Obrót | C58: Marża | D58: Obrót | E58: Marża | F58: Obrót | G58: Marża | H58: Obrót | I58: Marża | J58: Udział % w PSM | K58: Realizacja suma Q | L58: % sumy real.Q | M58: Ind. Kwota bazowa | N58: Kwota bazowa | O58: wynagr.zasad
A59: Tomasz Sypień; | C59: =(I59/3)*0.9 -> 51700.128 | E59: =I59/3 -> 57444.587 | G59: =I59/3*1.1 -> 63189.045 | I59: =I31*1.09072 -> 172333.76 | J59: =I59/I64 -> 0.18684521 | K59: =TOMEK!Q6 -> 0 | L59: =K59/K64 -> #DIV/0! | M59: =M64*J59 -> 5231.6658 | N59: =N64/4 -> 7000 | O59: 6800
A60: Grupa RCKIK | C60: =(I60/3)*0.9 -> 16800 | E60: =I60/3 -> 18666.667 | G60: =I60/3*1.1 -> 20533.333 | I60: =I32 -> 56000 | J60: =I60/I64 -> 0.060715507 | K60: =RCKIK!Q6 -> 0 | L60: =K60/K64 -> #DIV/0! | M60: =M64*J60 -> 1700.0342 | O60: 1400
A61: Bartłomiej Biskupski; | C61: =(I61/3)*0.9 -> 77300.136 | E61: =I61/3 -> 85889.04 | G61: =I61/3*1.1 -> 94477.944 | I61: =I33*1.14012 -> 257667.12 | J61: =I61/I64 -> 0.2793641 | K61: =BARTEK!Q6 -> 0 | L61: =K61/K64 -> #DIV/0! | M61: =M64*J61 -> 7822.1949 | N61: =N64/4 -> 7000 | O61: 6800
A62: Piotr Choma; | C62: =(I62/3)*0.9 -> 70400.13 | E62: =I62/3 -> 78222.367 | G62: =I62/3*1.1 -> 86044.603 | I62: =I34*1.03835 -> 234667.1 | J62: =I62/I64 -> 0.25442736 | K62: =PIOTR!Q6 -> 0 | L62: =K62/K64 -> #DIV/0! | M62: =M64*J62 -> 7123.966 | N62: =N64/4 -> 7000 | O62: 7500
A63: Krzysztof Szwajdych; | C63: =(I63/3)*0.9 -> 60499.923 | E63: =I63/3 -> 67222.137 | G63: =I63/3*1.1 -> 73944.35 | I63: =I35*1.07843 -> 201666.41 | J63: =I63/I64 -> 0.21864783 | K63: =KRZYSZTOF!Q6 -> 0 | L63: =K63/K64 -> #DIV/0! | M63: =M64*J63 -> 6122.1392 | N63: =N64/4 -> 7000 | O63: 6800
A64: Suma: | I64: =SUM(I59:I63) -> 922334.39 | J64: 1 | K64: =SUM(K59:K63) -> 0 | L64: 1 | M64: 28000 | N64: 28000 | O64: =SUM(O59:O63) -> 29300

Sheet I
A1: Pracownik | B1: Grupa | C1: Towar | D1: Ilość | E1: Jm | F1: Brutto | G1: Netto | H1: Koszt | I1: Zysk | J1: Marża
A2: Grupa RCKIK | D2: 1187.235 | F2: 35724.34 | G2: 29044.18 | H2: 24518.001 | I2: 4526.1787 | J2: 15.5837
A3: Bartłomiej Biskupski | D3: 5760.867 | F3: 176707.88 | G3: 143664.91 | H3: 82800.719 | I3: 60864.18 | J3: 42.3653
A4: Krzysztof Szwajdych | D4: 3683.181 | F4: 204896.23 | G4: 166582.27 | H4: 102406.58 | I4: 64175.684 | J4: 38.5249
A5: Tomasz Sypień | D5: 3244.64 | F5: 198314.41 | G5: 161231.2 | H5: 94586.99 | I5: 66644.211 | J5: 41.3345
A6: Piotr Choma | D6: 4942.219 | F6: 288792.75 | G6: 234790.69 | H6: 160274.04 | I6: 74516.641 | J6: 31.7374
A7: (Razem sprzedaż) | D7: 18818.142 | F7: 904435.62 | G7: 735313.25 | H7: 464586.32 | I7: 270726.91 | J7: 36.8179

Sheet II
A1: Pracownik | B1: Grupa | C1: Towar | D1: Ilość | E1: Jm | F1: Brutto | G1: Netto | H1: Koszt | I1: Zysk | J1: Marża
A2: Grupa RCKIK | D2: 937.115 | F2: 74141.43 | G2: 60277.551 | H2: 44066.927 | I2: 16210.623 | J2: 26.8933
A3: Tomasz Sypień | D3: 2639.504 | F3: 129866.75 | G3: 105582.71 | H3: 62170.707 | I3: 43412.004 | J3: 41.1165
A4: Piotr Choma | D4: 5279.413 | F4: 326526.81 | G4: 265468.94 | H4: 186176.48 | I4: 79292.469 | J4: 29.8688
A5: Krzysztof Szwajdych | D5: 4795.5 | F5: 243508.2 | G5: 198400.05 | H5: 112540.84 | I5: 85859.203 | J5: 43.2757
A6: Bartłomiej Biskupski | D6: 4005.64 | F6: 288204.81 | G6: 234312.84 | H6: 140146.62 | I6: 94166.219 | J6: 40.1882
A7: (Razem sprzedaż) | D7: 17657.172 | F7: 1062248 | G7: 864042.06 | H7: 545101.57 | I7: 318940.53 | J7: 36.9126

Sheet III
A1: Pracownik | B1: Grupa | C1: Towar | D1: Ilość | E1: Jm | F1: Brutto | G1: Netto | H1: Koszt | I1: Zysk | J1: Marża
A2: Grupa RCKIK | D2: 1739.14 | F2: 51388.039 | G2: 41778.879 | H2: 31791.52 | I2: 9987.3594 | J2: 23.9052
A3: Krzysztof Szwajdych | D3: 4381.15 | F3: 166402.38 | G3: 135286.41 | H3: 87715.811 | I3: 47570.598 | J3: 35.1628
A4: Piotr Choma | D4: 4229.573 | F4: 243591.69 | G4: 199307.95 | H4: 137559.01 | I4: 61748.938 | J4: 30.9816
A5: Tomasz Sypień | D5: 2773.234 | F5: 158140.3 | G5: 128569.29 | H5: 64556.353 | I5: 64012.938 | J5: 49.7886
A6: Bartłomiej Biskupski | D6: 2438.05 | F6: 218120.95 | G6: 177334.09 | H6: 92281.84 | I6: 85052.258 | J6: 47.9615
A7: (Razem sprzedaż) | D7: 15561.147 | F7: 837643.31 | G7: 682276.62 | H7: 413904.54 | I7: 268372.09 | J7: 39.3347

Sheet IV
A1: Pracownik | B1: Grupa | C1: Towar | D1: Ilość | E1: Jm | F1: Brutto | G1: Netto | H1: Koszt | I1: Zysk | J1: Marża
A2: Grupa RCKIK | D2: 995.915 | F2: 65595.688 | G2: 53329.84 | H2: 40701.214 | I2: 12628.626 | J2: 23.6802
A3: Tomasz Sypień | D3: 3129.14 | F3: 160413.08 | G3: 130849.06 | H3: 79863.584 | I3: 50985.477 | J3: 38.9651
A4: Krzysztof Szwajdych | D4: 4575.338 | F4: 247181.53 | G4: 201594.3 | H4: 138403 | I4: 63191.297 | J4: 31.3457
A5: Bartłomiej Biskupski | D5: 7946.5 | F5: 251017.02 | G5: 204078.89 | H5: 117378.3 | I5: 86700.594 | J5: 42.4838
A6: Piotr Choma | D6: 5894.096 | F6: 384424.56 | G6: 312540.22 | H6: 214508.53 | I6: 98031.68 | J6: 31.3661
A7: (Razem sprzedaż) | D7: 22540.989 | F7: 1108631.9 | G7: 902392.31 | H7: 590854.63 | I7: 311537.66 | J7: 34.5235

Sheet V
A1: Pracownik | B1: Grupa | C1: Towar | D1: Ilość | E1: Jm | F1: Brutto | G1: Netto | H1: Koszt | I1: Zysk | J1: Marża
A2: Grupa RCKIK | D2: 1021.145 | F2: 52275.559 | G2: 42500.449 | H2: 35252.095 | I2: 7248.355 | J2: 17.0547
A3: Tomasz Sypień | D3: 2202.61 | F3: 118754 | G3: 96547.938 | H3: 49843.084 | I3: 46704.855 | J3: 48.3747
A4: Krzysztof Szwajdych | D4: 3260.13 | F4: 184700.8 | G4: 150974.8 | H4: 87896.682 | I4: 63078.109 | J4: 41.7805
A5: Bartłomiej Biskupski | D5: 3285.95 | F5: 227632.98 | G5: 185067.41 | H5: 104342.16 | I5: 80725.25 | J5: 43.6193
A6: Piotr Choma | D6: 7520.626 | F6: 363732.28 | G6: 295717.25 | H6: 208243.32 | I6: 87473.93 | J6: 29.5802
A7: (Razem sprzedaż) | D7: 17290.461 | F7: 947095.62 | G7: 770807.81 | H7: 485577.34 | I7: 285230.5 | J7: 37.004

Sheet VI
A1: Pracownik | B1: Grupa | C1: Towar | D1: Ilość | E1: Jm | F1: Brutto | G1: Netto | H1: Koszt | I1: Zysk | J1: Marża
A2: Grupa RCKIK | D2: 695.7 | F2: 34358.262 | G2: 27933.529 | H2: 19537.609 | I2: 8395.9209 | J2: 30.0567
A3: Krzysztof Szwajdych | D3: 4356.87 | F3: 123992.17 | G3: 100806.56 | H3: 61586.652 | I3: 39219.906 | J3: 38.9061
A4: Tomasz Sypień | D4: 2180.744 | F4: 126930.98 | G4: 103195.87 | H4: 58395.943 | I4: 44799.926 | J4: 43.4125
A5: Piotr Choma | D5: 11919.706 | F5: 304165.66 | G5: 247289.08 | H5: 173168.94 | I5: 74120.133 | J5: 29.973
A6: Bartłomiej Biskupski | D6: 3030.745 | F6: 232601.98 | G6: 189107.3 | H6: 96206.925 | I6: 92900.367 | J6: 49.1257
A7: (Razem sprzedaż) | D7: 22183.765 | F7: 822049.06 | G7: 668332.31 | H7: 408896.07 | I7: 259436.25 | J7: 38.8184

Sheet VII

Sheet VIII

Sheet IX

Sheet X

Sheet XI

Sheet XII

Sheet 1
A1: Piotr Lasia | B1: PLAN IV KW Piotr Lasia | F1: PLAN III KW Piotr Lasia | J1: PLAN II KW Piotr Lasia | N1: PLAN I KW Piotr Lasia
A2: miesiąc | B2: październik | C2: listopad | D2: grudzień | E2: KW IV | F2: lipiec | G2: sierpień | H2: wrzesień | I2: KW III | J2: kwiecień | K2: maj | L2: czerwiec | M2: KW II | N2: styczeń | O2: luty | P2: marzec | Q2: KW I | R2: suma ROK
A4: Plan Sprzedaży Marża | B4: =Target!#REF! -> #REF! | C4: =Target!#REF! -> #REF! | D4: =Target!#REF! -> #REF! | E4: =SUM(B4:D4) -> #REF! | F4: =Target!#REF! -> #REF! | G4: =Target!#REF! -> #REF! | H4: =Target!#REF! -> #REF! | I4: =SUM(F4:H4) -> #REF! | J4: =Target!#REF! -> #REF! | K4: =Target!#REF! -> #REF! | L4: =Target!#REF! -> #REF! | M4: =SUM(J4:L4) -> #REF! | N4: =Target!#REF! -> #REF! | O4: =Target!#REF! -> #REF! | P4: =Target!#REF! -> #REF! | Q4: =SUM(N4:P4) -> #REF! | R4: =Q4+M4+I4+E4 -> #REF!
A5: Sumaryczny Plan Sprzedaży Marża | B5: =B4 -> #REF! | C5: =C4+B5 -> #REF! | D5: =D4+C5 -> #REF! | F5: =F4 -> #REF! | G5: =G4+F5 -> #REF! | H5: =H4+G5 -> #REF! | J5: =J4 -> #REF! | K5: =K4+J5 -> #REF! | L5: =L4+K5 -> #REF! | N5: =N4 -> #REF! | O5: =O4+N5 -> #REF! | P5: =P4+O5 -> #REF! | R5: =R6/R4 -> #REF!
A6: Miesięczna realizacja Planu Sprzedaży Marża | B6: =SUMIF(X!A:A,$A$1,X!I:I) -> 0 | C6: =SUMIF(XI!A:A,$A$1,XI!I:I) -> 0 | D6: =SUMIF(XII!A:A,$A$1,XII!I:I) -> 0 | E6: =SUM(B6:D6) -> 0 | F6: =SUMIF(VII!A:A,$A$1,VII!I:I) -> 0 | G6: =SUMIF(VIII!A:A,$A$1,VIII!I:I) -> 0 | H6: =SUMIF(IX!A:A,$A$1,IX!I:I) -> 0 | I6: =SUM(F6:H6) -> 0 | J6: =SUMIF(IV!A:A,$A$1,IV!I:I) -> 0 | K6: =SUMIF(V!A:A,$A$1,V!I:I) -> 0 | L6: =SUMIF(VI!A:A,$A$1,VI!I:I) -> 0 | M6: =SUM(J6:L6) -> 0 | N6: =SUMIF(I!A:A,$A$1,I!I:I) -> 0 | O6: =SUMIF(II!A:A,$A$1,II!I:I) -> 0 | P6: =SUMIF(III!A:A,$A$1,III!I:I) -> 0 | Q6: =SUM(N6:P6) -> 0 | R6: =Q6+M6+I6+E6 -> 0
A7: Sumaryczna realizacja planu sprzedaży Marża | B7: =B6 -> 0 | C7: =C6+B7 -> 0 | D7: =D6+C7 -> 0 | F7: =F6 -> 0 | G7: =G6+F7 -> 0 | H7: =H6+G7 -> 0 | J7: =J6 -> 0 | K7: =K6+J7 -> 0 | L7: =L6+K7 -> 0 | N7: =N6 -> 0 | O7: =O6+N7 -> 0 | P7: =P6+O7 -> 0
A8: Wysokość zrealizowania Miesięcznego Planu Sprzedaży Marża | B8: =B6/B4 -> #REF! | C8: =C6/C4 -> #REF! | D8: =D6/D4 -> #REF! | F8: =F6/F4 -> #REF! | G8: =G6/G4 -> #REF! | H8: =H6/H4 -> #REF! | J8: =J6/J4 -> #REF! | K8: =K6/K4 -> #REF! | L8: =L6/L4 -> #REF! | N8: =N6/N4 -> #REF! | O8: =O6/O4 -> #REF! | P8: =P6/P4 -> #REF!
A9: Wysokość zrealizowania Planu Sprzedaży Marża | B9: =B7/B5 -> #REF! | C9: =C7/C5 -> #REF! | D9: =D7/D5 -> #REF! | F9: =F7/F5 -> #REF! | G9: =G7/G5 -> #REF! | H9: =H7/H5 -> #REF! | J9: =J7/J5 -> #REF! | K9: =K7/K5 -> #REF! | L9: =L7/L5 -> #REF! | N9: =N7/N5 -> #REF! | O9: =O7/O5 -> #REF! | P9: =P7/P5 -> #REF!
A10: Różnica wskaźnika Marża | B10: =B7-B5 -> #REF! | C10: =C7-C5 -> #REF! | D10: =D7-D5 -> #REF! | F10: =F7-F5 -> #REF! | G10: =G7-G5 -> #REF! | H10: =H7-H5 -> #REF! | J10: =J7-J5 -> #REF! | K10: =K7-K5 -> #REF! | L10: =L7-L5 -> #REF! | N10: =N7-N5 -> #REF! | O10: =O7-O5 -> #REF! | P10: =P7-P5 -> #REF!
A11: Plan Sprzedaży Obrót | B11: =Target!#REF! -> #REF! | C11: =Target!#REF! -> #REF! | D11: =Target!#REF! -> #REF! | E11: =SUM(B11:D11) -> #REF! | F11: =Target!#REF! -> #REF! | G11: =Target!#REF! -> #REF! | H11: =Target!#REF! -> #REF! | I11: =SUM(F11:H11) -> #REF! | J11: =Target!#REF! -> #REF! | K11: =Target!#REF! -> #REF! | L11: =Target!#REF! -> #REF! | M11: =SUM(J11:L11) -> #REF! | N11: =Target!#REF! -> #REF! | O11: =Target!#REF! -> #REF! | P11: =Target!#REF! -> #REF! | Q11: =SUM(N11:P11) -> #REF! | R11: =Q11+M11+I11+E11 -> #REF!
A12: Sumaryczny Plan Sprzedaży Obrót | B12: =B11 -> #REF! | C12: =C11+B12 -> #REF! | D12: =D11+C12 -> #REF! | F12: =F11 -> #REF! | G12: =G11+F12 -> #REF! | H12: =H11+G12 -> #REF! | J12: =J11 -> #REF! | K12: =K11+J12 -> #REF! | L12: =L11+K12 -> #REF! | N12: =N11 -> #REF! | O12: =O11+N12 -> #REF! | P12: =P11+O12 -> #REF! | R12: =R13/R11 -> #REF!
A13: Miesięczna realizacja Planu Sprzedaży Obrót | B13: =SUMIF(X!A:A,$A$1,X!G:G) -> 0 | C13: =SUMIF(XI!A:A,$A$1,XI!G:G) -> 0 | D13: =SUMIF(XII!A:A,$A$1,XII!G:G) -> 0 | E13: =SUM(B13:D13) -> 0 | F13: =SUMIF(VII!A:A,$A$1,VII!G:G) -> 0 | G13: =SUMIF(VIII!A:A,$A$1,VIII!G:G) -> 0 | H13: =SUMIF(IX!A:A,$A$1,IX!G:G) -> 0 | I13: =SUM(F13:H13) -> 0 | J13: =SUMIF(IV!A:A,$A$1,IV!G:G) -> 0 | K13: =SUMIF(V!A:A,$A$1,V!G:G) -> 0 | L13: =SUMIF(VI!A:A,$A$1,VI!G:G) -> 0 | M13: =SUM(J13:L13) -> 0 | N13: =SUMIF(I!A:A,$A$1,I!G:G) -> 0 | O13: =SUMIF(II!A:A,$A$1,II!G:G) -> 0 | P13: =SUMIF(III!A:A,$A$1,III!G:G) -> 0 | Q13: =SUM(N13:P13) -> 0 | R13: =Q13+M13+I13+E13 -> 0
A14: Sumaryczna realizacja planu sprzedaży Obrót | B14: =B13 -> 0 | C14: =C13+B14 -> 0 | D14: =D13+C14 -> 0 | F14: =F13 -> 0 | G14: =G13+F14 -> 0 | H14: =H13+G14 -> 0 | J14: =J13 -> 0 | K14: =K13+J14 -> 0 | L14: =L13+K14 -> 0 | N14: =N13 -> 0 | O14: =O13+N14 -> 0 | P14: =P13+O14 -> 0
A15: Wysokość zrealizowania Miesięcznego Planu Sprzedaży Obrót | B15: =B13/B11 -> #REF! | C15: =C13/C11 -> #REF! | D15: =D13/D11 -> #REF! | F15: =F13/F11 -> #REF! | G15: =G13/G11 -> #REF! | H15: =H13/H11 -> #REF! | J15: =J13/J11 -> #REF! | K15: =K13/K11 -> #REF! | L15: =L13/L11 -> #REF! | N15: =N13/N11 -> #REF! | O15: =O13/O11 -> #REF! | P15: =P13/P11 -> #REF!
A16: Wysokość zrealizowania Planu Sprzedaży Obrót | B16: =B14/B12 -> #REF! | C16: =C14/C12 -> #REF! | D16: =D14/D12 -> #REF! | F16: =F14/F12 -> #REF! | G16: =G14/G12 -> #REF! | H16: =H14/H12 -> #REF! | J16: =J14/J12 -> #REF! | K16: =K14/K12 -> #REF! | L16: =L14/L12 -> #REF! | N16: =N14/N12 -> #REF! | O16: =O14/O12 -> #REF! | P16: =P14/P12 -> #REF!
A17: Różnica wskaźnika Obrót | B17: =B14-B12 -> #REF! | C17: =C14-C12 -> #REF! | D17: =D14-D12 -> #REF! | F17: =F14-F12 -> #REF! | G17: =G14-G12 -> #REF! | H17: =H14-H12 -> #REF! | J17: =J14-J12 -> #REF! | K17: =K14-K12 -> #REF! | L17: =L14-L12 -> #REF! | N17: =N14-N12 -> #REF! | O17: =O14-O12 -> #REF! | P17: =P14-P12 -> #REF!
A18: Wysokość Marży miesięcznej | B18: =B6/B13 -> #DIV/0! | C18: =C6/C13 -> #DIV/0! | D18: =D6/D13 -> #DIV/0! | F18: =F6/F13 -> #DIV/0! | G18: =G6/G13 -> #DIV/0! | H18: =H6/H13 -> #DIV/0! | J18: =J6/J13 -> #DIV/0! | K18: =K6/K13 -> #DIV/0! | L18: =L6/L13 -> #DIV/0! | N18: =N6/N13 -> #DIV/0! | O18: =O6/O13 -> #DIV/0! | P18: =P6/P13 -> #DIV/0!
A19: Wysokość Marży sumarycznej | B19: =B7/B14 -> #DIV/0! | C19: =C7/C14 -> #DIV/0! | D19: =D7/D14 -> #DIV/0! | F19: =F7/F14 -> #DIV/0! | G19: =G7/G14 -> #DIV/0! | H19: =H7/H14 -> #DIV/0! | J19: =J7/J14 -> #DIV/0! | K19: =K7/K14 -> #DIV/0! | L19: =L7/L14 -> #DIV/0! | N19: =N7/N14 -> #DIV/0! | O19: =O7/O14 -> #DIV/0! | P19: =P7/P14 -> #DIV/0!
N21: PREMIE
A22: Wynagrodzenie zasadnicze | B22: 3450 | C22: 3450 | D22: 3450 | F22: 3450 | G22: 3450 | H22: 3450 | J22: 3450 | K22: 3450 | L22: 3450 | N22: 3450 | O22: 3450 | P22: 3450
A23: Wskaźnik Plan Sprzedaży Marża | B23: =B5 -> #REF! | C23: =C5 -> #REF! | D23: =D5 -> #REF! | F23: =F5 -> #REF! | G23: =G5 -> #REF! | H23: =H5 -> #REF! | J23: =J5 -> #REF! | K23: =K5 -> #REF! | L23: =L5 -> #REF! | N23: =N5 -> #REF! | O23: =O5 -> #REF! | P23: =P5 -> #REF!
A24: Realizacja Wskaźnika Planu Sprzedaży Marża | B24: =B7 -> 0 | C24: =C7 -> 0 | D24: =D7 -> 0 | F24: =F7 -> 0 | G24: =G7 -> 0 | H24: =H7 -> 0 | J24: =J7 -> 0 | K24: =K7 -> 0 | L24: =L7 -> 0 | N24: =N7 -> 0 | O24: =O7 -> 0 | P24: =P7 -> 0
A25: Poziom realizacji Wskaźnika Sprzedaży Marża | B25: =B24/B23 -> #REF! | C25: =C24/C23 -> #REF! | D25: =D24/D23 -> #REF! | F25: =F24/F23 -> #REF! | G25: =G24/G23 -> #REF! | H25: =H24/H23 -> #REF! | J25: =J24/J23 -> #REF! | K25: =K24/K23 -> #REF! | L25: =L24/L23 -> #REF! | N25: =N24/N23 -> #REF! | O25: =O24/O23 -> #REF! | P25: =P24/P23 -> #REF!
A26: Wysokość premii Wskaźnik Sprzedaży Marża | B26: =B22*0.3 -> 1035 | C26: =C22*0.3 -> 1035 | D26: =D22*0.3 -> 1035 | F26: =F22*0.3 -> 1035 | G26: =G22*0.3 -> 1035 | H26: =H22*0.3 -> 1035 | J26: =J22*0.3 -> 1035 | K26: =K22*0.3 -> 1035 | L26: =L22*0.3 -> 1035 | N26: =N22*0.3 -> 1035 | O26: =O22*0.3 -> 1035 | P26: =P22*0.3 -> 1035
A27: Mnożnik premii miesięcznej Wskaźnika Sprzedaży Marża | B27: =IF(B25<80%,0,IF(B25<90%,0.5,IF(B25<95%,0.75,1))) -> #REF! | C27: =IF(C25<80%,0,IF(C25<90%,0.5,IF(C25<95%,0.75,1))) -> #REF! | D27: =IF(D25<80%,0,IF(D25<90%,0.5,IF(D25<95%,0.75,1))) -> #REF! | F27: =IF(F25<80%,0,IF(F25<90%,0.5,IF(F25<95%,0.75,1))) -> #REF! | G27: =IF(G25<80%,0,IF(G25<90%,0.5,IF(G25<95%,0.75,1))) -> #REF! | H27: =IF(H25<80%,0,IF(H25<90%,0.5,IF(H25<95%,0.75,1))) -> #REF! | J27: =IF(J25<80%,0,IF(J25<90%,0.5,IF(J25<95%,0.75,1))) -> #REF! | K27: =IF(K25<80%,0,IF(K25<90%,0.5,IF(K25<95%,0.75,1))) -> #REF! | L27: =IF(L25<80%,0,IF(L25<90%,0.5,IF(L25<95%,0.75,1))) -> #REF! | N27: =IF(N25<80%,0,IF(N25<90%,0.5,IF(N25<95%,0.75,1))) -> #REF! | O27: =IF(O25<80%,0,IF(O25<90%,0.5,IF(O25<95%,0.75,1))) -> #REF! | P27: =IF(P25<80%,0,IF(P25<90%,0.5,IF(P25<95%,0.75,1))) -> #REF!
A28: Premia miesięczna za Wskaźnik Sprzedaży Marża | B28: =B27*B26 -> #REF! | C28: =C27*C26 -> #REF! | D28: =D27*D26 -> #REF! | F28: =F27*F26 -> #REF! | G28: =G27*G26 -> #REF! | H28: =H27*H26 -> #REF! | J28: =J27*J26 -> #REF! | K28: =K27*K26 -> #REF! | L28: =L27*L26 -> #REF! | N28: =N27*N26 -> #REF! | O28: =O27*O26 -> #REF! | P28: =P27*P26 -> #REF!
A29: Wskaźnik Plan Sprzedaży Obrót | B29: =B12 -> #REF! | C29: =C12 -> #REF! | D29: =D12 -> #REF! | F29: =F12 -> #REF! | G29: =G12 -> #REF! | H29: =H12 -> #REF! | J29: =J12 -> #REF! | K29: =K12 -> #REF! | L29: =L12 -> #REF! | N29: =N12 -> #REF! | O29: =O12 -> #REF! | P29: =P12 -> #REF!
A30: Realizacja Wskaźnika Planu Sprzedaży Obrót | B30: =B14 -> 0 | C30: =C14 -> 0 | D30: =D14 -> 0 | F30: =F14 -> 0 | G30: =G14 -> 0 | H30: =H14 -> 0 | J30: =J14 -> 0 | K30: =K14 -> 0 | L30: =L14 -> 0 | N30: =N14 -> 0 | O30: =O14 -> 0 | P30: =P14 -> 0
A31: Poziom realizacji Wskaźnika Sprzedaży Obrót | B31: =B30/B29 -> #REF! | C31: =C30/C29 -> #REF! | D31: =D30/D29 -> #REF! | F31: =F30/F29 -> #REF! | G31: =G30/G29 -> #REF! | H31: =H30/H29 -> #REF! | J31: =J30/J29 -> #REF! | K31: =K30/K29 -> #REF! | L31: =L30/L29 -> #REF! | N31: =N30/N29 -> #REF! | O31: =O30/O29 -> #REF! | P31: =P30/P29 -> #REF!
A32: Wysokość premii Wskaźnik Sprzedaży Obrót | B32: =B22*0.15 -> 517.5 | C32: =C22*0.15 -> 517.5 | D32: =D22*0.15 -> 517.5 | F32: =F22*0.15 -> 517.5 | G32: =G22*0.15 -> 517.5 | H32: =H22*0.15 -> 517.5 | J32: =J22*0.15 -> 517.5 | K32: =K22*0.15 -> 517.5 | L32: =L22*0.15 -> 517.5 | N32: =N22*0.15 -> 517.5 | O32: =O22*0.15 -> 517.5 | P32: =P22*0.15 -> 517.5
A33: Mnożnik premii miesięcznej Wskaźnika Sprzedaży Obrót | B33: =IF(B31<80%,0,IF(B31<90%,0.5,IF(B31<95%,0.75,1))) -> #REF! | C33: =IF(C31<80%,0,IF(C31<90%,0.5,IF(C31<95%,0.75,1))) -> #REF! | D33: =IF(D31<80%,0,IF(D31<90%,0.5,IF(D31<95%,0.75,1))) -> #REF! | F33: =IF(F31<80%,0,IF(F31<90%,0.5,IF(F31<95%,0.75,1))) -> #REF! | G33: =IF(G31<80%,0,IF(G31<90%,0.5,IF(G31<95%,0.75,1))) -> #REF! | H33: =IF(H31<80%,0,IF(H31<90%,0.5,IF(H31<95%,0.75,1))) -> #REF! | J33: =IF(J31<80%,0,IF(J31<90%,0.5,IF(J31<95%,0.75,1))) -> #REF! | K33: =IF(K31<80%,0,IF(K31<90%,0.5,IF(K31<95%,0.75,1))) -> #REF! | L33: =IF(L31<80%,0,IF(L31<90%,0.5,IF(L31<95%,0.75,1))) -> #REF! | N33: =IF(N31<80%,0,IF(N31<90%,0.5,IF(N31<95%,0.75,1))) -> #REF! | O33: =IF(O31<80%,0,IF(O31<90%,0.5,IF(O31<95%,0.75,1))) -> #REF! | P33: =IF(P31<80%,0,IF(P31<90%,0.5,IF(P31<95%,0.75,1))) -> #REF!
A34: Premia miesięczna za Wskaźnik Sprzedaży Obrót | B34: =B33*B32 -> #REF! | C34: =C33*C32 -> #REF! | D34: =D33*D32 -> #REF! | F34: =F33*F32 -> #REF! | G34: =G33*G32 -> #REF! | H34: =H33*H32 -> #REF! | J34: =J33*J32 -> #REF! | K34: =K33*K32 -> #REF! | L34: =L33*L32 -> #REF! | N34: =N33*N32 -> #REF! | O34: =O33*O32 -> #REF! | P34: =P33*P32 -> #REF!
A35: Wskaźnik CRM | B35: 1 | C35: 1 | D35: 1 | F35: 1 | G35: 1 | H35: 1 | J35: 1 | K35: 1 | L35: 1 | N35: 1 | O35: 1 | P35: 1
A36: Wysokość premii CRM | B36: =B22*0.05 -> 172.5 | C36: =C22*0.05 -> 172.5 | D36: =D22*0.05 -> 172.5 | F36: =F22*0.05 -> 172.5 | G36: =G22*0.05 -> 172.5 | H36: =H22*0.05 -> 172.5 | J36: =J22*0.05 -> 172.5 | K36: =K22*0.05 -> 172.5 | L36: =L22*0.05 -> 172.5 | N36: =N22*0.05 -> 172.5 | O36: =O22*0.05 -> 172.5 | P36: =P22*0.05 -> 172.5
A37: Mnożnik premii Wskaźnik CRM | F37: 1 | G37: 1 | J37: 1 | K37: 1 | L37: 1 | N37: 1 | O37: 1 | P37: 1
A38: Premia miesięczna za Wskaźnik CRM | B38: =B37*B36 -> 0 | C38: =C37*C36 -> 0 | D38: =D37*D36 -> 0 | F38: =F37*F36 -> 172.5 | G38: =G37*G36 -> 172.5 | H38: =H37*H36 -> 0 | J38: =J37*J36 -> 172.5 | K38: =K37*K36 -> 172.5 | L38: =L37*L36 -> 172.5 | N38: =N37*N36 -> 172.5 | O38: =O37*O36 -> 172.5 | P38: =P37*P36 -> 172.5
A39: Suma Premii miesięcznych | B39: =B34+B28+B38 -> #REF! | C39: =C34+C28+C38 -> #REF! | D39: =D34+D28+D38 -> #REF! | F39: =F34+F28+F38 -> #REF! | G39: =G34+G28+G38 -> #REF! | H39: =H34+H28+H38 -> #REF! | J39: =J34+J28+J38 -> #REF! | K39: =K34+K28+K38+129.37 -> #REF! | L39: =L34+L28+L38 -> #REF! | N39: =N34+N28+N38 -> #REF! | O39: =O34+O28+O38 -> #REF! | P39: =P34+P28+P38 -> #REF!
A40: Wskaźnik Premia Kwartalna Marża | B40: =D5 -> #REF! | F40: =H5 -> #REF! | J40: =L5 -> #REF! | N40: =P5 -> #REF!
A41: Realizacja Wskaźnika Premia Kwartalna | B41: =D7 -> 0 | F41: =H7 -> 0 | J41: =L7 -> 0 | N41: =P7 -> 0
A42: Poziom realizacji Wskaźnika Premia Kwartalna | B42: =B41/B40 -> #REF! | F42: =F41/F40 -> #REF! | J42: =J41/J40 -> #REF! | N42: =N41/N40 -> #REF!
A43: Wysokość premii kwartalnej. | B43: =D22 -> 3450 | F43: =H22 -> 3450 | J43: =L22 -> 3450 | N43: =P22 -> 3450
A44: Mnożnik premii kwartalnej | B44: =IF(B42<100%,0,IF(B42<110%,0.5,1)) -> #REF! | F44: =IF(F42<100%,0,IF(F42<110%,0.5,1)) -> #REF! | J44: =IF(J42<100%,0,IF(J42<110%,0.5,1)) -> #REF! | N44: =IF(N42<100%,0,IF(N42<110%,0.5,1)) -> #REF!
A45: Premia kwartalna | B45: =B44*B43 -> #REF! | F45: =F44*F43 -> #REF! | J45: =J44*J43 -> #REF! | N45: =N44*N43 -> #REF!
A47: Raport za miesiąc: | B47: paździer. | C47: listopad | D47: grudzień | E47: Suma | F47: lipiec | G47: sierpień | H47: wrzesień | I47: Suma | J47: kwiecień | K47: maj | L47: czerwiec | M47: Suma | N47: styczeń | O47: luty | P47: marzec | Q47: Suma | R47: Suma
A48: Ilość nowych Klientów: | E48: =SUM(B48:D48) -> 0 | I48: =SUM(F48:H48) -> 0 | M48: =SUM(J48:L48) -> 0 | Q48: =SUM(N48:P48) -> 0 | R48: =M48+I48+E48+Q48 -> 0
A49: Ilość Podmiotów na etapie współpracy Klient:
A50: Ilość Podmiotów na etapie współpracy Handlowy:
A51: Ilość Podmiotów na etapie współpracy Klient nieaktywny:
A52: Ilość Podmiotów pod opieką:
A53: Ilość sprzedanych drukarek: | E53: =SUM(B53:D53) -> 0 | I53: =SUM(F53:H53) -> 0 | M53: =SUM(J53:L53) -> 0 | Q53: =SUM(N53:P53) -> 0 | R53: =M53+I53+E53+Q53 -> 0
A54: Ilość ofert dodanych w danym miesiącu: | E54: =SUM(B54:D54) -> 0 | I54: =SUM(F54:H54) -> 0 | M54: =SUM(J54:L54) -> 0 | Q54: =SUM(N54:P54) -> 0 | R54: =M54+I54+E54+Q54 -> 0
A55: Ilość ofert oczekujących na decyzję kontrahenta:
A56: Ilość zaakceptowanych ofert przez kontrahenta: | E56: =SUM(B56:D56) -> 0 | I56: =SUM(F56:H56) -> 0 | M56: =SUM(J56:L56) -> 0 | Q56: =SUM(N56:P56) -> 0 | R56: =M56+I56+E56+Q56 -> 0
A57: Ilość odrzuconych ofert przez kontrahenta: | E57: =SUM(B57:D57) -> 0 | I57: =SUM(F57:H57) -> 0 | M57: =SUM(J57:L57) -> 0 | Q57: =SUM(N57:P57) -> 0 | R57: =M57+I57+E57+Q57 -> 0
A58: Ilość przekazanych podmiotów: | E58: =SUM(B58:D58) -> 0 | I58: =SUM(F58:H58) -> 0 | M58: =SUM(J58:L58) -> 0 | Q58: =SUM(N58:P58) -> 0 | R58: =M58+I58+E58+Q58 -> 0
A59: Ilość odebranych podmiotów (zmiana prowadzącego): | E59: =SUM(B59:D59) -> 0 | I59: =SUM(F59:H59) -> 0 | M59: =SUM(J59:L59) -> 0 | Q59: =SUM(N59:P59) -> 0 | R59: =M59+I59+E59+Q59 -> 0
A60: Ilość spotkań z Klientami: | E60: =SUM(B60:D60) -> 0 | I60: =SUM(F60:H60) -> 0 | M60: =SUM(J60:L60) -> 0 | Q60: =SUM(N60:P60) -> 0 | R60: =M60+I60+E60+Q60 -> 0
A61: Ilość aktualnie otwartych wdrożeń:
A62: Ilość wdrożeń dodanych w danym miesiącu: | E62: =SUM(B62:D62) -> 0 | I62: =SUM(F62:H62) -> 0 | M62: =SUM(J62:L62) -> 0 | Q62: =SUM(N62:P62) -> 0 | R62: =M62+I62+E62+Q62 -> 0
A63: Ilość wdrożeń zamkniętych pozytywnie w danym mcu: | E63: =SUM(B63:D63) -> 0 | I63: =SUM(F63:H63) -> 0 | M63: =SUM(J63:L63) -> 0 | Q63: =SUM(N63:P63) -> 0 | R63: =M63+I63+E63+Q63 -> 0
A64: Ilość wdrożeń zamkniętych negatywnie w danym mcu: | E64: =SUM(B64:D64) -> 0 | I64: =SUM(F64:H64) -> 0 | M64: =SUM(J64:L64) -> 0 | Q64: =SUM(N64:P64) -> 0 | R64: =M64+I64+E64+Q64 -> 0
A65: Ilość aktualnie odłożonych wdrożeń:

Sheet 0
A1: Agnieszka Zagaja | B1: PLAN IV KW Agnieszka Zagaja | F1: PLAN III KW Agnieszka Zagaja | J1: PLAN II KW Agnieszka Zagaja | N1: PLAN I KW Agnieszka Zagaja
A2: miesiąc | B2: październik | C2: listopad | D2: grudzień | E2: KW IV | F2: lipiec | G2: sierpień | H2: wrzesień | I2: KW III | J2: kwiecień | K2: maj | L2: czerwiec | M2: KW II | N2: styczeń | O2: luty | P2: marzec | Q2: KW I | R2: suma ROK
A4: Plan Sprzedaży Marża | B4: =Target!#REF! -> #REF! | C4: =Target!#REF! -> #REF! | D4: =Target!#REF! -> #REF! | E4: =SUM(B4:D4) -> #REF! | F4: =Target!#REF! -> #REF! | G4: =Target!#REF! -> #REF! | H4: =Target!#REF! -> #REF! | I4: =SUM(F4:H4) -> #REF! | J4: =Target!#REF! -> #REF! | K4: =Target!#REF! -> #REF! | L4: =Target!#REF! -> #REF! | N4: =Target!#REF! -> #REF! | O4: =Target!#REF! -> #REF! | P4: =Target!#REF! -> #REF! | Q4: =SUM(N4:P4) -> #REF! | R4: =Q4+M4+I4+E4 -> #REF!
A5: Sumaryczny Plan Sprzedaży Marża | B5: =B4 -> #REF! | C5: =C4+B5 -> #REF! | D5: =D4+C5 -> #REF! | F5: =F4 -> #REF! | G5: =G4+F5 -> #REF! | H5: =H4+G5 -> #REF! | J5: =J4 -> #REF! | K5: =K4+J5 -> #REF! | L5: =L4+K5 -> #REF! | N5: =N4 -> #REF! | O5: =O4+N5 -> #REF! | P5: =P4+O5 -> #REF!
A6: Miesięczna realizacja Planu Sprzedaży Marża | B6: =SUMIF(X!A:A,$A$1,X!I:I) -> 0 | C6: =SUMIF(XI!A:A,$A$1,XI!I:I) -> 0 | D6: =SUMIF(XII!A:A,$A$1,XII!I:I) -> 0 | E6: =SUM(B6:D6) -> 0 | F6: =SUMIF(VII!A:A,$A$1,VII!I:I) -> 0 | G6: =SUMIF(VIII!A:A,$A$1,VIII!I:I) -> 0 | H6: =SUMIF(IX!A:A,$A$1,IX!I:I) -> 0 | I6: =SUM(F6:H6) -> 0 | J6: =SUMIF(IV!A:A,$A$1,IV!I:I) -> 0 | K6: =SUMIF(V!A:A,$A$1,V!I:I) -> 0 | L6: =SUMIF(VI!A:A,$A$1,VI!I:I) -> 0 | M6: =SUM(J6:L6) -> 0 | N6: =SUMIF(I!A:A,$A$1,I!I:I) -> 0 | O6: =SUMIF(II!A:A,$A$1,II!I:I) -> 0 | P6: =SUMIF(III!A:A,$A$1,III!I:I) -> 0 | Q6: =SUM(N6:P6) -> 0 | R6: =Q6+M6+I6+E6 -> 0
A7: Sumaryczna realizacja planu sprzedaży Marża | B7: =B6 -> 0 | C7: =C6+B7 -> 0 | D7: =D6+C7 -> 0 | F7: =F6 -> 0 | G7: =G6+F7 -> 0 | H7: =H6+G7 -> 0 | J7: =J6 -> 0 | K7: =K6+J7 -> 0 | L7: =L6+K7 -> 0 | N7: =N6 -> 0 | O7: =O6+N7 -> 0 | P7: =P6+O7 -> 0
A8: Wysokość zrealizowania Miesięcznego Planu Sprzedaży Marża | B8: =B6/B4 -> #REF! | C8: =C6/C4 -> #REF! | D8: =D6/D4 -> #REF! | F8: =F6/F4 -> #REF! | G8: =G6/G4 -> #REF! | H8: =H6/H4 -> #REF! | J8: =J6/J4 -> #REF! | K8: =K6/K4 -> #REF! | L8: =L6/L4 -> #REF! | N8: =N6/N4 -> #REF! | O8: =O6/O4 -> #REF! | P8: =P6/P4 -> #REF!
A9: Wysokość zrealizowania Planu Sprzedaży Marża | B9: =B7/B5 -> #REF! | C9: =C7/C5 -> #REF! | D9: =D7/D5 -> #REF! | F9: =F7/F5 -> #REF! | G9: =G7/G5 -> #REF! | H9: =H7/H5 -> #REF! | J9: =J7/J5 -> #REF! | K9: =K7/K5 -> #REF! | L9: =L7/L5 -> #REF! | N9: =N7/N5 -> #REF! | O9: =O7/O5 -> #REF! | P9: =P7/P5 -> #REF!
A10: Różnica wskaźnika Marża | B10: =B7-B5 -> #REF! | C10: =C7-C5 -> #REF! | D10: =D7-D5 -> #REF! | F10: =F7-F5 -> #REF! | G10: =G7-G5 -> #REF! | H10: =H7-H5 -> #REF! | J10: =J7-J5 -> #REF! | K10: =K7-K5 -> #REF! | L10: =L7-L5 -> #REF! | N10: =N7-N5 -> #REF! | O10: =O7-O5 -> #REF! | P10: =P7-P5 -> #REF!
A11: Plan Sprzedaży Obrót | B11: =Target!#REF! -> #REF! | C11: =Target!#REF! -> #REF! | D11: =Target!#REF! -> #REF! | E11: =SUM(B11:D11) -> #REF! | F11: =Target!#REF! -> #REF! | G11: =Target!#REF! -> #REF! | H11: =Target!#REF! -> #REF! | I11: =SUM(F11:H11) -> #REF! | K11: =Target!#REF! -> #REF! | L11: =Target!#REF! -> #REF! | M11: =SUM(J11:L11) -> #REF! | N11: =Target!#REF! -> #REF! | O11: =Target!#REF! -> #REF! | P11: =Target!#REF! -> #REF! | Q11: =SUM(N11:P11) -> #REF! | R11: =Q11+M11+I11+E11 -> #REF!
A12: Sumaryczny Plan Sprzedaży Obrót | B12: =B11 -> #REF! | C12: =C11+B12 -> #REF! | D12: =D11+C12 -> #REF! | F12: =F11 -> #REF! | G12: =G11+F12 -> #REF! | H12: =H11+G12 -> #REF! | J12: =J11 -> 0 | K12: =K11+J12 -> #REF! | L12: =L11+K12 -> #REF! | N12: =N11 -> #REF! | O12: =O11+N12 -> #REF! | P12: =P11+O12 -> #REF!
A13: Miesięczna realizacja Planu Sprzedaży Obrót | B13: =SUMIF(X!A:A,$A$1,X!G:G) -> 0 | C13: =SUMIF(XI!A:A,$A$1,XI!G:G) -> 0 | D13: =SUMIF(XII!A:A,$A$1,XII!G:G) -> 0 | E13: =SUM(B13:D13) -> 0 | F13: =SUMIF(VII!A:A,$A$1,VII!G:G) -> 0 | G13: =SUMIF(VIII!A:A,$A$1,VIII!G:G) -> 0 | H13: =SUMIF(IX!A:A,$A$1,IX!G:G) -> 0 | I13: =SUM(F13:H13) -> 0 | J13: =SUMIF(IV!A:A,$A$1,IV!G:G) -> 0 | K13: =SUMIF(V!A:A,$A$1,V!G:G) -> 0 | L13: =SUMIF(VI!A:A,$A$1,VI!G:G) -> 0 | M13: =SUM(J13:L13) -> 0 | N13: =SUMIF(I!A:A,$A$1,I!G:G) -> 0 | O13: =SUMIF(II!A:A,$A$1,II!G:G) -> 0 | P13: =SUMIF(III!A:A,$A$1,III!G:G) -> 0 | Q13: =SUM(N13:P13) -> 0 | R13: =Q13+M13+I13+E13 -> 0
A14: Sumaryczna realizacja planu sprzedaży Obrót | B14: =B13 -> 0 | C14: =C13+B14 -> 0 | D14: =D13+C14 -> 0 | F14: =F13 -> 0 | G14: =G13+F14 -> 0 | H14: =H13+G14 -> 0 | J14: =J13 -> 0 | K14: =K13+J14 -> 0 | L14: =L13+K14 -> 0 | N14: =N13 -> 0 | O14: =O13+N14 -> 0 | P14: =P13+O14 -> 0
A15: Wysokość zrealizowania Miesięcznego Planu Sprzedaży Obrót | B15: =B13/B11 -> #REF! | C15: =C13/C11 -> #REF! | D15: =D13/D11 -> #REF! | F15: =F13/F11 -> #REF! | G15: =G13/G11 -> #REF! | H15: =H13/H11 -> #REF! | J15: =J13/J11 -> #DIV/0! | K15: =K13/K11 -> #REF! | L15: =L13/L11 -> #REF! | N15: =N13/N11 -> #REF! | O15: =O13/O11 -> #REF! | P15: =P13/P11 -> #REF!
A16: Wysokość zrealizowania Planu Sprzedaży Obrót | B16: =B14/B12 -> #REF! | C16: =C14/C12 -> #REF! | D16: =D14/D12 -> #REF! | F16: =F14/F12 -> #REF! | G16: =G14/G12 -> #REF! | H16: =H14/H12 -> #REF! | J16: =J14/J12 -> #DIV/0! | K16: =K14/K12 -> #REF! | L16: =L14/L12 -> #REF! | N16: =N14/N12 -> #REF! | O16: =O14/O12 -> #REF! | P16: =P14/P12 -> #REF!
A17: Różnica wskaźnika Obrót | B17: =B14-B12 -> #REF! | C17: =C14-C12 -> #REF! | D17: =D14-D12 -> #REF! | F17: =F14-F12 -> #REF! | G17: =G14-G12 -> #REF! | H17: =H14-H12 -> #REF! | J17: =J14-J12 -> 0 | K17: =K14-K12 -> #REF! | L17: =L14-L12 -> #REF! | N17: =N14-N12 -> #REF! | O17: =O14-O12 -> #REF! | P17: =P14-P12 -> #REF!
A18: Wysokość Marży miesięcznej | B18: =B6/B13 -> #DIV/0! | C18: =C6/C13 -> #DIV/0! | D18: =D6/D13 -> #DIV/0! | F18: =F6/F13 -> #DIV/0! | G18: =G6/G13 -> #DIV/0! | H18: =H6/H13 -> #DIV/0! | J18: =J6/J13 -> #DIV/0! | K18: =K6/K13 -> #DIV/0! | L18: =L6/L13 -> #DIV/0! | N18: =N6/N13 -> #DIV/0! | O18: =O6/O13 -> #DIV/0! | P18: =P6/P13 -> #DIV/0!
A19: Wysokość Marży sumarycznej | B19: =B7/B14 -> #DIV/0! | C19: =C7/C14 -> #DIV/0! | D19: =D7/D14 -> #DIV/0! | F19: =F7/F14 -> #DIV/0! | G19: =G7/G14 -> #DIV/0! | H19: =H7/H14 -> #DIV/0! | J19: =J7/J14 -> #DIV/0! | K19: =K7/K14 -> #DIV/0! | L19: =L7/L14 -> #DIV/0! | N19: =N7/N14 -> #DIV/0! | O19: =O7/O14 -> #DIV/0! | P19: =P7/P14 -> #DIV/0!
N21: PREMIE
A22: Wynagrodzenie zasadnicze | B22: 0 | C22: 0 | D22: 0 | F22: 0 | G22: 0 | H22: 0 | J22: 0 | K22: 0 | L22: 0 | N22: 0 | O22: 0 | P22: 0
A23: Wskaźnik Plan Sprzedaży Marża | B23: =B5 -> #REF! | C23: =C5 -> #REF! | D23: =D5 -> #REF! | F23: =F5 -> #REF! | G23: =G5 -> #REF! | H23: =H5 -> #REF! | J23: =J5 -> #REF! | K23: =K5 -> #REF! | L23: =L5 -> #REF! | N23: =N5 -> #REF! | O23: =O5 -> #REF! | P23: =P5 -> #REF!
A24: Realizacja Wskaźnika Planu Sprzedaży Marża | B24: =B7 -> 0 | C24: =C7 -> 0 | D24: =D7 -> 0 | F24: =F7 -> 0 | G24: =G7 -> 0 | H24: =H7 -> 0 | J24: =J7 -> 0 | K24: =K7 -> 0 | L24: =L7 -> 0 | N24: =N7 -> 0 | O24: =O7 -> 0 | P24: =P7 -> 0
A25: Poziom realizacji Wskaźnika Sprzedaży Marża | B25: =B24/B23 -> #REF! | C25: =C24/C23 -> #REF! | D25: =D24/D23 -> #REF! | F25: =F24/F23 -> #REF! | G25: =G24/G23 -> #REF! | H25: =H24/H23 -> #REF! | J25: =J24/J23 -> #REF! | K25: =K24/K23 -> #REF! | L25: =L24/L23 -> #REF! | N25: =N24/N23 -> #REF! | O25: =O24/O23 -> #REF! | P25: =P24/P23 -> #REF!
A26: Wysokość premii Wskaźnik Sprzedaży Marża | B26: =B22*0.2 -> 0 | C26: =C22*0.2 -> 0 | D26: =D22*0.2 -> 0 | F26: =F22*0.2 -> 0 | G26: =G22*0.2 -> 0 | H26: =H22*0.2 -> 0 | J26: =J22*0.2 -> 0 | K26: =K22*0.2 -> 0 | L26: =L22*0.2 -> 0 | N26: =N22*0.2 -> 0 | O26: =O22*0.2 -> 0 | P26: =P22*0.2 -> 0
A27: Mnożnik premii miesięcznej Wskaźnika Sprzedaży Marża | B27: =IF(B25<80%,0,IF(B25<90%,0.5,IF(B25<95%,0.75,1))) -> #REF! | C27: =IF(C25<80%,0,IF(C25<90%,0.5,IF(C25<95%,0.75,1))) -> #REF! | D27: =IF(D25<80%,0,IF(D25<90%,0.5,IF(D25<95%,0.75,1))) -> #REF! | F27: =IF(F25<80%,0,IF(F25<90%,0.5,IF(F25<95%,0.75,1))) -> #REF! | G27: =IF(G25<80%,0,IF(G25<90%,0.5,IF(G25<95%,0.75,1))) -> #REF! | H27: =IF(H25<80%,0,IF(H25<90%,0.5,IF(H25<95%,0.75,1))) -> #REF! | J27: =IF(J25<80%,0,IF(J25<90%,0.5,IF(J25<95%,0.75,1))) -> #REF! | K27: =IF(K25<80%,0,IF(K25<90%,0.5,IF(K25<95%,0.75,1))) -> #REF! | L27: =IF(L25<80%,0,IF(L25<90%,0.5,IF(L25<95%,0.75,1))) -> #REF! | N27: =IF(N25<80%,0,IF(N25<90%,0.5,IF(N25<95%,0.75,1))) -> #REF! | O27: =IF(O25<80%,0,IF(O25<90%,0.5,IF(O25<95%,0.75,1))) -> #REF! | P27: =IF(P25<80%,0,IF(P25<90%,0.5,IF(P25<95%,0.75,1))) -> #REF!
A28: Premia miesięczna za Wskaźnik Sprzedaży Marża | B28: =B27*B26 -> #REF! | C28: =C27*C26 -> #REF! | D28: =D27*D26 -> #REF! | F28: =F27*F26 -> #REF! | G28: =G27*G26 -> #REF! | H28: =H27*H26 -> #REF! | J28: =J27*J26 -> #REF! | K28: =K27*K26 -> #REF! | L28: =L27*L26 -> #REF! | N28: =N27*N26 -> #REF! | O28: =O27*O26 -> #REF! | P28: =P27*P26 -> #REF!
A29: Wskaźnik Plan Sprzedaży Obrót | B29: =B12 -> #REF! | C29: =C12 -> #REF! | D29: =D12 -> #REF! | F29: =F12 -> #REF! | G29: =G12 -> #REF! | H29: =H12 -> #REF! | J29: =J12 -> 0 | K29: =K12 -> #REF! | L29: =L12 -> #REF! | N29: =N12 -> #REF! | O29: =O12 -> #REF! | P29: =P12 -> #REF!
A30: Realizacja Wskaźnika Planu Sprzedaży Obrót | B30: =B14 -> 0 | C30: =C14 -> 0 | D30: =D14 -> 0 | F30: =F14 -> 0 | G30: =G14 -> 0 | H30: =H14 -> 0 | J30: =J14 -> 0 | K30: =K14 -> 0 | L30: =L14 -> 0 | N30: =N14 -> 0 | O30: =O14 -> 0 | P30: =P14 -> 0
A31: Poziom realizacji Wskaźnika Sprzedaży Obrót | B31: =B30/B29 -> #REF! | C31: =C30/C29 -> #REF! | D31: =D30/D29 -> #REF! | F31: =F30/F29 -> #REF! | G31: =G30/G29 -> #REF! | H31: =H30/H29 -> #REF! | J31: =J30/J29 -> #DIV/0! | K31: =K30/K29 -> #REF! | L31: =L30/L29 -> #REF! | N31: =N30/N29 -> #REF! | O31: =O30/O29 -> #REF! | P31: =P30/P29 -> #REF!
A32: Wysokość premii Wskaźnik Sprzedaży Obrót | B32: =B22*0.2 -> 0 | C32: =C22*0.2 -> 0 | D32: =D22*0.2 -> 0 | F32: =F22*0.2 -> 0 | G32: =G22*0.2 -> 0 | H32: =H22*0.2 -> 0 | J32: =J22*0.2 -> 0 | K32: =K22*0.2 -> 0 | L32: =L22*0.2 -> 0 | N32: =N22*0.2 -> 0 | O32: =O22*0.2 -> 0 | P32: =P22*0.2 -> 0
A33: Mnożnik premii miesięcznej Wskaźnika Sprzedaży Obrót | B33: =IF(B31<80%,0,IF(B31<90%,0.5,IF(B31<95%,0.75,1))) -> #REF! | C33: =IF(C31<80%,0,IF(C31<90%,0.5,IF(C31<95%,0.75,1))) -> #REF! | D33: =IF(D31<80%,0,IF(D31<90%,0.5,IF(D31<95%,0.75,1))) -> #REF! | F33: =IF(F31<80%,0,IF(F31<90%,0.5,IF(F31<95%,0.75,1))) -> #REF! | G33: =IF(G31<80%,0,IF(G31<90%,0.5,IF(G31<95%,0.75,1))) -> #REF! | H33: =IF(H31<80%,0,IF(H31<90%,0.5,IF(H31<95%,0.75,1))) -> #REF! | J33: =IF(J31<80%,0,IF(J31<90%,0.5,IF(J31<95%,0.75,1))) -> #DIV/0! | K33: =IF(K31<80%,0,IF(K31<90%,0.5,IF(K31<95%,0.75,1))) -> #REF! | L33: =IF(L31<80%,0,IF(L31<90%,0.5,IF(L31<95%,0.75,1))) -> #REF! | N33: =IF(N31<80%,0,IF(N31<90%,0.5,IF(N31<95%,0.75,1))) -> #REF! | O33: =IF(O31<80%,0,IF(O31<90%,0.5,IF(O31<95%,0.75,1))) -> #REF! | P33: =IF(P31<80%,0,IF(P31<90%,0.5,IF(P31<95%,0.75,1))) -> #REF!
A34: Premia miesięczna za Wskaźnik Sprzedaży Obrót | B34: =B33*B32 -> #REF! | C34: =C33*C32 -> #REF! | D34: =D33*D32 -> #REF! | F34: =F33*F32 -> #REF! | G34: =G33*G32 -> #REF! | H34: =H33*H32 -> #REF! | J34: =J33*J32 -> #DIV/0! | K34: =K33*K32 -> #REF! | L34: =L33*L32 -> #REF! | N34: =N33*N32 -> #REF! | O34: =O33*O32 -> #REF! | P34: =P33*P32 -> #REF!
A35: Wskaźnik CRM | B35: 1 | C35: 1 | D35: 1 | F35: 1 | G35: 1 | H35: 1 | J35: 1 | K35: 1 | L35: 1 | N35: 1 | O35: 1 | P35: 1
A36: Wysokość premii CRM | B36: =B22*0.1 -> 0 | C36: =C22*0.1 -> 0 | D36: =D22*0.1 -> 0 | F36: =F22*0.1 -> 0 | G36: =G22*0.1 -> 0 | H36: =H22*0.1 -> 0 | J36: =J22*0.1 -> 0 | K36: =K22*0.1 -> 0 | L36: =L22*0.1 -> 0 | N36: =N22*0.1 -> 0 | O36: =O22*0.1 -> 0 | P36: =P22*0.1 -> 0
A37: Mnożnik premii Wskaźnik CRM
A38: Premia miesięczna za Wskaźnik CRM | B38: =B37*B36 -> 0 | C38: =C37*C36 -> 0 | D38: =D37*D36 -> 0 | F38: =F37*F36 -> 0 | G38: =G37*G36 -> 0 | H38: =H37*H36 -> 0 | J38: =J37*J36 -> 0 | K38: =K37*K36 -> 0 | L38: =L37*L36 -> 0 | N38: =N37*N36 -> 0 | O38: =O37*O36 -> 0 | P38: =P37*P36 -> 0
A39: Suma Premii miesięcznych | B39: =B34+B28+B38 -> #REF! | C39: =C34+C28+C38 -> #REF! | D39: =D34+D28+D38 -> #REF! | F39: =F34+F28+F38 -> #REF! | G39: =G34+G28+G38 -> #REF! | H39: =H34+H28+H38 -> #REF! | J39: =J34+J28+J38 -> #DIV/0! | K39: =K34+K28+K38 -> #REF! | L39: =L34+L28+L38 -> #REF! | N39: =N34+N28+N38 -> #REF! | O39: =O34+O28+O38 -> #REF! | P39: =P34+P28+P38 -> #REF!
A40: Wskaźnik Premia Kwartalna Marża | B40: =D5 -> #REF! | F40: =H5 -> #REF! | J40: =L5 -> #REF! | N40: =P5 -> #REF!
A41: Realizacja Wskaźnika Premia Kwartalna | B41: =D7 -> 0 | F41: =H7 -> 0 | J41: =L7 -> 0 | N41: =P7 -> 0
A42: Poziom realizacji Wskaźnika Premia Kwartalna | B42: =B41/B40 -> #REF! | F42: =F41/F40 -> #REF! | J42: =J41/J40 -> #REF! | N42: =N41/N40 -> #REF!
A43: Wysokość premii kwartalnej. | B43: =D22 -> 0 | F43: =H22 -> 0 | J43: =L22 -> 0 | N43: =P22 -> 0
A44: Mnożnik premii kwartalnej | B44: =IF(B42<100%,0,IF(B42<110%,0.5,1)) -> #REF! | F44: =IF(F42<100%,0,IF(F42<110%,0.5,1)) -> #REF! | J44: =IF(J42<100%,0,IF(J42<110%,0.5,1)) -> #REF! | N44: =IF(N42<100%,0,IF(N42<110%,0.5,1)) -> #REF!
A45: Premia kwartalna | B45: =B44*B43 -> #REF! | F45: =F44*F43 -> #REF! | J45: =J44*J43 -> #REF! | N45: =N44*N43 -> #REF!
A47: Raport za miesiąc: | B47: paździer. | C47: listopad | D47: grudzień | E47: Suma | F47: lipiec | G47: sierpień | H47: wrzesień | I47: Suma | J47: kwiecień | K47: maj | L47: czerwiec | M47: Suma | N47: styczeń | O47: luty | P47: marzec | Q47: Suma | R47: Suma
A48: Ilość nowych Klientów: | E48: =SUM(B48:D48) -> 0 | I48: =SUM(F48:H48) -> 0 | M48: =SUM(J48:L48) -> 0 | Q48: =SUM(N48:P48) -> 0 | R48: =M48+I48+E48+Q48 -> 0
A49: Ilość Podmiotów na etapie współpracy Klient:
A50: Ilość Podmiotów na etapie współpracy Handlowy:
A51: Ilość Podmiotów na etapie współpracy Klient nieaktywny:
A52: Ilość Podmiotów pod opieką:
A53: Ilość sprzedanych drukarek: | E53: =SUM(B53:D53) -> 0 | I53: =SUM(F53:H53) -> 0 | M53: =SUM(J53:L53) -> 0 | Q53: =SUM(N53:P53) -> 0 | R53: =M53+I53+E53+Q53 -> 0
A54: Ilość ofert dodanych w danym miesiącu: | E54: =SUM(B54:D54) -> 0 | I54: =SUM(F54:H54) -> 0 | M54: =SUM(J54:L54) -> 0 | Q54: =SUM(N54:P54) -> 0 | R54: =M54+I54+E54+Q54 -> 0
A55: Ilość ofert oczekujących na decyzję kontrahenta:
A56: Ilość zaakceptowanych ofert przez kontrahenta: | E56: =SUM(B56:D56) -> 0 | I56: =SUM(F56:H56) -> 0 | M56: =SUM(J56:L56) -> 0 | Q56: =SUM(N56:P56) -> 0 | R56: =M56+I56+E56+Q56 -> 0
A57: Ilość odrzuconych ofert przez kontrahenta: | E57: =SUM(B57:D57) -> 0 | I57: =SUM(F57:H57) -> 0 | M57: =SUM(J57:L57) -> 0 | Q57: =SUM(N57:P57) -> 0 | R57: =M57+I57+E57+Q57 -> 0
A58: Ilość przekazanych podmiotów: | E58: =SUM(B58:D58) -> 0 | I58: =SUM(F58:H58) -> 0 | M58: =SUM(J58:L58) -> 0 | Q58: =SUM(N58:P58) -> 0 | R58: =M58+I58+E58+Q58 -> 0
A59: Ilość odebranych podmiotów (zmiana prowadzącego): | E59: =SUM(B59:D59) -> 0 | I59: =SUM(F59:H59) -> 0 | M59: =SUM(J59:L59) -> 0 | Q59: =SUM(N59:P59) -> 0 | R59: =M59+I59+E59+Q59 -> 0
A60: Ilość spotkań z Klientami: | E60: =SUM(B60:D60) -> 0 | I60: =SUM(F60:H60) -> 0 | M60: =SUM(J60:L60) -> 0 | Q60: =SUM(N60:P60) -> 0 | R60: =M60+I60+E60+Q60 -> 0
A61: Ilość aktualnie otwartych wdrożeń:
A62: Ilość wdrożeń dodanych w danym miesiącu: | E62: =SUM(B62:D62) -> 0 | I62: =SUM(F62:H62) -> 0 | M62: =SUM(J62:L62) -> 0 | Q62: =SUM(N62:P62) -> 0 | R62: =M62+I62+E62+Q62 -> 0
A63: Ilość wdrożeń zamkniętych pozytywnie w danym mcu: | E63: =SUM(B63:D63) -> 0 | I63: =SUM(F63:H63) -> 0 | M63: =SUM(J63:L63) -> 0 | Q63: =SUM(N63:P63) -> 0 | R63: =M63+I63+E63+Q63 -> 0
A64: Ilość wdrożeń zamkniętych negatywnie w danym mcu: | E64: =SUM(B64:D64) -> 0 | I64: =SUM(F64:H64) -> 0 | M64: =SUM(J64:L64) -> 0 | Q64: =SUM(N64:P64) -> 0 | R64: =M64+I64+E64+Q64 -> 0
A65: Ilość aktualnie odłożonych wdrożeń:
D66: =SUM(#REF!) -> #REF!

Sheet regulamin
