Workbook
Name OLE_LINK3: regulamin!$A$16

Sheet TOMEK
A1: Tomasz Sypień | B1: PLAN I KW Tomasz Sypień | F1: PLAN II KW Tomasz Sypień | J1: PLAN III KW Tomasz Sypień | N1: PLAN IV KW Tomasz Sypień
A2: miesiąc | B2: styczeń | C2: luty | D2: marzec | E2: KW I | F2: kwiecień | G2: maj | H2: czerwiec | I2: KW II | J2: lipiec | K2: sierpień | L2: wrzesień | M2: KW III | N2: październik | O2: listopad | P2: grudzień | Q2: KW IV | R2: suma ROK
I3: 297759.12 | R3: =Target!O3 -> 675001.28
A4: Indywidualny Plan Sprzedaży Marża | B4: =Target!C3 -> 47400 | C4: =Target!D3 -> 52666.667 | D4: =Target!E3 -> 57933.333 | E4: =SUM(B4:D4) -> 158000 | F4: =Target!F3 -> 51700.128 | G4: =Target!G3-6400 -> 51044.587 | H4: =Target!H3+6400 -> 69589.045 | I4: =SUM(F4:H4) -> 172333.76 | J4: =Target!I3 -> 51700.128 | K4: =Target!J3 -> 57444.587 | L4: =Target!K3 -> 63189.045 | M4: =SUM(J4:L4) -> 172333.76 | N4: =Target!L3 -> 51700.128 | O4: =Target!M3 -> 57444.587 | P4: =Target!N3 -> 63189.045 | Q4: =SUM(N4:P4) -> 172333.76 | R4: =E4+I4+M4+Q4 -> 675001.28
A5: Sumaryczny Indywidulany Plan Sprzedaży Marża | B5: =B4 -> 47400 | C5: =C4+B5 -> 100066.67 | D5: =D4+C5 -> 158000 | F5: =F4 -> 51700.128 | G5: =G4+F5 -> 102744.71 | H5: =H4+G5 -> 172333.76 | J5: =J4 -> 51700.128 | K5: =K4+J5 -> 109144.71 | L5: =L4+K5 -> 172333.76 | N5: =N4 -> 51700.128 | O5: =O4+N5 -> 109144.71 | P5: =P4+O5 -> 172333.76 | R5: =R6/R4 -> 0.46897601
A6: Miesięczna realizacja Planu Sprzedaży Marża | B6: =SUMIF(I!A:A,$A$1,I!I:I) -> 66644.211 | C6: =SUMIF(II!A:A,$A$1,II!I:I) -> 43412.004 | D6: =SUMIF(III!A:A,$A$1,III!I:I) -> 64012.938 | E6: =SUM(B6:D6) -> 174069.15 | F6: =SUMIF(IV!A:A,$A$1,IV!I:I) -> 50985.477 | G6: =SUMIF(V!A:A,$A$1,V!I:I) -> 46704.855 | H6: =SUMIF(VI!A:A,$A$1,VI!I:I) -> 44799.926 | I6: =SUM(F6:H6) -> 142490.26 | J6: =SUMIF(VII!A:A,$A$1,VII!I:I) -> 0 | K6: =SUMIF(VIII!A:A,$A$1,VIII!I:I) -> 0 | L6: =SUMIF(IX!A:A,$A$1,IX!I:I) -> 0 | M6: =SUM(J6:L6) -> 0 | N6: =SUMIF(X!A:A,$A$1,X!I:I) -> 0 | O6: =SUMIF(XI!A:A,$A$1,XI!I:I) -> 0 | P6: =SUMIF(XII!A:A,$A$1,XII!I:I) -> 0 | Q6: =SUM(N6:P6) -> 0 | R6: =E6+I6+M6+Q6 -> 316559.41
A7: Sumaryczna realizacja Planu Sprzedaży Marża | B7: =B6 -> 66644.211 | C7: =C6+B7 -> 110056.21 | D7: =D6+C7 -> 174069.15 | F7: =F6 -> 50985.477 | G7: =G6+F7 -> 97690.332 | H7: =H6+G7 -> 142490.26 | I7: =SUM(E6,I6) -> 316559.41 | J7: =J6 -> 0 | K7: =K6+J7 -> 0 | L7: =L6+K7 -> 0 | M7: =SUM(E6,I6,M6)/3 -> 105519.8 | N7: =N6 -> 0 | O7: =O6+N7 -> 0 | P7: =P6+O7 -> 0 | R7: =R3-R4 -> 0
A8: Wysokość % zrealizowania IPSM miesięcznego | B8: =B6/B4 -> 1.405996 | C8: =C6/C4 -> 0.82427856 | D8: =D6/D4 -> 1.1049414 | F8: =F6/F4 -> 0.98617699 | G8: =G6/G4 -> 0.91498156 | H8: =H6/H4 -> 0.64377842 | I8: =I7/I3-1 -> 0.063139259 | J8: =J6/J4 -> 0 | K8: =K6/K4 -> 0 | L8: =L6/L4 -> 0 | N8: =N6/N4 -> 0 | O8: =O6/O4 -> 0 | P8: =P6/P4 -> 0 | R8: =R7*100/R3 -> 0
A9: Wysokość % zrealizowania IPSM sumarycznego | B9: =B7/B5 -> 1.405996 | C9: =C7/C5 -> 1.0998289 | D9: =D7/D5 -> 1.1017035 | F9: =F7/F5 -> 0.98617699 | G9: =G7/G5 -> 0.9508064 | H9: =H7/H5 -> 0.8268273 | I9: =I7-I3 -> 18800.29 | J9: =J7/J5 -> 0 | K9: =K7/K5 -> 0 | L9: =L7/L5 -> 0 | N9: =N7/N5 -> 0 | O9: =O7/O5 -> 0 | P9: =P7/P5 -> 0
A10: Różnica | B10: =B7-B5 -> 19244.211 | C10: =C7-C5 -> 9989.5481 | D10: =D7-D5 -> 16069.152 | F10: =F7-F5 -> -714.6514 | G10: =G7-G5 -> -5054.3826 | H10: =H7-H5 -> -29843.502 | J10: =J7-J5 -> -51700.128 | K10: =K7-K5 -> -109144.71 | L10: =L7-L5 -> -172333.76 | N10: =N7-N5 -> -51700.128 | O10: =O7-O5 -> -109144.71 | P10: =P7-P5 -> -172333.76
A11: Miesięczny Obrót | B11: =SUMIF(I!A:A,$A$1,I!G:G) -> 161231.2 | C11: =SUMIF(II!A:A,$A$1,II!G:G) -> 105582.71 | D11: =SUMIF(III!A:A,$A$1,III!G:G) -> 128569.29 | E11: =SUM(B11:D11) -> 395383.2 | F11: =SUMIF(IV!A:A,$A$1,IV!G:G) -> 130849.06 | G11: =SUMIF(V!A:A,$A$1,V!G:G) -> 96547.938 | H11: =SUMIF(VI!A:A,$A$1,VI!G:G) -> 103195.87 | I11: =SUM(F11:H11) -> 330592.87 | J11: =SUMIF(VII!A:A,$A$1,VII!G:G) -> 0 | K11: =SUMIF(VIII!A:A,$A$1,VIII!G:G) -> 0 | L11: =SUMIF(IX!A:A,$A$1,IX!G:G) -> 0 | M11: =SUM(J11:L11) -> 0 | N11: =SUMIF(X!A:A,$A$1,X!G:G) -> 0 | O11: =SUMIF(XI!A:A,$A$1,XI!G:G) -> 0 | P11: =SUMIF(XII!A:A,$A$1,XII!G:G) -> 0 | Q11: =SUM(N11:P11) -> 0 | R11: =E11+I11+M11+Q11 -> 725976.07
A12: Sumaryczny Obrót | B12: =B11 -> 161231.2 | C12: =C11+B12 -> 266813.91 | D12: =D11+C12 -> 395383.2 | F12: =F11 -> 130849.06 | G12: =G11+F12 -> 227397 | H12: =H11+G12 -> 330592.87 | J12: =J11 -> 0 | K12: =K11+J12 -> 0 | L12: =L11+K12 -> 0 | N12: =N11 -> 0 | O12: =O11+N12 -> 0 | P12: =P11+O12 -> 0
A13: Wysokość % Marży miesięcznej | B13: =B6/B11 -> 0.41334562 | C13: =C6/C11 -> 0.41116584 | D13: =D6/D11 -> 0.49788669 | F13: =F6/F11 -> 0.38965107 | G13: =G6/G11 -> 0.48374783 | H13: =H6/H11 -> 0.43412519 | J13: =J6/J11 -> #DIV/0! | K13: =K6/K11 -> #DIV/0! | L13: =L6/L11 -> #DIV/0! | N13: =N6/N11 -> #DIV/0! | O13: =O6/O11 -> #DIV/0! | P13: =P6/P11 -> #DIV/0!
A14: Wysokość % Marży sumarycznej | B14: =B7/B12 -> 0.41334562 | C14: =C7/C12 -> 0.41248304 | D14: =D7/D12 -> 0.44025429 | F14: =F7/F12 -> 0.38965107 | G14: =G7/G12 -> 0.42960255 | H14: =H7/H12 -> 0.43101431 | J14: =J7/J12 -> #DIV/0! | K14: =K7/K12 -> #DIV/0! | L14: =L7/L12 -> #DIV/0! | N14: =N7/N12 -> #DIV/0! | O14: =O7/O12 -> #DIV/0! | P14: =P7/P12 -> #DIV/0!
A16: PREMIE | B16: PREMIE
A17: Wynagrodzenie zasadnicze | B17: =Target!O31 -> 6100 | C17: =Target!O31 -> 6100 | D17: =Target!O31 -> 6100 | F17: =Target!O40 -> 6800 | G17: =Target!O40 -> 6800 | H17: =Target!O40 -> 6800 | J17: =Target!O50 -> 6800 | K17: =Target!O50 -> 6800 | L17: =Target!O50 -> 6800 | N17: =Target!O59 -> 6800 | O17: =Target!O59 -> 6800 | P17: =Target!O59 -> 6800
A18: Wysokość Kwoty bazowej na dany okres | F18: =Target!N40 -> 7000 | G18: =Target!N40 -> 7000 | H18: =Target!N40 -> 7000 | J18: =Target!N50 -> 7000 | K18: =Target!N50 -> 7000 | L18: =Target!N50 -> 7000 | N18: =Target!N59 -> 7000 | O18: =Target!N59 -> 7000 | P18: =Target!N59 -> 7000
A19: Udział % IPSM w PSM | F19: =Target!J40 -> 0.18684521 | G19: =Target!J40 -> 0.18684521 | H19: =Target!J40 -> 0.18684521 | J19: =Target!J50 -> 0.18684521 | K19: =Target!J50 -> 0.18684521 | L19: =Target!J50 -> 0.18684521 | N19: =Target!J59 -> 0.18684521 | O19: =Target!J59 -> 0.18684521 | P19: =Target!J59 -> 0.18684521
A20: Wysokość Indywidualnej Kwoty bazowej | F20: =Target!M40 -> 5231.6658 | G20: =Target!M40 -> 5231.6658 | H20: =Target!M40 -> 5231.6658 | J20: =Target!M50 -> 5231.6658 | K20: =Target!M50 -> 5231.6658 | L20: =Target!M50 -> 5231.6658 | N20: =Target!M59 -> 5231.6658 | O20: =Target!M59 -> 5231.6658 | P20: =Target!M59 -> 5231.6658
A21: Sumaryczny Indywidualny Plan Sprzedaży Marża | B21: =B5 -> 47400 | C21: =C5 -> 100066.67 | D21: =D5 -> 158000 | F21: =F5 -> 51700.128 | G21: =G5 -> 102744.71 | H21: =H5 -> 172333.76 | J21: =J5 -> 51700.128 | K21: =K5 -> 109144.71 | L21: =L5 -> 172333.76 | N21: =N5 -> 51700.128 | O21: =O5 -> 109144.71 | P21: =P5 -> 172333.76
A22: Miesięczna realizacja Planu Sprzedaży Marża | B22: =B7 -> 66644.211 | C22: =C7 -> 110056.21 | D22: =D7 -> 174069.15 | F22: =F7 -> 50985.477 | G22: =G7 -> 97690.332 | H22: =H7 -> 142490.26 | J22: =J7 -> 0 | K22: =K7 -> 0 | L22: =L7 -> 0 | N22: =N7 -> 0 | O22: =O7 -> 0 | P22: =P7 -> 0
A23: Wysokość % zrealizowania IPSM sumarycznego | B23: =B22/B21 -> 1.405996 | C23: =C22/C21 -> 1.0998289 | D23: =D22/D21 -> 1.1017035 | F23: =F22/F21 -> 0.98617699 | G23: =G22/G21 -> 0.9508064 | H23: =H22/H21 -> 0.8268273 | J23: =J22/J21 -> 0 | K23: =K22/K21 -> 0 | L23: =L22/L21 -> 0 | N23: =N22/N21 -> 0 | O23: =O22/O21 -> 0 | P23: =P22/P21 -> 0
A24: Wysokość premii Wskaźnik Sprzedaży Marża | B24: =B17*0.35 -> 2135 | C24: =C17*0.35 -> 2135 | D24: =D17*0.35 -> 2135 | F24: =F20*0.35 -> 1831.083 | G24: =G20*0.35 -> 1831.083 | H24: =H20*0.35 -> 1831.083 | J24: =J20*0.35 -> 1831.083 | K24: =K20*0.35 -> 1831.083 | L24: =L20*0.35 -> 1831.083 | N24: =N20*0.35 -> 1831.083 | O24: =O20*0.35 -> 1831.083 | P24: =P20*0.35 -> 1831.083
A25: Mnożnik premii miesięcznej Wskaźnika Sprzedaży Marża | B25: =IF(B23<80%,0,IF(B23<90%,0.5,IF(B23<95%,0.75,1))) -> 1 | C25: =IF(C23<80%,0,IF(C23<90%,0.5,IF(C23<95%,0.75,1))) -> 1 | D25: =IF(D23<80%,0,IF(D23<90%,0.5,IF(D23<95%,0.75,1))) -> 1 | F25: =IF(F23<80%,0,IF(F23<90%,0.5,IF(F23<95%,0.75,1))) -> 1 | G25: =IF(G23<80%,0,IF(G23<90%,0.5,IF(G23<95%,0.75,1))) -> 1 | H25: =IF(H23<80%,0,IF(H23<90%,0.5,IF(H23<95%,0.75,1))) -> 0.5 | J25: =IF(J23<80%,0,IF(J23<90%,0.5,IF(J23<95%,0.75,1))) -> 0 | K25: =IF(K23<80%,0,IF(K23<90%,0.5,IF(K23<95%,0.75,1))) -> 0 | L25: =IF(L23<80%,0,IF(L23<90%,0.5,IF(L23<95%,0.75,1))) -> 0 | N25: =IF(N23<80%,0,IF(N23<90%,0.5,IF(N23<95%,0.75,1))) -> 0 | O25: =IF(O23<80%,0,IF(O23<90%,0.5,IF(O23<95%,0.75,1))) -> 0 | P25: =IF(P23<80%,0,IF(P23<90%,0.5,IF(P23<95%,0.75,1))) -> 0
A26: Premia miesięczna za Wskaźnik Sprzedaży Marża | B26: =B25*B24 -> 2135 | C26: =C25*C24 -> 2135 | D26: =D25*D24 -> 2135 | F26: =F25*F24 -> 1831.083 | G26: =G25*G24 -> 1831.083 | H26: =H25*H24 -> 915.54151 | J26: =J25*J24 -> 0 | K26: =K25*K24 -> 0 | L26: =L25*L24 -> 0 | N26: =N25*N24 -> 0 | O26: =O25*O24 -> 0 | P26: =P25*P24 -> 0
A27: Wskaźnik CRM
A28: Wysokość premii CRM | B28: =B17*0.05 -> 305 | C28: =C17*0.05 -> 305 | D28: =D17*0.05 -> 305 | F28: =F18*0.05 -> 350 | G28: =G18*0.05 -> 350 | H28: =H18*0.05 -> 350 | J28: =J18*0.05 -> 350 | K28: =K18*0.05 -> 350 | L28: =L18*0.05 -> 350 | N28: =N18*0.05 -> 350 | O28: =O18*0.05 -> 350 | P28: =P18*0.05 -> 350
A29: Mnożnik premii Wskaźnik CRM | B29: 1 | C29: 1 | D29: 1 | F29: 1 | G29: 1 | H29: 1
A30: Premia miesięczna za Wskaźnik CRM | B30: =B29*B28 -> 305 | C30: =C29*C28 -> 305 | D30: =D29*D28 -> 305 | F30: =F29*F28 -> 350 | G30: =G29*G28 -> 350 | H30: =H29*H28 -> 350 | J30: =J29*J28 -> 0 | K30: =K29*K28 -> 0 | L30: =L29*L28 -> 0 | N30: =N29*N28 -> 0 | O30: =O29*O28 -> 0 | P30: =P29*P28 -> 0
A31: Suma Premii miesięcznych | B31: =B26+B30 -> 2440 | C31: =C26+C30 -> 2440 | D31: =D26+D30 -> 2440 | F31: =F26+F30 -> 2181.083 | G31: =G26+G30 -> 2181.083 | H31: =H26+H30 -> 1265.5415 | J31: =J26+J30 -> 0 | K31: =K26+K30 -> 0 | L31: =L26+L30 -> 0 | N31: =N26+N30 -> 0 | O31: =O26+O30 -> 0 | P31: =P26+P30 -> 0
A32: Wskaźnik Premia Kwartalna Marża | B32: =D5 -> 158000 | F32: =H5 -> 172333.76 | J32: =L5 -> 172333.76 | N32: =P5 -> 172333.76
A33: Realizacja Wskaźnika Premia Kwartalna | B33: =D7 -> 174069.15 | F33: =H7 -> 142490.26 | J33: =L7 -> 0 | N33: =P7 -> 0
A34: Poziom realizacji Wskaźnika Premia Kwartalna | B34: =B33/B32 -> 1.1017035 | F34: =F33/F32 -> 0.8268273 | J34: =J33/J32 -> 0 | N34: =N33/N32 -> 0
A35: Wysokość premii kwartalnej. | B35: =D17 -> 6100 | F35: =H18 -> 7000 | J35: =L18 -> 7000 | N35: =P18 -> 7000
A36: Mnożnik premii kwartalnej | B36: =IF(B34<100%,0,IF(B34<105%,0.5,IF(B34<110%,0.7,1))) -> 1 | F36: =IF(F34<100%,0,IF(F34<105%,0.5,IF(F34<110%,0.7,1))) -> 0 | J36: =IF(J34<100%,0,IF(J34<105%,0.5,IF(J34<110%,0.7,1))) -> 0 | N36: =IF(N34<100%,0,IF(N34<105%,0.5,IF(N34<110%,0.7,1))) -> 0
A37: Premia kwartalna | B37: =B36*B35 -> 6100 | F37: =F36*F35 -> 0 | J37: =J36*J35 -> 0 | N37: =N36*N35 -> 0
A39: Raport za miesiąc: | B39: styczeń | C39: luty | D39: marzec | E39: Suma | F39: kwiecień | G39: maj | H39: czerwiec | I39: Suma | J39: lipiec | K39: sierpień | L39: wrzesień | M39: Suma | N39: paździer. | O39: listopad | P39: grudzień | Q39: Suma | R39: Suma
A40: Ilość nowych Klientów: | E40: =SUM(B40:D40) -> 0 | I40: =SUM(F40:H40) -> 0 | M40: =SUM(J40:L40) -> 0 | Q40: =SUM(N40:P40) -> 0 | R40: =I40+M40+Q40+E40 -> 0
A41: Ilość Podmiotów na etapie współpracy Klient:
A42: Ilość Podmiotów na etapie współpracy Handlowy:
...

Sheet RCKIK
A1: Grupa RCKIK
A2: miesiąc | B2: styczeń | C2: luty | D2: marzec | E2: KW I | F2: kwiecień | G2: maj | H2: czerwiec | I2: KW II | J2: lipiec | K2: sierpień | L2: wrzesień | M2: KW III | N2: październik | O2: listopad | P2: grudzień | Q2: KW IV | R2: suma
I3: 121952.63
A4: Indywidualny Plan Sprzedaży Marża | B4: =Target!C4 -> 16800 | C4: =Target!D4 -> 18666.667 | D4: =Target!E4 -> 20533.333 | E4: =SUM(B4:D4) -> 56000 | F4: =Target!F4 -> 16800 | G4: =Target!G4 -> 18666.667 | H4: =Target!H4 -> 20533.333 | I4: =SUM(F4:H4) -> 56000 | J4: =Target!I4 -> 16800 | K4: =Target!J4 -> 18666.667 | L4: =Target!K4 -> 20533.333 | M4: =SUM(J4:L4) -> 56000 | N4: =Target!L4 -> 16800 | O4: =Target!M4 -> 18666.667 | P4: =Target!N4 -> 20533.333 | Q4: =SUM(N4:P4) -> 56000 | R4: =B4+C4+D4+F4+G4+H4+J4+K4+L4+N4+O4+P4 -> 224000
A5: Sumaryczny Plan Sprzedaży Marża | B5: =B4 -> 16800 | C5: =C4+B5 -> 35466.667 | D5: =D4+C5 -> 56000 | F5: =F4 -> 16800 | G5: =G4+F5 -> 35466.667 | H5: =H4+G5 -> 56000 | J5: =J4 -> 16800 | K5: =K4+J5 -> 35466.667 | L5: =L4+K5 -> 56000 | N5: =N4 -> 16800 | O5: =O4+N5 -> 35466.667 | P5: =P4+O5 -> 56000 | R5: =R6/R4 -> 0.26337975
A6: Miesięczna realizacja Planu Sprzedaży Marża | B6: =SUMIF(I!A:A,$A$1,I!I:I) -> 4526.1787 | C6: =SUMIF(II!A:A,$A$1,II!I:I) -> 16210.623 | D6: =SUMIF(III!A:A,$A$1,III!I:I) -> 9987.3594 | E6: =SUM(B6:D6) -> 30724.161 | F6: =SUMIF(IV!A:A,$A$1,IV!I:I) -> 12628.626 | G6: =SUMIF(V!A:A,$A$1,V!I:I) -> 7248.355 | H6: =SUMIF(VI!A:A,$A$1,VI!I:I) -> 8395.9209 | I6: =SUM(F6:H6) -> 28272.902 | J6: =SUMIF(VII!A:A,$A$1,VII!I:I) -> 0 | K6: =SUMIF(VIII!A:A,$A$1,VIII!I:I) -> 0 | L6: =SUMIF(IX!A:A,$A$1,IX!I:I) -> 0 | M6: =SUM(J6:L6) -> 0 | N6: =SUMIF(X!A:A,$A$1,X!I:I) -> 0 | O6: =SUMIF(XI!A:A,$A$1,XI!I:I) -> 0 | P6: =SUMIF(XII!A:A,$A$1,XII!I:I) -> 0 | Q6: =SUM(N6:P6) -> 0 | R6: =B6+C6+D6+F6+G6+H6+J6+K6+L6+N6+O6+P6 -> 58997.063
A7: Sumaryczna realizacja planu sprzedaży Marża | B7: =B6 -> 4526.1787 | C7: =C6+B7 -> 20736.802 | D7: =D6+C7 -> 30724.161 | F7: =F6 -> 12628.626 | G7: =G6+F7 -> 19876.981 | H7: =H6+G7 -> 28272.902 | I7: =SUM(E6,I6) -> 58997.063 | J7: =J6 -> 0 | K7: =K6+J7 -> 0 | L7: =L6+K7 -> 0 | M7: =SUM(E6,I6,M6)/3 -> 19665.688 | N7: =N6 -> 0 | O7: =O6+N7 -> 0 | P7: =P6+O7 -> 0
A8: Wysokość zrealizowania Miesięcznego Planu Sprzedaży Marża | B8: =B6/B4 -> 0.2694154 | C8: =C6/C4 -> 0.86842623 | D8: =D6/D4 -> 0.48639737 | F8: =F6/F4 -> 0.75170393 | G8: =G6/G4 -> 0.38830473 | H8: =H6/H4 -> 0.40889225 | I8: =I7/I3-1 -> -0.51622968 | J8: =J6/J4 -> 0 | K8: =K6/K4 -> 0 | L8: =L6/L4 -> 0 | N8: =N6/N4 -> 0 | O8: =O6/O4 -> 0 | P8: =P6/P4 -> 0
A9: Wysokość zrealizowania Planu Sprzedaży Marża | B9: =B7/B5 -> 0.2694154 | C9: =C7/C5 -> 0.58468426 | D9: =D7/D5 -> 0.54864573 | F9: =F7/F5 -> 0.75170393 | G9: =G7/G5 -> 0.56044119 | H9: =H7/H5 -> 0.50487325 | I9: =I7-I3 -> -62955.567 | J9: =J7/J5 -> 0 | K9: =K7/K5 -> 0 | L9: =L7/L5 -> 0 | N9: =N7/N5 -> 0 | O9: =O7/O5 -> 0 | P9: =P7/P5 -> 0
A10: Różnica wskaźnika Marża | B10: =B7-B5 -> -12273.821 | C10: =C7-C5 -> -14729.865 | D10: =D7-D5 -> -25275.839 | F10: =F7-F5 -> -4171.374 | G10: =G7-G5 -> -15589.686 | H10: =H7-H5 -> -27727.098 | J10: =J7-J5 -> -16800 | K10: =K7-K5 -> -35466.667 | L10: =L7-L5 -> -56000 | N10: =N7-N5 -> -16800 | O10: =O7-O5 -> -35466.667 | P10: =P7-P5 -> -56000
A11: Miesięczny Obrót | B11: =SUMIF(I!A:A,$A$1,I!G:G) -> 29044.18 | C11: =SUMIF(II!A:A,$A$1,II!G:G) -> 60277.551 | D11: =SUMIF(III!A:A,$A$1,III!G:G) -> 41778.879 | E11: =SUM(B11:D11) -> 131100.61 | F11: =SUMIF(IV!A:A,$A$1,IV!G:G) -> 53329.84 | G11: =SUMIF(V!A:A,$A$1,V!G:G) -> 42500.449 | H11: =SUMIF(VI!A:A,$A$1,VI!G:G) -> 27933.529 | I11: =SUM(F11:H11) -> 123763.82 | J11: =SUMIF(VII!A:A,$A$1,VII!G:G) -> 0 | K11: =SUMIF(VIII!A:A,$A$1,VIII!G:G) -> 0 | L11: =SUMIF(IX!A:A,$A$1,IX!G:G) -> 0 | M11: =SUM(J11:L11) -> 0 | N11: =SUMIF(X!A:A,$A$1,X!G:G) -> 0 | O11: =SUMIF(XI!A:A,$A$1,XI!G:G) -> 0 | P11: =SUMIF(XII!A:A,$A$1,XII!G:G) -> 0 | Q11: =SUM(N11:P11) -> 0 | R11: =SUM(B11:E11) -> 262201.22
A12: Sumaryczny Obrót | B12: =B11 -> 29044.18 | C12: =C11+B12 -> 89321.731 | D12: =D11+C12 -> 131100.61 | F12: =F11 -> 53329.84 | G12: =G11+F12 -> 95830.289 | H12: =H11+G12 -> 123763.82 | J12: =J11 -> 0 | K12: =K11+J12 -> 0 | L12: =L11+K12 -> 0 | N12: =N11 -> 0 | O12: =O11+N12 -> 0 | P12: =P11+O12 -> 0
A13: Wysokość % Marży miesięcznej | B13: =B6/B11 -> 0.15583772 | C13: =C6/C11 -> 0.26893301 | D13: =D6/D11 -> 0.23905283 | F13: =F6/F11 -> 0.23680225 | G13: =G6/G11 -> 0.17054773 | H13: =H6/H11 -> 0.30056785 | J13: =J6/J11 -> #DIV/0! | K13: =K6/K11 -> #DIV/0! | L13: =L6/L11 -> #DIV/0! | N13: =N6/N11 -> #DIV/0! | O13: =O6/O11 -> #DIV/0! | P13: =P6/P11 -> #DIV/0!
A14: Wysokość % Marży sumarycznej | B14: =B7/B12 -> 0.15583772 | C14: =C7/C12 -> 0.23215853 | D14: =D7/D12 -> 0.23435559 | F14: =F7/F12 -> 0.23680225 | G14: =G7/G12 -> 0.20741856 | H14: =H7/H12 -> 0.22844239 | J14: =J7/J12 -> #DIV/0! | K14: =K7/K12 -> #DIV/0! | L14: =L7/L12 -> #DIV/0! | N14: =N7/N12 -> #DIV/0! | O14: =O7/O12 -> #DIV/0! | P14: =P7/P12 -> #DIV/0!
A16: PREMIE
A17: Premia funkcyjna | B17: 1400 | C17: 1400 | D17: 1400 | F17: 1400 | G17: 1400 | H17: 1400 | J17: 1400 | K17: 1400 | L17: 1400 | N17: 1400 | O17: 1400 | P17: 1400
A29: Wskaźnik Premia Kwartalna Marża | B29: =D5 -> 56000 | F29: =H5 -> 56000 | J29: =L5 -> 56000 | N29: =P5 -> 56000
A30: Realizacja Wskaźnika Premia Kwartalna | B30: =D7 -> 30724.161 | F30: =H7 -> 28272.902 | J30: =L7 -> 0 | N30: =P7 -> 0
A31: Poziom realizacji Wskaźnika Premia Kwartalna | B31: =B30/B29 -> 0.54864573 | F31: =F30/F29 -> 0.50487325 | J31: =J30/J29 -> 0 | N31: =N30/N29 -> 0
A32: Wysokość premii kwartalnej. | B32: =D17 -> 1400 | F32: =H17 -> 1400 | J32: =L17 -> 1400 | N32: =P17 -> 1400
A33: Mnożnik premii kwartalnej | B33: =IF(B31<100%,0,IF(B31<105%,0.5,IF(B31<110%,0.7,1))) -> 0 | F33: =IF(F31<100%,0,IF(F31<105%,0.5,IF(F31<110%,0.7,1))) -> 0 | J33: =IF(J31<100%,0,IF(J31<105%,0.5,IF(J31<110%,0.7,1))) -> 0 | N33: =IF(N31<100%,0,IF(N31<105%,0.5,IF(N31<110%,0.7,1))) -> 0
A34: Premia kwartalna dodatkowa | B34: =B33*B32 -> 0 | F34: =F33*F32 -> 0 | J34: =J33*J32 -> 0 | N34: =N33*N32 -> 0

Sheet BARTEK
A1: Bartłomiej Biskupski | B1: PLAN I KW BARTŁOMIEJ BISKUPSKI | F1: PLAN II KW BARTŁOMIEJ BISKUPSKI | J1: PLAN III KW BARTŁOMIEJ BISKUPSKI | N1: PLAN IV KW BARTŁOMIEJ BISKUPSKI
A2: miesiąc | B2: styczeń | C2: luty | D2: marzec | E2: KW I | F2: kwiecień | G2: maj | H2: czerwiec | I2: KW II | J2: lipiec | K2: sierpień | L2: wrzesień | M2: KW III | N2: październik | O2: listopad | P2: grudzień | Q2: KW IV | R2: suma ROK
I3: 422422.12 | R3: =Target!O5 -> 999001.36
A4: Indywidualny Plan Sprzedaży Marża | B4: =Target!C5-3800 -> 64000 | C4: =Target!D5 -> 75333.333 | D4: =Target!E5+3800 -> 86666.667 | E4: =SUM(B4:D4) -> 226000 | F4: =Target!F5 -> 77300.136 | G4: =Target!G5 -> 85889.04 | H4: =Target!H5 -> 94477.944 | I4: =SUM(F4:H4) -> 257667.12 | J4: =Target!I5 -> 77300.136 | K4: =Target!J5 -> 85889.04 | L4: =Target!K5 -> 94477.944 | M4: =SUM(J4:L4) -> 257667.12 | N4: =Target!L5 -> 77300.136 | O4: =Target!M5 -> 85889.04 | P4: =Target!N5 -> 94477.944 | Q4: =SUM(N4:P4) -> 257667.12 | R4: =E4+I4+M4+Q4 -> 999001.36
A5: Sumaryczny Indywidulany Plan Sprzedaży Marża | B5: =B4 -> 64000 | C5: =C4+B5 -> 139333.33 | D5: =D4+C5 -> 226000 | F5: =F4 -> 77300.136 | G5: =G4+F5 -> 163189.18 | H5: =H4+G5 -> 257667.12 | J5: =J4 -> 77300.136 | K5: =K4+J5 -> 163189.18 | L5: =L4+K5 -> 257667.12 | N5: =N4 -> 77300.136 | O5: =O4+N5 -> 163189.18 | P5: =P4+O5 -> 257667.12 | R5: =R6/R4 -> 0.5009091
A6: Miesięczna realizacja Planu Sprzedaży Marża | B6: =SUMIF(I!A:A,$A$1,I!I:I) -> 60864.18 | C6: =SUMIF(II!A:A,$A$1,II!I:I) -> 94166.219 | D6: =SUMIF(III!A:A,$A$1,III!I:I) -> 85052.258 | E6: =SUM(B6:D6) -> 240082.66 | F6: =SUMIF(IV!A:A,$A$1,IV!I:I) -> 86700.594 | G6: =SUMIF(V!A:A,$A$1,V!I:I) -> 80725.25 | H6: =SUMIF(VI!A:A,$A$1,VI!I:I) -> 92900.367 | I6: =SUM(F6:H6) -> 260326.21 | J6: =SUMIF(VII!A:A,$A$1,VII!I:I) -> 0 | K6: =SUMIF(VIII!A:A,$A$1,VIII!I:I) -> 0 | L6: =SUMIF(IX!A:A,$A$1,IX!I:I) -> 0 | M6: =SUM(J6:L6) -> 0 | N6: =SUMIF(X!A:A,$A$1,X!I:I) -> 0 | O6: =SUMIF(XI!A:A,$A$1,XI!I:I) -> 0 | P6: =SUMIF(XII!A:A,$A$1,XII!I:I) -> 0 | Q6: =SUM(N6:P6) -> 0 | R6: =E6+I6+M6+Q6 -> 500408.87
A7: Sumaryczna realizacja Planu Sprzedaży Marża | B7: =B6 -> 60864.18 | C7: =C6+B7 -> 155030.4 | D7: =D6+C7 -> 240082.66 | F7: =F6 -> 86700.594 | G7: =G6+F7 -> 167425.84 | H7: =H6+G7 -> 260326.21 | I7: =SUM(E6,I6) -> 500408.87 | J7: =J6 -> 0 | K7: =K6+J7 -> 0 | L7: =L6+K7 -> 0 | M7: =SUM(E6,I6,M6)/3 -> 166802.96 | N7: =N6 -> 0 | O7: =O6+N7 -> 0 | P7: =P6+O7 -> 0 | R7: =R3-R4 -> 0
A8: Wysokość % zrealizowania IPSM miesięcznego | B8: =B6/B4 -> 0.95100281 | C8: =C6/C4 -> 1.2499941 | D8: =D6/D4 -> 0.98137221 | F8: =F6/F4 -> 1.1216098 | G8: =G6/G4 -> 0.93987836 | H8: =H6/H4 -> 0.98330217 | I8: =I7/I3-1 -> 0.18461805 | J8: =J6/J4 -> 0 | K8: =K6/K4 -> 0 | L8: =L6/L4 -> 0 | N8: =N6/N4 -> 0 | O8: =O6/O4 -> 0 | P8: =P6/P4 -> 0 | Q8: =Q4*1.05 -> 270550.48 | R8: =R7*100/R3 -> 0
A9: Wysokość % zrealizowania IPSM sumarycznego | B9: =B7/B5 -> 0.95100281 | C9: =C7/C5 -> 1.1126584 | D9: =D7/D5 -> 1.0623126 | F9: =F7/F5 -> 1.1216098 | G9: =G7/G5 -> 1.0259617 | H9: =H7/H5 -> 1.0103199 | I9: =I7-I3 -> 77986.747 | J9: =J7/J5 -> 0 | K9: =K7/K5 -> 0 | L9: =L7/L5 -> 0 | N9: =N7/N5 -> 0 | O9: =O7/O5 -> 0 | P9: =P7/P5 -> 0 | Q9: =Q8-Q6 -> 270550.48
A10: Różnica | B10: =B7-B5 -> -3135.8203 | C10: =C7-C5 -> 15697.065 | D10: =D7-D5 -> 14082.656 | F10: =F7-F5 -> 9400.4578 | G10: =G7-G5 -> 4236.6678 | H10: =H7-H5 -> 2659.091 | J10: =J7-J5 -> -77300.136 | K10: =K7-K5 -> -163189.18 | L10: =L7-L5 -> -257667.12 | N10: =N7-N5 -> -77300.136 | O10: =O7-O5 -> -163189.18 | P10: =P7-P5 -> -257667.12
A11: Miesięczny Obrót | B11: =SUMIF(I!A:A,$A$1,I!G:G) -> 143664.91 | C11: =SUMIF(II!A:A,$A$1,II!G:G) -> 234312.84 | D11: =SUMIF(III!A:A,$A$1,III!G:G) -> 177334.09 | E11: =SUM(B11:D11) -> 555311.84 | F11: =SUMIF(IV!A:A,$A$1,IV!G:G) -> 204078.89 | G11: =SUMIF(V!A:A,$A$1,V!G:G) -> 185067.41 | H11: =SUMIF(VI!A:A,$A$1,VI!G:G) -> 189107.3 | I11: =SUM(F11:H11) -> 578253.59 | J11: =SUMIF(VII!A:A,$A$1,VII!G:G) -> 0 | K11: =SUMIF(VIII!A:A,$A$1,VIII!G:G) -> 0 | L11: =SUMIF(IX!A:A,$A$1,IX!G:G) -> 0 | M11: =SUM(J11:L11) -> 0 | N11: =SUMIF(X!A:A,$A$1,X!G:G) -> 0 | O11: =SUMIF(XI!A:A,$A$1,XI!G:G) -> 0 | P11: =SUMIF(XII!A:A,$A$1,XII!G:G) -> 0 | Q11: =SUM(N11:P11) -> 0 | R11: =E11+I11+M11+Q11 -> 1133565.4
A12: Sumaryczny Obrót | B12: =B11 -> 143664.91 | C12: =C11+B12 -> 377977.75 | D12: =D11+C12 -> 555311.84 | F12: =F11 -> 204078.89 | G12: =G11+F12 -> 389146.3 | H12: =H11+G12 -> 578253.59 | J12: =J11 -> 0 | K12: =K11+J12 -> 0 | L12: =L11+K12 -> 0 | N12: =N11 -> 0 | O12: =O11+N12 -> 0 | P12: =P11+O12 -> 0
A13: Wysokość % Marży miesięcznej | B13: =B6/B11 -> 0.42365377 | C13: =C6/C11 -> 0.40188245 | D13: =D6/D11 -> 0.47961594 | F13: =F6/F11 -> 0.42483862 | G13: =G6/G11 -> 0.43619377 | H13: =H6/H11 -> 0.49125744 | J13: =J6/J11 -> #DIV/0! | K13: =K6/K11 -> #DIV/0! | L13: =L6/L11 -> #DIV/0! | N13: =N6/N11 -> #DIV/0! | O13: =O6/O11 -> #DIV/0! | P13: =P6/P11 -> #DIV/0!
A14: Wysokość % Marży sumarycznej | B14: =B7/B12 -> 0.42365377 | C14: =C7/C12 -> 0.41015747 | D14: =D7/D12 -> 0.43233844 | F14: =F7/F12 -> 0.42483862 | G14: =G7/G12 -> 0.43023882 | H14: =H7/H12 -> 0.45019385 | J14: =J7/J12 -> #DIV/0! | K14: =K7/K12 -> #DIV/0! | L14: =L7/L12 -> #DIV/0! | N14: =N7/N12 -> #DIV/0! | O14: =O7/O12 -> #DIV/0! | P14: =P7/P12 -> #DIV/0!
A16: PREMIE | B16: PREMIE
A17: Wynagrodzenie zasadnicze | B17: =Target!O33 -> 6400 | C17: =Target!O33 -> 6400 | D17: =Target!O33 -> 6400 | F17: =Target!O42 -> 6800 | G17: =Target!O42 -> 6800 | H17: =Target!O42 -> 6800 | J17: =Target!O52 -> 6800 | K17: =Target!O52 -> 6800 | L17: =Target!O52 -> 6800 | N17: =Target!O61 -> 6800 | O17: =Target!O61 -> 6800 | P17: =Target!O61 -> 6800
A18: Wysokość Kwoty bazowej na dany okres | F18: =Target!N40 -> 7000 | G18: =Target!N40 -> 7000 | H18: =Target!N40 -> 7000 | J18: =Target!N50 -> 7000 | K18: =Target!N50 -> 7000 | L18: =Target!N50 -> 7000 | N18: =Target!N59 -> 7000 | O18: =Target!N59 -> 7000 | P18: =Target!N59 -> 7000
A19: Udział % IPSM w PSM | F19: =Target!J42 -> 0.2793641 | G19: =Target!J42 -> 0.2793641 | H19: =Target!J42 -> 0.2793641 | J19: =Target!J52 -> 0.2793641 | K19: =Target!J52 -> 0.2793641 | L19: =Target!J52 -> 0.2793641 | N19: =Target!J61 -> 0.2793641 | O19: =Target!J61 -> 0.2793641 | P19: =Target!J61 -> 0.2793641
A20: Wysokość Indywidualnej Kwoty bazowej | F20: =Target!M42 -> 7822.1949 | G20: =Target!M42 -> 7822.1949 | H20: =Target!M42 -> 7822.1949 | J20: =Target!M52 -> 7822.1949 | K20: =Target!M52 -> 7822.1949 | L20: =Target!M52 -> 7822.1949 | N20: =Target!M61 -> 7822.1949 | O20: =Target!M61 -> 7822.1949 | P20: =Target!M61 -> 7822.1949
A21: Sumaryczny Indywidualny Plan Sprzedaży Marża | B21: =B5 -> 64000 | C21: =C5 -> 139333.33 | D21: =D5 -> 226000 | F21: =F5 -> 77300.136 | G21: =G5 -> 163189.18 | H21: =H5 -> 257667.12 | J21: =J5 -> 77300.136 | K21: =K5 -> 163189.18 | L21: =L5 -> 257667.12 | N21: =N5 -> 77300.136 | O21: =O5 -> 163189.18 | P21: =P5 -> 257667.12
A22: Miesięczna realizacja Planu Sprzedaży Marża | B22: =B7 -> 60864.18 | C22: =C7 -> 155030.4 | D22: =D7 -> 240082.66 | F22: =F7 -> 86700.594 | G22: =G7 -> 167425.84 | H22: =H7 -> 260326.21 | J22: =J7 -> 0 | K22: =K7 -> 0 | L22: =L7 -> 0 | N22: =N7 -> 0 | O22: =O7 -> 0 | P22: =P7 -> 0
A23: Wysokość % zrealizowania IPSM sumarycznego | B23: =B22/B21 -> 0.95100281 | C23: =C22/C21 -> 1.1126584 | D23: =D22/D21 -> 1.0623126 | F23: =F22/F21 -> 1.1216098 | G23: =G22/G21 -> 1.0259617 | H23: =H22/H21 -> 1.0103199 | J23: =J22/J21 -> 0 | K23: =K22/K21 -> 0 | L23: =L22/L21 -> 0 | N23: =N22/N21 -> 0 | O23: =O22/O21 -> 0 | P23: =P22/P21 -> 0
A24: Wysokość premii Wskaźnik Sprzedaży Marża | B24: =B17*0.35 -> 2240 | C24: =C17*0.35 -> 2240 | D24: =D17*0.35 -> 2240 | F24: =F20*0.35 -> 2737.7682 | G24: =G20*0.35 -> 2737.7682 | H24: =H20*0.35 -> 2737.7682 | J24: =J20*0.35 -> 2737.7682 | K24: =K20*0.35 -> 2737.7682 | L24: =L20*0.35 -> 2737.7682 | N24: =N20*0.35 -> 2737.7682 | O24: =O20*0.35 -> 2737.7682 | P24: =P20*0.35 -> 2737.7682
A25: Mnożnik premii miesięcznej Wskaźnika Sprzedaży Marża | B25: =IF(B23<80%,0,IF(B23<90%,0.5,IF(B23<95%,0.75,1))) -> 1 | C25: =IF(C23<80%,0,IF(C23<90%,0.5,IF(C23<95%,0.75,1))) -> 1 | D25: =IF(D23<80%,0,IF(D23<90%,0.5,IF(D23<95%,0.75,1))) -> 1 | F25: =IF(F23<80%,0,IF(F23<90%,0.5,IF(F23<95%,0.75,1))) -> 1 | G25: =IF(G23<80%,0,IF(G23<90%,0.5,IF(G23<95%,0.75,1))) -> 1 | H25: =IF(H23<80%,0,IF(H23<90%,0.5,IF(H23<95%,0.75,1))) -> 1 | J25: =IF(J23<80%,0,IF(J23<90%,0.5,IF(J23<95%,0.75,1))) -> 0 | K25: =IF(K23<80%,0,IF(K23<90%,0.5,IF(K23<95%,0.75,1))) -> 0 | L25: =IF(L23<80%,0,IF(L23<90%,0.5,IF(L23<95%,0.75,1))) -> 0 | N25: =IF(N23<80%,0,IF(N23<90%,0.5,IF(N23<95%,0.75,1))) -> 0 | O25: =IF(O23<80%,0,IF(O23<90%,0.5,IF(O23<95%,0.75,1))) -> 0 | P25: =IF(P23<80%,0,IF(P23<90%,0.5,IF(P23<95%,0.75,1))) -> 0
A26: Premia miesięczna za Wskaźnik Sprzedaży Marża | B26: =B25*B24 -> 2240 | C26: =C25*C24 -> 2240 | D26: =D25*D24 -> 2240 | F26: =F25*F24 -> 2737.7682 | G26: =G25*G24 -> 2737.7682 | H26: =H25*H24 -> 2737.7682 | J26: =J25*J24 -> 0 | K26: =K25*K24 -> 0 | L26: =L25*L24 -> 0 | N26: =N25*N24 -> 0 | O26: =O25*O24 -> 0 | P26: =P25*P24 -> 0
A27: Wskaźnik CRM
A28: Wysokość premii CRM | B28: =B17*0.05 -> 320 | C28: =C17*0.05 -> 320 | D28: =D17*0.05 -> 320 | F28: =F18*0.05 -> 350 | G28: =G18*0.05 -> 350 | H28: =H18*0.05 -> 350 | J28: =J18*0.05 -> 350 | K28: =K18*0.05 -> 350 | L28: =L18*0.05 -> 350 | N28: =N18*0.05 -> 350 | O28: =O18*0.05 -> 350 | P28: =P18*0.05 -> 350
A29: Mnożnik premii Wskaźnik CRM | B29: 1 | C29: 1 | D29: 1 | F29: 1 | G29: 1 | H29: 1
A30: Premia miesięczna za Wskaźnik CRM | B30: =B29*B28 -> 320 | C30: =C29*C28 -> 320 | D30: =D29*D28 -> 320 | F30: =F29*F28 -> 350 | G30: =G29*G28 -> 350 | H30: =H29*H28 -> 350 | J30: =J29*J28 -> 0 | K30: =K29*K28 -> 0 | L30: =L29*L28 -> 0 | N30: =N29*N28 -> 0 | O30: =O29*O28 -> 0 | P30: =P29*P28 -> 0
A31: Suma Premii miesięcznych | B31: =B26+B30 -> 2560 | C31: =C26+C30 -> 2560 | D31: =D26+D30 -> 2560 | F31: =F26+F30 -> 3087.7682 | G31: =G26+G30 -> 3087.7682 | H31: =H26+H30 -> 3087.7682 | J31: =J26+J30 -> 0 | K31: =K26+K30 -> 0 | L31: =L26+L30 -> 0 | N31: =N26+N30 -> 0 | O31: =O26+O30 -> 0 | P31: =P26+P30 -> 0
A32: Wskaźnik Premia Kwartalna Marża | B32: =D5 -> 226000 | F32: =H5 -> 257667.12 | J32: =L5 -> 257667.12 | N32: =P5 -> 257667.12
A33: Realizacja Wskaźnika Premia Kwartalna | B33: =D7 -> 240082.66 | F33: =H7 -> 260326.21 | J33: =L7 -> 0 | N33: =P7 -> 0
A34: Poziom realizacji Wskaźnika Premia Kwartalna | B34: =B33/B32 -> 1.0623126 | F34: =F33/F32 -> 1.0103199 | J34: =J33/J32 -> 0 | N34: =N33/N32 -> 0
A35: Wysokość premii kwartalnej. | B35: =D17 -> 6400 | F35: =H18 -> 7000 | J35: =L18 -> 7000 | N35: =P18 -> 7000
A36: Mnożnik premii kwartalnej | B36: =IF(B34<100%,0,IF(B34<105%,0.5,IF(B34<110%,0.7,1))) -> 0.7 | F36: =IF(F34<100%,0,IF(F34<105%,0.5,IF(F34<110%,0.7,1))) -> 0.5 | J36: =IF(J34<100%,0,IF(J34<105%,0.5,IF(J34<110%,0.7,1))) -> 0 | N36: =IF(N34<100%,0,IF(N34<105%,0.5,IF(N34<110%,0.7,1))) -> 0
A37: Premia kwartalna | B37: =B36*B35 -> 4480 | F37: =F36*F35 -> 3500 | J37: =J36*J35 -> 0 | N37: =N36*N35 -> 0
A39: Raport za miesiąc: | B39: styczeń | C39: luty | D39: marzec | E39: Suma | F39: kwiecień | G39: maj | H39: czerwiec | I39: Suma | J39: lipiec | K39: sierpień | L39: wrzesień | M39: Suma | N39: paździer. | O39: listopad | P39: grudzień | Q39: Suma | R39: Suma
A40: Ilość nowych Klientów: | E40: =SUM(B40:D40) -> 0 | I40: =SUM(F40:H40) -> 0 | M40: =SUM(J40:L40) -> 0 | Q40: =SUM(N40:P40) -> 0 | R40: =I40+M40+Q40+E40 -> 0
A41: Ilość Podmiotów na etapie współpracy Klient:
A42: Ilość Podmiotów na etapie współpracy Handlowy:
...

Sheet PIOTR
A1: Piotr Choma | B1: PLAN I KW Piotr Choma | F1: PLAN II KW Piotr Choma | J1: PLAN III KW Piotr Choma | N1: PLAN IV KW Piotr Choma
A2: miesiąc | B2: styczeń | C2: luty | D2: marzec | E2: KW I | F2: kwiecień | G2: maj | H2: czerwiec | I2: KW II | J2: lipiec | K2: sierpień | L2: wrzesień | M2: KW III | N2: październik | O2: listopad | P2: grudzień | Q2: KW IV | R2: suma ROK
I3: 468248.65 | R3: =Target!O6 -> 930001.3
A4: Indywidualny Plan Sprzedaży Marża | B4: =Target!C6 -> 67800 | C4: =Target!D6 -> 75333.333 | D4: =Target!E6 -> 82866.667 | E4: =SUM(B4:D4) -> 226000 | F4: =Target!F6 -> 70400.13 | G4: =Target!G6 -> 78222.367 | H4: =Target!H6 -> 86044.603 | I4: =SUM(F4:H4) -> 234667.1 | J4: =Target!I6 -> 70400.13 | K4: =Target!J6 -> 78222.367 | L4: =Target!K6 -> 86044.603 | M4: =SUM(J4:L4) -> 234667.1 | N4: =Target!L6 -> 70400.13 | O4: =Target!M6 -> 78222.367 | P4: =Target!N6 -> 86044.603 | Q4: =SUM(N4:P4) -> 234667.1 | R4: =E4+I4+M4+Q4 -> 930001.3
A5: Sumaryczny Indywidulany Plan Sprzedaży Marża | B5: =B4 -> 67800 | C5: =C4+B5 -> 143133.33 | D5: =D4+C5 -> 226000 | F5: =F4 -> 70400.13 | G5: =G4+F5 -> 148622.5 | H5: =H4+G5 -> 234667.1 | J5: =J4 -> 70400.13 | K5: =K4+J5 -> 148622.5 | L5: =L4+K5 -> 234667.1 | N5: =N4 -> 70400.13 | O5: =O4+N5 -> 148622.5 | P5: =P4+O5 -> 234667.1 | R5: =R6/R4 -> 0.5109496
A6: Miesięczna realizacja Planu Sprzedaży Marża | B6: =SUMIF(I!A:A,$A$1,I!I:I) -> 74516.641 | C6: =SUMIF(II!A:A,$A$1,II!I:I) -> 79292.469 | D6: =SUMIF(III!A:A,$A$1,III!I:I) -> 61748.938 | E6: =SUM(B6:D6) -> 215558.05 | F6: =SUMIF(IV!A:A,$A$1,IV!I:I) -> 98031.68 | G6: =SUMIF(V!A:A,$A$1,V!I:I) -> 87473.93 | H6: =SUMIF(VI!A:A,$A$1,VI!I:I) -> 74120.133 | I6: =SUM(F6:H6) -> 259625.74 | J6: =SUMIF(VII!A:A,$A$1,VII!I:I) -> 0 | K6: =SUMIF(VIII!A:A,$A$1,VIII!I:I) -> 0 | L6: =SUMIF(IX!A:A,$A$1,IX!I:I) -> 0 | M6: =SUM(J6:L6) -> 0 | N6: =SUMIF(X!A:A,$A$1,X!I:I) -> 0 | O6: =SUMIF(XI!A:A,$A$1,XI!I:I) -> 0 | P6: =SUMIF(XII!A:A,$A$1,XII!I:I) -> 0 | Q6: =SUM(N6:P6) -> 0 | R6: =E6+I6+M6+Q6 -> 475183.79
A7: Sumaryczna realizacja Planu Sprzedaży Marża | B7: =B6 -> 74516.641 | C7: =C6+B7 -> 153809.11 | D7: =D6+C7 -> 215558.05 | F7: =F6 -> 98031.68 | G7: =G6+F7 -> 185505.61 | H7: =H6+G7 -> 259625.74 | I7: =SUM(E6,I6) -> 475183.79 | J7: =J6 -> 0 | K7: =K6+J7 -> 0 | L7: =L6+K7 -> 0 | M7: =SUM(E6,I6,M6)/3 -> 158394.6 | N7: =N6 -> 0 | O7: =O6+N7 -> 0 | P7: =P6+O7 -> 0 | R7: =R3-R4 -> 0
A8: Wysokość % zrealizowania IPSM miesięcznego | B8: =B6/B4 -> 1.0990655 | C8: =C6/C4 -> 1.0525549 | D8: =D6/D4 -> 0.74516015 | F8: =F6/F4 -> 1.3924929 | G8: =G6/G4 -> 1.1182726 | H8: =H6/H4 -> 0.86141524 | I8: =I7/I3-1 -> 0.014810804 | J8: =J6/J4 -> 0 | K8: =K6/K4 -> 0 | L8: =L6/L4 -> 0 | N8: =N6/N4 -> 0 | O8: =O6/O4 -> 0 | P8: =P6/P4 -> 0 | R8: =R7*100/R3 -> 0
A9: Wysokość % zrealizowania IPSM sumarycznego | B9: =B7/B5 -> 1.0990655 | C9: =C7/C5 -> 1.0745862 | D9: =D7/D5 -> 0.95379667 | F9: =F7/F5 -> 1.3924929 | G9: =G7/G5 -> 1.2481664 | H9: =H7/H5 -> 1.1063577 | I9: =I7-I3 -> 6935.1391 | J9: =J7/J5 -> 0 | K9: =K7/K5 -> 0 | L9: =L7/L5 -> 0 | N9: =N7/N5 -> 0 | O9: =O7/O5 -> 0 | P9: =P7/P5 -> 0
A10: Różnica | B10: =B7-B5 -> 6716.6406 | C10: =C7-C5 -> 10675.776 | D10: =D7-D5 -> -10441.953 | F10: =F7-F5 -> 27631.55 | G10: =G7-G5 -> 36883.113 | H10: =H7-H5 -> 24958.642 | J10: =J7-J5 -> -70400.13 | K10: =K7-K5 -> -148622.5 | L10: =L7-L5 -> -234667.1 | N10: =N7-N5 -> -70400.13 | O10: =O7-O5 -> -148622.5 | P10: =P7-P5 -> -234667.1
A11: Miesięczny Obrót | B11: =SUMIF(I!A:A,$A$1,I!G:G) -> 234790.69 | C11: =SUMIF(II!A:A,$A$1,II!G:G) -> 265468.94 | D11: =SUMIF(III!A:A,$A$1,III!G:G) -> 199307.95 | E11: =SUM(B11:D11) -> 699567.58 | F11: =SUMIF(IV!A:A,$A$1,IV!G:G) -> 312540.22 | G11: =SUMIF(V!A:A,$A$1,V!G:G) -> 295717.25 | H11: =SUMIF(VI!A:A,$A$1,VI!G:G) -> 247289.08 | I11: =SUM(F11:H11) -> 855546.55 | J11: =SUMIF(VII!A:A,$A$1,VII!G:G) -> 0 | K11: =SUMIF(VIII!A:A,$A$1,VIII!G:G) -> 0 | L11: =SUMIF(IX!A:A,$A$1,IX!G:G) -> 0 | M11: =SUM(J11:L11) -> 0 | N11: =SUMIF(X!A:A,$A$1,X!G:G) -> 0 | O11: =SUMIF(XI!A:A,$A$1,XI!G:G) -> 0 | P11: =SUMIF(XII!A:A,$A$1,XII!G:G) -> 0 | Q11: =SUM(N11:P11) -> 0 | R11: =E11+I11+M11+Q11 -> 1555114.1
A12: Sumaryczny Obrót | B12: =B11 -> 234790.69 | C12: =C11+B12 -> 500259.62 | D12: =D11+C12 -> 699567.58 | F12: =F11 -> 312540.22 | G12: =G11+F12 -> 608257.47 | H12: =H11+G12 -> 855546.55 | J12: =J11 -> 0 | K12: =K11+J12 -> 0 | L12: =L11+K12 -> 0 | N12: =N11 -> 0 | O12: =O11+N12 -> 0 | P12: =P11+O12 -> 0
A13: Wysokość % Marży miesięcznej | B13: =B6/B11 -> 0.31737477 | C13: =C6/C11 -> 0.29868831 | D13: =D6/D11 -> 0.30981673 | F13: =F6/F11 -> 0.31366101 | G13: =G6/G11 -> 0.29580259 | H13: =H6/H11 -> 0.29973072 | J13: =J6/J11 -> #DIV/0! | K13: =K6/K11 -> #DIV/0! | L13: =L6/L11 -> #DIV/0! | N13: =N6/N11 -> #DIV/0! | O13: =O6/O11 -> #DIV/0! | P13: =P6/P11 -> #DIV/0!
A14: Wysokość % Marży sumarycznej | B14: =B7/B12 -> 0.31737477 | C14: =C7/C12 -> 0.30745857 | D14: =D7/D12 -> 0.30813041 | F14: =F7/F12 -> 0.31366101 | G14: =G7/G12 -> 0.30497876 | H14: =H7/H12 -> 0.30346186 | J14: =J7/J12 -> #DIV/0! | K14: =K7/K12 -> #DIV/0! | L14: =L7/L12 -> #DIV/0! | N14: =N7/N12 -> #DIV/0! | O14: =O7/O12 -> #DIV/0! | P14: =P7/P12 -> #DIV/0!
A16: PREMIE | B16: PREMIE
A17: Wynagrodzenie zasadnicze | B17: =Target!O34 -> 7200 | C17: =Target!O34 -> 7200 | D17: =Target!O34 -> 7200 | F17: =Target!O43 -> 7500 | G17: =Target!O43 -> 7500 | H17: =Target!O43 -> 7500 | J17: =Target!O53 -> 7500 | K17: =Target!O53 -> 7500 | L17: =Target!O53 -> 7500 | N17: =Target!O62 -> 7500 | O17: =Target!O62 -> 7500 | P17: =Target!O62 -> 7500
A18: Wysokość Kwoty bazowej na dany okres | F18: =Target!N40 -> 7000 | G18: =Target!N40 -> 7000 | H18: =Target!N40 -> 7000 | J18: =Target!N50 -> 7000 | K18: =Target!N50 -> 7000 | L18: =Target!N50 -> 7000 | N18: =Target!N59 -> 7000 | O18: =Target!N59 -> 7000 | P18: =Target!N59 -> 7000
A19: Udział % IPSM w PSM | F19: =Target!J43 -> 0.25442736 | G19: =Target!J43 -> 0.25442736 | H19: =Target!J43 -> 0.25442736 | J19: =Target!J53 -> 0.25442736 | K19: =Target!J53 -> 0.25442736 | L19: =Target!J53 -> 0.25442736 | N19: =Target!J62 -> 0.25442736 | O19: =Target!J62 -> 0.25442736 | P19: =Target!J62 -> 0.25442736
A20: Wysokość Indywidualnej Kwoty bazowej | F20: =Target!M43 -> 7123.966 | G20: =Target!M43 -> 7123.966 | H20: =Target!M43 -> 7123.966 | J20: =Target!M53 -> 7123.966 | K20: =Target!M53 -> 7123.966 | L20: =Target!M53 -> 7123.966 | N20: =Target!M62 -> 7123.966 | O20: =Target!M62 -> 7123.966 | P20: =Target!M62 -> 7123.966
A21: Sumaryczny Indywidualny Plan Sprzedaży Marża | B21: =B5 -> 67800 | C21: =C5 -> 143133.33 | D21: =D5 -> 226000 | F21: =F5 -> 70400.13 | G21: =G5 -> 148622.5 | H21: =H5 -> 234667.1 | J21: =J5 -> 70400.13 | K21: =K5 -> 148622.5 | L21: =L5 -> 234667.1 | N21: =N5 -> 70400.13 | O21: =O5 -> 148622.5 | P21: =P5 -> 234667.1
A22: Miesięczna realizacja Planu Sprzedaży Marża | B22: =B7 -> 74516.641 | C22: =C7 -> 153809.11 | D22: =D7 -> 215558.05 | F22: =F7 -> 98031.68 | G22: =G7 -> 185505.61 | H22: =H7 -> 259625.74 | J22: =J7 -> 0 | K22: =K7 -> 0 | L22: =L7 -> 0 | N22: =N7 -> 0 | O22: =O7 -> 0 | P22: =P7 -> 0
A23: Wysokość % zrealizowania IPSM sumarycznego | B23: =B22/B21 -> 1.0990655 | C23: =C22/C21 -> 1.0745862 | D23: =D22/D21 -> 0.95379667 | F23: =F22/F21 -> 1.3924929 | G23: =G22/G21 -> 1.2481664 | H23: =H22/H21 -> 1.1063577 | J23: =J22/J21 -> 0 | K23: =K22/K21 -> 0 | L23: =L22/L21 -> 0 | N23: =N22/N21 -> 0 | O23: =O22/O21 -> 0 | P23: =P22/P21 -> 0
A24: Wysokość premii Wskaźnik Sprzedaży Marża | B24: =B17*0.35 -> 2520 | C24: =C17*0.35 -> 2520 | D24: =D17*0.35 -> 2520 | F24: =F20*0.35 -> 2493.3881 | G24: =G20*0.35 -> 2493.3881 | H24: =H20*0.35 -> 2493.3881 | J24: =J20*0.35 -> 2493.3881 | K24: =K20*0.35 -> 2493.3881 | L24: =L20*0.35 -> 2493.3881 | N24: =N20*0.35 -> 2493.3881 | O24: =O20*0.35 -> 2493.3881 | P24: =P20*0.35 -> 2493.3881
A25: Mnożnik premii miesięcznej Wskaźnika Sprzedaży Marża | B25: =IF(B23<80%,0,IF(B23<90%,0.5,IF(B23<95%,0.75,1))) -> 1 | C25: =IF(C23<80%,0,IF(C23<90%,0.5,IF(C23<95%,0.75,1))) -> 1 | D25: =IF(D23<80%,0,IF(D23<90%,0.5,IF(D23<95%,0.75,1))) -> 1 | F25: =IF(F23<80%,0,IF(F23<90%,0.5,IF(F23<95%,0.75,1))) -> 1 | G25: =IF(G23<80%,0,IF(G23<90%,0.5,IF(G23<95%,0.75,1))) -> 1 | H25: =IF(H23<80%,0,IF(H23<90%,0.5,IF(H23<95%,0.75,1))) -> 1 | J25: =IF(J23<80%,0,IF(J23<90%,0.5,IF(J23<95%,0.75,1))) -> 0 | K25: =IF(K23<80%,0,IF(K23<90%,0.5,IF(K23<95%,0.75,1))) -> 0 | L25: =IF(L23<80%,0,IF(L23<90%,0.5,IF(L23<95%,0.75,1))) -> 0 | N25: =IF(N23<80%,0,IF(N23<90%,0.5,IF(N23<95%,0.75,1))) -> 0 | O25: =IF(O23<80%,0,IF(O23<90%,0.5,IF(O23<95%,0.75,1))) -> 0 | P25: =IF(P23<80%,0,IF(P23<90%,0.5,IF(P23<95%,0.75,1))) -> 0
A26: Premia miesięczna za Wskaźnik Sprzedaży Marża | B26: =B25*B24 -> 2520 | C26: =C25*C24 -> 2520 | D26: =D25*D24 -> 2520 | F26: =F25*F24 -> 2493.3881 | G26: =G25*G24 -> 2493.3881 | H26: =H25*H24 -> 2493.3881 | J26: =J25*J24 -> 0 | K26: =K25*K24 -> 0 | L26: =L25*L24 -> 0 | N26: =N25*N24 -> 0 | O26: =O25*O24 -> 0 | P26: =P25*P24 -> 0
A27: Wskaźnik CRM
A28: Wysokość premii CRM | B28: =B17*0.05 -> 360 | C28: =C17*0.05 -> 360 | D28: =D17*0.05 -> 360 | F28: =F18*0.05 -> 350 | G28: =G18*0.05 -> 350 | H28: =H18*0.05 -> 350 | J28: =J18*0.05 -> 350 | K28: =K18*0.05 -> 350 | L28: =L18*0.05 -> 350 | N28: =N18*0.05 -> 350 | O28: =O18*0.05 -> 350 | P28: =P18*0.05 -> 350
A29: Mnożnik premii Wskaźnik CRM | B29: 1 | C29: 1 | D29: 1 | F29: 1 | G29: 1 | H29: 1
A30: Premia miesięczna za Wskaźnik CRM | B30: =B29*B28 -> 360 | C30: =C29*C28 -> 360 | D30: =D29*D28 -> 360 | F30: =F29*F28 -> 350 | G30: =G29*G28 -> 350 | H30: =H29*H28 -> 350 | J30: =J29*J28 -> 0 | K30: =K29*K28 -> 0 | L30: =L29*L28 -> 0 | N30: =N29*N28 -> 0 | O30: =O29*O28 -> 0 | P30: =P29*P28 -> 0
A31: Suma Premii miesięcznych | B31: =B26+B30 -> 2880 | C31: =C26+C30 -> 2880 | D31: =D26+D30 -> 2880 | F31: =F26+F30 -> 2843.3881 | G31: =G26+G30 -> 2843.3881 | H31: =H26+H30 -> 2843.3881 | J31: =J26+J30 -> 0 | K31: =K26+K30 -> 0 | L31: =L26+L30 -> 0 | N31: =N26+N30 -> 0 | O31: =O26+O30 -> 0 | P31: =P26+P30 -> 0
A32: Wskaźnik Premia Kwartalna Marża | B32: =D5 -> 226000 | F32: =H5 -> 234667.1 | J32: =L5 -> 234667.1 | N32: =P5 -> 234667.1
A33: Realizacja Wskaźnika Premia Kwartalna | B33: =D7 -> 215558.05 | F33: =H7 -> 259625.74 | J33: =L7 -> 0 | N33: =P7 -> 0
A34: Poziom realizacji Wskaźnika Premia Kwartalna | B34: =B33/B32 -> 0.95379667 | F34: =F33/F32 -> 1.1063577 | J34: =J33/J32 -> 0 | N34: =N33/N32 -> 0
A35: Wysokość premii kwartalnej. | B35: =D17 -> 7200 | F35: =H18 -> 7000 | J35: =L18 -> 7000 | N35: =P18 -> 7000
A36: Mnożnik premii kwartalnej | B36: =IF(B34<100%,0,IF(B34<105%,0.5,IF(B34<110%,0.7,1))) -> 0 | F36: =IF(F34<100%,0,IF(F34<105%,0.5,IF(F34<110%,0.7,1))) -> 1 | J36: =IF(J34<100%,0,IF(J34<105%,0.5,IF(J34<110%,0.7,1))) -> 0 | N36: =IF(N34<100%,0,IF(N34<105%,0.5,IF(N34<110%,0.7,1))) -> 0
A37: Premia kwartalna | B37: =B36*B35 -> 0 | F37: =F36*F35 -> 7000 | J37: =J36*J35 -> 0 | N37: =N36*N35 -> 0
A39: Raport za miesiąc: | B39: styczeń | C39: luty | D39: marzec | E39: Suma | F39: kwiecień | G39: maj | H39: czerwiec | I39: Suma | J39: lipiec | K39: sierpień | L39: wrzesień | M39: Suma | N39: paździer. | O39: listopad | P39: grudzień | Q39: Suma | R39: Suma
A40: Ilość nowych Klientów: | E40: =SUM(B40:D40) -> 0 | I40: =SUM(F40:H40) -> 0 | M40: =SUM(J40:L40) -> 0 | Q40: =SUM(N40:P40) -> 0 | R40: =I40+M40+Q40+E40 -> 0
A41: Ilość Podmiotów na etapie współpracy Klient:
A42: Ilość Podmiotów na etapie współpracy Handlowy:
...

Sheet KRZYSZTOF
A1: Krzysztof Szwajdych | B1: PLAN I KW Krzysztof Szwajdych | F1: PLAN II KW Krzysztof Szwajdych | J1: PLAN III KW Krzysztof Szwajdych | N1: PLAN IV KW Krzysztof Szwajdych
A2: miesiąc | B2: styczeń | C2: luty | D2: marzec | E2: KW I | F2: kwiecień | G2: maj | H2: czerwiec | I2: KW II | J2: lipiec | K2: sierpień | L2: wrzesień | M2: KW III | N2: październik | O2: listopad | P2: grudzień | Q2: KW IV | R2: suma ROK
I3: 387652.27 | R3: =Target!O7 -> 791999.23
A4: Indywidualny Plan Sprzedaży Marża | B4: =Target!C7 -> 56100 | C4: =Target!D7 -> 62333.333 | D4: =Target!E7 -> 68566.667 | E4: =SUM(B4:D4) -> 187000 | F4: =Target!F7 -> 60499.923 | G4: =Target!G7 -> 67222.137 | H4: =Target!H7 -> 73944.35 | I4: =SUM(F4:H4) -> 201666.41 | J4: =Target!I7 -> 60499.923 | K4: =Target!J7 -> 67222.137 | L4: =Target!K7 -> 73944.35 | M4: =SUM(J4:L4) -> 201666.41 | N4: =Target!L7 -> 60499.923 | O4: =Target!M7 -> 67222.137 | P4: =Target!N7 -> 73944.35 | Q4: =SUM(N4:P4) -> 201666.41 | R4: =E4+I4+M4+Q4 -> 791999.23
A5: Sumaryczny Indywidulany Plan Sprzedaży Marża | B5: =B4 -> 56100 | C5: =C4+B5 -> 118433.33 | D5: =D4+C5 -> 187000 | F5: =F4 -> 60499.923 | G5: =G4+F5 -> 127722.06 | H5: =H4+G5 -> 201666.41 | J5: =J4 -> 60499.923 | K5: =K4+J5 -> 127722.06 | L5: =L4+K5 -> 201666.41 | N5: =N4 -> 60499.923 | O5: =O4+N5 -> 127722.06 | P5: =P4+O5 -> 201666.41 | R5: =R6/R4 -> 0.45845347
A6: Miesięczna realizacja Planu Sprzedaży Marża | B6: =SUMIF(I!A:A,$A$1,I!I:I) -> 64175.684 | C6: =SUMIF(II!A:A,$A$1,II!I:I) -> 85859.203 | D6: =SUMIF(III!A:A,$A$1,III!I:I) -> 47570.598 | E6: =SUM(B6:D6) -> 197605.48 | F6: =SUMIF(IV!A:A,$A$1,IV!I:I) -> 63191.297 | G6: =SUMIF(V!A:A,$A$1,V!I:I) -> 63078.109 | H6: =SUMIF(VI!A:A,$A$1,VI!I:I) -> 39219.906 | I6: =SUM(F6:H6) -> 165489.31 | J6: =SUMIF(VII!A:A,$A$1,VII!I:I) -> 0 | K6: =SUMIF(VIII!A:A,$A$1,VIII!I:I) -> 0 | L6: =SUMIF(IX!A:A,$A$1,IX!I:I) -> 0 | M6: =SUM(J6:L6) -> 0 | N6: =SUMIF(X!A:A,$A$1,X!I:I) -> 0 | O6: =SUMIF(XI!A:A,$A$1,XI!I:I) -> 0 | P6: =SUMIF(XII!A:A,$A$1,XII!I:I) -> 0 | Q6: =SUM(N6:P6) -> 0 | R6: =E6+I6+M6+Q6 -> 363094.8
A7: Sumaryczna realizacja Planu Sprzedaży Marża | B7: =B6 -> 64175.684 | C7: =C6+B7 -> 150034.89 | D7: =D6+C7 -> 197605.48 | F7: =F6 -> 63191.297 | G7: =G6+F7 -> 126269.41 | H7: =H6+G7 -> 165489.31 | I7: =SUM(E6,I6) -> 363094.8 | J7: =J6 -> 0 | K7: =K6+J7 -> 0 | L7: =L6+K7 -> 0 | M7: =SUM(E6,I6,M6)/3 -> 121031.6 | N7: =N6 -> 0 | O7: =O6+N7 -> 0 | P7: =P6+O7 -> 0 | R7: =R3-R4 -> 0
A8: Wysokość % zrealizowania IPSM miesięcznego | B8: =B6/B4 -> 1.1439516 | C8: =C6/C4 -> 1.3774204 | D8: =D6/D4 -> 0.69378606 | F8: =F6/F4 -> 1.0444856 | G8: =G6/G4 -> 0.93835323 | H8: =H6/H4 -> 0.5303976 | I8: =I7/I3-1 -> -0.06334923 | J8: =J6/J4 -> 0 | K8: =K6/K4 -> 0 | L8: =L6/L4 -> 0 | N8: =N6/N4 -> 0 | O8: =O6/O4 -> 0 | P8: =P6/P4 -> 0 | R8: =R7*100/R3 -> 0
A9: Wysokość % zrealizowania IPSM sumarycznego | B9: =B7/B5 -> 1.1439516 | C9: =C7/C5 -> 1.2668299 | D9: =D7/D5 -> 1.0567138 | F9: =F7/F5 -> 1.0444856 | G9: =G7/G5 -> 0.98862645 | H9: =H7/H5 -> 0.82060921 | I9: =I7-I3 -> -24557.473 | J9: =J7/J5 -> 0 | K9: =K7/K5 -> 0 | L9: =L7/L5 -> 0 | N9: =N7/N5 -> 0 | O9: =O7/O5 -> 0 | P9: =P7/P5 -> 0
A10: Różnica | B10: =B7-B5 -> 8075.6836 | C10: =C7-C5 -> 31601.553 | D10: =D7-D5 -> 10605.484 | F10: =F7-F5 -> 2691.3739 | G10: =G7-G5 -> -1452.6534 | H10: =H7-H5 -> -36177.097 | J10: =J7-J5 -> -60499.923 | K10: =K7-K5 -> -127722.06 | L10: =L7-L5 -> -201666.41 | N10: =N7-N5 -> -60499.923 | O10: =O7-O5 -> -127722.06 | P10: =P7-P5 -> -201666.41
A11: Miesięczny Obrót | B11: =SUMIF(I!A:A,$A$1,I!G:G) -> 166582.27 | C11: =SUMIF(II!A:A,$A$1,II!G:G) -> 198400.05 | D11: =SUMIF(III!A:A,$A$1,III!G:G) -> 135286.41 | E11: =SUM(B11:D11) -> 500268.72 | F11: =SUMIF(IV!A:A,$A$1,IV!G:G) -> 201594.3 | G11: =SUMIF(V!A:A,$A$1,V!G:G) -> 150974.8 | H11: =SUMIF(VI!A:A,$A$1,VI!G:G) -> 100806.56 | I11: =SUM(F11:H11) -> 453375.66 | J11: =SUMIF(VII!A:A,$A$1,VII!G:G) -> 0 | K11: =SUMIF(VIII!A:A,$A$1,VIII!G:G) -> 0 | L11: =SUMIF(IX!A:A,$A$1,IX!G:G) -> 0 | M11: =SUM(J11:L11) -> 0 | N11: =SUMIF(X!A:A,$A$1,X!G:G) -> 0 | O11: =SUMIF(XI!A:A,$A$1,XI!G:G) -> 0 | P11: =SUMIF(XII!A:A,$A$1,XII!G:G) -> 0 | Q11: =SUM(N11:P11) -> 0 | R11: =E11+I11+M11+Q11 -> 953644.38
A12: Sumaryczny Obrót | B12: =B11 -> 166582.27 | C12: =C11+B12 -> 364982.31 | D12: =D11+C12 -> 500268.72 | F12: =F11 -> 201594.3 | G12: =G11+F12 -> 352569.09 | H12: =H11+G12 -> 453375.66 | J12: =J11 -> 0 | K12: =K11+J12 -> 0 | L12: =L11+K12 -> 0 | N12: =N11 -> 0 | O12: =O11+N12 -> 0 | P12: =P11+O12 -> 0
A13: Wysokość % Marży miesięcznej | B13: =B6/B11 -> 0.38524919 | C13: =C6/C11 -> 0.43275798 | D13: =D6/D11 -> 0.35162881 | F13: =F6/F11 -> 0.31345776 | G13: =G6/G11 -> 0.41780556 | H13: =H6/H11 -> 0.38906104 | J13: =J6/J11 -> #DIV/0! | K13: =K6/K11 -> #DIV/0! | L13: =L6/L11 -> #DIV/0! | N13: =N6/N11 -> #DIV/0! | O13: =O6/O11 -> #DIV/0! | P13: =P6/P11 -> #DIV/0!
A14: Wysokość % Marży sumarycznej | B14: =B7/B12 -> 0.38524919 | C14: =C7/C12 -> 0.4110744 | D14: =D7/D12 -> 0.39499868 | E14: - | F14: =F7/F12 -> 0.31345776 | G14: =G7/G12 -> 0.35814088 | H14: =H7/H12 -> 0.36501588 | J14: =J7/J12 -> #DIV/0! | K14: =K7/K12 -> #DIV/0! | L14: =L7/L12 -> #DIV/0! | N14: =N7/N12 -> #DIV/0! | O14: =O7/O12 -> #DIV/0! | P14: =P7/P12 -> #DIV/0!
A16: PREMIE | B16: PREMIE
A17: Wynagrodzenie zasadnicze | B17: =Target!O35 -> 6400 | C17: =Target!O35 -> 6400 | D17: =Target!O35 -> 6400 | F17: =Target!O44 -> 6800 | G17: =Target!O44 -> 6800 | H17: =Target!O44 -> 6800 | J17: =Target!O54 -> 6800 | K17: =Target!O54 -> 6800 | L17: =Target!O54 -> 6800 | N17: =Target!O63 -> 6800 | O17: =Target!O63 -> 6800 | P17: =Target!O63 -> 6800
A18: Wysokość Kwoty bazowej na dany okres | F18: =Target!N40 -> 7000 | G18: =Target!N40 -> 7000 | H18: =Target!N40 -> 7000 | J18: =Target!N50 -> 7000 | K18: =Target!N50 -> 7000 | L18: =Target!N50 -> 7000 | N18: =Target!N59 -> 7000 | O18: =Target!N59 -> 7000 | P18: =Target!N59 -> 7000
A19: Udział % IPSM w PSM | F19: =Target!J44 -> 0.21864783 | G19: =Target!J44 -> 0.21864783 | H19: =Target!J44 -> 0.21864783 | J19: =Target!J54 -> 0.21864783 | K19: =Target!J54 -> 0.21864783 | L19: =Target!J54 -> 0.21864783 | N19: =Target!J63 -> 0.21864783 | O19: =Target!J63 -> 0.21864783 | P19: =Target!J63 -> 0.21864783
A20: Wysokość Indywidualnej Kwoty bazowej | F20: =Target!M44 -> 6122.1392 | G20: =Target!M44 -> 6122.1392 | H20: =Target!M44 -> 6122.1392 | J20: =Target!M54 -> 6122.1392 | K20: =Target!M54 -> 6122.1392 | L20: =Target!M54 -> 6122.1392 | N20: =Target!M63 -> 6122.1392 | O20: =Target!M63 -> 6122.1392 | P20: =Target!M63 -> 6122.1392
A21: Sumaryczny Indywidualny Plan Sprzedaży Marża | B21: =B5 -> 56100 | C21: =C5 -> 118433.33 | D21: =D5 -> 187000 | F21: =F5 -> 60499.923 | G21: =G5 -> 127722.06 | H21: =H5 -> 201666.41 | J21: =J5 -> 60499.923 | K21: =K5 -> 127722.06 | L21: =L5 -> 201666.41 | N21: =N5 -> 60499.923 | O21: =O5 -> 127722.06 | P21: =P5 -> 201666.41
A22: Miesięczna realizacja Planu Sprzedaży Marża | B22: =B7 -> 64175.684 | C22: =C7 -> 150034.89 | D22: =D7 -> 197605.48 | F22: =F7 -> 63191.297 | G22: =G7 -> 126269.41 | H22: =H7 -> 165489.31 | J22: =J7 -> 0 | K22: =K7 -> 0 | L22: =L7 -> 0 | N22: =N7 -> 0 | O22: =O7 -> 0 | P22: =P7 -> 0
A23: Wysokość % zrealizowania IPSM sumarycznego | B23: =B22/B21 -> 1.1439516 | C23: =C22/C21 -> 1.2668299 | D23: =D22/D21 -> 1.0567138 | F23: =F22/F21 -> 1.0444856 | G23: =G22/G21 -> 0.98862645 | H23: =H22/H21 -> 0.82060921 | J23: =J22/J21 -> 0 | K23: =K22/K21 -> 0 | L23: =L22/L21 -> 0 | N23: =N22/N21 -> 0 | O23: =O22/O21 -> 0 | P23: =P22/P21 -> 0
A24: Wysokość premii Wskaźnik Sprzedaży Marża | B24: =B17*0.35 -> 2240 | C24: =C17*0.35 -> 2240 | D24: =D17*0.35 -> 2240 | F24: =F20*0.35 -> 2142.7487 | G24: =G20*0.35 -> 2142.7487 | H24: =H20*0.35 -> 2142.7487 | J24: =J20*0.35 -> 2142.7487 | K24: =K20*0.35 -> 2142.7487 | L24: =L20*0.35 -> 2142.7487 | N24: =N20*0.35 -> 2142.7487 | O24: =O20*0.35 -> 2142.7487 | P24: =P20*0.35 -> 2142.7487
A25: Mnożnik premii miesięcznej Wskaźnika Sprzedaży Marża | B25: =IF(B23<80%,0,IF(B23<90%,0.5,IF(B23<95%,0.75,1))) -> 1 | C25: =IF(C23<80%,0,IF(C23<90%,0.5,IF(C23<95%,0.75,1))) -> 1 | D25: =IF(D23<80%,0,IF(D23<90%,0.5,IF(D23<95%,0.75,1))) -> 1 | F25: =IF(F23<80%,0,IF(F23<90%,0.5,IF(F23<95%,0.75,1))) -> 1 | G25: =IF(G23<80%,0,IF(G23<90%,0.5,IF(G23<95%,0.75,1))) -> 1 | H25: =IF(H23<80%,0,IF(H23<90%,0.5,IF(H23<95%,0.75,1))) -> 0.5 | J25: =IF(J23<80%,0,IF(J23<90%,0.5,IF(J23<95%,0.75,1))) -> 0 | K25: =IF(K23<80%,0,IF(K23<90%,0.5,IF(K23<95%,0.75,1))) -> 0 | L25: =IF(L23<80%,0,IF(L23<90%,0.5,IF(L23<95%,0.75,1))) -> 0 | N25: =IF(N23<80%,0,IF(N23<90%,0.5,IF(N23<95%,0.75,1))) -> 0 | O25: =IF(O23<80%,0,IF(O23<90%,0.5,IF(O23<95%,0.75,1))) -> 0 | P25: =IF(P23<80%,0,IF(P23<90%,0.5,IF(P23<95%,0.75,1))) -> 0
A26: Premia miesięczna za Wskaźnik Sprzedaży Marża | B26: =B25*B24 -> 2240 | C26: =C25*C24 -> 2240 | D26: =D25*D24 -> 2240 | F26: =F25*F24 -> 2142.7487 | G26: =G25*G24 -> 2142.7487 | H26: =H25*H24 -> 1071.3744 | J26: =J25*J24 -> 0 | K26: =K25*K24 -> 0 | L26: =L25*L24 -> 0 | N26: =N25*N24 -> 0 | O26: =O25*O24 -> 0 | P26: =P25*P24 -> 0
A27: Wskaźnik CRM
A28: Wysokość premii CRM | B28: =B17*0.05 -> 320 | C28: =C17*0.05 -> 320 | D28: =D17*0.05 -> 320 | F28: =F18*0.05 -> 350 | G28: =G18*0.05 -> 350 | H28: =H18*0.05 -> 350 | J28: =J18*0.05 -> 350 | K28: =K18*0.05 -> 350 | L28: =L18*0.05 -> 350 | N28: =N18*0.05 -> 350 | O28: =O18*0.05 -> 350 | P28: =P18*0.05 -> 350
A29: Mnożnik premii Wskaźnik CRM | B29: 1 | C29: 1 | D29: 1 | F29: 1 | G29: 1 | H29: 1
A30: Premia miesięczna za Wskaźnik CRM | B30: =B29*B28 -> 320 | C30: =C29*C28 -> 320 | D30: =D29*D28 -> 320 | F30: =F29*F28 -> 350 | G30: =G29*G28 -> 350 | H30: =H29*H28 -> 350 | J30: =J29*J28 -> 0 | K30: =K29*K28 -> 0 | L30: =L29*L28 -> 0 | N30: =N29*N28 -> 0 | O30: =O29*O28 -> 0 | P30: =P29*P28 -> 0
A31: Suma Premii miesięcznych | B31: =B26+B30 -> 2560 | C31: =C26+C30 -> 2560 | D31: =D26+D30 -> 2560 | F31: =F26+F30 -> 2492.7487 | G31: =G26+G30 -> 2492.7487 | H31: =H26+H30 -> 1421.3744 | J31: =J26+J30 -> 0 | K31: =K26+K30 -> 0 | L31: =L26+L30 -> 0 | N31: =N26+N30 -> 0 | O31: =O26+O30 -> 0 | P31: =P26+P30 -> 0
A32: Wskaźnik Premia Kwartalna Marża | B32: =D5 -> 187000 | F32: =H5 -> 201666.41 | J32: =L5 -> 201666.41 | N32: =P5 -> 201666.41
A33: Realizacja Wskaźnika Premia Kwartalna | B33: =D7 -> 197605.48 | F33: =H7 -> 165489.31 | J33: =L7 -> 0 | N33: =P7 -> 0
A34: Poziom realizacji Wskaźnika Premia Kwartalna | B34: =B33/B32 -> 1.0567138 | F34: =F33/F32 -> 0.82060921 | J34: =J33/J32 -> 0 | N34: =N33/N32 -> 0
A35: Wysokość premii kwartalnej. | B35: =D17 -> 6400 | F35: =H18 -> 7000 | J35: =L18 -> 7000 | N35: =P20 -> 6122.1392
A36: Mnożnik premii kwartalnej | B36: =IF(B34<100%,0,IF(B34<105%,0.5,IF(B34<110%,0.7,1))) -> 0.7 | F36: =IF(F34<100%,0,IF(F34<105%,0.5,IF(F34<110%,0.7,1))) -> 0 | J36: =IF(J34<100%,0,IF(J34<105%,0.5,IF(J34<110%,0.7,1))) -> 0 | N36: =IF(N34<100%,0,IF(N34<105%,0.5,IF(N34<110%,0.7,1))) -> 0
A37: Premia kwartalna | B37: =B36*B35 -> 4480 | F37: =F36*F35 -> 0 | J37: =J36*J35 -> 0 | N37: =N36*N35 -> 0
A39: Raport za miesiąc: | B39: styczeń | C39: luty | D39: marzec | E39: Suma | F39: kwiecień | G39: maj | H39: czerwiec | I39: Suma | J39: lipiec | K39: sierpień | L39: wrzesień | M39: Suma | N39: paździer. | O39: listopad | P39: grudzień | Q39: Suma | R39: Suma
A40: Ilość nowych Klientów: | E40: =SUM(B40:D40) -> 0 | I40: =SUM(F40:H40) -> 0 | M40: =SUM(J40:L40) -> 0 | Q40: =SUM(N40:P40) -> 0 | R40: =I40+M40+Q40+E40 -> 0
A41: Ilość Podmiotów na etapie współpracy Klient:
A42: Ilość Podmiotów na etapie współpracy Handlowy:
...

Sheet DH
A1: brak opiekuna | B1: PLANY SPRZEDAŻY 2025
A2: miesiąc | B2: styczeń | C2: luty | D2: marzec | E2: I KW | F2: kwiecień | G2: maj | H2: czerwiec | I2: II KW | J2: lipiec | K2: sierpień | L2: wrzesień | M2: III KW | N2: październik | O2: listopad | P2: grudzień | Q2: IV KW | R2: suma
A3: Marża 2024 | B3: 226808.74 | C3: 357078.13 | D3: 304259.63 | E3: =SUM(B3:D3) -> 888146.5 | F3: 320858.49 | G3: 191442.27 | H3: 297587.9 | I3: =SUM(F3:H3) -> 809888.66 | J3: 318026.28 | K3: 288173.55 | L3: 243971.66 | M3: =SUM(J3:L3) -> 850171.49 | N3: 334005.33 | O3: 320598.48 | P3: 244268.06 | Q3: =SUM(N3:P3) -> 898871.87 | R3: =SUM(Q3,M3,I3,E3) -> 3447078.5 | T3: =R8*1.1 -> 1885668.3
S4: MINIMUM | T4: PLAN | U4: CEL
A5: Wzrost Marży 2025 w stos do Marży 2024 | B5: =B9/B4-1 -> #DIV/0! | C5: =C9/C4-1 -> #DIV/0! | D5: =D9/D4-1 -> #DIV/0! | E5: =E8/E3-1 -> -0.033898686 | F5: =F9/F4-1 -> #DIV/0! | G5: =G9/G4-1 -> #DIV/0! | H5: =H9/H4-1 -> #DIV/0! | I5: =I8/I3-1 -> 0.057187818 | J5: =J9/J4-1 -> #DIV/0! | K5: =K9/K4-1 -> #DIV/0! | L5: =L9/L4-1 -> #DIV/0! | M5: =M8/M3-1 -> -1 | N5: =N9/N4-1 -> #DIV/0! | O5: =O9/O4-1 -> #DIV/0! | P5: =P9/P4-1 -> #DIV/0! | Q5: =Q8/Q3-1 -> -1 | R5: =R8/R3-1 -> -0.50269658 | S5: =S6/R3 -> 0.99765729 | T5: =T6/R3 -> 1.0501656 | U5: =U6/R3 -> 1.1026738
A6: Plan Sprzedaży Marża | B6: =Target!B22 -> 255900 | C6: =Target!C22 -> 284333.33 | D6: =Target!D22 -> 312766.67 | E6: =SUM(B6:D6) -> 853000 | F6: =Target!E22 -> 276700.32 | G6: =Target!F22 -> 307444.8 | H6: =Target!G22 -> 338189.28 | I6: =SUM(F6:H6) -> 922334.39 | J6: =Target!H22 -> 276700.32 | K6: =Target!I22 -> 307444.8 | L6: =Target!J22 -> 338189.28 | M6: =SUM(J6:L6) -> 922334.39 | N6: =Target!K22 -> 276700.32 | O6: =Target!L22 -> 307444.8 | P6: =Target!M22 -> 338189.28 | Q6: =SUM(N6:P6) -> 922334.39 | R6: =B6+C6+D6+F6+G6+H6+J6+K6+L6+N6+O6+P6 -> 3620003.2 | S6: =DH!R6*0.95 -> 3439003 | T6: =R6 -> 3620003.2 | U6: =Target!H26 -> 3801003.3
A7: Sumaryczny Plan Sprzedaży Marża | B7: =B6 -> 255900 | C7: =C6+B7 -> 540233.33 | D7: =D6+C7 -> 853000 | F7: =F6+D7 -> 1129700.3 | G7: =G6+F7 -> 1437145.1 | H7: =H6+G7 -> 1775334.4 | J7: =J6+H7 -> 2052034.7 | K7: =K6+J7 -> 2359479.5 | L7: =L6+K7 -> 2697668.8 | N7: =N6+L7 -> 2974369.1 | O7: =O6+N7 -> 3281813.9 | P7: =P6+O7 -> 3620003.2 | V7: =T6/T19 -> 0.36635244
A8: Miesięczna realizacja Planu Sprzedaży Marża | B8: =TOMEK!B6+RCKIK!B6+'1'!N6+BARTEK!B6+PIOTR!B6+KRZYSZTOF!B6+'0'!N6 -> 270726.89 | C8: =TOMEK!C6+RCKIK!C6+'1'!O6+BARTEK!C6+PIOTR!C6+KRZYSZTOF!C6+'0'!O6 -> 318940.52 | D8: =TOMEK!D6+RCKIK!D6+'1'!P6+BARTEK!D6+PIOTR!D6+KRZYSZTOF!D6+'0'!P6 -> 268372.09 | E8: =SUM(B8:D8) -> 858039.5 | F8: =TOMEK!F6+RCKIK!F6+'1'!J6+BARTEK!F6+PIOTR!F6+KRZYSZTOF!F6++'0'!J6 -> 311537.67 | G8: =TOMEK!G6+RCKIK!G6+'1'!K6+BARTEK!G6+PIOTR!G6+KRZYSZTOF!G6+'0'!K6 -> 285230.5 | H8: =TOMEK!H6+RCKIK!H6+'1'!L6+BARTEK!H6+PIOTR!H6+KRZYSZTOF!H6+'0'!L6 -> 259436.25 | I8: =SUM(F8:H8) -> 856204.43 | J8: =TOMEK!J6+RCKIK!J6+'0'!F6+BARTEK!J6+PIOTR!J6+KRZYSZTOF!J6+'1'!F6 -> 0 | K8: =TOMEK!K6+RCKIK!K6+'0'!G6+BARTEK!K6+PIOTR!K6+KRZYSZTOF!K6+'1'!G6+SUMIF(VIII!A:A,$A$1,VIII!I:I) -> 0 | L8: =TOMEK!L6+RCKIK!L6+'0'!H6+BARTEK!L6+PIOTR!L6+KRZYSZTOF!L6+'1'!H6 -> 0 | M8: =SUM(J8:L8) -> 0 | N8: =TOMEK!N6+RCKIK!N6+'0'!B6+BARTEK!N6+PIOTR!N6+KRZYSZTOF!N6+'1'!B6 -> 0 | O8: =TOMEK!O6+RCKIK!O6+'0'!C6+BARTEK!O6+PIOTR!O6+KRZYSZTOF!O6+'1'!C6 -> 0 | P8: =TOMEK!P6+RCKIK!P6+'0'!D6+BARTEK!P6+PIOTR!P6+KRZYSZTOF!P6+'1'!D6 -> 0 | Q8: =SUM(N8:P8) -> 0 | R8: =B8+C8+D8+F8+G8+H8+J8+K8+L8+N8+O8+P8 -> 1714243.9 | T8: 2 | U8: 3 | W8: 4 | X8: 5 | Y8: 6 | AA8: 7 | AB8: 8 | AC8: 9 | AE8: 10 | AF8: 11 | AG8: 12
A9: Sumaryczna realizacja planu sprzedaży Marża | B9: =B8 -> 270726.89 | C9: =C8+B9 -> 589667.41 | D9: =D8+C9 -> 858039.5 | F9: =F8+D9 -> 1169577.2 | G9: =G8+F9 -> 1454807.7 | H9: =H8+G9 -> 1714243.9 | J9: =J8+H9 -> 1714243.9 | K9: =K8+J9 -> 1714243.9 | L9: =L8+K9 -> 1714243.9 | N9: =N8+L9 -> 1714243.9 | O9: =O8+N9 -> 1714243.9 | P9: =P8+O9 -> 1714243.9
A10: Wysokość zrealizowania Miesięcznego Planu Sprzedaży Marża | B10: =B8/B6 -> 1.0579402 | C10: =C8/C6 -> 1.1217134 | D10: =D8/D6 -> 0.85805848 | E10: =D7*0.95 -> 810350 | F10: =F8/F6 -> 1.1259028 | G10: =G8/G6 -> 0.92774541 | H10: =H8/H6 -> 0.76713329 | J10: =J8/J6 -> 0 | K10: =K8/K6 -> 0 | L10: =L8/L6 -> 0 | M10: =L4-L9 -> -1714243.9 | N10: =N8/N6 -> 0 | O10: =O8/O6 -> 0 | P10: =P8/P6 -> 0 | Q10: =P4-P9 -> -1714243.9 | X10: 2019 | Y10: =R3/12 -> 287256.54
A11: Różnica wskaźnika Marża | B11: =B9-B7 -> 14826.894 | C11: =C9-C7 -> 49434.078 | D11: =D9-D7 -> 5039.501 | E11: =E10-D9 -> -47689.501 | F11: =F9-F7 -> 39876.857 | G11: =G9-G7 -> 17662.56 | H11: =H9-H7 -> -61090.463 | I11: =H7*0.9-H9 -> -116442.98 | J11: =J9-J7 -> -337790.78 | K11: =K9-K7 -> -645235.58 | L11: =L9-L7 -> -983424.85 | M11: =J7*0.9-J9 -> 132587.31 | N11: =N9-N7 -> -1260125.2 | O11: =O9-O7 -> -1567570 | P11: =P9-P7 -> -1905759.2 | X11: 2020 | Y11: =D9/3 -> 286013.17 | Z11: =1-Y10/Y11 -> -0.0043472696
A12: Wysokość zrealizowania Planu Sprzedaży Marża | B12: =B9/B7 -> 1.0579402 | C12: =C9/C7 -> 1.091505 | D12: =D9/D7 -> 1.005908 | F12: =F9/F7 -> 1.0352986 | G12: =G9/G7 -> 1.01229 | H12: =H9/H7 -> 0.96558932 | J12: =J9/J7 -> 0.83538739 | K12: =K9/K7 -> 0.72653478 | L12: =L9/L7 -> 0.63545382 | N12: =N9/N7 -> 0.57633867 | O12: =O9/O7 -> 0.52234648 | P12: =P9/P7 -> 0.47354763 | X12: IV | Y12: =F8 -> 311537.67 | Z12: =1-Y11/Y12 -> 0.08193072
A13: Kwartalny Plan Sprzedaży Marża | B13: =Target!C8 -> 255900 | C13: =Target!D8 -> 284333.33 | D13: =Target!E8 -> 312766.67 | E13: =SUM(B13:D13) -> 853000 | F13: =Target!F8 -> 276700.32 | G13: =Target!G8 -> 307444.8 | H13: =Target!H8 -> 338189.28 | I13: =SUM(F13:H13) -> 922334.39 | J13: =Target!I8 -> 276700.32 | K13: =Target!J8 -> 307444.8 | L13: =Target!K8 -> 338189.28 | M13: =SUM(J13:L13) -> 922334.39 | N13: =Target!L8 -> 276700.32 | O13: =Target!M8 -> 307444.8 | P13: =Target!N8 -> 338189.28 | Q13: =SUM(N13:P13) -> 922334.39 | Z13: =1-Y10/Y12 -> 0.077939626
A14: Sumaryczna Kwartalna Realizacja Planu Sprzedaży Marża | B14: =B8/B13 -> 1.0579402 | C14: =(B8+C8)/C13 -> 2.0738596 | D14: =(D8+C8+B8)/D13 -> 2.7433854 | F14: =F8/F13 -> 1.1259028 | G14: =(F8+G8)/G13 -> 1.941058 | H14: =(H8+G8+F8)/H13 -> 2.5317314 | J14: =J8/J13 -> 0 | K14: =(J8+K8)/K13 -> 0 | L14: =(L8+K8+J8)/L13 -> 0 | N14: =N8/N13 -> 0 | O14: =(N8+O8)/O13 -> 0 | P14: =(P8+O8+N8)/P13 -> 0
A16: Obrót 2024 | B16: 691721.1 | C16: 997536.9 | D16: 813771.08 | E16: =SUM(B16:D16) -> 2503029.1 | F16: 882952.5 | G16: 577673.01 | H16: 790124.75 | I16: =SUM(F16:H16) -> 2250750.3 | J16: 839556.05 | K16: 746286.5 | L16: 679180.01 | M16: =SUM(J16:L16) -> 2265022.6 | N16: 804813.31 | O16: 825481.94 | P16: 682240.2 | Q16: =SUM(N16:P16) -> 2312535.5 | R16: =SUM(Q16,M16,I16,E16) -> 9331337.3
S17: MINIMUM | T17: PLAN | U17: CEL
A18: Wzrost Obrotu 2025 w stos do Obrotu 2024 | B18: =B22/B17-1 -> #DIV/0! | C18: =C22/C17-1 -> #DIV/0! | D18: =D22/D17-1 -> #DIV/0! | F18: =F22/F17-1 -> #DIV/0! | G18: =G22/G17-1 -> #DIV/0! | H18: =H22/H17-1 -> #DIV/0! | J18: =J22/J17-1 -> #DIV/0! | K18: =K22/K17-1 -> #DIV/0! | L18: =L22/L17-1 -> #DIV/0! | N18: =N22/N17-1 -> #DIV/0! | O18: =O22/O17-1 -> #DIV/0! | P18: =P22/P17-1 -> #DIV/0! | Q18: =Q21/Q16 -> 0 | R18: =R21/R16 -> 0.495445 | S18: =S19/R16 -> 1.0059805 | T18: =T19/R16 -> 1.0589269 | U18: =U19/R16 -> 1.1118732
