Workbook
Name OLE_LINK3: regulamin!$A$16

Sheet TOMEK
A1: Tomasz Sypień | B1: PLAN I KW Tomasz Sypień | F1: PLAN II KW Tomasz Sypień | J1: PLAN III KW Tomasz Sypień | N1: PLAN IV KW Tomasz Sypień
A2: miesiąc | B2: styczeń | C2: luty | D2: marzec | E2: KW I | F2: kwiecień | G2: maj | H2: czerwiec | I2: KW II | J2: lipiec | K2: sierpień | L2: wrzesień | M2: KW III | N2: październik | O2: listopad | P2: grudzień | Q2: KW IV | R2: suma ROK
A3: Wzrost/spadek kwoty marży w stos. do adekw. okr. | C3: -0.2534 | R3: =Target!O3 -> 917450.53
A4: Indywidualny Plan Sprzedaży Marża | B4: =Target!C3 -> 63300 | C4: =Target!D3-19200 -> 51133.333 | D4: =Target!E3+19200 -> 96566.667 | E4: =SUM(B4:D4) -> 211000 | F4: =Target!F3 -> 69630 | G4: =Target!G3 -> 77366.667 | H4: =Target!H3 -> 85103.333 | I4: =SUM(F4:H4) -> 232100 | J4: =Target!I3 -> 71465.7 | K4: =Target!J3 -> 79406.333 | L4: =Target!K3 -> 87346.967 | M4: =SUM(J4:L4) -> 238219 | N4: =Target!L3 -> 70839.459 | O4: =Target!M3 -> 78710.51 | P4: =Target!N3 -> 86581.561 | Q4: =SUM(N4:P4) -> 236131.53 | R4: =E4+I4+M4+Q4 -> 917450.53
A5: Sumaryczny Indywidulany Plan Sprzedaży Marża | B5: =B4 -> 63300 | C5: =C4+B5 -> 114433.33 | D5: =D4+C5 -> 211000 | F5: =F4 -> 69630 | G5: =G4+F5 -> 146996.67 | H5: =H4+G5 -> 232100 | J5: =J4 -> 71465.7 | K5: =K4+J5 -> 150872.03 | L5: =L4+K5 -> 238219 | M5: =SUM(E6,I6,M6)/3 -> 47703.038 | N5: =N4 -> 70839.459 | O5: =O4+N5 -> 149549.97 | P5: =P4+O5 -> 236131.53 | R5: =R6/R4 -> 0.15598565
A6: Miesięczna realizacja Planu Sprzedaży Marża | B6: =SUMIF(I!A:A,$A$1,I!I:I) -> 62261.508 | C6: =SUMIF(II!A:A,$A$1,II!I:I) -> 46541.988 | D6: =SUMIF(III!A:A,$A$1,III!I:I) -> 34305.617 | E6: =SUM(B6:D6) -> 143109.11 | F6: =SUMIF(IV!A:A,$A$1,IV!I:I) -> 0 | G6: =SUMIF(V!A:A,$A$1,V!I:I) -> 0 | H6: =SUMIF(VI!A:A,$A$1,VI!I:I) -> 0 | I6: =SUM(F6:H6) -> 0 | J6: =SUMIF(VII!A:A,$A$1,VII!I:I) -> 0 | K6: =SUMIF(VIII!A:A,$A$1,VIII!I:I) -> 0 | L6: =SUMIF(IX!A:A,$A$1,IX!I:I) -> 0 | M6: =SUM(J6:L6) -> 0 | N6: =SUMIF(X!A:A,$A$1,X!I:I) -> 0 | O6: =SUMIF(XI!A:A,$A$1,XI!I:I) -> 0 | P6: =SUMIF(XII!A:A,$A$1,XII!I:I) -> 0 | Q6: =SUM(N6:P6) -> 0 | R6: =E6+I6+M6+Q6 -> 143109.11
A7: Sumaryczna realizacja Planu Sprzedaży Marża | B7: =B6 -> 62261.508 | C7: =C6+B7 -> 108803.5 | D7: =D6+C7 -> 143109.11 | F7: =F6 -> 0 | G7: =G6+F7 -> 0 | H7: =H6+G7 -> 0 | J7: =J6 -> 0 | K7: =K6+J7 -> 0 | L7: =L6+K7 -> 0 | N7: =N6 -> 0 | O7: =O6+N7 -> 0 | P7: =P6+O7 -> 0 | R7: =R3-R4 -> 0
A8: Wysokość % zrealizowania IPSM miesięcznego | B8: =B6/B4 -> 0.98359412 | C8: =C6/C4 -> 0.91020838 | D8: =D6/D4 -> 0.3552532 | F8: =F6/F4 -> 0 | G8: =G6/G4 -> 0 | H8: =H6/H4 -> 0 | J8: =J6/J4 -> 0 | K8: =K6/K4 -> 0 | L8: =L6/L4 -> 0 | N8: =N6/N4 -> 0 | O8: =O6/O4 -> 0 | P8: =P6/P4 -> 0 | Q8: =R6/Q3-1 -> #DIV/0! | R8: =R7*100/R3 -> 0
A9: Wysokość % zrealizowania IPSM sumarycznego | B9: =B7/B5 -> 0.98359412 | C9: =C7/C5 -> 0.95080247 | D9: =D7/D5 -> 0.67824224 | F9: =F7/F5 -> 0 | G9: =G7/G5 -> 0 | H9: =H7/H5 -> 0 | J9: =J7/J5 -> 0 | K9: =K7/K5 -> 0 | L9: =L7/L5 -> 0 | N9: =N7/N5 -> 0 | O9: =O7/O5 -> 0 | P9: =P7/P5 -> 0 | Q9: =R6-Q3 -> 143109.11
A10: Różnica | B10: =B7-B5 -> -1038.4922 | C10: =C7-C5 -> -5629.8372 | D10: =D7-D5 -> -67890.887 | F10: =F7-F5 -> -69630 | G10: =G7-G5 -> -146996.67 | H10: =H7-H5 -> -232100 | J10: =J7-J5 -> -71465.7 | K10: =K7-K5 -> -150872.03 | L10: =L7-L5 -> -238219 | N10: =N7-N5 -> -70839.459 | O10: =O7-O5 -> -149549.97 | P10: =P7-P5 -> -236131.53
A11: Miesięczny Obrót | B11: =SUMIF(I!A:A,$A$1,I!G:G) -> 142347.05 | C11: =SUMIF(II!A:A,$A$1,II!G:G) -> 115087.41 | D11: =SUMIF(III!A:A,$A$1,III!G:G) -> 88114.977 | E11: =SUM(B11:D11) -> 345549.43 | F11: =SUMIF(IV!A:A,$A$1,IV!G:G) -> 0 | G11: =SUMIF(V!A:A,$A$1,V!G:G) -> 0 | H11: =SUMIF(VI!A:A,$A$1,VI!G:G) -> 0 | I11: =SUM(F11:H11) -> 0 | J11: =SUMIF(VII!A:A,$A$1,VII!G:G) -> 0 | K11: =SUMIF(VIII!A:A,$A$1,VIII!G:G) -> 0 | L11: =SUMIF(IX!A:A,$A$1,IX!G:G) -> 0 | M11: =SUM(J11:L11) -> 0 | N11: =SUMIF(X!A:A,$A$1,X!G:G) -> 0 | O11: =SUMIF(XI!A:A,$A$1,XI!G:G) -> 0 | P11: =SUMIF(XII!A:A,$A$1,XII!G:G) -> 0 | Q11: =SUM(N11:P11) -> 0 | R11: =E11+I11+M11+Q11 -> 345549.43
A12: Sumaryczny Obrót | B12: =B11 -> 142347.05 | C12: =C11+B12 -> 257434.45 | D12: =D11+C12 -> 345549.43 | F12: =F11 -> 0 | G12: =G11+F12 -> 0 | H12: =H11+G12 -> 0 | J12: =J11 -> 0 | K12: =K11+J12 -> 0 | L12: =L11+K12 -> 0 | N12: =N11 -> 0 | O12: =O11+N12 -> 0 | P12: =P11+O12 -> 0
A13: Wysokość % Marży miesięcznej | B13: =B6/B11 -> 0.43739234 | C13: =C6/C11 -> 0.40440557 | D13: =D6/D11 -> 0.38932788 | F13: =F6/F11 -> #DIV/0! | G13: =G6/G11 -> #DIV/0! | H13: =H6/H11 -> #DIV/0! | J13: =J6/J11 -> #DIV/0! | K13: =K6/K11 -> #DIV/0! | L13: =L6/L11 -> #DIV/0! | N13: =N6/N11 -> #DIV/0! | O13: =O6/O11 -> #DIV/0! | P13: =P6/P11 -> #DIV/0!
A14: Wysokość % Marży sumarycznej | B14: =B7/B12 -> 0.43739234 | C14: =C7/C12 -> 0.42264543 | D14: =D7/D12 -> 0.41414947 | F14: =F7/F12 -> #DIV/0! | G14: =G7/G12 -> #DIV/0! | H14: =H7/H12 -> #DIV/0! | J14: =J7/J12 -> #DIV/0! | K14: =K7/K12 -> #DIV/0! | L14: =L7/L12 -> #DIV/0! | N14: =N7/N12 -> #DIV/0! | O14: =O7/O12 -> #DIV/0! | P14: =P7/P12 -> #DIV/0!
A16: PREMIE | B16: PREMIE
A17: Wynagrodzenie zasadnicze | B17: =Target!P31 -> 6800 | C17: =Target!P31 -> 6800 | D17: =Target!P31 -> 6800 | F17: =Target!P40 -> 6800 | G17: =Target!P40 -> 6800 | H17: =Target!P40 -> 6800 | J17: =Target!P50 -> 6800 | K17: =Target!P50 -> 6800 | L17: =Target!P50 -> 6800 | N17: =Target!P59 -> 6800 | O17: =Target!P59 -> 6800 | P17: =Target!P59 -> 6800
A18: Premia 15% wynagrodzenia zasadniczego | B18: =B17*15% -> 1020 | C18: =C17*15% -> 1020 | D18: =D17*15% -> 1020 | F18: =F17*15% -> 1020 | G18: =G17*15% -> 1020 | H18: =H17*15% -> 1020 | J18: =J17*15% -> 1020 | K18: =K17*15% -> 1020 | L18: =L17*15% -> 1020 | N18: =N17*15% -> 1020 | O18: =O17*15% -> 1020 | P18: =P17*15% -> 1020
A19: Wysokość Kwoty bazowej na dany okres | B19: =Target!O31 -> 7000 | C19: =Target!O31 -> 7000 | D19: =Target!O31 -> 7000 | F19: =Target!O40 -> 10266.667 | G19: =Target!O40 -> 10266.667 | H19: =Target!O40 -> 10266.667 | J19: =Target!O50 -> 7000 | K19: =Target!O50 -> 7000 | L19: =Target!O50 -> 7000 | N19: =Target!O59 -> 7000 | O19: =Target!O59 -> 7000 | P19: =Target!O59 -> 7000
A20: Udział % IPSM w PSM | B20: =Target!J31 -> 0.25119048 | C20: =Target!J31 -> 0.25119048 | D20: =Target!J31 -> 0.25119048 | F20: =Target!J40 -> 0.25089125 | G20: =Target!J40 -> 0.25089125 | H20: =Target!J40 -> 0.25089125 | J20: =Target!J50 -> 0.25697926 | K20: =Target!J50 -> 0.25697926 | L20: =Target!J50 -> 0.25697926 | N20: =Target!J59 -> 0.255 | O20: =Target!J59 -> 0.255 | P20: =Target!J59 -> 0.255
A21: Wysokość Indywidualnej Kwoty bazowej | B21: =Target!N31 -> 7033.6 | C21: =Target!N31 -> 7033.6 | D21: =Target!N31 -> 7033.6 | F21: =Target!N40 -> 7727.72 | G21: =Target!N40 -> 7727.72 | H21: =Target!N40 -> 7727.72 | J21: =Target!N50 -> 7196 | K21: =Target!N50 -> 7196 | L21: =Target!N50 -> 7196 | N21: =Target!N59 -> 7140 | O21: =Target!N59 -> 7140 | P21: =Target!N59 -> 7140
A22: Sumaryczny Indywidualny Plan Sprzedaży Marża | B22: =B5 -> 63300 | C22: =C5 -> 114433.33 | D22: =D5 -> 211000 | F22: =F5 -> 69630 | G22: =G5 -> 146996.67 | H22: =H5 -> 232100 | J22: =J5 -> 71465.7 | K22: =K5 -> 150872.03 | L22: =L5 -> 238219 | N22: =N5 -> 70839.459 | O22: =O5 -> 149549.97 | P22: =P5 -> 236131.53
A23: Miesięczna realizacja Planu Sprzedaży Marża | B23: =B7 -> 62261.508 | C23: =C7 -> 108803.5 | D23: =D7 -> 143109.11 | F23: =F7 -> 0 | G23: =G7 -> 0 | H23: =H7 -> 0 | J23: =J7 -> 0 | K23: =K7 -> 0 | L23: =L7 -> 0 | N23: =N7 -> 0 | O23: =O7 -> 0 | P23: =P7 -> 0
A24: Wysokość % zrealizowania IPSM sumarycznego | B24: =B23/B22 -> 0.98359412 | C24: =C23/C22 -> 0.95080247 | D24: =D23/D22 -> 0.67824224 | F24: =F23/F22 -> 0 | G24: =G23/G22 -> 0 | H24: =H23/H22 -> 0 | J24: =J23/J22 -> 0 | K24: =K23/K22 -> 0 | L24: =L23/L22 -> 0 | N24: =N23/N22 -> 0 | O24: =O23/O22 -> 0 | P24: =P23/P22 -> 0
A25: Wysokość premii Wskaźnik Sprzedaży Marża | B25: =B21*0.35 -> 2461.76 | C25: =C21*0.35 -> 2461.76 | D25: =D21*0.35 -> 2461.76 | F25: =F21*0.35 -> 2704.702 | G25: =G21*0.35 -> 2704.702 | H25: =H21*0.35 -> 2704.702 | J25: =J21*0.35 -> 2518.6 | K25: =K21*0.35 -> 2518.6 | L25: =L21*0.35 -> 2518.6 | N25: =N21*0.35 -> 2499 | O25: =O21*0.35 -> 2499 | P25: =P21*0.35 -> 2499
A26: Mnożnik premii miesięcznej Wskaźnika Sprzedaży Marża | B26: =IF(B24<80%,0,IF(B24<90%,0.5,IF(B24<95%,0.75,1))) -> 1 | C26: =IF(C24<80%,0,IF(C24<90%,0.5,IF(C24<95%,0.75,1))) -> 1 | D26: =IF(D24<80%,0,IF(D24<90%,0.5,IF(D24<95%,0.75,1))) -> 0 | F26: =IF(F24<80%,0,IF(F24<90%,0.5,IF(F24<95%,0.75,1))) -> 0 | G26: =IF(G24<80%,0,IF(G24<90%,0.5,IF(G24<95%,0.75,1))) -> 0 | H26: =IF(H24<80%,0,IF(H24<90%,0.5,IF(H24<95%,0.75,1))) -> 0 | J26: =IF(J24<80%,0,IF(J24<90%,0.5,IF(J24<95%,0.75,1))) -> 0 | K26: =IF(K24<80%,0,IF(K24<90%,0.5,IF(K24<95%,0.75,1))) -> 0 | L26: =IF(L24<80%,0,IF(L24<90%,0.5,IF(L24<95%,0.75,1))) -> 0 | N26: =IF(N24<80%,0,IF(N24<90%,0.5,IF(N24<95%,0.75,1))) -> 0 | O26: =IF(O24<80%,0,IF(O24<90%,0.5,IF(O24<95%,0.75,1))) -> 0 | P26: =IF(P24<80%,0,IF(P24<90%,0.5,IF(P24<95%,0.75,1))) -> 0
A27: Premia miesięczna za Wskaźnik Sprzedaży Marża | B27: =B26*B25 -> 2461.76 | C27: =C26*C25 -> 2461.76 | D27: =D26*D25 -> 0 | F27: =F26*F25 -> 0 | G27: =G26*G25 -> 0 | H27: =H26*H25 -> 0 | J27: =J26*J25 -> 0 | K27: =K26*K25 -> 0 | L27: =L26*L25 -> 0 | N27: =N26*N25 -> 0 | O27: =O26*O25 -> 0 | P27: =P26*P25 -> 0
A28: Wysokość premii CRM | B28: =B19*0.05 -> 350 | C28: =C19*0.05 -> 350 | D28: =D19*0.05 -> 350 | F28: =F19*0.05 -> 513.33333 | G28: =G19*0.05 -> 513.33333 | H28: =H19*0.05 -> 513.33333 | J28: =J19*0.05 -> 350 | K28: =K19*0.05 -> 350 | L28: =L19*0.05 -> 350 | N28: =N19*0.05 -> 350 | O28: =O19*0.05 -> 350 | P28: =P19*0.05 -> 350
A29: Mnożnik premii Wskaźnik CRM | B29: 1 | C29: 1 | D29: 1
A30: Premia miesięczna za Wskaźnik CRM | B30: =B29*B28 -> 350 | C30: =C29*C28 -> 350 | D30: =D29*D28 -> 350 | F30: =F29*F28 -> 0 | G30: =G29*G28 -> 0 | H30: =H29*H28 -> 0 | J30: =J29*J28 -> 0 | K30: =K29*K28 -> 0 | L30: =L29*L28 -> 0 | N30: =N29*N28 -> 0 | O30: =O29*O28 -> 0 | P30: =P29*P28 -> 0
A31: Suma premii za IPSM i CRM | B31: =B27+B30 -> 2811.76 | C31: =C27+C30 -> 2811.76 | D31: =D27+D30 -> 350 | F31: =F27+F30 -> 0 | G31: =G27+G30 -> 0 | H31: =H27+H30 -> 0 | J31: =J27+J30 -> 0 | K31: =K27+K30 -> 0 | L31: =L27+L30 -> 0 | N31: =N27+N30 -> 0 | O31: =O27+O30 -> 0 | P31: =P27+P30 -> 0
A32: Wysokość premi dodatkowej | B32: 2266 | C32: 2266 | D32: 2266 | F32: 2266 | G32: 2266 | H32: 2266 | J32: 2266 | K32: 2266 | L32: 2266 | N32: 2266 | O32: 2266 | P32: 2266
A33: Mnożnik premii dodatkowej | B33: 1 | C33: 1 | D33: 1
A34: Premia dodatkowa | B34: =B33*B32 -> 2266 | C34: =C33*C32 -> 2266 | D34: =D33*D32 -> 2266 | F34: =F33*F32 -> 0 | G34: =G33*G32 -> 0 | H34: =H33*H32 -> 0 | J34: =J33*J32 -> 0 | K34: =K33*K32 -> 0 | L34: =L33*L32 -> 0 | N34: =N33*N32 -> 0 | O34: =O33*O32 -> 0 | P34: =P33*P32 -> 0
A35: Suma wszystkich premii | B35: =B18+B27+B30+B34 -> 6097.76 | C35: =C18+C27+C30+C34 -> 6097.76 | D35: =D18+D27+D30+D34 -> 3636 | F35: =F18+F27+F30+F34 -> 1020 | G35: =G18+G27+G30+G34 -> 1020 | H35: =H18+H27+H30+H34 -> 1020 | J35: =J18+J27+J30+J34 -> 1020 | K35: =K18+K27+K30+K34 -> 1020 | L35: =L18+L27+L30+L34 -> 1020 | N35: =N18+N27+N30+N34 -> 1020 | O35: =O18+O27+O30+O34 -> 1020 | P35: =P18+P27+P30+P34 -> 1020
A36: Wskaźnik Premia Kwartalna Marża | B36: =D5 -> 211000 | F36: =H5 -> 232100 | J36: =L5 -> 238219 | N36: =P5 -> 236131.53
A37: Realizacja Wskaźnika Premia Kwartalna | B37: =D7 -> 143109.11 | F37: =H7 -> 0 | J37: =L7 -> 0 | N37: =P7 -> 0
A38: Poziom realizacji Wskaźnika Premia Kwartalna | B38: =B37/B36 -> 0.67824224 | F38: =F37/F36 -> 0 | J38: =J37/J36 -> 0 | N38: =N37/N36 -> 0
A39: Wysokość premii kwartalnej. | B39: =D19 -> 7000 | F39: =H19 -> 10266.667 | J39: =L19 -> 7000 | N39: =P19 -> 7000
A40: Mnożnik premii kwartalnej | B40: =IF(B38<100%,0,IF(B38<105%,0.5,IF(B38<110%,0.7,1))) -> 0 | F40: =IF(F38<100%,0,IF(F38<105%,0.5,IF(F38<110%,0.7,1))) -> 0 | J40: =IF(J38<100%,0,IF(J38<105%,0.5,IF(J38<110%,0.7,1))) -> 0 | N40: =IF(N38<100%,0,IF(N38<105%,0.5,IF(N38<110%,0.7,1))) -> 0
A41: Premia kwartalna | B41: =B40*B39 -> 0 | F41: =F40*F39 -> 0 | J41: =J40*J39 -> 0 | N41: =N40*N39 -> 0
A43: Raport za miesiąc: | B43: styczeń | C43: luty | D43: marzec | E43: Suma | F43: kwiecień | G43: maj | H43: czerwiec | I43: Suma | J43: lipiec | K43: sierpień | L43: wrzesień | M43: Suma | N43: paździer. | O43: listopad | P43: grudzień | Q43: Suma | R43: Suma
A44: Ilość nowych Klientów: | E44: =SUM(B44:D44) -> 0 | I44: =SUM(F44:H44) -> 0 | M44: =SUM(J44:L44) -> 0 | Q44: =SUM(N44:P44) -> 0 | R44: =I44+M44+Q44+E44 -> 0
A45: Ilość Podmiotów na etapie współpracy Klient:
A46: Ilość Podmiotów na etapie współpracy Handlowy:
A47: Ilość Podmiotów na etapie współpracy Klient nieaktywny:
A48: Ilość Podmiotów pod opieką:
A49: Ilość sprzedanych drukarek: | E49: =SUM(B49:D49) -> 0 | I49: =SUM(F49:H49) -> 0 | M49: =SUM(J49:L49) -> 0 | Q49: =SUM(N49:P49) -> 0 | R49: =I49+M49+Q49+E49 -> 0
A50: Ilość ofert dodanych w danym miesiącu: | E50: =SUM(B50:D50) -> 0 | I50: =SUM(F50:H50) -> 0 | M50: =SUM(J50:L50) -> 0 | Q50: =SUM(N50:P50) -> 0 | R50: =I50+M50+Q50+E50 -> 0
A51: Ilość ofert oczekujących na decyzję kontrahenta:
A52: Ilość zaakceptowanych ofert przez kontrahenta: | E52: =SUM(B52:D52) -> 0 | I52: =SUM(F52:H52) -> 0 | M52: =SUM(J52:L52) -> 0 | Q52: =SUM(N52:P52) -> 0 | R52: =I52+M52+Q52+E52 -> 0
A53: Ilość odrzuconych ofert przez kontrahenta: | E53: =SUM(B53:D53) -> 0 | I53: =SUM(F53:H53) -> 0 | M53: =SUM(J53:L53) -> 0 | Q53: =SUM(N53:P53) -> 0 | R53: =I53+M53+Q53+E53 -> 0
A54: Ilość przekazanych podmiotów: | E54: =SUM(B54:D54) -> 0 | I54: =SUM(F54:H54) -> 0 | M54: =SUM(J54:L54) -> 0 | Q54: =SUM(N54:P54) -> 0 | R54: =I54+M54+Q54+E54 -> 0
A55: Ilość odebranych podmiotów (zmiana prowadzącego): | E55: =SUM(B55:D55) -> 0 | I55: =SUM(F55:H55) -> 0 | M55: =SUM(J55:L55) -> 0 | Q55: =SUM(N55:P55) -> 0 | R55: =I55+M55+Q55+E55 -> 0
A56: Ilość spotkań z Klientami: | E56: =SUM(B56:D56) -> 0 | I56: =SUM(F56:H56) -> 0 | M56: =SUM(J56:L56) -> 0 | Q56: =SUM(N56:P56) -> 0 | R56: =I56+M56+Q56+E56 -> 0
A57: Ilość aktualnie otwartych wdrożeń:
A58: Ilość wdrożeń dodanych w danym miesiącu: | E58: =SUM(B58:D58) -> 0 | I58: =SUM(F58:H58) -> 0 | M58: =SUM(J58:L58) -> 0 | Q58: =SUM(N58:P58) -> 0 | R58: =I58+M58+Q58+E58 -> 0
A59: Ilość wdrożeń zamkniętych pozytywnie w danym mcu: | E59: =SUM(B59:D59) -> 0 | I59: =SUM(F59:H59) -> 0 | M59: =SUM(J59:L59) -> 0 | Q59: =SUM(N59:P59) -> 0 | R59: =I59+M59+Q59+E59 -> 0
A60: Ilość wdrożeń zamkniętych negatywnie w danym mcu: | E60: =SUM(B60:D60) -> 0 | I60: =SUM(F60:H60) -> 0 | M60: =SUM(J60:L60) -> 0 | Q60: =SUM(N60:P60) -> 0 | R60: =I60+M60+Q60+E60 -> 0
A61: Ilość aktualnie odłożonych wdrożeń:

Sheet RCKIK
A1: Grupa RCKIK
A2: miesiąc | B2: styczeń | C2: luty | D2: marzec | E2: KW I | F2: kwiecień | G2: maj | H2: czerwiec | I2: KW II | J2: lipiec | K2: sierpień | L2: wrzesień | M2: KW III | N2: październik | O2: listopad | P2: grudzień | Q2: KW IV | R2: suma
A3: Wzrost/spadek kwoty marży w stos. do adekw. okr. | C3: -0.0399
A4: Indywidualny Plan Sprzedaży Marża | B4: =Target!C4 -> 8700 | C4: =Target!D4 -> 9666.6667 | D4: =Target!E4 -> 10633.333 | E4: =SUM(B4:D4) -> 29000 | F4: =Target!F4 -> 9900.6 | G4: =Target!G4 -> 11000.667 | H4: =Target!H4 -> 12100.733 | I4: =SUM(F4:H4) -> 33002 | J4: =Target!I4 -> 9900.6 | K4: =Target!J4 -> 11000.667 | L4: =Target!K4 -> 12100.733 | M4: =SUM(J4:L4) -> 33002 | N4: =Target!L4 -> 9723.063 | O4: =Target!M4 -> 10803.403 | P4: =Target!N4 -> 11883.744 | Q4: =SUM(N4:P4) -> 32410.21 | R4: =B4+C4+D4+F4+G4+H4+J4+K4+L4+N4+O4+P4 -> 127414.21 | S4: =R4/Q3-1 -> #DIV/0!
A5: Sumaryczny Plan Sprzedaży Marża | B5: =B4 -> 8700 | C5: =C4+B5 -> 18366.667 | D5: =D4+C5 -> 29000 | F5: =F4 -> 9900.6 | G5: =G4+F5 -> 20901.267 | H5: =H4+G5 -> 33002 | J5: =J4 -> 9900.6 | K5: =K4+J5 -> 20901.267 | L5: =L4+K5 -> 33002 | M5: =SUM(E6,I6,M6)/3 -> 8136.5316 | N5: =N4 -> 9723.063 | O5: =O4+N5 -> 20526.466 | P5: =P4+O5 -> 32410.21 | R5: =R6/R4 -> 0.19157671
A6: Miesięczna realizacja Planu Sprzedaży Marża | B6: =SUMIF(I!A:A,$A$1,I!I:I) -> 12638.878 | C6: =SUMIF(II!A:A,$A$1,II!I:I) -> 7270.9316 | D6: =SUMIF(III!A:A,$A$1,III!I:I) -> 4499.7852 | E6: =SUM(B6:D6) -> 24409.595 | F6: =SUMIF(IV!A:A,$A$1,IV!I:I) -> 0 | G6: =SUMIF(V!A:A,$A$1,V!I:I) -> 0 | H6: =SUMIF(VI!A:A,$A$1,VI!I:I) -> 0 | I6: =SUM(F6:H6) -> 0 | J6: =SUMIF(VII!A:A,$A$1,VII!I:I) -> 0 | K6: =SUMIF(VIII!A:A,$A$1,VIII!I:I) -> 0 | L6: =SUMIF(IX!A:A,$A$1,IX!I:I) -> 0 | M6: =SUM(J6:L6) -> 0 | N6: =SUMIF(X!A:A,$A$1,X!I:I) -> 0 | O6: =SUMIF(XI!A:A,$A$1,XI!I:I) -> 0 | P6: =SUMIF(XII!A:A,$A$1,XII!I:I) -> 0 | Q6: =SUM(N6:P6) -> 0 | R6: =B6+C6+D6+F6+G6+H6+J6+K6+L6+N6+O6+P6 -> 24409.595
A7: Sumaryczna realizacja planu sprzedaży Marża | B7: =B6 -> 12638.878 | C7: =C6+B7 -> 19909.809 | D7: =D6+C7 -> 24409.595 | F7: =F6 -> 0 | G7: =G6+F7 -> 0 | H7: =H6+G7 -> 0 | J7: =J6 -> 0 | K7: =K6+J7 -> 0 | L7: =L6+K7 -> 0 | N7: =N6 -> 0 | O7: =O6+N7 -> 0 | P7: =P6+O7 -> 0
A8: Wysokość zrealizowania Miesięcznego Planu Sprzedaży Marża | B8: =B6/B4 -> 1.4527446 | C8: =C6/C4 -> 0.75216534 | D8: =D6/D4 -> 0.42317729 | F8: =F6/F4 -> 0 | G8: =G6/G4 -> 0 | H8: =H6/H4 -> 0 | J8: =J6/J4 -> 0 | K8: =K6/K4 -> 0 | L8: =L6/L4 -> 0 | N8: =N6/N4 -> 0 | O8: =O6/O4 -> 0 | P8: =P6/P4 -> 0 | Q8: =R6/Q3-1 -> #DIV/0!
A9: Wysokość zrealizowania Planu Sprzedaży Marża | B9: =B7/B5 -> 1.4527446 | C9: =C7/C5 -> 1.0840187 | D9: =D7/D5 -> 0.84171016 | F9: =F7/F5 -> 0 | G9: =G7/G5 -> 0 | H9: =H7/H5 -> 0 | J9: =J7/J5 -> 0 | K9: =K7/K5 -> 0 | L9: =L7/L5 -> 0 | N9: =N7/N5 -> 0 | O9: =O7/O5 -> 0 | P9: =P7/P5 -> 0 | Q9: =R6-Q3 -> 24409.595
A10: Różnica wskaźnika Marża | B10: =B7-B5 -> 3938.8779 | C10: =C7-C5 -> 1543.1428 | D10: =D7-D5 -> -4590.4053 | F10: =F7-F5 -> -9900.6 | G10: =G7-G5 -> -20901.267 | H10: =H7-H5 -> -33002 | J10: =J7-J5 -> -9900.6 | K10: =K7-K5 -> -20901.267 | L10: =L7-L5 -> -33002 | N10: =N7-N5 -> -9723.063 | O10: =O7-O5 -> -20526.466 | P10: =P7-P5 -> -32410.21
A11: Miesięczny Obrót | B11: =SUMIF(I!A:A,$A$1,I!G:G) -> 49988.5 | C11: =SUMIF(II!A:A,$A$1,II!G:G) -> 40731.379 | D11: =SUMIF(III!A:A,$A$1,III!G:G) -> 25602.42 | E11: =SUM(B11:D11) -> 116322.3 | F11: =SUMIF(IV!A:A,$A$1,IV!G:G) -> 0 | G11: =SUMIF(V!A:A,$A$1,V!G:G) -> 0 | H11: =SUMIF(VI!A:A,$A$1,VI!G:G) -> 0 | I11: =SUM(F11:H11) -> 0 | J11: =SUMIF(VII!A:A,$A$1,VII!G:G) -> 0 | K11: =SUMIF(VIII!A:A,$A$1,VIII!G:G) -> 0 | L11: =SUMIF(IX!A:A,$A$1,IX!G:G) -> 0 | M11: =SUM(J11:L11) -> 0 | N11: =SUMIF(X!A:A,$A$1,X!G:G) -> 0 | O11: =SUMIF(XI!A:A,$A$1,XI!G:G) -> 0 | P11: =SUMIF(XII!A:A,$A$1,XII!G:G) -> 0 | Q11: =SUM(N11:P11) -> 0 | R11: =SUM(B11:E11) -> 232644.6
A12: Sumaryczny Obrót | B12: =B11 -> 49988.5 | C12: =C11+B12 -> 90719.879 | D12: =D11+C12 -> 116322.3 | F12: =F11 -> 0 | G12: =G11+F12 -> 0 | H12: =H11+G12 -> 0 | J12: =J11 -> 0 | K12: =K11+J12 -> 0 | L12: =L11+K12 -> 0 | N12: =N11 -> 0 | O12: =O11+N12 -> 0 | P12: =P11+O12 -> 0
A13: Wysokość % Marży miesięcznej | B13: =B6/B11 -> 0.25283571 | C13: =C6/C11 -> 0.17850934 | D13: =D6/D11 -> 0.17575625 | F13: =F6/F11 -> #DIV/0! | G13: =G6/G11 -> #DIV/0! | H13: =H6/H11 -> #DIV/0! | J13: =J6/J11 -> #DIV/0! | K13: =K6/K11 -> #DIV/0! | L13: =L6/L11 -> #DIV/0! | N13: =N6/N11 -> #DIV/0! | O13: =O6/O11 -> #DIV/0! | P13: =P6/P11 -> #DIV/0!
A14: Wysokość % Marży sumarycznej | B14: =B7/B12 -> 0.25283571 | C14: =C7/C12 -> 0.21946468 | D14: =D7/D12 -> 0.2098445 | F14: =F7/F12 -> #DIV/0! | G14: =G7/G12 -> #DIV/0! | H14: =H7/H12 -> #DIV/0! | J14: =J7/J12 -> #DIV/0! | K14: =K7/K12 -> #DIV/0! | L14: =L7/L12 -> #DIV/0! | N14: =N7/N12 -> #DIV/0! | O14: =O7/O12 -> #DIV/0! | P14: =P7/P12 -> #DIV/0!
A16: PREMIE
A17: Wysokość premii dodatkowej | B17: 1000 | C17: 1000 | D17: 1000 | F17: 1100 | G17: 1100 | H17: 1100 | J17: 1000 | K17: 1000 | L17: 1000 | N17: 1000 | O17: 1000 | P17: 1000
A18: Mnożnik premii dodatkowej | B18: 1 | C18: 1 | D18: 1
A19: Premia dodatkowa | B19: =B18*B17 -> 1000 | C19: =C18*C17 -> 1000 | D19: =D18*D17 -> 1000 | F19: =F18*F17 -> 0 | G19: =G18*G17 -> 0 | H19: =H18*H17 -> 0 | J19: =J18*J17 -> 0 | K19: =K18*K17 -> 0 | L19: =L18*L17 -> 0 | N19: =N18*N17 -> 0 | O19: =O18*O17 -> 0 | P19: =P18*P17 -> 0
A22: Udział % IPSM w PSM | B22: =Target!J32 -> 0.03452381 | C22: =Target!J32 -> 0.03452381 | D22: =Target!J32 -> 0.03452381 | F22: =Target!J41 -> 0.035673904 | G22: =Target!J41 -> 0.035673904 | H22: =Target!J41 -> 0.035673904 | J22: =Target!J51 -> 0.035600978 | K22: =Target!J51 -> 0.035600978 | L22: =Target!J51 -> 0.035600978 | N22: =Target!J60 -> 0.035 | O22: =Target!J60 -> 0.035 | P22: =Target!J60 -> 0.035
A29: Wskaźnik Premia Kwartalna Marża | B29: =D5 -> 29000 | F29: =H5 -> 33002 | J29: =L5 -> 33002 | N29: =P5 -> 32410.21
A30: Realizacja Wskaźnika Premia Kwartalna | B30: =D7 -> 24409.595 | F30: =H7 -> 0 | J30: =L7 -> 0 | N30: =P7 -> 0
A31: Poziom realizacji Wskaźnika Premia Kwartalna | B31: =B30/B29 -> 0.84171016 | F31: =F30/F29 -> 0 | J31: =J30/J29 -> 0 | N31: =N30/N29 -> 0
A32: Wysokość premii kwartalnej. | B32: =D17 -> 1000 | F32: =H17 -> 1100 | J32: =L17 -> 1000 | N32: =P17 -> 1000
A33: Mnożnik premii kwartalnej | B33: =IF(B31<100%,0,IF(B31<105%,0.5,IF(B31<110%,0.7,1))) -> 0 | F33: =IF(F31<100%,0,IF(F31<105%,0.5,IF(F31<110%,0.7,1))) -> 0 | J33: =IF(J31<100%,0,IF(J31<105%,0.5,IF(J31<110%,0.7,1))) -> 0 | N33: =IF(N31<100%,0,IF(N31<105%,0.5,IF(N31<110%,0.7,1))) -> 0
A34: Premia kwartalna dodatkowa | B34: =B33*B32 -> 0 | F34: =F33*F32 -> 0 | J34: =J33*J32 -> 0 | N34: =N33*N32 -> 0

Sheet PIOTR
A1: Piotr Choma | B1: PLAN I KW Piotr Choma | F1: PLAN II KW Piotr Choma | J1: PLAN III KW Piotr Choma | N1: PLAN IV KW Piotr Choma
A2: miesiąc | B2: styczeń | C2: luty | D2: marzec | E2: KW I | F2: kwiecień | G2: maj | H2: czerwiec | I2: KW II | J2: lipiec | K2: sierpień | L2: wrzesień | M2: KW III | N2: październik | O2: listopad | P2: grudzień | Q2: KW IV | R2: suma ROK
A3: Wzrost/spadek kwoty marży w stos. do adekw. okr. | C3: 0.2014 | R3: =Target!O6 -> 1470328.4
A4: Indywidualny Plan Sprzedaży Marża | B4: =Target!C6 -> 103200 | C4: =Target!D6 -> 114666.67 | D4: =Target!E6 -> 126133.33 | E4: =SUM(B4:D4) -> 344000 | F4: =Target!F6 -> 113520 | G4: =Target!G6 -> 126133.33 | H4: =Target!H6 -> 138746.67 | I4: =SUM(F4:H4) -> 378400 | J4: =Target!I6 -> 111868.8 | K4: =Target!J6 -> 124298.67 | L4: =Target!K6-8400 -> 128328.53 | M4: =SUM(J4:L4) -> 364496 | N4: =Target!L6+2800 -> 115309.73 | O4: =Target!M6+2800 -> 127810.81 | P4: =Target!N6+2800 -> 140311.89 | Q4: =SUM(N4:P4) -> 383432.43 | R4: =E4+I4+M4+Q4 -> 1470328.4
A5: Sumaryczny Indywidulany Plan Sprzedaży Marża | B5: =B4 -> 103200 | C5: =C4+B5 -> 217866.67 | D5: =D4+C5 -> 344000 | F5: =F4 -> 113520 | G5: =G4+F5 -> 239653.33 | H5: =H4+G5 -> 378400 | J5: =J4 -> 111868.8 | K5: =K4+J5 -> 236167.47 | L5: =L4+K5 -> 364496 | M5: =SUM(E6,I6,M6)/3 -> 103178.55 | N5: =N4 -> 115309.73 | O5: =O4+N5 -> 243120.54 | P5: =P4+O5 -> 383432.43 | R5: =R6/R4 -> 0.21052144
A6: Miesięczna realizacja Planu Sprzedaży Marża | B6: =SUMIF(I!A:A,$A$1,I!I:I) -> 143440.19 | C6: =SUMIF(II!A:A,$A$1,II!I:I) -> 128074.54 | D6: =SUMIF(III!A:A,$A$1,III!I:I) -> 38020.926 | E6: =SUM(B6:D6) -> 309535.65 | F6: =SUMIF(IV!A:A,$A$1,IV!I:I) -> 0 | G6: =SUMIF(V!A:A,$A$1,V!I:I) -> 0 | H6: =SUMIF(VI!A:A,$A$1,VI!I:I) -> 0 | I6: =SUM(F6:H6) -> 0 | J6: =SUMIF(VII!A:A,$A$1,VII!I:I) -> 0 | K6: =SUMIF(VIII!A:A,$A$1,VIII!I:I) -> 0 | L6: =SUMIF(IX!A:A,$A$1,IX!I:I) -> 0 | M6: =SUM(J6:L6) -> 0 | N6: =SUMIF(X!A:A,$A$1,X!I:I) -> 0 | O6: =SUMIF(XI!A:A,$A$1,XI!I:I) -> 0 | P6: =SUMIF(XII!A:A,$A$1,XII!I:I) -> 0 | Q6: =SUM(N6:P6) -> 0 | R6: =E6+I6+M6+Q6 -> 309535.65
A7: Sumaryczna realizacja Planu Sprzedaży Marża | B7: =B6 -> 143440.19 | C7: =C6+B7 -> 271514.73 | D7: =D6+C7 -> 309535.65 | F7: =F6 -> 0 | G7: =G6+F7 -> 0 | H7: =H6+G7 -> 0 | J7: =J6 -> 0 | K7: =K6+J7 -> 0 | L7: =L6+K7 -> 0 | N7: =N6 -> 0 | O7: =O6+N7 -> 0 | P7: =P6+O7 -> 0 | R7: =R3-R4 -> 0
A8: Wysokość % zrealizowania IPSM miesięcznego | B8: =B6/B4 -> 1.3899243 | C8: =C6/C4 -> 1.1169291 | D8: =D6/D4 -> 0.3014344 | F8: =F6/F4 -> 0 | G8: =G6/G4 -> 0 | H8: =H6/H4 -> 0 | J8: =J6/J4 -> 0 | K8: =K6/K4 -> 0 | L8: =L6/L4 -> 0 | N8: =N6/N4 -> 0 | O8: =O6/O4 -> 0 | P8: =P6/P4 -> 0 | Q8: =R6/Q3-1 -> #DIV/0! | R8: =R7*100/R3 -> 0
A9: Wysokość % zrealizowania IPSM sumarycznego | B9: =B7/B5 -> 1.3899243 | C9: =C7/C5 -> 1.2462426 | D9: =D7/D5 -> 0.89981294 | F9: =F7/F5 -> 0 | G9: =G7/G5 -> 0 | H9: =H7/H5 -> 0 | J9: =J7/J5 -> 0 | K9: =K7/K5 -> 0 | L9: =L7/L5 -> 0 | N9: =N7/N5 -> 0 | O9: =O7/O5 -> 0 | P9: =P7/P5 -> 0 | Q9: =R6-Q3 -> 309535.65
A10: Różnica | B10: =B7-B5 -> 40240.188 | C10: =C7-C5 -> 53648.06 | D10: =D7-D5 -> -34464.348 | F10: =F7-F5 -> -113520 | G10: =G7-G5 -> -239653.33 | H10: =H7-H5 -> -378400 | J10: =J7-J5 -> -111868.8 | K10: =K7-K5 -> -236167.47 | L10: =L7-L5 -> -364496 | N10: =N7-N5 -> -115309.73 | O10: =O7-O5 -> -243120.54 | P10: =P7-P5 -> -383432.43
A11: Miesięczny Obrót | B11: =SUMIF(I!A:A,$A$1,I!G:G) -> 397215.97 | C11: =SUMIF(II!A:A,$A$1,II!G:G) -> 370181.72 | D11: =SUMIF(III!A:A,$A$1,III!G:G) -> 106009.03 | E11: =SUM(B11:D11) -> 873406.72 | F11: =SUMIF(IV!A:A,$A$1,IV!G:G) -> 0 | G11: =SUMIF(V!A:A,$A$1,V!G:G) -> 0 | H11: =SUMIF(VI!A:A,$A$1,VI!G:G) -> 0 | I11: =SUM(F11:H11) -> 0 | J11: =SUMIF(VII!A:A,$A$1,VII!G:G) -> 0 | K11: =SUMIF(VIII!A:A,$A$1,VIII!G:G) -> 0 | L11: =SUMIF(IX!A:A,$A$1,IX!G:G) -> 0 | M11: =SUM(J11:L11) -> 0 | N11: =SUMIF(X!A:A,$A$1,X!G:G) -> 0 | O11: =SUMIF(XI!A:A,$A$1,XI!G:G) -> 0 | P11: =SUMIF(XII!A:A,$A$1,XII!G:G) -> 0 | Q11: =SUM(N11:P11) -> 0 | R11: =E11+I11+M11+Q11 -> 873406.72
A12: Sumaryczny Obrót | B12: =B11 -> 397215.97 | C12: =C11+B12 -> 767397.69 | D12: =D11+C12 -> 873406.72 | F12: =F11 -> 0 | G12: =G11+F12 -> 0 | H12: =H11+G12 -> 0 | J12: =J11 -> 0 | K12: =K11+J12 -> 0 | L12: =L11+K12 -> 0 | N12: =N11 -> 0 | O12: =O11+N12 -> 0 | P12: =P11+O12 -> 0
A13: Wysokość % Marży miesięcznej | B13: =B6/B11 -> 0.36111385 | C13: =C6/C11 -> 0.34597748 | D13: =D6/D11 -> 0.35865742 | F13: =F6/F11 -> #DIV/0! | G13: =G6/G11 -> #DIV/0! | H13: =H6/H11 -> #DIV/0! | J13: =J6/J11 -> #DIV/0! | K13: =K6/K11 -> #DIV/0! | L13: =L6/L11 -> #DIV/0! | N13: =N6/N11 -> #DIV/0! | O13: =O6/O11 -> #DIV/0! | P13: =P6/P11 -> #DIV/0!
A14: Wysokość % Marży sumarycznej | B14: =B7/B12 -> 0.36111385 | C14: =C7/C12 -> 0.35381228 | D14: =D7/D12 -> 0.35440036 | F14: =F7/F12 -> #DIV/0! | G14: =G7/G12 -> #DIV/0! | H14: =H7/H12 -> #DIV/0! | J14: =J7/J12 -> #DIV/0! | K14: =K7/K12 -> #DIV/0! | L14: =L7/L12 -> #DIV/0! | N14: =N7/N12 -> #DIV/0! | O14: =O7/O12 -> #DIV/0! | P14: =P7/P12 -> #DIV/0!
A16: PREMIE | B16: PREMIE
A17: Wynagrodzenie zasadnicze | B17: =Target!P34 -> 7500 | C17: =Target!P34 -> 7500 | D17: =Target!P34 -> 7500 | F17: =Target!P43 -> 7500 | G17: =Target!P43 -> 7500 | H17: =Target!P43 -> 7500 | J17: =Target!P53 -> 7500 | K17: =Target!P53 -> 7500 | L17: =Target!P53 -> 7500 | N17: =Target!P62 -> 7500 | O17: =Target!P62 -> 7500 | P17: =Target!P62 -> 7500
A18: Premia 15% wynagrodzenia zasadniczego | B18: =B17*15% -> 1125 | C18: =C17*15% -> 1125 | D18: =D17*15% -> 1125 | F18: =F17*15% -> 1125 | G18: =G17*15% -> 1125 | H18: =H17*15% -> 1125 | J18: =J17*15% -> 1125 | K18: =K17*15% -> 1125 | L18: =L17*15% -> 1125 | N18: =N17*15% -> 1125 | O18: =O17*15% -> 1125 | P18: =P17*15% -> 1125
A19: Wysokość Kwoty bazowej na dany okres | B19: =Target!O34 -> 7000 | C19: =Target!O34 -> 7000 | D19: =Target!O34 -> 7000 | F19: =Target!O40 -> 10266.667 | G19: =Target!O40 -> 10266.667 | H19: =Target!O40 -> 10266.667 | J19: =Target!O50 -> 7000 | K19: =Target!O50 -> 7000 | L19: =Target!O50 -> 7000 | N19: =Target!O59 -> 7000 | O19: =Target!O59 -> 7000 | P19: =Target!O59 -> 7000
A20: Udział % IPSM w PSM | B20: =Target!J34 -> 0.40952381 | C20: =Target!J34 -> 0.40952381 | D20: =Target!J34 -> 0.40952381 | F20: =Target!J43 -> 0.40903598 | G20: =Target!J43 -> 0.40903598 | H20: =Target!J43 -> 0.40903598 | J20: =Target!J53 -> 0.40226236 | K20: =Target!J53 -> 0.40226236 | L20: =Target!J53 -> 0.40226236 | N20: =Target!J62 -> 0.405 | O20: =Target!J62 -> 0.405 | P20: =Target!J62 -> 0.405
A21: Wysokość Indywidualnej Kwoty bazowej | B21: =Target!N34 -> 11466 | C21: =Target!N34 -> 11466 | D21: =Target!N34 -> 11466 | F21: =Target!N43 -> 12597.2 | G21: =Target!N43 -> 12597.2 | H21: =Target!N43 -> 12597.2 | J21: =Target!N53 -> 11264.4 | K21: =Target!N53 -> 11264.4 | L21: =Target!N53 -> 11264.4 | N21: =Target!N62 -> 11340 | O21: =Target!N62 -> 11340 | P21: =Target!N62 -> 11340
A22: Sumaryczny Indywidualny Plan Sprzedaży Marża | B22: =B5 -> 103200 | C22: =C5 -> 217866.67 | D22: =D5 -> 344000 | F22: =F5 -> 113520 | G22: =G5 -> 239653.33 | H22: =H5 -> 378400 | J22: =J5 -> 111868.8 | K22: =K5 -> 236167.47 | L22: =L5 -> 364496 | N22: =N5 -> 115309.73 | O22: =O5 -> 243120.54 | P22: =P5 -> 383432.43
A23: Miesięczna realizacja Planu Sprzedaży Marża | B23: =B7 -> 143440.19 | C23: =C7 -> 271514.73 | D23: =D7 -> 309535.65 | F23: =F7 -> 0 | G23: =G7 -> 0 | H23: =H7 -> 0 | J23: =J7 -> 0 | K23: =K7 -> 0 | L23: =L7 -> 0 | N23: =N7 -> 0 | O23: =O7 -> 0 | P23: =P7 -> 0
A24: Wysokość % zrealizowania IPSM sumarycznego | B24: =B23/B22 -> 1.3899243 | C24: =C23/C22 -> 1.2462426 | D24: =D23/D22 -> 0.89981294 | F24: =F23/F22 -> 0 | G24: =G23/G22 -> 0 | H24: =H23/H22 -> 0 | J24: =J23/J22 -> 0 | K24: =K23/K22 -> 0 | L24: =L23/L22 -> 0 | N24: =N23/N22 -> 0 | O24: =O23/O22 -> 0 | P24: =P23/P22 -> 0
A25: Wysokość premii Wskaźnik Sprzedaży Marża | B25: =B21*0.35 -> 4013.1 | C25: =C21*0.35 -> 4013.1 | D25: =D21*0.35 -> 4013.1 | F25: =F21*0.35 -> 4409.02 | G25: =G21*0.35 -> 4409.02 | H25: =H21*0.35 -> 4409.02 | J25: =J21*0.35 -> 3942.54 | K25: =K21*0.35 -> 3942.54 | L25: =L21*0.35 -> 3942.54 | N25: =N21*0.35 -> 3969 | O25: =O21*0.35 -> 3969 | P25: =P21*0.35 -> 3969
A26: Mnożnik premii miesięcznej Wskaźnika Sprzedaży Marża | B26: =IF(B24<80%,0,IF(B24<90%,0.5,IF(B24<95%,0.75,1))) -> 1 | C26: =IF(C24<80%,0,IF(C24<90%,0.5,IF(C24<95%,0.75,1))) -> 1 | D26: =IF(D24<80%,0,IF(D24<90%,0.5,IF(D24<95%,0.75,1))) -> 0.5 | F26: =IF(F24<80%,0,IF(F24<90%,0.5,IF(F24<95%,0.75,1))) -> 0 | G26: =IF(G24<80%,0,IF(G24<90%,0.5,IF(G24<95%,0.75,1))) -> 0 | H26: =IF(H24<80%,0,IF(H24<90%,0.5,IF(H24<95%,0.75,1))) -> 0 | J26: =IF(J24<80%,0,IF(J24<90%,0.5,IF(J24<95%,0.75,1))) -> 0 | K26: =IF(K24<80%,0,IF(K24<90%,0.5,IF(K24<95%,0.75,1))) -> 0 | L26: =IF(L24<80%,0,IF(L24<90%,0.5,IF(L24<95%,0.75,1))) -> 0 | N26: =IF(N24<80%,0,IF(N24<90%,0.5,IF(N24<95%,0.75,1))) -> 0 | O26: =IF(O24<80%,0,IF(O24<90%,0.5,IF(O24<95%,0.75,1))) -> 0 | P26: =IF(P24<80%,0,IF(P24<90%,0.5,IF(P24<95%,0.75,1))) -> 0
A27: Premia miesięczna za Wskaźnik Sprzedaży Marża | B27: =B26*B25 -> 4013.1 | C27: =C26*C25 -> 4013.1 | D27: =D26*D25 -> 2006.55 | F27: =F26*F25 -> 0 | G27: =G26*G25 -> 0 | H27: =H26*H25 -> 0 | J27: =J26*J25 -> 0 | K27: =K26*K25 -> 0 | L27: =L26*L25 -> 0 | N27: =N26*N25 -> 0 | O27: =O26*O25 -> 0 | P27: =P26*P25 -> 0
A28: Wysokość premii CRM | B28: =B19*0.05 -> 350 | C28: =C19*0.05 -> 350 | D28: =D19*0.05 -> 350 | F28: =F19*0.05 -> 513.33333 | G28: =G19*0.05 -> 513.33333 | H28: =H19*0.05 -> 513.33333 | J28: =J19*0.05 -> 350 | K28: =K19*0.05 -> 350 | L28: =L19*0.05 -> 350 | N28: =N19*0.05 -> 350 | O28: =O19*0.05 -> 350 | P28: =P19*0.05 -> 350
A29: Mnożnik premii Wskaźnik CRM | B29: 1 | C29: 1 | D29: 1
A30: Premia miesięczna za Wskaźnik CRM | B30: =B29*B28 -> 350 | C30: =C29*C28 -> 350 | D30: =D29*D28 -> 350 | F30: =F29*F28 -> 0 | G30: =G29*G28 -> 0 | H30: =H29*H28 -> 0 | J30: =J29*J28 -> 0 | K30: =K29*K28 -> 0 | L30: =L29*L28 -> 0 | N30: =N29*N28 -> 0 | O30: =O29*O28 -> 0 | P30: =P29*P28 -> 0
A31: Suma premii za IPSM i CRM | B31: =B27+B30 -> 4363.1 | C31: =C27+C30 -> 4363.1 | D31: =D27+D30 -> 2356.55 | F31: =F27+F30 -> 0 | G31: =G27+G30 -> 0 | H31: =H27+H30 -> 0 | J31: =J27+J30 -> 0 | K31: =K27+K30 -> 0 | L31: =L27+L30 -> 0 | N31: =N27+N30 -> 0 | O31: =O27+O30 -> 0 | P31: =P27+P30 -> 0
A32: Wysokość premi dodatkowej | B32: 2266 | C32: 2266 | D32: 2266 | F32: 2266 | G32: 2266 | H32: 2266 | J32: 2266 | K32: 2266 | L32: 2266 | N32: 2266 | O32: 2266 | P32: 2266
A33: Mnożnik premii dodatkowej | B33: 1 | C33: 1 | D33: 1
A34: Premia dodatkowa | B34: =B33*B32 -> 2266 | C34: =C33*C32 -> 2266 | D34: =D33*D32 -> 2266 | F34: =F33*F32 -> 0 | G34: =G33*G32 -> 0 | H34: =H33*H32 -> 0 | J34: =J33*J32 -> 0 | K34: =K33*K32 -> 0 | L34: =L33*L32 -> 0 | N34: =N33*N32 -> 0 | O34: =O33*O32 -> 0 | P34: =P33*P32 -> 0
A35: Suma wszystkich premii | B35: =B18+B27+B30+B34 -> 7754.1 | C35: =C18+C27+C30+C34 -> 7754.1 | D35: =D18+D27+D30+D34 -> 5747.55 | F35: =F18+F27+F30+F34 -> 1125 | G35: =G18+G27+G30+G34 -> 1125 | H35: =H18+H27+H30+H34 -> 1125 | J35: =J18+J27+J30+J34 -> 1125 | K35: =K18+K27+K30+K34 -> 1125 | L35: =L18+L27+L30+L34 -> 1125 | N35: =N18+N27+N30+N34 -> 1125 | O35: =O18+O27+O30+O34 -> 1125 | P35: =P18+P27+P30+P34 -> 1125
A36: Wskaźnik Premia Kwartalna Marża | B36: =D5 -> 344000 | F36: =H5 -> 378400 | J36: =L5 -> 364496 | N36: =P5 -> 383432.43
A37: Realizacja Wskaźnika Premia Kwartalna | B37: =D7 -> 309535.65 | F37: =H7 -> 0 | J37: =L7 -> 0 | N37: =P7 -> 0
A38: Poziom realizacji Wskaźnika Premia Kwartalna | B38: =B37/B36 -> 0.89981294 | F38: =F37/F36 -> 0 | J38: =J37/J36 -> 0 | N38: =N37/N36 -> 0
A39: Wysokość premii kwartalnej. | B39: =D19 -> 7000 | F39: =H19 -> 10266.667 | J39: =L19 -> 7000 | N39: =P19 -> 7000
A40: Mnożnik premii kwartalnej | B40: =IF(B38<100%,0,IF(B38<105%,0.5,IF(B38<110%,0.7,1))) -> 0 | F40: =IF(F38<100%,0,IF(F38<105%,0.5,IF(F38<110%,0.7,1))) -> 0 | J40: =IF(J38<100%,0,IF(J38<105%,0.5,IF(J38<110%,0.7,1))) -> 0 | N40: =IF(N38<100%,0,IF(N38<105%,0.5,IF(N38<110%,0.7,1))) -> 0
A41: Premia kwartalna | B41: =B40*B39 -> 0 | F41: =F40*F39 -> 0 | J41: =J40*J39 -> 0 | N41: =N40*N39 -> 0
A43: Raport za miesiąc: | B43: styczeń | C43: luty | D43: marzec | E43: Suma | F43: kwiecień | G43: maj | H43: czerwiec | I43: Suma | J43: lipiec | K43: sierpień | L43: wrzesień | M43: Suma | N43: paździer. | O43: listopad | P43: grudzień | Q43: Suma | R43: Suma
A44: Ilość nowych Klientów: | E44: =SUM(B44:D44) -> 0 | I44: =SUM(F44:H44) -> 0 | M44: =SUM(J44:L44) -> 0 | Q44: =SUM(N44:P44) -> 0 | R44: =I44+M44+Q44+E44 -> 0
A45: Ilość Podmiotów na etapie współpracy Klient:
A46: Ilość Podmiotów na etapie współpracy Handlowy:
A47: Ilość Podmiotów na etapie współpracy Klient nieaktywny:
A48: Ilość Podmiotów pod opieką:
A49: Ilość sprzedanych drukarek: | E49: =SUM(B49:D49) -> 0 | I49: =SUM(F49:H49) -> 0 | M49: =SUM(J49:L49) -> 0 | Q49: =SUM(N49:P49) -> 0 | R49: =I49+M49+Q49+E49 -> 0
A50: Ilość ofert dodanych w danym miesiącu: | E50: =SUM(B50:D50) -> 0 | I50: =SUM(F50:H50) -> 0 | M50: =SUM(J50:L50) -> 0 | Q50: =SUM(N50:P50) -> 0 | R50: =I50+M50+Q50+E50 -> 0
A51: Ilość ofert oczekujących na decyzję kontrahenta:
A52: Ilość zaakceptowanych ofert przez kontrahenta: | E52: =SUM(B52:D52) -> 0 | I52: =SUM(F52:H52) -> 0 | M52: =SUM(J52:L52) -> 0 | Q52: =SUM(N52:P52) -> 0 | R52: =I52+M52+Q52+E52 -> 0
A53: Ilość odrzuconych ofert przez kontrahenta: | E53: =SUM(B53:D53) -> 0 | I53: =SUM(F53:H53) -> 0 | M53: =SUM(J53:L53) -> 0 | Q53: =SUM(N53:P53) -> 0 | R53: =I53+M53+Q53+E53 -> 0
A54: Ilość przekazanych podmiotów: | E54: =SUM(B54:D54) -> 0 | I54: =SUM(F54:H54) -> 0 | M54: =SUM(J54:L54) -> 0 | Q54: =SUM(N54:P54) -> 0 | R54: =I54+M54+Q54+E54 -> 0
A55: Ilość odebranych podmiotów (zmiana prowadzącego): | E55: =SUM(B55:D55) -> 0 | I55: =SUM(F55:H55) -> 0 | M55: =SUM(J55:L55) -> 0 | Q55: =SUM(N55:P55) -> 0 | R55: =I55+M55+Q55+E55 -> 0
A56: Ilość spotkań z Klientami: | E56: =SUM(B56:D56) -> 0 | I56: =SUM(F56:H56) -> 0 | M56: =SUM(J56:L56) -> 0 | Q56: =SUM(N56:P56) -> 0 | R56: =I56+M56+Q56+E56 -> 0
A57: Ilość aktualnie otwartych wdrożeń:
A58: Ilość wdrożeń dodanych w danym miesiącu: | E58: =SUM(B58:D58) -> 0 | I58: =SUM(F58:H58) -> 0 | M58: =SUM(J58:L58) -> 0 | Q58: =SUM(N58:P58) -> 0 | R58: =I58+M58+Q58+E58 -> 0
A59: Ilość wdrożeń zamkniętych pozytywnie w danym mcu: | E59: =SUM(B59:D59) -> 0 | I59: =SUM(F59:H59) -> 0 | M59: =SUM(J59:L59) -> 0 | Q59: =SUM(N59:P59) -> 0 | R59: =I59+M59+Q59+E59 -> 0
A60: Ilość wdrożeń zamkniętych negatywnie w danym mcu: | E60: =SUM(B60:D60) -> 0 | I60: =SUM(F60:H60) -> 0 | M60: =SUM(J60:L60) -> 0 | Q60: =SUM(N60:P60) -> 0 | R60: =I60+M60+Q60+E60 -> 0
A61: Ilość aktualnie odłożonych wdrożeń:

Sheet KRZYSZTOF
A1: Krzysztof Szwajdych | B1: PLAN I KW Krzysztof Szwajdych | F1: PLAN II KW Krzysztof Szwajdych | J1: PLAN III KW Krzysztof Szwajdych | N1: PLAN IV KW Krzysztof Szwajdych
A2: miesiąc | B2: styczeń | C2: luty | D2: marzec | E2: KW I | F2: kwiecień | G2: maj | H2: czerwiec | I2: KW II | J2: lipiec | K2: sierpień | L2: wrzesień | M2: KW III | N2: październik | O2: listopad | P2: grudzień | Q2: KW IV | R2: suma ROK
A3: Wzrost/spadek kwoty marży w stos. do adekw. okr. | C3: -0.1064 | R3: =Target!O7 -> 1102911.8
A4: Indywidualny Plan Sprzedaży Marża | B4: =Target!C7 -> 76800 | C4: =Target!D7 -> 85333.333 | D4: =Target!E7 -> 93866.667 | E4: =SUM(B4:D4) -> 256000 | F4: =Target!F7 -> 84480 | G4: =Target!G7 -> 93866.667 | H4: =Target!H7 -> 103253.33 | I4: =SUM(F4:H4) -> 281600 | J4: =Target!I7 -> 84864 | K4: =Target!J7 -> 94293.333 | L4: =Target!K7 -> 103722.67 | M4: =SUM(J4:L4) -> 282880 | N4: =Target!L7 -> 84729.549 | O4: =Target!M7 -> 94143.943 | P4: =Target!N7 -> 103558.34 | Q4: =SUM(N4:P4) -> 282431.83 | R4: =E4+I4+M4+Q4 -> 1102911.8
A5: Sumaryczny Indywidulany Plan Sprzedaży Marża | B5: =B4 -> 76800 | C5: =C4+B5 -> 162133.33 | D5: =D4+C5 -> 256000 | F5: =F4 -> 84480 | G5: =G4+F5 -> 178346.67 | H5: =H4+G5 -> 281600 | J5: =J4 -> 84864 | K5: =K4+J5 -> 179157.33 | L5: =L4+K5 -> 282880 | M5: =SUM(E6,I6,M6)/3 -> 67560.374 | N5: =N4 -> 84729.549 | O5: =O4+N5 -> 178873.49 | P5: =P4+O5 -> 282431.83 | R5: =R6/R4 -> 0.18376911
A6: Miesięczna realizacja Planu Sprzedaży Marża | B6: =SUMIF(I!A:A,$A$1,I!I:I) -> 95808.016 | C6: =SUMIF(II!A:A,$A$1,II!I:I) -> 76436.102 | D6: =SUMIF(III!A:A,$A$1,III!I:I) -> 30437.004 | E6: =SUM(B6:D6) -> 202681.12 | F6: =SUMIF(IV!A:A,$A$1,IV!I:I) -> 0 | G6: =SUMIF(V!A:A,$A$1,V!I:I) -> 0 | H6: =SUMIF(VI!A:A,$A$1,VI!I:I) -> 0 | I6: =SUM(F6:H6) -> 0 | J6: =SUMIF(VII!A:A,$A$1,VII!I:I) -> 0 | K6: =SUMIF(VIII!A:A,$A$1,VIII!I:I) -> 0 | L6: =SUMIF(IX!A:A,$A$1,IX!I:I) -> 0 | M6: =SUM(J6:L6) -> 0 | N6: =SUMIF(X!A:A,$A$1,X!I:I) -> 0 | O6: =SUMIF(XI!A:A,$A$1,XI!I:I) -> 0 | P6: =SUMIF(XII!A:A,$A$1,XII!I:I) -> 0 | Q6: =SUM(N6:P6) -> 0 | R6: =E6+I6+M6+Q6 -> 202681.12
A7: Sumaryczna realizacja Planu Sprzedaży Marża | B7: =B6 -> 95808.016 | C7: =C6+B7 -> 172244.12 | D7: =D6+C7 -> 202681.12 | F7: =F6 -> 0 | G7: =G6+F7 -> 0 | H7: =H6+G7 -> 0 | J7: =J6 -> 0 | K7: =K6+J7 -> 0 | L7: =L6+K7 -> 0 | N7: =N6 -> 0 | O7: =O6+N7 -> 0 | P7: =P6+O7 -> 0 | R7: =R3-R4 -> 0
A8: Wysokość % zrealizowania IPSM miesięcznego | B8: =B6/B4 -> 1.2475002 | C8: =C6/C4 -> 0.89573557 | D8: =D6/D4 -> 0.32425785 | F8: =F6/F4 -> 0 | G8: =G6/G4 -> 0 | H8: =H6/H4 -> 0 | J8: =J6/J4 -> 0 | K8: =K6/K4 -> 0 | L8: =L6/L4 -> 0 | N8: =N6/N4 -> 0 | O8: =O6/O4 -> 0 | P8: =P6/P4 -> 0 | Q8: =R6/Q3-1 -> #DIV/0! | R8: =R7*100/R3 -> 0
A9: Wysokość % zrealizowania IPSM sumarycznego | B9: =B7/B5 -> 1.2475002 | C9: =C7/C5 -> 1.0623609 | D9: =D7/D5 -> 0.79172313 | F9: =F7/F5 -> 0 | G9: =G7/G5 -> 0 | H9: =H7/H5 -> 0 | J9: =J7/J5 -> 0 | K9: =K7/K5 -> 0 | L9: =L7/L5 -> 0 | N9: =N7/N5 -> 0 | O9: =O7/O5 -> 0 | P9: =P7/P5 -> 0 | Q9: =R6-Q3 -> 202681.12
A10: Różnica | B10: =B7-B5 -> 19008.016 | C10: =C7-C5 -> 10110.784 | D10: =D7-D5 -> -53318.879 | F10: =F7-F5 -> -84480 | G10: =G7-G5 -> -178346.67 | H10: =H7-H5 -> -281600 | J10: =J7-J5 -> -84864 | K10: =K7-K5 -> -179157.33 | L10: =L7-L5 -> -282880 | N10: =N7-N5 -> -84729.549 | O10: =O7-O5 -> -178873.49 | P10: =P7-P5 -> -282431.83
A11: Miesięczny Obrót | B11: =SUMIF(I!A:A,$A$1,I!G:G) -> 216241.27 | C11: =SUMIF(II!A:A,$A$1,II!G:G) -> 188991.48 | D11: =SUMIF(III!A:A,$A$1,III!G:G) -> 65710.469 | E11: =SUM(B11:D11) -> 470943.22 | F11: =SUMIF(IV!A:A,$A$1,IV!G:G) -> 0 | G11: =SUMIF(V!A:A,$A$1,V!G:G) -> 0 | H11: =SUMIF(VI!A:A,$A$1,VI!G:G) -> 0 | I11: =SUM(F11:H11) -> 0 | J11: =SUMIF(VII!A:A,$A$1,VII!G:G) -> 0 | K11: =SUMIF(VIII!A:A,$A$1,VIII!G:G) -> 0 | L11: =SUMIF(IX!A:A,$A$1,IX!G:G) -> 0 | M11: =SUM(J11:L11) -> 0 | N11: =SUMIF(X!A:A,$A$1,X!G:G) -> 0 | O11: =SUMIF(XI!A:A,$A$1,XI!G:G) -> 0 | P11: =SUMIF(XII!A:A,$A$1,XII!G:G) -> 0 | Q11: =SUM(N11:P11) -> 0 | R11: =E11+I11+M11+Q11 -> 470943.22
A12: Sumaryczny Obrót | B12: =B11 -> 216241.27 | C12: =C11+B12 -> 405232.75 | D12: =D11+C12 -> 470943.22 | F12: =F11 -> 0 | G12: =G11+F12 -> 0 | H12: =H11+G12 -> 0 | J12: =J11 -> 0 | K12: =K11+J12 -> 0 | L12: =L11+K12 -> 0 | N12: =N11 -> 0 | O12: =O11+N12 -> 0 | P12: =P11+O12 -> 0
A13: Wysokość % Marży miesięcznej | B13: =B6/B11 -> 0.44306074 | C13: =C6/C11 -> 0.40444204 | D13: =D6/D11 -> 0.4631987 | F13: =F6/F11 -> #DIV/0! | G13: =G6/G11 -> #DIV/0! | H13: =H6/H11 -> #DIV/0! | J13: =J6/J11 -> #DIV/0! | K13: =K6/K11 -> #DIV/0! | L13: =L6/L11 -> #DIV/0! | N13: =N6/N11 -> #DIV/0! | O13: =O6/O11 -> #DIV/0! | P13: =P6/P11 -> #DIV/0!
A14: Wysokość % Marży sumarycznej | B14: =B7/B12 -> 0.44306074 | C14: =C7/C12 -> 0.42504984 | D14: =D7/D12 -> 0.43037273 | E14: - | F14: =F7/F12 -> #DIV/0! | G14: =G7/G12 -> #DIV/0! | H14: =H7/H12 -> #DIV/0! | J14: =J7/J12 -> #DIV/0! | K14: =K7/K12 -> #DIV/0! | L14: =L7/L12 -> #DIV/0! | N14: =N7/N12 -> #DIV/0! | O14: =O7/O12 -> #DIV/0! | P14: =P7/P12 -> #DIV/0!
A16: PREMIE | B16: PREMIE
A17: Wynagrodzenie zasadnicze | B17: =Target!P35 -> 6800 | C17: =Target!P35 -> 6800 | D17: =Target!P35 -> 6800 | F17: =Target!P44 -> 6800 | G17: =Target!P44 -> 6800 | H17: =Target!P44 -> 6800 | J17: =Target!P54 -> 6800 | K17: =Target!P54 -> 6800 | L17: =Target!P54 -> 6800 | N17: =Target!P63 -> 6800 | O17: =Target!P63 -> 6800 | P17: =Target!P63 -> 6800
A18: Premia 15% wynagrodzenia zasadniczego | B18: =B17*15% -> 1020 | C18: =C17*15% -> 1020 | D18: =D17*15% -> 1020 | F18: =F17*15% -> 1020 | G18: =G17*15% -> 1020 | H18: =H17*15% -> 1020 | J18: =J17*15% -> 1020 | K18: =K17*15% -> 1020 | L18: =L17*15% -> 1020 | N18: =N17*15% -> 1020 | O18: =O17*15% -> 1020 | P18: =P17*15% -> 1020
A19: Wysokość Kwoty bazowej na dany okres | B19: =Target!O35 -> 7000 | C19: =Target!O35 -> 7000 | D19: =Target!O35 -> 7000 | F19: =Target!O40 -> 10266.667 | G19: =Target!O40 -> 10266.667 | H19: =Target!O40 -> 10266.667 | J19: =Target!O50 -> 7000 | K19: =Target!O50 -> 7000 | L19: =Target!O50 -> 7000 | N19: =Target!O59 -> 7000 | O19: =Target!O59 -> 7000 | P19: =Target!O59 -> 7000
A20: Udział % IPSM w PSM | B20: =Target!J35 -> 0.3047619 | C20: =Target!J35 -> 0.3047619 | D20: =Target!J35 -> 0.3047619 | F20: =Target!J44 -> 0.30439887 | G20: =Target!J44 -> 0.30439887 | H20: =Target!J44 -> 0.30439887 | J20: =Target!J54 -> 0.30515741 | K20: =Target!J54 -> 0.30515741 | L20: =Target!J54 -> 0.30515741 | N20: =Target!J63 -> 0.305 | O20: =Target!J63 -> 0.305 | P20: =Target!J63 -> 0.305
A21: Wysokość Indywidualnej Kwoty bazowej | B21: =Target!N35 -> 8534.4 | C21: =Target!N35 -> 8534.4 | D21: =Target!N35 -> 8534.4 | F21: =Target!N44 -> 9375.52 | G21: =Target!N44 -> 9375.52 | H21: =Target!N44 -> 9375.52 | J21: =Target!N54 -> 8545.6 | K21: =Target!N54 -> 8545.6 | L21: =Target!N54 -> 8545.6 | N21: =Target!N63 -> 8540 | O21: =Target!N63 -> 8540 | P21: =Target!N63 -> 8540
A22: Sumaryczny Indywidualny Plan Sprzedaży Marża | B22: =B5 -> 76800 | C22: =C5 -> 162133.33 | D22: =D5 -> 256000 | F22: =F5 -> 84480 | G22: =G5 -> 178346.67 | H22: =H5 -> 281600 | J22: =J5 -> 84864 | K22: =K5 -> 179157.33 | L22: =L5 -> 282880 | N22: =N5 -> 84729.549 | O22: =O5 -> 178873.49 | P22: =P5 -> 282431.83
A23: Miesięczna realizacja Planu Sprzedaży Marża | B23: =B7 -> 95808.016 | C23: =C7 -> 172244.12 | D23: =D7 -> 202681.12 | F23: =F7 -> 0 | G23: =G7 -> 0 | H23: =H7 -> 0 | J23: =J7 -> 0 | K23: =K7 -> 0 | L23: =L7 -> 0 | N23: =N7 -> 0 | O23: =O7 -> 0 | P23: =P7 -> 0
A24: Wysokość % zrealizowania IPSM sumarycznego | B24: =B23/B22 -> 1.2475002 | C24: =C23/C22 -> 1.0623609 | D24: =D23/D22 -> 0.79172313 | F24: =F23/F22 -> 0 | G24: =G23/G22 -> 0 | H24: =H23/H22 -> 0 | J24: =J23/J22 -> 0 | K24: =K23/K22 -> 0 | L24: =L23/L22 -> 0 | N24: =N23/N22 -> 0 | O24: =O23/O22 -> 0 | P24: =P23/P22 -> 0
A25: Wysokość premii Wskaźnik Sprzedaży Marża | B25: =B21*0.35 -> 2987.04 | C25: =C21*0.35 -> 2987.04 | D25: =D21*0.35 -> 2987.04 | F25: =F21*0.35 -> 3281.432 | G25: =G21*0.35 -> 3281.432 | H25: =H21*0.35 -> 3281.432 | J25: =J21*0.35 -> 2990.96 | K25: =K21*0.35 -> 2990.96 | L25: =L21*0.35 -> 2990.96 | N25: =N21*0.35 -> 2989 | O25: =O21*0.35 -> 2989 | P25: =P21*0.35 -> 2989
A26: Mnożnik premii miesięcznej Wskaźnika Sprzedaży Marża | B26: =IF(B24<80%,0,IF(B24<90%,0.5,IF(B24<95%,0.75,1))) -> 1 | C26: =IF(C24<80%,0,IF(C24<90%,0.5,IF(C24<95%,0.75,1))) -> 1 | D26: =IF(D24<80%,0,IF(D24<90%,0.5,IF(D24<95%,0.75,1))) -> 0 | F26: =IF(F24<80%,0,IF(F24<90%,0.5,IF(F24<95%,0.75,1))) -> 0 | G26: =IF(G24<80%,0,IF(G24<90%,0.5,IF(G24<95%,0.75,1))) -> 0 | H26: =IF(H24<80%,0,IF(H24<90%,0.5,IF(H24<95%,0.75,1))) -> 0 | J26: =IF(J24<80%,0,IF(J24<90%,0.5,IF(J24<95%,0.75,1))) -> 0 | K26: =IF(K24<80%,0,IF(K24<90%,0.5,IF(K24<95%,0.75,1))) -> 0 | L26: =IF(L24<80%,0,IF(L24<90%,0.5,IF(L24<95%,0.75,1))) -> 0 | N26: =IF(N24<80%,0,IF(N24<90%,0.5,IF(N24<95%,0.75,1))) -> 0 | O26: =IF(O24<80%,0,IF(O24<90%,0.5,IF(O24<95%,0.75,1))) -> 0 | P26: =IF(P24<80%,0,IF(P24<90%,0.5,IF(P24<95%,0.75,1))) -> 0
A27: Premia miesięczna za Wskaźnik Sprzedaży Marża | B27: =B26*B25 -> 2987.04 | C27: =C26*C25 -> 2987.04 | D27: =D26*D25 -> 0 | F27: =F26*F25 -> 0 | G27: =G26*G25 -> 0 | H27: =H26*H25 -> 0 | J27: =J26*J25 -> 0 | K27: =K26*K25 -> 0 | L27: =L26*L25 -> 0 | N27: =N26*N25 -> 0 | O27: =O26*O25 -> 0 | P27: =P26*P25 -> 0
A28: Wysokość premii CRM | B28: =B19*0.05 -> 350 | C28: =C19*0.05 -> 350 | D28: =D19*0.05 -> 350 | F28: =F19*0.05 -> 513.33333 | G28: =G19*0.05 -> 513.33333 | H28: =H19*0.05 -> 513.33333 | J28: =J19*0.05 -> 350 | K28: =K19*0.05 -> 350 | L28: =L19*0.05 -> 350 | N28: =N19*0.05 -> 350 | O28: =O19*0.05 -> 350 | P28: =P19*0.05 -> 350
A29: Mnożnik premii Wskaźnik CRM | B29: 1 | C29: 1 | D29: 1
A30: Premia miesięczna za Wskaźnik CRM | B30: =B29*B28 -> 350 | C30: =C29*C28 -> 350 | D30: =D29*D28 -> 350 | F30: =F29*F28 -> 0 | G30: =G29*G28 -> 0 | H30: =H29*H28 -> 0 | J30: =J29*J28 -> 0 | K30: =K29*K28 -> 0 | L30: =L29*L28 -> 0 | N30: =N29*N28 -> 0 | O30: =O29*O28 -> 0 | P30: =P29*P28 -> 0
A31: Suma premii za IPSM i CRM | B31: =B27+B30 -> 3337.04 | C31: =C27+C30 -> 3337.04 | D31: =D27+D30 -> 350 | F31: =F27+F30 -> 0 | G31: =G27+G30 -> 0 | H31: =H27+H30 -> 0 | J31: =J27+J30 -> 0 | K31: =K27+K30 -> 0 | L31: =L27+L30 -> 0 | N31: =N27+N30 -> 0 | O31: =O27+O30 -> 0 | P31: =P27+P30 -> 0
A32: Wysokość premi dodatkowej | B32: 2266 | C32: 2266 | D32: 2266 | F32: 2266 | G32: 2266 | H32: 2266 | J32: 2266 | K32: 2266 | L32: 2266 | N32: 2266 | O32: 2266 | P32: 2266
A33: Mnożnik premii dodatkowej | B33: 1 | C33: 1 | D33: 1
A34: Premia dodatkowa | B34: =B33*B32 -> 2266 | C34: =C33*C32 -> 2266 | D34: =D33*D32 -> 2266 | F34: =F33*F32 -> 0 | G34: =G33*G32 -> 0 | H34: =H33*H32 -> 0 | J34: =J33*J32 -> 0 | K34: =K33*K32 -> 0 | L34: =L33*L32 -> 0 | N34: =N33*N32 -> 0 | O34: =O33*O32 -> 0 | P34: =P33*P32 -> 0
A35: Suma wszystkich premii | B35: =B18+B27+B30+B34 -> 6623.04 | C35: =C18+C27+C30+C34 -> 6623.04 | D35: =D18+D27+D30+D34 -> 3636 | F35: =F18+F27+F30+F34 -> 1020 | G35: =G18+G27+G30+G34 -> 1020 | H35: =H18+H27+H30+H34 -> 1020 | J35: =J18+J27+J30+J34 -> 1020 | K35: =K18+K27+K30+K34 -> 1020 | L35: =L18+L27+L30+L34 -> 1020 | N35: =N18+N27+N30+N34 -> 1020 | O35: =O18+O27+O30+O34 -> 1020 | P35: =P18+P27+P30+P34 -> 1020
A36: Wskaźnik Premia Kwartalna Marża | B36: =D5 -> 256000 | F36: =H5 -> 281600 | J36: =L5 -> 282880 | N36: =P5 -> 282431.83
A37: Realizacja Wskaźnika Premia Kwartalna | B37: =D7 -> 202681.12 | F37: =H7 -> 0 | J37: =L7 -> 0 | N37: =P7 -> 0
A38: Poziom realizacji Wskaźnika Premia Kwartalna | B38: =B37/B36 -> 0.79172313 | F38: =F37/F36 -> 0 | J38: =J37/J36 -> 0 | N38: =N37/N36 -> 0
A39: Wysokość premii kwartalnej. | B39: =D19 -> 7000 | F39: =H19 -> 10266.667 | J39: =L19 -> 7000 | N39: =P19 -> 7000
A40: Mnożnik premii kwartalnej | B40: =IF(B38<100%,0,IF(B38<105%,0.5,IF(B38<110%,0.7,1))) -> 0 | F40: =IF(F38<100%,0,IF(F38<105%,0.5,IF(F38<110%,0.7,1))) -> 0 | J40: =IF(J38<100%,0,IF(J38<105%,0.5,IF(J38<110%,0.7,1))) -> 0 | N40: =IF(N38<100%,0,IF(N38<105%,0.5,IF(N38<110%,0.7,1))) -> 0
A41: Premia kwartalna | B41: =B40*B39 -> 0 | F41: =F40*F39 -> 0 | J41: =J40*J39 -> 0 | N41: =N40*N39 -> 0
A43: Raport za miesiąc: | B43: styczeń | C43: luty | D43: marzec | E43: Suma | F43: kwiecień | G43: maj | H43: czerwiec | I43: Suma | J43: lipiec | K43: sierpień | L43: wrzesień | M43: Suma | N43: paździer. | O43: listopad | P43: grudzień | Q43: Suma | R43: Suma
A44: Ilość nowych Klientów: | E44: =SUM(B44:D44) -> 0 | I44: =SUM(F44:H44) -> 0 | M44: =SUM(J44:L44) -> 0 | Q44: =SUM(N44:P44) -> 0 | R44: =I44+M44+Q44+E44 -> 0
A45: Ilość Podmiotów na etapie współpracy Klient:
A46: Ilość Podmiotów na etapie współpracy Handlowy:
A47: Ilość Podmiotów na etapie współpracy Klient nieaktywny:
A48: Ilość Podmiotów pod opieką:
A49: Ilość sprzedanych drukarek: | E49: =SUM(B49:D49) -> 0 | I49: =SUM(F49:H49) -> 0 | M49: =SUM(J49:L49) -> 0 | Q49: =SUM(N49:P49) -> 0 | R49: =I49+M49+Q49+E49 -> 0
A50: Ilość ofert dodanych w danym miesiącu: | E50: =SUM(B50:D50) -> 0 | I50: =SUM(F50:H50) -> 0 | M50: =SUM(J50:L50) -> 0 | Q50: =SUM(N50:P50) -> 0 | R50: =I50+M50+Q50+E50 -> 0
A51: Ilość ofert oczekujących na decyzję kontrahenta:
A52: Ilość zaakceptowanych ofert przez kontrahenta: | E52: =SUM(B52:D52) -> 0 | I52: =SUM(F52:H52) -> 0 | M52: =SUM(J52:L52) -> 0 | Q52: =SUM(N52:P52) -> 0 | R52: =I52+M52+Q52+E52 -> 0
A53: Ilość odrzuconych ofert przez kontrahenta: | E53: =SUM(B53:D53) -> 0 | I53: =SUM(F53:H53) -> 0 | M53: =SUM(J53:L53) -> 0 | Q53: =SUM(N53:P53) -> 0 | R53: =I53+M53+Q53+E53 -> 0
A54: Ilość przekazanych podmiotów: | E54: =SUM(B54:D54) -> 0 | I54: =SUM(F54:H54) -> 0 | M54: =SUM(J54:L54) -> 0 | Q54: =SUM(N54:P54) -> 0 | R54: =I54+M54+Q54+E54 -> 0
A55: Ilość odebranych podmiotów (zmiana prowadzącego): | E55: =SUM(B55:D55) -> 0 | I55: =SUM(F55:H55) -> 0 | M55: =SUM(J55:L55) -> 0 | Q55: =SUM(N55:P55) -> 0 | R55: =I55+M55+Q55+E55 -> 0
A56: Ilość spotkań z Klientami: | E56: =SUM(B56:D56) -> 0 | I56: =SUM(F56:H56) -> 0 | M56: =SUM(J56:L56) -> 0 | Q56: =SUM(N56:P56) -> 0 | R56: =I56+M56+Q56+E56 -> 0
A57: Ilość aktualnie otwartych wdrożeń:
A58: Ilość wdrożeń dodanych w danym miesiącu: | E58: =SUM(B58:D58) -> 0 | I58: =SUM(F58:H58) -> 0 | M58: =SUM(J58:L58) -> 0 | Q58: =SUM(N58:P58) -> 0 | R58: =I58+M58+Q58+E58 -> 0
A59: Ilość wdrożeń zamkniętych pozytywnie w danym mcu: | E59: =SUM(B59:D59) -> 0 | I59: =SUM(F59:H59) -> 0 | M59: =SUM(J59:L59) -> 0 | Q59: =SUM(N59:P59) -> 0 | R59: =I59+M59+Q59+E59 -> 0
A60: Ilość wdrożeń zamkniętych negatywnie w danym mcu: | E60: =SUM(B60:D60) -> 0 | I60: =SUM(F60:H60) -> 0 | M60: =SUM(J60:L60) -> 0 | Q60: =SUM(N60:P60) -> 0 | R60: =I60+M60+Q60+E60 -> 0
A61: Ilość aktualnie odłożonych wdrożeń:

Sheet DH
A1: brak opiekuna | B1: PLANY SPRZEDAŻY
A2: miesiąc | B2: styczeń | C2: luty | D2: marzec | E2: I KW | F2: kwiecień | G2: maj | H2: czerwiec | I2: II KW | J2: lipiec | K2: sierpień | L2: wrzesień | M2: III KW | N2: październik | O2: listopad | P2: grudzień | Q2: IV KW | R2: suma
A3: Marża rok poprzedni | B3: 270726.89 | C3: 318940.52 | D3: 268372.09 | E3: =SUM(B3:D3) -> 858039.5 | F3: 311537.67 | G3: 285230.5 | H3: 259436.25 | I3: =SUM(F3:H3) -> 856204.42 | J3: 302432.75 | K3: 206704.64 | L3: 290575.63 | M3: =SUM(J3:L3) -> 799713.02 | N3: 328730.03 | O3: 226178.07 | P3: 219386.86 | Q3: =SUM(N3:P3) -> 774294.96 | R3: =SUM(Q3,M3,I3,E3) -> 3288251.9 | T3: =R8*1.1 -> 747709.03
S4: MINIMUM | T4: PLAN | U4: CEL
A5: Wzrost Marży | B5: =B9/B4-1 -> #DIV/0! | C5: =C9/C4-1 -> #DIV/0! | D5: =D9/D4-1 -> #DIV/0! | E5: =E8/E3-1 -> -0.20780397 | F5: =F9/F4-1 -> #DIV/0! | G5: =G9/G4-1 -> #DIV/0! | H5: =H9/H4-1 -> #DIV/0! | I5: =I8/I3-1 -> -1 | J5: =J9/J4-1 -> #DIV/0! | K5: =K9/K4-1 -> #DIV/0! | L5: =L9/L4-1 -> #DIV/0! | M5: =M8/M3-1 -> -1 | N5: =N9/N4-1 -> #DIV/0! | O5: =O9/O4-1 -> #DIV/0! | P5: =P9/P4-1 -> #DIV/0! | Q5: =Q8/Q3-1 -> -1 | R5: =R8/R3-1 -> -0.79328363 | S5: =S6/R3 -> 1.045297 | T5: =T6/R3 -> 1.1003126 | U5: =U6/R3 -> 1.1553282
A6: Plan Sprzedaży Marża | B6: =Target!B22 -> 252000 | C6: =Target!C22 -> 280000 | D6: =Target!D22 -> 308000 | E6: =SUM(B6:D6) -> 840000 | F6: =Target!E22 -> 277530.6 | G6: =Target!F22 -> 308367.33 | H6: =Target!G22 -> 339204.07 | I6: =SUM(F6:H6) -> 925102 | J6: =Target!H22 -> 278099.1 | K6: =Target!I22 -> 308999 | L6: =Target!J22 -> 339898.9 | M6: =SUM(J6:L6) -> 926997 | N6: =Target!K22 -> 277801.8 | O6: =Target!L22 -> 308668.67 | P6: =Target!M22 -> 339535.53 | Q6: =SUM(N6:P6) -> 926006 | R6: =B6+C6+D6+F6+G6+H6+J6+K6+L6+N6+O6+P6 -> 3618105 | S6: =DH!R6*0.95 -> 3437199.8 | T6: =R6 -> 3618105 | U6: =Target!H26 -> 3799010.2
A7: Sumaryczny Plan Sprzedaży Marża | B7: =B6 -> 252000 | C7: =C6+B7 -> 532000 | D7: =D6+C7 -> 840000 | F7: =F6+D7 -> 1117530.6 | G7: =G6+F7 -> 1425897.9 | H7: =H6+G7 -> 1765102 | J7: =J6+H7 -> 2043201.1 | K7: =K6+J7 -> 2352200.1 | L7: =L6+K7 -> 2692099 | N7: =N6+L7 -> 2969900.8 | O7: =O6+N7 -> 3278569.5 | P7: =P6+O7 -> 3618105 | V7: =T6/T19 -> 0.37379065
A8: Miesięczna realizacja Planu Sprzedaży Marża | B8: =TOMEK!B6+RCKIK!B6+'1'!N6+BARTEK!B6+PIOTR!B6+KRZYSZTOF!B6+'0'!N6 -> 314148.59 | C8: =TOMEK!C6+RCKIK!C6+'1'!O6+BARTEK!C6+PIOTR!C6+KRZYSZTOF!C6+'0'!O6 -> 258323.56 | D8: =TOMEK!D6+RCKIK!D6+'1'!P6+BARTEK!D6+PIOTR!D6+KRZYSZTOF!D6+'0'!P6 -> 107263.33 | E8: =SUM(B8:D8) -> 679735.48 | F8: =TOMEK!F6+RCKIK!F6+'1'!J6+BARTEK!F6+PIOTR!F6+KRZYSZTOF!F6++'0'!J6 -> 0 | G8: =TOMEK!G6+RCKIK!G6+'1'!K6+BARTEK!G6+PIOTR!G6+KRZYSZTOF!G6+'0'!K6 -> 0 | H8: =TOMEK!H6+RCKIK!H6+'1'!L6+BARTEK!H6+PIOTR!H6+KRZYSZTOF!H6+'0'!L6 -> 0 | I8: =SUM(F8:H8) -> 0 | J8: =TOMEK!J6+RCKIK!J6+'0'!F6+BARTEK!J6+PIOTR!J6+KRZYSZTOF!J6+'1'!F6 -> 0 | K8: =TOMEK!K6+RCKIK!K6+'0'!G6+BARTEK!K6+PIOTR!K6+KRZYSZTOF!K6+'1'!G6+SUMIF(VIII!A:A,$A$1,VIII!I:I) -> 0 | L8: =TOMEK!L6+RCKIK!L6+'0'!H6+BARTEK!L6+PIOTR!L6+KRZYSZTOF!L6+'1'!H6 -> 0 | M8: =SUM(J8:L8) -> 0 | N8: =TOMEK!N6+RCKIK!N6+'0'!B6+BARTEK!N6+PIOTR!N6+KRZYSZTOF!N6+'1'!B6 -> 0 | O8: =TOMEK!O6+RCKIK!O6+'0'!C6+BARTEK!O6+PIOTR!O6+KRZYSZTOF!O6+'1'!C6 -> 0 | P8: =TOMEK!P6+RCKIK!P6+'0'!D6+BARTEK!P6+PIOTR!P6+KRZYSZTOF!P6+'1'!D6 -> 0 | Q8: =SUM(N8:P8) -> 0 | R8: =B8+C8+D8+F8+G8+H8+J8+K8+L8+N8+O8+P8 -> 679735.48 | T8: 2 | U8: 3 | W8: 4 | X8: 5 | Y8: 6 | AA8: 7 | AB8: 8 | AC8: 9 | AE8: 10 | AF8: 11 | AG8: 12
A9: Sumaryczna realizacja planu sprzedaży Marża | B9: =B8 -> 314148.59 | C9: =C8+B9 -> 572472.15 | D9: =D8+C9 -> 679735.48 | F9: =F8+D9 -> 679735.48 | G9: =G8+F9 -> 679735.48 | H9: =H8+G9 -> 679735.48 | J9: =J8+H9 -> 679735.48 | K9: =K8+J9 -> 679735.48 | L9: =L8+K9 -> 679735.48 | N9: =N8+L9 -> 679735.48 | O9: =O8+N9 -> 679735.48 | P9: =P8+O9 -> 679735.48
A10: Wysokość zrealizowania Miesięcznego Planu Sprzedaży Marża | B10: =B8/B6 -> 1.2466214 | C10: =C8/C6 -> 0.92258414 | D10: =D8/D6 -> 0.34825757 | E10: =D7*0.95 -> 798000 | F10: =F8/F6 -> 0 | G10: =G8/G6 -> 0 | H10: =H8/H6 -> 0 | J10: =J8/J6 -> 0 | K10: =K8/K6 -> 0 | L10: =L8/L6 -> 0 | M10: =L4-L9 -> -679735.48 | N10: =N8/N6 -> 0 | O10: =O8/O6 -> 0 | P10: =P8/P6 -> 0 | Q10: =P4-P9 -> -679735.48 | X10: 2019 | Y10: =R3/12 -> 274020.99
A11: Różnica wskaźnika Marża | B11: =B9-B7 -> 62148.589 | C11: =C9-C7 -> 40472.149 | D11: =D9-D7 -> -160264.52 | E11: =E10-D9 -> 118264.52 | F11: =F9-F7 -> -437795.12 | G11: =G9-G7 -> -746162.45 | H11: =H9-H7 -> -1085366.5 | I11: =H7*0.9-H9 -> 908856.32 | J11: =J9-J7 -> -1363465.6 | K11: =K9-K7 -> -1672464.6 | L11: =L9-L7 -> -2012363.5 | M11: =J7*0.9-J9 -> 1159145.5 | N11: =N9-N7 -> -2290165.3 | O11: =O9-O7 -> -2598834 | P11: =P9-P7 -> -2938369.5 | X11: 2020 | Y11: =D9/3 -> 226578.49 | Z11: =1-Y10/Y11 -> -0.20938659
A12: Wysokość zrealizowania Planu Sprzedaży Marża | B12: =B9/B7 -> 1.2466214 | C12: =C9/C7 -> 1.0760755 | D12: =D9/D7 -> 0.80920891 | F12: =F9/F7 -> 0.60824776 | G12: =G9/G7 -> 0.47670697 | H12: =H9/H7 -> 0.385097 | J12: =J9/J7 -> 0.33268163 | K12: =K9/K7 -> 0.2889786 | L12: =L9/L7 -> 0.25249275 | N12: =N9/N7 -> 0.22887481 | O12: =O9/O7 -> 0.20732685 | P12: =P9/P7 -> 0.18787058 | X12: IV | Y12: =F8 -> 0 | Z12: =1-Y11/Y12 -> #DIV/0!
A13: Kwartalny Plan Sprzedaży Marża | B13: =Target!C8 -> 252000 | C13: =Target!D8 -> 280000 | D13: =Target!E8 -> 308000 | E13: =SUM(B13:D13) -> 840000 | F13: =Target!F8 -> 277530.6 | G13: =Target!G8 -> 308367.33 | H13: =Target!H8 -> 339204.07 | I13: =SUM(F13:H13) -> 925102 | J13: =Target!I8 -> 278099.1 | K13: =Target!J8 -> 308999 | L13: =Target!K8 -> 339898.9 | M13: =SUM(J13:L13) -> 926997 | N13: =Target!L8 -> 277801.8 | O13: =Target!M8 -> 308668.67 | P13: =Target!N8 -> 339535.53 | Q13: =SUM(N13:P13) -> 926006 | Z13: =1-Y10/Y12 -> #DIV/0!
A14: Sumaryczna Kwartalna Realizacja Planu Sprzedaży Marża | B14: =B8/B13 -> 1.2466214 | C14: =(B8+C8)/C13 -> 2.0445434 | D14: =(D8+C8+B8)/D13 -> 2.2069334 | F14: =F8/F13 -> 0 | G14: =(F8+G8)/G13 -> 0 | H14: =(H8+G8+F8)/H13 -> 0 | J14: =J8/J13 -> 0 | K14: =(J8+K8)/K13 -> 0 | L14: =(L8+K8+J8)/L13 -> 0 | N14: =N8/N13 -> 0 | O14: =(N8+O8)/O13 -> 0 | P14: =(P8+O8+N8)/P13 -> 0
A16: Obrót rok poprzedni | B16: 735313.24 | C16: 864042.09 | D16: 682276.62 | E16: =SUM(B16:D16) -> 2281632 | F16: 902392.31 | G16: 770807.84 | H16: 668332.33 | I16: =SUM(F16:H16) -> 2341532.5 | J16: 815918.61 | K16: 552755.37 | L16: 781695.28 | M16: =SUM(J16:L16) -> 2150369.3 | N16: 823654.56 | O16: 574341.15 | P16: 569291.05 | Q16: =SUM(N16:P16) -> 1967286.8 | R16: =SUM(Q16,M16,I16,E16) -> 8740820.4
S17: MINIMUM | T17: PLAN | U17: CEL
A18: Wzrost Obrotu | B18: =B22/B17-1 -> #DIV/0! | C18: =C22/C17-1 -> #DIV/0! | D18: =D22/D17-1 -> #DIV/0! | F18: =F22/F17-1 -> #DIV/0! | G18: =G22/G17-1 -> #DIV/0! | H18: =H22/H17-1 -> #DIV/0! | J18: =J22/J17-1 -> #DIV/0! | K18: =K22/K17-1 -> #DIV/0! | L18: =L22/L17-1 -> #DIV/0! | N18: =N22/N17-1 -> #DIV/0! | O18: =O22/O17-1 -> #DIV/0! | P18: =P22/P17-1 -> #DIV/0! | Q18: =Q21/Q16 -> 0 | R18: =R21/R16 -> 0.20664212 | S18: =S19/R16 -> 1.0520204 | T18: =T19/R16 -> 1.1073899 | U18: =U19/R16 -> 1.1627593
A19: Plan Sprzedaży Obrót | B19: =Target!B23 -> 681081.08 | C19: =Target!C23 -> 756756.76 | D19: =Target!D23 -> 832432.43 | F19: =Target!E23 -> 730343.68 | G19: =Target!F23 -> 811492.98 | H19: =Target!G23 -> 892642.28 | J19: =Target!H23 -> 751619.19 | K19: =Target!I23 -> 835132.43 | L19: =Target!J23 -> 918645.68 | N19: =Target!K23 -> 740804.8 | O19: =Target!L23 -> 823116.44 | P19: =Target!M23 -> 905428.09 | R19: =B19+C19+D19+F19+G19+H19+J19+K19+L19+N19+O19+P19 -> 9679495.8 | S19: =DH!R19*0.95 -> 9195521.1 | T19: =Target!F27 -> 9679495.8 | U19: =Target!H27 -> 10163471
A20: Sumaryczny Plan Sprzedaży Obrót | B20: =B19 -> 681081.08 | C20: =C19+B20 -> 1437837.8 | D20: =D19+C20 -> 2270270.3 | F20: =F19+D20 -> 3000614 | G20: =G19+F20 -> 3812106.9 | H20: =H19+G20 -> 4704749.2 | J20: =J19+H20 -> 5456368.4 | K20: =K19+J20 -> 6291500.8 | L20: =L19+K20 -> 7210146.5 | N20: =N19+L20 -> 7950951.3 | O20: =O19+N20 -> 8774067.8 | P20: =P19+O20 -> 9679495.8
A21: Miesięczna realizacja Planu Sprzedaży Obrót | B21: =TOMEK!B11+RCKIK!B11+'1'!N13+BARTEK!B11+PIOTR!B11+KRZYSZTOF!B11+'0'!N13 -> 805792.78 | C21: =TOMEK!C11+RCKIK!C11+'1'!O13+BARTEK!C11+PIOTR!C11+KRZYSZTOF!C11+'0'!O13 -> 714991.99 | D21: =TOMEK!D11+RCKIK!D11+'1'!P13+BARTEK!D11+PIOTR!D11+KRZYSZTOF!D11+'0'!P13 -> 285436.9 | E21: =SUM(B21:D21) -> 1806221.7 | F21: =TOMEK!F11+RCKIK!F11+'1'!J13+BARTEK!F11+PIOTR!F11+KRZYSZTOF!F11+'0'!J13 -> 0 | G21: =TOMEK!G11+RCKIK!G11+'1'!K13+BARTEK!G11+PIOTR!G11+KRZYSZTOF!G11+'0'!K13 -> 0 | H21: =TOMEK!H11+RCKIK!H11+'1'!L13+BARTEK!H11+PIOTR!H11+KRZYSZTOF!H11+'0'!L13 -> 0 | I21: =SUM(F21:H21) -> 0 | J21: =TOMEK!J11+RCKIK!J11+'0'!F13+BARTEK!J11+PIOTR!J11+KRZYSZTOF!J11+'1'!F13 -> 0 | K21: =TOMEK!K11+RCKIK!K11+'0'!G13+BARTEK!K11+PIOTR!K11+KRZYSZTOF!K11+'1'!G13+SUMIF(VIII!A:A,$A$1,VIII!G:G) -> 0 | L21: =TOMEK!L11+RCKIK!L11+'0'!H13+BARTEK!L11+PIOTR!L11+KRZYSZTOF!L11+'1'!H13 -> 0 | M21: =SUM(J21:L21) -> 0 | N21: =TOMEK!N11+RCKIK!N11+'0'!B13+BARTEK!N11+PIOTR!N11+KRZYSZTOF!N11+'1'!B13 -> 0 | O21: =TOMEK!O11+RCKIK!O11+'0'!C13+BARTEK!O11+PIOTR!O11+KRZYSZTOF!O11+'1'!C13 -> 0 | P21: =TOMEK!P11+RCKIK!P11+'0'!D13+BARTEK!P11+PIOTR!P11+KRZYSZTOF!P11+'1'!D13 -> 0 | Q21: =SUM(N21:P21) -> 0 | R21: =B21+C21+D21+F21+G21+H21+J21+K21+L21+N21+O21+P21 -> 1806221.7
A22: Sumaryczna realizacja planu sprzedaży Obrót | B22: =B21 -> 805792.78 | C22: =C21+B22 -> 1520784.8 | D22: =D21+C22 -> 1806221.7 | F22: =F21+D22 -> 1806221.7 | G22: =G21+F22 -> 1806221.7 | H22: =H21+G22 -> 1806221.7 | J22: =J21+H22 -> 1806221.7 | K22: =K21+J22 -> 1806221.7 | L22: =L21+K22 -> 1806221.7 | N22: =N21+L22 -> 1806221.7 | O22: =O21+N22 -> 1806221.7 | P22: =P21+O22 -> 1806221.7
A23: Wysokość zrealizowania Miesięcznego Planu Sprzedaży Obrót | B23: =B21/B19 -> 1.1831084 | C23: =C21/C19 -> 0.94481084 | D23: =D21/D19 -> 0.34289497 | F23: =F21/F19 -> 0 | G23: =G21/G19 -> 0 | H23: =H21/H19 -> 0 | I23: =G17-G22 -> -1806221.7 | J23: =J21/J19 -> 0 | K23: =K21/K19 -> 0 | L23: =L21/L19 -> 0 | N23: =N21/N19 -> 0 | O23: =O21/O19 -> 0 | P23: =P21/P19 -> 0 | Q23: =P17-P22 -> -1806221.7
A24: Wysokość zrealizowania Planu Sprzedaży Obrót | B24: =B22/B20 -> 1.1831084 | C24: =C22/C20 -> 1.0576887 | D24: =D22/D20 -> 0.79559764 | F24: =F22/F20 -> 0.6019507 | G24: =G22/G20 -> 0.47381191 | H24: =H22/H20 -> 0.38391455 | J24: =J22/J20 -> 0.33103001 | K24: =K22/K20 -> 0.28708916 | L24: =L22/L20 -> 0.25051109 | N24: =N22/N20 -> 0.22717051 | O24: =O22/O20 -> 0.2058591 | P24: =P22/P20 -> 0.18660287
A25: Różnica wskaźnika Obrót | B25: =B22-B20 -> 124711.7 | C25: =C22-C20 -> 82946.932 | D25: =D22-D20 -> -464048.6 | F25: =F22-F20 -> -1194392.3 | G25: =G22-G20 -> -2005885.3 | H25: =H22-H20 -> -2898527.6 | J25: =J22-J20 -> -3650146.7 | K25: =K22-K20 -> -4485279.2 | L25: =L22-L20 -> -5403924.8 | N25: =N22-N20 -> -6144729.6 | O25: =O22-O20 -> -6967846.1 | P25: =P22-P20 -> -7873274.2
A27: Wysokość % Marży miesięcznej | B27: =B8/B21 -> 0.38986275 | C27: =C8/C21 -> 0.36129574 | D27: =D8/D21 -> 0.3757865 | F27: =F8/F21 -> #DIV/0! | G27: =G8/G21 -> #DIV/0! | H27: =H8/H21 -> #DIV/0! | J27: =J8/J21 -> #DIV/0! | K27: =K8/K21 -> #DIV/0! | L27: =L8/L21 -> #DIV/0! | N27: =N8/N21 -> #DIV/0! | O27: =O8/O21 -> #DIV/0! | P27: =P8/P21 -> #DIV/0!
A28: Wysokość % Marży sumarycznej | B28: =B9/B22 -> 0.38986275 | C28: =C9/C22 -> 0.37643206 | D28: =D9/D22 -> 0.37633005 | F28: =F9/F22 -> 0.37633005 | G28: =G9/G22 -> 0.37633005 | H28: =H9/H22 -> 0.37633005 | J28: =J9/J22 -> 0.37633005 | K28: =K9/K22 -> 0.37633005 | L28: =L9/L22 -> 0.37633005 | N28: =N9/N22 -> 0.37633005 | O28: =O9/O22 -> 0.37633005
A40: Raport za miesiąc: | B40: styczeń | C40: luty | D40: marzec | E40: Suma | F40: kwiecień | G40: maj | H40: czerwiec | I40: Suma | J40: lipiec | K40: sierpień | L40: wrzesień | M40: Suma | N40: paździer. | O40: listopad | P40: grudzień | Q40: Suma | R40: Suma
A41: Ilość nowych Klientów: | B41: =TOMEK!B44+BARTEK!B39+PIOTR!B44+KRZYSZTOF!B44 -> 0 | C41: =TOMEK!C44+BARTEK!C39+PIOTR!C44+KRZYSZTOF!C44 -> 0 | D41: =TOMEK!D44+BARTEK!D39+PIOTR!D44+KRZYSZTOF!D44 -> 0 | E41: =SUM(B41:D41) -> 0 | F41: =TOMEK!F44+BARTEK!F39+PIOTR!F44+KRZYSZTOF!F44 -> 0 | G41: =TOMEK!G44+BARTEK!G39+PIOTR!G44+KRZYSZTOF!G44 -> 0 | H41: =TOMEK!H44+BARTEK!H39+PIOTR!H44+KRZYSZTOF!H44 -> 0 | I41: =SUM(F41:H41) -> 0 | J41: =TOMEK!J44+BARTEK!J39+PIOTR!J44+KRZYSZTOF!J44 -> 0 | K41: =TOMEK!K44+BARTEK!K39+PIOTR!K44+KRZYSZTOF!K44 -> 0 | L41: =TOMEK!L44+BARTEK!L39+PIOTR!L44+KRZYSZTOF!L44 -> 0 | M41: =SUM(J41:L41) -> 0 | N41: =TOMEK!N44+BARTEK!N39+PIOTR!N44+KRZYSZTOF!N44 -> 0 | O41: =TOMEK!O44+BARTEK!O39+PIOTR!O44+KRZYSZTOF!O44 -> 0 | P41: =TOMEK!P44+BARTEK!P39+PIOTR!P44+KRZYSZTOF!P44 -> 0 | Q41: =SUM(N41:P41) -> 0 | R41: =I41+M41+Q41+E41 -> 0
A42: Ilość Podmiotów na etapie współpracy Klient: | B42: =TOMEK!B45+BARTEK!B40+PIOTR!B45+KRZYSZTOF!B45 -> 0 | C42: =TOMEK!C45+BARTEK!C40+PIOTR!C45+KRZYSZTOF!C45 -> 0 | D42: =TOMEK!D45+BARTEK!D40+PIOTR!D45+KRZYSZTOF!D45 -> 0 | F42: =TOMEK!F45+BARTEK!F40+PIOTR!F45+KRZYSZTOF!F45 -> 0 | G42: =TOMEK!G45+BARTEK!G40+PIOTR!G45+KRZYSZTOF!G45 -> 0 | H42: =TOMEK!H45+BARTEK!H40+PIOTR!H45+KRZYSZTOF!H45 -> 0 | J42: =TOMEK!J45+BARTEK!J40+PIOTR!J45+KRZYSZTOF!J45 -> 0 | K42: =TOMEK!K45+BARTEK!K40+PIOTR!K45+KRZYSZTOF!K45 -> 0 | L42: =TOMEK!L45+BARTEK!L40+PIOTR!L45+KRZYSZTOF!L45 -> 0 | N42: =TOMEK!N45+BARTEK!N40+PIOTR!N45+KRZYSZTOF!N45 -> 0 | O42: =TOMEK!O45+BARTEK!O40+PIOTR!O45+KRZYSZTOF!O45 -> 0 | P42: =TOMEK!P45+BARTEK!P40+PIOTR!P45+KRZYSZTOF!P45 -> 0
A43: Ilość Podmiotów na etapie współpracy Handlowy: | B43: =TOMEK!B46+BARTEK!B41+PIOTR!B46+KRZYSZTOF!B46 -> 0 | C43: =TOMEK!C46+BARTEK!C41+PIOTR!C46+KRZYSZTOF!C46 -> 0 | D43: =TOMEK!D46+BARTEK!D41+PIOTR!D46+KRZYSZTOF!D46 -> 0 | F43: =TOMEK!F46+BARTEK!F41+PIOTR!F46+KRZYSZTOF!F46 -> 0 | G43: =TOMEK!G46+BARTEK!G41+PIOTR!G46+KRZYSZTOF!G46 -> 0 | H43: =TOMEK!H46+BARTEK!H41+PIOTR!H46+KRZYSZTOF!H46 -> 0 | J43: =TOMEK!J46+BARTEK!J41+PIOTR!J46+KRZYSZTOF!J46 -> 0 | K43: =TOMEK!K46+BARTEK!K41+PIOTR!K46+KRZYSZTOF!K46 -> 0 | L43: =TOMEK!L46+BARTEK!L41+PIOTR!L46+KRZYSZTOF!L46 -> 0 | N43: =TOMEK!N46+BARTEK!N41+PIOTR!N46+KRZYSZTOF!N46 -> 0 | O43: =TOMEK!O46+BARTEK!O41+PIOTR!O46+KRZYSZTOF!O46 -> 0 | P43: =TOMEK!P46+BARTEK!P41+PIOTR!P46+KRZYSZTOF!P46 -> 0
A44: Ilość Podmiotów na etapie współpracy Klient nieaktywny: | B44: =TOMEK!B47+BARTEK!B42+PIOTR!B47+KRZYSZTOF!B47 -> 0 | C44: =TOMEK!C47+BARTEK!C42+PIOTR!C47+KRZYSZTOF!C47 -> 0 | D44: =TOMEK!D47+BARTEK!D42+PIOTR!D47+KRZYSZTOF!D47 -> 0 | F44: =TOMEK!F47+BARTEK!F42+PIOTR!F47+KRZYSZTOF!F47 -> 0 | G44: =TOMEK!G47+BARTEK!G42+PIOTR!G47+KRZYSZTOF!G47 -> 0 | H44: =TOMEK!H47+BARTEK!H42+PIOTR!H47+KRZYSZTOF!H47 -> 0 | J44: =TOMEK!J47+BARTEK!J42+PIOTR!J47+KRZYSZTOF!J47 -> 0 | K44: =TOMEK!K47+BARTEK!K42+PIOTR!K47+KRZYSZTOF!K47 -> 0 | L44: =TOMEK!L47+BARTEK!L42+PIOTR!L47+KRZYSZTOF!L47 -> 0 | N44: =TOMEK!N47+BARTEK!N42+PIOTR!N47+KRZYSZTOF!N47 -> 0 | O44: =TOMEK!O47+BARTEK!O42+PIOTR!O47+KRZYSZTOF!O47 -> 0 | P44: =TOMEK!P47+BARTEK!P42+PIOTR!P47+KRZYSZTOF!P47 -> 0
A45: Ilość Podmiotów pod opieką: | B45: =TOMEK!B48+BARTEK!B43+PIOTR!B48+KRZYSZTOF!B48 -> 0 | C45: =TOMEK!C48+BARTEK!C43+PIOTR!C48+KRZYSZTOF!C48 -> 0 | D45: =TOMEK!D48+BARTEK!D43+PIOTR!D48+KRZYSZTOF!D48 -> 0 | F45: =TOMEK!F48+BARTEK!F43+PIOTR!F48+KRZYSZTOF!F48 -> 0 | G45: =TOMEK!G48+BARTEK!G43+PIOTR!G48+KRZYSZTOF!G48 -> 0 | H45: =TOMEK!H48+BARTEK!H43+PIOTR!H48+KRZYSZTOF!H48 -> 0 | J45: =TOMEK!J48+BARTEK!J43+PIOTR!J48+KRZYSZTOF!J48 -> 0 | K45: =TOMEK!K48+BARTEK!K43+PIOTR!K48+KRZYSZTOF!K48 -> 0 | L45: =TOMEK!L48+BARTEK!L43+PIOTR!L48+KRZYSZTOF!L48 -> 0 | N45: =TOMEK!N48+BARTEK!N43+PIOTR!N48+KRZYSZTOF!N48 -> 0 | O45: =TOMEK!O48+BARTEK!O43+PIOTR!O48+KRZYSZTOF!O48 -> 0 | P45: =TOMEK!P48+BARTEK!P43+PIOTR!P48+KRZYSZTOF!P48 -> 0
A46: Ilość sprzedanych drukarek: | B46: =TOMEK!B49+BARTEK!B44+PIOTR!B49+KRZYSZTOF!B49 -> 0 | C46: =TOMEK!C49+BARTEK!C44+PIOTR!C49+KRZYSZTOF!C49 -> 0 | D46: =TOMEK!D49+BARTEK!D44+PIOTR!D49+KRZYSZTOF!D49 -> 0 | E46: =SUM(B46:D46) -> 0 | F46: =TOMEK!F49+BARTEK!F44+PIOTR!F49+KRZYSZTOF!F49 -> 0 | G46: =TOMEK!G49+BARTEK!G44+PIOTR!G49+KRZYSZTOF!G49 -> 0 | H46: =TOMEK!H49+BARTEK!H44+PIOTR!H49+KRZYSZTOF!H49 -> 0 | I46: =SUM(F46:H46) -> 0 | J46: =TOMEK!J49+BARTEK!J44+PIOTR!J49+KRZYSZTOF!J49 -> 0 | K46: =TOMEK!K49+BARTEK!K44+PIOTR!K49+KRZYSZTOF!K49 -> 0 | L46: =TOMEK!L49+BARTEK!L44+PIOTR!L49+KRZYSZTOF!L49 -> 0 | M46: =SUM(J46:L46) -> 0 | N46: =TOMEK!N49+BARTEK!N44+PIOTR!N49+KRZYSZTOF!N49 -> 0 | O46: =TOMEK!O49+BARTEK!O44+PIOTR!O49+KRZYSZTOF!O49 -> 0 | P46: =TOMEK!P49+BARTEK!P44+PIOTR!P49+KRZYSZTOF!P49 -> 0 | Q46: =SUM(N46:P46) -> 0 | R46: =I46+M46+Q46+E46 -> 0
A47: Ilość ofert dodanych w danym miesiącu: | B47: =TOMEK!B50+BARTEK!B45+PIOTR!B50+KRZYSZTOF!B50 -> 0 | C47: =TOMEK!C50+BARTEK!C45+PIOTR!C50+KRZYSZTOF!C50 -> 0 | D47: =TOMEK!D50+BARTEK!D45+PIOTR!D50+KRZYSZTOF!D50 -> 0 | E47: =SUM(B47:D47) -> 0 | F47: =TOMEK!F50+BARTEK!F45+PIOTR!F50+KRZYSZTOF!F50 -> 0 | G47: =TOMEK!G50+BARTEK!G45+PIOTR!G50+KRZYSZTOF!G50 -> 0 | H47: =TOMEK!H50+BARTEK!H45+PIOTR!H50+KRZYSZTOF!H50 -> 0 | I47: =SUM(F47:H47) -> 0 | J47: =TOMEK!J50+BARTEK!J45+PIOTR!J50+KRZYSZTOF!J50 -> 0 | K47: =TOMEK!K50+BARTEK!K45+PIOTR!K50+KRZYSZTOF!K50 -> 0 | L47: =TOMEK!L50+BARTEK!L45+PIOTR!L50+KRZYSZTOF!L50 -> 0 | M47: =SUM(J47:L47) -> 0 | N47: =TOMEK!N50+BARTEK!N45+PIOTR!N50+KRZYSZTOF!N50 -> 0 | O47: =TOMEK!O50+BARTEK!O45+PIOTR!O50+KRZYSZTOF!O50 -> 0 | P47: =TOMEK!P50+BARTEK!P45+PIOTR!P50+KRZYSZTOF!P50 -> 0 | Q47: =SUM(N47:P47) -> 0 | R47: =I47+M47+Q47+E47 -> 0
A48: Ilość ofert oczekujących na decyzję kontrahenta: | B48: =TOMEK!B51+BARTEK!B46+PIOTR!B51+KRZYSZTOF!B51 -> 0 | C48: =TOMEK!C51+BARTEK!C46+PIOTR!C51+KRZYSZTOF!C51 -> 0 | D48: =TOMEK!D51+BARTEK!D46+PIOTR!D51+KRZYSZTOF!D51 -> 0 | F48: =TOMEK!F51+BARTEK!F46+PIOTR!F51+KRZYSZTOF!F51 -> 0 | G48: =TOMEK!G51+BARTEK!G46+PIOTR!G51+KRZYSZTOF!G51 -> 0 | H48: =TOMEK!H51+BARTEK!H46+PIOTR!H51+KRZYSZTOF!H51 -> 0 | J48: =TOMEK!J51+BARTEK!J46+PIOTR!J51+KRZYSZTOF!J51 -> 0 | K48: =TOMEK!K51+BARTEK!K46+PIOTR!K51+KRZYSZTOF!K51 -> 0 | L48: =TOMEK!L51+BARTEK!L46+PIOTR!L51+KRZYSZTOF!L51 -> 0 | N48: =TOMEK!N51+BARTEK!N46+PIOTR!N51+KRZYSZTOF!N51 -> 0 | O48: =TOMEK!O51+BARTEK!O46+PIOTR!O51+KRZYSZTOF!O51 -> 0 | P48: =TOMEK!P51+BARTEK!P46+PIOTR!P51+KRZYSZTOF!P51 -> 0
A49: Ilość zaakceptowanych ofert przez kontrahenta: | B49: =TOMEK!B52+BARTEK!B47+PIOTR!B52+KRZYSZTOF!B52 -> 0 | C49: =TOMEK!C52+BARTEK!C47+PIOTR!C52+KRZYSZTOF!C52 -> 0 | D49: =TOMEK!D52+BARTEK!D47+PIOTR!D52+KRZYSZTOF!D52 -> 0 | E49: =SUM(E46:E48) -> 0 | F49: =TOMEK!F52+BARTEK!F47+PIOTR!F52+KRZYSZTOF!F52 -> 0 | G49: =TOMEK!G52+BARTEK!G47+PIOTR!G52+KRZYSZTOF!G52 -> 0 | H49: =TOMEK!H52+BARTEK!H47+PIOTR!H52+KRZYSZTOF!H52 -> 0 | I49: =SUM(I46:I48) -> 0 | J49: =TOMEK!J52+BARTEK!J47+PIOTR!J52+KRZYSZTOF!J52 -> 0 | K49: =TOMEK!K52+BARTEK!K47+PIOTR!K52+KRZYSZTOF!K52 -> 0 | L49: =TOMEK!L52+BARTEK!L47+PIOTR!L52+KRZYSZTOF!L52 -> 0 | M49: =SUM(M46:M48) -> 0 | N49: =TOMEK!N52+BARTEK!N47+PIOTR!N52+KRZYSZTOF!N52 -> 0 | O49: =TOMEK!O52+BARTEK!O47+PIOTR!O52+KRZYSZTOF!O52 -> 0 | P49: =TOMEK!P52+BARTEK!P47+PIOTR!P52+KRZYSZTOF!P52 -> 0 | Q49: =SUM(Q46:Q48) -> 0 | R49: =I49+M49+Q49+E49 -> 0
A50: Ilość odrzuconych ofert przez kontrahenta: | B50: =TOMEK!B53+BARTEK!B48+PIOTR!B53+KRZYSZTOF!B53 -> 0 | C50: =TOMEK!C53+BARTEK!C48+PIOTR!C53+KRZYSZTOF!C53 -> 0 | D50: =TOMEK!D53+BARTEK!D48+PIOTR!D53+KRZYSZTOF!D53 -> 0 | E50: =SUM(E47:E49) -> 0 | F50: =TOMEK!F53+BARTEK!F48+PIOTR!F53+KRZYSZTOF!F53 -> 0 | G50: =TOMEK!G53+BARTEK!G48+PIOTR!G53+KRZYSZTOF!G53 -> 0 | H50: =TOMEK!H53+BARTEK!H48+PIOTR!H53+KRZYSZTOF!H53 -> 0 | I50: =SUM(I47:I49) -> 0 | J50: =TOMEK!J53+BARTEK!J48+PIOTR!J53+KRZYSZTOF!J53 -> 0 | K50: =TOMEK!K53+BARTEK!K48+PIOTR!K53+KRZYSZTOF!K53 -> 0 | L50: =TOMEK!L53+BARTEK!L48+PIOTR!L53+KRZYSZTOF!L53 -> 0 | M50: =SUM(M47:M49) -> 0 | N50: =TOMEK!N53+BARTEK!N48+PIOTR!N53+KRZYSZTOF!N53 -> 0 | O50: =TOMEK!O53+BARTEK!O48+PIOTR!O53+KRZYSZTOF!O53 -> 0 | P50: =TOMEK!P53+BARTEK!P48+PIOTR!P53+KRZYSZTOF!P53 -> 0 | Q50: =SUM(Q47:Q49) -> 0 | R50: =I50+M50+Q50+E50 -> 0
A51: Ilość przekazanych podmiotów: | B51: =TOMEK!B54+BARTEK!B49+PIOTR!B54+KRZYSZTOF!B54 -> 0 | C51: =TOMEK!C54+BARTEK!C49+PIOTR!C54+KRZYSZTOF!C54 -> 0 | D51: =TOMEK!D54+BARTEK!D49+PIOTR!D54+KRZYSZTOF!D54 -> 0 | E51: =SUM(E48:E50) -> 0 | F51: =TOMEK!F54+BARTEK!F49+PIOTR!F54+KRZYSZTOF!F54 -> 0 | G51: =TOMEK!G54+BARTEK!G49+PIOTR!G54+KRZYSZTOF!G54 -> 0 | H51: =TOMEK!H54+BARTEK!H49+PIOTR!H54+KRZYSZTOF!H54 -> 0 | I51: =SUM(I48:I50) -> 0 | J51: =TOMEK!J54+BARTEK!J49+PIOTR!J54+KRZYSZTOF!J54 -> 0 | K51: =TOMEK!K54+BARTEK!K49+PIOTR!K54+KRZYSZTOF!K54 -> 0 | L51: =TOMEK!L54+BARTEK!L49+PIOTR!L54+KRZYSZTOF!L54 -> 0 | M51: =SUM(M48:M50) -> 0 | N51: =TOMEK!N54+BARTEK!N49+PIOTR!N54+KRZYSZTOF!N54 -> 0 | O51: =TOMEK!O54+BARTEK!O49+PIOTR!O54+KRZYSZTOF!O54 -> 0 | P51: =TOMEK!P54+BARTEK!P49+PIOTR!P54+KRZYSZTOF!P54 -> 0 | Q51: =SUM(Q48:Q50) -> 0 | R51: =I51+M51+Q51+E51 -> 0
A52: Ilość odebranych podmiotów (zmiana prowadzącego): | B52: =TOMEK!B55+BARTEK!B50+PIOTR!B55+KRZYSZTOF!B55 -> 0 | C52: =TOMEK!C55+BARTEK!C50+PIOTR!C55+KRZYSZTOF!C55 -> 0 | D52: =TOMEK!D55+BARTEK!D50+PIOTR!D55+KRZYSZTOF!D55 -> 0 | E52: =SUM(E49:E51) -> 0 | F52: =TOMEK!F55+BARTEK!F50+PIOTR!F55+KRZYSZTOF!F55 -> 0 | G52: =TOMEK!G55+BARTEK!G50+PIOTR!G55+KRZYSZTOF!G55 -> 0 | H52: =TOMEK!H55+BARTEK!H50+PIOTR!H55+KRZYSZTOF!H55 -> 0 | I52: =SUM(I49:I51) -> 0 | J52: =TOMEK!J55+BARTEK!J50+PIOTR!J55+KRZYSZTOF!J55 -> 0 | K52: =TOMEK!K55+BARTEK!K50+PIOTR!K55+KRZYSZTOF!K55 -> 0 | L52: =TOMEK!L55+BARTEK!L50+PIOTR!L55+KRZYSZTOF!L55 -> 0 | M52: =SUM(M49:M51) -> 0 | N52: =TOMEK!N55+BARTEK!N50+PIOTR!N55+KRZYSZTOF!N55 -> 0 | O52: =TOMEK!O55+BARTEK!O50+PIOTR!O55+KRZYSZTOF!O55 -> 0 | P52: =TOMEK!P55+BARTEK!P50+PIOTR!P55+KRZYSZTOF!P55 -> 0 | Q52: =SUM(Q49:Q51) -> 0 | R52: =I52+M52+Q52+E52 -> 0
A53: Ilość spotkań z Klientami: | B53: =TOMEK!B56+BARTEK!B51+PIOTR!B56+KRZYSZTOF!B56 -> 0 | C53: =TOMEK!C56+BARTEK!C51+PIOTR!C56+KRZYSZTOF!C56 -> 0 | D53: =TOMEK!D56+BARTEK!D51+PIOTR!D56+KRZYSZTOF!D56 -> 0 | E53: =SUM(E50:E52) -> 0 | F53: =TOMEK!F56+BARTEK!F51+PIOTR!F56+KRZYSZTOF!F56 -> 0 | G53: =TOMEK!G56+BARTEK!G51+PIOTR!G56+KRZYSZTOF!G56 -> 0 | H53: =TOMEK!H56+BARTEK!H51+PIOTR!H56+KRZYSZTOF!H56 -> 0 | I53: =SUM(I50:I52) -> 0 | J53: =TOMEK!J56+BARTEK!J51+PIOTR!J56+KRZYSZTOF!J56 -> 0 | K53: =TOMEK!K56+BARTEK!K51+PIOTR!K56+KRZYSZTOF!K56 -> 0 | L53: =TOMEK!L56+BARTEK!L51+PIOTR!L56+KRZYSZTOF!L56 -> 0 | M53: =SUM(M50:M52) -> 0 | N53: =TOMEK!N56+BARTEK!N51+PIOTR!N56+KRZYSZTOF!N56 -> 0 | O53: =TOMEK!O56+BARTEK!O51+PIOTR!O56+KRZYSZTOF!O56 -> 0 | P53: =TOMEK!P56+BARTEK!P51+PIOTR!P56+KRZYSZTOF!P56 -> 0 | Q53: =SUM(Q50:Q52) -> 0 | R53: =I53+M53+Q53+E53 -> 0
A54: Ilość aktualnie otwartych wdrożeń: | B54: =TOMEK!B57+BARTEK!B52+PIOTR!B57+KRZYSZTOF!B57 -> 0 | C54: =TOMEK!C57+BARTEK!C52+PIOTR!C57+KRZYSZTOF!C57 -> 0 | D54: =TOMEK!D57+BARTEK!D52+PIOTR!D57+KRZYSZTOF!D57 -> 0 | F54: =TOMEK!F57+BARTEK!F52+PIOTR!F57+KRZYSZTOF!F57 -> 0 | G54: =TOMEK!G57+BARTEK!G52+PIOTR!G57+KRZYSZTOF!G57 -> 0 | H54: =TOMEK!H57+BARTEK!H52+PIOTR!H57+KRZYSZTOF!H57 -> 0 | J54: =TOMEK!J57+BARTEK!J52+PIOTR!J57+KRZYSZTOF!J57 -> 0 | K54: =TOMEK!K57+BARTEK!K52+PIOTR!K57+KRZYSZTOF!K57 -> 0 | L54: =TOMEK!L57+BARTEK!L52+PIOTR!L57+KRZYSZTOF!L57 -> 0 | N54: =TOMEK!N57+BARTEK!N52+PIOTR!N57+KRZYSZTOF!N57 -> 0 | O54: =TOMEK!O57+BARTEK!O52+PIOTR!O57+KRZYSZTOF!O57 -> 0 | P54: =TOMEK!P57+BARTEK!P52+PIOTR!P57+KRZYSZTOF!P57 -> 0
A55: Ilość wdrożeń dodanych w danym miesiącu: | B55: =TOMEK!B58+BARTEK!B53+PIOTR!B58+KRZYSZTOF!B58 -> 0 | C55: =TOMEK!C58+BARTEK!C53+PIOTR!C58+KRZYSZTOF!C58 -> 0 | D55: =TOMEK!D58+BARTEK!D53+PIOTR!D58+KRZYSZTOF!D58 -> 0 | E55: =SUM(B55:D55) -> 0 | F55: =TOMEK!F58+BARTEK!F53+PIOTR!F58+KRZYSZTOF!F58 -> 0 | G55: =TOMEK!G58+BARTEK!G53+PIOTR!G58+KRZYSZTOF!G58 -> 0 | H55: =TOMEK!H58+BARTEK!H53+PIOTR!H58+KRZYSZTOF!H58 -> 0 | I55: =SUM(F55:H55) -> 0 | J55: =TOMEK!J58+BARTEK!J53+PIOTR!J58+KRZYSZTOF!J58 -> 0 | K55: =TOMEK!K58+BARTEK!K53+PIOTR!K58+KRZYSZTOF!K58 -> 0 | L55: =TOMEK!L58+BARTEK!L53+PIOTR!L58+KRZYSZTOF!L58 -> 0 | M55: =SUM(J55:L55) -> 0 | N55: =TOMEK!N58+BARTEK!N53+PIOTR!N58+KRZYSZTOF!N58 -> 0 | O55: =TOMEK!O58+BARTEK!O53+PIOTR!O58+KRZYSZTOF!O58 -> 0 | P55: =TOMEK!P58+BARTEK!P53+PIOTR!P58+KRZYSZTOF!P58 -> 0 | Q55: =SUM(N55:P55) -> 0 | R55: =I55+M55+Q55+E55 -> 0
A56: Ilość wdrożeń zamkniętych pozytywnie w danym mcu: | B56: =TOMEK!B59+BARTEK!B54+PIOTR!B59+KRZYSZTOF!B59 -> 0 | C56: =TOMEK!C59+BARTEK!C54+PIOTR!C59+KRZYSZTOF!C59 -> 0 | D56: =TOMEK!D59+BARTEK!D54+PIOTR!D59+KRZYSZTOF!D59 -> 0 | E56: =SUM(B56:D56) -> 0 | F56: =TOMEK!F59+BARTEK!F54+PIOTR!F59+KRZYSZTOF!F59 -> 0 | G56: =TOMEK!G59+BARTEK!G54+PIOTR!G59+KRZYSZTOF!G59 -> 0 | H56: =TOMEK!H59+BARTEK!H54+PIOTR!H59+KRZYSZTOF!H59 -> 0 | I56: =SUM(F56:H56) -> 0 | J56: =TOMEK!J59+BARTEK!J54+PIOTR!J59+KRZYSZTOF!J59 -> 0 | K56: =TOMEK!K59+BARTEK!K54+PIOTR!K59+KRZYSZTOF!K59 -> 0 | L56: =TOMEK!L59+BARTEK!L54+PIOTR!L59+KRZYSZTOF!L59 -> 0 | M56: =SUM(J56:L56) -> 0 | N56: =TOMEK!N59+BARTEK!N54+PIOTR!N59+KRZYSZTOF!N59 -> 0 | O56: =TOMEK!O59+BARTEK!O54+PIOTR!O59+KRZYSZTOF!O59 -> 0 | P56: =TOMEK!P59+BARTEK!P54+PIOTR!P59+KRZYSZTOF!P59 -> 0 | Q56: =SUM(N56:P56) -> 0 | R56: =I56+M56+Q56+E56 -> 0 | S56: =R56/(R56+R57) -> #DIV/0!
A57: Ilość wdrożeń zamkniętych negatywnie w danym mcu: | B57: =TOMEK!B60+BARTEK!B55+PIOTR!B60+KRZYSZTOF!B60 -> 0 | C57: =TOMEK!C60+BARTEK!C55+PIOTR!C60+KRZYSZTOF!C60 -> 0 | D57: =TOMEK!D60+BARTEK!D55+PIOTR!D60+KRZYSZTOF!D60 -> 0 | E57: =SUM(B57:D57) -> 0 | F57: =TOMEK!F60+BARTEK!F55+PIOTR!F60+KRZYSZTOF!F60 -> 0 | G57: =TOMEK!G60+BARTEK!G55+PIOTR!G60+KRZYSZTOF!G60 -> 0 | H57: =TOMEK!H60+BARTEK!H55+PIOTR!H60+KRZYSZTOF!H60 -> 0 | I57: =SUM(F57:H57) -> 0 | J57: =TOMEK!J60+BARTEK!J55+PIOTR!J60+KRZYSZTOF!J60 -> 0 | K57: =TOMEK!K60+BARTEK!K55+PIOTR!K60+KRZYSZTOF!K60 -> 0 | L57: =TOMEK!L60+BARTEK!L55+PIOTR!L60+KRZYSZTOF!L60 -> 0 | M57: =SUM(J57:L57) -> 0 | N57: =TOMEK!N60+BARTEK!N55+PIOTR!N60+KRZYSZTOF!N60 -> 0 | O57: =TOMEK!O60+BARTEK!O55+PIOTR!O60+KRZYSZTOF!O60 -> 0 | P57: =TOMEK!P60+BARTEK!P55+PIOTR!P60+KRZYSZTOF!P60 -> 0 | Q57: =SUM(N57:P57) -> 0 | R57: =I57+M57+Q57+E57 -> 0 | S57: =R57/(R56+R57) -> #DIV/0!
A58: Ilość aktualnie odłożonych wdrożeń: | B58: =TOMEK!B61+BARTEK!B56+PIOTR!B61+KRZYSZTOF!B61 -> 0 | C58: =TOMEK!C61+BARTEK!C56+PIOTR!C61+KRZYSZTOF!C61 -> 0 | D58: =TOMEK!D61+BARTEK!D56+PIOTR!D61+KRZYSZTOF!D61 -> 0 | F58: =TOMEK!F61+BARTEK!F56+PIOTR!F61+KRZYSZTOF!F61 -> 0 | G58: =TOMEK!G61+BARTEK!G56+PIOTR!G61+KRZYSZTOF!G61 -> 0 | H58: =TOMEK!H61+BARTEK!H56+PIOTR!H61+KRZYSZTOF!H61 -> 0 | J58: =TOMEK!J61+BARTEK!J56+PIOTR!J61+KRZYSZTOF!J61 -> 0 | K58: =TOMEK!K61+BARTEK!K56+PIOTR!K61+KRZYSZTOF!K61 -> 0 | L58: =TOMEK!L61+BARTEK!L56+PIOTR!L61+KRZYSZTOF!L61 -> 0 | N58: =TOMEK!N61+BARTEK!N56+PIOTR!N61+KRZYSZTOF!N61 -> 0 | O58: =TOMEK!O61+BARTEK!O56+PIOTR!O61+KRZYSZTOF!O61 -> 0 | P58: =TOMEK!P61+BARTEK!P56+PIOTR!P61+KRZYSZTOF!P61 -> 0

Sheet REALIZACJE
A1: 2026 | B1: PLAN SPRZEDAŻY
A2: miesiąc | B2: styczeń | C2: luty | D2: marzec | E2: I KW | F2: kwiecień | G2: maj | H2: czerwiec | I2: II KW | J2: lipiec | K2: sierpień | L2: wrzesień | M2: III KW | N2: październik | O2: listopad | P2: grudzień | Q2: IV KW | R2: suma | T2: średnia
A3: Marża 2025 | B3: =DH!B3 -> 270726.89 | C3: =DH!C3 -> 318940.52 | D3: =DH!D3 -> 268372.09 | E3: =DH!E3 -> 858039.5 | F3: =DH!F3 -> 311537.67 | G3: =DH!G3 -> 285230.5 | H3: =DH!H3 -> 259436.25 | I3: =DH!I3 -> 856204.42 | ... R3: =DH!R3 -> 3288251.9 | S3: =R6-R3 -> 329853.1 | T3: =SUM(Q3,M3,I3,E3)/12 -> 274020.99 | U3: =T3/T6 -> 0.90883263
A4: Sumaryczna Marża 2025 | B4: =B3 -> 270726.89 | C4: =C3+B4 -> 589667.41 | D4: =D3+C4 -> 858039.5 | F4: =F3+D4 -> 1169577.2 | G4: =G3+F4 -> 1454807.7 | H4: =H3+G4 -> 1714243.9 | I4: =I3+E3 -> 1714243.9 | J4: =J3+H4 -> 2016676.7 | K4: =K3+J4 -> 2223381.3 | L4: =L3+K4 -> 2513956.9 | N4: =N3+L4 -> 2842687 | O4: =O3+N4 -> 3068865 | P4: =P3+O4 -> 3288251.9 | Q4: =Q3+M3 -> 1574008
A5: Wzrost Marży 2026 w stos do Marży 2025 | B5: =B9/B4-1 -> 0.16038931 | C5: =C9/C4-1 -> -0.029160948 | D5: =D9/D4-1 -> -0.20780397 | E5: =E8/E3-1 -> -0.20780397 | F5: =F9/F4-1 -> -0.41881947 | G5: =G9/G4-1 -> -0.53276609 | H5: =H9/H4-1 -> -0.60347797 | I5: =I8/I3-1 -> -1 | J5: =J9/J4-1 -> -0.66294276 | K5: =K9/K4-1 -> -0.69427849 | L5: =L9/L4-1 -> -0.7296153 | M5: =M8/M3-1 -> -1 | N5: =N9/N4-1 -> -0.76088275 | O5: =O9/O4-1 -> -0.77850591 | P5: =P9/P4-1 -> -0.79328363 | Q5: =Q8/Q3-1 -> -1 | R5: =R6/R3-1 -> 0.1003126
A6: Plan Sprzedaży Marża | B6: =DH!B6 -> 252000 | C6: =DH!C6 -> 280000 | D6: =DH!D6 -> 308000 | E6: =SUM(B6:D6) -> 840000 | F6: =DH!F6 -> 277530.6 | G6: =DH!G6 -> 308367.33 | H6: =DH!H6 -> 339204.07 | I6: =SUM(F6:H6) -> 925102 | J6: =DH!J6 -> 278099.1 | K6: =DH!K6 -> 308999 | L6: =DH!L6 -> 339898.9 | M6: =SUM(J6:L6) -> 926997 | N6: =DH!N6 -> 277801.8 | O6: =DH!O6 -> 308668.67 | P6: =DH!P6 -> 339535.53 | Q6: =SUM(N6:P6) -> 926006 | R6: =B6+C6+D6+F6+G6+H6+J6+K6+L6+N6+O6+P6 -> 3618105 | T6: =SUM(Q6,M6,I6,E6)/12 -> 301508.75 | U6: =T6/T3 -> 1.1003126
A7: Sumaryczny Plan Sprzedaży Marża | B7: =B6 -> 252000 | C7: =C6+B7 -> 532000 | D7: =D6+C7 -> 840000 | F7: =F6+D7 -> 1117530.6 | G7: =G6+F7 -> 1425897.9 | H7: =H6+G7 -> 1765102 | I7: =I6/I3-1 -> 0.080468611 | J7: =J6+H7 -> 2043201.1 | K7: =K6+J7 -> 2352200.1 | L7: =L6+K7 -> 2692099 | M7: =M6/M3-1 -> 0.15916207 | N7: =N6+L7 -> 2969900.8 | O7: =O6+N7 -> 3278569.5 | P7: =P6+O7 -> 3618105 | Q7: =Q6/Q3-1 -> 0.19593443 | R7: =R8/R6 -> 0.18787058
A8: Miesięczna realizacja Planu Sprzedaży Marża | B8: =DH!B8 -> 314148.59 | C8: =DH!C8 -> 258323.56 | D8: =DH!D8 -> 107263.33 | E8: =SUM(B8:D8) -> 679735.48 | F8: =DH!F8 -> 0 | G8: =DH!G8 -> 0 | H8: =DH!H8 -> 0 | I8: =SUM(F8:H8) -> 0 | J8: =DH!J8 -> 0 | K8: =DH!K8 -> 0 | L8: =DH!L8 -> 0 | M8: =SUM(J8:L8) -> 0 | N8: =DH!N8 -> 0 | O8: =DH!O8 -> 0 | P8: =DH!P8 -> 0 | Q8: =SUM(N8:P8) -> 0 | R8: =B8+C8+D8+F8+G8+H8+J8+K8+L8+N8+O8+P8 -> 679735.48 | S8: =R8/R6 -> 0.18787058 | T8: =SUM(Q8,M8,I8,E8)/12 -> 56644.623
A9: Sumaryczna realizacja planu sprzedaży Marża | B9: =B8 -> 314148.59 | C9: =C8+B9 -> 572472.15 | D9: =D8+C9 -> 679735.48 | E9: =E8-E3 -> -178304.02 | F9: =F8+D9 -> 679735.48 | G9: =G8+F9 -> 679735.48 | H9: =H8+G9 -> 679735.48 | I9: =(E8+I8)-(E3+I3) -> -1034508.4 | J9: =J8+H9 -> 679735.48 | K9: =K8+J9 -> 679735.48 | L9: =L8+K9 -> 679735.48 | M9: =(E8+I8+M8)-(E3+I3+M3) -> -1834221.5 | N9: =N8+L9 -> 679735.48 | O9: =O8+N9 -> 679735.48 | P9: =P8+O9 -> 679735.48 | Q9: =(E8+I8+M8+Q8)-(E3+I3+M3+Q3) -> -2608516.4
A10: Wysokość zrealizowania Miesięcznego Planu Sprzedaży Marża | B10: =B8/B6 -> 1.2466214 | C10: =C8/C6 -> 0.92258414 | D10: =D8/D6 -> 0.34825757 | E10: =E6/E3-1 -> -0.02102409 | F10: =F8/F6 -> 0 | G10: =G8/G6 -> 0 | H10: =H8/H6 -> 0 | I10: =H7/I4-1 -> 0.029667937 | J10: =J8/J6 -> 0 | K10: =K8/K6 -> 0 | L10: =L8/L6 -> 0 | M10: =L7/L4-1 -> 0.070861222 | N10: =N8/N6 -> 0 | O10: =O8/O6 -> 0 | P10: =P8/P6 -> 0 | Q10: =P7/P4-1 -> 0.1003126
A11: Różnica wskaźnika Marża | B11: =B9-B7 -> 62148.589 | C11: =C9-C7 -> 40472.149 | D11: =D9-D7 -> -160264.52 | F11: =F9-F7 -> -437795.12 | G11: =G9-G7 -> -746162.45 | H11: =H9-H7 -> -1085366.5 | I11: =(E6+I6)-(E3+I3) -> 50858.08 | J11: =J9-J7 -> -1363465.6 | K11: =K9-K7 -> -1672464.6 | L11: =L9-L7 -> -2012363.5 | M11: =(E8+I8+M8)/3 -> 226578.49 | N11: =N9-N7 -> -2290165.3 | O11: =O9-O7 -> -2598834 | P11: =P9-P7 -> -2938369.5
A12: Wysokość zrealizowania Planu Sprzedaży Marża | B12: =B9/B7 -> 1.2466214 | C12: =C9/C7 -> 1.0760755 | D12: =D9/D7 -> 0.80920891 | F12: =F9/F7 -> 0.60824776 | G12: =G9/G7 -> 0.47670697 | H12: =H9/H7 -> 0.385097 | J12: =J9/J7 -> 0.33268163 | K12: =K9/K7 -> 0.2889786 | L12: =L9/L7 -> 0.25249275 | N12: =N9/N7 -> 0.22887481 | O12: =O9/O7 -> 0.20732685 | P12: =P9/P7 -> 0.18787058
A13: Kwartalny Plan Sprzedaży Marża | B13: =Target!C8 -> 252000 | C13: =Target!D8 -> 280000 | D13: =Target!E8 -> 308000 | E13: =SUM(B13:D13) -> 840000 | F13: =Target!F8 -> 277530.6 | G13: =Target!G8 -> 308367.33 | H13: =Target!H8 -> 339204.07 | I13: =SUM(F13:H13) -> 925102 | J13: =Target!I8 -> 278099.1 | K13: =Target!J8 -> 308999 | L13: =Target!K8 -> 339898.9 | M13: =SUM(J13:L13) -> 926997 | N13: =Target!L8 -> 277801.8 | O13: =Target!M8 -> 308668.67 | P13: =Target!N8 -> 339535.53 | Q13: =SUM(N13:P13) -> 926006
A14: Sumaryczna Kwartalna Realizacja Planu Sprzedaży Marża | B14: =B8/B13 -> 1.2466214 | C14: =(B8+C8)/(B13+C13) -> 1.0760755 | D14: =(D8+C8+B8)/(B13+C13+D13) -> 0.80920891 | E14: =E8-E13 -> -160264.52 | F14: =F8/F13 -> 0 | G14: =(F8+G8)/(F13+G13) -> 0 | H14: =(H8+G8+F8)/(F13+G13+H13) -> 0 | I14: =I8-I13 -> -925102 | J14: =J8/J13 -> 0 | K14: =(J8+K8)/(J13+K13) -> 0 | L14: =(L8+K8+J8)/(J13+K13+L13) -> 0 | M14: =M8-M13 -> -926997 | N14: =N8/N13 -> 0 | O14: =(N8+O8)/(N13+O13) -> 0 | P14: =(P8+O8+N8)/(N13+O13+P13) -> 0 | Q14: =Q8-Q13 -> -926006
A15: Realizacja MINIMUM | B15: =B9/(Target!$D$26/12*REALIZACJE!B18) -> 1.09676 | C15: =C9/(Target!$D$26/12*REALIZACJE!C18) -> 0.9993114 | D15: =D9/(Target!$D$26/12*REALIZACJE!D18) -> 0.79103402 | F15: =F9/(Target!$D$26/12*REALIZACJE!F18) -> 0.59327551 | G15: =G9/(Target!$D$26/12*REALIZACJE!G18) -> 0.47462041 | H15: =H9/(Target!$D$26/12*REALIZACJE!H18) -> 0.39551701 | J15: =J9/(Target!$D$26/12*REALIZACJE!J18) -> 0.33901458 | K15: =K9/(Target!$D$26/12*REALIZACJE!K18) -> 0.29663776 | L15: =L9/(Target!$D$26/12*REALIZACJE!L18) -> 0.26367801 | N15: =N9/(Target!$D$26/12*REALIZACJE!N18) -> 0.23731021 | O15: =O9/(Target!$D$26/12*REALIZACJE!O18) -> 0.21573655 | P15: =P9/(Target!$D$26/12*REALIZACJE!P18) -> 0.1977585
A16: Realizacja PLAN (CEL STRATEGICZNY) | B16: =B9/(Target!$F$26/12*REALIZACJE!B18) -> 1.041922 | C16: =C9/(Target!$F$26/12*REALIZACJE!C18) -> 0.94934583 | D16: =D9/(Target!$F$26/12*REALIZACJE!D18) -> 0.75148232 | F16: =F9/(Target!$F$26/12*REALIZACJE!F18) -> 0.56361174 | G16: =G9/(Target!$F$26/12*REALIZACJE!G18) -> 0.45088939 | H16: =H9/(Target!$F$26/12*REALIZACJE!H18) -> 0.37574116 | J16: =J9/(Target!$F$26/12*REALIZACJE!J18) -> 0.32206385 | K16: =K9/(Target!$F$26/12*REALIZACJE!K18) -> 0.28180587 | L16: =L9/(Target!$F$26/12*REALIZACJE!L18) -> 0.25049411 | N16: =N9/(Target!$F$26/12*REALIZACJE!N18) -> 0.22544469 | O16: =O9/(Target!$F$26/12*REALIZACJE!O18) -> 0.20494972 | P16: =P9/(Target!$F$26/12*REALIZACJE!P18) -> 0.18787058
A17: Realizacja CEL | B17: =B9/(Target!$H$26/12*REALIZACJE!B18) -> 0.99230663 | C17: =C9/(Target!$H$26/12*REALIZACJE!C18) -> 0.90413889 | D17: =D9/(Target!$H$26/12*REALIZACJE!D18) -> 0.71569744 | F17: =F9/(Target!$H$26/12*REALIZACJE!F18) -> 0.53677308 | G17: =G9/(Target!$H$26/12*REALIZACJE!G18) -> 0.42941847 | H17: =H9/(Target!$H$26/12*REALIZACJE!H18) -> 0.35784872 | J17: =J9/(Target!$H$26/12*REALIZACJE!J18) -> 0.30672748 | K17: =K9/(Target!$H$26/12*REALIZACJE!K18) -> 0.26838654 | L17: =L9/(Target!$H$26/12*REALIZACJE!L18) -> 0.23856581 | N17: =N9/(Target!$H$26/12*REALIZACJE!N18) -> 0.21470923 | O17: =O9/(Target!$H$26/12*REALIZACJE!O18) -> 0.19519021 | P17: =P9/(Target!$H$26/12*REALIZACJE!P18) -> 0.17892436
B18: 1 | C18: 2 | D18: 3 | F18: 4 | G18: 5 | H18: 6 | J18: 7 | K18: 8 | L18: 9 | N18: 10 | O18: 11 | P18: 12
A19: Obrót 2025 | B19: =DH!B16 -> 735313.24 | C19: =DH!C16 -> 864042.09 | D19: =DH!D16 -> 682276.62 | E19: =DH!E16 -> 2281632 | F19: =DH!F16 -> 902392.31 | G19: =DH!G16 -> 770807.84 | H19: =DH!H16 -> 668332.33 | I19: =DH!I16 -> 2341532.5 | ... R19: =DH!R16 -> 8740820.4 | S19: =R22-R19 -> 938675.4 | T19: =SUM(Q19,M19,I19,E19)/12 -> 728401.7 | U19: =T19/T22 -> 0.90302435
A20: Sumaryczny Obrót 2025 | B20: =B19 -> 735313.24 | C20: =C19+B20 -> 1599355.3 | D20: =D19+C20 -> 2281632 | F20: =F19+D20 -> 3184024.3 | G20: =G19+F20 -> 3954832.1 | H20: =H19+G20 -> 4623164.4 | I20: =I19+E19 -> 4623164.4 | J20: =J19+H20 -> 5439083 | K20: =K19+J20 -> 5991838.4 | L20: =L19+K20 -> 6773533.7 | N20: =N19+L20 -> 7597188.2 | O20: =O19+N20 -> 8171529.4 | P20: =P19+O20 -> 8740820.5 | R20: =R3/R19 -> 0.37619488
A21: Wzrost Obrotu 2026 w stos do Obrotu 2025 | B21: =B25/B20-1 -> 0.095849683 | C21: =C25/C20-1 -> -0.049126394 | D21: =D25/D20-1 -> -0.20836414 | E21: =E24/E19-1 -> -0.20836414 | F21: =F25/F20-1 -> -0.43272365 | G21: =G25/G20-1 -> -0.5432874 | H21: =H25/H20-1 -> -0.60931053 | I21: =I24/I19-1 -> -1 | J21: =J25/J20-1 -> -0.66791798 | K21: =K25/K20-1 -> -0.69855301 | L21: =L25/L20-1 -> -0.7333413 | M21: =M24/M19-1 -> -1 | N21: =N25/N20-1 -> -0.7622513 | O21: =O25/O20-1 -> -0.77896161 | P21: =P25/P20-1 -> -0.79335788 | Q21: =Q24/Q19-1 -> -1 | R21: =R22/R19-1 -> 0.10738985
A22: Plan Sprzedaży Obrót | B22: =DH!B19 -> 681081.08 | C22: =DH!C19 -> 756756.76 | D22: =DH!D19 -> 832432.43 | E22: =SUM(B22:D22) -> 2270270.3 | F22: =DH!F19 -> 730343.68 | G22: =DH!G19 -> 811492.98 | H22: =DH!H19 -> 892642.28 | I22: =SUM(F22:H22) -> 2434478.9 | J22: =DH!J19 -> 751619.19 | K22: =DH!K19 -> 835132.43 | L22: =DH!L19 -> 918645.68 | M22: =SUM(J22:L22) -> 2505397.3 | N22: =DH!N19 -> 740804.8 | O22: =DH!O19 -> 823116.44 | P22: =DH!P19 -> 905428.09 | Q22: =SUM(N22:P22) -> 2469349.3 | R22: =B22+C22+D22+F22+G22+H22+J22+K22+L22+N22+O22+P22 -> 9679495.8 | T22: =SUM(Q22,M22,I22,E22)/12 -> 806624.65 | U22: =T22/T19 -> 1.1073899
A23: Sumaryczny Plan Sprzedaży Obrót | B23: =B22 -> 681081.08 | C23: =C22+B23 -> 1437837.8 | D23: =D22+C23 -> 2270270.3 | E23: =E22/E19-1 -> -0.0049796286 | F23: =F22+D23 -> 3000614 | G23: =G22+F23 -> 3812106.9 | H23: =H22+G23 -> 4704749.2 | I23: =I22/I19-1 -> 0.039694716 | J23: =J22+H23 -> 5456368.4 | K23: =K22+J23 -> 6291500.8 | L23: =L22+K23 -> 7210146.5 | M23: =M22/M19-1 -> 0.16510096 | N23: =N22+L23 -> 7950951.3 | O23: =O22+N23 -> 8774067.8 | P23: =P22+O23 -> 9679495.8 | Q23: =Q22/Q19-1 -> 0.25520559 | R23: =R24/R22 -> 0.18660287
A24: Miesięczna realizacja Planu Sprzedaży Obrót | B24: =DH!B21 -> 805792.78 | C24: =DH!C21 -> 714991.99 | D24: =DH!D21 -> 285436.9 | E24: =SUM(B24:D24) -> 1806221.7 | F24: =DH!F21 -> 0 | G24: =DH!G21 -> 0 | H24: =DH!H21 -> 0 | I24: =SUM(F24:H24) -> 0 | J24: =DH!J21 -> 0 | K24: =DH!K21 -> 0 | L24: =DH!L21 -> 0 | M24: =SUM(J24:L24) -> 0 | N24: =DH!N21 -> 0 | O24: =DH!O21 -> 0 | P24: =DH!P21 -> 0 | Q24: =SUM(N24:P24) -> 0 | R24: =B24+C24+D24+F24+G24+H24+J24+K24+L24+N24+O24+P24 -> 1806221.7 | S24: =R24/R22 -> 0.18660287
A25: Sumaryczna realizacja planu sprzedaży Obrót | B25: =B24 -> 805792.78 | C25: =C24+B25 -> 1520784.8 | D25: =D24+C25 -> 1806221.7 | E25: =E24-E19 -> -475410.28 | F25: =F24+D25 -> 1806221.7 | G25: =G24+F25 -> 1806221.7 | H25: =H24+G25 -> 1806221.7 | I25: =(E24+I24)-(E19+I19) -> -2816942.8 | J25: =J24+H25 -> 1806221.7 | K25: =K24+J25 -> 1806221.7 | L25: =L24+K25 -> 1806221.7 | M25: =(E24+I24+M24)-(E19+I19+M19) -> -4967312 | N25: =N24+L25 -> 1806221.7 | O25: =O24+N25 -> 1806221.7 | P25: =P24+O25 -> 1806221.7 | R25: =R24*1.1 -> 1986843.8
A26: Wysokość zrealizowania Miesięcznego Planu Sprzedaży Obrót | B26: =B24/B22 -> 1.1831084 | C26: =C24/C22 -> 0.94481084 | D26: =D24/D22 -> 0.34289497 | F26: =F24/F22 -> 0 | G26: =G24/G22 -> 0 | H26: =H24/H22 -> 0 | J26: =J24/J22 -> 0 | K26: =K24/K22 -> 0 | L26: =L24/L22 -> 0 | N26: =N24/N22 -> 0 | O26: =O24/O22 -> 0 | P26: =P24/P22 -> 0
A27: Wysokość zrealizowania Planu Sprzedaży Obrót | B27: =B25/B23 -> 1.1831084 | C27: =C25/C23 -> 1.0576887 | D27: =D25/D23 -> 0.79559764 | F27: =F25/F23 -> 0.6019507 | G27: =G25/G23 -> 0.47381191 | H27: =H25/H23 -> 0.38391455 | J27: =J25/J23 -> 0.33103001 | K27: =K25/K23 -> 0.28708916 | L27: =L25/L23 -> 0.25051109 | N27: =N25/N23 -> 0.22717051 | O27: =O25/O23 -> 0.2058591 | P27: =P25/P23 -> 0.18660287
A28: Różnica wskaźnika Obrót | B28: =B25-B23 -> 124711.7 | C28: =C25-C23 -> 82946.932 | D28: =D25-D23 -> -464048.6 | F28: =F25-F23 -> -1194392.3 | G28: =G25-G23 -> -2005885.3 | H28: =H25-H23 -> -2898527.6 | J28: =J25-J23 -> -3650146.7 | K28: =K25-K23 -> -4485279.2 | L28: =L25-L23 -> -5403924.8 | N28: =N25-N23 -> -6144729.6 | O28: =O25-O23 -> -6967846.1 | P28: =P25-P23 -> -7873274.2
A29: Realizacja MINIMUM | B29: =B25/(Target!$D$27/12*B18) -> 1.051546 | C29: =C25/(Target!$D$27/12*C18) -> 0.99229925 | D29: =D25/(Target!$D$27/12*D18) -> 0.78569628 | F29: =F25/(Target!$D$27/12*F18) -> 0.58927221 | G29: =G25/(Target!$D$27/12*G18) -> 0.47141777 | H29: =H25/(Target!$D$27/12*H18) -> 0.39284814 | J29: =J25/(Target!$D$27/12*J18) -> 0.33672698 | K29: =K25/(Target!$D$27/12*K18) -> 0.2946361 | L29: =L25/(Target!$D$27/12*L18) -> 0.26189876 | N29: =N25/(Target!$D$27/12*N18) -> 0.23570888 | O29: =O25/(Target!$D$27/12*O18) -> 0.2142808 | P29: =P25/(Target!$D$27/12*P18) -> 0.19642407
A30: Realizacja PLAN (CEL STRATEGICZNY) | B30: =B25/(Target!$F$27/12*REALIZACJE!B18) -> 0.9989687 | C30: =C25/(Target!$F$27/12*REALIZACJE!C18) -> 0.94268428 | D30: =D25/(Target!$F$27/12*REALIZACJE!D18) -> 0.74641146 | F30: =F25/(Target!$F$27/12*REALIZACJE!F18) -> 0.5598086 | G30: =G25/(Target!$F$27/12*REALIZACJE!G18) -> 0.44784688 | H30: =H25/(Target!$F$27/12*REALIZACJE!H18) -> 0.37320573 | J30: =J25/(Target!$F$27/12*REALIZACJE!J18) -> 0.31989063 | K30: =K25/(Target!$F$27/12*REALIZACJE!K18) -> 0.2799043 | L30: =L25/(Target!$F$27/12*REALIZACJE!L18) -> 0.24880382 | N30: =N25/(Target!$F$27/12*REALIZACJE!N18) -> 0.22392344 | O30: =O25/(Target!$F$27/12*REALIZACJE!O18) -> 0.20356676 | P30: =P25/(Target!$F$27/12*REALIZACJE!P18) -> 0.18660287
A31: Realizacja CEL | B31: =B25/(Target!$H$27/12*B18) -> 0.95139876 | C31: =C25/(Target!$H$27/12*C18) -> 0.89779456 | D31: =D25/(Target!$H$27/12*D18) -> 0.71086806 | F31: =F25/(Target!$H$27/12*F18) -> 0.53315105 | G31: =G25/(Target!$H$27/12*G18) -> 0.42652084 | H31: =H25/(Target!$H$27/12*H18) -> 0.35543403 | J31: =J25/(Target!$H$27/12*J18) -> 0.30465774 | K31: =K25/(Target!$H$27/12*K18) -> 0.26657552 | L31: =L25/(Target!$H$27/12*L18) -> 0.23695602 | N31: =N25/(Target!$H$27/12*N18) -> 0.21326042 | O31: =O25/(Target!$H$27/12*O18) -> 0.19387311 | P31: =P25/(Target!$H$27/12*P18) -> 0.17771702
A33: Wysokość % Marży miesięcznej | B33: =B8/B24 -> 0.38986275 | C33: =C8/C24 -> 0.36129574 | D33: =D8/D24 -> 0.3757865 | E33: =E6/E22 -> 0.37 | F33: =F8/F24 -> #DIV/0! | G33: =G8/G24 -> #DIV/0! | H33: =H8/H24 -> #DIV/0! | I33: =I6/I22 -> 0.38 | J33: =J8/J24 -> #DIV/0! | K33: =K8/K24 -> #DIV/0! | L33: =L8/L24 -> #DIV/0! | M33: =M6/M22 -> 0.37 | N33: =N8/N24 -> #DIV/0! | O33: =O8/O24 -> #DIV/0! | P33: =P8/P24 -> #DIV/0! | Q33: =Q6/Q22 -> 0.375
A34: Wysokość % Marży sumarycznej | B34: =B9/B25 -> 0.38986275 | C34: =C9/C25 -> 0.37643206 | D34: =D9/D25 -> 0.37633005 | F34: =F9/F25 -> 0.37633005 | G34: =G9/G25 -> 0.37633005 | H34: =H9/H25 -> 0.37633005 | J34: =J9/J25 -> 0.37633005 | K34: =K9/K25 -> 0.37633005 | L34: =L9/L25 -> 0.37633005 | N34: =N9/N25 -> 0.37633005 | O34: =O9/O25 -> 0.37633005 | P34: =P9/P25 -> 0.37633005 | R34: =R6/R22 -> 0.37379065

Sheet WYPŁATY
A2: PREMIA MIESIĘCZNA | R2: Symulacja zarobków miesięcznych
B3: STYCZEŃ | C3: LUTY | D3: MARZEC | F3: KWIECIEŃ | G3: MAJ | H3: CZERWIEC | J3: LIPIEC | K3: SIERPIEŃ | L3: WRZESIEŃ | N3: PAŹDZIERNIK | O3: LISTOPAD | P3: GRUDZIEŃ | R3: zasadnicza | S3: premia 15 | V3: suma mies
A4: Tomasz Sypień | B4: =TOMEK!B31 -> 2811.76 | C4: =TOMEK!C31 -> 2811.76 | D4: =TOMEK!D31 -> 350 | F4: =TOMEK!F31 -> 0 | G4: =TOMEK!G31 -> 0 | H4: =TOMEK!H31 -> 0 | J4: =TOMEK!J31 -> 0 | K4: =TOMEK!K31 -> 0 | L4: =TOMEK!L31 -> 0 | N4: =TOMEK!N31 -> 0 | O4: =TOMEK!O31 -> 0 | P4: =TOMEK!P31 -> 0 | Q4: =SUM(N4:P4,J4:L4,F4:H4,B4:D4) -> 5973.52 | R4: 6800 | S4: =R4*15% -> 1020 | T4: =SUM(R4:S4) -> 7820 | U4: =F4 -> 0 | V4: =SUM(T4:U4) -> 7820
A5: Piotr Choma | B5: =PIOTR!B31 -> 4363.1 | C5: =PIOTR!C31 -> 4363.1 | D5: =PIOTR!D31 -> 2356.55 | F5: =PIOTR!F34 -> 0 | G5: =PIOTR!G34 -> 0 | H5: =PIOTR!H34 -> 0 | J5: =PIOTR!J34 -> 0 | K5: =PIOTR!K34 -> 0 | L5: =PIOTR!L34 -> 0 | N5: =PIOTR!N34 -> 0 | O5: =PIOTR!O34 -> 0 | P5: =PIOTR!P34 -> 0 | Q5: =SUM(N5:P5,J5:L5,F5:H5,B5:D5) -> 11082.75 | R5: 7500 | S5: =R5*15% -> 1125 | T5: =SUM(R5:S5) -> 8625 | U5: =F5 -> 0 | V5: =SUM(T5:U5) -> 8625
A6: Krzysztof Szwajdych | B6: =KRZYSZTOF!B31 -> 3337.04 | C6: =KRZYSZTOF!C31 -> 3337.04 | D6: =KRZYSZTOF!D31 -> 350 | F6: =KRZYSZTOF!F34 -> 0 | G6: =KRZYSZTOF!G34 -> 0 | H6: =KRZYSZTOF!H34 -> 0 | J6: =KRZYSZTOF!J34 -> 0 | K6: =KRZYSZTOF!K34 -> 0 | L6: =KRZYSZTOF!L34 -> 0 | N6: =KRZYSZTOF!N34 -> 0 | O6: =KRZYSZTOF!O34 -> 0 | P6: =KRZYSZTOF!P34 -> 0 | Q6: =SUM(N6:P6,J6:L6,F6:H6,B6:D6) -> 7024.08 | R6: 6800 | S6: =R6*15% -> 1020 | T6: =SUM(R6:S6) -> 7820 | U6: =F6 -> 0 | V6: =SUM(T6:U6) -> 7820
B9: =SUM(B4:B6) -> 10511.9 | C9: =SUM(C4:C6) -> 10511.9 | D9: =SUM(D4:D6) -> 3056.55 | F9: =SUM(F4:F6) -> 0 | G9: =SUM(G4:G6) -> 0 | H9: =SUM(H4:H6) -> 0
A10: PREMIA KWARTALNA
B11: I KWARTAŁ | F11: II KWARTAŁ | J11: III KWARTAŁ | N11: IV KWARTAŁ
A12: Tomasz Sypień | B12: =TOMEK!B41 -> 0 | F12: =TOMEK!F41 -> 0 | J12: =TOMEK!J41 -> 0 | N12: =TOMEK!N41 -> 0 | Q12: =SUM(B12:P12) -> 0
A13: Piotr Choma | B13: =PIOTR!B41 -> 0 | F13: =PIOTR!F41 -> 0 | J13: =PIOTR!J41 -> 0 | N13: =PIOTR!N41 -> 0 | Q13: =SUM(B13:P13) -> 0
A14: Krzysztof Szwajdych | B14: =KRZYSZTOF!B41 -> 0 | F14: =KRZYSZTOF!F41 -> 0 | J14: =KRZYSZTOF!J41 -> 0 | N14: =KRZYSZTOF!N41 -> 0 | Q14: =SUM(B14:P14) -> 0
A15: Krzysztof Szwajdych RCKIK | B15: =RCKIK!B34 -> 0
A19: PREMIA DODATKOWA
B20: STYCZEŃ | C20: LUTY | D20: MARZEC | F20: KWIECIEŃ | G20: MAJ | H20: CZERWIEC | J20: LIPIEC | K20: SIERPIEŃ | L20: WRZESIEŃ | N20: PAŹDZIERNIK | O20: LISTOPAD | P20: GRUDZIEŃ
A21: Tomasz Sypień | B21: =TOMEK!B34 -> 2266 | C21: =TOMEK!C34 -> 2266 | D21: =TOMEK!D34 -> 2266 | F21: =TOMEK!F34 -> 0 | G21: =TOMEK!G34 -> 0 | H21: =TOMEK!H34 -> 0 | J21: =TOMEK!J34 -> 0 | K21: =TOMEK!K34 -> 0 | L21: =TOMEK!L34 -> 0 | N21: =TOMEK!N34 -> 0 | O21: =TOMEK!O34 -> 0 | P21: =TOMEK!P34 -> 0
A22: Piotr Choma | B22: =PIOTR!B34 -> 2266 | C22: =PIOTR!C34 -> 2266 | D22: =PIOTR!D34 -> 2266 | F22: =PIOTR!F34 -> 0 | G22: =PIOTR!G34 -> 0 | H22: =PIOTR!H34 -> 0 | J22: =PIOTR!J34 -> 0 | K22: =PIOTR!K34 -> 0 | L22: =PIOTR!L34 -> 0 | N22: =PIOTR!N34 -> 0 | O22: =PIOTR!O34 -> 0 | P22: =PIOTR!P34 -> 0
A23: Krzysztof Szwajdych | B23: =KRZYSZTOF!B34 -> 2266 | C23: =KRZYSZTOF!C34 -> 2266 | D23: =KRZYSZTOF!D34 -> 2266 | F23: =KRZYSZTOF!F34 -> 0 | G23: =KRZYSZTOF!G34 -> 0 | H23: =KRZYSZTOF!H34 -> 0 | J23: =KRZYSZTOF!J34 -> 0 | K23: =KRZYSZTOF!K34 -> 0 | L23: =KRZYSZTOF!L34 -> 0 | N23: =KRZYSZTOF!N34 -> 0 | O23: =KRZYSZTOF!O34 -> 0 | P23: =KRZYSZTOF!P34 -> 0
A24: Krzysztof Szwajdych RCKIK | B24: =RCKIK!B19 -> 1000 | C24: =RCKIK!C19 -> 1000 | D24: =RCKIK!D19 -> 1000 | E24: =RCKIK!E19 -> 0 | F24: =RCKIK!F19 -> 0 | G24: =RCKIK!G19 -> 0 | H24: =RCKIK!H19 -> 0 | I24: =RCKIK!I19 -> 0 | ... P24: =RCKIK!P19 -> 0

Sheet Target
A1: `
C2: I | D2: II | E2: III | F2: IV | G2: V | H2: VI | I2: VII | J2: VIII | K2: IX | L2: X | M2: XI | N2: XII | O2: Rok | P2: Realizacja | Q2: % real rocznego PS | R2: % PSDH | S2: % sumy real rocznej
A3: Tomasz Sypień | C3: =C14 -> 63300 | D3: =E14 -> 70333.333 | E3: =G14 -> 77366.667 | F3: =I14 -> 69630 | G3: =K14 -> 77366.667 | H3: =M14 -> 85103.333 | I3: =C50 -> 71465.7 | J3: =E50 -> 79406.333 | K3: =G50 -> 87346.967 | L3: =C59 -> 70839.459 | M3: =E59 -> 78710.51 | N3: =G59 -> 86581.561 | O3: =SUM(C3:N3) -> 917450.53 | P3: =TOMEK!R6 -> 143109.11 | Q3: =P3/O3 -> 0.15598565 | R3: =O3/O8 -> 0.25357211 | S3: =P3/P8 -> 0.21053648
A4: Grupa RCKIK | C4: =C15 -> 8700 | D4: =E15 -> 9666.6667 | E4: =G15 -> 10633.333 | F4: =I15 -> 9900.6 | G4: =K15 -> 11000.667 | H4: =M15 -> 12100.733 | I4: =C51 -> 9900.6 | J4: =E51 -> 11000.667 | K4: =G51 -> 12100.733 | L4: =C60 -> 9723.063 | M4: =E60 -> 10803.403 | N4: =G60 -> 11883.744 | O4: =SUM(C4:N4) -> 127414.21 | P4: =RCKIK!R6 -> 24409.595 | Q4: =P4/O4 -> 0.19157671 | R4: =O4/O8 -> 0.03521573 | S4: =P4/P8 -> 0.035910432
A5: Bartłomiej Biskupski | C5: =C16 -> 0 | D5: =E16 -> 0 | E5: =G16 -> 0 | F5: =I16 -> 0 | G5: =K16 -> 0 | H5: =M16 -> 0 | I5: =C52 -> 0 | J5: =E52 -> 0 | K5: =G52 -> 0 | L5: =C61 -> 0 | M5: =E61 -> 0 | N5: =G61 -> 0 | O5: =SUM(C5:N5) -> 0 | P5: =BARTEK!R6 -> 0 | Q5: =P5/O5 -> #DIV/0! | R5: =O5/O8 -> 0 | S5: =P5/P8 -> 0
A6: Piotr Choma | C6: =C17 -> 103200 | D6: =E17 -> 114666.67 | E6: =G17 -> 126133.33 | F6: =I17 -> 113520 | G6: =K17 -> 126133.33 | H6: =M17 -> 138746.67 | I6: =C53 -> 111868.8 | J6: =E53 -> 124298.67 | K6: =G53 -> 136728.53 | L6: =C62 -> 112509.73 | M6: =E62 -> 125010.81 | N6: =G62 -> 137511.89 | O6: =SUM(C6:N6) -> 1470328.4 | P6: =PIOTR!R6 -> 309535.65 | Q6: =P6/O6 -> 0.21052144 | R6: =O6/O8 -> 0.40638081 | S6: =P6/P8 -> 0.45537663
A7: Krzysztof Szwajdych | C7: =C18 -> 76800 | D7: =E18 -> 85333.333 | E7: =G18 -> 93866.667 | F7: =I18 -> 84480 | G7: =K18 -> 93866.667 | H7: =M18 -> 103253.33 | I7: =C54 -> 84864 | J7: =E54 -> 94293.333 | K7: =G54 -> 103722.67 | L7: =C63 -> 84729.549 | M7: =E63 -> 94143.943 | N7: =G63 -> 103558.34 | O7: =SUM(C7:N7) -> 1102911.8 | P7: =KRZYSZTOF!R6 -> 202681.12 | Q7: =P7/O7 -> 0.18376911 | R7: =O7/O8 -> 0.30483135 | S7: =P7/P8 -> 0.29817646
A8: DZIAŁ: | C8: =SUM(C3:C7) -> 252000 | D8: =SUM(D3:D7) -> 280000 | E8: =SUM(E3:E7) -> 308000 | F8: =SUM(F3:F7) -> 277530.6 | G8: =SUM(G3:G7) -> 308367.33 | H8: =SUM(H3:H7) -> 339204.07 | I8: =SUM(I3:I7) -> 278099.1 | J8: =SUM(J3:J7) -> 308999 | ... N8: =SUM(N3:N7) -> 339535.53 | O8: =SUM(C8:N8) -> 3618105 | P8: =SUM(P3:P7) -> 679735.48 | Q8: =P8/O8 -> 0.18787058 | R8: 100 | S8: 100
N10: PSM | O10: 3620000
B12: Styczeń | D12: Luty | F12: Marzec | H12: KWIECIEŃ | J12: MAJ | L12: CZERWIEC | N12: LIPIEC | P12: SIERPIEŃ | R12: WRZESIEŃ | T12: PAŹDZIERNIK | V12: LISTOPAD | X12: GRUDZIEŃ
B13: Obrót | C13: Marża | D13: Obrót | E13: Marża | F13: Obrót | G13: Marża | H13: Obrót | I13: Marża | J13: Obrót | K13: Marża | L13: Obrót | M13: Marża | N13: Obrót | O13: Marża | P13: Obrót | Q13: Marża | R13: Obrót | S13: Marża | T13: Obrót | U13: Marża | V13: Obrót | W13: Marża | X13: Obrót | Y13: Marża
A14: Tomasz Sypień; | B14: =B31 -> 0 | C14: =C31 -> 63300 | D14: =D31 -> 0 | E14: =E31 -> 70333.333 | F14: =F31 -> 0 | G14: =G31 -> 77366.667 | H14: =B40 -> 0 | I14: =C40 -> 69630 | J14: =D40 -> 0 | K14: =E40 -> 77366.667 | L14: =F40 -> 0 | M14: =G40 -> 85103.333 | N14: =B50 -> 0 | O14: =C50 -> 71465.7 | P14: =D50 -> 0 | Q14: =E50 -> 79406.333 | R14: =F50 -> 0 | S14: =G50 -> 87346.967 | T14: =B59 -> 0 | U14: =C59 -> 70839.459 | V14: =D59 -> 0 | W14: =E59 -> 78710.51 | X14: =F59 -> 0 | Y14: =G59 -> 86581.561
A15: Grupa RCKIK | B15: =B32 -> 0 | C15: =C32 -> 8700 | D15: =D32 -> 0 | E15: =E32 -> 9666.6667 | F15: =F32 -> 0 | G15: =G32 -> 10633.333 | H15: =B41 -> 0 | I15: =C41 -> 9900.6 | J15: =D41 -> 0 | K15: =E41 -> 11000.667 | L15: =F41 -> 0 | M15: =G41 -> 12100.733 | N15: =B51 -> 0 | O15: =C51 -> 9900.6 | P15: =D51 -> 0 | Q15: =E51 -> 11000.667 | R15: =F51 -> 0 | S15: =G51 -> 12100.733 | T15: =B60 -> 0 | U15: =C60 -> 9723.063 | V15: =D60 -> 0 | W15: =E60 -> 10803.403 | X15: =F60 -> 0 | Y15: =G60 -> 11883.744
A16: Bartłomiej Biskupski; | B16: =B33 -> 0 | C16: =C33 -> 0 | D16: =D33 -> 0 | E16: =E33 -> 0 | F16: =F33 -> 0 | G16: =G33 -> 0 | H16: =B42 -> 0 | I16: =C42 -> 0 | J16: =D42 -> 0 | K16: =E42 -> 0 | L16: =F42 -> 0 | M16: =G42 -> 0 | N16: =B52 -> 0 | O16: =C52 -> 0 | P16: =D52 -> 0 | Q16: =E52 -> 0 | R16: =F52 -> 0 | S16: =G52 -> 0 | T16: =B61 -> 0 | U16: =C61 -> 0 | V16: =D61 -> 0 | W16: =E61 -> 0 | X16: =F61 -> 0 | Y16: =G61 -> 0
A17: Piotr Choma; | B17: =B34 -> 0 | C17: =C34 -> 103200 | D17: =D34 -> 0 | E17: =E34 -> 114666.67 | F17: =F34 -> 0 | G17: =G34 -> 126133.33 | H17: =B43 -> 0 | I17: =C43 -> 113520 | J17: =D43 -> 0 | K17: =E43 -> 126133.33 | L17: =F43 -> 0 | M17: =G43 -> 138746.67 | N17: =B53 -> 0 | O17: =C53 -> 111868.8 | P17: =D53 -> 0 | Q17: =E53 -> 124298.67 | R17: =F53 -> 0 | S17: =G53 -> 136728.53 | T17: =B62 -> 0 | U17: =C62 -> 112509.73 | V17: =D62 -> 0 | W17: =E62 -> 125010.81 | X17: =F62 -> 0 | Y17: =G62 -> 137511.89
A18: Krzysztof Szwajdych; | B18: =B35 -> 0 | C18: =C35 -> 76800 | D18: =D35 -> 0 | E18: =E35 -> 85333.333 | F18: =F35 -> 0 | G18: =G35 -> 93866.667 | H18: =B44 -> 0 | I18: =C44 -> 84480 | J18: =D44 -> 0 | K18: =E44 -> 93866.667 | L18: =F44 -> 0 | M18: =G44 -> 103253.33 | N18: =B54 -> 0 | O18: =C54 -> 84864 | P18: =D54 -> 0 | Q18: =E54 -> 94293.333 | R18: =F54 -> 0 | S18: =G54 -> 103722.67 | T18: =B63 -> 0 | U18: =C63 -> 84729.549 | V18: =D63 -> 0 | W18: =E63 -> 94143.943 | X18: =F63 -> 0 | Y18: =G63 -> 103558.34
B21: I | C21: II | D21: III | E21: IV | F21: V | G21: VI | H21: VII | I21: VIII | J21: IX | K21: X | L21: XI | M21: XII
A22: Marża | B22: =C8 -> 252000 | C22: =D8 -> 280000 | D22: =E8 -> 308000 | E22: =F8 -> 277530.6 | F22: =G8 -> 308367.33 | G22: =H8 -> 339204.07 | H22: =I8 -> 278099.1 | I22: =J8 -> 308999 | ... M22: =N8 -> 339535.53 | N22: =SUM(B22:M22) -> 3618105 | O22: =N22/12 -> 301508.75
A23: Obrót | B23: =B22*100/37 -> 681081.08 | C23: =C22*100/37 -> 756756.76 | D23: =D22*100/37 -> 832432.43 | E23: =E22*100/38 -> 730343.68 | F23: =F22*100/38 -> 811492.98 | G23: =G22*100/38 -> 892642.28 | H23: =H22*100/37 -> 751619.19 | I23: =I22*100/37 -> 835132.43 | J23: =J22*100/37 -> 918645.68 | K23: =K22*100/37.5 -> 740804.8 | L23: =L22*100/37.5 -> 823116.44 | M23: =M22*100/37.5 -> 905428.09 | N23: =SUM(B23:M23) -> 9679495.8 | O23: =N23/12 -> 806624.65
D25: MINIMUM | F25: PLAN | H25: CEL
A26: Marża | B26: =DH!R3 -> 3288251.9 | D26: =F26*0.95 -> 3437199.8 | E26: =D26/B26-1 -> 0.045296971 | F26: =N22 -> 3618105 | G26: =F26/B26-1 -> 0.1003126 | H26: =F26*1.05 -> 3799010.2 | I26: =H26/B26-1 -> 0.15532823 | J26: =H26/4 -> 949752.56
A27: Obrót | B27: =DH!R16 -> 8740820.4 | D27: =F27*0.95 -> 9195521.1 | E27: =D27/B27-1 -> 0.052020358 | F27: =N23 -> 9679495.8 | G27: =F27/B27-1 -> 0.10738985 | H27: =F27*1.05 -> 10163471 | I27: =H27/B27-1 -> 0.16275934 | J27: =H27/4 -> 2540867.7
J28: =F26/12 -> 301508.75
B29: Styczeń | D29: Luty | F29: Marzec | H29: Q1
B30: Obrót | C30: Marża | D30: Obrót | E30: Marża | F30: Obrót | G30: Marża | H30: Obrót | I30: Marża | J30: Udział % w PSM | K30: Udział% w PSM zaokr | L30: Realizacja suma Q | M30: % sumy real.Q | N30: Ind. Kwota bazowa | O30: Kwota bazowa | P30: wynagr.zasad
A31: Tomasz Sypień; | C31: =(I31/3)*0.9 -> 63300 | E31: =I31/3 -> 70333.333 | G31: =I31/3*1.1 -> 77366.667 | I31: =161000+50000 -> 211000 | J31: =I31/I36 -> 0.25119048 | K31: =ROUND(J31,4) -> 0.2512 | L31: =TOMEK!E6 -> 143109.11 | M31: =L31/L36 -> 0.21053648 | N31: =N36*K31 -> 7033.6 | O31: =O36/4 -> 7000 | P31: 6800 | Q31: =O3*12%/12 -> 9174.5053
A32: Grupa RCKIK | C32: =(I32/3)*0.9 -> 8700 | E32: =I32/3 -> 9666.6667 | G32: =I32/3*1.1 -> 10633.333 | I32: 29000 | J32: =I32/I36 -> 0.03452381 | K32: =ROUND(J32,4) -> 0.0345 | L32: =RCKIK!E6 -> 24409.595 | M32: =L32/L36 -> 0.035910432 | N32: =N36*K32 -> 966 | P32: 1000 | Q32: =O4*12%/12 -> 1274.1421
C33: =(I33/3)*0.9 -> 0 | E33: =I33/3 -> 0 | G33: =I33/3*1.1 -> 0 | I33: 0 | J33: =I33/I36 -> 0 | L33: =BARTEK!E6 -> 0 | M33: =L33/L36 -> 0 | N33: =N36*K33 -> 0 | O33: =O36/4 -> 7000 | P33: 0 | Q33: =O5*12%/12 -> 0
A34: Piotr Choma; | C34: =(I34/3)*0.9 -> 103200 | E34: =I34/3 -> 114666.67 | G34: =I34/3*1.1 -> 126133.33 | I34: =234000+110000 -> 344000 | J34: =I34/I36 -> 0.40952381 | K34: =ROUND(J34,4) -> 0.4095 | L34: =PIOTR!E6 -> 309535.65 | M34: =L34/L36 -> 0.45537663 | N34: =N36*K34 -> 11466 | O34: =O36/4 -> 7000 | P34: 7500 | Q34: =O6*12%/12 -> 14703.284
A35: Krzysztof Szwajdych; | C35: =(I35/3)*0.9 -> 76800 | E35: =I35/3 -> 85333.333 | G35: =I35/3*1.1 -> 93866.667 | I35: =182000+74000 -> 256000 | J35: =I35/I36 -> 0.3047619 | K35: =ROUND(J35,4) -> 0.3048 | L35: =KRZYSZTOF!E6 -> 202681.12 | M35: =L35/L36 -> 0.29817646 | N35: =N36*K35 -> 8534.4 | O35: =O36/4 -> 7000 | P35: 6800 | Q35: =O7*12%/12 -> 11029.118
A36: Suma: | I36: =SUM(I31:I35) -> 840000 | J36: 1 | K36: =ROUND(J36,4) -> 1 | L36: =SUM(L31:L35) -> 679735.48 | M36: 1 | N36: 28000 | O36: 28000 | P36: =SUM(P31:P35) -> 22100
B38: Kwiecień | D38: Maj | F38: Czerwiec | H38: Q2
B39: Obrót | C39: Marża | D39: Obrót | E39: Marża | F39: Obrót | G39: Marża | H39: Obrót | I39: Marża | J39: Udział % w PSM | K39: Udział% w PSM zaokr | L39: Realizacja suma Q | M39: % sumy real.Q | N39: Ind. Kwota bazowa | O39: Kwota bazowa | P39: wynagr.zasad
A40: Tomasz Sypień; | C40: =(I40/3)*0.9 -> 69630 | E40: =I40/3 -> 77366.667 | G40: =I40/3*1.1 -> 85103.333 | I40: =I31*1.1 -> 232100 | J40: =I40/I45 -> 0.25089125 | K40: =ROUND(J40,4) -> 0.2509 | L40: =TOMEK!I6 -> 0 | M40: =L40/L45 -> #DIV/0! | N40: =N45*K40 -> 7727.72 | O40: =O45/3 -> 10266.667 | P40: 6800
A41: Grupa RCKIK | C41: =(I41/3)*0.9 -> 9900.6 | E41: =I41/3 -> 11000.667 | G41: =I41/3*1.1 -> 12100.733 | I41: =I32*1.138 -> 33002 | J41: =I41/I45 -> 0.035673904 | K41: =ROUND(J41,4) -> 0.0357 | L41: =RCKIK!I6 -> 0 | M41: =L41/L45 -> #DIV/0! | N41: =N45*K41 -> 1099.56 | P41: 1000
C42: =(I42/3)*0.9 -> 0 | E42: =I42/3 -> 0 | G42: =I42/3*1.1 -> 0 | I42: =I33*1.14012 -> 0 | J42: =I42/I45 -> 0 | L42: =BARTEK!I6 -> 0 | M42: =L42/L45 -> #DIV/0! | N42: =N45*K42 -> 0 | P42: 6800
A43: Piotr Choma; | C43: =(I43/3)*0.9 -> 113520 | E43: =I43/3 -> 126133.33 | G43: =I43/3*1.1 -> 138746.67 | I43: =I34*1.1 -> 378400 | J43: =I43/I45 -> 0.40903598 | K43: =ROUND(J43,4) -> 0.409 | L43: =PIOTR!I6 -> 0 | M43: =L43/L45 -> #DIV/0! | N43: =N45*K43 -> 12597.2 | O43: =O45/3 -> 10266.667 | P43: 7500
A44: Krzysztof Szwajdych; | C44: =(I44/3)*0.9 -> 84480 | E44: =I44/3 -> 93866.667 | G44: =I44/3*1.1 -> 103253.33 | I44: =I35*1.1 -> 281600 | J44: =I44/I45 -> 0.30439887 | K44: =ROUND(J44,4) -> 0.3044 | L44: =KRZYSZTOF!I6 -> 0 | M44: =L44/L45 -> #DIV/0! | N44: =N45*K44 -> 9375.52 | O44: =O45/3 -> 10266.667 | P44: 6800
A45: Suma: | I45: =SUM(I40:I44) -> 925102 | J45: 1 | K45: =ROUND(J45,4) -> 1 | L45: =SUM(L40:L44) -> 0 | M45: 1 | N45: 30800 | O45: 30800 | P45: =SUM(P40:P44) -> 28900
I46: 927000
B48: lipiec | D48: sierpień | F48: wrzesień | H48: Q3
B49: Obrót | C49: Marża | D49: Obrót | E49: Marża | F49: Obrót | G49: Marża | H49: Obrót | I49: Marża | J49: Udział % w PSM | K49: Udział% w PSM zaokr | L49: Realizacja suma Q | M49: % sumy real.Q | N49: Ind. Kwota bazowa | O49: Kwota bazowa | P49: wynagr.zasad
A50: Tomasz Sypień; | C50: =(I50/3)*0.9 -> 71465.7 | E50: =I50/3 -> 79406.333 | G50: =I50/3*1.1 -> 87346.967 | I50: =I31*1.129 -> 238219 | J50: =I50/I55 -> 0.25697926 | K50: =ROUND(J50,4) -> 0.257 | L50: =TOMEK!M6 -> 0 | M50: =L50/L55 -> #DIV/0! | N50: =N55*K50 -> 7196 | O50: =O55/4 -> 7000 | P50: 6800
A51: Grupa RCKIK | C51: =(I51/3)*0.9 -> 9900.6 | E51: =I51/3 -> 11000.667 | G51: =I51/3*1.1 -> 12100.733 | I51: =I32*1.138 -> 33002 | J51: =I51/I55 -> 0.035600978 | K51: =ROUND(J51,4) -> 0.0356 | L51: =RCKIK!M6 -> 0 | M51: =L51/L55 -> #DIV/0! | N51: =N55*K51 -> 996.8 | P51: 1000
C52: =(I52/3)*0.9 -> 0 | E52: =I52/3 -> 0 | G52: =I52/3*1.1 -> 0 | I52: =I33*1.14012 -> 0 | J52: =I52/I55 -> 0 | L52: =BARTEK!M6 -> 0 | M52: =L52/L55 -> #DIV/0! | N52: =N55*K52 -> 0 | P52: 6800
A53: Piotr Choma; | C53: =(I53/3)*0.9 -> 111868.8 | E53: =I53/3 -> 124298.67 | G53: =I53/3*1.1 -> 136728.53 | I53: =I34*1.084 -> 372896 | J53: =I53/I55 -> 0.40226236 | K53: =ROUND(J53,4) -> 0.4023 | L53: =PIOTR!M6 -> 0 | M53: =L53/L55 -> #DIV/0! | N53: =N55*K53 -> 11264.4 | O53: =O55/4 -> 7000 | P53: 7500
A54: Krzysztof Szwajdych; | C54: =(I54/3)*0.9 -> 84864 | E54: =I54/3 -> 94293.333 | G54: =I54/3*1.1 -> 103722.67 | I54: =I35*1.105 -> 282880 | J54: =I54/I55 -> 0.30515741 | K54: =ROUND(J54,4) -> 0.3052 | L54: =KRZYSZTOF!M6 -> 0 | M54: =L54/L55 -> #DIV/0! | N54: =N55*K54 -> 8545.6 | O54: =O55/4 -> 7000 | P54: 6800
A55: Suma: | I55: =SUM(I50:I54) -> 926997 | J55: 1 | K55: =ROUND(J55,4) -> 1 | L55: =SUM(L50:L54) -> 0 | M55: 1 | N55: 28000 | O55: 28000 | P55: =SUM(P50:P54) -> 28900
I56: 927000
B57: październik | D57: listopad | F57: grudzień | H57: Q4
B58: Obrót | C58: Marża | D58: Obrót | E58: Marża | F58: Obrót | G58: Marża | H58: Obrót | I58: Marża | J58: Udział % w PSM | K58: Udział% w PSM zaokr | L58: Realizacja suma Q | M58: % sumy real.Q | N58: Ind. Kwota bazowa | O58: Kwota bazowa | P58: wynagr.zasad
A59: Tomasz Sypień; | C59: =(I59/3)*0.9 -> 70839.459 | E59: =I59/3 -> 78710.51 | G59: =I59/3*1.1 -> 86581.561 | I59: =I64*J59 -> 236131.53 | J59: 0.255 | K59: =ROUND(J59,4) -> 0.255 | L59: =TOMEK!Q6 -> 0 | M59: =L59/L64 -> #DIV/0! | N59: =N64*K59 -> 7140 | O59: =O64/4 -> 7000 | P59: 6800
A60: Grupa RCKIK | C60: =(I60/3)*0.9 -> 9723.063 | E60: =I60/3 -> 10803.403 | G60: =I60/3*1.1 -> 11883.744 | I60: =I64*J60 -> 32410.21 | J60: 0.035 | K60: =ROUND(J60,4) -> 0.035 | L60: =RCKIK!Q6 -> 0 | M60: =L60/L64 -> #DIV/0! | N60: =N64*K60 -> 980 | P60: 1000
C61: =(I61/3)*0.9 -> 0 | E61: =I61/3 -> 0 | G61: =I61/3*1.1 -> 0 | I61: =I64*J61 -> 0 | J61: 0 | L61: =BARTEK!Q6 -> 0 | M61: =L61/L64 -> #DIV/0! | N61: =N64*K61 -> 0 | O61: =O64/4 -> 7000 | P61: 6800
A62: Piotr Choma; | C62: =(I62/3)*0.9 -> 112509.73 | E62: =I62/3 -> 125010.81 | G62: =I62/3*1.1 -> 137511.89 | I62: =I64*J62 -> 375032.43 | J62: 0.405 | K62: =ROUND(J62,4) -> 0.405 | L62: =PIOTR!Q6 -> 0 | M62: =L62/L64 -> #DIV/0! | N62: =N64*K62 -> 11340 | O62: =O64/4 -> 7000 | P62: 7500
A63: Krzysztof Szwajdych; | C63: =(I63/3)*0.9 -> 84729.549 | E63: =I63/3 -> 94143.943 | G63: =I63/3*1.1 -> 103558.34 | I63: =I64*J63 -> 282431.83 | J63: 0.305 | K63: =ROUND(J63,4) -> 0.305 | L63: =KRZYSZTOF!Q6 -> 0 | M63: =L63/L64 -> #DIV/0! | N63: =N64*K63 -> 8540 | O63: =O64/4 -> 7000 | P63: 6800
A64: Suma: | I64: 926006 | J64: 1 | K64: =ROUND(J64,4) -> 1 | L64: =SUM(L59:L63) -> 0 | M64: 1 | N64: 28000 | O64: 28000 | P64: =SUM(P59:P63) -> 28900
I65: =SUM(I59:I63) -> 926006

Sheet I
A1: Pracownik | B1: Grupa | C1: Towar | D1: Ilość | E1: Jm | F1: Brutto | G1: Netto | H1: Koszt | I1: Zysk | J1: Marża
A2: Grupa RCKIK | D2: 1259.94 | F2: 61485.859 | G2: 49988.5 | H2: 37349.622 | I2: 12638.878 | J2: 25.2835
A3: Tomasz Sypień | D3: 6654.054 | F3: 175086.89 | G3: 142347.05 | H3: 80085.543 | I3: 62261.508 | J3: 43.7392
A4: Krzysztof Szwajdych | D4: 3654.314 | F4: 265976.88 | G4: 216241.27 | H4: 120433.26 | I4: 95808.016 | J4: 44.306
A5: Piotr Choma | D5: 10763.597 | F5: 488575.88 | G5: 397215.97 | H5: 253775.78 | I5: 143440.19 | J5: 36.1113
A6: (Razem sprzedaż) | D6: 22331.905 | F6: 991125.5 | G6: 805792.75 | H6: 491644.2 | I6: 314148.56 | J6: 38.9862

Sheet II
A1: Pracownik | B1: Grupa | C1: Towar | D1: Ilość | E1: Jm | F1: Brutto | G1: Netto | H1: Koszt | I1: Zysk | J1: Marża
A2: Grupa RCKIK | D2: 695.195 | F2: 50099.609 | G2: 40731.379 | H2: 33460.448 | I2: 7270.9316 | J2: 17.8509
A3: Tomasz Sypień | D3: 3582.524 | F3: 141557.48 | G3: 115087.41 | H3: 68545.423 | I3: 46541.988 | J3: 40.4405
A4: Krzysztof Szwajdych | D4: 4392 | F4: 232459.44 | G4: 188991.48 | H4: 112555.38 | I4: 76436.102 | J4: 40.4442
A5: Piotr Choma | D5: 11149.798 | F5: 454935.97 | G5: 370181.72 | H5: 242107.18 | I5: 128074.54 | J5: 34.5977
A6: (Razem sprzedaż) | D6: 19819.517 | F6: 879052.5 | G6: 714992 | H6: 456668.43 | I6: 258323.56 | J6: 36.1295

Sheet III
A1: Pracownik | B1: Grupa | C1: Towar | D1: Ilość | E1: Jm | F1: Brutto | G1: Netto | H1: Koszt | I1: Zysk | J1: Marża
A2: Grupa RCKIK | D2: 283 | F2: 31490.981 | G2: 25602.42 | H2: 21102.635 | I2: 4499.7852 | J2: 17.5756
A3: Krzysztof Szwajdych | D3: 2119.1 | F3: 80823.891 | G3: 65710.469 | H3: 35273.465 | I3: 30437.004 | J3: 46.3198
A4: Tomasz Sypień | D4: 1631.03 | F4: 108381.42 | G4: 88114.977 | H4: 53809.364 | I4: 34305.617 | J4: 38.9327
A5: Piotr Choma | D5: 2288.08 | F5: 130391.25 | G5: 106009.03 | H5: 67988.105 | I5: 38020.926 | J5: 35.8657
A6: (Razem sprzedaż) | D6: 6321.21 | F6: 351087.53 | G6: 285436.91 | H6: 178173.57 | I6: 107263.33 | J6: 37.5786

Sheet IV

Sheet V

Sheet VI

Sheet VII

Sheet VIII

Sheet IX

Sheet X

Sheet XI

Sheet XII

Sheet 1
A1: Piotr Lasia | B1: PLAN IV KW Piotr Lasia | F1: PLAN III KW Piotr Lasia | J1: PLAN II KW Piotr Lasia | N1: PLAN I KW Piotr Lasia
A2: miesiąc | B2: październik | C2: listopad | D2: grudzień | E2: KW IV | F2: lipiec | G2: sierpień | H2: wrzesień | I2: KW III | J2: kwiecień | K2: maj | L2: czerwiec | M2: KW II | N2: styczeń | O2: luty | P2: marzec | Q2: KW I | R2: suma ROK
A4: Plan Sprzedaży Marża | B4: =Target!#REF! -> #REF! | C4: =Target!#REF! -> #REF! | D4: =Target!#REF! -> #REF! | E4: =SUM(B4:D4) -> #REF! | F4: =Target!#REF! -> #REF! | G4: =Target!#REF! -> #REF! | H4: =Target!#REF! -> #REF! | I4: =SUM(F4:H4) -> #REF! | J4: =Target!#REF! -> #REF! | K4: =Target!#REF! -> #REF! | L4: =Target!#REF! -> #REF! | M4: =SUM(J4:L4) -> #REF! | N4: =Target!#REF! -> #REF! | O4: =Target!#REF! -> #REF! | P4: =Target!#REF! -> #REF! | Q4: =SUM(N4:P4) -> #REF! | R4: =Q4+M4+I4+E4 -> #REF!
A5: Sumaryczny Plan Sprzedaży Marża | B5: =B4 -> #REF! | C5: =C4+B5 -> #REF! | D5: =D4+C5 -> #REF! | F5: =F4 -> #REF! | G5: =G4+F5 -> #REF! | H5: =H4+G5 -> #REF! | J5: =J4 -> #REF! | K5: =K4+J5 -> #REF! | L5: =L4+K5 -> #REF! | N5: =N4 -> #REF! | O5: =O4+N5 -> #REF! | P5: =P4+O5 -> #REF! | R5: =R6/R4 -> #REF!
A6: Miesięczna realizacja Planu Sprzedaży Marża | B6: =SUMIF(X!A:A,$A$1,X!I:I) -> 0 | C6: =SUMIF(XI!A:A,$A$1,XI!I:I) -> 0 | D6: =SUMIF(XII!A:A,$A$1,XII!I:I) -> 0 | E6: =SUM(B6:D6) -> 0 | F6: =SUMIF(VII!A:A,$A$1,VII!I:I) -> 0 | G6: =SUMIF(VIII!A:A,$A$1,VIII!I:I) -> 0 | H6: =SUMIF(IX!A:A,$A$1,IX!I:I) -> 0 | I6: =SUM(F6:H6) -> 0 | J6: =SUMIF(IV!A:A,$A$1,IV!I:I) -> 0 | K6: =SUMIF(V!A:A,$A$1,V!I:I) -> 0 | L6: =SUMIF(VI!A:A,$A$1,VI!I:I) -> 0 | M6: =SUM(J6:L6) -> 0 | N6: =SUMIF(I!A:A,$A$1,I!I:I) -> 0 | O6: =SUMIF(II!A:A,$A$1,II!I:I) -> 0 | P6: =SUMIF(III!A:A,$A$1,III!I:I) -> 0 | Q6: =SUM(N6:P6) -> 0 | R6: =Q6+M6+I6+E6 -> 0
A7: Sumaryczna realizacja planu sprzedaży Marża | B7: =B6 -> 0 | C7: =C6+B7 -> 0 | D7: =D6+C7 -> 0 | F7: =F6 -> 0 | G7: =G6+F7 -> 0 | H7: =H6+G7 -> 0 | J7: =J6 -> 0 | K7: =K6+J7 -> 0 | L7: =L6+K7 -> 0 | N7: =N6 -> 0 | O7: =O6+N7 -> 0 | P7: =P6+O7 -> 0
A8: Wysokość zrealizowania Miesięcznego Planu Sprzedaży Marża | B8: =B6/B4 -> #REF! | C8: =C6/C4 -> #REF! | D8: =D6/D4 -> #REF! | F8: =F6/F4 -> #REF! | G8: =G6/G4 -> #REF! | H8: =H6/H4 -> #REF! | J8: =J6/J4 -> #REF! | K8: =K6/K4 -> #REF! | L8: =L6/L4 -> #REF! | N8: =N6/N4 -> #REF! | O8: =O6/O4 -> #REF! | P8: =P6/P4 -> #REF!
A9: Wysokość zrealizowania Planu Sprzedaży Marża | B9: =B7/B5 -> #REF! | C9: =C7/C5 -> #REF! | D9: =D7/D5 -> #REF! | F9: =F7/F5 -> #REF! | G9: =G7/G5 -> #REF! | H9: =H7/H5 -> #REF! | J9: =J7/J5 -> #REF! | K9: =K7/K5 -> #REF! | L9: =L7/L5 -> #REF! | N9: =N7/N5 -> #REF! | O9: =O7/O5 -> #REF! | P9: =P7/P5 -> #REF!
A10: Różnica wskaźnika Marża | B10: =B7-B5 -> #REF! | C10: =C7-C5 -> #REF! | D10: =D7-D5 -> #REF! | F10: =F7-F5 -> #REF! | G10: =G7-G5 -> #REF! | H10: =H7-H5 -> #REF! | J10: =J7-J5 -> #REF! | K10: =K7-K5 -> #REF! | L10: =L7-L5 -> #REF! | N10: =N7-N5 -> #REF! | O10: =O7-O5 -> #REF! | P10: =P7-P5 -> #REF!
A11: Plan Sprzedaży Obrót | B11: =Target!#REF! -> #REF! | C11: =Target!#REF! -> #REF! | D11: =Target!#REF! -> #REF! | E11: =SUM(B11:D11) -> #REF! | F11: =Target!#REF! -> #REF! | G11: =Target!#REF! -> #REF! | H11: =Target!#REF! -> #REF! | I11: =SUM(F11:H11) -> #REF! | J11: =Target!#REF! -> #REF! | K11: =Target!#REF! -> #REF! | L11: =Target!#REF! -> #REF! | M11: =SUM(J11:L11) -> #REF! | N11: =Target!#REF! -> #REF! | O11: =Target!#REF! -> #REF! | P11: =Target!#REF! -> #REF! | Q11: =SUM(N11:P11) -> #REF! | R11: =Q11+M11+I11+E11 -> #REF!
A12: Sumaryczny Plan Sprzedaży Obrót | B12: =B11 -> #REF! | C12: =C11+B12 -> #REF! | D12: =D11+C12 -> #REF! | F12: =F11 -> #REF! | G12: =G11+F12 -> #REF! | H12: =H11+G12 -> #REF! | J12: =J11 -> #REF! | K12: =K11+J12 -> #REF! | L12: =L11+K12 -> #REF! | N12: =N11 -> #REF! | O12: =O11+N12 -> #REF! | P12: =P11+O12 -> #REF! | R12: =R13/R11 -> #REF!
A13: Miesięczna realizacja Planu Sprzedaży Obrót | B13: =SUMIF(X!A:A,$A$1,X!G:G) -> 0 | C13: =SUMIF(XI!A:A,$A$1,XI!G:G) -> 0 | D13: =SUMIF(XII!A:A,$A$1,XII!G:G) -> 0 | E13: =SUM(B13:D13) -> 0 | F13: =SUMIF(VII!A:A,$A$1,VII!G:G) -> 0 | G13: =SUMIF(VIII!A:A,$A$1,VIII!G:G) -> 0 | H13: =SUMIF(IX!A:A,$A$1,IX!G:G) -> 0 | I13: =SUM(F13:H13) -> 0 | J13: =SUMIF(IV!A:A,$A$1,IV!G:G) -> 0 | K13: =SUMIF(V!A:A,$A$1,V!G:G) -> 0 | L13: =SUMIF(VI!A:A,$A$1,VI!G:G) -> 0 | M13: =SUM(J13:L13) -> 0 | N13: =SUMIF(I!A:A,$A$1,I!G:G) -> 0 | O13: =SUMIF(II!A:A,$A$1,II!G:G) -> 0 | P13: =SUMIF(III!A:A,$A$1,III!G:G) -> 0 | Q13: =SUM(N13:P13) -> 0 | R13: =Q13+M13+I13+E13 -> 0
A14: Sumaryczna realizacja planu sprzedaży Obrót | B14: =B13 -> 0 | C14: =C13+B14 -> 0 | D14: =D13+C14 -> 0 | F14: =F13 -> 0 | G14: =G13+F14 -> 0 | H14: =H13+G14 -> 0 | J14: =J13 -> 0 | K14: =K13+J14 -> 0 | L14: =L13+K14 -> 0 | N14: =N13 -> 0 | O14: =O13+N14 -> 0 | P14: =P13+O14 -> 0
A15: Wysokość zrealizowania Miesięcznego Planu Sprzedaży Obrót | B15: =B13/B11 -> #REF! | C15: =C13/C11 -> #REF! | D15: =D13/D11 -> #REF! | F15: =F13/F11 -> #REF! | G15: =G13/G11 -> #REF! | H15: =H13/H11 -> #REF! | J15: =J13/J11 -> #REF! | K15: =K13/K11 -> #REF! | L15: =L13/L11 -> #REF! | N15: =N13/N11 -> #REF! | O15: =O13/O11 -> #REF! | P15: =P13/P11 -> #REF!
A16: Wysokość zrealizowania Planu Sprzedaży Obrót | B16: =B14/B12 -> #REF! | C16: =C14/C12 -> #REF! | D16: =D14/D12 -> #REF! | F16: =F14/F12 -> #REF! | G16: =G14/G12 -> #REF! | H16: =H14/H12 -> #REF! | J16: =J14/J12 -> #REF! | K16: =K14/K12 -> #REF! | L16: =L14/L12 -> #REF! | N16: =N14/N12 -> #REF! | O16: =O14/O12 -> #REF! | P16: =P14/P12 -> #REF!
A17: Różnica wskaźnika Obrót | B17: =B14-B12 -> #REF! | C17: =C14-C12 -> #REF! | D17: =D14-D12 -> #REF! | F17: =F14-F12 -> #REF! | G17: =G14-G12 -> #REF! | H17: =H14-H12 -> #REF! | J17: =J14-J12 -> #REF! | K17: =K14-K12 -> #REF! | L17: =L14-L12 -> #REF! | N17: =N14-N12 -> #REF! | O17: =O14-O12 -> #REF! | P17: =P14-P12 -> #REF!
A18: Wysokość Marży miesięcznej | B18: =B6/B13 -> #DIV/0! | C18: =C6/C13 -> #DIV/0! | D18: =D6/D13 -> #DIV/0! | F18: =F6/F13 -> #DIV/0! | G18: =G6/G13 -> #DIV/0! | H18: =H6/H13 -> #DIV/0! | J18: =J6/J13 -> #DIV/0! | K18: =K6/K13 -> #DIV/0! | L18: =L6/L13 -> #DIV/0! | N18: =N6/N13 -> #DIV/0! | O18: =O6/O13 -> #DIV/0! | P18: =P6/P13 -> #DIV/0!
A19: Wysokość Marży sumarycznej | B19: =B7/B14 -> #DIV/0! | C19: =C7/C14 -> #DIV/0! | D19: =D7/D14 -> #DIV/0! | F19: =F7/F14 -> #DIV/0! | G19: =G7/G14 -> #DIV/0! | H19: =H7/H14 -> #DIV/0! | J19: =J7/J14 -> #DIV/0! | K19: =K7/K14 -> #DIV/0! | L19: =L7/L14 -> #DIV/0! | N19: =N7/N14 -> #DIV/0! | O19: =O7/O14 -> #DIV/0! | P19: =P7/P14 -> #DIV/0!
N21: PREMIE
A22: Wynagrodzenie zasadnicze | B22: 3450 | C22: 3450 | D22: 3450 | F22: 3450 | G22: 3450 | H22: 3450 | J22: 3450 | K22: 3450 | L22: 3450 | N22: 3450 | O22: 3450 | P22: 3450
A23: Wskaźnik Plan Sprzedaży Marża | B23: =B5 -> #REF! | C23: =C5 -> #REF! | D23: =D5 -> #REF! | F23: =F5 -> #REF! | G23: =G5 -> #REF! | H23: =H5 -> #REF! | J23: =J5 -> #REF! | K23: =K5 -> #REF! | L23: =L5 -> #REF! | N23: =N5 -> #REF! | O23: =O5 -> #REF! | P23: =P5 -> #REF!
A24: Realizacja Wskaźnika Planu Sprzedaży Marża | B24: =B7 -> 0 | C24: =C7 -> 0 | D24: =D7 -> 0 | F24: =F7 -> 0 | G24: =G7 -> 0 | H24: =H7 -> 0 | J24: =J7 -> 0 | K24: =K7 -> 0 | L24: =L7 -> 0 | N24: =N7 -> 0 | O24: =O7 -> 0 | P24: =P7 -> 0
A25: Poziom realizacji Wskaźnika Sprzedaży Marża | B25: =B24/B23 -> #REF! | C25: =C24/C23 -> #REF! | D25: =D24/D23 -> #REF! | F25: =F24/F23 -> #REF! | G25: =G24/G23 -> #REF! | H25: =H24/H23 -> #REF! | J25: =J24/J23 -> #REF! | K25: =K24/K23 -> #REF! | L25: =L24/L23 -> #REF! | N25: =N24/N23 -> #REF! | O25: =O24/O23 -> #REF! | P25: =P24/P23 -> #REF!
A26: Wysokość premii Wskaźnik Sprzedaży Marża | B26: =B22*0.3 -> 1035 | C26: =C22*0.3 -> 1035 | D26: =D22*0.3 -> 1035 | F26: =F22*0.3 -> 1035 | G26: =G22*0.3 -> 1035 | H26: =H22*0.3 -> 1035 | J26: =J22*0.3 -> 1035 | K26: =K22*0.3 -> 1035 | L26: =L22*0.3 -> 1035 | N26: =N22*0.3 -> 1035 | O26: =O22*0.3 -> 1035 | P26: =P22*0.3 -> 1035
A27: Mnożnik premii miesięcznej Wskaźnika Sprzedaży Marża | B27: =IF(B25<80%,0,IF(B25<90%,0.5,IF(B25<95%,0.75,1))) -> #REF! | C27: =IF(C25<80%,0,IF(C25<90%,0.5,IF(C25<95%,0.75,1))) -> #REF! | D27: =IF(D25<80%,0,IF(D25<90%,0.5,IF(D25<95%,0.75,1))) -> #REF! | F27: =IF(F25<80%,0,IF(F25<90%,0.5,IF(F25<95%,0.75,1))) -> #REF! | G27: =IF(G25<80%,0,IF(G25<90%,0.5,IF(G25<95%,0.75,1))) -> #REF! | H27: =IF(H25<80%,0,IF(H25<90%,0.5,IF(H25<95%,0.75,1))) -> #REF! | J27: =IF(J25<80%,0,IF(J25<90%,0.5,IF(J25<95%,0.75,1))) -> #REF! | K27: =IF(K25<80%,0,IF(K25<90%,0.5,IF(K25<95%,0.75,1))) -> #REF! | L27: =IF(L25<80%,0,IF(L25<90%,0.5,IF(L25<95%,0.75,1))) -> #REF! | N27: =IF(N25<80%,0,IF(N25<90%,0.5,IF(N25<95%,0.75,1))) -> #REF! | O27: =IF(O25<80%,0,IF(O25<90%,0.5,IF(O25<95%,0.75,1))) -> #REF! | P27: =IF(P25<80%,0,IF(P25<90%,0.5,IF(P25<95%,0.75,1))) -> #REF!
A28: Premia miesięczna za Wskaźnik Sprzedaży Marża | B28: =B27*B26 -> #REF! | C28: =C27*C26 -> #REF! | D28: =D27*D26 -> #REF! | F28: =F27*F26 -> #REF! | G28: =G27*G26 -> #REF! | H28: =H27*H26 -> #REF! | J28: =J27*J26 -> #REF! | K28: =K27*K26 -> #REF! | L28: =L27*L26 -> #REF! | N28: =N27*N26 -> #REF! | O28: =O27*O26 -> #REF! | P28: =P27*P26 -> #REF!
A29: Wskaźnik Plan Sprzedaży Obrót | B29: =B12 -> #REF! | C29: =C12 -> #REF! | D29: =D12 -> #REF! | F29: =F12 -> #REF! | G29: =G12 -> #REF! | H29: =H12 -> #REF! | J29: =J12 -> #REF! | K29: =K12 -> #REF! | L29: =L12 -> #REF! | N29: =N12 -> #REF! | O29: =O12 -> #REF! | P29: =P12 -> #REF!
A30: Realizacja Wskaźnika Planu Sprzedaży Obrót | B30: =B14 -> 0 | C30: =C14 -> 0 | D30: =D14 -> 0 | F30: =F14 -> 0 | G30: =G14 -> 0 | H30: =H14 -> 0 | J30: =J14 -> 0 | K30: =K14 -> 0 | L30: =L14 -> 0 | N30: =N14 -> 0 | O30: =O14 -> 0 | P30: =P14 -> 0
A31: Poziom realizacji Wskaźnika Sprzedaży Obrót | B31: =B30/B29 -> #REF! | C31: =C30/C29 -> #REF! | D31: =D30/D29 -> #REF! | F31: =F30/F29 -> #REF! | G31: =G30/G29 -> #REF! | H31: =H30/H29 -> #REF! | J31: =J30/J29 -> #REF! | K31: =K30/K29 -> #REF! | L31: =L30/L29 -> #REF! | N31: =N30/N29 -> #REF! | O31: =O30/O29 -> #REF! | P31: =P30/P29 -> #REF!
A32: Wysokość premii Wskaźnik Sprzedaży Obrót | B32: =B22*0.15 -> 517.5 | C32: =C22*0.15 -> 517.5 | D32: =D22*0.15 -> 517.5 | F32: =F22*0.15 -> 517.5 | G32: =G22*0.15 -> 517.5 | H32: =H22*0.15 -> 517.5 | J32: =J22*0.15 -> 517.5 | K32: =K22*0.15 -> 517.5 | L32: =L22*0.15 -> 517.5 | N32: =N22*0.15 -> 517.5 | O32: =O22*0.15 -> 517.5 | P32: =P22*0.15 -> 517.5
A33: Mnożnik premii miesięcznej Wskaźnika Sprzedaży Obrót | B33: =IF(B31<80%,0,IF(B31<90%,0.5,IF(B31<95%,0.75,1))) -> #REF! | C33: =IF(C31<80%,0,IF(C31<90%,0.5,IF(C31<95%,0.75,1))) -> #REF! | D33: =IF(D31<80%,0,IF(D31<90%,0.5,IF(D31<95%,0.75,1))) -> #REF! | F33: =IF(F31<80%,0,IF(F31<90%,0.5,IF(F31<95%,0.75,1))) -> #REF! | G33: =IF(G31<80%,0,IF(G31<90%,0.5,IF(G31<95%,0.75,1))) -> #REF! | H33: =IF(H31<80%,0,IF(H31<90%,0.5,IF(H31<95%,0.75,1))) -> #REF! | J33: =IF(J31<80%,0,IF(J31<90%,0.5,IF(J31<95%,0.75,1))) -> #REF! | K33: =IF(K31<80%,0,IF(K31<90%,0.5,IF(K31<95%,0.75,1))) -> #REF! | L33: =IF(L31<80%,0,IF(L31<90%,0.5,IF(L31<95%,0.75,1))) -> #REF! | N33: =IF(N31<80%,0,IF(N31<90%,0.5,IF(N31<95%,0.75,1))) -> #REF! | O33: =IF(O31<80%,0,IF(O31<90%,0.5,IF(O31<95%,0.75,1))) -> #REF! | P33: =IF(P31<80%,0,IF(P31<90%,0.5,IF(P31<95%,0.75,1))) -> #REF!
A34: Premia miesięczna za Wskaźnik Sprzedaży Obrót | B34: =B33*B32 -> #REF! | C34: =C33*C32 -> #REF! | D34: =D33*D32 -> #REF! | F34: =F33*F32 -> #REF! | G34: =G33*G32 -> #REF! | H34: =H33*H32 -> #REF! | J34: =J33*J32 -> #REF! | K34: =K33*K32 -> #REF! | L34: =L33*L32 -> #REF! | N34: =N33*N32 -> #REF! | O34: =O33*O32 -> #REF! | P34: =P33*P32 -> #REF!
A35: Wskaźnik CRM | B35: 1 | C35: 1 | D35: 1 | F35: 1 | G35: 1 | H35: 1 | J35: 1 | K35: 1 | L35: 1 | N35: 1 | O35: 1 | P35: 1
A36: Wysokość premii CRM | B36: =B22*0.05 -> 172.5 | C36: =C22*0.05 -> 172.5 | D36: =D22*0.05 -> 172.5 | F36: =F22*0.05 -> 172.5 | G36: =G22*0.05 -> 172.5 | H36: =H22*0.05 -> 172.5 | J36: =J22*0.05 -> 172.5 | K36: =K22*0.05 -> 172.5 | L36: =L22*0.05 -> 172.5 | N36: =N22*0.05 -> 172.5 | O36: =O22*0.05 -> 172.5 | P36: =P22*0.05 -> 172.5
A37: Mnożnik premii Wskaźnik CRM | F37: 1 | G37: 1 | J37: 1 | K37: 1 | L37: 1 | N37: 1 | O37: 1 | P37: 1
A38: Premia miesięczna za Wskaźnik CRM | B38: =B37*B36 -> 0 | C38: =C37*C36 -> 0 | D38: =D37*D36 -> 0 | F38: =F37*F36 -> 172.5 | G38: =G37*G36 -> 172.5 | H38: =H37*H36 -> 0 | J38: =J37*J36 -> 172.5 | K38: =K37*K36 -> 172.5 | L38: =L37*L36 -> 172.5 | N38: =N37*N36 -> 172.5 | O38: =O37*O36 -> 172.5 | P38: =P37*P36 -> 172.5
A39: Suma Premii miesięcznych | B39: =B34+B28+B38 -> #REF! | C39: =C34+C28+C38 -> #REF! | D39: =D34+D28+D38 -> #REF! | F39: =F34+F28+F38 -> #REF! | G39: =G34+G28+G38 -> #REF! | H39: =H34+H28+H38 -> #REF! | J39: =J34+J28+J38 -> #REF! | K39: =K34+K28+K38+129.37 -> #REF! | L39: =L34+L28+L38 -> #REF! | N39: =N34+N28+N38 -> #REF! | O39: =O34+O28+O38 -> #REF! | P39: =P34+P28+P38 -> #REF!
A40: Wskaźnik Premia Kwartalna Marża | B40: =D5 -> #REF! | F40: =H5 -> #REF! | J40: =L5 -> #REF! | N40: =P5 -> #REF!
A41: Realizacja Wskaźnika Premia Kwartalna | B41: =D7 -> 0 | F41: =H7 -> 0 | J41: =L7 -> 0 | N41: =P7 -> 0
A42: Poziom realizacji Wskaźnika Premia Kwartalna | B42: =B41/B40 -> #REF! | F42: =F41/F40 -> #REF! | J42: =J41/J40 -> #REF! | N42: =N41/N40 -> #REF!
A43: Wysokość premii kwartalnej. | B43: =D22 -> 3450 | F43: =H22 -> 3450 | J43: =L22 -> 3450 | N43: =P22 -> 3450
A44: Mnożnik premii kwartalnej | B44: =IF(B42<100%,0,IF(B42<110%,0.5,1)) -> #REF! | F44: =IF(F42<100%,0,IF(F42<110%,0.5,1)) -> #REF! | J44: =IF(J42<100%,0,IF(J42<110%,0.5,1)) -> #REF! | N44: =IF(N42<100%,0,IF(N42<110%,0.5,1)) -> #REF!
A45: Premia kwartalna | B45: =B44*B43 -> #REF! | F45: =F44*F43 -> #REF! | J45: =J44*J43 -> #REF! | N45: =N44*N43 -> #REF!
A47: Raport za miesiąc: | B47: paździer. | C47: listopad | D47: grudzień | E47: Suma | F47: lipiec | G47: sierpień | H47: wrzesień | I47: Suma | J47: kwiecień | K47: maj | L47: czerwiec | M47: Suma | N47: styczeń | O47: luty | P47: marzec | Q47: Suma | R47: Suma
A48: Ilość nowych Klientów: | E48: =SUM(B48:D48) -> 0 | I48: =SUM(F48:H48) -> 0 | M48: =SUM(J48:L48) -> 0 | Q48: =SUM(N48:P48) -> 0 | R48: =M48+I48+E48+Q48 -> 0
A49: Ilość Podmiotów na etapie współpracy Klient:
A50: Ilość Podmiotów na etapie współpracy Handlowy:
A51: Ilość Podmiotów na etapie współpracy Klient nieaktywny:
A52: Ilość Podmiotów pod opieką:
A53: Ilość sprzedanych drukarek: | E53: =SUM(B53:D53) -> 0 | I53: =SUM(F53:H53) -> 0 | M53: =SUM(J53:L53) -> 0 | Q53: =SUM(N53:P53) -> 0 | R53: =M53+I53+E53+Q53 -> 0
A54: Ilość ofert dodanych w danym miesiącu: | E54: =SUM(B54:D54) -> 0 | I54: =SUM(F54:H54) -> 0 | M54: =SUM(J54:L54) -> 0 | Q54: =SUM(N54:P54) -> 0 | R54: =M54+I54+E54+Q54 -> 0
A55: Ilość ofert oczekujących na decyzję kontrahenta:
A56: Ilość zaakceptowanych ofert przez kontrahenta: | E56: =SUM(B56:D56) -> 0 | I56: =SUM(F56:H56) -> 0 | M56: =SUM(J56:L56) -> 0 | Q56: =SUM(N56:P56) -> 0 | R56: =M56+I56+E56+Q56 -> 0
A57: Ilość odrzuconych ofert przez kontrahenta: | E57: =SUM(B57:D57) -> 0 | I57: =SUM(F57:H57) -> 0 | M57: =SUM(J57:L57) -> 0 | Q57: =SUM(N57:P57) -> 0 | R57: =M57+I57+E57+Q57 -> 0
A58: Ilość przekazanych podmiotów: | E58: =SUM(B58:D58) -> 0 | I58: =SUM(F58:H58) -> 0 | M58: =SUM(J58:L58) -> 0 | Q58: =SUM(N58:P58) -> 0 | R58: =M58+I58+E58+Q58 -> 0
A59: Ilość odebranych podmiotów (zmiana prowadzącego): | E59: =SUM(B59:D59) -> 0 | I59: =SUM(F59:H59) -> 0 | M59: =SUM(J59:L59) -> 0 | Q59: =SUM(N59:P59) -> 0 | R59: =M59+I59+E59+Q59 -> 0
A60: Ilość spotkań z Klientami: | E60: =SUM(B60:D60) -> 0 | I60: =SUM(F60:H60) -> 0 | M60: =SUM(J60:L60) -> 0 | Q60: =SUM(N60:P60) -> 0 | R60: =M60+I60+E60+Q60 -> 0
A61: Ilość aktualnie otwartych wdrożeń:
A62: Ilość wdrożeń dodanych w danym miesiącu: | E62: =SUM(B62:D62) -> 0 | I62: =SUM(F62:H62) -> 0 | M62: =SUM(J62:L62) -> 0 | Q62: =SUM(N62:P62) -> 0 | R62: =M62+I62+E62+Q62 -> 0
A63: Ilość wdrożeń zamkniętych pozytywnie w danym mcu: | E63: =SUM(B63:D63) -> 0 | I63: =SUM(F63:H63) -> 0 | M63: =SUM(J63:L63) -> 0 | Q63: =SUM(N63:P63) -> 0 | R63: =M63+I63+E63+Q63 -> 0
A64: Ilość wdrożeń zamkniętych negatywnie w danym mcu: | E64: =SUM(B64:D64) -> 0 | I64: =SUM(F64:H64) -> 0 | M64: =SUM(J64:L64) -> 0 | Q64: =SUM(N64:P64) -> 0 | R64: =M64+I64+E64+Q64 -> 0
A65: Ilość aktualnie odłożonych wdrożeń:

Sheet 0
A1: Agnieszka Zagaja | B1: PLAN IV KW Agnieszka Zagaja | F1: PLAN III KW Agnieszka Zagaja | J1: PLAN II KW Agnieszka Zagaja | N1: PLAN I KW Agnieszka Zagaja
A2: miesiąc | B2: październik | C2: listopad | D2: grudzień | E2: KW IV | F2: lipiec | G2: sierpień | H2: wrzesień | I2: KW III | J2: kwiecień | K2: maj | L2: czerwiec | M2: KW II | N2: styczeń | O2: luty | P2: marzec | Q2: KW I | R2: suma ROK
A4: Plan Sprzedaży Marża | B4: =Target!#REF! -> #REF! | C4: =Target!#REF! -> #REF! | D4: =Target!#REF! -> #REF! | E4: =SUM(B4:D4) -> #REF! | F4: =Target!#REF! -> #REF! | G4: =Target!#REF! -> #REF! | H4: =Target!#REF! -> #REF! | I4: =SUM(F4:H4) -> #REF! | J4: =Target!#REF! -> #REF! | K4: =Target!#REF! -> #REF! | L4: =Target!#REF! -> #REF! | N4: =Target!#REF! -> #REF! | O4: =Target!#REF! -> #REF! | P4: =Target!#REF! -> #REF! | Q4: =SUM(N4:P4) -> #REF! | R4: =Q4+M4+I4+E4 -> #REF!
A5: Sumaryczny Plan Sprzedaży Marża | B5: =B4 -> #REF! | C5: =C4+B5 -> #REF! | D5: =D4+C5 -> #REF! | F5: =F4 -> #REF! | G5: =G4+F5 -> #REF! | H5: =H4+G5 -> #REF! | J5: =J4 -> #REF! | K5: =K4+J5 -> #REF! | L5: =L4+K5 -> #REF! | N5: =N4 -> #REF! | O5: =O4+N5 -> #REF! | P5: =P4+O5 -> #REF!
A6: Miesięczna realizacja Planu Sprzedaży Marża | B6: =SUMIF(X!A:A,$A$1,X!I:I) -> 0 | C6: =SUMIF(XI!A:A,$A$1,XI!I:I) -> 0 | D6: =SUMIF(XII!A:A,$A$1,XII!I:I) -> 0 | E6: =SUM(B6:D6) -> 0 | F6: =SUMIF(VII!A:A,$A$1,VII!I:I) -> 0 | G6: =SUMIF(VIII!A:A,$A$1,VIII!I:I) -> 0 | H6: =SUMIF(IX!A:A,$A$1,IX!I:I) -> 0 | I6: =SUM(F6:H6) -> 0 | J6: =SUMIF(IV!A:A,$A$1,IV!I:I) -> 0 | K6: =SUMIF(V!A:A,$A$1,V!I:I) -> 0 | L6: =SUMIF(VI!A:A,$A$1,VI!I:I) -> 0 | M6: =SUM(J6:L6) -> 0 | N6: =SUMIF(I!A:A,$A$1,I!I:I) -> 0 | O6: =SUMIF(II!A:A,$A$1,II!I:I) -> 0 | P6: =SUMIF(III!A:A,$A$1,III!I:I) -> 0 | Q6: =SUM(N6:P6) -> 0 | R6: =Q6+M6+I6+E6 -> 0
A7: Sumaryczna realizacja planu sprzedaży Marża | B7: =B6 -> 0 | C7: =C6+B7 -> 0 | D7: =D6+C7 -> 0 | F7: =F6 -> 0 | G7: =G6+F7 -> 0 | H7: =H6+G7 -> 0 | J7: =J6 -> 0 | K7: =K6+J7 -> 0 | L7: =L6+K7 -> 0 | N7: =N6 -> 0 | O7: =O6+N7 -> 0 | P7: =P6+O7 -> 0
A8: Wysokość zrealizowania Miesięcznego Planu Sprzedaży Marża | B8: =B6/B4 -> #REF! | C8: =C6/C4 -> #REF! | D8: =D6/D4 -> #REF! | F8: =F6/F4 -> #REF! | G8: =G6/G4 -> #REF! | H8: =H6/H4 -> #REF! | J8: =J6/J4 -> #REF! | K8: =K6/K4 -> #REF! | L8: =L6/L4 -> #REF! | N8: =N6/N4 -> #REF! | O8: =O6/O4 -> #REF! | P8: =P6/P4 -> #REF!
A9: Wysokość zrealizowania Planu Sprzedaży Marża | B9: =B7/B5 -> #REF! | C9: =C7/C5 -> #REF! | D9: =D7/D5 -> #REF! | F9: =F7/F5 -> #REF! | G9: =G7/G5 -> #REF! | H9: =H7/H5 -> #REF! | J9: =J7/J5 -> #REF! | K9: =K7/K5 -> #REF! | L9: =L7/L5 -> #REF! | N9: =N7/N5 -> #REF! | O9: =O7/O5 -> #REF! | P9: =P7/P5 -> #REF!
A10: Różnica wskaźnika Marża | B10: =B7-B5 -> #REF! | C10: =C7-C5 -> #REF! | D10: =D7-D5 -> #REF! | F10: =F7-F5 -> #REF! | G10: =G7-G5 -> #REF! | H10: =H7-H5 -> #REF! | J10: =J7-J5 -> #REF! | K10: =K7-K5 -> #REF! | L10: =L7-L5 -> #REF! | N10: =N7-N5 -> #REF! | O10: =O7-O5 -> #REF! | P10: =P7-P5 -> #REF!
A11: Plan Sprzedaży Obrót | B11: =Target!#REF! -> #REF! | C11: =Target!#REF! -> #REF! | D11: =Target!#REF! -> #REF! | E11: =SUM(B11:D11) -> #REF! | F11: =Target!#REF! -> #REF! | G11: =Target!#REF! -> #REF! | H11: =Target!#REF! -> #REF! | I11: =SUM(F11:H11) -> #REF! | K11: =Target!#REF! -> #REF! | L11: =Target!#REF! -> #REF! | M11: =SUM(J11:L11) -> #REF! | N11: =Target!#REF! -> #REF! | O11: =Target!#REF! -> #REF! | P11: =Target!#REF! -> #REF! | Q11: =SUM(N11:P11) -> #REF! | R11: =Q11+M11+I11+E11 -> #REF!
A12: Sumaryczny Plan Sprzedaży Obrót | B12: =B11 -> #REF! | C12: =C11+B12 -> #REF! | D12: =D11+C12 -> #REF! | F12: =F11 -> #REF! | G12: =G11+F12 -> #REF! | H12: =H11+G12 -> #REF! | J12: =J11 -> 0 | K12: =K11+J12 -> #REF! | L12: =L11+K12 -> #REF! | N12: =N11 -> #REF! | O12: =O11+N12 -> #REF! | P12: =P11+O12 -> #REF!
A13: Miesięczna realizacja Planu Sprzedaży Obrót | B13: =SUMIF(X!A:A,$A$1,X!G:G) -> 0 | C13: =SUMIF(XI!A:A,$A$1,XI!G:G) -> 0 | D13: =SUMIF(XII!A:A,$A$1,XII!G:G) -> 0 | E13: =SUM(B13:D13) -> 0 | F13: =SUMIF(VII!A:A,$A$1,VII!G:G) -> 0 | G13: =SUMIF(VIII!A:A,$A$1,VIII!G:G) -> 0 | H13: =SUMIF(IX!A:A,$A$1,IX!G:G) -> 0 | I13: =SUM(F13:H13) -> 0 | J13: =SUMIF(IV!A:A,$A$1,IV!G:G) -> 0 | K13: =SUMIF(V!A:A,$A$1,V!G:G) -> 0 | L13: =SUMIF(VI!A:A,$A$1,VI!G:G) -> 0 | M13: =SUM(J13:L13) -> 0 | N13: =SUMIF(I!A:A,$A$1,I!G:G) -> 0 | O13: =SUMIF(II!A:A,$A$1,II!G:G) -> 0 | P13: =SUMIF(III!A:A,$A$1,III!G:G) -> 0 | Q13: =SUM(N13:P13) -> 0 | R13: =Q13+M13+I13+E13 -> 0
A14: Sumaryczna realizacja planu sprzedaży Obrót | B14: =B13 -> 0 | C14: =C13+B14 -> 0 | D14: =D13+C14 -> 0 | F14: =F13 -> 0 | G14: =G13+F14 -> 0 | H14: =H13+G14 -> 0 | J14: =J13 -> 0 | K14: =K13+J14 -> 0 | L14: =L13+K14 -> 0 | N14: =N13 -> 0 | O14: =O13+N14 -> 0 | P14: =P13+O14 -> 0
A15: Wysokość zrealizowania Miesięcznego Planu Sprzedaży Obrót | B15: =B13/B11 -> #REF! | C15: =C13/C11 -> #REF! | D15: =D13/D11 -> #REF! | F15: =F13/F11 -> #REF! | G15: =G13/G11 -> #REF! | H15: =H13/H11 -> #REF! | J15: =J13/J11 -> #DIV/0! | K15: =K13/K11 -> #REF! | L15: =L13/L11 -> #REF! | N15: =N13/N11 -> #REF! | O15: =O13/O11 -> #REF! | P15: =P13/P11 -> #REF!
A16: Wysokość zrealizowania Planu Sprzedaży Obrót | B16: =B14/B12 -> #REF! | C16: =C14/C12 -> #REF! | D16: =D14/D12 -> #REF! | F16: =F14/F12 -> #REF! | G16: =G14/G12 -> #REF! | H16: =H14/H12 -> #REF! | J16: =J14/J12 -> #DIV/0! | K16: =K14/K12 -> #REF! | L16: =L14/L12 -> #REF! | N16: =N14/N12 -> #REF! | O16: =O14/O12 -> #REF! | P16: =P14/P12 -> #REF!
A17: Różnica wskaźnika Obrót | B17: =B14-B12 -> #REF! | C17: =C14-C12 -> #REF! | D17: =D14-D12 -> #REF! | F17: =F14-F12 -> #REF! | G17: =G14-G12 -> #REF! | H17: =H14-H12 -> #REF! | J17: =J14-J12 -> 0 | K17: =K14-K12 -> #REF! | L17: =L14-L12 -> #REF! | N17: =N14-N12 -> #REF! | O17: =O14-O12 -> #REF! | P17: =P14-P12 -> #REF!
A18: Wysokość Marży miesięcznej | B18: =B6/B13 -> #DIV/0! | C18: =C6/C13 -> #DIV/0! | D18: =D6/D13 -> #DIV/0! | F18: =F6/F13 -> #DIV/0! | G18: =G6/G13 -> #DIV/0! | H18: =H6/H13 -> #DIV/0! | J18: =J6/J13 -> #DIV/0! | K18: =K6/K13 -> #DIV/0! | L18: =L6/L13 -> #DIV/0! | N18: =N6/N13 -> #DIV/0! | O18: =O6/O13 -> #DIV/0! | P18: =P6/P13 -> #DIV/0!
A19: Wysokość Marży sumarycznej | B19: =B7/B14 -> #DIV/0! | C19: =C7/C14 -> #DIV/0! | D19: =D7/D14 -> #DIV/0! | F19: =F7/F14 -> #DIV/0! | G19: =G7/G14 -> #DIV/0! | H19: =H7/H14 -> #DIV/0! | J19: =J7/J14 -> #DIV/0! | K19: =K7/K14 -> #DIV/0! | L19: =L7/L14 -> #DIV/0! | N19: =N7/N14 -> #DIV/0! | O19: =O7/O14 -> #DIV/0! | P19: =P7/P14 -> #DIV/0!
N21: PREMIE
A22: Wynagrodzenie zasadnicze | B22: 0 | C22: 0 | D22: 0 | F22: 0 | G22: 0 | H22: 0 | J22: 0 | K22: 0 | L22: 0 | N22: 0 | O22: 0 | P22: 0
A23: Wskaźnik Plan Sprzedaży Marża | B23: =B5 -> #REF! | C23: =C5 -> #REF! | D23: =D5 -> #REF! | F23: =F5 -> #REF! | G23: =G5 -> #REF! | H23: =H5 -> #REF! | J23: =J5 -> #REF! | K23: =K5 -> #REF! | L23: =L5 -> #REF! | N23: =N5 -> #REF! | O23: =O5 -> #REF! | P23: =P5 -> #REF!
A24: Realizacja Wskaźnika Planu Sprzedaży Marża | B24: =B7 -> 0 | C24: =C7 -> 0 | D24: =D7 -> 0 | F24: =F7 -> 0 | G24: =G7 -> 0 | H24: =H7 -> 0 | J24: =J7 -> 0 | K24: =K7 -> 0 | L24: =L7 -> 0 | N24: =N7 -> 0 | O24: =O7 -> 0 | P24: =P7 -> 0
A25: Poziom realizacji Wskaźnika Sprzedaży Marża | B25: =B24/B23 -> #REF! | C25: =C24/C23 -> #REF! | D25: =D24/D23 -> #REF! | F25: =F24/F23 -> #REF! | G25: =G24/G23 -> #REF! | H25: =H24/H23 -> #REF! | J25: =J24/J23 -> #REF! | K25: =K24/K23 -> #REF! | L25: =L24/L23 -> #REF! | N25: =N24/N23 -> #REF! | O25: =O24/O23 -> #REF! | P25: =P24/P23 -> #REF!
A26: Wysokość premii Wskaźnik Sprzedaży Marża | B26: =B22*0.2 -> 0 | C26: =C22*0.2 -> 0 | D26: =D22*0.2 -> 0 | F26: =F22*0.2 -> 0 | G26: =G22*0.2 -> 0 | H26: =H22*0.2 -> 0 | J26: =J22*0.2 -> 0 | K26: =K22*0.2 -> 0 | L26: =L22*0.2 -> 0 | N26: =N22*0.2 -> 0 | O26: =O22*0.2 -> 0 | P26: =P22*0.2 -> 0
A27: Mnożnik premii miesięcznej Wskaźnika Sprzedaży Marża | B27: =IF(B25<80%,0,IF(B25<90%,0.5,IF(B25<95%,0.75,1))) -> #REF! | C27: =IF(C25<80%,0,IF(C25<90%,0.5,IF(C25<95%,0.75,1))) -> #REF! | D27: =IF(D25<80%,0,IF(D25<90%,0.5,IF(D25<95%,0.75,1))) -> #REF! | F27: =IF(F25<80%,0,IF(F25<90%,0.5,IF(F25<95%,0.75,1))) -> #REF! | G27: =IF(G25<80%,0,IF(G25<90%,0.5,IF(G25<95%,0.75,1))) -> #REF! | H27: =IF(H25<80%,0,IF(H25<90%,0.5,IF(H25<95%,0.75,1))) -> #REF! | J27: =IF(J25<80%,0,IF(J25<90%,0.5,IF(J25<95%,0.75,1))) -> #REF! | K27: =IF(K25<80%,0,IF(K25<90%,0.5,IF(K25<95%,0.75,1))) -> #REF! | L27: =IF(L25<80%,0,IF(L25<90%,0.5,IF(L25<95%,0.75,1))) -> #REF! | N27: =IF(N25<80%,0,IF(N25<90%,0.5,IF(N25<95%,0.75,1))) -> #REF! | O27: =IF(O25<80%,0,IF(O25<90%,0.5,IF(O25<95%,0.75,1))) -> #REF! | P27: =IF(P25<80%,0,IF(P25<90%,0.5,IF(P25<95%,0.75,1))) -> #REF!
A28: Premia miesięczna za Wskaźnik Sprzedaży Marża | B28: =B27*B26 -> #REF! | C28: =C27*C26 -> #REF! | D28: =D27*D26 -> #REF! | F28: =F27*F26 -> #REF! | G28: =G27*G26 -> #REF! | H28: =H27*H26 -> #REF! | J28: =J27*J26 -> #REF! | K28: =K27*K26 -> #REF! | L28: =L27*L26 -> #REF! | N28: =N27*N26 -> #REF! | O28: =O27*O26 -> #REF! | P28: =P27*P26 -> #REF!
A29: Wskaźnik Plan Sprzedaży Obrót | B29: =B12 -> #REF! | C29: =C12 -> #REF! | D29: =D12 -> #REF! | F29: =F12 -> #REF! | G29: =G12 -> #REF! | H29: =H12 -> #REF! | J29: =J12 -> 0 | K29: =K12 -> #REF! | L29: =L12 -> #REF! | N29: =N12 -> #REF! | O29: =O12 -> #REF! | P29: =P12 -> #REF!
A30: Realizacja Wskaźnika Planu Sprzedaży Obrót | B30: =B14 -> 0 | C30: =C14 -> 0 | D30: =D14 -> 0 | F30: =F14 -> 0 | G30: =G14 -> 0 | H30: =H14 -> 0 | J30: =J14 -> 0 | K30: =K14 -> 0 | L30: =L14 -> 0 | N30: =N14 -> 0 | O30: =O14 -> 0 | P30: =P14 -> 0
A31: Poziom realizacji Wskaźnika Sprzedaży Obrót | B31: =B30/B29 -> #REF! | C31: =C30/C29 -> #REF! | D31: =D30/D29 -> #REF! | F31: =F30/F29 -> #REF! | G31: =G30/G29 -> #REF! | H31: =H30/H29 -> #REF! | J31: =J30/J29 -> #DIV/0! | K31: =K30/K29 -> #REF! | L31: =L30/L29 -> #REF! | N31: =N30/N29 -> #REF! | O31: =O30/O29 -> #REF! | P31: =P30/P29 -> #REF!
A32: Wysokość premii Wskaźnik Sprzedaży Obrót | B32: =B22*0.2 -> 0 | C32: =C22*0.2 -> 0 | D32: =D22*0.2 -> 0 | F32: =F22*0.2 -> 0 | G32: =G22*0.2 -> 0 | H32: =H22*0.2 -> 0 | J32: =J22*0.2 -> 0 | K32: =K22*0.2 -> 0 | L32: =L22*0.2 -> 0 | N32: =N22*0.2 -> 0 | O32: =O22*0.2 -> 0 | P32: =P22*0.2 -> 0
A33: Mnożnik premii miesięcznej Wskaźnika Sprzedaży Obrót | B33: =IF(B31<80%,0,IF(B31<90%,0.5,IF(B31<95%,0.75,1))) -> #REF! | C33: =IF(C31<80%,0,IF(C31<90%,0.5,IF(C31<95%,0.75,1))) -> #REF! | D33: =IF(D31<80%,0,IF(D31<90%,0.5,IF(D31<95%,0.75,1))) -> #REF! | F33: =IF(F31<80%,0,IF(F31<90%,0.5,IF(F31<95%,0.75,1))) -> #REF! | G33: =IF(G31<80%,0,IF(G31<90%,0.5,IF(G31<95%,0.75,1))) -> #REF! | H33: =IF(H31<80%,0,IF(H31<90%,0.5,IF(H31<95%,0.75,1))) -> #REF! | J33: =IF(J31<80%,0,IF(J31<90%,0.5,IF(J31<95%,0.75,1))) -> #DIV/0! | K33: =IF(K31<80%,0,IF(K31<90%,0.5,IF(K31<95%,0.75,1))) -> #REF! | L33: =IF(L31<80%,0,IF(L31<90%,0.5,IF(L31<95%,0.75,1))) -> #REF! | N33: =IF(N31<80%,0,IF(N31<90%,0.5,IF(N31<95%,0.75,1))) -> #REF! | O33: =IF(O31<80%,0,IF(O31<90%,0.5,IF(O31<95%,0.75,1))) -> #REF! | P33: =IF(P31<80%,0,IF(P31<90%,0.5,IF(P31<95%,0.75,1))) -> #REF!
A34: Premia miesięczna za Wskaźnik Sprzedaży Obrót | B34: =B33*B32 -> #REF! | C34: =C33*C32 -> #REF! | D34: =D33*D32 -> #REF! | F34: =F33*F32 -> #REF! | G34: =G33*G32 -> #REF! | H34: =H33*H32 -> #REF! | J34: =J33*J32 -> #DIV/0! | K34: =K33*K32 -> #REF! | L34: =L33*L32 -> #REF! | N34: =N33*N32 -> #REF! | O34: =O33*O32 -> #REF! | P34: =P33*P32 -> #REF!
A35: Wskaźnik CRM | B35: 1 | C35: 1 | D35: 1 | F35: 1 | G35: 1 | H35: 1 | J35: 1 | K35: 1 | L35: 1 | N35: 1 | O35: 1 | P35: 1
A36: Wysokość premii CRM | B36: =B22*0.1 -> 0 | C36: =C22*0.1 -> 0 | D36: =D22*0.1 -> 0 | F36: =F22*0.1 -> 0 | G36: =G22*0.1 -> 0 | H36: =H22*0.1 -> 0 | J36: =J22*0.1 -> 0 | K36: =K22*0.1 -> 0 | L36: =L22*0.1 -> 0 | N36: =N22*0.1 -> 0 | O36: =O22*0.1 -> 0 | P36: =P22*0.1 -> 0
A37: Mnożnik premii Wskaźnik CRM
A38: Premia miesięczna za Wskaźnik CRM | B38: =B37*B36 -> 0 | C38: =C37*C36 -> 0 | D38: =D37*D36 -> 0 | F38: =F37*F36 -> 0 | G38: =G37*G36 -> 0 | H38: =H37*H36 -> 0 | J38: =J37*J36 -> 0 | K38: =K37*K36 -> 0 | L38: =L37*L36 -> 0 | N38: =N37*N36 -> 0 | O38: =O37*O36 -> 0 | P38: =P37*P36 -> 0
A39: Suma Premii miesięcznych | B39: =B34+B28+B38 -> #REF! | C39: =C34+C28+C38 -> #REF! | D39: =D34+D28+D38 -> #REF! | F39: =F34+F28+F38 -> #REF! | G39: =G34+G28+G38 -> #REF! | H39: =H34+H28+H38 -> #REF! | J39: =J34+J28+J38 -> #DIV/0! | K39: =K34+K28+K38 -> #REF! | L39: =L34+L28+L38 -> #REF! | N39: =N34+N28+N38 -> #REF! | O39: =O34+O28+O38 -> #REF! | P39: =P34+P28+P38 -> #REF!
A40: Wskaźnik Premia Kwartalna Marża | B40: =D5 -> #REF! | F40: =H5 -> #REF! | J40: =L5 -> #REF! | N40: =P5 -> #REF!
A41: Realizacja Wskaźnika Premia Kwartalna | B41: =D7 -> 0 | F41: =H7 -> 0 | J41: =L7 -> 0 | N41: =P7 -> 0
A42: Poziom realizacji Wskaźnika Premia Kwartalna | B42: =B41/B40 -> #REF! | F42: =F41/F40 -> #REF! | J42: =J41/J40 -> #REF! | N42: =N41/N40 -> #REF!
A43: Wysokość premii kwartalnej. | B43: =D22 -> 0 | F43: =H22 -> 0 | J43: =L22 -> 0 | N43: =P22 -> 0
A44: Mnożnik premii kwartalnej | B44: =IF(B42<100%,0,IF(B42<110%,0.5,1)) -> #REF! | F44: =IF(F42<100%,0,IF(F42<110%,0.5,1)) -> #REF! | J44: =IF(J42<100%,0,IF(J42<110%,0.5,1)) -> #REF! | N44: =IF(N42<100%,0,IF(N42<110%,0.5,1)) -> #REF!
A45: Premia kwartalna | B45: =B44*B43 -> #REF! | F45: =F44*F43 -> #REF! | J45: =J44*J43 -> #REF! | N45: =N44*N43 -> #REF!
A47: Raport za miesiąc: | B47: paździer. | C47: listopad | D47: grudzień | E47: Suma | F47: lipiec | G47: sierpień | H47: wrzesień | I47: Suma | J47: kwiecień | K47: maj | L47: czerwiec | M47: Suma | N47: styczeń | O47: luty | P47: marzec | Q47: Suma | R47: Suma
A48: Ilość nowych Klientów: | E48: =SUM(B48:D48) -> 0 | I48: =SUM(F48:H48) -> 0 | M48: =SUM(J48:L48) -> 0 | Q48: =SUM(N48:P48) -> 0 | R48: =M48+I48+E48+Q48 -> 0
A49: Ilość Podmiotów na etapie współpracy Klient:
A50: Ilość Podmiotów na etapie współpracy Handlowy:
A51: Ilość Podmiotów na etapie współpracy Klient nieaktywny:
A52: Ilość Podmiotów pod opieką:
A53: Ilość sprzedanych drukarek: | E53: =SUM(B53:D53) -> 0 | I53: =SUM(F53:H53) -> 0 | M53: =SUM(J53:L53) -> 0 | Q53: =SUM(N53:P53) -> 0 | R53: =M53+I53+E53+Q53 -> 0
A54: Ilość ofert dodanych w danym miesiącu: | E54: =SUM(B54:D54) -> 0 | I54: =SUM(F54:H54) -> 0 | M54: =SUM(J54:L54) -> 0 | Q54: =SUM(N54:P54) -> 0 | R54: =M54+I54+E54+Q54 -> 0
A55: Ilość ofert oczekujących na decyzję kontrahenta:
A56: Ilość zaakceptowanych ofert przez kontrahenta: | E56: =SUM(B56:D56) -> 0 | I56: =SUM(F56:H56) -> 0 | M56: =SUM(J56:L56) -> 0 | Q56: =SUM(N56:P56) -> 0 | R56: =M56+I56+E56+Q56 -> 0
A57: Ilość odrzuconych ofert przez kontrahenta: | E57: =SUM(B57:D57) -> 0 | I57: =SUM(F57:H57) -> 0 | M57: =SUM(J57:L57) -> 0 | Q57: =SUM(N57:P57) -> 0 | R57: =M57+I57+E57+Q57 -> 0
A58: Ilość przekazanych podmiotów: | E58: =SUM(B58:D58) -> 0 | I58: =SUM(F58:H58) -> 0 | M58: =SUM(J58:L58) -> 0 | Q58: =SUM(N58:P58) -> 0 | R58: =M58+I58+E58+Q58 -> 0
A59: Ilość odebranych podmiotów (zmiana prowadzącego): | E59: =SUM(B59:D59) -> 0 | I59: =SUM(F59:H59) -> 0 | M59: =SUM(J59:L59) -> 0 | Q59: =SUM(N59:P59) -> 0 | R59: =M59+I59+E59+Q59 -> 0
A60: Ilość spotkań z Klientami: | E60: =SUM(B60:D60) -> 0 | I60: =SUM(F60:H60) -> 0 | M60: =SUM(J60:L60) -> 0 | Q60: =SUM(N60:P60) -> 0 | R60: =M60+I60+E60+Q60 -> 0
A61: Ilość aktualnie otwartych wdrożeń:
A62: Ilość wdrożeń dodanych w danym miesiącu: | E62: =SUM(B62:D62) -> 0 | I62: =SUM(F62:H62) -> 0 | M62: =SUM(J62:L62) -> 0 | Q62: =SUM(N62:P62) -> 0 | R62: =M62+I62+E62+Q62 -> 0
A63: Ilość wdrożeń zamkniętych pozytywnie w danym mcu: | E63: =SUM(B63:D63) -> 0 | I63: =SUM(F63:H63) -> 0 | M63: =SUM(J63:L63) -> 0 | Q63: =SUM(N63:P63) -> 0 | R63: =M63+I63+E63+Q63 -> 0
A64: Ilość wdrożeń zamkniętych negatywnie w danym mcu: | E64: =SUM(B64:D64) -> 0 | I64: =SUM(F64:H64) -> 0 | M64: =SUM(J64:L64) -> 0 | Q64: =SUM(N64:P64) -> 0 | R64: =M64+I64+E64+Q64 -> 0
A65: Ilość aktualnie odłożonych wdrożeń:
D66: =SUM(#REF!) -> #REF!

Sheet regulamin

Sheet Arkusz1

Sheet BARTEK
A1: Bartłomiej Biskupski | B1: PLAN I KW BARTŁOMIEJ BISKUPSKI | F1: PLAN II KW BARTŁOMIEJ BISKUPSKI | J1: PLAN III KW BARTŁOMIEJ BISKUPSKI | N1: PLAN IV KW BARTŁOMIEJ BISKUPSKI
A2: miesiąc | B2: styczeń | C2: luty | D2: marzec | E2: KW I | F2: kwiecień | G2: maj | H2: czerwiec | I2: KW II | J2: lipiec | K2: sierpień | L2: wrzesień | M2: KW III | N2: październik | O2: listopad | P2: grudzień | Q2: KW IV | R2: suma ROK
R3: =Target!O5 -> 0
A4: Indywidualny Plan Sprzedaży Marża | B4: =Target!C5 -> 0 | C4: =Target!D5 -> 0 | D4: =Target!E5 -> 0 | E4: =SUM(B4:D4) -> 0 | F4: =Target!F5 -> 0 | G4: =Target!G5 -> 0 | H4: =Target!H5 -> 0 | I4: =SUM(F4:H4) -> 0 | J4: =Target!I5 -> 0 | K4: =Target!J5 -> 0 | L4: =Target!K5 -> 0 | M4: =SUM(J4:L4) -> 0 | N4: =Target!L5 -> 0 | O4: =Target!M5+2100 -> 2100 | P4: =Target!N5+2100 -> 2100 | Q4: =SUM(N4:P4) -> 4200 | R4: =E4+I4+M4+Q4 -> 4200 | S4: =R4/Q3-1 -> #DIV/0!
A5: Sumaryczny Indywidulany Plan Sprzedaży Marża | B5: =B4 -> 0 | C5: =C4+B5 -> 0 | D5: =D4+C5 -> 0 | F5: =F4 -> 0 | G5: =G4+F5 -> 0 | H5: =H4+G5 -> 0 | J5: =J4 -> 0 | K5: =K4+J5 -> 0 | L5: =L4+K5 -> 0 | M5: =SUM(E6,I6,M6)/3 -> 0 | N5: =N4 -> 0 | O5: =O4+N5 -> 2100 | P5: =P4+O5 -> 4200 | R5: =R6/R4 -> 0
A6: Miesięczna realizacja Planu Sprzedaży Marża | B6: =SUMIF(I!A:A,$A$1,I!I:I) -> 0 | C6: =SUMIF(II!A:A,$A$1,II!I:I) -> 0 | D6: =SUMIF(III!A:A,$A$1,III!I:I) -> 0 | E6: =SUM(B6:D6) -> 0 | F6: =SUMIF(IV!A:A,$A$1,IV!I:I) -> 0 | G6: =SUMIF(V!A:A,$A$1,V!I:I) -> 0 | H6: =SUMIF(VI!A:A,$A$1,VI!I:I) -> 0 | I6: =SUM(F6:H6) -> 0 | J6: =SUMIF(VII!A:A,$A$1,VII!I:I) -> 0 | K6: =SUMIF(VIII!A:A,$A$1,VIII!I:I) -> 0 | L6: =SUMIF(IX!A:A,$A$1,IX!I:I) -> 0 | M6: =SUM(J6:L6) -> 0 | N6: =SUMIF(X!A:A,$A$1,X!I:I) -> 0 | O6: =SUMIF(XI!A:A,$A$1,XI!I:I) -> 0 | P6: =SUMIF(XII!A:A,$A$1,XII!I:I) -> 0 | Q6: =SUM(N6:P6) -> 0 | R6: =E6+I6+M6+Q6 -> 0
A7: Sumaryczna realizacja Planu Sprzedaży Marża | B7: =B6 -> 0 | C7: =C6+B7 -> 0 | D7: =D6+C7 -> 0 | F7: =F6 -> 0 | G7: =G6+F7 -> 0 | H7: =H6+G7 -> 0 | I7: =SUM(E6,I6) -> 0 | J7: =J6 -> 0 | K7: =K6+J7 -> 0 | L7: =L6+K7 -> 0 | M7: =SUM(E6,I6,M6) -> 0 | N7: =N6 -> 0 | O7: =O6+N7 -> 0 | P7: =P6+O7 -> 0 | R7: =R3-R4 -> -4200
A8: Wysokość % zrealizowania IPSM miesięcznego | B8: =B6/B4 -> #DIV/0! | C8: =C6/C4 -> #DIV/0! | D8: =D6/D4 -> #DIV/0! | F8: =F6/F4 -> #DIV/0! | G8: =G6/G4 -> #DIV/0! | H8: =H6/H4 -> #DIV/0! | I8: =I7/I3-1 -> #DIV/0! | J8: =J6/J4 -> #DIV/0! | K8: =K6/K4 -> #DIV/0! | L8: =L6/L4 -> #DIV/0! | M8: =M7/M3-1 -> #DIV/0! | N8: =N6/N4 -> #DIV/0! | O8: =O6/O4 -> 0 | P8: =P6/P4 -> 0 | Q8: =R6/Q3-1 -> #DIV/0! | R8: =R7*100/R3 -> #DIV/0!
A9: Wysokość % zrealizowania IPSM sumarycznego | B9: =B7/B5 -> #DIV/0! | C9: =C7/C5 -> #DIV/0! | D9: =D7/D5 -> #DIV/0! | F9: =F7/F5 -> #DIV/0! | G9: =G7/G5 -> #DIV/0! | H9: =H7/H5 -> #DIV/0! | I9: =I7-I3 -> 0 | J9: =J7/J5 -> #DIV/0! | K9: =K7/K5 -> #DIV/0! | L9: =L7/L5 -> #DIV/0! | M9: =M7-M3 -> 0 | N9: =N7/N5 -> #DIV/0! | O9: =O7/O5 -> 0 | P9: =P7/P5 -> 0 | Q9: =R6-Q3 -> 0
A10: Różnica | B10: =B7-B5 -> 0 | C10: =C7-C5 -> 0 | D10: =D7-D5 -> 0 | F10: =F7-F5 -> 0 | G10: =G7-G5 -> 0 | H10: =H7-H5 -> 0 | J10: =J7-J5 -> 0 | K10: =K7-K5 -> 0 | L10: =L7-L5 -> 0 | N10: =N7-N5 -> 0 | O10: =O7-O5 -> -2100 | P10: =P7-P5 -> -4200
A11: Miesięczny Obrót | B11: =SUMIF(I!A:A,$A$1,I!G:G) -> 0 | C11: =SUMIF(II!A:A,$A$1,II!G:G) -> 0 | D11: =SUMIF(III!A:A,$A$1,III!G:G) -> 0 | E11: =SUM(B11:D11) -> 0 | F11: =SUMIF(IV!A:A,$A$1,IV!G:G) -> 0 | G11: =SUMIF(V!A:A,$A$1,V!G:G) -> 0 | H11: =SUMIF(VI!A:A,$A$1,VI!G:G) -> 0 | I11: =SUM(F11:H11) -> 0 | J11: =SUMIF(VII!A:A,$A$1,VII!G:G) -> 0 | K11: =SUMIF(VIII!A:A,$A$1,VIII!G:G) -> 0 | L11: =SUMIF(IX!A:A,$A$1,IX!G:G) -> 0 | M11: =SUM(J11:L11) -> 0 | N11: =SUMIF(X!A:A,$A$1,X!G:G) -> 0 | O11: =SUMIF(XI!A:A,$A$1,XI!G:G) -> 0 | P11: =SUMIF(XII!A:A,$A$1,XII!G:G) -> 0 | Q11: =SUM(N11:P11) -> 0 | R11: =E11+I11+M11+Q11 -> 0
A12: Sumaryczny Obrót | B12: =B11 -> 0 | C12: =C11+B12 -> 0 | D12: =D11+C12 -> 0 | F12: =F11 -> 0 | G12: =G11+F12 -> 0 | H12: =H11+G12 -> 0 | J12: =J11 -> 0 | K12: =K11+J12 -> 0 | L12: =L11+K12 -> 0 | N12: =N11 -> 0 | O12: =O11+N12 -> 0 | P12: =P11+O12 -> 0
A13: Wysokość % Marży miesięcznej | B13: =B6/B11 -> #DIV/0! | C13: =C6/C11 -> #DIV/0! | D13: =D6/D11 -> #DIV/0! | F13: =F6/F11 -> #DIV/0! | G13: =G6/G11 -> #DIV/0! | H13: =H6/H11 -> #DIV/0! | J13: =J6/J11 -> #DIV/0! | K13: =K6/K11 -> #DIV/0! | L13: =L6/L11 -> #DIV/0! | N13: =N6/N11 -> #DIV/0! | O13: =O6/O11 -> #DIV/0! | P13: =P6/P11 -> #DIV/0!
A14: Wysokość % Marży sumarycznej | B14: =B7/B12 -> #DIV/0! | C14: =C7/C12 -> #DIV/0! | D14: =D7/D12 -> #DIV/0! | F14: =F7/F12 -> #DIV/0! | G14: =G7/G12 -> #DIV/0! | H14: =H7/H12 -> #DIV/0! | J14: =J7/J12 -> #DIV/0! | K14: =K7/K12 -> #DIV/0! | L14: =L7/L12 -> #DIV/0! | N14: =N7/N12 -> #DIV/0! | O14: =O7/O12 -> #DIV/0! | P14: =P7/P12 -> #DIV/0!
A16: PREMIE | B16: PREMIE
A17: Wynagrodzenie zasadnicze | B17: =Target!P33 -> 0 | C17: =Target!P33 -> 0 | D17: =Target!P33 -> 0 | F17: =Target!P42 -> 6800 | G17: =Target!P42 -> 6800 | H17: =Target!P42 -> 6800 | J17: =Target!P52 -> 6800 | K17: =Target!P52 -> 6800 | L17: =Target!P52 -> 6800 | N17: =Target!P61 -> 6800 | O17: =Target!P61 -> 6800 | P17: =Target!P61 -> 6800
A18: Wysokość Kwoty bazowej na dany okres | B18: =Target!O40 -> 10266.667 | C18: =Target!O40 -> 10266.667 | D18: =Target!O40 -> 10266.667 | F18: =Target!O40 -> 10266.667 | G18: =Target!O40 -> 10266.667 | H18: =Target!O40 -> 10266.667 | J18: =Target!O50 -> 7000 | K18: =Target!O50 -> 7000 | L18: =Target!O50 -> 7000 | N18: =Target!O59 -> 7000 | O18: =Target!O59 -> 7000 | P18: =Target!O59 -> 7000
A19: Udział % IPSM w PSM | B19: =Target!J33 -> 0 | C19: =Target!J33 -> 0 | D19: =Target!J33 -> 0 | F19: =Target!J42 -> 0 | G19: =Target!J42 -> 0 | H19: =Target!J42 -> 0 | J19: =Target!J52 -> 0 | K19: =Target!J52 -> 0 | L19: =Target!J52 -> 0 | N19: =Target!J61 -> 0 | O19: =Target!J61 -> 0 | P19: =Target!J61 -> 0
A20: Wysokość Indywidualnej Kwoty bazowej | B20: =Target!N33 -> 0 | C20: =Target!N33 -> 0 | D20: =Target!N33 -> 0 | F20: =Target!N42 -> 0 | G20: =Target!N42 -> 0 | H20: =Target!N42 -> 0 | J20: =Target!N52 -> 0 | K20: =Target!N52 -> 0 | L20: =Target!N52 -> 0 | N20: =Target!N61 -> 0 | O20: =Target!N61 -> 0 | P20: =Target!N61 -> 0
A21: Sumaryczny Indywidualny Plan Sprzedaży Marża | B21: =B5 -> 0 | C21: =C5 -> 0 | D21: =D5 -> 0 | F21: =F5 -> 0 | G21: =G5 -> 0 | H21: =H5 -> 0 | J21: =J5 -> 0 | K21: =K5 -> 0 | L21: =L5 -> 0 | N21: =N5 -> 0 | O21: =O5 -> 2100 | P21: =P5 -> 4200
A22: Miesięczna realizacja Planu Sprzedaży Marża | B22: =B7 -> 0 | C22: =C7 -> 0 | D22: =D7 -> 0 | F22: =F7 -> 0 | G22: =G7 -> 0 | H22: =H7 -> 0 | J22: =J7 -> 0 | K22: =K7 -> 0 | L22: =L7 -> 0 | N22: =N7 -> 0 | O22: =O7 -> 0 | P22: =P7 -> 0
A23: Wysokość % zrealizowania IPSM sumarycznego | B23: =B22/B21 -> #DIV/0! | C23: =C22/C21 -> #DIV/0! | D23: =D22/D21 -> #DIV/0! | F23: =F22/F21 -> #DIV/0! | G23: =G22/G21 -> #DIV/0! | H23: =H22/H21 -> #DIV/0! | J23: =J22/J21 -> #DIV/0! | K23: =K22/K21 -> #DIV/0! | L23: =L22/L21 -> #DIV/0! | N23: =N22/N21 -> #DIV/0! | O23: =O22/O21 -> 0 | P23: =P22/P21 -> 0
A24: Wysokość premii Wskaźnik Sprzedaży Marża | B24: =B20*0.35 -> 0 | C24: =C20*0.35 -> 0 | D24: =D20*0.35 -> 0 | F24: =F20*0.35 -> 0 | G24: =G20*0.35 -> 0 | H24: =H20*0.35 -> 0 | J24: =J20*0.35 -> 0 | K24: =K20*0.35 -> 0 | L24: =L20*0.35 -> 0 | N24: =N20*0.35 -> 0 | O24: =O20*0.35 -> 0 | P24: =P20*0.35 -> 0
A25: Mnożnik premii miesięcznej Wskaźnika Sprzedaży Marża | B25: =IF(B23<80%,0,IF(B23<90%,0.5,IF(B23<95%,0.75,1))) -> #DIV/0! | C25: =IF(C23<80%,0,IF(C23<90%,0.5,IF(C23<95%,0.75,1))) -> #DIV/0! | D25: =IF(D23<80%,0,IF(D23<90%,0.5,IF(D23<95%,0.75,1))) -> #DIV/0! | F25: =IF(F23<80%,0,IF(F23<90%,0.5,IF(F23<95%,0.75,1))) -> #DIV/0! | G25: =IF(G23<80%,0,IF(G23<90%,0.5,IF(G23<95%,0.75,1))) -> #DIV/0! | H25: =IF(H23<80%,0,IF(H23<90%,0.5,IF(H23<95%,0.75,1))) -> #DIV/0! | J25: =IF(J23<80%,0,IF(J23<90%,0.5,IF(J23<95%,0.75,1))) -> #DIV/0! | K25: =IF(K23<80%,0,IF(K23<90%,0.5,IF(K23<95%,0.75,1))) -> #DIV/0! | L25: =IF(L23<80%,0,IF(L23<90%,0.5,IF(L23<95%,0.75,1))) -> #DIV/0! | N25: =IF(N23<80%,0,IF(N23<90%,0.5,IF(N23<95%,0.75,1))) -> #DIV/0! | O25: =IF(O23<80%,0,IF(O23<90%,0.5,IF(O23<95%,0.75,1))) -> 0 | P25: =IF(P23<80%,0,IF(P23<90%,0.5,IF(P23<95%,0.75,1))) -> 0
A26: Premia miesięczna za Wskaźnik Sprzedaży Marża | B26: =B25*B24 -> #DIV/0! | C26: =C25*C24 -> #DIV/0! | D26: =D25*D24 -> #DIV/0! | F26: =F25*F24 -> #DIV/0! | G26: =G25*G24 -> #DIV/0! | H26: =H25*H24 -> #DIV/0! | J26: =J25*J24 -> #DIV/0! | K26: =K25*K24 -> #DIV/0! | L26: =L25*L24 -> #DIV/0! | N26: =N25*N24 -> #DIV/0! | O26: =O25*O24 -> 0 | P26: =P25*P24 -> 0
A27: Wysokość premii CRM | B27: =B18*0.05 -> 513.33333 | C27: =C18*0.05 -> 513.33333 | D27: =D18*0.05 -> 513.33333 | F27: =F18*0.05 -> 513.33333 | G27: =G18*0.05 -> 513.33333 | H27: =H18*0.05 -> 513.33333 | J27: =J18*0.05 -> 350 | K27: =K18*0.05 -> 350 | L27: =L18*0.05 -> 350 | N27: =N18*0.05 -> 350 | O27: =O18*0.05 -> 350 | P27: =P18*0.05 -> 350
A28: Mnożnik premii Wskaźnik CRM
A29: Premia miesięczna za Wskaźnik CRM | B29: =B28*B27 -> 0 | C29: =C28*C27 -> 0 | D29: =D28*D27 -> 0 | F29: =F28*F27 -> 0 | G29: =G28*G27 -> 0 | H29: =H28*H27 -> 0 | J29: =J28*J27 -> 0 | K29: =K28*K27 -> 0 | L29: =L28*L27 -> 0 | N29: =N28*N27 -> 0 | O29: =O28*O27 -> 0 | P29: =P28*P27 -> 0
A30: Suma Premii miesięcznych | B30: =B26+B29 -> #DIV/0! | C30: =C26+C29 -> #DIV/0! | D30: =D26+D29 -> #DIV/0! | F30: =F26+F29 -> #DIV/0! | G30: =G26+G29 -> #DIV/0! | H30: =H26+H29 -> #DIV/0! | J30: =J26+J29 -> #DIV/0! | K30: =K26+K29 -> #DIV/0! | L30: =L26+L29 -> #DIV/0! | N30: =N26+N29 -> #DIV/0! | O30: =O26+O29 -> 0 | P30: =P26+P29 -> 0
A31: Wskaźnik Premia Kwartalna Marża | B31: =D5 -> 0 | F31: =H5 -> 0 | J31: =L5 -> 0 | N31: =P5 -> 4200
A32: Realizacja Wskaźnika Premia Kwartalna | B32: =D7 -> 0 | F32: =H7 -> 0 | J32: =L7 -> 0 | N32: =P7 -> 0
A33: Poziom realizacji Wskaźnika Premia Kwartalna | B33: =B32/B31 -> #DIV/0! | F33: =F32/F31 -> #DIV/0! | J33: =J32/J31 -> #DIV/0! | N33: =N32/N31 -> 0
A34: Wysokość premii kwartalnej. | B34: =D17 -> 0 | F34: =H18 -> 10266.667 | J34: =L18 -> 7000 | N34: =P18 -> 7000
A35: Mnożnik premii kwartalnej | B35: =IF(B33<100%,0,IF(B33<105%,0.5,IF(B33<110%,0.7,1))) -> #DIV/0! | F35: =IF(F33<100%,0,IF(F33<105%,0.5,IF(F33<110%,0.7,1))) -> #DIV/0! | J35: =IF(J33<100%,0,IF(J33<105%,0.5,IF(J33<110%,0.7,1))) -> #DIV/0! | N35: =IF(N33<100%,0,IF(N33<105%,0.5,IF(N33<110%,0.7,1))) -> 0
A36: Premia kwartalna | B36: =B35*B34 -> #DIV/0! | F36: =F35*F34 -> #DIV/0! | J36: =J35*J34 -> #DIV/0! | N36: =N35*N34 -> 0
A38: Raport za miesiąc: | B38: styczeń | C38: luty | D38: marzec | E38: Suma | F38: kwiecień | G38: maj | H38: czerwiec | I38: Suma | J38: lipiec | K38: sierpień | L38: wrzesień | M38: Suma | N38: paździer. | O38: listopad | P38: grudzień | Q38: Suma | R38: Suma
A39: Ilość nowych Klientów: | E39: =SUM(B39:D39) -> 0 | I39: =SUM(F39:H39) -> 0 | M39: =SUM(J39:L39) -> 0 | Q39: =SUM(N39:P39) -> 0 | R39: =I39+M39+Q39+E39 -> 0
A40: Ilość Podmiotów na etapie współpracy Klient:
A41: Ilość Podmiotów na etapie współpracy Handlowy:
A42: Ilość Podmiotów na etapie współpracy Klient nieaktywny:
A43: Ilość Podmiotów pod opieką:
A44: Ilość sprzedanych drukarek: | E44: =SUM(B44:D44) -> 0 | I44: =SUM(F44:H44) -> 0 | M44: =SUM(J44:L44) -> 0 | Q44: =SUM(N44:P44) -> 0 | R44: =I44+M44+Q44+E44 -> 0
A45: Ilość ofert dodanych w danym miesiącu: | E45: =SUM(B45:D45) -> 0 | I45: =SUM(F45:H45) -> 0 | M45: =SUM(J45:L45) -> 0 | Q45: =SUM(N45:P45) -> 0 | R45: =I45+M45+Q45+E45 -> 0
A46: Ilość ofert oczekujących na decyzję kontrahenta:
A47: Ilość zaakceptowanych ofert przez kontrahenta: | E47: =SUM(B47:D47) -> 0 | I47: =SUM(F47:H47) -> 0 | M47: =SUM(J47:L47) -> 0 | Q47: =SUM(N47:P47) -> 0 | R47: =I47+M47+Q47+E47 -> 0
A48: Ilość odrzuconych ofert przez kontrahenta: | E48: =SUM(B48:D48) -> 0 | I48: =SUM(F48:H48) -> 0 | M48: =SUM(J48:L48) -> 0 | Q48: =SUM(N48:P48) -> 0 | R48: =I48+M48+Q48+E48 -> 0
A49: Ilość przekazanych podmiotów: | E49: =SUM(B49:D49) -> 0 | I49: =SUM(F49:H49) -> 0 | M49: =SUM(J49:L49) -> 0 | Q49: =SUM(N49:P49) -> 0 | R49: =I49+M49+Q49+E49 -> 0
A50: Ilość odebranych podmiotów (zmiana prowadzącego): | E50: =SUM(B50:D50) -> 0 | I50: =SUM(F50:H50) -> 0 | M50: =SUM(J50:L50) -> 0 | Q50: =SUM(N50:P50) -> 0 | R50: =I50+M50+Q50+E50 -> 0
A51: Ilość spotkań z Klientami: | E51: =SUM(B51:D51) -> 0 | I51: =SUM(F51:H51) -> 0 | M51: =SUM(J51:L51) -> 0 | Q51: =SUM(N51:P51) -> 0 | R51: =I51+M51+Q51+E51 -> 0
A52: Ilość aktualnie otwartych wdrożeń:
A53: Ilość wdrożeń dodanych w danym miesiącu: | E53: =SUM(B53:D53) -> 0 | I53: =SUM(F53:H53) -> 0 | M53: =SUM(J53:L53) -> 0 | Q53: =SUM(N53:P53) -> 0 | R53: =I53+M53+Q53+E53 -> 0
A54: Ilość wdrożeń zamkniętych pozytywnie w danym mcu: | E54: =SUM(B54:D54) -> 0 | I54: =SUM(F54:H54) -> 0 | M54: =SUM(J54:L54) -> 0 | Q54: =SUM(N54:P54) -> 0 | R54: =I54+M54+Q54+E54 -> 0
A55: Ilość wdrożeń zamkniętych negatywnie w danym mcu: | E55: =SUM(B55:D55) -> 0 | I55: =SUM(F55:H55) -> 0 | M55: =SUM(J55:L55) -> 0 | Q55: =SUM(N55:P55) -> 0 | R55: =I55+M55+Q55+E55 -> 0
A56: Ilość aktualnie odłożonych wdrożeń:
