Workbook
Name OLE_LINK3: regulamin!$A$16

Sheet TOMEK
A1: Tomasz Sypień | B1: PLAN I KW Tomasz Sypień | F1: PLAN II KW Tomasz Sypień | J1: PLAN III KW Tomasz Sypień | N1: PLAN IV KW Tomasz Sypień
A2: miesiąc | B2: styczeń | C2: luty | D2: marzec | E2: KW I | F2: kwiecień | G2: maj | H2: czerwiec | I2: KW II | J2: lipiec | K2: sierpień | L2: wrzesień | M2: KW III | N2: październik | O2: listopad | P2: grudzień | Q2: KW IV | R2: suma ROK
A3: Wzrost/spadek kwoty marży w stos. do adekw. okr. | C3: -0.2534 | R3: =Target!O3 -> 917450.53
A4: Indywidualny Plan Sprzedaży Marża | B4: =Target!C3 -> 63300 | C4: =Target!D3-19200 -> 51133.333 | D4: =Target!E3+19200 -> 96566.667 | E4: =SUM(B4:D4) -> 211000 | F4: =Target!F3 -> 69630 | G4: =Target!G3 -> 77366.667 | H4: =Target!H3 -> 85103.333 | I4: =SUM(F4:H4) -> 232100 | J4: =Target!I3 -> 71465.7 | K4: =Target!J3 -> 79406.333 | L4: =Target!K3 -> 87346.967 | M4: =SUM(J4:L4) -> 238219 | N4: =Target!L3 -> 70839.459 | O4: =Target!M3 -> 78710.51 | P4: =Target!N3 -> 86581.561 | Q4: =SUM(N4:P4) -> 236131.53 | R4: =E4+I4+M4+Q4 -> 917450.53
A5: Sumaryczny Indywidulany Plan Sprzedaży Marża | B5: =B4 -> 63300 | C5: =C4+B5 -> 114433.33 | D5: =D4+C5 -> 211000 | F5: =F4 -> 69630 | G5: =G4+F5 -> 146996.67 | H5: =H4+G5 -> 232100 | J5: =J4 -> 71465.7 | K5: =K4+J5 -> 150872.03 | L5: =L4+K5 -> 238219 | M5: =SUM(E6,I6,M6)/3 -> 47703.038 | N5: =N4 -> 70839.459 | O5: =O4+N5 -> 149549.97 | P5: =P4+O5 -> 236131.53 | R5: =R6/R4 -> 0.15598565
A6: Miesięczna realizacja Planu Sprzedaży Marża | B6: =SUMIF(I!A:A,$A$1,I!I:I) -> 62261.508 | C6: =SUMIF(II!A:A,$A$1,II!I:I) -> 46541.988 | D6: =SUMIF(III!A:A,$A$1,III!I:I) -> 34305.617 | E6: =SUM(B6:D6) -> 143109.11 | F6: =SUMIF(IV!A:A,$A$1,IV!I:I) -> 0 | G6: =SUMIF(V!A:A,$A$1,V!I:I) -> 0 | H6: =SUMIF(VI!A:A,$A$1,VI!I:I) -> 0 | I6: =SUM(F6:H6) -> 0 | J6: =SUMIF(VII!A:A,$A$1,VII!I:I) -> 0 | K6: =SUMIF(VIII!A:A,$A$1,VIII!I:I) -> 0 | L6: =SUMIF(IX!A:A,$A$1,IX!I:I) -> 0 | M6: =SUM(J6:L6) -> 0 | N6: =SUMIF(X!A:A,$A$1,X!I:I) -> 0 | O6: =SUMIF(XI!A:A,$A$1,XI!I:I) -> 0 | P6: =SUMIF(XII!A:A,$A$1,XII!I:I) -> 0 | Q6: =SUM(N6:P6) -> 0 | R6: =E6+I6+M6+Q6 -> 143109.11
A7: Sumaryczna realizacja Planu Sprzedaży Marża | B7: =B6 -> 62261.508 | C7: =C6+B7 -> 108803.5 | D7: =D6+C7 -> 143109.11 | F7: =F6 -> 0 | G7: =G6+F7 -> 0 | H7: =H6+G7 -> 0 | J7: =J6 -> 0 | K7: =K6+J7 -> 0 | L7: =L6+K7 -> 0 | N7: =N6 -> 0 | O7: =O6+N7 -> 0 | P7: =P6+O7 -> 0 | R7: =R3-R4 -> 0
A8: Wysokość % zrealizowania IPSM miesięcznego | B8: =B6/B4 -> 0.98359412 | C8: =C6/C4 -> 0.91020838 | D8: =D6/D4 -> 0.3552532 | F8: =F6/F4 -> 0 | G8: =G6/G4 -> 0 | H8: =H6/H4 -> 0 | J8: =J6/J4 -> 0 | K8: =K6/K4 -> 0 | L8: =L6/L4 -> 0 | N8: =N6/N4 -> 0 | O8: =O6/O4 -> 0 | P8: =P6/P4 -> 0 | Q8: =R6/Q3-1 -> #DIV/0! | R8: =R7*100/R3 -> 0
A9: Wysokość % zrealizowania IPSM sumarycznego | B9: =B7/B5 -> 0.98359412 | C9: =C7/C5 -> 0.95080247 | D9: =D7/D5 -> 0.67824224 | F9: =F7/F5 -> 0 | G9: =G7/G5 -> 0 | H9: =H7/H5 -> 0 | J9: =J7/J5 -> 0 | K9: =K7/K5 -> 0 | L9: =L7/L5 -> 0 | N9: =N7/N5 -> 0 | O9: =O7/O5 -> 0 | P9: =P7/P5 -> 0 | Q9: =R6-Q3 -> 143109.11
A10: Różnica | B10: =B7-B5 -> -1038.4922 | C10: =C7-C5 -> -5629.8372 | D10: =D7-D5 -> -67890.887 | F10: =F7-F5 -> -69630 | G10: =G7-G5 -> -146996.67 | H10: =H7-H5 -> -232100 | J10: =J7-J5 -> -71465.7 | K10: =K7-K5 -> -150872.03 | L10: =L7-L5 -> -238219 | N10: =N7-N5 -> -70839.459 | O10: =O7-O5 -> -149549.97 | P10: =P7-P5 -> -236131.53
A11: Miesięczny Obrót | B11: =SUMIF(I!A:A,$A$1,I!G:G) -> 142347.05 | C11: =SUMIF(II!A:A,$A$1,II!G:G) -> 115087.41 | D11: =SUMIF(III!A:A,$A$1,III!G:G) -> 88114.977 | E11: =SUM(B11:D11) -> 345549.43 | F11: =SUMIF(IV!A:A,$A$1,IV!G:G) -> 0 | G11: =SUMIF(V!A:A,$A$1,V!G:G) -> 0 | H11: =SUMIF(VI!A:A,$A$1,VI!G:G) -> 0 | I11: =SUM(F11:H11) -> 0 | J11: =SUMIF(VII!A:A,$A$1,VII!G:G) -> 0 | K11: =SUMIF(VIII!A:A,$A$1,VIII!G:G) -> 0 | L11: =SUMIF(IX!A:A,$A$1,IX!G:G) -> 0 | M11: =SUM(J11:L11) -> 0 | N11: =SUMIF(X!A:A,$A$1,X!G:G) -> 0 | O11: =SUMIF(XI!A:A,$A$1,XI!G:G) -> 0 | P11: =SUMIF(XII!A:A,$A$1,XII!G:G) -> 0 | Q11: =SUM(N11:P11) -> 0 | R11: =E11+I11+M11+Q11 -> 345549.43
A12: Sumaryczny Obrót | B12: =B11 -> 142347.05 | C12: =C11+B12 -> 257434.45 | D12: =D11+C12 -> 345549.43 | F12: =F11 -> 0 | G12: =G11+F12 -> 0 | H12: =H11+G12 -> 0 | J12: =J11 -> 0 | K12: =K11+J12 -> 0 | L12: =L11+K12 -> 0 | N12: =N11 -> 0 | O12: =O11+N12 -> 0 | P12: =P11+O12 -> 0
A13: Wysokość % Marży miesięcznej | B13: =B6/B11 -> 0.43739234 | C13: =C6/C11 -> 0.40440557 | D13: =D6/D11 -> 0.38932788 | F13: =F6/F11 -> #DIV/0! | G13: =G6/G11 -> #DIV/0! | H13: =H6/H11 -> #DIV/0! | J13: =J6/J11 -> #DIV/0! | K13: =K6/K11 -> #DIV/0! | L13: =L6/L11 -> #DIV/0! | N13: =N6/N11 -> #DIV/0! | O13: =O6/O11 -> #DIV/0! | P13: =P6/P11 -> #DIV/0!
A14: Wysokość % Marży sumarycznej | B14: =B7/B12 -> 0.43739234 | C14: =C7/C12 -> 0.42264543 | D14: =D7/D12 -> 0.41414947 | F14: =F7/F12 -> #DIV/0! | G14: =G7/G12 -> #DIV/0! | H14: =H7/H12 -> #DIV/0! | J14: =J7/J12 -> #DIV/0! | K14: =K7/K12 -> #DIV/0! | L14: =L7/L12 -> #DIV/0! | N14: =N7/N12 -> #DIV/0! | O14: =O7/O12 -> #DIV/0! | P14: =P7/P12 -> #DIV/0!
A16: PREMIE | B16: PREMIE
A17: Wynagrodzenie zasadnicze | B17: =Target!P31 -> 6800 | C17: =Target!P31 -> 6800 | D17: =Target!P31 -> 6800 | F17: =Target!P40 -> 6800 | G17: =Target!P40 -> 6800 | H17: =Target!P40 -> 6800 | J17: =Target!P50 -> 6800 | K17: =Target!P50 -> 6800 | L17: =Target!P50 -> 6800 | N17: =Target!P59 -> 6800 | O17: =Target!P59 -> 6800 | P17: =Target!P59 -> 6800
A18: Premia 15% wynagrodzenia zasadniczego | B18: =B17*15% -> 1020 | C18: =C17*15% -> 1020 | D18: =D17*15% -> 1020 | F18: =F17*15% -> 1020 | G18: =G17*15% -> 1020 | H18: =H17*15% -> 1020 | J18: =J17*15% -> 1020 | K18: =K17*15% -> 1020 | L18: =L17*15% -> 1020 | N18: =N17*15% -> 1020 | O18: =O17*15% -> 1020 | P18: =P17*15% -> 1020
A19: Wysokość Kwoty bazowej na dany okres | B19: =Target!O31 -> 7000 | C19: =Target!O31 -> 7000 | D19: =Target!O31 -> 7000 | F19: =Target!O40 -> 10266.667 | G19: =Target!O40 -> 10266.667 | H19: =Target!O40 -> 10266.667 | J19: =Target!O50 -> 7000 | K19: =Target!O50 -> 7000 | L19: =Target!O50 -> 7000 | N19: =Target!O59 -> 7000 | O19: =Target!O59 -> 7000 | P19: =Target!O59 -> 7000
A20: Udział % IPSM w PSM | B20: =Target!J31 -> 0.25119048 | C20: =Target!J31 -> 0.25119048 | D20: =Target!J31 -> 0.25119048 | F20: =Target!J40 -> 0.25089125 | G20: =Target!J40 -> 0.25089125 | H20: =Target!J40 -> 0.25089125 | J20: =Target!J50 -> 0.25697926 | K20: =Target!J50 -> 0.25697926 | L20: =Target!J50 -> 0.25697926 | N20: =Target!J59 -> 0.255 | O20: =Target!J59 -> 0.255 | P20: =Target!J59 -> 0.255
A21: Wysokość Indywidualnej Kwoty bazowej | B21: =Target!N31 -> 7033.6 | C21: =Target!N31 -> 7033.6 | D21: =Target!N31 -> 7033.6 | F21: =Target!N40 -> 7727.72 | G21: =Target!N40 -> 7727.72 | H21: =Target!N40 -> 7727.72 | J21: =Target!N50 -> 7196 | K21: =Target!N50 -> 7196 | L21: =Target!N50 -> 7196 | N21: =Target!N59 -> 7140 | O21: =Target!N59 -> 7140 | P21: =Target!N59 -> 7140
A22: Sumaryczny Indywidualny Plan Sprzedaży Marża | B22: =B5 -> 63300 | C22: =C5 -> 114433.33 | D22: =D5 -> 211000 | F22: =F5 -> 69630 | G22: =G5 -> 146996.67 | H22: =H5 -> 232100 | J22: =J5 -> 71465.7 | K22: =K5 -> 150872.03 | L22: =L5 -> 238219 | N22: =N5 -> 70839.459 | O22: =O5 -> 149549.97 | P22: =P5 -> 236131.53
A23: Miesięczna realizacja Planu Sprzedaży Marża | B23: =B7 -> 62261.508 | C23: =C7 -> 108803.5 | D23: =D7 -> 143109.11 | F23: =F7 -> 0 | G23: =G7 -> 0 | H23: =H7 -> 0 | J23: =J7 -> 0 | K23: =K7 -> 0 | L23: =L7 -> 0 | N23: =N7 -> 0 | O23: =O7 -> 0 | P23: =P7 -> 0
A24: Wysokość % zrealizowania IPSM sumarycznego | B24: =B23/B22 -> 0.98359412 | C24: =C23/C22 -> 0.95080247 | D24: =D23/D22 -> 0.67824224 | F24: =F23/F22 -> 0 | G24: =G23/G22 -> 0 | H24: =H23/H22 -> 0 | J24: =J23/J22 -> 0 | K24: =K23/K22 -> 0 | L24: =L23/L22 -> 0 | N24: =N23/N22 -> 0 | O24: =O23/O22 -> 0 | P24: =P23/P22 -> 0
A25: Wysokość premii Wskaźnik Sprzedaży Marża | B25: =B21*0.35 -> 2461.76 | C25: =C21*0.35 -> 2461.76 | D25: =D21*0.35 -> 2461.76 | F25: =F21*0.35 -> 2704.702 | G25: =G21*0.35 -> 2704.702 | H25: =H21*0.35 -> 2704.702 | J25: =J21*0.35 -> 2518.6 | K25: =K21*0.35 -> 2518.6 | L25: =L21*0.35 -> 2518.6 | N25: =N21*0.35 -> 2499 | O25: =O21*0.35 -> 2499 | P25: =P21*0.35 -> 2499
A26: Mnożnik premii miesięcznej Wskaźnika Sprzedaży Marża | B26: =IF(B24<80%,0,IF(B24<90%,0.5,IF(B24<95%,0.75,1))) -> 1 | C26: =IF(C24<80%,0,IF(C24<90%,0.5,IF(C24<95%,0.75,1))) -> 1 | D26: =IF(D24<80%,0,IF(D24<90%,0.5,IF(D24<95%,0.75,1))) -> 0 | F26: =IF(F24<80%,0,IF(F24<90%,0.5,IF(F24<95%,0.75,1))) -> 0 | G26: =IF(G24<80%,0,IF(G24<90%,0.5,IF(G24<95%,0.75,1))) -> 0 | H26: =IF(H24<80%,0,IF(H24<90%,0.5,IF(H24<95%,0.75,1))) -> 0 | J26: =IF(J24<80%,0,IF(J24<90%,0.5,IF(J24<95%,0.75,1))) -> 0 | K26: =IF(K24<80%,0,IF(K24<90%,0.5,IF(K24<95%,0.75,1))) -> 0 | L26: =IF(L24<80%,0,IF(L24<90%,0.5,IF(L24<95%,0.75,1))) -> 0 | N26: =IF(N24<80%,0,IF(N24<90%,0.5,IF(N24<95%,0.75,1))) -> 0 | O26: =IF(O24<80%,0,IF(O24<90%,0.5,IF(O24<95%,0.75,1))) -> 0 | P26: =IF(P24<80%,0,IF(P24<90%,0.5,IF(P24<95%,0.75,1))) -> 0
A27: Premia miesięczna za Wskaźnik Sprzedaży Marża | B27: =B26*B25 -> 2461.76 | C27: =C26*C25 -> 2461.76 | D27: =D26*D25 -> 0 | F27: =F26*F25 -> 0 | G27: =G26*G25 -> 0 | H27: =H26*H25 -> 0 | J27: =J26*J25 -> 0 | K27: =K26*K25 -> 0 | L27: =L26*L25 -> 0 | N27: =N26*N25 -> 0 | O27: =O26*O25 -> 0 | P27: =P26*P25 -> 0
A28: Wysokość premii CRM | B28: =B19*0.05 -> 350 | C28: =C19*0.05 -> 350 | D28: =D19*0.05 -> 350 | F28: =F19*0.05 -> 513.33333 | G28: =G19*0.05 -> 513.33333 | H28: =H19*0.05 -> 513.33333 | J28: =J19*0.05 -> 350 | K28: =K19*0.05 -> 350 | L28: =L19*0.05 -> 350 | N28: =N19*0.05 -> 350 | O28: =O19*0.05 -> 350 | P28: =P19*0.05 -> 350
A29: Mnożnik premii Wskaźnik CRM | B29: 1 | C29: 1 | D29: 1
A30: Premia miesięczna za Wskaźnik CRM | B30: =B29*B28 -> 350 | C30: =C29*C28 -> 350 | D30: =D29*D28 -> 350 | F30: =F29*F28 -> 0 | G30: =G29*G28 -> 0 | H30: =H29*H28 -> 0 | J30: =J29*J28 -> 0 | K30: =K29*K28 -> 0 | L30: =L29*L28 -> 0 | N30: =N29*N28 -> 0 | O30: =O29*O28 -> 0 | P30: =P29*P28 -> 0
A31: Suma premii za IPSM i CRM | B31: =B27+B30 -> 2811.76 | C31: =C27+C30 -> 2811.76 | D31: =D27+D30 -> 350 | F31: =F27+F30 -> 0 | G31: =G27+G30 -> 0 | H31: =H27+H30 -> 0 | J31: =J27+J30 -> 0 | K31: =K27+K30 -> 0 | L31: =L27+L30 -> 0 | N31: =N27+N30 -> 0 | O31: =O27+O30 -> 0 | P31: =P27+P30 -> 0
A32: Wysokość premi dodatkowej | B32: 2266 | C32: 2266 | D32: 2266 | F32: 2266 | G32: 2266 | H32: 2266 | J32: 2266 | K32: 2266 | L32: 2266 | N32: 2266 | O32: 2266 | P32: 2266
A33: Mnożnik premii dodatkowej | B33: 1 | C33: 1 | D33: 1
A34: Premia dodatkowa | B34: =B33*B32 -> 2266 | C34: =C33*C32 -> 2266 | D34: =D33*D32 -> 2266 | F34: =F33*F32 -> 0 | G34: =G33*G32 -> 0 | H34: =H33*H32 -> 0 | J34: =J33*J32 -> 0 | K34: =K33*K32 -> 0 | L34: =L33*L32 -> 0 | N34: =N33*N32 -> 0 | O34: =O33*O32 -> 0 | P34: =P33*P32 -> 0
A35: Suma wszystkich premii | B35: =B18+B27+B30+B34 -> 6097.76 | C35: =C18+C27+C30+C34 -> 6097.76 | D35: =D18+D27+D30+D34 -> 3636 | F35: =F18+F27+F30+F34 -> 1020 | G35: =G18+G27+G30+G34 -> 1020 | H35: =H18+H27+H30+H34 -> 1020 | J35: =J18+J27+J30+J34 -> 1020 | K35: =K18+K27+K30+K34 -> 1020 | L35: =L18+L27+L30+L34 -> 1020 | N35: =N18+N27+N30+N34 -> 1020 | O35: =O18+O27+O30+O34 -> 1020 | P35: =P18+P27+P30+P34 -> 1020
A36: Wskaźnik Premia Kwartalna Marża | B36: =D5 -> 211000 | F36: =H5 -> 232100 | J36: =L5 -> 238219 | N36: =P5 -> 236131.53
A37: Realizacja Wskaźnika Premia Kwartalna | B37: =D7 -> 143109.11 | F37: =H7 -> 0 | J37: =L7 -> 0 | N37: =P7 -> 0
A38: Poziom realizacji Wskaźnika Premia Kwartalna | B38: =B37/B36 -> 0.67824224 | F38: =F37/F36 -> 0 | J38: =J37/J36 -> 0 | N38: =N37/N36 -> 0
A39: Wysokość premii kwartalnej. | B39: =D19 -> 7000 | F39: =H19 -> 10266.667 | J39: =L19 -> 7000 | N39: =P19 -> 7000
A40: Mnożnik premii kwartalnej | B40: =IF(B38<100%,0,IF(B38<105%,0.5,IF(B38<110%,0.7,1))) -> 0 | F40: =IF(F38<100%,0,IF(F38<105%,0.5,IF(F38<110%,0.7,1))) -> 0 | J40: =IF(J38<100%,0,IF(J38<105%,0.5,IF(J38<110%,0.7,1))) -> 0 | N40: =IF(N38<100%,0,IF(N38<105%,0.5,IF(N38<110%,0.7,1))) -> 0
A41: Premia kwartalna | B41: =B40*B39 -> 0 | F41: =F40*F39 -> 0 | J41: =J40*J39 -> 0 | N41: =N40*N39 -> 0
...

Sheet RCKIK
A1: Grupa RCKIK
A2: miesiąc | B2: styczeń | C2: luty | D2: marzec | E2: KW I | F2: kwiecień | G2: maj | H2: czerwiec | I2: KW II | J2: lipiec | K2: sierpień | L2: wrzesień | M2: KW III | N2: październik | O2: listopad | P2: grudzień | Q2: KW IV | R2: suma
A3: Wzrost/spadek kwoty marży w stos. do adekw. okr. | C3: -0.0399
A4: Indywidualny Plan Sprzedaży Marża | B4: =Target!C4 -> 8700 | C4: =Target!D4 -> 9666.6667 | D4: =Target!E4 -> 10633.333 | E4: =SUM(B4:D4) -> 29000 | F4: =Target!F4 -> 9900.6 | G4: =Target!G4 -> 11000.667 | H4: =Target!H4 -> 12100.733 | I4: =SUM(F4:H4) -> 33002 | J4: =Target!I4 -> 9900.6 | K4: =Target!J4 -> 11000.667 | L4: =Target!K4 -> 12100.733 | M4: =SUM(J4:L4) -> 33002 | N4: =Target!L4 -> 9723.063 | O4: =Target!M4 -> 10803.403 | P4: =Target!N4 -> 11883.744 | Q4: =SUM(N4:P4) -> 32410.21 | R4: =B4+C4+D4+F4+G4+H4+J4+K4+L4+N4+O4+P4 -> 127414.21 | S4: =R4/Q3-1 -> #DIV/0!
A5: Sumaryczny Plan Sprzedaży Marża | B5: =B4 -> 8700 | C5: =C4+B5 -> 18366.667 | D5: =D4+C5 -> 29000 | F5: =F4 -> 9900.6 | G5: =G4+F5 -> 20901.267 | H5: =H4+G5 -> 33002 | J5: =J4 -> 9900.6 | K5: =K4+J5 -> 20901.267 | L5: =L4+K5 -> 33002 | M5: =SUM(E6,I6,M6)/3 -> 8136.5316 | N5: =N4 -> 9723.063 | O5: =O4+N5 -> 20526.466 | P5: =P4+O5 -> 32410.21 | R5: =R6/R4 -> 0.19157671
A6: Miesięczna realizacja Planu Sprzedaży Marża | B6: =SUMIF(I!A:A,$A$1,I!I:I) -> 12638.878 | C6: =SUMIF(II!A:A,$A$1,II!I:I) -> 7270.9316 | D6: =SUMIF(III!A:A,$A$1,III!I:I) -> 4499.7852 | E6: =SUM(B6:D6) -> 24409.595 | F6: =SUMIF(IV!A:A,$A$1,IV!I:I) -> 0 | G6: =SUMIF(V!A:A,$A$1,V!I:I) -> 0 | H6: =SUMIF(VI!A:A,$A$1,VI!I:I) -> 0 | I6: =SUM(F6:H6) -> 0 | J6: =SUMIF(VII!A:A,$A$1,VII!I:I) -> 0 | K6: =SUMIF(VIII!A:A,$A$1,VIII!I:I) -> 0 | L6: =SUMIF(IX!A:A,$A$1,IX!I:I) -> 0 | M6: =SUM(J6:L6) -> 0 | N6: =SUMIF(X!A:A,$A$1,X!I:I) -> 0 | O6: =SUMIF(XI!A:A,$A$1,XI!I:I) -> 0 | P6: =SUMIF(XII!A:A,$A$1,XII!I:I) -> 0 | Q6: =SUM(N6:P6) -> 0 | R6: =B6+C6+D6+F6+G6+H6+J6+K6+L6+N6+O6+P6 -> 24409.595
A7: Sumaryczna realizacja planu sprzedaży Marża | B7: =B6 -> 12638.878 | C7: =C6+B7 -> 19909.809 | D7: =D6+C7 -> 24409.595 | F7: =F6 -> 0 | G7: =G6+F7 -> 0 | H7: =H6+G7 -> 0 | J7: =J6 -> 0 | K7: =K6+J7 -> 0 | L7: =L6+K7 -> 0 | N7: =N6 -> 0 | O7: =O6+N7 -> 0 | P7: =P6+O7 -> 0
A8: Wysokość zrealizowania Miesięcznego Planu Sprzedaży Marża | B8: =B6/B4 -> 1.4527446 | C8: =C6/C4 -> 0.75216534 | D8: =D6/D4 -> 0.42317729 | F8: =F6/F4 -> 0 | G8: =G6/G4 -> 0 | H8: =H6/H4 -> 0 | J8: =J6/J4 -> 0 | K8: =K6/K4 -> 0 | L8: =L6/L4 -> 0 | N8: =N6/N4 -> 0 | O8: =O6/O4 -> 0 | P8: =P6/P4 -> 0 | Q8: =R6/Q3-1 -> #DIV/0!
A9: Wysokość zrealizowania Planu Sprzedaży Marża | B9: =B7/B5 -> 1.4527446 | C9: =C7/C5 -> 1.0840187 | D9: =D7/D5 -> 0.84171016 | F9: =F7/F5 -> 0 | G9: =G7/G5 -> 0 | H9: =H7/H5 -> 0 | J9: =J7/J5 -> 0 | K9: =K7/K5 -> 0 | L9: =L7/L5 -> 0 | N9: =N7/N5 -> 0 | O9: =O7/O5 -> 0 | P9: =P7/P5 -> 0 | Q9: =R6-Q3 -> 24409.595
A10: Różnica wskaźnika Marża | B10: =B7-B5 -> 3938.8779 | C10: =C7-C5 -> 1543.1428 | D10: =D7-D5 -> -4590.4053 | F10: =F7-F5 -> -9900.6 | G10: =G7-G5 -> -20901.267 | H10: =H7-H5 -> -33002 | J10: =J7-J5 -> -9900.6 | K10: =K7-K5 -> -20901.267 | L10: =L7-L5 -> -33002 | N10: =N7-N5 -> -9723.063 | O10: =O7-O5 -> -20526.466 | P10: =P7-P5 -> -32410.21
A11: Miesięczny Obrót | B11: =SUMIF(I!A:A,$A$1,I!G:G) -> 49988.5 | C11: =SUMIF(II!A:A,$A$1,II!G:G) -> 40731.379 | D11: =SUMIF(III!A:A,$A$1,III!G:G) -> 25602.42 | E11: =SUM(B11:D11) -> 116322.3 | F11: =SUMIF(IV!A:A,$A$1,IV!G:G) -> 0 | G11: =SUMIF(V!A:A,$A$1,V!G:G) -> 0 | H11: =SUMIF(VI!A:A,$A$1,VI!G:G) -> 0 | I11: =SUM(F11:H11) -> 0 | J11: =SUMIF(VII!A:A,$A$1,VII!G:G) -> 0 | K11: =SUMIF(VIII!A:A,$A$1,VIII!G:G) -> 0 | L11: =SUMIF(IX!A:A,$A$1,IX!G:G) -> 0 | M11: =SUM(J11:L11) -> 0 | N11: =SUMIF(X!A:A,$A$1,X!G:G) -> 0 | O11: =SUMIF(XI!A:A,$A$1,XI!G:G) -> 0 | P11: =SUMIF(XII!A:A,$A$1,XII!G:G) -> 0 | Q11: =SUM(N11:P11) -> 0 | R11: =SUM(B11:E11) -> 232644.6
A12: Sumaryczny Obrót | B12: =B11 -> 49988.5 | C12: =C11+B12 -> 90719.879 | D12: =D11+C12 -> 116322.3 | F12: =F11 -> 0 | G12: =G11+F12 -> 0 | H12: =H11+G12 -> 0 | J12: =J11 -> 0 | K12: =K11+J12 -> 0 | L12: =L11+K12 -> 0 | N12: =N11 -> 0 | O12: =O11+N12 -> 0 | P12: =P11+O12 -> 0
A13: Wysokość % Marży miesięcznej | B13: =B6/B11 -> 0.25283571 | C13: =C6/C11 -> 0.17850934 | D13: =D6/D11 -> 0.17575625 | F13: =F6/F11 -> #DIV/0! | G13: =G6/G11 -> #DIV/0! | H13: =H6/H11 -> #DIV/0! | J13: =J6/J11 -> #DIV/0! | K13: =K6/K11 -> #DIV/0! | L13: =L6/L11 -> #DIV/0! | N13: =N6/N11 -> #DIV/0! | O13: =O6/O11 -> #DIV/0! | P13: =P6/P11 -> #DIV/0!
A14: Wysokość % Marży sumarycznej | B14: =B7/B12 -> 0.25283571 | C14: =C7/C12 -> 0.21946468 | D14: =D7/D12 -> 0.2098445 | F14: =F7/F12 -> #DIV/0! | G14: =G7/G12 -> #DIV/0! | H14: =H7/H12 -> #DIV/0! | J14: =J7/J12 -> #DIV/0! | K14: =K7/K12 -> #DIV/0! | L14: =L7/L12 -> #DIV/0! | N14: =N7/N12 -> #DIV/0! | O14: =O7/O12 -> #DIV/0! | P14: =P7/P12 -> #DIV/0!
A16: PREMIE
A17: Wysokość premii dodatkowej | B17: 1000 | C17: 1000 | D17: 1000 | F17: 1100 | G17: 1100 | H17: 1100 | J17: 1000 | K17: 1000 | L17: 1000 | N17: 1000 | O17: 1000 | P17: 1000
A18: Mnożnik premii dodatkowej | B18: 1 | C18: 1 | D18: 1
A19: Premia dodatkowa | B19: =B18*B17 -> 1000 | C19: =C18*C17 -> 1000 | D19: =D18*D17 -> 1000 | F19: =F18*F17 -> 0 | G19: =G18*G17 -> 0 | H19: =H18*H17 -> 0 | J19: =J18*J17 -> 0 | K19: =K18*K17 -> 0 | L19: =L18*L17 -> 0 | N19: =N18*N17 -> 0 | O19: =O18*O17 -> 0 | P19: =P18*P17 -> 0
A22: Udział % IPSM w PSM | B22: =Target!J32 -> 0.03452381 | C22: =Target!J32 -> 0.03452381 | D22: =Target!J32 -> 0.03452381 | F22: =Target!J41 -> 0.035673904 | G22: =Target!J41 -> 0.035673904 | H22: =Target!J41 -> 0.035673904 | J22: =Target!J51 -> 0.035600978 | K22: =Target!J51 -> 0.035600978 | L22: =Target!J51 -> 0.035600978 | N22: =Target!J60 -> 0.035 | O22: =Target!J60 -> 0.035 | P22: =Target!J60 -> 0.035
A29: Wskaźnik Premia Kwartalna Marża | B29: =D5 -> 29000 | F29: =H5 -> 33002 | J29: =L5 -> 33002 | N29: =P5 -> 32410.21
A30: Realizacja Wskaźnika Premia Kwartalna | B30: =D7 -> 24409.595 | F30: =H7 -> 0 | J30: =L7 -> 0 | N30: =P7 -> 0
A31: Poziom realizacji Wskaźnika Premia Kwartalna | B31: =B30/B29 -> 0.84171016 | F31: =F30/F29 -> 0 | J31: =J30/J29 -> 0 | N31: =N30/N29 -> 0
A32: Wysokość premii kwartalnej. | B32: =D17 -> 1000 | F32: =H17 -> 1100 | J32: =L17 -> 1000 | N32: =P17 -> 1000
A33: Mnożnik premii kwartalnej | B33: =IF(B31<100%,0,IF(B31<105%,0.5,IF(B31<110%,0.7,1))) -> 0 | F33: =IF(F31<100%,0,IF(F31<105%,0.5,IF(F31<110%,0.7,1))) -> 0 | J33: =IF(J31<100%,0,IF(J31<105%,0.5,IF(J31<110%,0.7,1))) -> 0 | N33: =IF(N31<100%,0,IF(N31<105%,0.5,IF(N31<110%,0.7,1))) -> 0
A34: Premia kwartalna dodatkowa | B34: =B33*B32 -> 0 | F34: =F33*F32 -> 0 | J34: =J33*J32 -> 0 | N34: =N33*N32 -> 0

Sheet PIOTR
A1: Piotr Choma | B1: PLAN I KW Piotr Choma | F1: PLAN II KW Piotr Choma | J1: PLAN III KW Piotr Choma | N1: PLAN IV KW Piotr Choma
A2: miesiąc | B2: styczeń | C2: luty | D2: marzec | E2: KW I | F2: kwiecień | G2: maj | H2: czerwiec | I2: KW II | J2: lipiec | K2: sierpień | L2: wrzesień | M2: KW III | N2: październik | O2: listopad | P2: grudzień | Q2: KW IV | R2: suma ROK
A3: Wzrost/spadek kwoty marży w stos. do adekw. okr. | C3: 0.2014 | R3: =Target!O6 -> 1470328.4
A4: Indywidualny Plan Sprzedaży Marża | B4: =Target!C6 -> 103200 | C4: =Target!D6 -> 114666.67 | D4: =Target!E6 -> 126133.33 | E4: =SUM(B4:D4) -> 344000 | F4: =Target!F6 -> 113520 | G4: =Target!G6 -> 126133.33 | H4: =Target!H6 -> 138746.67 | I4: =SUM(F4:H4) -> 378400 | J4: =Target!I6 -> 111868.8 | K4: =Target!J6 -> 124298.67 | L4: =Target!K6-8400 -> 128328.53 | M4: =SUM(J4:L4) -> 364496 | N4: =Target!L6+2800 -> 115309.73 | O4: =Target!M6+2800 -> 127810.81 | P4: =Target!N6+2800 -> 140311.89 | Q4: =SUM(N4:P4) -> 383432.43 | R4: =E4+I4+M4+Q4 -> 1470328.4
A5: Sumaryczny Indywidulany Plan Sprzedaży Marża | B5: =B4 -> 103200 | C5: =C4+B5 -> 217866.67 | D5: =D4+C5 -> 344000 | F5: =F4 -> 113520 | G5: =G4+F5 -> 239653.33 | H5: =H4+G5 -> 378400 | J5: =J4 -> 111868.8 | K5: =K4+J5 -> 236167.47 | L5: =L4+K5 -> 364496 | M5: =SUM(E6,I6,M6)/3 -> 103178.55 | N5: =N4 -> 115309.73 | O5: =O4+N5 -> 243120.54 | P5: =P4+O5 -> 383432.43 | R5: =R6/R4 -> 0.21052144
A6: Miesięczna realizacja Planu Sprzedaży Marża | B6: =SUMIF(I!A:A,$A$1,I!I:I) -> 143440.19 | C6: =SUMIF(II!A:A,$A$1,II!I:I) -> 128074.54 | D6: =SUMIF(III!A:A,$A$1,III!I:I) -> 38020.926 | E6: =SUM(B6:D6) -> 309535.65 | F6: =SUMIF(IV!A:A,$A$1,IV!I:I) -> 0 | G6: =SUMIF(V!A:A,$A$1,V!I:I) -> 0 | H6: =SUMIF(VI!A:A,$A$1,VI!I:I) -> 0 | I6: =SUM(F6:H6) -> 0 | J6: =SUMIF(VII!A:A,$A$1,VII!I:I) -> 0 | K6: =SUMIF(VIII!A:A,$A$1,VIII!I:I) -> 0 | L6: =SUMIF(IX!A:A,$A$1,IX!I:I) -> 0 | M6: =SUM(J6:L6) -> 0 | N6: =SUMIF(X!A:A,$A$1,X!I:I) -> 0 | O6: =SUMIF(XI!A:A,$A$1,XI!I:I) -> 0 | P6: =SUMIF(XII!A:A,$A$1,XII!I:I) -> 0 | Q6: =SUM(N6:P6) -> 0 | R6: =E6+I6+M6+Q6 -> 309535.65
A7: Sumaryczna realizacja Planu Sprzedaży Marża | B7: =B6 -> 143440.19 | C7: =C6+B7 -> 271514.73 | D7: =D6+C7 -> 309535.65 | F7: =F6 -> 0 | G7: =G6+F7 -> 0 | H7: =H6+G7 -> 0 | J7: =J6 -> 0 | K7: =K6+J7 -> 0 | L7: =L6+K7 -> 0 | N7: =N6 -> 0 | O7: =O6+N7 -> 0 | P7: =P6+O7 -> 0 | R7: =R3-R4 -> 0
A8: Wysokość % zrealizowania IPSM miesięcznego | B8: =B6/B4 -> 1.3899243 | C8: =C6/C4 -> 1.1169291 | D8: =D6/D4 -> 0.3014344 | F8: =F6/F4 -> 0 | G8: =G6/G4 -> 0 | H8: =H6/H4 -> 0 | J8: =J6/J4 -> 0 | K8: =K6/K4 -> 0 | L8: =L6/L4 -> 0 | N8: =N6/N4 -> 0 | O8: =O6/O4 -> 0 | P8: =P6/P4 -> 0 | Q8: =R6/Q3-1 -> #DIV/0! | R8: =R7*100/R3 -> 0
A9: Wysokość % zrealizowania IPSM sumarycznego | B9: =B7/B5 -> 1.3899243 | C9: =C7/C5 -> 1.2462426 | D9: =D7/D5 -> 0.89981294 | F9: =F7/F5 -> 0 | G9: =G7/G5 -> 0 | H9: =H7/H5 -> 0 | J9: =J7/J5 -> 0 | K9: =K7/K5 -> 0 | L9: =L7/L5 -> 0 | N9: =N7/N5 -> 0 | O9: =O7/O5 -> 0 | P9: =P7/P5 -> 0 | Q9: =R6-Q3 -> 309535.65
A10: Różnica | B10: =B7-B5 -> 40240.188 | C10: =C7-C5 -> 53648.06 | D10: =D7-D5 -> -34464.348 | F10: =F7-F5 -> -113520 | G10: =G7-G5 -> -239653.33 | H10: =H7-H5 -> -378400 | J10: =J7-J5 -> -111868.8 | K10: =K7-K5 -> -236167.47 | L10: =L7-L5 -> -364496 | N10: =N7-N5 -> -115309.73 | O10: =O7-O5 -> -243120.54 | P10: =P7-P5 -> -383432.43
A11: Miesięczny Obrót | B11: =SUMIF(I!A:A,$A$1,I!G:G) -> 397215.97 | C11: =SUMIF(II!A:A,$A$1,II!G:G) -> 370181.72 | D11: =SUMIF(III!A:A,$A$1,III!G:G) -> 106009.03 | E11: =SUM(B11:D11) -> 873406.72 | F11: =SUMIF(IV!A:A,$A$1,IV!G:G) -> 0 | G11: =SUMIF(V!A:A,$A$1,V!G:G) -> 0 | H11: =SUMIF(VI!A:A,$A$1,VI!G:G) -> 0 | I11: =SUM(F11:H11) -> 0 | J11: =SUMIF(VII!A:A,$A$1,VII!G:G) -> 0 | K11: =SUMIF(VIII!A:A,$A$1,VIII!G:G) -> 0 | L11: =SUMIF(IX!A:A,$A$1,IX!G:G) -> 0 | M11: =SUM(J11:L11) -> 0 | N11: =SUMIF(X!A:A,$A$1,X!G:G) -> 0 | O11: =SUMIF(XI!A:A,$A$1,XI!G:G) -> 0 | P11: =SUMIF(XII!A:A,$A$1,XII!G:G) -> 0 | Q11: =SUM(N11:P11) -> 0 | R11: =E11+I11+M11+Q11 -> 873406.72
A12: Sumaryczny Obrót | B12: =B11 -> 397215.97 | C12: =C11+B12 -> 767397.69 | D12: =D11+C12 -> 873406.72 | F12: =F11 -> 0 | G12: =G11+F12 -> 0 | H12: =H11+G12 -> 0 | J12: =J11 -> 0 | K12: =K11+J12 -> 0 | L12: =L11+K12 -> 0 | N12: =N11 -> 0 | O12: =O11+N12 -> 0 | P12: =P11+O12 -> 0
A13: Wysokość % Marży miesięcznej | B13: =B6/B11 -> 0.36111385 | C13: =C6/C11 -> 0.34597748 | D13: =D6/D11 -> 0.35865742 | F13: =F6/F11 -> #DIV/0! | G13: =G6/G11 -> #DIV/0! | H13: =H6/H11 -> #DIV/0! | J13: =J6/J11 -> #DIV/0! | K13: =K6/K11 -> #DIV/0! | L13: =L6/L11 -> #DIV/0! | N13: =N6/N11 -> #DIV/0! | O13: =O6/O11 -> #DIV/0! | P13: =P6/P11 -> #DIV/0!
A14: Wysokość % Marży sumarycznej | B14: =B7/B12 -> 0.36111385 | C14: =C7/C12 -> 0.35381228 | D14: =D7/D12 -> 0.35440036 | F14: =F7/F12 -> #DIV/0! | G14: =G7/G12 -> #DIV/0! | H14: =H7/H12 -> #DIV/0! | J14: =J7/J12 -> #DIV/0! | K14: =K7/K12 -> #DIV/0! | L14: =L7/L12 -> #DIV/0! | N14: =N7/N12 -> #DIV/0! | O14: =O7/O12 -> #DIV/0! | P14: =P7/P12 -> #DIV/0!
A16: PREMIE | B16: PREMIE
A17: Wynagrodzenie zasadnicze | B17: =Target!P34 -> 7500 | C17: =Target!P34 -> 7500 | D17: =Target!P34 -> 7500 | F17: =Target!P43 -> 7500 | G17: =Target!P43 -> 7500 | H17: =Target!P43 -> 7500 | J17: =Target!P53 -> 7500 | K17: =Target!P53 -> 7500 | L17: =Target!P53 -> 7500 | N17: =Target!P62 -> 7500 | O17: =Target!P62 -> 7500 | P17: =Target!P62 -> 7500
A18: Premia 15% wynagrodzenia zasadniczego | B18: =B17*15% -> 1125 | C18: =C17*15% -> 1125 | D18: =D17*15% -> 1125 | F18: =F17*15% -> 1125 | G18: =G17*15% -> 1125 | H18: =H17*15% -> 1125 | J18: =J17*15% -> 1125 | K18: =K17*15% -> 1125 | L18: =L17*15% -> 1125 | N18: =N17*15% -> 1125 | O18: =O17*15% -> 1125 | P18: =P17*15% -> 1125
A19: Wysokość Kwoty bazowej na dany okres | B19: =Target!O34 -> 7000 | C19: =Target!O34 -> 7000 | D19: =Target!O34 -> 7000 | F19: =Target!O40 -> 10266.667 | G19: =Target!O40 -> 10266.667 | H19: =Target!O40 -> 10266.667 | J19: =Target!O50 -> 7000 | K19: =Target!O50 -> 7000 | L19: =Target!O50 -> 7000 | N19: =Target!O59 -> 7000 | O19: =Target!O59 -> 7000 | P19: =Target!O59 -> 7000
A20: Udział % IPSM w PSM | B20: =Target!J34 -> 0.40952381 | C20: =Target!J34 -> 0.40952381 | D20: =Target!J34 -> 0.40952381 | F20: =Target!J43 -> 0.40903598 | G20: =Target!J43 -> 0.40903598 | H20: =Target!J43 -> 0.40903598 | J20: =Target!J53 -> 0.40226236 | K20: =Target!J53 -> 0.40226236 | L20: =Target!J53 -> 0.40226236 | N20: =Target!J62 -> 0.405 | O20: =Target!J62 -> 0.405 | P20: =Target!J62 -> 0.405
A21: Wysokość Indywidualnej Kwoty bazowej | B21: =Target!N34 -> 11466 | C21: =Target!N34 -> 11466 | D21: =Target!N34 -> 11466 | F21: =Target!N43 -> 12597.2 | G21: =Target!N43 -> 12597.2 | H21: =Target!N43 -> 12597.2 | J21: =Target!N53 -> 11264.4 | K21: =Target!N53 -> 11264.4 | L21: =Target!N53 -> 11264.4 | N21: =Target!N62 -> 11340 | O21: =Target!N62 -> 11340 | P21: =Target!N62 -> 11340
A22: Sumaryczny Indywidualny Plan Sprzedaży Marża | B22: =B5 -> 103200 | C22: =C5 -> 217866.67 | D22: =D5 -> 344000 | F22: =F5 -> 113520 | G22: =G5 -> 239653.33 | H22: =H5 -> 378400 | J22: =J5 -> 111868.8 | K22: =K5 -> 236167.47 | L22: =L5 -> 364496 | N22: =N5 -> 115309.73 | O22: =O5 -> 243120.54 | P22: =P5 -> 383432.43
A23: Miesięczna realizacja Planu Sprzedaży Marża | B23: =B7 -> 143440.19 | C23: =C7 -> 271514.73 | D23: =D7 -> 309535.65 | F23: =F7 -> 0 | G23: =G7 -> 0 | H23: =H7 -> 0 | J23: =J7 -> 0 | K23: =K7 -> 0 | L23: =L7 -> 0 | N23: =N7 -> 0 | O23: =O7 -> 0 | P23: =P7 -> 0
A24: Wysokość % zrealizowania IPSM sumarycznego | B24: =B23/B22 -> 1.3899243 | C24: =C23/C22 -> 1.2462426 | D24: =D23/D22 -> 0.89981294 | F24: =F23/F22 -> 0 | G24: =G23/G22 -> 0 | H24: =H23/H22 -> 0 | J24: =J23/J22 -> 0 | K24: =K23/K22 -> 0 | L24: =L23/L22 -> 0 | N24: =N23/N22 -> 0 | O24: =O23/O22 -> 0 | P24: =P23/P22 -> 0
A25: Wysokość premii Wskaźnik Sprzedaży Marża | B25: =B21*0.35 -> 4013.1 | C25: =C21*0.35 -> 4013.1 | D25: =D21*0.35 -> 4013.1 | F25: =F21*0.35 -> 4409.02 | G25: =G21*0.35 -> 4409.02 | H25: =H21*0.35 -> 4409.02 | J25: =J21*0.35 -> 3942.54 | K25: =K21*0.35 -> 3942.54 | L25: =L21*0.35 -> 3942.54 | N25: =N21*0.35 -> 3969 | O25: =O21*0.35 -> 3969 | P25: =P21*0.35 -> 3969
A26: Mnożnik premii miesięcznej Wskaźnika Sprzedaży Marża | B26: =IF(B24<80%,0,IF(B24<90%,0.5,IF(B24<95%,0.75,1))) -> 1 | C26: =IF(C24<80%,0,IF(C24<90%,0.5,IF(C24<95%,0.75,1))) -> 1 | D26: =IF(D24<80%,0,IF(D24<90%,0.5,IF(D24<95%,0.75,1))) -> 0.5 | F26: =IF(F24<80%,0,IF(F24<90%,0.5,IF(F24<95%,0.75,1))) -> 0 | G26: =IF(G24<80%,0,IF(G24<90%,0.5,IF(G24<95%,0.75,1))) -> 0 | H26: =IF(H24<80%,0,IF(H24<90%,0.5,IF(H24<95%,0.75,1))) -> 0 | J26: =IF(J24<80%,0,IF(J24<90%,0.5,IF(J24<95%,0.75,1))) -> 0 | K26: =IF(K24<80%,0,IF(K24<90%,0.5,IF(K24<95%,0.75,1))) -> 0 | L26: =IF(L24<80%,0,IF(L24<90%,0.5,IF(L24<95%,0.75,1))) -> 0 | N26: =IF(N24<80%,0,IF(N24<90%,0.5,IF(N24<95%,0.75,1))) -> 0 | O26: =IF(O24<80%,0,IF(O24<90%,0.5,IF(O24<95%,0.75,1))) -> 0 | P26: =IF(P24<80%,0,IF(P24<90%,0.5,IF(P24<95%,0.75,1))) -> 0
A27: Premia miesięczna za Wskaźnik Sprzedaży Marża | B27: =B26*B25 -> 4013.1 | C27: =C26*C25 -> 4013.1 | D27: =D26*D25 -> 2006.55 | F27: =F26*F25 -> 0 | G27: =G26*G25 -> 0 | H27: =H26*H25 -> 0 | J27: =J26*J25 -> 0 | K27: =K26*K25 -> 0 | L27: =L26*L25 -> 0 | N27: =N26*N25 -> 0 | O27: =O26*O25 -> 0 | P27: =P26*P25 -> 0
A28: Wysokość premii CRM | B28: =B19*0.05 -> 350 | C28: =C19*0.05 -> 350 | D28: =D19*0.05 -> 350 | F28: =F19*0.05 -> 513.33333 | G28: =G19*0.05 -> 513.33333 | H28: =H19*0.05 -> 513.33333 | J28: =J19*0.05 -> 350 | K28: =K19*0.05 -> 350 | L28: =L19*0.05 -> 350 | N28: =N19*0.05 -> 350 | O28: =O19*0.05 -> 350 | P28: =P19*0.05 -> 350
A29: Mnożnik premii Wskaźnik CRM | B29: 1 | C29: 1 | D29: 1
A30: Premia miesięczna za Wskaźnik CRM | B30: =B29*B28 -> 350 | C30: =C29*C28 -> 350 | D30: =D29*D28 -> 350 | F30: =F29*F28 -> 0 | G30: =G29*G28 -> 0 | H30: =H29*H28 -> 0 | J30: =J29*J28 -> 0 | K30: =K29*K28 -> 0 | L30: =L29*L28 -> 0 | N30: =N29*N28 -> 0 | O30: =O29*O28 -> 0 | P30: =P29*P28 -> 0
A31: Suma premii za IPSM i CRM | B31: =B27+B30 -> 4363.1 | C31: =C27+C30 -> 4363.1 | D31: =D27+D30 -> 2356.55 | F31: =F27+F30 -> 0 | G31: =G27+G30 -> 0 | H31: =H27+H30 -> 0 | J31: =J27+J30 -> 0 | K31: =K27+K30 -> 0 | L31: =L27+L30 -> 0 | N31: =N27+N30 -> 0 | O31: =O27+O30 -> 0 | P31: =P27+P30 -> 0
A32: Wysokość premi dodatkowej | B32: 2266 | C32: 2266 | D32: 2266 | F32: 2266 | G32: 2266 | H32: 2266 | J32: 2266 | K32: 2266 | L32: 2266 | N32: 2266 | O32: 2266 | P32: 2266
A33: Mnożnik premii dodatkowej | B33: 1 | C33: 1 | D33: 1
A34: Premia dodatkowa | B34: =B33*B32 -> 2266 | C34: =C33*C32 -> 2266 | D34: =D33*D32 -> 2266 | F34: =F33*F32 -> 0 | G34: =G33*G32 -> 0 | H34: =H33*H32 -> 0 | J34: =J33*J32 -> 0 | K34: =K33*K32 -> 0 | L34: =L33*L32 -> 0 | N34: =N33*N32 -> 0 | O34: =O33*O32 -> 0 | P34: =P33*P32 -> 0
A35: Suma wszystkich premii | B35: =B18+B27+B30+B34 -> 7754.1 | C35: =C18+C27+C30+C34 -> 7754.1 | D35: =D18+D27+D30+D34 -> 5747.55 | F35: =F18+F27+F30+F34 -> 1125 | G35: =G18+G27+G30+G34 -> 1125 | H35: =H18+H27+H30+H34 -> 1125 | J35: =J18+J27+J30+J34 -> 1125 | K35: =K18+K27+K30+K34 -> 1125 | L35: =L18+L27+L30+L34 -> 1125 | N35: =N18+N27+N30+N34 -> 1125 | O35: =O18+O27+O30+O34 -> 1125 | P35: =P18+P27+P30+P34 -> 1125
A36: Wskaźnik Premia Kwartalna Marża | B36: =D5 -> 344000 | F36: =H5 -> 378400 | J36: =L5 -> 364496 | N36: =P5 -> 383432.43
A37: Realizacja Wskaźnika Premia Kwartalna | B37: =D7 -> 309535.65 | F37: =H7 -> 0 | J37: =L7 -> 0 | N37: =P7 -> 0
A38: Poziom realizacji Wskaźnika Premia Kwartalna | B38: =B37/B36 -> 0.89981294 | F38: =F37/F36 -> 0 | J38: =J37/J36 -> 0 | N38: =N37/N36 -> 0
A39: Wysokość premii kwartalnej. | B39: =D19 -> 7000 | F39: =H19 -> 10266.667 | J39: =L19 -> 7000 | N39: =P19 -> 7000
A40: Mnożnik premii kwartalnej | B40: =IF(B38<100%,0,IF(B38<105%,0.5,IF(B38<110%,0.7,1))) -> 0 | F40: =IF(F38<100%,0,IF(F38<105%,0.5,IF(F38<110%,0.7,1))) -> 0 | J40: =IF(J38<100%,0,IF(J38<105%,0.5,IF(J38<110%,0.7,1))) -> 0 | N40: =IF(N38<100%,0,IF(N38<105%,0.5,IF(N38<110%,0.7,1))) -> 0
A41: Premia kwartalna | B41: =B40*B39 -> 0 | F41: =F40*F39 -> 0 | J41: =J40*J39 -> 0 | N41: =N40*N39 -> 0
...

Sheet KRZYSZTOF
A1: Krzysztof Szwajdych | B1: PLAN I KW Krzysztof Szwajdych | F1: PLAN II KW Krzysztof Szwajdych | J1: PLAN III KW Krzysztof Szwajdych | N1: PLAN IV KW Krzysztof Szwajdych
A2: miesiąc | B2: styczeń | C2: luty | D2: marzec | E2: KW I | F2: kwiecień | G2: maj | H2: czerwiec | I2: KW II | J2: lipiec | K2: sierpień | L2: wrzesień | M2: KW III | N2: październik | O2: listopad | P2: grudzień | Q2: KW IV | R2: suma ROK
A3: Wzrost/spadek kwoty marży w stos. do adekw. okr. | C3: -0.1064 | R3: =Target!O7 -> 1102911.8
A4: Indywidualny Plan Sprzedaży Marża | B4: =Target!C7 -> 76800 | C4: =Target!D7 -> 85333.333 | D4: =Target!E7 -> 93866.667 | E4: =SUM(B4:D4) -> 256000 | F4: =Target!F7 -> 84480 | G4: =Target!G7 -> 93866.667 | H4: =Target!H7 -> 103253.33 | I4: =SUM(F4:H4) -> 281600 | J4: =Target!I7 -> 84864 | K4: =Target!J7 -> 94293.333 | L4: =Target!K7 -> 103722.67 | M4: =SUM(J4:L4) -> 282880 | N4: =Target!L7 -> 84729.549 | O4: =Target!M7 -> 94143.943 | P4: =Target!N7 -> 103558.34 | Q4: =SUM(N4:P4) -> 282431.83 | R4: =E4+I4+M4+Q4 -> 1102911.8
A5: Sumaryczny Indywidulany Plan Sprzedaży Marża | B5: =B4 -> 76800 | C5: =C4+B5 -> 162133.33 | D5: =D4+C5 -> 256000 | F5: =F4 -> 84480 | G5: =G4+F5 -> 178346.67 | H5: =H4+G5 -> 281600 | J5: =J4 -> 84864 | K5: =K4+J5 -> 179157.33 | L5: =L4+K5 -> 282880 | M5: =SUM(E6,I6,M6)/3 -> 67560.374 | N5: =N4 -> 84729.549 | O5: =O4+N5 -> 178873.49 | P5: =P4+O5 -> 282431.83 | R5: =R6/R4 -> 0.18376911
A6: Miesięczna realizacja Planu Sprzedaży Marża | B6: =SUMIF(I!A:A,$A$1,I!I:I) -> 95808.016 | C6: =SUMIF(II!A:A,$A$1,II!I:I) -> 76436.102 | D6: =SUMIF(III!A:A,$A$1,III!I:I) -> 30437.004 | E6: =SUM(B6:D6) -> 202681.12 | F6: =SUMIF(IV!A:A,$A$1,IV!I:I) -> 0 | G6: =SUMIF(V!A:A,$A$1,V!I:I) -> 0 | H6: =SUMIF(VI!A:A,$A$1,VI!I:I) -> 0 | I6: =SUM(F6:H6) -> 0 | J6: =SUMIF(VII!A:A,$A$1,VII!I:I) -> 0 | K6: =SUMIF(VIII!A:A,$A$1,VIII!I:I) -> 0 | L6: =SUMIF(IX!A:A,$A$1,IX!I:I) -> 0 | M6: =SUM(J6:L6) -> 0 | N6: =SUMIF(X!A:A,$A$1,X!I:I) -> 0 | O6: =SUMIF(XI!A:A,$A$1,XI!I:I) -> 0 | P6: =SUMIF(XII!A:A,$A$1,XII!I:I) -> 0 | Q6: =SUM(N6:P6) -> 0 | R6: =E6+I6+M6+Q6 -> 202681.12
A7: Sumaryczna realizacja Planu Sprzedaży Marża | B7: =B6 -> 95808.016 | C7: =C6+B7 -> 172244.12 | D7: =D6+C7 -> 202681.12 | F7: =F6 -> 0 | G7: =G6+F7 -> 0 | H7: =H6+G7 -> 0 | J7: =J6 -> 0 | K7: =K6+J7 -> 0 | L7: =L6+K7 -> 0 | N7: =N6 -> 0 | O7: =O6+N7 -> 0 | P7: =P6+O7 -> 0 | R7: =R3-R4 -> 0
A8: Wysokość % zrealizowania IPSM miesięcznego | B8: =B6/B4 -> 1.2475002 | C8: =C6/C4 -> 0.89573557 | D8: =D6/D4 -> 0.32425785 | F8: =F6/F4 -> 0 | G8: =G6/G4 -> 0 | H8: =H6/H4 -> 0 | J8: =J6/J4 -> 0 | K8: =K6/K4 -> 0 | L8: =L6/L4 -> 0 | N8: =N6/N4 -> 0 | O8: =O6/O4 -> 0 | P8: =P6/P4 -> 0 | Q8: =R6/Q3-1 -> #DIV/0! | R8: =R7*100/R3 -> 0
A9: Wysokość % zrealizowania IPSM sumarycznego | B9: =B7/B5 -> 1.2475002 | C9: =C7/C5 -> 1.0623609 | D9: =D7/D5 -> 0.79172313 | F9: =F7/F5 -> 0 | G9: =G7/G5 -> 0 | H9: =H7/H5 -> 0 | J9: =J7/J5 -> 0 | K9: =K7/K5 -> 0 | L9: =L7/L5 -> 0 | N9: =N7/N5 -> 0 | O9: =O7/O5 -> 0 | P9: =P7/P5 -> 0 | Q9: =R6-Q3 -> 202681.12
A10: Różnica | B10: =B7-B5 -> 19008.016 | C10: =C7-C5 -> 10110.784 | D10: =D7-D5 -> -53318.879 | F10: =F7-F5 -> -84480 | G10: =G7-G5 -> -178346.67 | H10: =H7-H5 -> -281600 | J10: =J7-J5 -> -84864 | K10: =K7-K5 -> -179157.33 | L10: =L7-L5 -> -282880 | N10: =N7-N5 -> -84729.549 | O10: =O7-O5 -> -178873.49 | P10: =P7-P5 -> -282431.83
A11: Miesięczny Obrót | B11: =SUMIF(I!A:A,$A$1,I!G:G) -> 216241.27 | C11: =SUMIF(II!A:A,$A$1,II!G:G) -> 188991.48 | D11: =SUMIF(III!A:A,$A$1,III!G:G) -> 65710.469 | E11: =SUM(B11:D11) -> 470943.22 | F11: =SUMIF(IV!A:A,$A$1,IV!G:G) -> 0 | G11: =SUMIF(V!A:A,$A$1,V!G:G) -> 0 | H11: =SUMIF(VI!A:A,$A$1,VI!G:G) -> 0 | I11: =SUM(F11:H11) -> 0 | J11: =SUMIF(VII!A:A,$A$1,VII!G:G) -> 0 | K11: =SUMIF(VIII!A:A,$A$1,VIII!G:G) -> 0 | L11: =SUMIF(IX!A:A,$A$1,IX!G:G) -> 0 | M11: =SUM(J11:L11) -> 0 | N11: =SUMIF(X!A:A,$A$1,X!G:G) -> 0 | O11: =SUMIF(XI!A:A,$A$1,XI!G:G) -> 0 | P11: =SUMIF(XII!A:A,$A$1,XII!G:G) -> 0 | Q11: =SUM(N11:P11) -> 0 | R11: =E11+I11+M11+Q11 -> 470943.22
A12: Sumaryczny Obrót | B12: =B11 -> 216241.27 | C12: =C11+B12 -> 405232.75 | D12: =D11+C12 -> 470943.22 | F12: =F11 -> 0 | G12: =G11+F12 -> 0 | H12: =H11+G12 -> 0 | J12: =J11 -> 0 | K12: =K11+J12 -> 0 | L12: =L11+K12 -> 0 | N12: =N11 -> 0 | O12: =O11+N12 -> 0 | P12: =P11+O12 -> 0
A13: Wysokość % Marży miesięcznej | B13: =B6/B11 -> 0.44306074 | C13: =C6/C11 -> 0.40444204 | D13: =D6/D11 -> 0.4631987 | F13: =F6/F11 -> #DIV/0! | G13: =G6/G11 -> #DIV/0! | H13: =H6/H11 -> #DIV/0! | J13: =J6/J11 -> #DIV/0! | K13: =K6/K11 -> #DIV/0! | L13: =L6/L11 -> #DIV/0! | N13: =N6/N11 -> #DIV/0! | O13: =O6/O11 -> #DIV/0! | P13: =P6/P11 -> #DIV/0!
A14: Wysokość % Marży sumarycznej | B14: =B7/B12 -> 0.44306074 | C14: =C7/C12 -> 0.42504984 | D14: =D7/D12 -> 0.43037273 | E14: - | F14: =F7/F12 -> #DIV/0! | G14: =G7/G12 -> #DIV/0! | H14: =H7/H12 -> #DIV/0! | J14: =J7/J12 -> #DIV/0! | K14: =K7/K12 -> #DIV/0! | L14: =L7/L12 -> #DIV/0! | N14: =N7/N12 -> #DIV/0! | O14: =O7/O12 -> #DIV/0! | P14: =P7/P12 -> #DIV/0!
A16: PREMIE | B16: PREMIE
A17: Wynagrodzenie zasadnicze | B17: =Target!P35 -> 6800 | C17: =Target!P35 -> 6800 | D17: =Target!P35 -> 6800 | F17: =Target!P44 -> 6800 | G17: =Target!P44 -> 6800 | H17: =Target!P44 -> 6800 | J17: =Target!P54 -> 6800 | K17: =Target!P54 -> 6800 | L17: =Target!P54 -> 6800 | N17: =Target!P63 -> 6800 | O17: =Target!P63 -> 6800 | P17: =Target!P63 -> 6800
A18: Premia 15% wynagrodzenia zasadniczego | B18: =B17*15% -> 1020 | C18: =C17*15% -> 1020 | D18: =D17*15% -> 1020 | F18: =F17*15% -> 1020 | G18: =G17*15% -> 1020 | H18: =H17*15% -> 1020 | J18: =J17*15% -> 1020 | K18: =K17*15% -> 1020 | L18: =L17*15% -> 1020 | N18: =N17*15% -> 1020 | O18: =O17*15% -> 1020 | P18: =P17*15% -> 1020
A19: Wysokość Kwoty bazowej na dany okres | B19: =Target!O35 -> 7000 | C19: =Target!O35 -> 7000 | D19: =Target!O35 -> 7000 | F19: =Target!O40 -> 10266.667 | G19: =Target!O40 -> 10266.667 | H19: =Target!O40 -> 10266.667 | J19: =Target!O50 -> 7000 | K19: =Target!O50 -> 7000 | L19: =Target!O50 -> 7000 | N19: =Target!O59 -> 7000 | O19: =Target!O59 -> 7000 | P19: =Target!O59 -> 7000
A20: Udział % IPSM w PSM | B20: =Target!J35 -> 0.3047619 | C20: =Target!J35 -> 0.3047619 | D20: =Target!J35 -> 0.3047619 | F20: =Target!J44 -> 0.30439887 | G20: =Target!J44 -> 0.30439887 | H20: =Target!J44 -> 0.30439887 | J20: =Target!J54 -> 0.30515741 | K20: =Target!J54 -> 0.30515741 | L20: =Target!J54 -> 0.30515741 | N20: =Target!J63 -> 0.305 | O20: =Target!J63 -> 0.305 | P20: =Target!J63 -> 0.305
A21: Wysokość Indywidualnej Kwoty bazowej | B21: =Target!N35 -> 8534.4 | C21: =Target!N35 -> 8534.4 | D21: =Target!N35 -> 8534.4 | F21: =Target!N44 -> 9375.52 | G21: =Target!N44 -> 9375.52 | H21: =Target!N44 -> 9375.52 | J21: =Target!N54 -> 8545.6 | K21: =Target!N54 -> 8545.6 | L21: =Target!N54 -> 8545.6 | N21: =Target!N63 -> 8540 | O21: =Target!N63 -> 8540 | P21: =Target!N63 -> 8540
A22: Sumaryczny Indywidualny Plan Sprzedaży Marża | B22: =B5 -> 76800 | C22: =C5 -> 162133.33 | D22: =D5 -> 256000 | F22: =F5 -> 84480 | G22: =G5 -> 178346.67 | H22: =H5 -> 281600 | J22: =J5 -> 84864 | K22: =K5 -> 179157.33 | L22: =L5 -> 282880 | N22: =N5 -> 84729.549 | O22: =O5 -> 178873.49 | P22: =P5 -> 282431.83
A23: Miesięczna realizacja Planu Sprzedaży Marża | B23: =B7 -> 95808.016 | C23: =C7 -> 172244.12 | D23: =D7 -> 202681.12 | F23: =F7 -> 0 | G23: =G7 -> 0 | H23: =H7 -> 0 | J23: =J7 -> 0 | K23: =K7 -> 0 | L23: =L7 -> 0 | N23: =N7 -> 0 | O23: =O7 -> 0 | P23: =P7 -> 0
A24: Wysokość % zrealizowania IPSM sumarycznego | B24: =B23/B22 -> 1.2475002 | C24: =C23/C22 -> 1.0623609 | D24: =D23/D22 -> 0.79172313 | F24: =F23/F22 -> 0 | G24: =G23/G22 -> 0 | H24: =H23/H22 -> 0 | J24: =J23/J22 -> 0 | K24: =K23/K22 -> 0 | L24: =L23/L22 -> 0 | N24: =N23/N22 -> 0 | O24: =O23/O22 -> 0 | P24: =P23/P22 -> 0
A25: Wysokość premii Wskaźnik Sprzedaży Marża | B25: =B21*0.35 -> 2987.04 | C25: =C21*0.35 -> 2987.04 | D25: =D21*0.35 -> 2987.04 | F25: =F21*0.35 -> 3281.432 | G25: =G21*0.35 -> 3281.432 | H25: =H21*0.35 -> 3281.432 | J25: =J21*0.35 -> 2990.96 | K25: =K21*0.35 -> 2990.96 | L25: =L21*0.35 -> 2990.96 | N25: =N21*0.35 -> 2989 | O25: =O21*0.35 -> 2989 | P25: =P21*0.35 -> 2989
A26: Mnożnik premii miesięcznej Wskaźnika Sprzedaży Marża | B26: =IF(B24<80%,0,IF(B24<90%,0.5,IF(B24<95%,0.75,1))) -> 1 | C26: =IF(C24<80%,0,IF(C24<90%,0.5,IF(C24<95%,0.75,1))) -> 1 | D26: =IF(D24<80%,0,IF(D24<90%,0.5,IF(D24<95%,0.75,1))) -> 0 | F26: =IF(F24<80%,0,IF(F24<90%,0.5,IF(F24<95%,0.75,1))) -> 0 | G26: =IF(G24<80%,0,IF(G24<90%,0.5,IF(G24<95%,0.75,1))) -> 0 | H26: =IF(H24<80%,0,IF(H24<90%,0.5,IF(H24<95%,0.75,1))) -> 0 | J26: =IF(J24<80%,0,IF(J24<90%,0.5,IF(J24<95%,0.75,1))) -> 0 | K26: =IF(K24<80%,0,IF(K24<90%,0.5,IF(K24<95%,0.75,1))) -> 0 | L26: =IF(L24<80%,0,IF(L24<90%,0.5,IF(L24<95%,0.75,1))) -> 0 | N26: =IF(N24<80%,0,IF(N24<90%,0.5,IF(N24<95%,0.75,1))) -> 0 | O26: =IF(O24<80%,0,IF(O24<90%,0.5,IF(O24<95%,0.75,1))) -> 0 | P26: =IF(P24<80%,0,IF(P24<90%,0.5,IF(P24<95%,0.75,1))) -> 0
A27: Premia miesięczna za Wskaźnik Sprzedaży Marża | B27: =B26*B25 -> 2987.04 | C27: =C26*C25 -> 2987.04 | D27: =D26*D25 -> 0 | F27: =F26*F25 -> 0 | G27: =G26*G25 -> 0 | H27: =H26*H25 -> 0 | J27: =J26*J25 -> 0 | K27: =K26*K25 -> 0 | L27: =L26*L25 -> 0 | N27: =N26*N25 -> 0 | O27: =O26*O25 -> 0 | P27: =P26*P25 -> 0
A28: Wysokość premii CRM | B28: =B19*0.05 -> 350 | C28: =C19*0.05 -> 350 | D28: =D19*0.05 -> 350 | F28: =F19*0.05 -> 513.33333 | G28: =G19*0.05 -> 513.33333 | H28: =H19*0.05 -> 513.33333 | J28: =J19*0.05 -> 350 | K28: =K19*0.05 -> 350 | L28: =L19*0.05 -> 350 | N28: =N19*0.05 -> 350 | O28: =O19*0.05 -> 350 | P28: =P19*0.05 -> 350
A29: Mnożnik premii Wskaźnik CRM | B29: 1 | C29: 1 | D29: 1
A30: Premia miesięczna za Wskaźnik CRM | B30: =B29*B28 -> 350 | C30: =C29*C28 -> 350 | D30: =D29*D28 -> 350 | F30: =F29*F28 -> 0 | G30: =G29*G28 -> 0 | H30: =H29*H28 -> 0 | J30: =J29*J28 -> 0 | K30: =K29*K28 -> 0 | L30: =L29*L28 -> 0 | N30: =N29*N28 -> 0 | O30: =O29*O28 -> 0 | P30: =P29*P28 -> 0
A31: Suma premii za IPSM i CRM | B31: =B27+B30 -> 3337.04 | C31: =C27+C30 -> 3337.04 | D31: =D27+D30 -> 350 | F31: =F27+F30 -> 0 | G31: =G27+G30 -> 0 | H31: =H27+H30 -> 0 | J31: =J27+J30 -> 0 | K31: =K27+K30 -> 0 | L31: =L27+L30 -> 0 | N31: =N27+N30 -> 0 | O31: =O27+O30 -> 0 | P31: =P27+P30 -> 0
A32: Wysokość premi dodatkowej | B32: 2266 | C32: 2266 | D32: 2266 | F32: 2266 | G32: 2266 | H32: 2266 | J32: 2266 | K32: 2266 | L32: 2266 | N32: 2266 | O32: 2266 | P32: 2266
A33: Mnożnik premii dodatkowej | B33: 1 | C33: 1 | D33: 1
A34: Premia dodatkowa | B34: =B33*B32 -> 2266 | C34: =C33*C32 -> 2266 | D34: =D33*D32 -> 2266 | F34: =F33*F32 -> 0 | G34: =G33*G32 -> 0 | H34: =H33*H32 -> 0 | J34: =J33*J32 -> 0 | K34: =K33*K32 -> 0 | L34: =L33*L32 -> 0 | N34: =N33*N32 -> 0 | O34: =O33*O32 -> 0 | P34: =P33*P32 -> 0
A35: Suma wszystkich premii | B35: =B18+B27+B30+B34 -> 6623.04 | C35: =C18+C27+C30+C34 -> 6623.04 | D35: =D18+D27+D30+D34 -> 3636 | F35: =F18+F27+F30+F34 -> 1020 | G35: =G18+G27+G30+G34 -> 1020 | H35: =H18+H27+H30+H34 -> 1020 | J35: =J18+J27+J30+J34 -> 1020 | K35: =K18+K27+K30+K34 -> 1020 | L35: =L18+L27+L30+L34 -> 1020 | N35: =N18+N27+N30+N34 -> 1020 | O35: =O18+O27+O30+O34 -> 1020 | P35: =P18+P27+P30+P34 -> 1020
A36: Wskaźnik Premia Kwartalna Marża | B36: =D5 -> 256000 | F36: =H5 -> 281600 | J36: =L5 -> 282880 | N36: =P5 -> 282431.83
A37: Realizacja Wskaźnika Premia Kwartalna | B37: =D7 -> 202681.12 | F37: =H7 -> 0 | J37: =L7 -> 0 | N37: =P7 -> 0
A38: Poziom realizacji Wskaźnika Premia Kwartalna | B38: =B37/B36 -> 0.79172313 | F38: =F37/F36 -> 0 | J38: =J37/J36 -> 0 | N38: =N37/N36 -> 0
A39: Wysokość premii kwartalnej. | B39: =D19 -> 7000 | F39: =H19 -> 10266.667 | J39: =L19 -> 7000 | N39: =P19 -> 7000
A40: Mnożnik premii kwartalnej | B40: =IF(B38<100%,0,IF(B38<105%,0.5,IF(B38<110%,0.7,1))) -> 0 | F40: =IF(F38<100%,0,IF(F38<105%,0.5,IF(F38<110%,0.7,1))) -> 0 | J40: =IF(J38<100%,0,IF(J38<105%,0.5,IF(J38<110%,0.7,1))) -> 0 | N40: =IF(N38<100%,0,IF(N38<105%,0.5,IF(N38<110%,0.7,1))) -> 0
A41: Premia kwartalna | B41: =B40*B39 -> 0 | F41: =F40*F39 -> 0 | J41: =J40*J39 -> 0 | N41: =N40*N39 -> 0
...

Sheet DH
A1: brak opiekuna | B1: PLANY SPRZEDAŻY
A2: miesiąc | B2: styczeń | C2: luty | D2: marzec | E2: I KW | F2: kwiecień | G2: maj | H2: czerwiec | I2: II KW | J2: lipiec | K2: sierpień | L2: wrzesień | M2: III KW | N2: październik | O2: listopad | P2: grudzień | Q2: IV KW | R2: suma
A3: Marża rok poprzedni | B3: 270726.89 | C3: 318940.52 | D3: 268372.09 | E3: =SUM(B3:D3) -> 858039.5 | F3: 311537.67 | G3: 285230.5 | H3: 259436.25 | I3: =SUM(F3:H3) -> 856204.42 | J3: 302432.75 | K3: 206704.64 | L3: 290575.63 | M3: =SUM(J3:L3) -> 799713.02 | N3: 328730.03 | O3: 226178.07 | P3: 219386.86 | Q3: =SUM(N3:P3) -> 774294.96 | R3: =SUM(Q3,M3,I3,E3) -> 3288251.9 | T3: =R8*1.1 -> 747709.03
S4: MINIMUM | T4: PLAN | U4: CEL
A5: Wzrost Marży | B5: =B9/B4-1 -> #DIV/0! | C5: =C9/C4-1 -> #DIV/0! | D5: =D9/D4-1 -> #DIV/0! | E5: =E8/E3-1 -> -0.20780397 | F5: =F9/F4-1 -> #DIV/0! | G5: =G9/G4-1 -> #DIV/0! | H5: =H9/H4-1 -> #DIV/0! | I5: =I8/I3-1 -> -1 | J5: =J9/J4-1 -> #DIV/0! | K5: =K9/K4-1 -> #DIV/0! | L5: =L9/L4-1 -> #DIV/0! | M5: =M8/M3-1 -> -1 | N5: =N9/N4-1 -> #DIV/0! | O5: =O9/O4-1 -> #DIV/0! | P5: =P9/P4-1 -> #DIV/0! | Q5: =Q8/Q3-1 -> -1 | R5: =R8/R3-1 -> -0.79328363 | S5: =S6/R3 -> 1.045297 | T5: =T6/R3 -> 1.1003126 | U5: =U6/R3 -> 1.1553282
A6: Plan Sprzedaży Marża | B6: =Target!B22 -> 252000 | C6: =Target!C22 -> 280000 | D6: =Target!D22 -> 308000 | E6: =SUM(B6:D6) -> 840000 | F6: =Target!E22 -> 277530.6 | G6: =Target!F22 -> 308367.33 | H6: =Target!G22 -> 339204.07 | I6: =SUM(F6:H6) -> 925102 | J6: =Target!H22 -> 278099.1 | K6: =Target!I22 -> 308999 | L6: =Target!J22 -> 339898.9 | M6: =SUM(J6:L6) -> 926997 | N6: =Target!K22 -> 277801.8 | O6: =Target!L22 -> 308668.67 | P6: =Target!M22 -> 339535.53 | Q6: =SUM(N6:P6) -> 926006 | R6: =B6+C6+D6+F6+G6+H6+J6+K6+L6+N6+O6+P6 -> 3618105 | S6: =DH!R6*0.95 -> 3437199.8 | T6: =R6 -> 3618105 | U6: =Target!H26 -> 3799010.2
A7: Sumaryczny Plan Sprzedaży Marża | B7: =B6 -> 252000 | C7: =C6+B7 -> 532000 | D7: =D6+C7 -> 840000 | F7: =F6+D7 -> 1117530.6 | G7: =G6+F7 -> 1425897.9 | H7: =H6+G7 -> 1765102 | J7: =J6+H7 -> 2043201.1 | K7: =K6+J7 -> 2352200.1 | L7: =L6+K7 -> 2692099 | N7: =N6+L7 -> 2969900.8 | O7: =O6+N7 -> 3278569.5 | P7: =P6+O7 -> 3618105 | V7: =T6/T19 -> 0.37379065
A8: Miesięczna realizacja Planu Sprzedaży Marża | B8: =TOMEK!B6+RCKIK!B6+'1'!N6+BARTEK!B6+PIOTR!B6+KRZYSZTOF!B6+'0'!N6 -> 314148.59 | C8: =TOMEK!C6+RCKIK!C6+'1'!O6+BARTEK!C6+PIOTR!C6+KRZYSZTOF!C6+'0'!O6 -> 258323.56 | D8: =TOMEK!D6+RCKIK!D6+'1'!P6+BARTEK!D6+PIOTR!D6+KRZYSZTOF!D6+'0'!P6 -> 107263.33 | E8: =SUM(B8:D8) -> 679735.48 | F8: =TOMEK!F6+RCKIK!F6+'1'!J6+BARTEK!F6+PIOTR!F6+KRZYSZTOF!F6++'0'!J6 -> 0 | G8: =TOMEK!G6+RCKIK!G6+'1'!K6+BARTEK!G6+PIOTR!G6+KRZYSZTOF!G6+'0'!K6 -> 0 | H8: =TOMEK!H6+RCKIK!H6+'1'!L6+BARTEK!H6+PIOTR!H6+KRZYSZTOF!H6+'0'!L6 -> 0 | I8: =SUM(F8:H8) -> 0 | J8: =TOMEK!J6+RCKIK!J6+'0'!F6+BARTEK!J6+PIOTR!J6+KRZYSZTOF!J6+'1'!F6 -> 0 | K8: =TOMEK!K6+RCKIK!K6+'0'!G6+BARTEK!K6+PIOTR!K6+KRZYSZTOF!K6+'1'!G6+SUMIF(VIII!A:A,$A$1,VIII!I:I) -> 0 | L8: =TOMEK!L6+RCKIK!L6+'0'!H6+BARTEK!L6+PIOTR!L6+KRZYSZTOF!L6+'1'!H6 -> 0 | M8: =SUM(J8:L8) -> 0 | N8: =TOMEK!N6+RCKIK!N6+'0'!B6+BARTEK!N6+PIOTR!N6+KRZYSZTOF!N6+'1'!B6 -> 0 | O8: =TOMEK!O6+RCKIK!O6+'0'!C6+BARTEK!O6+PIOTR!O6+KRZYSZTOF!O6+'1'!C6 -> 0 | P8: =TOMEK!P6+RCKIK!P6+'0'!D6+BARTEK!P6+PIOTR!P6+KRZYSZTOF!P6+'1'!D6 -> 0 | Q8: =SUM(N8:P8) -> 0 | R8: =B8+C8+D8+F8+G8+H8+J8+K8+L8+N8+O8+P8 -> 679735.48 | T8: 2 | U8: 3 | W8: 4 | X8: 5 | Y8: 6 | AA8: 7 | AB8: 8 | AC8: 9 | AE8: 10 | AF8: 11 | AG8: 12
A9: Sumaryczna realizacja planu sprzedaży Marża | B9: =B8 -> 314148.59 | C9: =C8+B9 -> 572472.15 | D9: =D8+C9 -> 679735.48 | F9: =F8+D9 -> 679735.48 | G9: =G8+F9 -> 679735.48 | H9: =H8+G9 -> 679735.48 | J9: =J8+H9 -> 679735.48 | K9: =K8+J9 -> 679735.48 | L9: =L8+K9 -> 679735.48 | N9: =N8+L9 -> 679735.48 | O9: =O8+N9 -> 679735.48 | P9: =P8+O9 -> 679735.48
A10: Wysokość zrealizowania Miesięcznego Planu Sprzedaży Marża | B10: =B8/B6 -> 1.2466214 | C10: =C8/C6 -> 0.92258414 | D10: =D8/D6 -> 0.34825757 | E10: =D7*0.95 -> 798000 | F10: =F8/F6 -> 0 | G10: =G8/G6 -> 0 | H10: =H8/H6 -> 0 | J10: =J8/J6 -> 0 | K10: =K8/K6 -> 0 | L10: =L8/L6 -> 0 | M10: =L4-L9 -> -679735.48 | N10: =N8/N6 -> 0 | O10: =O8/O6 -> 0 | P10: =P8/P6 -> 0 | Q10: =P4-P9 -> -679735.48 | X10: 2019 | Y10: =R3/12 -> 274020.99
A11: Różnica wskaźnika Marża | B11: =B9-B7 -> 62148.589 | C11: =C9-C7 -> 40472.149 | D11: =D9-D7 -> -160264.52 | E11: =E10-D9 -> 118264.52 | F11: =F9-F7 -> -437795.12 | G11: =G9-G7 -> -746162.45 | H11: =H9-H7 -> -1085366.5 | I11: =H7*0.9-H9 -> 908856.32 | J11: =J9-J7 -> -1363465.6 | K11: =K9-K7 -> -1672464.6 | L11: =L9-L7 -> -2012363.5 | M11: =J7*0.9-J9 -> 1159145.5 | N11: =N9-N7 -> -2290165.3 | O11: =O9-O7 -> -2598834 | P11: =P9-P7 -> -2938369.5 | X11: 2020 | Y11: =D9/3 -> 226578.49 | Z11: =1-Y10/Y11 -> -0.20938659
A12: Wysokość zrealizowania Planu Sprzedaży Marża | B12: =B9/B7 -> 1.2466214 | C12: =C9/C7 -> 1.0760755 | D12: =D9/D7 -> 0.80920891 | F12: =F9/F7 -> 0.60824776 | G12: =G9/G7 -> 0.47670697 | H12: =H9/H7 -> 0.385097 | J12: =J9/J7 -> 0.33268163 | K12: =K9/K7 -> 0.2889786 | L12: =L9/L7 -> 0.25249275 | N12: =N9/N7 -> 0.22887481 | O12: =O9/O7 -> 0.20732685 | P12: =P9/P7 -> 0.18787058 | X12: IV | Y12: =F8 -> 0 | Z12: =1-Y11/Y12 -> #DIV/0!
A13: Kwartalny Plan Sprzedaży Marża | B13: =Target!C8 -> 252000 | C13: =Target!D8 -> 280000 | D13: =Target!E8 -> 308000 | E13: =SUM(B13:D13) -> 840000 | F13: =Target!F8 -> 277530.6 | G13: =Target!G8 -> 308367.33 | H13: =Target!H8 -> 339204.07 | I13: =SUM(F13:H13) -> 925102 | J13: =Target!I8 -> 278099.1 | K13: =Target!J8 -> 308999 | L13: =Target!K8 -> 339898.9 | M13: =SUM(J13:L13) -> 926997 | N13: =Target!L8 -> 277801.8 | O13: =Target!M8 -> 308668.67 | P13: =Target!N8 -> 339535.53 | Q13: =SUM(N13:P13) -> 926006 | Z13: =1-Y10/Y12 -> #DIV/0!
A14: Sumaryczna Kwartalna Realizacja Planu Sprzedaży Marża | B14: =B8/B13 -> 1.2466214 | C14: =(B8+C8)/C13 -> 2.0445434 | D14: =(D8+C8+B8)/D13 -> 2.2069334 | F14: =F8/F13 -> 0 | G14: =(F8+G8)/G13 -> 0 | H14: =(H8+G8+F8)/H13 -> 0 | J14: =J8/J13 -> 0 | K14: =(J8+K8)/K13 -> 0 | L14: =(L8+K8+J8)/L13 -> 0 | N14: =N8/N13 -> 0 | O14: =(N8+O8)/O13 -> 0 | P14: =(P8+O8+N8)/P13 -> 0
A16: Obrót rok poprzedni | B16: 735313.24 | C16: 864042.09 | D16: 682276.62 | E16: =SUM(B16:D16) -> 2281632 | F16: 902392.31 | G16: 770807.84 | H16: 668332.33 | I16: =SUM(F16:H16) -> 2341532.5 | J16: 815918.61 | K16: 552755.37 | L16: 781695.28 | M16: =SUM(J16:L16) -> 2150369.3 | N16: 823654.56 | O16: 574341.15 | P16: 569291.05 | Q16: =SUM(N16:P16) -> 1967286.8 | R16: =SUM(Q16,M16,I16,E16) -> 8740820.4
S17: MINIMUM | T17: PLAN | U17: CEL
A18: Wzrost Obrotu | B18: =B22/B17-1 -> #DIV/0! | C18: =C22/C17-1 -> #DIV/0! | D18: =D22/D17-1 -> #DIV/0! | F18: =F22/F17-1 -> #DIV/0! | G18: =G22/G17-1 -> #DIV/0! | H18: =H22/H17-1 -> #DIV/0! | J18: =J22/J17-1 -> #DIV/0! | K18: =K22/K17-1 -> #DIV/0! | L18: =L22/L17-1 -> #DIV/0! | N18: =N22/N17-1 -> #DIV/0! | O18: =O22/O17-1 -> #DIV/0! | P18: =P22/P17-1 -> #DIV/0! | Q18: =Q21/Q16 -> 0 | R18: =R21/R16 -> 0.20664212 | S18: =S19/R16 -> 1.0520204 | T18: =T19/R16 -> 1.1073899 | U18: =U19/R16 -> 1.1627593
A19: Plan Sprzedaży Obrót | B19: =Target!B23 -> 681081.08 | C19: =Target!C23 -> 756756.76 | D19: =Target!D23 -> 832432.43 | F19: =Target!E23 -> 730343.68 | G19: =Target!F23 -> 811492.98 | H19: =Target!G23 -> 892642.28 | J19: =Target!H23 -> 751619.19 | K19: =Target!I23 -> 835132.43 | L19: =Target!J23 -> 918645.68 | N19: =Target!K23 -> 740804.8 | O19: =Target!L23 -> 823116.44 | P19: =Target!M23 -> 905428.09 | R19: =B19+C19+D19+F19+G19+H19+J19+K19+L19+N19+O19+P19 -> 9679495.8 | S19: =DH!R19*0.95 -> 9195521.1 | T19: =Target!F27 -> 9679495.8 | U19: =Target!H27 -> 10163471
A20: Sumaryczny Plan Sprzedaży Obrót | B20: =B19 -> 681081.08 | C20: =C19+B20 -> 1437837.8 | D20: =D19+C20 -> 2270270.3 | F20: =F19+D20 -> 3000614 | G20: =G19+F20 -> 3812106.9 | H20: =H19+G20 -> 4704749.2 | J20: =J19+H20 -> 5456368.4 | K20: =K19+J20 -> 6291500.8 | L20: =L19+K20 -> 7210146.5 | N20: =N19+L20 -> 7950951.3 | O20: =O19+N20 -> 8774067.8 | P20: =P19+O20 -> 9679495.8
A21: Miesięczna realizacja Planu Sprzedaży Obrót | B21: =TOMEK!B11+RCKIK!B11+'1'!N13+BARTEK!B11+PIOTR!B11+KRZYSZTOF!B11+'0'!N13 -> 805792.78 | C21: =TOMEK!C11+RCKIK!C11+'1'!O13+BARTEK!C11+PIOTR!C11+KRZYSZTOF!C11+'0'!O13 -> 714991.99 | D21: =TOMEK!D11+RCKIK!D11+'1'!P13+BARTEK!D11+PIOTR!D11+KRZYSZTOF!D11+'0'!P13 -> 285436.9 | E21: =SUM(B21:D21) -> 1806221.7 | F21: =TOMEK!F11+RCKIK!F11+'1'!J13+BARTEK!F11+PIOTR!F11+KRZYSZTOF!F11+'0'!J13 -> 0 | G21: =TOMEK!G11+RCKIK!G11+'1'!K13+BARTEK!G11+PIOTR!G11+KRZYSZTOF!G11+'0'!K13 -> 0 | H21: =TOMEK!H11+RCKIK!H11+'1'!L13+BARTEK!H11+PIOTR!H11+KRZYSZTOF!H11+'0'!L13 -> 0 | I21: =SUM(F21:H21) -> 0 | J21: =TOMEK!J11+RCKIK!J11+'0'!F13+BARTEK!J11+PIOTR!J11+KRZYSZTOF!J11+'1'!F13 -> 0 | K21: =TOMEK!K11+RCKIK!K11+'0'!G13+BARTEK!K11+PIOTR!K11+KRZYSZTOF!K11+'1'!G13+SUMIF(VIII!A:A,$A$1,VIII!G:G) -> 0 | L21: =TOMEK!L11+RCKIK!L11+'0'!H13+BARTEK!L11+PIOTR!L11+KRZYSZTOF!L11+'1'!H13 -> 0 | M21: =SUM(J21:L21) -> 0 | N21: =TOMEK!N11+RCKIK!N11+'0'!B13+BARTEK!N11+PIOTR!N11+KRZYSZTOF!N11+'1'!B13 -> 0 | O21: =TOMEK!O11+RCKIK!O11+'0'!C13+BARTEK!O11+PIOTR!O11+KRZYSZTOF!O11+'1'!C13 -> 0 | P21: =TOMEK!P11+RCKIK!P11+'0'!D13+BARTEK!P11+PIOTR!P11+KRZYSZTOF!P11+'1'!D13 -> 0 | Q21: =SUM(N21:P21) -> 0 | R21: =B21+C21+D21+F21+G21+H21+J21+K21+L21+N21+O21+P21 -> 1806221.7
A22: Sumaryczna realizacja planu sprzedaży Obrót | B22: =B21 -> 805792.78 | C22: =C21+B22 -> 1520784.8 | D22: =D21+C22 -> 1806221.7 | F22: =F21+D22 -> 1806221.7 | G22: =G21+F22 -> 1806221.7 | H22: =H21+G22 -> 1806221.7 | J22: =J21+H22 -> 1806221.7 | K22: =K21+J22 -> 1806221.7 | L22: =L21+K22 -> 1806221.7 | N22: =N21+L22 -> 1806221.7 | O22: =O21+N22 -> 1806221.7 | P22: =P21+O22 -> 1806221.7
A23: Wysokość zrealizowania Miesięcznego Planu Sprzedaży Obrót | B23: =B21/B19 -> 1.1831084 | C23: =C21/C19 -> 0.94481084 | D23: =D21/D19 -> 0.34289497 | F23: =F21/F19 -> 0 | G23: =G21/G19 -> 0 | H23: =H21/H19 -> 0 | I23: =G17-G22 -> -1806221.7 | J23: =J21/J19 -> 0 | K23: =K21/K19 -> 0 | L23: =L21/L19 -> 0 | N23: =N21/N19 -> 0 | O23: =O21/O19 -> 0 | P23: =P21/P19 -> 0 | Q23: =P17-P22 -> -1806221.7
A24: Wysokość zrealizowania Planu Sprzedaży Obrót | B24: =B22/B20 -> 1.1831084 | C24: =C22/C20 -> 1.0576887 | D24: =D22/D20 -> 0.79559764 | F24: =F22/F20 -> 0.6019507 | G24: =G22/G20 -> 0.47381191 | H24: =H22/H20 -> 0.38391455 | J24: =J22/J20 -> 0.33103001 | K24: =K22/K20 -> 0.28708916 | L24: =L22/L20 -> 0.25051109 | N24: =N22/N20 -> 0.22717051 | O24: =O22/O20 -> 0.2058591 | P24: =P22/P20 -> 0.18660287
A25: Różnica wskaźnika Obrót | B25: =B22-B20 -> 124711.7 | C25: =C22-C20 -> 82946.932 | D25: =D22-D20 -> -464048.6 | F25: =F22-F20 -> -1194392.3 | G25: =G22-G20 -> -2005885.3 | H25: =H22-H20 -> -2898527.6 | J25: =J22-J20 -> -3650146.7 | K25: =K22-K20 -> -4485279.2 | L25: =L22-L20 -> -5403924.8 | N25: =N22-N20 -> -6144729.6 | O25: =O22-O20 -> -6967846.1 | P25: =P22-P20 -> -7873274.2
A27: Wysokość % Marży miesięcznej | B27: =B8/B21 -> 0.38986275 | C27: =C8/C21 -> 0.36129574 | D27: =D8/D21 -> 0.3757865 | F27: =F8/F21 -> #DIV/0! | G27: =G8/G21 -> #DIV/0! | H27: =H8/H21 -> #DIV/0! | J27: =J8/J21 -> #DIV/0! | K27: =K8/K21 -> #DIV/0! | L27: =L8/L21 -> #DIV/0! | N27: =N8/N21 -> #DIV/0! | O27: =O8/O21 -> #DIV/0! | P27: =P8/P21 -> #DIV/0!
A28: Wysokość % Marży sumarycznej | B28: =B9/B22 -> 0.38986275 | C28: =C9/C22 -> 0.37643206 | D28: =D9/D22 -> 0.37633005 | F28: =F9/F22 -> 0.37633005 | G28: =G9/G22 -> 0.37633005 | H28: =H9/H22 -> 0.37633005 | J28: =J9/J22 -> 0.37633005 | K28: =K9/K22 -> 0.37633005 | L28: =L9/L22 -> 0.37633005 | N28: =N9/N22 -> 0.37633005 | O28: =O9/O22 -> 0.37633005
A40: Raport za miesiąc: | B40: styczeń | C40: luty | D40: marzec | E40: Suma | F40: kwiecień | G40: maj | H40: czerwiec | I40: Suma | J40: lipiec | K40: sierpień | L40: wrzesień | M40: Suma | N40: paździer. | O40: listopad | P40: grudzień | Q40: Suma | R40: Suma
A41: Ilość nowych Klientów: | B41: =TOMEK!B44+BARTEK!B39+PIOTR!B44+KRZYSZTOF!B44 -> 0 | C41: =TOMEK!C44+BARTEK!C39+PIOTR!C44+KRZYSZTOF!C44 -> 0 | D41: =TOMEK!D44+BARTEK!D39+PIOTR!D44+KRZYSZTOF!D44 -> 0 | E41: =SUM(B41:D41) -> 0 | F41: =TOMEK!F44+BARTEK!F39+PIOTR!F44+KRZYSZTOF!F44 -> 0 | G41: =TOMEK!G44+BARTEK!G39+PIOTR!G44+KRZYSZTOF!G44 -> 0 | H41: =TOMEK!H44+BARTEK!H39+PIOTR!H44+KRZYSZTOF!H44 -> 0 | I41: =SUM(F41:H41) -> 0 | J41: =TOMEK!J44+BARTEK!J39+PIOTR!J44+KRZYSZTOF!J44 -> 0 | K41: =TOMEK!K44+BARTEK!K39+PIOTR!K44+KRZYSZTOF!K44 -> 0 | L41: =TOMEK!L44+BARTEK!L39+PIOTR!L44+KRZYSZTOF!L44 -> 0 | M41: =SUM(J41:L41) -> 0 | N41: =TOMEK!N44+BARTEK!N39+PIOTR!N44+KRZYSZTOF!N44 -> 0 | O41: =TOMEK!O44+BARTEK!O39+PIOTR!O44+KRZYSZTOF!O44 -> 0 | P41: =TOMEK!P44+BARTEK!P39+PIOTR!P44+KRZYSZTOF!P44 -> 0 | Q41: =SUM(N41:P41) -> 0 | R41: =I41+M41+Q41+E41 -> 0
A42: Ilość Podmiotów na etapie współpracy Klient: | B42: =TOMEK!B45+BARTEK!B40+PIOTR!B45+KRZYSZTOF!B45 -> 0 | C42: =TOMEK!C45+BARTEK!C40+PIOTR!C45+KRZYSZTOF!C45 -> 0 | D42: =TOMEK!D45+BARTEK!D40+PIOTR!D45+KRZYSZTOF!D45 -> 0 | F42: =TOMEK!F45+BARTEK!F40+PIOTR!F45+KRZYSZTOF!F45 -> 0 | G42: =TOMEK!G45+BARTEK!G40+PIOTR!G45+KRZYSZTOF!G45 -> 0 | H42: =TOMEK!H45+BARTEK!H40+PIOTR!H45+KRZYSZTOF!H45 -> 0 | J42: =TOMEK!J45+BARTEK!J40+PIOTR!J45+KRZYSZTOF!J45 -> 0 | K42: =TOMEK!K45+BARTEK!K40+PIOTR!K45+KRZYSZTOF!K45 -> 0 | L42: =TOMEK!L45+BARTEK!L40+PIOTR!L45+KRZYSZTOF!L45 -> 0 | N42: =TOMEK!N45+BARTEK!N40+PIOTR!N45+KRZYSZTOF!N45 -> 0 | O42: =TOMEK!O45+BARTEK!O40+PIOTR!O45+KRZYSZTOF!O45 -> 0 | P42: =TOMEK!P45+BARTEK!P40+PIOTR!P45+KRZYSZTOF!P45 -> 0
A43: Ilość Podmiotów na etapie współpracy Handlowy: | B43: =TOMEK!B46+BARTEK!B41+PIOTR!B46+KRZYSZTOF!B46 -> 0 | C43: =TOMEK!C46+BARTEK!C41+PIOTR!C46+KRZYSZTOF!C46 -> 0 | D43: =TOMEK!D46+BARTEK!D41+PIOTR!D46+KRZYSZTOF!D46 -> 0 | F43: =TOMEK!F46+BARTEK!F41+PIOTR!F46+KRZYSZTOF!F46 -> 0 | G43: =TOMEK!G46+BARTEK!G41+PIOTR!G46+KRZYSZTOF!G46 -> 0 | H43: =TOMEK!H46+BARTEK!H41+PIOTR!H46+KRZYSZTOF!H46 -> 0 | J43: =TOMEK!J46+BARTEK!J41+PIOTR!J46+KRZYSZTOF!J46 -> 0 | K43: =TOMEK!K46+BARTEK!K41+PIOTR!K46+KRZYSZTOF!K46 -> 0 | L43: =TOMEK!L46+BARTEK!L41+PIOTR!L46+KRZYSZTOF!L46 -> 0 | N43: =TOMEK!N46+BARTEK!N41+PIOTR!N46+KRZYSZTOF!N46 -> 0 | O43: =TOMEK!O46+BARTEK!O41+PIOTR!O46+KRZYSZTOF!O46 -> 0 | P43: =TOMEK!P46+BARTEK!P41+PIOTR!P46+KRZYSZTOF!P46 -> 0
A44: Ilość Podmiotów na etapie współpracy Klient nieaktywny: | B44: =TOMEK!B47+BARTEK!B42+PIOTR!B47+KRZYSZTOF!B47 -> 0 | C44: =TOMEK!C47+BARTEK!C42+PIOTR!C47+KRZYSZTOF!C47 -> 0 | D44: =TOMEK!D47+BARTEK!D42+PIOTR!D47+KRZYSZTOF!D47 -> 0 | F44: =TOMEK!F47+BARTEK!F42+PIOTR!F47+KRZYSZTOF!F47 -> 0 | G44: =TOMEK!G47+BARTEK!G42+PIOTR!G47+KRZYSZTOF!G47 -> 0 | H44: =TOMEK!H47+BARTEK!H42+PIOTR!H47+KRZYSZTOF!H47 -> 0 | J44: =TOMEK!J47+BARTEK!J42+PIOTR!J47+KRZYSZTOF!J47 -> 0 | K44: =TOMEK!K47+BARTEK!K42+PIOTR!K47+KRZYSZTOF!K47 -> 0 | L44: =TOMEK!L47+BARTEK!L42+PIOTR!L47+KRZYSZTOF!L47 -> 0 | N44: =TOMEK!N47+BARTEK!N42+PIOTR!N47+KRZYSZTOF!N47 -> 0 | O44: =TOMEK!O47+BARTEK!O42+PIOTR!O47+KRZYSZTOF!O47 -> 0 | P44: =TOMEK!P47+BARTEK!P42+PIOTR!P47+KRZYSZTOF!P47 -> 0
A45: Ilość Podmiotów pod opieką: | B45: =TOMEK!B48+BARTEK!B43+PIOTR!B48+KRZYSZTOF!B48 -> 0 | C45: =TOMEK!C48+BARTEK!C43+PIOTR!C48+KRZYSZTOF!C48 -> 0 | D45: =TOMEK!D48+BARTEK!D43+PIOTR!D48+KRZYSZTOF!D48 -> 0 | F45: =TOMEK!F48+BARTEK!F43+PIOTR!F48+KRZYSZTOF!F48 -> 0 | G45: =TOMEK!G48+BARTEK!G43+PIOTR!G48+KRZYSZTOF!G48 -> 0 | H45: =TOMEK!H48+BARTEK!H43+PIOTR!H48+KRZYSZTOF!H48 -> 0 | J45: =TOMEK!J48+BARTEK!J43+PIOTR!J48+KRZYSZTOF!J48 -> 0 | K45: =TOMEK!K48+BARTEK!K43+PIOTR!K48+KRZYSZTOF!K48 -> 0 | L45: =TOMEK!L48+BARTEK!L43+PIOTR!L48+KRZYSZTOF!L48 -> 0 | N45: =TOMEK!N48+BARTEK!N43+PIOTR!N48+KRZYSZTOF!N48 -> 0 | O45: =TOMEK!O48+BARTEK!O43+PIOTR!O48+KRZYSZTOF!O48 -> 0 | P45: =TOMEK!P48+BARTEK!P43+PIOTR!P48+KRZYSZTOF!P48 -> 0
A46: Ilość sprzedanych drukarek: | B46: =TOMEK!B49+BARTEK!B44+PIOTR!B49+KRZYSZTOF!B49 -> 0 | C46: =TOMEK!C49+BARTEK!C44+PIOTR!C49+KRZYSZTOF!C49 -> 0 | D46: =TOMEK!D49+BARTEK!D44+PIOTR!D49+KRZYSZTOF!D49 -> 0 | E46: =SUM(B46:D46) -> 0 | F46: =TOMEK!F49+BARTEK!F44+PIOTR!F49+KRZYSZTOF!F49 -> 0 | G46: =TOMEK!G49+BARTEK!G44+PIOTR!G49+KRZYSZTOF!G49 -> 0 | H46: =TOMEK!H49+BARTEK!H44+PIOTR!H49+KRZYSZTOF!H49 -> 0 | I46: =SUM(F46:H46) -> 0 | J46: =TOMEK!J49+BARTEK!J44+PIOTR!J49+KRZYSZTOF!J49 -> 0 | K46: =TOMEK!K49+BARTEK!K44+PIOTR!K49+KRZYSZTOF!K49 -> 0 | L46: =TOMEK!L49+BARTEK!L44+PIOTR!L49+KRZYSZTOF!L49 -> 0 | M46: =SUM(J46:L46) -> 0 | N46: =TOMEK!N49+BARTEK!N44+PIOTR!N49+KRZYSZTOF!N49 -> 0 | O46: =TOMEK!O49+BARTEK!O44+PIOTR!O49+KRZYSZTOF!O49 -> 0 | P46: =TOMEK!P49+BARTEK!P44+PIOTR!P49+KRZYSZTOF!P49 -> 0 | Q46: =SUM(N46:P46) -> 0 | R46: =I46+M46+Q46+E46 -> 0
