Workbook

Sheet KAT A
B1: I - XII 2024 | F1: I - XII 2025
A2: FIRMA | B2: OBRÓT | C2: ZYSK | D2: MARŻA | E2: KAT | F2: OBRÓT | G2: ZYSK | H2: MARŻA | I2: KAT | J2: RÓŻNICA | K2: OPIEKUN
A3: HUSQVARNA | B3: 401005.04 | C3: 128374.72 | D3: 0.32013243 | E3: A | F3: 407104.29 | G3: 136461.52 | H3: 0.3352004 | I3: A | J3: BZ | K3: PC
A4: FAGRONSERV | B4: 524421.24 | C4: 283800.58 | D4: 0.54116911 | E4: A | F4: 267220.64 | G4: 128777.83 | H4: 0.48191574 | I4: A | J4: BZ | K4: PC
A5: TECH | B5: 152963.21 | C5: 85207.919 | D5: 0.55704845 | E5: A | F5: 235679.65 | G5: 109445.84 | H5: 0.46438392 | I5: A | J5: BZ | K5: PC
A6: FORMASTER | B6: 154983.63 | C6: 109898.14 | D6: 0.70909515 | E6: A | F6: 149315.15 | G6: 102864.68 | H6: 0.68890985 | I6: A | J6: BZ | K6: PC
A7: CERKAMED | B7: 189311.1 | C7: 84185.496 | D7: 0.44469392 | E7: A | F7: 222572.57 | G7: 98035.943 | H7: 0.44046732 | I7: A | J7: BZ | K7: KS
A8: GOLDDROP | B8: 258712.84 | C8: 59289.289 | D8: 0.22917026 | E8: A | F8: 274532.22 | G8: 86407.246 | H8: 0.31474355 | I8: A | J8: BZ | K8: PC
A9: TREFL | B9: 146681.29 | C9: 60185.222 | D9: 0.41031288 | E9: A | F9: 145693.84 | G9: 67516.125 | H9: 0.46341098 | I9: A | J9: BZ | K9: PC
A10: STALPRODUKT | B10: 77560.61 | C10: 34266.068 | D10: 0.4417973 | E10: A | F10: 139174.5 | G10: 65661.487 | H10: 0.47179251 | I10: A | J10: BZ | K10: KS
A11: VESUVIUS | B11: 172800.78 | C11: 95287.21 | D11: 0.55142812 | E11: A | F11: 120324.02 | G11: 59611.295 | H11: 0.49542307 | I11: A | J11: BZ | K11: KS
A12: ELTECHSPZOO | B12: 82630.2 | C12: 41863.88 | D12: 0.5066414 | E12: A | F12: 114185 | G12: 58342.09 | H12: 0.51094356 | I12: A | J12: BZ | K12: KS
A13: HHPOLSKA | B13: 137419 | C13: 40414.706 | D13: 0.29409839 | E13: A | F13: 208355.19 | G13: 57574.622 | H13: 0.2763292 | I13: A | J13: BZ | K13: TS
A14: BITRON | B14: 5554.82 | C14: 1186.19 | D14: 0.21354247 | E14: D i poniżej | F14: 97879.82 | G14: 52167.554 | H14: 0.53297559 | I14: A | J14: W | K14: PC
... A23: GALECO | B23: 83475.68 | C23: 26206.571 | D23: 0.31394259 | E23: A | F23: 98586.61 | G23: 35844.938 | H23: 0.3635883 | I23: A | J23: BZ | K23: PC
A24: PKL | B24: 0 | C24: 0 | D24: #DIV/0! | F24: 123732.54 | G24: 33624.191 | H24: 0.27174897 | I24: A | J24: W | K24: PC
A25: BENDALUTZ | B25: 35816.15 | C25: 17167.276 | D25: 0.47931662 | E25: A | F25: 71983.43 | G25: 33556.03 | H25: 0.46616325 | I25: A | J25: BZ | K25: KS
A26: ROYALCANIN / ROYALCAN2 | B26: 76708.68 | C26: 26540.49 | D26: 0.3459907 | E26: A | F26: 69417.68 | G26: 31163.96 | H26: 0.44893405 | I26: A | J26: BZ | K26: PC
A27: COGNOR | B27: 49215.82 | C27: 12600.556 | D27: 0.25602654 | E27: A | F27: 119998.65 | G27: 30238.102 | H27: 0.25198702 | I27: A | J27: BZ | K27: PC
A28: RCKIK LUBL | B28: 82804.51 | C28: 28813.172 | D28: 0.34796621 | E28: A | F28: 73150.06 | G28: 28520.219 | H28: 0.38988648 | I28: A | J28: BZ | K28: RCKIK
A29: MERAWEX | B29: 63604.44 | C29: 18343.732 | D29: 0.28840333 | E29: A | F29: 88227.36 | G29: 27634.552 | H29: 0.31321975 | I29: A | J29: BZ | K29: PC
A30: LERG | B30: 97444.56 | C30: 26675.776 | D30: 0.27375336 | E30: A | F30: 97190.84 | G30: 26742.5 | H30: 0.27515453 | I30: A | J30: BZ | K30: PC
A31: TMTECHNOLO | B31: 93267.5 | C31: 21637.874 | D31: 0.23199801 | E31: A | F31: 94703.6 | G31: 26444.103 | H31: 0.27923018 | I31: A | J31: BZ | K31: PC
A32: MABUCHI | B32: 83047.12 | C32: 36881.628 | D32: 0.44410484 | E32: A | F32: 65318.73 | G32: 26401.422 | H32: 0.40419374 | I32: A | J32: BZ | K32: PC
A33: TEVA | B33: 160727.93 | C33: 30450.662 | D33: 0.1894547 | E33: A | F33: 131876.85 | G33: 24597.785 | H33: 0.18652087 | I33: A | J33: BZ | K33: PC
A34: UTCCCS | B34: 100578.97 | C34: 25347.945 | D34: 0.25202033 | E34: A | F34: 103717.46 | G34: 23501.945 | H34: 0.22659584 | I34: A | J34: BZ | K34: PC
A35: DRUMET | B35: 89954.38 | C35: 19627.47 | D35: 0.21819361 | E35: A | F35: 101544.44 | G35: 23195.655 | H35: 0.2284286 | I35: A | J35: BZ | K35: PC
A36: BURY | B36: 53594.85 | C36: 15147.387 | D36: 0.28262765 | E36: A | F36: 71719.76 | G36: 22911.102 | H36: 0.31945313 | I36: A | J36: BZ | K36: PC
A37: WPJ2 | B37: 20930.85 | C37: 10513.45 | D37: 0.50229446 | E37: B | F37: 49207.47 | G37: 22487.085 | H37: 0.45698519 | I37: A | J37: W | K37: KS
A38: KOELNER | B38: 0 | C38: 0 | D38: #DIV/0! | F38: 67441.3 | G38: 20816.246 | H38: 0.30865724 | I38: A | J38: W | K38: PC
A39: MĄCZKA | B39: 130939.48 | C39: 35976.607 | D39: 0.27475752 | E39: A | F39: 66402.07 | G39: 20139.967 | H39: 0.3033033 | I39: A | J39: BZ | K39: KS
A40: ARCELOR | B40: 81959.8 | C40: 21220.33 | D40: 0.25891144 | E40: A | F40: 66847.1 | G40: 19984.58 | H40: 0.29895957 | I40: A | J40: BZ | K40: KS
A41: ROLLMIX | B41: 48467.9 | C41: 12707.838 | D41: 0.26219081 | E41: A | F41: 69458.98 | G41: 19249.49 | H41: 0.27713465 | I41: A | J41: BZ | K41: KS
A42: ZASLAWTSS | B42: 38585.99 | C42: 17181.183 | D42: 0.44526997 | E42: A | F42: 42837.25 | G42: 19001.229 | H42: 0.4435679 | I42: A | J42: BZ | K42: PC
A43: FENIXMETAL | B43: 37261.38 | C43: 17770.14 | D43: 0.47690504 | E43: A | F43: 38140.2 | G43: 18623.16 | H43: 0.48828166 | I43: A | J43: BZ | K43: KS
A44: SZPITALUNI | B44: 39694.35 | C44: 17963.45 | D44: 0.45254425 | E44: A | F44: 40579.2 | G44: 18534.35 | H44: 0.45674508 | I44: A | J44: BZ | K44: TS
A45: BMZPOLAND | B45: 34716.75 | C45: 21353.045 | D45: 0.61506463 | E45: A | F45: 23297.25 | G45: 17744.385 | H45: 0.76165148 | I45: A | J45: BZ | K45: PC
A46: WESTERBERG | B46: 62072.86 | C46: 23136.91 | D46: 0.37273794 | E46: A | F46: 37681.86 | G46: 17657.45 | H46: 0.46859285 | I46: A | J46: BZ | K46: TS
A47: UJ | B47: 22147.23 | C47: 11632.303 | D47: 0.52522609 | E47: B | F47: 30714.63 | G47: 16857.86 | H47: 0.54885441 | I47: A | J47: W | K47: KS
A48: MRT | B48: 11127.18 | C48: 6485.796 | D48: 0.58287868 | E48: C | F48: 34485.39 | G48: 14901.495 | H48: 0.43211037 | I48: A | J48: W | K48: TS
A49: KSPORT | B49: 24858.55 | C49: 11125.41 | D49: 0.44754863 | E49: B | F49: 27288.31 | G49: 14832 | H49: 0.54352945 | I49: A | J49: W | K49: PC
A50: EXPRAN | B50: 68469.5 | C50: 20676.82 | D50: 0.30198585 | E50: A | F50: 48144.92 | G50: 14411.39 | H50: 0.29933355 | I50: A | J50: BZ | K50: TS
... A60: RCKIK RZE | B60: 47404 | C60: 8775.0043 | D60: 0.18511105 | E60: B | F60: 54811 | G60: 9864.0369 | H60: 0.17996455 | I60: A | J60: W | K60: RCKIK
A61: Suma | F61: =SUM(F3:F60) -> 5723850.4 | G61: =SUM(G3:G60) -> 2143454.7

Sheet PODSUMOWANIE
A1: OPIEKUN | B1: OBRÓT 2025 | C1: MARŻA 2025 | D1: WZROST | E1: PSO 2026 | F1: PSM 2026 | G1: % PSM
A2: KS | B2: =SUMIF('KAT A'!K3:K60,"KS",'KAT A'!F3:F60) -> 1272814.9 | C2: =SUMIF('KAT A'!K3:K60,"KS",'KAT A'!G3:G60) -> 544701.85 | D2: 1.1 | E2: =B2*D2 -> 1400096.4 | F2: =C2*D2 -> 599172.03 | G2: =F2/F6 -> 0.25412333
A3: PC | B3: =SUMIF('KAT A'!K3:K60,"PC",'KAT A'!F3:F60) -> 3506177.5 | C3: =SUMIF('KAT A'!K3:K60,"PC",'KAT A'!G3:G60) -> 1280203.8 | D3: 1.1 | E3: =B3*D3 -> 3856795.2 | F3: =C3*D3 -> 1408224.2 | G3: =F3/F6 -> 0.59726189
A4: TS | B4: =SUMIF('KAT A'!K3:K60,"TS",'KAT A'!F3:F60) -> 735516.38 | C4: =SUMIF('KAT A'!K3:K60,"TS",'KAT A'!G3:G60) -> 256991.95 | D4: 1.1 | E4: =B4*D4 -> 809068.02 | F4: =C4*D4 -> 282691.14 | G4: =F4/F6 -> 0.11989614
A5: RCKIK | B5: =SUMIF('KAT A'!K3:K60,"RCKIK",'KAT A'!F3:F60) -> 209341.55 | C5: =SUMIF('KAT A'!K3:K60,"RCKIK",'KAT A'!G3:G60) -> 61557.106 | D5: 1.1 | E5: =B5*D5 -> 230275.71 | F5: =C5*D5 -> 67712.817 | G5: =F5/F6 -> 0.028718641
B6: =SUM(B2:B5) -> 5723850.4 | C6: =SUM(C2:C5) -> 2143454.7 | E6: =SUM(E2:E5) -> 6296235.4 | F6: =SUM(F2:F5) -> 2357800.2

Sheet PLAN SPRZEDAZY KAT A
A2: Wzrost | B2: 1.1 | C2: 1.1 | D2: % PSO | E2: % PSM
A3: Plan Sprzedaży 2026 kat. A | B3: ='KAT A'!F61*B2 -> 6296235.4 | C3: ='KAT A'!G61*C2 -> 2357800.2 | D3: =B3/B6 -> 0.6568116 | E3: =C3/C6 -> 0.65132601
A4: Kwota wzrostu 2026-2025 | B4: =B3-'KAT A'!F61 -> 572385.04 | C4: =C3-'KAT A'!G61 -> 214345.47
A6: Plan Sprzedaży 2026 ogólny | B6: 9586060 | C6: 3620000
A7: Plan Sprzedaży 2026 na inne kat. | B7: =B6-B3 -> 3289824.6 | C7: =C6-C3 -> 1262199.8
