Workbook

Sheet 2026_01_08
A1: Data dodania | B1: Symbol | C1: Nazwa | D1: Opis | E1: Grupa | F1: Cecha | G1: Dostawca
A2: 46149 | B2: P 100X50/1 N09 | C2: Etykieta 100x50/1 papier OUT 76/350 INWENT.05-2026 | D2: Zestaw | E2: Papier-nadruk FL, HP | F2: Sprzedawany | G2: EPLOMBY.PL
A3: 46183 | B3: P 50X40/2 N10 | C3: Etykieta 50x40/2 papier OUT 76/7000 APLA NIEBIESKA | E3: Papier-nadruk FL, HP | F3: Sprzedawany | G3: EPLOMBY.PL
A4: 46060 | B4: 207 109 WS N04 | C4: Wstęga 109mmx150m s-207 2x rant:L-2mm P-4mm OUT76/ | D4: APLA375 | E4: Papier-nadruk FL, HP | F4: Sprzedawany | G4: ETISOFT
A5: 46106 | B5: 203 50X30/1 N01 | C5: Etykieta 50x30/1 e-203 OUT 76/5000 APLA ŻÓŁTA | D5: Glue killer 18832820 | E5: Papier-nadruk FL, HP | F5: Sprzedawany | G5: ETISOFT
A6: 46122 | B6: 207 105X74/1 N03 | C6: Etykieta 105x74/1 e-207 OUT 76/2000 598528301 RevC | E6: Papier-nadruk FL, HP | F6: Sprzedawany | G6: ETISOFT
A7: 46126 | B7: P 70X55/1 N03 | C7: Etykieta 70x55/1 papier OUT 76/2500 GLUE KILLER | E7: Papier-nadruk FL, HP | F7: Sprzedawany | G7: ETISOFT
A8: 46139 | B8: P 50X30/1 N09 | C8: Etykieta 50x30/1 papier OUT 40/2000 APLA ŻÓŁTA | E8: Papier-nadruk FL, HP | F8: Sprzedawany | G8: ETISOFT
A9: 46154 | B9: 207 105X105/1 N01 | C9: Etykieta 105x105/1 e-207 IN 76/1000 APLA ZIELONA | E9: Papier-nadruk FL, HP | F9: Sprzedawany | G9: ETISOFT
A10: 46160 | B10: 207 122X112/1 N02 | C10: Etykieta 122x112/1 e-207 OUT 76/500 597338601 RevB | E10: Papier-nadruk FL, HP | F10: Sprzedawany | G10: ETISOFT
A11: 46244 | B11: 675 50X12/1 N01 | C11: Etykieta 50x12/1 e-675 OUT 76/5000 ADORA | E11: Papier-nadruk FL, HP | F11: Sprzedawany | G11: ETISOFT
A12: 46063 | B12: 7023 40X35/1 N16 | C12: Etykieta 40x35/1 e-7023 OUT 76/1000 UL 0181710 | D12: 04-4405-520-1000-06 | E12: Folia-nadruk FL, HP | F12: Archiwum | G12: ETISOFT
A13: 46063 | B13: 7023 40X35/1 N17 | C13: Etykieta 40x35/1 e-7023 OUT 76/1000 UL 0181709 | D13: 04-4405-520-1000-06 | E13: Folia-nadruk FL, HP | F13: Archiwum | G13: ETISOFT
A14: 46066 | B14: 1007 FI17/2 N01 | C14: Etykieta FI17/2 e-1007 OUT 76/40000 09005497 | D14: AIDON VOID STICKER | E14: Folia-nadruk FL, HP | F14: Sprzedawany | G14: ETISOFT
A15: 46066 | B15: 3037 FI17/2 N01 | C15: Etykieta FI17/2 e3037+e2132 OUT 76/24000 09005497 | D15: AIDON VOID STICKER | E15: Folia-nadruk FL, HP | F15: Sprzedawany | G15: ETISOFT
A16: 46069 | B16: 1002 8X8/5 N01 | C16: Etykieta 8X8/5 e-1002 OUT 76/40000 APLA ZÓŁTA | E16: Folia-nadruk FL, HP | F16: Sprzedawany | G16: ETISOFT
A17: 46093 | B17: 7023 40X35/1 N18 | C17: Etykieta 40x35/1 e-7023 OUT 76/1000 UL 0182851 | D17: 04-4405-520-1000-06 | E17: Folia-nadruk FL, HP | F17: Archiwum | G17: ETISOFT
A18: 46105 | B18: 2102 150X275/1 N05 | C18: Etykieta 150x275/1 e-2102 IN 76/250 SUBSKRYPCJA | D18: 2025_72_ETS BASIC Flow Comfort rozmiar S_RB | E18: Folia-nadruk FL, HP | F18: Archiwum | G18: ETISOFT
A19: 46107 | B19: 7023 75X50/1 N01 | C19: Etykieta 75x50/1 e-7023 OUT 76/400 541488601 | E19: Folia-nadruk FL, HP | F19: Archiwum | G19: ETISOFT
A20: 46107 | B20: 7023 75X50/1 N02 | C20: Etykieta 75x50/1 e-7023 OUT 76/400 541488801 | E20: Folia-nadruk FL, HP | F20: Archiwum | G20: ETISOFT
A21: 46115 | B21: 7023 72X72/1 N01 | C21: Etykieta 72x72/1 e-7023 OUT 76/400 541454001 | E21: Folia-nadruk FL, HP | F21: Sprzedawany | G21: ETISOFT
A22: 46112 | B22: 7023 152,4X127/1 N03 | C22: Etykieta 152,4x127/1 e-7023 OUT 76/50 UL | D22: 50041815 Zmienne dane | E22: Folia-nadruk FL, HP | F22: Sprzedawany | G22: ETISOFT
A23: 46112 | B23: 7023 152,4X127/1 N04 | C23: Etykieta 152,4x127/1 e-7023 OUT 76/200 UL | D23: 50041843 Zmienne dane | E23: Folia-nadruk FL, HP | F23: Sprzedawany | G23: ETISOFT
A24: 46128 | B24: 7023 40X35/1 N19 | C24: Etykieta 40x35/1 e-7023 OUT 76/1000 UL 0184471 | D24: 04-4405-520-1000-06 | E24: Folia-nadruk FL, HP | F24: Archiwum | G24: ETISOFT
A25: 46128 | B25: 7023 75X50/1 N03 | C25: Etykieta 75x50/1 e-7023 OUT 76/200 541488601 | E25: Folia-nadruk FL, HP | F25: Sprzedawany | G25: ETISOFT
A26: 46128 | B26: 7023 75X50/1 N04 | C26: Etykieta 75x50/1 e-7023 OUT 76/200 541488801 | E26: Folia-nadruk FL, HP | F26: Sprzedawany | G26: ETISOFT
A27: 46139 | B27: 2102 210X148/1 N10 | C27: Etykieta 210x148/1 e2102 OUT76/1000 APLA niebieska | D27: Perfo | E27: Folia-nadruk FL, HP | F27: Sprzedawany | G27: ETISOFT
A28: 46139 | B28: 2102 105X148/1 N08 | C28: Etykieta 105x148/1 e2102 OUT76/1000 APLA niebieska | E28: Folia-nadruk FL, HP | F28: Sprzedawany | G28: ETISOFT
A29: 46149 | B29: 7023 40X35/1 N20 | C29: Etykieta 40x35/1 e-7023 OUT 76/1000 UL 0185503 | D29: 04-4405-520-1000-06 | E29: Folia-nadruk FL, HP | F29: Archiwum | G29: ETISOFT
A30: 46156 | B30: 3082 150X275/1 N12 | C30: Etykieta 150x275/1 e-3082 IN 76/250 | D30: 2025_73_ETS - Flow Comfort rozmiar S_RB-QR subskrypcja | E30: Folia-nadruk FL, HP | F30: Sprzedawany | G30: ETISOFT
A31: 46181 | B31: 1067 FI17/2 N01 | C31: Etykieta FI17/2 e-1067 IN 76/30000 09005497 | D31: AIDON VOID STICKER | E31: Folia-nadruk FL, HP | F31: Sprzedawany | G31: ETISOFT
A32: 46220 | B32: 6055 68X41/1 N01 | C32: Etykieta 68x41/1 e-6055 OUT 76/2500 ZŁĄCZKA ZEK | E32: Folia-nadruk FL, HP | F32: Sprzedawany | G32: ETISOFT
A33: 46252 | B33: 2318 54X145/1 N32 | C33: Etykieta 54x145/1 e-2318 OUT 76/1000 5ETI613 | E33: Folia-nadruk FL, HP | F33: Sprzedawany | G33: ETISOFT
A34: 46252 | B34: 2318 70X144/1 N33 | C34: Etykieta 70x144/1 e-2318 OUT 76/1000 5ETI611 | E34: Folia-nadruk FL, HP | F34: Sprzedawany | G34: ETISOFT
A35: 46252 | B35: 2318 107X96/1 N32 | C35: Etykieta 107X96/1 e-2318 OUT 76/1000 5ETI612 | E35: Folia-nadruk FL, HP | F35: Sprzedawany | G35: ETISOFT
A36: 46262 | B36: 7023 40X35/1 N21 | C36: Etykieta 40x35/1 e-7023 OUT 76/1000 UL 0190676 | D36: 04-4405-520-1000-06 | E36: Folia-nadruk FL, HP | F36: Sprzedawany | G36: ETISOFT
A37: 46181 | B37: FB 75X75/A N01 | C37: Etykieta 75x75 folia + laminat A/18 - 09005885 | D37: ePro Full DS Brand | E37: Folia-nadruk FL, HP | F37: Sprzedawany | G37: GRAFFITIST
A38: 46083 | B38: KAR170 50X110 N18 | C38: Bilety 50x110 170g OUT 76/1000 COZ-MUZEUM KRAK. V4 | E38: Papier-nadruk FL, HP | F38: Sprzedawany | G38: ORION
A39: 46085 | B39: P+ 100X150/1 N02 | C39: Etykieta 100x150/1 papier kl.mocny OUT 76/1000 | D39: DETUR CHEM | E39: Papier-nadruk FL, HP | F39: Sprzedawany | G39: ORION
A40: 46120 | B40: KART170 82X152SK N18 | C40: Etykieta 82x152,4 karton term.170g Sk.1000WISŁAv15 | D40: Składanka, 1x perforacja, znacznik | E40: Papier-nadruk FL, HP | F40: Archiwum | G40: ORION
A41: 46148 | B41: KART170 54X85,7 N21 | C41: Etykieta 54x85,7 karton term.180g IN 76/800 PKL | D41: Strzałka żółta. Perforacja, wcięcia | E41: Papier-nadruk FL, HP | F41: Sprzedawany | G41: ORION
A42: 46148 | B42: KART170 54X85,7 N22 | C42: Etykieta 54x85,7 karton term.180g IN 76/800 PKL v6 | D42: GÓRA PARKOWA Perforacja, wcięcia | E42: Papier-nadruk FL, HP | F42: Sprzedawany | G42: ORION
A43: 46168 | B43: P+ 100X50/1 N02 | C43: Etykieta 100x50/1 papier kl.mocny OUT 76/2500 | D43: PRODUKT POLSKI | E43: Papier-nadruk FL, HP | F43: Sprzedawany | G43: ORION
A44: 46206 | B44: KART170 70X96 N12 | C44: Etykieta 70x96 karton term.OUT 40/500 CRACOV.26/27 | D44: Perforacja, wcięcia 11mm | E44: Papier-nadruk FL, HP | F44: Sprzedawany | G44: ORION
A45: 46216 | B45: KART170 80X150 N24 | C45: Etykieta 80x150 karton term.170g OUT40/250 wcięcia | D45: STAL MIELEC 2026/2027 | E45: Papier-nadruk FL, HP | F45: Sprzedawany | G45: ORION
A46: 46216 | B46: KART170 82X152SK N19 | C46: Etykieta 82x152,4 karton term.170g Sk.1000WISŁAv16 | D46: Składanka, 1x perforacja, znacznik | E46: Papier-nadruk FL, HP | F46: Sprzedawany | G46: ORION
A47: 46218 | B47: KART170 82X152SK N20 | C47: Etykieta 82x152,4 karton term.170g Sk.1000WISŁAv17 | D47: Składanka, 1x perforacja, znacznik | E47: Papier-nadruk FL, HP | F47: Sprzedawany | G47: ORION
A48: 46224 | B48: KART170 80X150 N25 | C48: Etykieta 80x150 karton term.170g OUT40/250 dziurka | D48: TERMALICA 2026 | E48: Papier-nadruk FL, HP | F48: Sprzedawany | G48: ORION
A49: 46255 | B49: P+ 68X45/1 N07 | C49: Etykieta 68x45/1 papier kl.moc.OUT76/2500 COGITOv2 | E49: Papier-nadruk FL, HP | F49: Sprzedawany | G49: ORION
A50: 46255 | B50: P+ 68X45/1 N08 | C50: Etykieta 68x45/1 papier kl.mocny OUT76/2500 COGITO | D50: Importer | E50: Papier-nadruk FL, HP | F50: Sprzedawany | G50: ORION
A51: 46050 | B51: FT FI10/3 N01 | C51: Etykieta Fi10/3 Folia transparentna OUT 76/10000 | D51: Znacznik, Perfo | E51: Folia-nadruk FL, HP | F51: Sprzedawany | G51: ORION
A52: 46100 | B52: FT 50X50/1 N101 | C52: Etykieta 50x50/1 Folia transparentna OUT 40/5000 | D52: EM-DDIGCH 17.10.2025_7 | E52: Folia-nadruk FL, HP | F52: Sprzedawany | G52: ORION
A53: 46122 | B53: FT 50X50/1 N102 | C53: Etykieta 50x50/1 Folia transparentna OUT 40/5000 | D53: EM-DES17 28.07.2025_19 | E53: Folia-nadruk FL, HP | F53: Sprzedawany | G53: ORION
A54: 46128 | B54: PE FI209/1 N02 | C54: Etykieta Fi209/1 PE OUT 76/500 RKSG (-P) V.2 | E54: Folia-nadruk FL, HP | F54: Sprzedawany | G54: ORION
A55: 46184 | B55: FT 35X140/1 N10 | C55: Etykieta 35x140/1 Folia transparentna OUT 40/2500 | D55: EM-ZOF 25.02.2025_10 popr | E55: Folia-nadruk FL, HP | F55: Sprzedawany | G55: ORION
A56: 46211 | B56: FT 41X31/1 N33 | C56: Etykieta 41x31/1 Folia transparentna OUT 40/2500 | D56: EM-RFD 08.07.2026_7 | E56: Folia-nadruk FL, HP | F56: Sprzedawany | G56: ORION
A57: 46245 | B57: FT 44X32/1 N17 | C57: Etykieta 44x32/1 Folia transparentna OUT 40/2500 | D57: EM-ALN 21.07.2026_1 | E57: Folia-nadruk FL, HP | F57: Sprzedawany | G57: ORION
A58: 46246 | B58: FT 44X32/1 N18 | C58: Etykieta 44x32/1 Folia transparentna OUT 40/2500 | D58: EM-RBDLPW 09.07.2026_1 | E58: Folia-nadruk FL, HP | F58: Sprzedawany | G58: ORION
A59: 46260 | B59: FT 44X32/1 N19 | C59: Etykieta 44x32/1 Folia transparentna OUT 40/1000 | D59: EM-LWMEL 21.07.2026_1 poprawiony | E59: Folia-nadruk FL, HP | F59: Sprzedawany | G59: ORION
A60: 46260 | B60: FT 44X32/1 N20 | C60: Etykieta 44x32/1 Folia transparentna OUT 40/1000 | D60: EM-LWM 21.07.2026_1 | E60: Folia-nadruk FL, HP | F60: Sprzedawany | G60: ORION
A61: 46260 | B61: FT 44X32/1 N21 | C61: Etykieta 44x32/1 Folia transparentna OUT 40/1000 | D61: EM-LWN 21.07.2026_1 | E61: Folia-nadruk FL, HP | F61: Sprzedawany | G61: ORION
A62: 46260 | B62: FT 44X32/1 N22 | C62: Etykieta 44x32/1 Folia transparentna OUT 40/1000 | D62: EM-LWST 21.07.2026_1 | E62: Folia-nadruk FL, HP | F62: Sprzedawany | G62: ORION
A63: 46035 | B63: KAR250 100X150/A N08 | C63: Etykieta 100x150 250g A/1 (100) TEVA E-3 | D63: Pomieszczenie - Czyste / białe pole | E63: Papier-nadruk FL, HP | F63: Sprzedawany | G63: PRESSART
A64: 46035 | B64: KAR250 100X80/A N09 | C64: Etykieta 100x80 250g A/1 (100) TEVA E-8 | D64: zielone / białe pole | E64: Papier-nadruk FL, HP | F64: Sprzedawany | G64: PRESSART
A65: 46037 | B65: P 100X80/A N10 | C65: Etykieta 100x80 papier A/1 E-8 | D65: zielona / białe pole | E65: Papier-nadruk FL, HP | F65: Sprzedawany | G65: PRESSART
A66: 46199 | B66: FT 28X28/A N01 | C66: Etykieta 28x28 folia transparentna A/ LAMPA | E66: Folia-nadruk FL, HP | F66: Sprzedawany | G66: PRESSART

Sheet 2025_01_08
A1: Data dodania | B1: Symbol | C1: Nazwa | D1: Opis | E1: Grupa | F1: Cecha | G1: Dostawca
A2: 45861 | B2: FT 50X30/1 N01 | C2: Etykieta 50x30/1 Folia transparentna OUT 76/4000 | D2: ZNACZNIK | E2: Folia-nadruk FL, HP | F2: Sprzedawany | G2: EPLOMBY.PL
A3: 45877 | B3: FT 30X30/1 N01 | C3: Etykieta 30x30/1 Folia transparentna OUT 76/2000 | D3: ZNACZNIK | E3: Folia-nadruk FL, HP | F3: Sprzedawany | G3: EPLOMBY.PL
A4: 45803 | B4: 207 148X210/1 N08 | C4: Etykieta 148x210/1 e-207 OUT 76/1000 546242402 | E4: Papier-nadruk FL, HP | F4: Sprzedawany | G4: ETISOFT
A5: 45803 | B5: 207 215X130/1 N02 | C5: Etykieta 215x130/1 e207 OUT 76/1100 547237602 Rv.B | E5: Papier-nadruk FL, HP | F5: Sprzedawany | G5: ETISOFT
A6: 45803 | B6: 207 158X210/1 N02 | C6: Etykieta 158x210/1 e-207 OUT 76/700 546564302 Rv.C | E6: Papier-nadruk FL, HP | F6: Sprzedawany | G6: ETISOFT
A7: 45833 | B7: 207 130X215/1 N02 | C7: Etykieta 130x215 e-207 OUT 76/750 547108802 | E7: Papier-nadruk FL, HP | F7: Sprzedawany | G7: ETISOFT
A8: 45833 | B8: 207 105X74/1 N02 | C8: Etykieta 105x74/1 e-207 OUT 76/2000 598528301 RevB | E8: Papier-nadruk FL, HP | F8: Archiwum | G8: ETISOFT
A9: 45840 | B9: 207 100X100/1 N02 | C9: Etykieta 100x100/1 e-207 OUT 76/1000 09004854 | E9: Papier-nadruk FL, HP | F9: Sprzedawany | G9: ETISOFT
A10: 45840 | B10: 303 140X45/1 N01 | C10: Etykieta 140x45/1 e-303 OUT 76/1250 09004836 | E10: Papier-nadruk FL, HP | F10: Sprzedawany | G10: ETISOFT
A11: 45840 | B11: P TERE 80X30/1 N01 | C11: Etykieta 80x30/1 papier termiczny OUT 40/2500 | D11: 9004835 | E11: Papier-nadruk FL, HP | F11: Sprzedawany | G11: ETISOFT
A12: 45670 | B12: 2102 100X70/1 N04 | C12: Etykieta 100x70/1 e-2102 OUT 40/1000 INWEX | E12: Folia-nadruk FL, HP | F12: Sprzedawany | G12: ETISOFT
A13: 45670 | B13: 1003 27X17/1 N02 | C13: Etykieta 27x17/1 e-1003 OUT 76/5000 COMARCH | E13: Folia-nadruk FL, HP | F13: Sprzedawany | G13: ETISOFT
A14: 45670 | B14: 1003 52X28/1 N01 | C14: Etykieta 52x28/1 e-1003 OUT 76/2000 COMARCH | E14: Folia-nadruk FL, HP | F14: Sprzedawany | G14: ETISOFT
A15: 45681 | B15: 6048 50X25/1 N01 | C15: Etykieta 50x25/1 e-6048 OUT 76/4000 APLA ZIELONA | E15: Folia-nadruk FL, HP | F15: Sprzedawany | G15: ETISOFT
A16: 45686 | B16: 2032 FI26/2 N01 | C16: Etykieta Fi26/2 e-2032 OUT 76/11000 ZNACZNIK | E16: Folia-nadruk FL, HP | F16: Sprzedawany | G16: ETISOFT
A17: 45688 | B17: 2032 30X11/1 N01 | C17: Etykieta 30x11/1 e-2032 OUT 76/5000 ZNACZNIK | E17: Folia-nadruk FL, HP | F17: Sprzedawany | G17: ETISOFT
A18: 45688 | B18: 2032 55X40/1 N01 | C18: Etykieta 55x40/1 e-2032 OUT 76/2000 ZNACZNIK | E18: Folia-nadruk FL, HP | F18: Sprzedawany | G18: ETISOFT
A19: 45688 | B19: 2032 32X16/1 N01 | C19: Etykieta 32x16/1 e-2032 OUT 76/5000 ZNACZNIK | E19: Folia-nadruk FL, HP | F19: Sprzedawany | G19: ETISOFT
A20: 45709 | B20: 7023 40X35/1 N11 | C20: Etykieta 40x35/1 e-7023 OUT 76/1000 UL 0167696 | D20: 04-4405-520-1000-06 | E20: Folia-nadruk FL, HP | F20: Archiwum | G20: ETISOFT
A21: 45722 | B21: 2318 107X96/1 N30 | C21: Etykieta 107X96/1 e-2318 OUT 76/1000 5ETI602 | D21: Zmienne dane | E21: Folia-nadruk FL, HP | F21: Sprzedawany | G21: ETISOFT
A22: 45722 | B22: 2318 54X145/1 N30 | C22: Etykieta 54x145/1 e-2318 OUT 76/1000 5ETI603 | D22: Zmienne dane | E22: Folia-nadruk FL, HP | F22: Sprzedawany | G22: ETISOFT
A23: 45722 | B23: 2318 70X144/1 N31 | C23: Etykieta 70x144/1 e-2318 OUT 76/1000 5ETI601 | D23: Zmienne dane | E23: Folia-nadruk FL, HP | F23: Sprzedawany | G23: ETISOFT
A24: 45747 | B24: 2318 107X96/1 N31 | C24: Etykieta 107X96/1 e-2318 OUT 76/1000 5ETI605 | D24: Zmienne dane | E24: Folia-nadruk FL, HP | F24: Sprzedawany | G24: ETISOFT
A25: 45747 | B25: 2318 54X145/1 N31 | C25: Etykieta 54x145/1 e-2318 OUT 76/1000 5ETI606 | D25: Zmienne dane | E25: Folia-nadruk FL, HP | F25: Sprzedawany | G25: ETISOFT
A26: 45757 | B26: 2032 FI16/2 N01 | C26: Etykieta Fi16/2 e-2032 OUT 76/10000 ZNACZNIK | E26: Folia-nadruk FL, HP | F26: Sprzedawany | G26: ETISOFT
A27: 45757 | B27: 3032 100X69/1 N02 | C27: Etykieta 100x69 e3032 + e2132 OUT 76/1000 WIMED V2 | E27: Folia-nadruk FL, HP | F27: Sprzedawany | G27: ETISOFT
A28: 45758 | B28: 2102 150X275/1 N04 | C28: Etykieta 150x275/1 e-2102 IN 76/250 | D28: 2025_72_ETS BASIC Flow Comfort rozmiar S_RB | E28: Folia-nadruk FL, HP | F28: Sprzedawany | G28: ETISOFT
A29: 45758 | B29: 3082 150X275/1 N11 | C29: Etykieta 150x275/1 e-3082 IN 76/250 | D29: 2025_73_ETS - Flow Comfort rozmiar S_RB | E29: Folia-nadruk FL, HP | F29: Archiwum | G29: ETISOFT
A30: 45758 | B30: 2057 150X275/1 N01 | C30: Etykieta 150x275/1 e-2057 IN 76/250 | D30: 2025_73_ETS Flow Comfort rozmiar S_RB | E30: Folia-nadruk FL, HP | F30: Sprzedawany | G30: ETISOFT
A31: 45772 | B31: 2272N FI90/1 N01 | C31: Etykieta Fi90/1 e-2272N OUT 40/500 ZNACZNIK | E31: Folia-nadruk FL, HP | F31: Sprzedawany | G31: ETISOFT
A32: 45782 | B32: 7023 40X35/1 N12 | C32: Etykieta 40x35/1 e-7023 OUT 76/1000 UL 0170686 | D32: 04-4405-520-1000-06 | E32: Folia-nadruk FL, HP | F32: Archiwum | G32: ETISOFT
A33: 45806 | B33: 7023 152,4X127/1 N01 | C33: Etykieta 152,4x127/1 e-7023 OUT 76/1000 UL | D33: 50043810 Zmienne dane | E33: Folia-nadruk FL, HP | F33: Archiwum | G33: ETISOFT
A34: 45806 | B34: 7023 152,4X127/1 N02 | C34: Etykieta 152,4x127/1 e-7023 OUT 76/1000 UL | D34: 50041815 Zmienne dane | E34: Folia-nadruk FL, HP | F34: Archiwum | G34: ETISOFT
A35: 45812 | B35: 7023 40X35/1 N13 | C35: Etykieta 40x35/1 e-7023 OUT 76/1000 UL 0171884 | D35: 04-4405-520-1000-06 | E35: Folia-nadruk FL, HP | F35: Archiwum | G35: ETISOFT
A36: 45861 | B36: 4101 50X4/1 N01 | C36: Etykieta 50x4/1 e-4101 OUT 76/5000 PE N T S R | D36: 20636968 | E36: Folia-nadruk FL, HP | F36: Sprzedawany | G36: ETISOFT
A37: 45862 | B37: 2102 153X276,5/1 N01 | C37: Etykieta 153,1x276,5/1 e-2102 IN 76/250 N-WYK12209 | D37: 2025_72_ETS BASIC Flow Comfort rozmiar S_RB | E37: Folia-nadruk FL, HP | F37: Sprzedawany | G37: ETISOFT
A38: 45769 | B38: P 100X200/1 N03 | C38: Etykieta 100x200/1 papier OUT 76/750 ROMB | D38: WW0201100200N0002 | E38: Papier-nadruk FL, HP | F38: Sprzedawany | G38: ETISOFTWAW2
A39: 45811 | B39: 207 100X188/1 N01 | C39: Etykieta 100x188/1 s-207 OUT 76/750 APLA NIEBIESKA | E39: Papier-nadruk FL, HP | F39: Sprzedawany | G39: ETISOFTWAW2
A40: 45847 | B40: 1032 45X12/1 N01 | C40: Etykieta 45x12/1 s-1032 OUT 40/2000 APLA ŻÓŁTA | E40: Folia-nadruk FL, HP | F40: Sprzedawany | G40: ETISOFTWAW2
A41: 45876 | B41: 1049 50X50/1 N01 | C41: Etykieta 50x50/1 s-1049 OUT 40/1000 APLA FIOLETOWA | E41: Folia-nadruk FL, HP | F41: Sprzedawany | G41: ETISOFTWAW2
A42: 45852 | B42: PP 30X8/3 N02 | C42: Etykieta 30x8/3 PP OUT 76/15000 APLA NIEBIESKA | E42: Folia-nadruk FL, HP | F42: Sprzedawany | G42: ETYFLEX
A43: 45686 | B43: KART170 70X96 N11 | C43: Etykieta 70x96 karton term. OUT 40/500 PUSZCZA 25 | D43: Perforacja, wcięcia 11mm | E43: Papier-nadruk FL, HP | F43: Sprzedawany | G43: ORION
A44: 45707 | B44: P+ 68X45/1 N05 | C44: Etykieta 68x45/1 papier kl.mocny OUT76/2500LEAFTEC | E44: Papier-nadruk FL, HP | F44: Sprzedawany | G44: ORION
A45: 45709 | B45: KART170 54X85,7 N17 | C45: Etykieta 54x85,7 karton term.180g IN 76/800 PKL v4 | D45: Strzałka niebieska. Perforacja, wcięcia | E45: Papier-nadruk FL, HP | F45: Sprzedawany | G45: ORION
A46: 45716 | B46: P+ 55X15/1 N10 | C46: Etykieta 55x15/1 papier kl.mocny OUT 76/5000 2516 | D46: Teigroller Holz | E46: Papier-nadruk FL, HP | F46: Archiwum | G46: ORION
A47: 45716 | B47: P+ 55X15/1 N11 | C47: Etykieta 55x15/1 papier kl.mocny OUT 76/5000 2521 | D47: Teigroller Holz | E47: Papier-nadruk FL, HP | F47: Archiwum | G47: ORION
A48: 45735 | B48: P+ 60X70/1 N01 | C48: Etykieta 60x70/1 papier kl.mocny OUT/1880 | D48: FUSSY 2024 | E48: Papier-nadruk FL, HP | F48: Sprzedawany | G48: ORION
A49: 45735 | B49: P+ 90X105/1 N01 | C49: Etykieta 90x105/1 papier kl.mocny OUT/1270 | D49: FUSSY 2024 | E49: Papier-nadruk FL, HP | F49: Sprzedawany | G49: ORION
A50: 45735 | B50: P+ 48X56/1 N01 | C50: Etykieta 48x56/1 papier kl.mocny OUT/2320 | D50: FUSSY 2024 | E50: Papier-nadruk FL, HP | F50: Sprzedawany | G50: ORION
A51: 45735 | B51: P+ 36X43/1 N01 | C51: Etykieta 36x43/1 papier kl.mocny OUT/2960 | D51: FUSSY 2024 | E51: Papier-nadruk FL, HP | F51: Sprzedawany | G51: ORION
A52: 45736 | B52: P+ 50X40/1 N02 | C52: Etykieta 50x40/1 kl.mocny OUT 76/3000 VOSLUX v2 | D52: SO/E50X40 + CERTYFIKAT | E52: Papier-nadruk FL, HP | F52: Sprzedawany | G52: ORION
A53: 45747 | B53: P+ 43X52/2 N02 | C53: Etykieta 43x52/2 papier kl. mocny OUT 40/5000 | D53: BIEDRONKA | E53: Papier-nadruk FL, HP | F53: Sprzedawany | G53: ORION
A54: 45770 | B54: KART170 54X85,7 N18 | C54: Etykieta 54x85,7 karton term.180g IN 76/800 PKL v5 | D54: GÓRA PARKOWA Perforacja, wcięcia | E54: Papier-nadruk FL, HP | F54: Archiwum | G54: ORION
A55: 45790 | B55: P 40X65/1 N06 | C55: Etykieta 40x65/1 papier OUT76/3000 ADORA | D55: ZIELONY | E55: Papier-nadruk FL, HP | F55: Sprzedawany | G55: ORION
A56: 45790 | B56: P 40X65/1 N07 | C56: Etykieta 40x65/1 papier OUT76/3000 ADORA | D56: ŻÓŁTY | E56: Papier-nadruk FL, HP | F56: Sprzedawany | G56: ORION
A57: 45790 | B57: P FI53/1 N01 | C57: Etykieta Fi53/1 papier OUT 76/5000 fingerlif ADORA | E57: Papier-nadruk FL, HP | F57: Sprzedawany | G57: ORION
A58: 45832 | B58: KART170 80X150 N22 | C58: Etykieta 80x150 karton term.170g OUT40/250 wcięcia | D58: STAL MIELEC 2025/2026 | E58: Papier-nadruk FL, HP | F58: Archiwum | G58: ORION
A59: 45878 | B59: P+ 68X45/1 N06 | C59: Etykieta 68x45/1 papier kl.mocny OUT76/2500 COGITO | E59: Papier-nadruk FL, HP | F59: Archiwum | G59: ORION
A60: 45889 | B60: KART170 80X150 N23 | C60: Etykieta 80x150 karton term.170g OUT40/250 dziurka | D60: TERMALICA 2025 | E60: Papier-nadruk FL, HP | F60: Sprzedawany | G60: ORION
A61: 45889 | B61: P+ 55X15/1 N12 | C61: Etykieta 55x15/1 papier kl.mocny OUT 76/5000 2546 | D61: Teigroller Holz | E61: Papier-nadruk FL, HP | F61: Sprzedawany | G61: ORION
A62: 45664 | B62: FT 30X91/1 N17 | C62: Etykieta 30x91/1 Folia transparentna OUT 40/2500 | D62: EM-CHM 17.12.2024_6 | E62: Folia-nadruk FL, HP | F62: Sprzedawany | G62: ORION
A63: 45677 | B63: FT 25X95/1 N14 | C63: Etykieta 25x95/1 Folia transparentna OUT 40/2500 | D63: EM-TCA 17.01.2025_5 | E63: Folia-nadruk FL, HP | F63: Sprzedawany | G63: ORION
A64: 45682 | B64: FT 40X45/1 N09 | C64: Etykieta 40x45/1 Folia transparentna OUT 40/2500 | D64: EM-YPE 24.01.2025_11 | E64: Folia-nadruk FL, HP | F64: Sprzedawany | G64: ORION
A65: 45685 | B65: PP+ 22X88/1 N176 | C65: Etykieta 22x88/1 PP OUT 76/1500 Multitag - 952461 | D65: Kwas cytrynowy jednowodny | E65: Folia-nadruk FL, HP | F65: Sprzedawany | G65: ORION
A66: 45688 | B66: PP+ 22X88/1 N177 | C66: Etykieta 22x88/1 PP OUT 76/1500 Multitag - 952475 | D66: Balsam peruwiański GAL | E66: Folia-nadruk FL, HP | F66: Sprzedawany | G66: ORION
A67: 45691 | B67: PP+ 22X88/1 N178 | C67: Etykieta 22x88/1 PP OUT 76/1500 Multitag - 901616 | D67: Kwas acetylosalicylowy GAL | E67: Folia-nadruk FL, HP | F67: Sprzedawany | G67: ORION
A68: 45691 | B68: PP+ 22X88/1 N179 | C68: Etykieta 22x88/1 PP OUT 76/1500 Multitag - 901648 | D68: Atropiny siarczan GAL | E68: Folia-nadruk FL, HP | F68: Sprzedawany | G68: ORION
A69: 45691 | B69: FT 104X103/1 N24 | C69: Etykieta 104x103/1 Folia transparentna OUT 40/2500 | D69: EM-DFO 03.02.2025_10 | E69: Folia-nadruk FL, HP | F69: Sprzedawany | G69: ORION
A70: 45702 | B70: FT 50X50/1 N84 | C70: Etykieta 50x50/1 Folia transparentna OUT 40/2500 | D70: EM-DES17 24.01.2025_17 | E70: Folia-nadruk FL, HP | F70: Archiwum | G70: ORION
A71: 45702 | B71: FT 50X50/1 N85 | C71: Etykieta 50x50/1 Folia transparentna OUT 40/2500 | D71: EM-DKC 13.02.2025_11 | E71: Folia-nadruk FL, HP | F71: Archiwum | G71: ORION
... A94: 45753 | B94: FT 35X140/1 N09 | C94: Etykieta 35x140/1 Folia transparentna OUT 40/2500 | D94: EM-ZO 25.02.2025_11 popr | E94: Folia-nadruk FL, HP | F94: Sprzedawany | G94: ORION
A95: 45755 | B95: PP 105X200/1 N04 | C95: Etykieta 105x200/1 PP OUT 76/500 KAMEN V4 | E95: Folia-nadruk FL, HP | F95: Sprzedawany | G95: ORION
A96: 45756 | B96: PP+ 22X88/1 N186 | C96: Etykieta 22x88/1 PP OUT 76/1500 Multitag - 952721 | D96: Sulfogwajakol GAL | E96: Folia-nadruk FL, HP | F96: Sprzedawany | G96: ORION
A97: 45761 | B97: FT 60X60/1 N35 | C97: Etykieta 60x60/1 Folia transparentna OUT 40/2500 | D97: EM-ALG 14.04.2025_14 | E97: Folia-nadruk FL, HP | F97: Sprzedawany | G97: ORION
A98: 45761 | B98: FT 104X103/1 N26 | C98: Etykieta 104x103/1 Folia transparentna OUT 40/2500 | D98: EM-BEF50 14.04.2025_8 | E98: Folia-nadruk FL, HP | F98: Sprzedawany | G98: ORION
A99: 45761 | B99: FT 50X50/1 N86 | C99: Etykieta 50x50/1 Folia transparentna OUT 40/5000 | D99: EM-DCH5 14.04.2025_14 | E99: Folia-nadruk FL, HP | F99: Archiwum | G99: ORION
A100: 45761 | B100: FT 50X50/1 N87 | C100: Etykieta 50x50/1 Folia transparentna OUT 40/5000 | D100: EM-DBEF 14.04.2025_7 | E100: Folia-nadruk FL, HP | F100: Archiwum | G100: ORION
A101: 45764 | B101: FT 50X50/1 N88 | C101: Etykieta 50x50/1 Folia transparentna OUT 40/5000 | D101: EM-DKC 17.04.2025_12 | E101: Folia-nadruk FL, HP | F101: Archiwum | G101: ORION
A102: 45764 | B102: FT 50X50/1 N89 | C102: Etykieta 50x50/1 Folia transparentna OUT 40/5000 | D102: EM-DDIGCH 17.04.2025_6 | E102: Folia-nadruk FL, HP | F102: Archiwum | G102: ORION
A103: 45770 | B103: FT 50X50/1 N90 | C103: Etykieta 50x50/1 Folia transparentna OUT 40/5000 | D103: EM-DES17 22.04.2025_18 | E103: Folia-nadruk FL, HP | F103: Archiwum | G103: ORION
A104: 45770 | B104: FT 50X50/1 N91 | C104: Etykieta 50x50/1 Folia transparentna OUT 40/5000 | D104: EM-DCH2 22.04.2025_15 | E104: Folia-nadruk FL, HP | F104: Archiwum | G104: ORION
A105: 45777 | B105: FT 60X60/1 N36 | C105: Etykieta 60x60/1 Folia transparentna OUT 40/2500 | D105: EM-BE10 30.04.2025_13 | E105: Folia-nadruk FL, HP | F105: Sprzedawany | G105: ORION
A106: 45796 | B106: FT 60X60/1 N37 | C106: Etykieta 60x60/1 Folia transparentna OUT 40/2500 | D106: EM-EPG5,10 06.03.2025_15 | E106: Folia-nadruk FL, HP | F106: Sprzedawany | G106: ORION
A107: 45817 | B107: PP+ 22X88/1 N187 | C107: Etykieta 22x88/1 PP OUT 76/1500 Multitag - 901110 | D107: Morfina - "Etykieta kontrolowana" | E107: Folia-nadruk FL, HP | F107: Archiwum | G107: ORION
... A117: 45889 | B117: PP+ 22X88/1 N189 | C117: Etykieta 22x88/1 PP OUT 76/1500 Multitag - 901110 | D117: Morfina - "Etykieta kontrolowana" | E117: Folia-nadruk FL, HP | F117: Sprzedawany | G117: ORION
A118: 45716 | B118: P+ 70X20/A N01 | C118: Etykieta 70x20 papier klej mocny A/ HYDROFLEX | E118: Papier-nadruk FL, HP | F118: Sprzedawany | G118: PRESSART
A119: 45751 | B119: P OPAQE 116X13/A N01 | C119: Etykieta papier OPAQE 116x13/A30,CM-2025-04-04-001 | E119: Papier-nadruk FL, HP | F119: Sprzedawany | G119: PRESSART
A120: 45751 | B120: P OPAQE 116X13/A N02 | C120: Etykieta papier OPAQE 116x13/A30,CM-2025-04-04-002 | E120: Papier-nadruk FL, HP | F120: Sprzedawany | G120: PRESSART
A121: 45751 | B121: P OPAQE 116X13/A N03 | C121: Etykieta papier OPAQE 116x13/A30,CM-2025-04-04-003 | E121: Papier-nadruk FL, HP | F121: Sprzedawany | G121: PRESSART
A122: 45751 | B122: P OPAQE 116X13/A N04 | C122: Etykieta papier OPAQE 116x13/A30,CM-2025-04-04-004 | E122: Papier-nadruk FL, HP | F122: Sprzedawany | G122: PRESSART
A123: 45751 | B123: P OPAQE 116X13/A N05 | C123: Etykieta papier OPAQE 116x13/A30,CM-2025-04-04-005 | E123: Papier-nadruk FL, HP | F123: Sprzedawany | G123: PRESSART
A124: 45765 | B124: P 80X50/A N04 | C124: Etykieta 80x50 papier A/1 WYRÓB ZGODNY | E124: Papier-nadruk FL, HP | F124: Sprzedawany | G124: PRESSART
A125: 45777 | B125: KAR270 100X170/A N01 | C125: Karton 100x170 270g A/1 ZAWIESZKA HERKULES | E125: Papier-nadruk FL, HP | F125: Sprzedawany | G125: PRESSART
A126: 45799 | B126: P+ 85X50/A N01 | C126: Etykieta 85x50 klej mocny A/ ZMIENNY KOD | E126: Papier-nadruk FL, HP | F126: Sprzedawany | G126: PRESSART
A127: 45775 | B127: FB 66X105/A N01 | C127: Etykieta 66x105 folia biała, A/1 KLAPKA | E127: Folia-nadruk FL, HP | F127: Sprzedawany | G127: PRESSART
A128: 45832 | B128: FB 70X70/A N07 | C128: Etykieta 70x70 folia biała A/1 - TEVA | D128: 2-propanol (izopropanol) Ph Eur | E128: Folia-nadruk FL, HP | F128: Sprzedawany | G128: PRESSART
A129: 45832 | B129: FB 70X70/A N08 | C129: Etykieta 70x70 folia biała A/1 - TEVA | D129: Alkohol etylowy 96% | E129: Folia-nadruk FL, HP | F129: Sprzedawany | G129: PRESSART
A130: 45880 | B130: FB+ 26X67/A N02 | C130: Etykieta 26x67 folia biała, klej mocny A/7 | D130: E.F67X26B1 | E130: Folia-nadruk FL, HP | F130: Sprzedawany | G130: PRESSART
A131: 45832 | B131: FB 70X70/A N09 | C131: Etykieta 70x70 folia biała A/1 - TEVA | D131: Desderman | E131: Folia-nadruk FL, HP | F131: Sprzedawany | G131: PRESSART

Sheet 2024_01_08
A1: Data dodania | B1: Symbol | C1: Nazwa | D1: Opis | E1: Grupa | F1: Cecha | G1: Dostawca
A2: 45349 | B2: KAR170 74X209,5 N03 | C2: Etykieta 74x209,55 karton 170g OUT 76/1000 | D2: Znacznik, perforacja | E2: Papier-nadruk FL, HP | F2: Sprzedawany | G2: ETISOFT
A3: 45464 | B3: 207N 45X50/1 N01 | C3: Etykieta 45x50/1 e-207N OUT 76/1500 PRODUKT POLSKI | E3: Papier-nadruk FL, HP | F3: Sprzedawany | G3: ETISOFT
A4: 45310 | B4: 6048 50X49/1 N06 | C4: Etykieta 50x49/1 e-6048 OUT 40/1000 APLA SZARA | E4: Folia-nadruk FL, HP | F4: Sprzedawany | G4: ETISOFT
A5: 45310 | B5: 6048 50X49/1 N07 | C5: Etykieta 50x49/1 e-6048 OUT 40/1000 APLA FIOLETOWA | E5: Folia-nadruk FL, HP | F5: Sprzedawany | G5: ETISOFT
A6: 45320 | B6: 7023 40X35/1 N03 | C6: Etykieta 40x35/1 e-7023 OUT 76/1000 UTCCCS UL | D6: 04-4405-520-1000-06 | E6: Folia-nadruk FL, HP | F6: Archiwum | G6: ETISOFT
A7: 45334 | B7: 3082 150X275/1 N06 | C7: Etykieta 150x275/1 e-3082 OUT 76/250 WHITE | E7: Folia-nadruk FL, HP | F7: Sprzedawany | G7: ETISOFT
A8: 45337 | B8: 2318 70X144/1 N21 | C8: Etykieta 70x144/1 e-2318 OUT 76/1000 5ETI520 | E8: Folia-nadruk FL, HP | F8: Archiwum | G8: ETISOFT
A9: 45344 | B9: 2318 54X145/1 N20 | C9: Etykieta 54x145/1 e-2318 OUT 76/1000 5ETI474 | E9: Folia-nadruk FL, HP | F9: Archiwum | G9: ETISOFT
A10: 45356 | B10: 2318 107X96/1 N23 | C10: Etykieta 107X96/1 e-2318 OUT 76/1000 5ETI521 | E10: Folia-nadruk FL, HP | F10: Archiwum | G10: ETISOFT
A11: 45356 | B11: 2318 70X144/1 N22 | C11: Etykieta 70x144/1 e-2318 OUT 76/1000 5ETI496 | E11: Folia-nadruk FL, HP | F11: Archiwum | G11: ETISOFT
A12: 45377 | B12: 2124 FI130/1 N02 | C12: Etykieta Fi130/1 e2124 OUT 76/500 PZ44705 | E12: Folia-nadruk FL, HP | F12: Sprzedawany | G12: ETISOFT
A13: 45377 | B13: 2124 FI130/1 N03 | C13: Etykieta Fi130/1 e2124 OUT 76/500 PZ44382 | E13: Folia-nadruk FL, HP | F13: Sprzedawany | G13: ETISOFT
A14: 45378 | B14: 2052 16X14/1 N01 | C14: Etykieta 16x14/1 e-2052 OUT 76/2000 09004910 | E14: Folia-nadruk FL, HP | F14: Sprzedawany | G14: ETISOFT
A15: 45378 | B15: 2318 107X96/1 N24 | C15: Etykieta 107X96/1 e-2318 OUT 76/1000 5ETI522 | E15: Folia-nadruk FL, HP | F15: Sprzedawany | G15: ETISOFT
A16: 45378 | B16: 2318 54X145/1 N21 | C16: Etykieta 54x145/1 e-2318 OUT 76/1000 5ETI523 | E16: Folia-nadruk FL, HP | F16: Archiwum | G16: ETISOFT
A17: 45378 | B17: 2318 70X144/1 N23 | C17: Etykieta 70x144/1 e-2318 OUT 76/1000 5ETI524 | E17: Folia-nadruk FL, HP | F17: Archiwum | G17: ETISOFT
A18: 45384 | B18: 2102 210X225/1 N03 | C18: Etykieta 210x225/1 e-2102 OUT 76/500 perfo LERG v2 | E18: Folia-nadruk FL, HP | F18: Sprzedawany | G18: ETISOFT
... A20: 45384 | B20: 2102 105X210/2 N02 | C20: Etykieta 105x210/2 e-2102 OUT76/1000 perfo LERG v2 | E20: Folia-nadruk FL, HP | F20: Sprzedawany | G20: ETISOFT
A21: 45391 | B21: 7023 40X35/1 N04 | C21: Etykieta 40x35/1 e-7023 OUT 76/1000 UTCCCS UL | D21: 04-4405-520-1000-06 | E21: Folia-nadruk FL, HP | F21: Archiwum | G21: ETISOFT
A22: 45391 | B22: 2318 54X145/1 N22 | C22: Etykieta 54x145/1 e-2318 OUT 76/1000 5ETI495 | E22: Folia-nadruk FL, HP | F22: Archiwum | G22: ETISOFT
A23: 45391 | B23: 2318 54X145/1 N23 | C23: Etykieta 54x145/1 e-2318 OUT 76/1000 5ETI527 | E23: Folia-nadruk FL, HP | F23: Sprzedawany | G23: ETISOFT
A24: 45392 | B24: 3082 150X275/1 N07 | C24: Etykieta 150x275/1 e-3082 IN 76/250 FILTR D1 v4 | E24: Folia-nadruk FL, HP | F24: Sprzedawany | G24: ETISOFT
A25: 45405 | B25: 2102N 148X210/1 N01 | C25: Etykieta 148X210/1 e-2102N OUT 40/400 APLA POMAR. | E25: Folia-nadruk FL, HP | F25: Sprzedawany | G25: ETISOFT
A26: 45405 | B26: 2102N 58X118/1 N02 | C26: Etykieta 58X118/1 e-2102N OUT 76/1000 APLA POMAR. | E26: Folia-nadruk FL, HP | F26: Sprzedawany | G26: ETISOFT
A27: 45406 | B27: 2318 70X144/1 N24 | C27: Etykieta 70x144/1 e-2318 OUT 76/1000 5ETI496 | E27: Folia-nadruk FL, HP | F27: Sprzedawany | G27: ETISOFT
A28: 45406 | B28: 2318 107X96/1 N25 | C28: Etykieta 107X96/1 e-2318 OUT 76/1000 5ETI521 | E28: Folia-nadruk FL, HP | F28: Sprzedawany | G28: ETISOFT
A29: 45408 | B29: 2318 54X145/1 N24 | C29: Etykieta 54x145/1 e-2318 OUT 76/1000 5ETI530 | E29: Folia-nadruk FL, HP | F29: Sprzedawany | G29: ETISOFT
A30: 45412 | B30: 2318 107X96/1 N26 | C30: Etykieta 107X96/1 e-2318 OUT 76/1000 5ETI532 | E30: Folia-nadruk FL, HP | F30: Sprzedawany | G30: ETISOFT
A31: 45420 | B31: 2318 54X145/1 N25 | C31: Etykieta 54x145/1 e-2318 OUT 76/1000 5ETI474 | E31: Folia-nadruk FL, HP | F31: Sprzedawany | G31: ETISOFT
A32: 45420 | B32: 2318 54X145/1 N26 | C32: Etykieta 54x145/1 e-2318 OUT 76/1000 5ETI495 | E32: Folia-nadruk FL, HP | F32: Sprzedawany | G32: ETISOFT
A33: 45428 | B33: 2318 70X144/1 N26 | C33: Etykieta 70x144/1 e-2318 OUT 76/1000 5ETI534 | E33: Folia-nadruk FL, HP | F33: Sprzedawany | G33: ETISOFT
A34: 45428 | B34: 2318 70X144/1 N28 | C34: Etykieta 70x144/1 e-2318 OUT 76/1000 5ETI520 | E34: Folia-nadruk FL, HP | F34: Sprzedawany | G34: ETISOFT
A35: 45428 | B35: 7023 40X35/1 N05 | C35: Etykieta 40x35/1 e-7023 OUT 76/1000 UTCCCS UL | D35: 04-4405-520-1000-06 | E35: Folia-nadruk FL, HP | F35: Archiwum | G35: ETISOFT
A36: 45455 | B36: 7023 40X35/1 N06 | C36: Etykieta 40x35/1 e-7023 OUT 76/1000 UTCCCS UL | D36: 04-4405-520-1000-06 | E36: Folia-nadruk FL, HP | F36: Archiwum | G36: ETISOFT
A37: 45462 | B37: 6055 58X118/1 N01 | C37: Etykieta 58x118/1 e-6055 OUT 76/1000 INGREMIO | E37: Folia-nadruk FL, HP | F37: Sprzedawany | G37: ETISOFT
A38: 45467 | B38: 2102 150X275/1 N02 | C38: Etykieta 150x275/1 e-2102 IN 76/250 FILTR DC10 v3 | E38: Folia-nadruk FL, HP | F38: Sprzedawany | G38: ETISOFT
A39: 45475 | B39: 2102 148X210/1 N06 | C39: Etykieta 148x210/1 e-2102 OUT 76/700 perfo LERG v2 | E39: Folia-nadruk FL, HP | F39: Sprzedawany | G39: ETISOFT
A40: 45484 | B40: 7023 40X35/1 N07 | C40: Etykieta 40x35/1 e-7023 OUT 76/1000 UTCCCS UL | D40: 04-4405-520-1000-06 | E40: Folia-nadruk FL, HP | F40: Archiwum | G40: ETISOFT
A41: 45504 | B41: 3082 150X275/1 N08 | C41: Etykieta 150x275/1 e-3082 IN 76/250 FILTR D2 | E41: Folia-nadruk FL, HP | F41: Sprzedawany | G41: ETISOFT
A42: 45512 | B42: 2032 100X50/1 N01 | C42: Etykieta 100x50/1 e-2032 OUT 76/1000 PLATA | E42: Folia-nadruk FL, HP | F42: Archiwum | G42: ETISOFT
A43: 45533 | B43: 7023 40X35/1 N08 | C43: Etykieta 40x35/1 e-7023 OUT 76/1000 UTCCCS UL | D43: 04-4405-520-1000-06 | E43: Folia-nadruk FL, HP | F43: Archiwum | G43: ETISOFT
A44: 45336 | B44: 207 FI50/1 N02 | C44: Etykieta Fi50/1 s-207 OUT 40/2000 APLA ŻÓŁTA | D44: WW0207050050D0003 | E44: Papier-nadruk FL, HP | F44: Sprzedawany | G44: ETISOFTWAW2
A45: 45336 | B45: 207 FI50/1 N03 | C45: Etykieta Fi50/1 s-207 OUT 40/2000 APLA RÓŻOWA | D45: WW0207050050D0004 | E45: Papier-nadruk FL, HP | F45: Sprzedawany | G45: ETISOFTWAW2
A46: 45336 | B46: 207 FI50/1 N04 | C46: Etykieta Fi50/1 s-207 OUT40/2000 APLA POMARAŃCZOWA | D46: WW0207050050D0005 | E46: Papier-nadruk FL, HP | F46: Sprzedawany | G46: ETISOFTWAW2
A47: 45336 | B47: 207 FI50/1 N05 | C47: Etykieta Fi50/1 s-207 OUT 40/2000 APLA ZIELONA | D47: WW0207050050D0006 | E47: Papier-nadruk FL, HP | F47: Sprzedawany | G47: ETISOFTWAW2
A48: 45336 | B48: 207 FI50/1 N06 | C48: Etykieta Fi50/1 s-207 OUT 40/2000 APLA NIEBIESKA | D48: WW0207050050D0007 | E48: Papier-nadruk FL, HP | F48: Sprzedawany | G48: ETISOFTWAW2
A49: 45372 | B49: 207 100X80/1 N02 | C49: Etykieta 100x80/1 s-207 OUT 76/2000 APLA ŻÓŁTA | E49: Papier-nadruk FL, HP | F49: Sprzedawany | G49: ETISOFTWAW2
A50: 45372 | B50: 207 100X80/1 N03 | C50: Etykieta 100x80/1 s-207 OUT 76/2000 APLA CZERWONA | E50: Papier-nadruk FL, HP | F50: Sprzedawany | G50: ETISOFTWAW2
A51: 45372 | B51: 207 100X80/1 N04 | C51: Etykieta 100x80/1 s-207 OUT 76/2000 APLA NIEBIESKA | E51: Papier-nadruk FL, HP | F51: Sprzedawany | G51: ETISOFTWAW2
A52: 45372 | B52: 207 100X80/1 N05 | C52: Etykieta 100x80/1 s-207 OUT 76/2000 APLA ZIELONA | E52: Papier-nadruk FL, HP | F52: Sprzedawany | G52: ETISOFTWAW2
A53: 45385 | B53: 1034 150X275/1 N02 | C53: Etykieta 150x275/1 s-1034 IN 76/250 FILTR DC 10 | E53: Folia-nadruk FL, HP | F53: Sprzedawany | G53: ETISOFTWAW2
A54: 45404 | B54: 1034 150X275/1 N01 | C54: Etykieta 150x275/1 e-1034 IN 76/250 FILTR D1 | E54: Folia-nadruk FL, HP | F54: Sprzedawany | G54: ETISOFTWAW2
A55: 45469 | B55: 1042 80X130/1 N01 | C55: Etykieta 80x130/1 s-1042 OUT 40/300 INWEX | E55: Folia-nadruk FL, HP | F55: Sprzedawany | G55: ETISOFTWAW2
A56: 45406 | B56: FT+ 90X640/A N02 | C56: Etykieta 90x640 Folia transp.kl.mocny A/1 VESUVIUS | E56: Folia-nadruk FL, HP | F56: Sprzedawany | G56: GRAFFITIST
A57: 45406 | B57: FT+ 90X740/A N02 | C57: Etykieta 90x740 Folia transp.kl.mocny A/1 VESUVIUS | E57: Folia-nadruk FL, HP | F57: Sprzedawany | G57: GRAFFITIST
A58: 45406 | B58: FT+ 90X840/A N02 | C58: Etykieta 90x840 Folia transp.kl.mocny A/1 VESUVIUS | E58: Folia-nadruk FL, HP | F58: Sprzedawany | G58: GRAFFITIST
A59: 45406 | B59: FT+ 90X990/A N02 | C59: Etykieta 90x990 Folia transp.kl.mocny A/1 VESUVIUS | E59: Folia-nadruk FL, HP | F59: Sprzedawany | G59: GRAFFITIST
A60: 45308 | B60: KAR170 50X110 N16 | C60: Bilety 50x110 170g OUT 76/1000 MUZEUM i CRH | E60: Papier-nadruk FL, HP | F60: Sprzedawany | G60: ORION
... A62: 45363 | B62: P+ 68X45/1 N03 | C62: Etykieta 68x45/1 papier kl.mocny OUT76/2500 CVA v3 | E62: Papier-nadruk FL, HP | F62: Archiwum | G62: ORION
A63: 45371 | B63: KART170 80X150 N18 | C63: Etykieta 80x150 karton term.170g OUT40/250 wcięcia | D63: STAL MIELEC 2023/2024 v2 | E63: Papier-nadruk FL, HP | F63: Archiwum | G63: ORION
A64: 45377 | B64: P 68X58/1 N10 | C64: Etykieta 68x58/1 papier OUT 76/3000 200937/02 | D64: OTALGAN | E64: Papier-nadruk FL, HP | F64: Sprzedawany | G64: ORION
A65: 45377 | B65: P 62X37/1 N11 | C65: Etykieta 62x37/1 papier OUT 76/5000 200938/04 | D65: OTALGAN | E65: Papier-nadruk FL, HP | F65: Sprzedawany | G65: ORION
A66: 45387 | B66: P 50X40/1 N09 | C66: Etykieta 50x40/1 papier OUT 76/3000 ZNICZOMAT | E66: Papier-nadruk FL, HP | F66: Archiwum | G66: ORION
A67: 45387 | B67: P 50X40/1 N10 | C67: Etykieta 50x40/1 papier OUT 76/3000 OPTIMA v.03 | E67: Papier-nadruk FL, HP | F67: Sprzedawany | G67: ORION
A68: 45393 | B68: P 80X40/1 N04 | C68: Etykieta 80x40/1 papier OUT 76/3500 HOME | E68: Papier-nadruk FL, HP | F68: Sprzedawany | G68: ORION
A69: 45440 | B69: P 50X70/2 N08 | C69: Etykieta 50x70/2 papier OUT 76/4000 KARPIEL v3 | E69: Papier-nadruk FL, HP | F69: Archiwum | G69: ORION
A70: 45450 | B70: P 50X40/1 N11 | C70: Etykieta 50x40/1 papier OUT 76/3000 ZNICZOMAT v2 | E70: Papier-nadruk FL, HP | F70: Sprzedawany | G70: ORION
A71: 45455 | B71: P+ 75X58/1 N02 | C71: Etykieta 75x58/1 papier OUT 76/2500 ANMAR v3 (TT) | E71: Papier-nadruk FL, HP | F71: Sprzedawany | G71: ORION
A72: 45461 | B72: P+ 68X45/1 N04 | C72: Etykieta 68x45/1 papier kl.mocny OUT76/2500 CVA v4 | E72: Papier-nadruk FL, HP | F72: Archiwum | G72: ORION
A73: 45461 | B73: KART170 70X96 N08 | C73: Etykieta 70x96 karton term.OUT 40/500 CRACOV.24/25 | D73: Perforacja, wcięcia 11mm | E73: Papier-nadruk FL, HP | F73: Archiwum | G73: ORION
A74: 45463 | B74: KART170 82X152SK N17 | C74: Etykieta 82x152,4 karton term.170g Sk.1000WISŁAv14 | D74: Składanka, 2x perforacja, znacznik | E74: Papier-nadruk FL, HP | F74: Archiwum | G74: ORION
A75: 45475 | B75: KART170 70X96 N09 | C75: Etykieta 70x96 karton term. OUT 40/500 PUSZCZA 24 | D75: Perforacja, wcięcia 11mm | E75: Papier-nadruk FL, HP | F75: Archiwum | G75: ORION
A76: 45477 | B76: KART170 80X150 N19 | C76: Etykieta 80x150 karton term.170g OUT40/250 wcięcia | D76: STAL MIELEC 2024/2025 | E76: Papier-nadruk FL, HP | F76: Archiwum | G76: ORION
A77: 45482 | B77: KART170 80X150 N20 | C77: Etykieta 80x150 karton term.170g OUT40/250 dziurka | D77: TERMALICA 2024 | E77: Papier-nadruk FL, HP | F77: Archiwum | G77: ORION
A78: 45495 | B78: P+ 90X15/1 N08 | C78: Etykieta 90x15/1 papier kl.mocny OUT 76/5000 24 34 | D78: Kochloffel Holz 30 cm | E78: Papier-nadruk FL, HP | F78: Sprzedawany | G78: ORION
A79: 45495 | B79: P+ 90X15/1 N09 | C79: Etykieta 90x15/1 papier kl.mocny OUT 76/5000 24 43 | D79: Kochloffel Holz 30 cm | E79: Papier-nadruk FL, HP | F79: Sprzedawany | G79: ORION
A80: 45525 | B80: KART170 70X96 N10 | C80: Etykieta 70x96 karton term. OUT 40/500 CRACOVIA 24 | D80: Hokej. Perforacja, wcięcia. | E80: Papier-nadruk FL, HP | F80: Sprzedawany | G80: ORION
A81: 45530 | B81: P 80X60/1 OW N04 | C81: Etykieta 80x60/1 owal papier OUT 76/2000 METRO v3 | E81: Papier-nadruk FL, HP | F81: Sprzedawany | G81: ORION
A82: 45299 | B82: FT 46X42/1 N14 | C82: Etykieta 46x42/1 Folia transparentna OUT 40/2500 | D82: EM-GLS2 04.01.2024_6 | E82: Folia-nadruk FL, HP | F82: Archiwum | G82: ORION
A83: 45301 | B83: FT 30X91/1 N13 | C83: Etykieta 30x91/1 Folia transparentna OUT 40/2000 | D83: EM-CHM 09.01.2024_5 | E83: Folia-nadruk FL, HP | F83: Archiwum | G83: ORION
A84: 45307 | B84: PP+ 22X88/1 N091 | C84: Etykieta 22x88/1 PP OUT 76/1500 Multitag - 901768 | D84: Testosteron | E84: Folia-nadruk FL, HP | F84: Sprzedawany | G84: ORION
A85: 45307 | B85: PP+ 22X88/1 N092 | C85: Etykieta 22x88/1 PP OUT 76/1500 Multitag - 901579 | D85: Metamizol sodowy jednowodny | E85: Folia-nadruk FL, HP | F85: Archiwum | G85: ORION
A86: 45309 | B86: PP+ 22X88/1 N093 | C86: Etykieta 22x88/1 PP OUT 76/1500 Multitag - 901516 | D86: Prometazyny Chlorowodorek | E86: Folia-nadruk FL, HP | F86: Archiwum | G86: ORION
A87: 45315 | B87: PP+ 40X80/1 N10 | C87: Etykieta 40x80/1 PP OUT 76/1500 Multitag - 901674 | D87: Etanol 70% | E87: Folia-nadruk FL, HP | F87: Archiwum | G87: ORION
A88: 45315 | B88: PP+ 22X76/1 N104 | C88: Etykieta 22x76/1 PP OUT 76/1500 Multitag - 901274 | D88: Fenobarbital - "Etykieta kontrolowana" | E88: Folia-nadruk FL, HP | F88: Sprzedawany | G88: ORION
A89: 45315 | B89: PP+ 22X88/1 N094 | C89: Etykieta 22x88/1 PP OUT 76/1500 Multitag - 901096 | D89: Efedryny chlorowodorek | E89: Folia-nadruk FL, HP | F89: Sprzedawany | G89: ORION
A90: 45315 | B90: PP+ 22X88/1 N095 | C90: Etykieta 22x88/1 PP OUT 76/1500 Multitag - 901104 | D90: Pilokarpiny chlorowodorek | E90: Folia-nadruk FL, HP | F90: Sprzedawany | G90: ORION
A91: 45315 | B91: PP+ 22X88/1 N096 | C91: Etykieta 22x88/1 PP OUT 76/1500 Multitag - 901101 | D91: Neomycyny siarczan | E91: Folia-nadruk FL, HP | F91: Sprzedawany | G91: ORION
A92: 45319 | B92: FT 104X103/1 N18 | C92: Etykieta 104x103/1 Folia transparentna OUT 40/1000 | D92: EM-DFM 26.01.2024_7 | E92: Folia-nadruk FL, HP | F92: Archiwum | G92: ORION
A93: 45320 | B93: PP+ 22X88/1 N097 | C93: Etykieta 22x88/1 PP OUT 76/1500 Multitag - 901785 | D93: Jod | E93: Folia-nadruk FL, HP | F93: Sprzedawany | G93: ORION
... A117: 45342 | B117: PP+ 22X88/1 N119 | C117: Etykieta 22x88/1 PP OUT 76/1500 Multitag - 901787 | D117: Srebro kolidalne | E117: Folia-nadruk FL, HP | F117: Sprzedawany | G117: ORION
A118: 45349 | B118: PP+ 60X170/1 N04 | C118: Etykieta 60x170/1 PP OUT 76/700 Multitag 907030 | E118: Folia-nadruk FL, HP | F118: Sprzedawany | G118: ORION
A119: 45350 | B119: PP+ 22X88/1 N120 | C119: Etykieta 22x88/1 PP OUT 76/1500 Multitag - 901246 | D119: Kwas winowy | E119: Folia-nadruk FL, HP | F119: Sprzedawany | G119: ORION
A120: 45350 | B120: PP+ 22X88/1 N121 | C120: Etykieta 22x88/1 PP OUT 76/1500 Multitag - 901186 | D120: Metronidazol | E120: Folia-nadruk FL, HP | F120: Sprzedawany | G120: ORION
A121: 45350 | B121: PP+ 22X88/1 N122 | C121: Etykieta 22x88/1 PP OUT 76/1500 Multitag - 901671 | D121: Clotrimazol pulvis pro receptura | E121: Folia-nadruk FL, HP | F121: Sprzedawany | G121: ORION
A122: 45350 | B122: PP+ 22X88/1 N123 | C122: Etykieta 22x88/1 PP OUT 76/1500 Multitag - 901700 | D122: Clotrimazol GAL | E122: Folia-nadruk FL, HP | F122: Sprzedawany | G122: ORION
A123: 45350 | B123: PP+ 22X88/1 N124 | C123: Etykieta 22x88/1 PP OUT 76/1500 Multitag - 901305 | D123: Tlenek cynku | E123: Folia-nadruk FL, HP | F123: Sprzedawany | G123: ORION
A124: 45350 | B124: PP+ 22X88/1 N125 | C124: Etykieta 22x88/1 PP OUT 76/1500 Multitag - 901716 | D124: Amonowy bromek | E124: Folia-nadruk FL, HP | F124: Sprzedawany | G124: ORION
A125: 45350 | B125: PP+ 22X88/1 N126 | C125: Etykieta 22x88/1 PP OUT 76/1500 Multitag - 901488 | D125: Kwas salicylowy z wazeliną białą | E125: Folia-nadruk FL, HP | F125: Sprzedawany | G125: ORION
...

Sheet Zestawienie
A2: Ilość Pozycji dodanych | B2: 2024 (01-08) | C2: 2025 (01-08) | D2: 2026 (01-08)
A3: Papier-nadruk FL, HP | B3: 48 | C3: 38 | D3: 26
A4: Folia-nadruk FL, HP | B4: 153 | C4: 92 | D4: 40
A5: Suma | B5: =SUM(B3:B4) -> 201 | C5: =SUM(C3:C4) -> 130 | D5: =SUM(D3:D4) -> 66
A6: Spadek w stos. do adekwatnego okresu roku poprzedniego | C6: -0.35 | D6: -0.49
A8: Dostawca
A9: ETISOFT | B9: =COUNTIF('2024_01_08'!G:G,A9) -> 42 | C9: =COUNTIF('2025_01_08'!G:G,A9) -> 34 | D9: =COUNTIF('2026_01_08'!G:G,A9) -> 33
A10: EPLOMBY.PL | B10: =COUNTIF('2024_01_08'!G:G,A10) -> 0 | C10: =COUNTIF('2025_01_08'!G:G,A10) -> 2 | D10: =COUNTIF('2026_01_08'!G:G,A10) -> 2
A11: GRAFFITIST | B11: =COUNTIF('2024_01_08'!G:G,A11) -> 4 | C11: =COUNTIF('2025_01_08'!G:G,A11) -> 0 | D11: =COUNTIF('2026_01_08'!G:G,A11) -> 1
A12: ORION | B12: =COUNTIF('2024_01_08'!G:G,A12) -> 121 | C12: =COUNTIF('2025_01_08'!G:G,A12) -> 75 | D12: =COUNTIF('2026_01_08'!G:G,A12) -> 25
A13: PRESSART | B13: =COUNTIF('2024_01_08'!G:G,A13) -> 22 | C13: =COUNTIF('2025_01_08'!G:G,A13) -> 14 | D13: =COUNTIF('2026_01_08'!G:G,A13) -> 4
A14: ETISOFTWAW2 | B14: =COUNTIF('2024_01_08'!G:G,A14) -> 12 | C14: =COUNTIF('2025_01_08'!G:G,A14) -> 4 | D14: =COUNTIF('2026_01_08'!G:G,A14) -> 0
