Workbook

Sheet 2026_01_08
A1: Data dodania | B1: Symbol | C1: Nazwa | D1: Opis | E1: Grupa | F1: Cecha | G1: Dostawca
A2: 46149 | B2: P 100X50/1 N09 | C2: Etykieta 100x50/1 papier OUT 76/350 INWENT.05-2026 | D2: Zestaw | E2: Papier-nadruk FL, HP | F2: Sprzedawany | G2: EPLOMBY.PL
A3: 46183 | B3: P 50X40/2 N10 | C3: Etykieta 50x40/2 papier OUT 76/7000 APLA NIEBIESKA | E3: Papier-nadruk FL, HP | F3: Sprzedawany | G3: EPLOMBY.PL
A4: 46060 | B4: 207 109 WS N04 | C4: Wstęga 109mmx150m s-207 2x rant:L-2mm P-4mm OUT76/ | D4: APLA375 | E4: Papier-nadruk FL, HP | F4: Sprzedawany | G4: ETISOFT
A5: 46106 | B5: 203 50X30/1 N01 | C5: Etykieta 50x30/1 e-203 OUT 76/5000 APLA ŻÓŁTA | D5: Glue killer 18832820 | E5: Papier-nadruk FL, HP | F5: Sprzedawany | G5: ETISOFT
A6: 46122 | B6: 207 105X74/1 N03 | C6: Etykieta 105x74/1 e-207 OUT 76/2000 598528301 RevC | E6: Papier-nadruk FL, HP | F6: Sprzedawany | G6: ETISOFT
A7: 46126 | B7: P 70X55/1 N03 | C7: Etykieta 70x55/1 papier OUT 76/2500 GLUE KILLER | E7: Papier-nadruk FL, HP | F7: Sprzedawany | G7: ETISOFT
A8: 46139 | B8: P 50X30/1 N09 | C8: Etykieta 50x30/1 papier OUT 40/2000 APLA ŻÓŁTA | E8: Papier-nadruk FL, HP | F8: Sprzedawany | G8: ETISOFT
A9: 46154 | B9: 207 105X105/1 N01 | C9: Etykieta 105x105/1 e-207 IN 76/1000 APLA ZIELONA | E9: Papier-nadruk FL, HP | F9: Sprzedawany | G9: ETISOFT
A10: 46160 | B10: 207 122X112/1 N02 | C10: Etykieta 122x112/1 e-207 OUT 76/500 597338601 RevB | E10: Papier-nadruk FL, HP | F10: Sprzedawany | G10: ETISOFT
A11: 46244 | B11: 675 50X12/1 N01 | C11: Etykieta 50x12/1 e-675 OUT 76/5000 ADORA | E11: Papier-nadruk FL, HP | F11: Sprzedawany | G11: ETISOFT
A12: 46063 | B12: 7023 40X35/1 N16 | C12: Etykieta 40x35/1 e-7023 OUT 76/1000 UL 0181710 | D12: 04-4405-520-1000-06 | E12: Folia-nadruk FL, HP | F12: Archiwum | G12: ETISOFT
A13: 46063 | B13: 7023 40X35/1 N17 | C13: Etykieta 40x35/1 e-7023 OUT 76/1000 UL 0181709 | D13: 04-4405-520-1000-06 | E13: Folia-nadruk FL, HP | F13: Archiwum | G13: ETISOFT
A14: 46066 | B14: 1007 FI17/2 N01 | C14: Etykieta FI17/2 e-1007 OUT 76/40000 09005497 | D14: AIDON VOID STICKER | E14: Folia-nadruk FL, HP | F14: Sprzedawany | G14: ETISOFT
A15: 46066 | B15: 3037 FI17/2 N01 | C15: Etykieta FI17/2 e3037+e2132 OUT 76/24000 09005497 | D15: AIDON VOID STICKER | E15: Folia-nadruk FL, HP | F15: Sprzedawany | G15: ETISOFT
A16: 46069 | B16: 1002 8X8/5 N01 | C16: Etykieta 8X8/5 e-1002 OUT 76/40000 APLA ZÓŁTA | E16: Folia-nadruk FL, HP | F16: Sprzedawany | G16: ETISOFT
A17: 46093 | B17: 7023 40X35/1 N18 | C17: Etykieta 40x35/1 e-7023 OUT 76/1000 UL 0182851 | D17: 04-4405-520-1000-06 | E17: Folia-nadruk FL, HP | F17: Archiwum | G17: ETISOFT
A18: 46105 | B18: 2102 150X275/1 N05 | C18: Etykieta 150x275/1 e-2102 IN 76/250 SUBSKRYPCJA | D18: 2025_72_ETS BASIC Flow Comfort rozmiar S_RB | E18: Folia-nadruk FL, HP | F18: Archiwum | G18: ETISOFT
A19: 46107 | B19: 7023 75X50/1 N01 | C19: Etykieta 75x50/1 e-7023 OUT 76/400 541488601 | E19: Folia-nadruk FL, HP | F19: Archiwum | G19: ETISOFT
A20: 46107 | B20: 7023 75X50/1 N02 | C20: Etykieta 75x50/1 e-7023 OUT 76/400 541488801 | E20: Folia-nadruk FL, HP | F20: Archiwum | G20: ETISOFT
A21: 46115 | B21: 7023 72X72/1 N01 | C21: Etykieta 72x72/1 e-7023 OUT 76/400 541454001 | E21: Folia-nadruk FL, HP | F21: Sprzedawany | G21: ETISOFT
A22: 46112 | B22: 7023 152,4X127/1 N03 | C22: Etykieta 152,4x127/1 e-7023 OUT 76/50 UL | D22: 50041815 Zmienne dane | E22: Folia-nadruk FL, HP | F22: Sprzedawany | G22: ETISOFT
A23: 46112 | B23: 7023 152,4X127/1 N04 | C23: Etykieta 152,4x127/1 e-7023 OUT 76/200 UL | D23: 50041843 Zmienne dane | E23: Folia-nadruk FL, HP | F23: Sprzedawany | G23: ETISOFT
A24: 46128 | B24: 7023 40X35/1 N19 | C24: Etykieta 40x35/1 e-7023 OUT 76/1000 UL 0184471 | D24: 04-4405-520-1000-06 | E24: Folia-nadruk FL, HP | F24: Archiwum | G24: ETISOFT
A25: 46128 | B25: 7023 75X50/1 N03 | C25: Etykieta 75x50/1 e-7023 OUT 76/200 541488601 | E25: Folia-nadruk FL, HP | F25: Sprzedawany | G25: ETISOFT
A26: 46128 | B26: 7023 75X50/1 N04 | C26: Etykieta 75x50/1 e-7023 OUT 76/200 541488801 | E26: Folia-nadruk FL, HP | F26: Sprzedawany | G26: ETISOFT
A27: 46139 | B27: 2102 210X148/1 N10 | C27: Etykieta 210x148/1 e2102 OUT76/1000 APLA niebieska | D27: Perfo | E27: Folia-nadruk FL, HP | F27: Sprzedawany | G27: ETISOFT
A28: 46139 | B28: 2102 105X148/1 N08 | C28: Etykieta 105x148/1 e2102 OUT76/1000 APLA niebieska | E28: Folia-nadruk FL, HP | F28: Sprzedawany | G28: ETISOFT
A29: 46149 | B29: 7023 40X35/1 N20 | C29: Etykieta 40x35/1 e-7023 OUT 76/1000 UL 0185503 | D29: 04-4405-520-1000-06 | E29: Folia-nadruk FL, HP | F29: Archiwum | G29: ETISOFT
A30: 46156 | B30: 3082 150X275/1 N12 | C30: Etykieta 150x275/1 e-3082 IN 76/250 | D30: 2025_73_ETS - Flow Comfort rozmiar S_RB-QR subskrypcja | E30: Folia-nadruk FL, HP | F30: Sprzedawany | G30: ETISOFT
A31: 46181 | B31: 1067 FI17/2 N01 | C31: Etykieta FI17/2 e-1067 IN 76/30000 09005497 | D31: AIDON VOID STICKER | E31: Folia-nadruk FL, HP | F31: Sprzedawany | G31: ETISOFT
A32: 46220 | B32: 6055 68X41/1 N01 | C32: Etykieta 68x41/1 e-6055 OUT 76/2500 ZŁĄCZKA ZEK | E32: Folia-nadruk FL, HP | F32: Sprzedawany | G32: ETISOFT
A33: 46252 | B33: 2318 54X145/1 N32 | C33: Etykieta 54x145/1 e-2318 OUT 76/1000 5ETI613 | E33: Folia-nadruk FL, HP | F33: Sprzedawany | G33: ETISOFT
A34: 46252 | B34: 2318 70X144/1 N33 | C34: Etykieta 70x144/1 e-2318 OUT 76/1000 5ETI611 | E34: Folia-nadruk FL, HP | F34: Sprzedawany | G34: ETISOFT
A35: 46252 | B35: 2318 107X96/1 N32 | C35: Etykieta 107X96/1 e-2318 OUT 76/1000 5ETI612 | E35: Folia-nadruk FL, HP | F35: Sprzedawany | G35: ETISOFT
A36: 46262 | B36: 7023 40X35/1 N21 | C36: Etykieta 40x35/1 e-7023 OUT 76/1000 UL 0190676 | D36: 04-4405-520-1000-06 | E36: Folia-nadruk FL, HP | F36: Sprzedawany | G36: ETISOFT
A37: 46181 | B37: FB 75X75/A N01 | C37: Etykieta 75x75 folia + laminat A/18 - 09005885 | D37: ePro Full DS Brand | E37: Folia-nadruk FL, HP | F37: Sprzedawany | G37: GRAFFITIST
A38: 46083 | B38: KAR170 50X110 N18 | C38: Bilety 50x110 170g OUT 76/1000 COZ-MUZEUM KRAK. V4 | E38: Papier-nadruk FL, HP | F38: Sprzedawany | G38: ORION
A39: 46085 | B39: P+ 100X150/1 N02 | C39: Etykieta 100x150/1 papier kl.mocny OUT 76/1000 | D39: DETUR CHEM | E39: Papier-nadruk FL, HP | F39: Sprzedawany | G39: ORION
A40: 46120 | B40: KART170 82X152SK N18 | C40: Etykieta 82x152,4 karton term.170g Sk.1000WISŁAv15 | D40: Składanka, 1x perforacja, znacznik | E40: Papier-nadruk FL, HP | F40: Archiwum | G40: ORION
...

Sheet 2025_01_08
A1: Data dodania | B1: Symbol | C1: Nazwa | D1: Opis | E1: Grupa | F1: Cecha | G1: Dostawca
A2: 45861 | B2: FT 50X30/1 N01 | C2: Etykieta 50x30/1 Folia transparentna OUT 76/4000 | D2: ZNACZNIK | E2: Folia-nadruk FL, HP | F2: Sprzedawany | G2: EPLOMBY.PL
A3: 45877 | B3: FT 30X30/1 N01 | C3: Etykieta 30x30/1 Folia transparentna OUT 76/2000 | D3: ZNACZNIK | E3: Folia-nadruk FL, HP | F3: Sprzedawany | G3: EPLOMBY.PL
A4: 45803 | B4: 207 148X210/1 N08 | C4: Etykieta 148x210/1 e-207 OUT 76/1000 546242402 | E4: Papier-nadruk FL, HP | F4: Sprzedawany | G4: ETISOFT
A5: 45803 | B5: 207 215X130/1 N02 | C5: Etykieta 215x130/1 e207 OUT 76/1100 547237602 Rv.B | E5: Papier-nadruk FL, HP | F5: Sprzedawany | G5: ETISOFT
A6: 45803 | B6: 207 158X210/1 N02 | C6: Etykieta 158x210/1 e-207 OUT 76/700 546564302 Rv.C | E6: Papier-nadruk FL, HP | F6: Sprzedawany | G6: ETISOFT
A7: 45833 | B7: 207 130X215/1 N02 | C7: Etykieta 130x215 e-207 OUT 76/750 547108802 | E7: Papier-nadruk FL, HP | F7: Sprzedawany | G7: ETISOFT
A8: 45833 | B8: 207 105X74/1 N02 | C8: Etykieta 105x74/1 e-207 OUT 76/2000 598528301 RevB | E8: Papier-nadruk FL, HP | F8: Archiwum | G8: ETISOFT
A9: 45840 | B9: 207 100X100/1 N02 | C9: Etykieta 100x100/1 e-207 OUT 76/1000 09004854 | E9: Papier-nadruk FL, HP | F9: Sprzedawany | G9: ETISOFT
A10: 45840 | B10: 303 140X45/1 N01 | C10: Etykieta 140x45/1 e-303 OUT 76/1250 09004836 | E10: Papier-nadruk FL, HP | F10: Sprzedawany | G10: ETISOFT
A11: 45840 | B11: P TERE 80X30/1 N01 | C11: Etykieta 80x30/1 papier termiczny OUT 40/2500 | D11: 9004835 | E11: Papier-nadruk FL, HP | F11: Sprzedawany | G11: ETISOFT
A12: 45670 | B12: 2102 100X70/1 N04 | C12: Etykieta 100x70/1 e-2102 OUT 40/1000 INWEX | E12: Folia-nadruk FL, HP | F12: Sprzedawany | G12: ETISOFT
A13: 45670 | B13: 1003 27X17/1 N02 | C13: Etykieta 27x17/1 e-1003 OUT 76/5000 COMARCH | E13: Folia-nadruk FL, HP | F13: Sprzedawany | G13: ETISOFT
A14: 45670 | B14: 1003 52X28/1 N01 | C14: Etykieta 52x28/1 e-1003 OUT 76/2000 COMARCH | E14: Folia-nadruk FL, HP | F14: Sprzedawany | G14: ETISOFT
A15: 45681 | B15: 6048 50X25/1 N01 | C15: Etykieta 50x25/1 e-6048 OUT 76/4000 APLA ZIELONA | E15: Folia-nadruk FL, HP | F15: Sprzedawany | G15: ETISOFT
A16: 45686 | B16: 2032 FI26/2 N01 | C16: Etykieta Fi26/2 e-2032 OUT 76/11000 ZNACZNIK | E16: Folia-nadruk FL, HP | F16: Sprzedawany | G16: ETISOFT
A17: 45688 | B17: 2032 30X11/1 N01 | C17: Etykieta 30x11/1 e-2032 OUT 76/5000 ZNACZNIK | E17: Folia-nadruk FL, HP | F17: Sprzedawany | G17: ETISOFT
A18: 45688 | B18: 2032 55X40/1 N01 | C18: Etykieta 55x40/1 e-2032 OUT 76/2000 ZNACZNIK | E18: Folia-nadruk FL, HP | F18: Sprzedawany | G18: ETISOFT
A19: 45688 | B19: 2032 32X16/1 N01 | C19: Etykieta 32x16/1 e-2032 OUT 76/5000 ZNACZNIK | E19: Folia-nadruk FL, HP | F19: Sprzedawany | G19: ETISOFT
A20: 45709 | B20: 7023 40X35/1 N11 | C20: Etykieta 40x35/1 e-7023 OUT 76/1000 UL 0167696 | D20: 04-4405-520-1000-06 | E20: Folia-nadruk FL, HP | F20: Archiwum | G20: ETISOFT
A21: 45722 | B21: 2318 107X96/1 N30 | C21: Etykieta 107X96/1 e-2318 OUT 76/1000 5ETI602 | D21: Zmienne dane | E21: Folia-nadruk FL, HP | F21: Sprzedawany | G21: ETISOFT
A22: 45722 | B22: 2318 54X145/1 N30 | C22: Etykieta 54x145/1 e-2318 OUT 76/1000 5ETI603 | D22: Zmienne dane | E22: Folia-nadruk FL, HP | F22: Sprzedawany | G22: ETISOFT
A23: 45722 | B23: 2318 70X144/1 N31 | C23: Etykieta 70x144/1 e-2318 OUT 76/1000 5ETI601 | D23: Zmienne dane | E23: Folia-nadruk FL, HP | F23: Sprzedawany | G23: ETISOFT
A24: 45747 | B24: 2318 107X96/1 N31 | C24: Etykieta 107X96/1 e-2318 OUT 76/1000 5ETI605 | D24: Zmienne dane | E24: Folia-nadruk FL, HP | F24: Sprzedawany | G24: ETISOFT
A25: 45747 | B25: 2318 54X145/1 N31 | C25: Etykieta 54x145/1 e-2318 OUT 76/1000 5ETI606 | D25: Zmienne dane | E25: Folia-nadruk FL, HP | F25: Sprzedawany | G25: ETISOFT
A26: 45757 | B26: 2032 FI16/2 N01 | C26: Etykieta Fi16/2 e-2032 OUT 76/10000 ZNACZNIK | E26: Folia-nadruk FL, HP | F26: Sprzedawany | G26: ETISOFT
A27: 45757 | B27: 3032 100X69/1 N02 | C27: Etykieta 100x69 e3032 + e2132 OUT 76/1000 WIMED V2 | E27: Folia-nadruk FL, HP | F27: Sprzedawany | G27: ETISOFT
A28: 45758 | B28: 2102 150X275/1 N04 | C28: Etykieta 150x275/1 e-2102 IN 76/250 | D28: 2025_72_ETS BASIC Flow Comfort rozmiar S_RB | E28: Folia-nadruk FL, HP | F28: Sprzedawany | G28: ETISOFT
A29: 45758 | B29: 3082 150X275/1 N11 | C29: Etykieta 150x275/1 e-3082 IN 76/250 | D29: 2025_73_ETS - Flow Comfort rozmiar S_RB | E29: Folia-nadruk FL, HP | F29: Archiwum | G29: ETISOFT
A30: 45758 | B30: 2057 150X275/1 N01 | C30: Etykieta 150x275/1 e-2057 IN 76/250 | D30: 2025_73_ETS Flow Comfort rozmiar S_RB | E30: Folia-nadruk FL, HP | F30: Sprzedawany | G30: ETISOFT
A31: 45772 | B31: 2272N FI90/1 N01 | C31: Etykieta Fi90/1 e-2272N OUT 40/500 ZNACZNIK | E31: Folia-nadruk FL, HP | F31: Sprzedawany | G31: ETISOFT
A32: 45782 | B32: 7023 40X35/1 N12 | C32: Etykieta 40x35/1 e-7023 OUT 76/1000 UL 0170686 | D32: 04-4405-520-1000-06 | E32: Folia-nadruk FL, HP | F32: Archiwum | G32: ETISOFT
A33: 45806 | B33: 7023 152,4X127/1 N01 | C33: Etykieta 152,4x127/1 e-7023 OUT 76/1000 UL | D33: 50043810 Zmienne dane | E33: Folia-nadruk FL, HP | F33: Archiwum | G33: ETISOFT
A34: 45806 | B34: 7023 152,4X127/1 N02 | C34: Etykieta 152,4x127/1 e-7023 OUT 76/1000 UL | D34: 50041815 Zmienne dane | E34: Folia-nadruk FL, HP | F34: Archiwum | G34: ETISOFT
A35: 45812 | B35: 7023 40X35/1 N13 | C35: Etykieta 40x35/1 e-7023 OUT 76/1000 UL 0171884 | D35: 04-4405-520-1000-06 | E35: Folia-nadruk FL, HP | F35: Archiwum | G35: ETISOFT
A36: 45861 | B36: 4101 50X4/1 N01 | C36: Etykieta 50x4/1 e-4101 OUT 76/5000 PE N T S R | D36: 20636968 | E36: Folia-nadruk FL, HP | F36: Sprzedawany | G36: ETISOFT
A37: 45862 | B37: 2102 153X276,5/1 N01 | C37: Etykieta 153,1x276,5/1 e-2102 IN 76/250 N-WYK12209 | D37: 2025_72_ETS BASIC Flow Comfort rozmiar S_RB | E37: Folia-nadruk FL, HP | F37: Sprzedawany | G37: ETISOFT
A38: 45769 | B38: P 100X200/1 N03 | C38: Etykieta 100x200/1 papier OUT 76/750 ROMB | D38: WW0201100200N0002 | E38: Papier-nadruk FL, HP | F38: Sprzedawany | G38: ETISOFTWAW2
A39: 45811 | B39: 207 100X188/1 N01 | C39: Etykieta 100x188/1 s-207 OUT 76/750 APLA NIEBIESKA | E39: Papier-nadruk FL, HP | F39: Sprzedawany | G39: ETISOFTWAW2
A40: 45847 | B40: 1032 45X12/1 N01 | C40: Etykieta 45x12/1 s-1032 OUT 40/2000 APLA ŻÓŁTA | E40: Folia-nadruk FL, HP | F40: Sprzedawany | G40: ETISOFTWAW2
...

Sheet 2024_01_08
A1: Data dodania | B1: Symbol | C1: Nazwa | D1: Opis | E1: Grupa | F1: Cecha | G1: Dostawca
A2: 45349 | B2: KAR170 74X209,5 N03 | C2: Etykieta 74x209,55 karton 170g OUT 76/1000 | D2: Znacznik, perforacja | E2: Papier-nadruk FL, HP | F2: Sprzedawany | G2: ETISOFT
A3: 45464 | B3: 207N 45X50/1 N01 | C3: Etykieta 45x50/1 e-207N OUT 76/1500 PRODUKT POLSKI | E3: Papier-nadruk FL, HP | F3: Sprzedawany | G3: ETISOFT
A4: 45310 | B4: 6048 50X49/1 N06 | C4: Etykieta 50x49/1 e-6048 OUT 40/1000 APLA SZARA | E4: Folia-nadruk FL, HP | F4: Sprzedawany | G4: ETISOFT
A5: 45310 | B5: 6048 50X49/1 N07 | C5: Etykieta 50x49/1 e-6048 OUT 40/1000 APLA FIOLETOWA | E5: Folia-nadruk FL, HP | F5: Sprzedawany | G5: ETISOFT
A6: 45320 | B6: 7023 40X35/1 N03 | C6: Etykieta 40x35/1 e-7023 OUT 76/1000 UTCCCS UL | D6: 04-4405-520-1000-06 | E6: Folia-nadruk FL, HP | F6: Archiwum | G6: ETISOFT
A7: 45334 | B7: 3082 150X275/1 N06 | C7: Etykieta 150x275/1 e-3082 OUT 76/250 WHITE | E7: Folia-nadruk FL, HP | F7: Sprzedawany | G7: ETISOFT
A8: 45337 | B8: 2318 70X144/1 N21 | C8: Etykieta 70x144/1 e-2318 OUT 76/1000 5ETI520 | E8: Folia-nadruk FL, HP | F8: Archiwum | G8: ETISOFT
A9: 45344 | B9: 2318 54X145/1 N20 | C9: Etykieta 54x145/1 e-2318 OUT 76/1000 5ETI474 | E9: Folia-nadruk FL, HP | F9: Archiwum | G9: ETISOFT
A10: 45356 | B10: 2318 107X96/1 N23 | C10: Etykieta 107X96/1 e-2318 OUT 76/1000 5ETI521 | E10: Folia-nadruk FL, HP | F10: Archiwum | G10: ETISOFT
A11: 45356 | B11: 2318 70X144/1 N22 | C11: Etykieta 70x144/1 e-2318 OUT 76/1000 5ETI496 | E11: Folia-nadruk FL, HP | F11: Archiwum | G11: ETISOFT
A12: 45377 | B12: 2124 FI130/1 N02 | C12: Etykieta Fi130/1 e2124 OUT 76/500 PZ44705 | E12: Folia-nadruk FL, HP | F12: Sprzedawany | G12: ETISOFT
A13: 45377 | B13: 2124 FI130/1 N03 | C13: Etykieta Fi130/1 e2124 OUT 76/500 PZ44382 | E13: Folia-nadruk FL, HP | F13: Sprzedawany | G13: ETISOFT
A14: 45378 | B14: 2052 16X14/1 N01 | C14: Etykieta 16x14/1 e-2052 OUT 76/2000 09004910 | E14: Folia-nadruk FL, HP | F14: Sprzedawany | G14: ETISOFT
A15: 45378 | B15: 2318 107X96/1 N24 | C15: Etykieta 107X96/1 e-2318 OUT 76/1000 5ETI522 | E15: Folia-nadruk FL, HP | F15: Sprzedawany | G15: ETISOFT
A16: 45378 | B16: 2318 54X145/1 N21 | C16: Etykieta 54x145/1 e-2318 OUT 76/1000 5ETI523 | E16: Folia-nadruk FL, HP | F16: Archiwum | G16: ETISOFT
A17: 45378 | B17: 2318 70X144/1 N23 | C17: Etykieta 70x144/1 e-2318 OUT 76/1000 5ETI524 | E17: Folia-nadruk FL, HP | F17: Archiwum | G17: ETISOFT
A18: 45384 | B18: 2102 210X225/1 N03 | C18: Etykieta 210x225/1 e-2102 OUT 76/500 perfo LERG v2 | E18: Folia-nadruk FL, HP | F18: Sprzedawany | G18: ETISOFT
... A20: 45384 | B20: 2102 105X210/2 N02 | C20: Etykieta 105x210/2 e-2102 OUT76/1000 perfo LERG v2 | E20: Folia-nadruk FL, HP | F20: Sprzedawany | G20: ETISOFT
A21: 45391 | B21: 7023 40X35/1 N04 | C21: Etykieta 40x35/1 e-7023 OUT 76/1000 UTCCCS UL | D21: 04-4405-520-1000-06 | E21: Folia-nadruk FL, HP | F21: Archiwum | G21: ETISOFT
A22: 45391 | B22: 2318 54X145/1 N22 | C22: Etykieta 54x145/1 e-2318 OUT 76/1000 5ETI495 | E22: Folia-nadruk FL, HP | F22: Archiwum | G22: ETISOFT
A23: 45391 | B23: 2318 54X145/1 N23 | C23: Etykieta 54x145/1 e-2318 OUT 76/1000 5ETI527 | E23: Folia-nadruk FL, HP | F23: Sprzedawany | G23: ETISOFT
A24: 45392 | B24: 3082 150X275/1 N07 | C24: Etykieta 150x275/1 e-3082 IN 76/250 FILTR D1 v4 | E24: Folia-nadruk FL, HP | F24: Sprzedawany | G24: ETISOFT
A25: 45405 | B25: 2102N 148X210/1 N01 | C25: Etykieta 148X210/1 e-2102N OUT 40/400 APLA POMAR. | E25: Folia-nadruk FL, HP | F25: Sprzedawany | G25: ETISOFT
A26: 45405 | B26: 2102N 58X118/1 N02 | C26: Etykieta 58X118/1 e-2102N OUT 76/1000 APLA POMAR. | E26: Folia-nadruk FL, HP | F26: Sprzedawany | G26: ETISOFT
A27: 45406 | B27: 2318 70X144/1 N24 | C27: Etykieta 70x144/1 e-2318 OUT 76/1000 5ETI496 | E27: Folia-nadruk FL, HP | F27: Sprzedawany | G27: ETISOFT
A28: 45406 | B28: 2318 107X96/1 N25 | C28: Etykieta 107X96/1 e-2318 OUT 76/1000 5ETI521 | E28: Folia-nadruk FL, HP | F28: Sprzedawany | G28: ETISOFT
A29: 45408 | B29: 2318 54X145/1 N24 | C29: Etykieta 54x145/1 e-2318 OUT 76/1000 5ETI530 | E29: Folia-nadruk FL, HP | F29: Sprzedawany | G29: ETISOFT
A30: 45412 | B30: 2318 107X96/1 N26 | C30: Etykieta 107X96/1 e-2318 OUT 76/1000 5ETI532 | E30: Folia-nadruk FL, HP | F30: Sprzedawany | G30: ETISOFT
A31: 45420 | B31: 2318 54X145/1 N25 | C31: Etykieta 54x145/1 e-2318 OUT 76/1000 5ETI474 | E31: Folia-nadruk FL, HP | F31: Sprzedawany | G31: ETISOFT
A32: 45420 | B32: 2318 54X145/1 N26 | C32: Etykieta 54x145/1 e-2318 OUT 76/1000 5ETI495 | E32: Folia-nadruk FL, HP | F32: Sprzedawany | G32: ETISOFT
A33: 45428 | B33: 2318 70X144/1 N26 | C33: Etykieta 70x144/1 e-2318 OUT 76/1000 5ETI534 | E33: Folia-nadruk FL, HP | F33: Sprzedawany | G33: ETISOFT
A34: 45428 | B34: 2318 70X144/1 N28 | C34: Etykieta 70x144/1 e-2318 OUT 76/1000 5ETI520 | E34: Folia-nadruk FL, HP | F34: Sprzedawany | G34: ETISOFT
A35: 45428 | B35: 7023 40X35/1 N05 | C35: Etykieta 40x35/1 e-7023 OUT 76/1000 UTCCCS UL | D35: 04-4405-520-1000-06 | E35: Folia-nadruk FL, HP | F35: Archiwum | G35: ETISOFT
A36: 45455 | B36: 7023 40X35/1 N06 | C36: Etykieta 40x35/1 e-7023 OUT 76/1000 UTCCCS UL | D36: 04-4405-520-1000-06 | E36: Folia-nadruk FL, HP | F36: Archiwum | G36: ETISOFT
A37: 45462 | B37: 6055 58X118/1 N01 | C37: Etykieta 58x118/1 e-6055 OUT 76/1000 INGREMIO | E37: Folia-nadruk FL, HP | F37: Sprzedawany | G37: ETISOFT
A38: 45467 | B38: 2102 150X275/1 N02 | C38: Etykieta 150x275/1 e-2102 IN 76/250 FILTR DC10 v3 | E38: Folia-nadruk FL, HP | F38: Sprzedawany | G38: ETISOFT
A39: 45475 | B39: 2102 148X210/1 N06 | C39: Etykieta 148x210/1 e-2102 OUT 76/700 perfo LERG v2 | E39: Folia-nadruk FL, HP | F39: Sprzedawany | G39: ETISOFT
A40: 45484 | B40: 7023 40X35/1 N07 | C40: Etykieta 40x35/1 e-7023 OUT 76/1000 UTCCCS UL | D40: 04-4405-520-1000-06 | E40: Folia-nadruk FL, HP | F40: Archiwum | G40: ETISOFT
A41: 45504 | B41: 3082 150X275/1 N08 | C41: Etykieta 150x275/1 e-3082 IN 76/250 FILTR D2 | E41: Folia-nadruk FL, HP | F41: Sprzedawany | G41: ETISOFT
...

Sheet Zestawienie
A2: Ilość Pozycji dodanych | B2: 2024 (01-08) | C2: 2025 (01-08) | D2: 2026 (01-08)
A3: Papier-nadruk FL, HP | B3: 48 | C3: 38 | D3: 26
A4: Folia-nadruk FL, HP | B4: 153 | C4: 92 | D4: 40
A5: Suma | B5: =SUM(B3:B4) -> 201 | C5: =SUM(C3:C4) -> 130 | D5: =SUM(D3:D4) -> 66
A6: Spadek w stos. do adekwatnego okresu roku poprzedniego | C6: -0.35 | D6: -0.49
A8: Dostawca
A9: ETISOFT | B9: =COUNTIF('2024_01_08'!G:G,A9) -> 42 | C9: =COUNTIF('2025_01_08'!G:G,A9) -> 34 | D9: =COUNTIF('2026_01_08'!G:G,A9) -> 33
A10: EPLOMBY.PL | B10: =COUNTIF('2024_01_08'!G:G,A10) -> 0 | C10: =COUNTIF('2025_01_08'!G:G,A10) -> 2 | D10: =COUNTIF('2026_01_08'!G:G,A10) -> 2
A11: GRAFFITIST | B11: =COUNTIF('2024_01_08'!G:G,A11) -> 4 | C11: =COUNTIF('2025_01_08'!G:G,A11) -> 0 | D11: =COUNTIF('2026_01_08'!G:G,A11) -> 1
A12: ORION | B12: =COUNTIF('2024_01_08'!G:G,A12) -> 121 | C12: =COUNTIF('2025_01_08'!G:G,A12) -> 75 | D12: =COUNTIF('2026_01_08'!G:G,A12) -> 25
A13: PRESSART | B13: =COUNTIF('2024_01_08'!G:G,A13) -> 22 | C13: =COUNTIF('2025_01_08'!G:G,A13) -> 14 | D13: =COUNTIF('2026_01_08'!G:G,A13) -> 4
A14: ETISOFTWAW2 | B14: =COUNTIF('2024_01_08'!G:G,A14) -> 12 | C14: =COUNTIF('2025_01_08'!G:G,A14) -> 4 | D14: =COUNTIF('2026_01_08'!G:G,A14) -> 0
