Workbook

Sheet Jakość
A1: Identyfikacja ryzyka | G1: Wartość ryzyka | T1: Plan postepowania z ryzykiem
A2: Lp | B2: Proces | C2: Zagrożenie | D2: Potencjalne skutki wystąpienia zagrożenia | G2: Straty ludzkie w skutek wystąpienia ryzyka | H2: W | I2: Straty materialne w skutek wystąpienia ryzyka | J2: W2 | K2: Wartość strat | L2: Ekspozycja na ryzyko | M2: Wartość | N2: Prawdopodobieństwo wystąpienia ryzyka | O2: Wartość3 | R2: Iloczyn | T2: Podjęte działania | U2: Dokument regulujący | V2: Data | W2: Odpowiada
A3: 1 | B3: Realizacja projektu/usługi | C3: Brak możliwości realizacji projektu/usługi,np. przez niewłaściwe planowanie | D3: Brak przychodów, utrata potencjalnego klienta | H3: =IF(ISNA(VLOOKUP(G3,Metodyka!$A$45:$B$50,2,FALSE))=TRUE,0,(VLOOKUP(G3,Metodyka!$A$45:$B$50,2,FALSE))) -> 0 | I3: 1 -10 mln zł | J3: =IF(ISNA(VLOOKUP(I3,Metodyka!$A$52:$B$57,2,FALSE))=TRUE,0,(VLOOKUP(I3,Metodyka!$A$52:$B$57,2,FALSE))) -> 40 | K3: =MAX(H3,J3) -> 40 | L3: Sporadyczne wystwienie na ryzyko (raz na tydzień) | M3: =IF(ISNA(VLOOKUP(L3,Metodyka!$A$35:$B$40,2,FALSE))=TRUE,0,(VLOOKUP(L3,Metodyka!$A$35:$B$40,2,FALSE))) -> 3 | N3: Ryzyko wystąpi w ciągu 6 miesięcy | O3: =IF(ISNA(VLOOKUP(N3,Metodyka!$A$25:$B$31,2,FALSE))=TRUE,0,(VLOOKUP(N3,Metodyka!$A$25:$B$31,2,FALSE))) -> 1 | R3: =K3*M3*O3 -> 120 | T3: Wlaściwe planowanie i ralizacja usługi, projektu. Rozwój pracowników, poszerzanie banku kompetencji | U3: Procedura projektowania Procedura sprzedaży i realizacji usługi_projektu | V3: 43035 | W3: Pełnomocnik ds. ZSZ Manadżer Pionu
A4: 2 | B4: Realizacja projektu/usługi | C4: Nieprzestrzeganie warunków umowy, np. opóźnienia w realizacji prac projektowych, brak zespolu o odpowiednich kompetencjach | D4: Kary finansowe, utrata klienta, straty wizerunkowe | H4: =IF(ISNA(VLOOKUP(G4,Metodyka!$A$45:$B$50,2,FALSE))=TRUE,0,(VLOOKUP(G4,Metodyka!$A$45:$B$50,2,FALSE))) -> 0 | I4: 100 - 1 mln zł | J4: =IF(ISNA(VLOOKUP(I4,Metodyka!$A$52:$B$57,2,FALSE))=TRUE,0,(VLOOKUP(I4,Metodyka!$A$52:$B$57,2,FALSE))) -> 15 | K4: =MAX(H4,J4) -> 15 | L4: Częste wystwienie na ryzyko (codzienna) | M4: =IF(ISNA(VLOOKUP(L4,Metodyka!$A$35:$B$40,2,FALSE))=TRUE,0,(VLOOKUP(L4,Metodyka!$A$35:$B$40,2,FALSE))) -> 6 | N4: Ryzyko wystąpi w ciągu 6 miesięcy | O4: =IF(ISNA(VLOOKUP(N4,Metodyka!$A$25:$B$31,2,FALSE))=TRUE,0,(VLOOKUP(N4,Metodyka!$A$25:$B$31,2,FALSE))) -> 1 | R4: =K4*M4*O4 -> 90 | T4: Wdrożono procesy projektowania i produkcji, uzywanie metodologii pozwalającej kontrolować czas | U4: Procedura projektowania Procedura sprzedaży i realizacji usługi_projektu Plan i ocena szkoleń | V4: 43035 | W4: Pełnomocnik ds. ZSZ Manadżer Pionu
A5: 3 | B5: Realizacja projektu/usługi | C5: Utrata strategicznych klientów | D5: Brak przychodów | H5: =IF(ISNA(VLOOKUP(G5,Metodyka!$A$45:$B$50,2,FALSE))=TRUE,0,(VLOOKUP(G5,Metodyka!$A$45:$B$50,2,FALSE))) -> 0 | I5: 1 -10 mln zł | J5: =IF(ISNA(VLOOKUP(I5,Metodyka!$A$52:$B$57,2,FALSE))=TRUE,0,(VLOOKUP(I5,Metodyka!$A$52:$B$57,2,FALSE))) -> 40 | K5: =MAX(H5,J5) -> 40 | L5: Stałe wystwienie na ryzyko (8 lub więcej godzin dziennie) | M5: =IF(ISNA(VLOOKUP(L5,Metodyka!$A$35:$B$40,2,FALSE))=TRUE,0,(VLOOKUP(L5,Metodyka!$A$35:$B$40,2,FALSE))) -> 10 | N5: Ryzyko wystąpi w ciągu roku | O5: =IF(ISNA(VLOOKUP(N5,Metodyka!$A$25:$B$31,2,FALSE))=TRUE,0,(VLOOKUP(N5,Metodyka!$A$25:$B$31,2,FALSE))) -> 0.5 | R5: =K5*M5*O5 -> 200 | T5: Proces sprzedażowy monitorujący satysfakcję klientów | U5: Procedura badania satysfakcji Klienta Procedura projektowania Procedura sprzedaży i realizacji usługi_projektu | V5: 43035 | W5: Pełnomocnik ds. ZSZ Dyrektor Sprzedaży Manadżer Pionu
A6: 4 | B6: Realizacja projektu/usługi | C6: Problemy w komunikacji z klientem | D6: Brak realizacji projektu, straty wizerunkowe i finansowe | H6: =IF(ISNA(VLOOKUP(G6,Metodyka!$A$45:$B$50,2,FALSE))=TRUE,0,(VLOOKUP(G6,Metodyka!$A$45:$B$50,2,FALSE))) -> 0 | I6: 1 -10 mln zł | J6: =IF(ISNA(VLOOKUP(I6,Metodyka!$A$52:$B$57,2,FALSE))=TRUE,0,(VLOOKUP(I6,Metodyka!$A$52:$B$57,2,FALSE))) -> 40 | K6: =MAX(H6,J6) -> 40 | L6: Stałe wystwienie na ryzyko (8 lub więcej godzin dziennie) | M6: =IF(ISNA(VLOOKUP(L6,Metodyka!$A$35:$B$40,2,FALSE))=TRUE,0,(VLOOKUP(L6,Metodyka!$A$35:$B$40,2,FALSE))) -> 10 | N6: Ryzyko wystąpi w ciągu roku | O6: =IF(ISNA(VLOOKUP(N6,Metodyka!$A$25:$B$31,2,FALSE))=TRUE,0,(VLOOKUP(N6,Metodyka!$A$25:$B$31,2,FALSE))) -> 0.5 | R6: =K6*M6*O6 -> 200 | T6: Proces sprzedażowy monitorujący satysfakcję klientów, komunikacja na etapach projektowania i odebrania prac | U6: Procedura badania satysfakcji Klienta Procedura projektowania Procedura sprzedaży i realizacji usługi_projektu | V6: 43035 | W6: Pełnomocnik ds. ZSZ Dyrektor Sprzedaży Manadżer Pionu
A7: 5 | B7: Realizacja projektu/usługi | C7: Brak dokumentów potwierdzających wykonanie usługi | D7: Brak możliwości potwierdzić wykonanie usługi, straty finansowe | H7: =IF(ISNA(VLOOKUP(G7,Metodyka!$A$45:$B$50,2,FALSE))=TRUE,0,(VLOOKUP(G7,Metodyka!$A$45:$B$50,2,FALSE))) -> 0 | I7: 100 - 1 mln zł | J7: =IF(ISNA(VLOOKUP(I7,Metodyka!$A$52:$B$57,2,FALSE))=TRUE,0,(VLOOKUP(I7,Metodyka!$A$52:$B$57,2,FALSE))) -> 15 | K7: =MAX(H7,J7) -> 15 | L7: Sporadyczne wystwienie na ryzyko (raz na tydzień) | M7: =IF(ISNA(VLOOKUP(L7,Metodyka!$A$35:$B$40,2,FALSE))=TRUE,0,(VLOOKUP(L7,Metodyka!$A$35:$B$40,2,FALSE))) -> 3 | N7: Ryzyko wystąpi w ciągu roku | O7: =IF(ISNA(VLOOKUP(N7,Metodyka!$A$25:$B$31,2,FALSE))=TRUE,0,(VLOOKUP(N7,Metodyka!$A$25:$B$31,2,FALSE))) -> 0.5 | R7: =K7*M7*O7 -> 22.5 | T7: Ryzyko male - kontrola wskaźnika umożliwiająca podjęcie działań w momencie jego wzrostu | U7: Procedura sprzedaży i realizacji usługi_projektu | V7: 43035 | W7: Pełnomocnik ds. ZSZ Dyrektor Sprzedaży Manadżer Pionu
A8: 6 | B8: Realizacja projektu/usługi | C8: Brak kontroli jakości | D8: Dostarczenie niezgodnej usługi/produktu do klienta | H8: =IF(ISNA(VLOOKUP(G8,Metodyka!$A$45:$B$50,2,FALSE))=TRUE,0,(VLOOKUP(G8,Metodyka!$A$45:$B$50,2,FALSE))) -> 0 | I8: 100 - 1 mln zł | J8: =IF(ISNA(VLOOKUP(I8,Metodyka!$A$52:$B$57,2,FALSE))=TRUE,0,(VLOOKUP(I8,Metodyka!$A$52:$B$57,2,FALSE))) -> 15 | K8: =MAX(H8,J8) -> 15 | L8: Stałe wystwienie na ryzyko (8 lub więcej godzin dziennie) | M8: =IF(ISNA(VLOOKUP(L8,Metodyka!$A$35:$B$40,2,FALSE))=TRUE,0,(VLOOKUP(L8,Metodyka!$A$35:$B$40,2,FALSE))) -> 10 | N8: Ryzyko wystąpi w ciągu roku | O8: =IF(ISNA(VLOOKUP(N8,Metodyka!$A$25:$B$31,2,FALSE))=TRUE,0,(VLOOKUP(N8,Metodyka!$A$25:$B$31,2,FALSE))) -> 0.5 | R8: =K8*M8*O8 -> 75 | T8: Wdrożono procesy zarządzania jakością, produkcji i zarządzania release | U8: Procedura projektowania Procedura sprzedaży i realizacji usługi_projektu Procedura badania satysfakcji Klienta | V8: 43035 | W8: Pełnomocnik ds. ZSZ Dyrektor Sprzedaży Manadżer Pionu
A9: 7 | B9: Realizacja projektu/usługi | C9: Zagrożenia zewnętrzne (pożar, kradzież, zalanie, epidemia) | D9: Uszkodzenie sprzętu, biura, niedostępność pracowników | H9: =IF(ISNA(VLOOKUP(G9,Metodyka!$A$45:$B$50,2,FALSE))=TRUE,0,(VLOOKUP(G9,Metodyka!$A$45:$B$50,2,FALSE))) -> 0 | I9: 1 -10 mln zł | J9: =IF(ISNA(VLOOKUP(I9,Metodyka!$A$52:$B$57,2,FALSE))=TRUE,0,(VLOOKUP(I9,Metodyka!$A$52:$B$57,2,FALSE))) -> 40 | K9: =MAX(H9,J9) -> 40 | L9: Stałe wystwienie na ryzyko (8 lub więcej godzin dziennie) | M9: =IF(ISNA(VLOOKUP(L9,Metodyka!$A$35:$B$40,2,FALSE))=TRUE,0,(VLOOKUP(L9,Metodyka!$A$35:$B$40,2,FALSE))) -> 10 | N9: Ryzyko wystąpi w ciągu 10 lat | O9: =IF(ISNA(VLOOKUP(N9,Metodyka!$A$25:$B$31,2,FALSE))=TRUE,0,(VLOOKUP(N9,Metodyka!$A$25:$B$31,2,FALSE))) -> 0.2 | R9: =K9*M9*O9 -> 80 | T9: Umowy przewidujące "siły wyższe", zabezpieczenia ppoż, rozproszona infrastruktura, kopie zapasowe, polityka BCP | U9: Procedury bezpieczeństwa informacji, w tym Bezpieczeństwo fizyczne i środowiskowe, Plan ewakuacji, BCP | V9: 43035 | W9: Pełnomocnik ds.. ZSZ Kierownik lokalizacji
A10: 8 | B10: Realizacja projektu/usługi | C10: Utrata/uskodzenie własności klienta | D10: Kary finansowe, postępowanie sądowe, straty wizerunkowe | H10: =IF(ISNA(VLOOKUP(G10,Metodyka!$A$45:$B$50,2,FALSE))=TRUE,0,(VLOOKUP(G10,Metodyka!$A$45:$B$50,2,FALSE))) -> 0 | I10: 100 - 1 mln zł | J10: =IF(ISNA(VLOOKUP(I10,Metodyka!$A$52:$B$57,2,FALSE))=TRUE,0,(VLOOKUP(I10,Metodyka!$A$52:$B$57,2,FALSE))) -> 15 | K10: =MAX(H10,J10) -> 15 | L10: Częste wystwienie na ryzyko (codzienna) | M10: =IF(ISNA(VLOOKUP(L10,Metodyka!$A$35:$B$40,2,FALSE))=TRUE,0,(VLOOKUP(L10,Metodyka!$A$35:$B$40,2,FALSE))) -> 6 | N10: Ryzyko wystąpi w ciągu roku | O10: =IF(ISNA(VLOOKUP(N10,Metodyka!$A$25:$B$31,2,FALSE))=TRUE,0,(VLOOKUP(N10,Metodyka!$A$25:$B$31,2,FALSE))) -> 0.5 | R10: =K10*M10*O10 -> 45 | T10: Ryzyko małe - kontrola wskaźnika umożliwiająca podjęcie działań w momencie jego wzrostu | U10: Każda umowa, jeśli to właściwe określa toki postępowania z wlasnością klienta | V10: 43035 | W10: Pełnomocnik ds. ZSZ Manadżer Pionu
A11: 9 | B11: Realizacja projektu/usługi | C11: Przejęcie klientów przez podwykonawców | D11: Utrata klientów, utrata kosztów | H11: =IF(ISNA(VLOOKUP(G11,Metodyka!$A$45:$B$50,2,FALSE))=TRUE,0,(VLOOKUP(G11,Metodyka!$A$45:$B$50,2,FALSE))) -> 0 | I11: 1 -10 mln zł | J11: =IF(ISNA(VLOOKUP(I11,Metodyka!$A$52:$B$57,2,FALSE))=TRUE,0,(VLOOKUP(I11,Metodyka!$A$52:$B$57,2,FALSE))) -> 40 | K11: =MAX(H11,J11) -> 40 | L11: Częste wystwienie na ryzyko (codzienna) | M11: =IF(ISNA(VLOOKUP(L11,Metodyka!$A$35:$B$40,2,FALSE))=TRUE,0,(VLOOKUP(L11,Metodyka!$A$35:$B$40,2,FALSE))) -> 6 | N11: Ryzyko wystąpi w ciągu roku | O11: =IF(ISNA(VLOOKUP(N11,Metodyka!$A$25:$B$31,2,FALSE))=TRUE,0,(VLOOKUP(N11,Metodyka!$A$25:$B$31,2,FALSE))) -> 0.5 | R11: =K11*M11*O11 -> 120 | T11: Umowy NDA z podwykonawcami, częsty kontakt z klientem | U11: Procedura bezpiecznej współpracy | V11: 43035 | W11: Pełnomocnik ds. ZSZ Manadżer Pionu
A12: 10 | B12: Badanie zadowolenia klienta | C12: Niechęć do wypełnienia ankiety | D12: Brak możliwości oceny | H12: =IF(ISNA(VLOOKUP(G12,Metodyka!$A$45:$B$50,2,FALSE))=TRUE,0,(VLOOKUP(G12,Metodyka!$A$45:$B$50,2,FALSE))) -> 0 | I12: Poniżej 1 tys zł | J12: =IF(ISNA(VLOOKUP(I12,Metodyka!$A$52:$B$57,2,FALSE))=TRUE,0,(VLOOKUP(I12,Metodyka!$A$52:$B$57,2,FALSE))) -> 1 | K12: =MAX(H12,J12) -> 1 | L12: Okazjonalne wystwienie na ryzyko (raz na miesiąc) | M12: =IF(ISNA(VLOOKUP(L12,Metodyka!$A$35:$B$40,2,FALSE))=TRUE,0,(VLOOKUP(L12,Metodyka!$A$35:$B$40,2,FALSE))) -> 2 | N12: Ryzyko wystąpi w ciągu miesiąca | O12: =IF(ISNA(VLOOKUP(N12,Metodyka!$A$25:$B$31,2,FALSE))=TRUE,0,(VLOOKUP(N12,Metodyka!$A$25:$B$31,2,FALSE))) -> 6 | R12: =K12*M12*O12 -> 12 | T12: Ryzyko akcptowalne – dziłania proflaktyczne nie są konieczne, wskazana jest obserwacja wskaźnika. | V12: 43035 | W12: Pełnomocnik ds. ZSZ Dyrektor Sprzedaży
A13: 11 | B13: Badanie zadowolenia klienta | C13: Wypełnienie ankiety niezgodne z prawdą | D13: Niewłaściwa ocena | H13: =IF(ISNA(VLOOKUP(G13,Metodyka!$A$45:$B$50,2,FALSE))=TRUE,0,(VLOOKUP(G13,Metodyka!$A$45:$B$50,2,FALSE))) -> 0 | I13: Poniżej 1 tys zł | J13: =IF(ISNA(VLOOKUP(I13,Metodyka!$A$52:$B$57,2,FALSE))=TRUE,0,(VLOOKUP(I13,Metodyka!$A$52:$B$57,2,FALSE))) -> 1 | K13: =MAX(H13,J13) -> 1 | L13: Okazjonalne wystwienie na ryzyko (raz na miesiąc) | M13: =IF(ISNA(VLOOKUP(L13,Metodyka!$A$35:$B$40,2,FALSE))=TRUE,0,(VLOOKUP(L13,Metodyka!$A$35:$B$40,2,FALSE))) -> 2 | N13: Ryzyko wystąpi w ciągu miesiąca | O13: =IF(ISNA(VLOOKUP(N13,Metodyka!$A$25:$B$31,2,FALSE))=TRUE,0,(VLOOKUP(N13,Metodyka!$A$25:$B$31,2,FALSE))) -> 6 | R13: =K13*M13*O13 -> 12 | T13: Ryzyko akcptowalne – dziłania proflaktyczne nie są konieczne, wskazana jest obserwacja wskaźnika. | V13: 43035 | W13: Pełnomocnik ds. ZSZ Dyrektor Sprzedaży
A14: 12 | B14: Badanie zadowolenia klienta | C14: Utarta danaych | D14: Brak możliwości oceny | H14: =IF(ISNA(VLOOKUP(G14,Metodyka!$A$45:$B$50,2,FALSE))=TRUE,0,(VLOOKUP(G14,Metodyka!$A$45:$B$50,2,FALSE))) -> 0 | I14: 1 - 10 tys zł | J14: =IF(ISNA(VLOOKUP(I14,Metodyka!$A$52:$B$57,2,FALSE))=TRUE,0,(VLOOKUP(I14,Metodyka!$A$52:$B$57,2,FALSE))) -> 3 | K14: =MAX(H14,J14) -> 3 | L14: Stałe wystwienie na ryzyko (8 lub więcej godzin dziennie) | M14: =IF(ISNA(VLOOKUP(L14,Metodyka!$A$35:$B$40,2,FALSE))=TRUE,0,(VLOOKUP(L14,Metodyka!$A$35:$B$40,2,FALSE))) -> 10 | N14: Ryzyko wystąpi w ciągu 6 miesięcy | O14: =IF(ISNA(VLOOKUP(N14,Metodyka!$A$25:$B$31,2,FALSE))=TRUE,0,(VLOOKUP(N14,Metodyka!$A$25:$B$31,2,FALSE))) -> 1 | R14: =K14*M14*O14 -> 30 | T14: Ryzyko male - kontrola wskaźnika umożliwiająca podjęcie działań w momencie jego wzrostu | V14: 43035 | W14: Pełnomocnik ds. ZSZ Dyrektor Sprzedaży
A15: 13 | B15: Reklamacje | C15: Realizacja usługi niezgodnie ze specyfikacją i oczekiwaniami | D15: Brak zadowolenia klienta, utrata klienta, kary umowne | H15: =IF(ISNA(VLOOKUP(G15,Metodyka!$A$45:$B$50,2,FALSE))=TRUE,0,(VLOOKUP(G15,Metodyka!$A$45:$B$50,2,FALSE))) -> 0 | I15: 100 - 1 mln zł | J15: =IF(ISNA(VLOOKUP(I15,Metodyka!$A$52:$B$57,2,FALSE))=TRUE,0,(VLOOKUP(I15,Metodyka!$A$52:$B$57,2,FALSE))) -> 15 | K15: =MAX(H15,J15) -> 15 | L15: Sporadyczne wystwienie na ryzyko (raz na tydzień) | M15: =IF(ISNA(VLOOKUP(L15,Metodyka!$A$35:$B$40,2,FALSE))=TRUE,0,(VLOOKUP(L15,Metodyka!$A$35:$B$40,2,FALSE))) -> 3 | N15: Ryzyko wystąpi w ciągu 6 miesięcy | O15: =IF(ISNA(VLOOKUP(N15,Metodyka!$A$25:$B$31,2,FALSE))=TRUE,0,(VLOOKUP(N15,Metodyka!$A$25:$B$31,2,FALSE))) -> 1 | R15: =K15*M15*O15 -> 45 | T15: Ryzyko make - kontrola wskaźnika umożliwiająca podjęcie działań w momencie jego wzrostu | U15: Procedura badania satysfakcji Klienta Procedura działań naprawczych | V15: 43035 | W15: Pełnomocnik ds. ZSZ Manadżer Pionu
A16: 14 | B16: Reklamacje | C16: Brak rozpatrzenia reklamacji, nieprzestrzeganie terminów rozpatrzenia reklamacji | D16: Postępowanie administracyjne, niezadowolenie klienta, utrata wizerunku | H16: =IF(ISNA(VLOOKUP(G16,Metodyka!$A$45:$B$50,2,FALSE))=TRUE,0,(VLOOKUP(G16,Metodyka!$A$45:$B$50,2,FALSE))) -> 0 | I16: 100 - 1 mln zł | J16: =IF(ISNA(VLOOKUP(I16,Metodyka!$A$52:$B$57,2,FALSE))=TRUE,0,(VLOOKUP(I16,Metodyka!$A$52:$B$57,2,FALSE))) -> 15 | K16: =MAX(H16,J16) -> 15 | L16: Okazjonalne wystwienie na ryzyko (raz na miesiąc) | M16: =IF(ISNA(VLOOKUP(L16,Metodyka!$A$35:$B$40,2,FALSE))=TRUE,0,(VLOOKUP(L16,Metodyka!$A$35:$B$40,2,FALSE))) -> 2 | N16: Ryzyko wystąpi w ciągu 6 miesięcy | O16: =IF(ISNA(VLOOKUP(N16,Metodyka!$A$25:$B$31,2,FALSE))=TRUE,0,(VLOOKUP(N16,Metodyka!$A$25:$B$31,2,FALSE))) -> 1 | R16: =K16*M16*O16 -> 30 | T16: Ryzyko make - kontrola wskaźnika umożliwiająca podjęcie działań w momencie jego wzrostu | U16: Procedura działań naprawczych | V16: 43035 | W16: Pełnomocnik ds. ZSZ Dyrektor Sprzedaży Manadżer Pionu
A17: 15 | B17: Reklamacje | H17: =IF(ISNA(VLOOKUP(G17,Metodyka!$A$45:$B$50,2,FALSE))=TRUE,0,(VLOOKUP(G17,Metodyka!$A$45:$B$50,2,FALSE))) -> 0 | J17: =IF(ISNA(VLOOKUP(I17,Metodyka!$A$52:$B$57,2,FALSE))=TRUE,0,(VLOOKUP(I17,Metodyka!$A$52:$B$57,2,FALSE))) -> 0 | K17: =MAX(H17,J17) -> 0 | M17: =IF(ISNA(VLOOKUP(L17,Metodyka!$A$35:$B$40,2,FALSE))=TRUE,0,(VLOOKUP(L17,Metodyka!$A$35:$B$40,2,FALSE))) -> 0 | O17: =IF(ISNA(VLOOKUP(N17,Metodyka!$A$25:$B$31,2,FALSE))=TRUE,0,(VLOOKUP(N17,Metodyka!$A$25:$B$31,2,FALSE))) -> 0 | R17: =K17*M17*O17 -> 0 | V17: 43035
A18: 16 | B18: Zakupy | C18: Nieterminowość dostaw | D18: Brak możliwości realizacji usług zgodnie z umową | H18: =IF(ISNA(VLOOKUP(G18,Metodyka!$A$45:$B$50,2,FALSE))=TRUE,0,(VLOOKUP(G18,Metodyka!$A$45:$B$50,2,FALSE))) -> 0 | I18: 10 - 100 tys zł | J18: =IF(ISNA(VLOOKUP(I18,Metodyka!$A$52:$B$57,2,FALSE))=TRUE,0,(VLOOKUP(I18,Metodyka!$A$52:$B$57,2,FALSE))) -> 7 | K18: =MAX(H18,J18) -> 7 | L18: Okazjonalne wystwienie na ryzyko (raz na miesiąc) | M18: =IF(ISNA(VLOOKUP(L18,Metodyka!$A$35:$B$40,2,FALSE))=TRUE,0,(VLOOKUP(L18,Metodyka!$A$35:$B$40,2,FALSE))) -> 2 | N18: Ryzyko wystąpi w ciągu 3 miesięcy | O18: =IF(ISNA(VLOOKUP(N18,Metodyka!$A$25:$B$31,2,FALSE))=TRUE,0,(VLOOKUP(N18,Metodyka!$A$25:$B$31,2,FALSE))) -> 3 | R18: =K18*M18*O18 -> 42 | T18: Ryzyko male - kontrola wskaźnika umożliwiająca podjęcie działań w momencie jego wzrostu | U18: Procedura zakupów, Ocena dostawców | V18: 43035 | W18: Pełnomocnik ds. ZSZ Manadżer Pionu
A19: 17 | B19: Zakupy | C19: Realizacja zamówienia po wyższej cenie niż ustalono | D19: Straty finansowe, utrata klienta | H19: =IF(ISNA(VLOOKUP(G19,Metodyka!$A$45:$B$50,2,FALSE))=TRUE,0,(VLOOKUP(G19,Metodyka!$A$45:$B$50,2,FALSE))) -> 0 | I19: 10 - 100 tys zł | J19: =IF(ISNA(VLOOKUP(I19,Metodyka!$A$52:$B$57,2,FALSE))=TRUE,0,(VLOOKUP(I19,Metodyka!$A$52:$B$57,2,FALSE))) -> 7 | K19: =MAX(H19,J19) -> 7 | L19: Okazjonalne wystwienie na ryzyko (raz na miesiąc) | M19: =IF(ISNA(VLOOKUP(L19,Metodyka!$A$35:$B$40,2,FALSE))=TRUE,0,(VLOOKUP(L19,Metodyka!$A$35:$B$40,2,FALSE))) -> 2 | N19: Ryzyko wystąpi w ciągu 6 miesięcy | O19: =IF(ISNA(VLOOKUP(N19,Metodyka!$A$25:$B$31,2,FALSE))=TRUE,0,(VLOOKUP(N19,Metodyka!$A$25:$B$31,2,FALSE))) -> 1 | R19: =K19*M19*O19 -> 14 | T19: Ryzyko akcptowalne – dziłania proflaktyczne nie są konieczne, wskazana jest obserwacja wskaźnika. | U19: Rejestr dostawców (ocena) | V19: 43035 | W19: Pełnomocnik ds. ZSZ Manadżer Pionu
A20: 18 | B20: Zakupy | C20: Brak możliwości realizacji zamówienia/dostawy (np. ilościowo) i/lub niespełnienie wymagań jakościowych | D20: Straty finansowe, utrata pozycji rynkowych, czas na poszukiwanie nowego dostawcy | H20: =IF(ISNA(VLOOKUP(G20,Metodyka!$A$45:$B$50,2,FALSE))=TRUE,0,(VLOOKUP(G20,Metodyka!$A$45:$B$50,2,FALSE))) -> 0 | I20: 10 - 100 tys zł | J20: =IF(ISNA(VLOOKUP(I20,Metodyka!$A$52:$B$57,2,FALSE))=TRUE,0,(VLOOKUP(I20,Metodyka!$A$52:$B$57,2,FALSE))) -> 7 | K20: =MAX(H20,J20) -> 7 | L20: Okazjonalne wystwienie na ryzyko (raz na miesiąc) | M20: =IF(ISNA(VLOOKUP(L20,Metodyka!$A$35:$B$40,2,FALSE))=TRUE,0,(VLOOKUP(L20,Metodyka!$A$35:$B$40,2,FALSE))) -> 2 | N20: Ryzyko wystąpi w ciągu 3 miesięcy | O20: =IF(ISNA(VLOOKUP(N20,Metodyka!$A$25:$B$31,2,FALSE))=TRUE,0,(VLOOKUP(N20,Metodyka!$A$25:$B$31,2,FALSE))) -> 3 | R20: =K20*M20*O20 -> 42 | T20: Ryzyko male - kontrola wskaźnika umożliwiająca podjęcie działań w momencie jego wzrostu | U20: Procedura bezpiecznej współpracy Procedura zakupów | V20: 43035 | W20: Pełnomocnik ds. ZSZ Manadżer Pionu
A21: 19 | B21: Zarządzanie infrastrukturą | C21: Niedostosowanie narzędzi pracy | D21: Niewykonane lub niewłaściwe wykonane usługi | H21: =IF(ISNA(VLOOKUP(G21,Metodyka!$A$45:$B$50,2,FALSE))=TRUE,0,(VLOOKUP(G21,Metodyka!$A$45:$B$50,2,FALSE))) -> 0 | I21: 10 - 100 tys zł | J21: =IF(ISNA(VLOOKUP(I21,Metodyka!$A$52:$B$57,2,FALSE))=TRUE,0,(VLOOKUP(I21,Metodyka!$A$52:$B$57,2,FALSE))) -> 7 | K21: =MAX(H21,J21) -> 7 | L21: Stałe wystwienie na ryzyko (8 lub więcej godzin dziennie) | M21: =IF(ISNA(VLOOKUP(L21,Metodyka!$A$35:$B$40,2,FALSE))=TRUE,0,(VLOOKUP(L21,Metodyka!$A$35:$B$40,2,FALSE))) -> 10 | N21: Ryzyko wystąpi w ciągu 6 miesięcy | O21: =IF(ISNA(VLOOKUP(N21,Metodyka!$A$25:$B$31,2,FALSE))=TRUE,0,(VLOOKUP(N21,Metodyka!$A$25:$B$31,2,FALSE))) -> 1 | R21: =K21*M21*O21 -> 70 | T21: Ryzyko male - kontrola wskaźnika umożliwiająca podjęcie działań w momencie jego wzrostu | U21: Nadzór nad infrastrukturą Tabela inwentaryzacji środków trwałych | V21: 43035 | W21: Pełnomocnik ds. ZSZ Manadżer Pionu
A22: 20 | B22: Zarządzanie infrastrukturą | C22: Brak wymiany zużytych urządzeń na nowe | D22: Brak możliwości sprawnej realizacji zadań przez pracowników | H22: =IF(ISNA(VLOOKUP(G22,Metodyka!$A$45:$B$50,2,FALSE))=TRUE,0,(VLOOKUP(G22,Metodyka!$A$45:$B$50,2,FALSE))) -> 0 | I22: 100 - 1 mln zł | J22: =IF(ISNA(VLOOKUP(I22,Metodyka!$A$52:$B$57,2,FALSE))=TRUE,0,(VLOOKUP(I22,Metodyka!$A$52:$B$57,2,FALSE))) -> 15 | K22: =MAX(H22,J22) -> 15 | L22: Znikome wystwienie na ryzyko (raz do roku) | M22: =IF(ISNA(VLOOKUP(L22,Metodyka!$A$35:$B$40,2,FALSE))=TRUE,0,(VLOOKUP(L22,Metodyka!$A$35:$B$40,2,FALSE))) -> 0.5 | N22: Ryzyko wystąpi w ciągu roku | O22: =IF(ISNA(VLOOKUP(N22,Metodyka!$A$25:$B$31,2,FALSE))=TRUE,0,(VLOOKUP(N22,Metodyka!$A$25:$B$31,2,FALSE))) -> 0.5 | R22: =K22*M22*O22 -> 3.75 | T22: Ryzyko akcptowalne – dziłania proflaktyczne nie są konieczne, wskazana jest obserwacja wskaźnika. | U22: Nadzór nad infrastrukturą Tabela inwentaryzacji środków trwałych | V22: 43035 | W22: Pełnomocnik ds. ZSZ Manadżer Pionu Właściwy przełożony
A23: 21 | B23: Zarządzanie infrastrukturą | C23: Brak przeglądów, wtym systemu zabezpieczeń | D23: Niesprawne systemy | H23: =IF(ISNA(VLOOKUP(G23,Metodyka!$A$45:$B$50,2,FALSE))=TRUE,0,(VLOOKUP(G23,Metodyka!$A$45:$B$50,2,FALSE))) -> 0 | I23: 1 -10 mln zł | J23: =IF(ISNA(VLOOKUP(I23,Metodyka!$A$52:$B$57,2,FALSE))=TRUE,0,(VLOOKUP(I23,Metodyka!$A$52:$B$57,2,FALSE))) -> 40 | K23: =MAX(H23,J23) -> 40 | L23: Minimalna wystwienie na ryzyko (kilka razy rocznie) | M23: =IF(ISNA(VLOOKUP(L23,Metodyka!$A$35:$B$40,2,FALSE))=TRUE,0,(VLOOKUP(L23,Metodyka!$A$35:$B$40,2,FALSE))) -> 1 | N23: Ryzyko wystąpi w ciągu roku | O23: =IF(ISNA(VLOOKUP(N23,Metodyka!$A$25:$B$31,2,FALSE))=TRUE,0,(VLOOKUP(N23,Metodyka!$A$25:$B$31,2,FALSE))) -> 0.5 | R23: =K23*M23*O23 -> 20 | T23: Ryzyko akcptowalne – dziłania proflaktyczne nie są konieczne, wskazana jest obserwacja wskaźnika. | U23: Audity wewnętrzne | V23: 43035 | W23: Pełnomocnik ds. ZSZ Administrator IT
A24: 22 | B24: Zarządzanie zasobami ludzkimi | C24: Niewykwalifikowany personel, brak kompetencji niezbędnych do osiągnięcia celów | D24: Niska jakość świadczonych usług dla Klientów, brak osiągnięcia celów | H24: =IF(ISNA(VLOOKUP(G24,Metodyka!$A$45:$B$50,2,FALSE))=TRUE,0,(VLOOKUP(G24,Metodyka!$A$45:$B$50,2,FALSE))) -> 0 | I24: 100 - 1 mln zł | J24: =IF(ISNA(VLOOKUP(I24,Metodyka!$A$52:$B$57,2,FALSE))=TRUE,0,(VLOOKUP(I24,Metodyka!$A$52:$B$57,2,FALSE))) -> 15 | K24: =MAX(H24,J24) -> 15 | L24: Okazjonalne wystwienie na ryzyko (raz na miesiąc) | M24: =IF(ISNA(VLOOKUP(L24,Metodyka!$A$35:$B$40,2,FALSE))=TRUE,0,(VLOOKUP(L24,Metodyka!$A$35:$B$40,2,FALSE))) -> 2 | N24: Ryzyko wystąpi w ciągu 6 miesięcy | O24: =IF(ISNA(VLOOKUP(N24,Metodyka!$A$25:$B$31,2,FALSE))=TRUE,0,(VLOOKUP(N24,Metodyka!$A$25:$B$31,2,FALSE))) -> 1 | R24: =K24*M24*O24 -> 30 | T24: Ryzyko male - kontrola wskaźnika umożliwiająca podjęcie działań w momencie jego wzrostu | U24: Procedura Bezpieczeństwa Personelu Procedura dotycząca zatrudnienia | V24: 43035 | W24: Pełnomocnik ds. ZSZ Manadżer Pionu Właściwy przełożony
A25: 23 | B25: Zarządzanie zasobami ludzkimi | C25: Brak procedur szkoleniowych, brak planów szkoleniowych | D25: Brak rozwoju, zainteresowania i motywacji personelu | H25: =IF(ISNA(VLOOKUP(G25,Metodyka!$A$45:$B$50,2,FALSE))=TRUE,0,(VLOOKUP(G25,Metodyka!$A$45:$B$50,2,FALSE))) -> 0 | I25: 10 - 100 tys zł | J25: =IF(ISNA(VLOOKUP(I25,Metodyka!$A$52:$B$57,2,FALSE))=TRUE,0,(VLOOKUP(I25,Metodyka!$A$52:$B$57,2,FALSE))) -> 7 | K25: =MAX(H25,J25) -> 7 | L25: Okazjonalne wystwienie na ryzyko (raz na miesiąc) | M25: =IF(ISNA(VLOOKUP(L25,Metodyka!$A$35:$B$40,2,FALSE))=TRUE,0,(VLOOKUP(L25,Metodyka!$A$35:$B$40,2,FALSE))) -> 2 | N25: Ryzyko wystąpi w ciągu roku | O25: =IF(ISNA(VLOOKUP(N25,Metodyka!$A$25:$B$31,2,FALSE))=TRUE,0,(VLOOKUP(N25,Metodyka!$A$25:$B$31,2,FALSE))) -> 0.5 | R25: =K25*M25*O25 -> 7 | T25: Ryzyko akcptowalne – dziłania proflaktyczne nie są konieczne, wskazana jest obserwacja wskaźnika. | U25: Plan i ocena szkoleń | V25: 43035 | W25: Pełnomocnik ds. ZSZ Manadżer Pionu Właściwy przełożony Dział kadr
A26: 24 | B26: Zarządzanie zasobami ludzkimi | C26: Niezadowoleni pracownicy, niski poziom motywacji | D26: Brak rozwoju, zainteresowania i motywacji personelu, odejście pracownika (-ów), częsta zmiana pracowników, która może doprowadzić do świadczenia usług o niskiej jakosci | H26: =IF(ISNA(VLOOKUP(G26,Metodyka!$A$45:$B$50,2,FALSE))=TRUE,0,(VLOOKUP(G26,Metodyka!$A$45:$B$50,2,FALSE))) -> 0 | I26: 100 - 1 mln zł | J26: =IF(ISNA(VLOOKUP(I26,Metodyka!$A$52:$B$57,2,FALSE))=TRUE,0,(VLOOKUP(I26,Metodyka!$A$52:$B$57,2,FALSE))) -> 15 | K26: =MAX(H26,J26) -> 15 | L26: Częste wystwienie na ryzyko (codzienna) | M26: =IF(ISNA(VLOOKUP(L26,Metodyka!$A$35:$B$40,2,FALSE))=TRUE,0,(VLOOKUP(L26,Metodyka!$A$35:$B$40,2,FALSE))) -> 6 | N26: Ryzyko wystąpi w ciągu 6 miesięcy | O26: =IF(ISNA(VLOOKUP(N26,Metodyka!$A$25:$B$31,2,FALSE))=TRUE,0,(VLOOKUP(N26,Metodyka!$A$25:$B$31,2,FALSE))) -> 1 | R26: =K26*M26*O26 -> 90 | T26: Regularny monitoring i analiza, wzmocnienie kultury korporacyjnej, twrzenie systemu niematerialnej motywacji | U26: Plan i ocena szkoleń Plany motywacyjne | V26: 43035 | W26: Pełnomocnik ds. ZSZ Właściwy przełożony Dział kadr i HR
A27: 25 | B27: Zarządzanie zasobami ludzkimi | C27: Brak zasobów, rotacja personelu | D27: Niespełnienie wymagań i/lub niewłaściwa realizacja usługi, możliwe opóźnienia | H27: =IF(ISNA(VLOOKUP(G27,Metodyka!$A$45:$B$50,2,FALSE))=TRUE,0,(VLOOKUP(G27,Metodyka!$A$45:$B$50,2,FALSE))) -> 0 | I27: 100 - 1 mln zł | J27: =IF(ISNA(VLOOKUP(I27,Metodyka!$A$52:$B$57,2,FALSE))=TRUE,0,(VLOOKUP(I27,Metodyka!$A$52:$B$57,2,FALSE))) -> 15 | K27: =MAX(H27,J27) -> 15 | L27: Sporadyczne wystwienie na ryzyko (raz na tydzień) | M27: =IF(ISNA(VLOOKUP(L27,Metodyka!$A$35:$B$40,2,FALSE))=TRUE,0,(VLOOKUP(L27,Metodyka!$A$35:$B$40,2,FALSE))) -> 3 | N27: Ryzyko wystąpi w ciągu 6 miesięcy | O27: =IF(ISNA(VLOOKUP(N27,Metodyka!$A$25:$B$31,2,FALSE))=TRUE,0,(VLOOKUP(N27,Metodyka!$A$25:$B$31,2,FALSE))) -> 1 | R27: =K27*M27*O27 -> 45 | T27: Ryzyko male - kontrola wskaźnika umożliwiająca podjęcie działań w momencie jego wzrostu | V27: 43035 | W27: Pełnomocnik ds. ZSZ Właściwy przełożony Dział kadr i HR
A28: 26 | B28: Procesy zarządzania i doskonalenia | C28: Brak procedur postępowania | D28: Brak kontroli nad działaniem procesów | H28: =IF(ISNA(VLOOKUP(G28,Metodyka!$A$45:$B$50,2,FALSE))=TRUE,0,(VLOOKUP(G28,Metodyka!$A$45:$B$50,2,FALSE))) -> 0 | I28: Poniżej 1 tys zł | J28: =IF(ISNA(VLOOKUP(I28,Metodyka!$A$52:$B$57,2,FALSE))=TRUE,0,(VLOOKUP(I28,Metodyka!$A$52:$B$57,2,FALSE))) -> 1 | K28: =MAX(H28,J28) -> 1 | L28: Minimalna wystwienie na ryzyko (kilka razy rocznie) | M28: =IF(ISNA(VLOOKUP(L28,Metodyka!$A$35:$B$40,2,FALSE))=TRUE,0,(VLOOKUP(L28,Metodyka!$A$35:$B$40,2,FALSE))) -> 1 | N28: Ryzyko wystąpi w ciągu 3 miesięcy | O28: =IF(ISNA(VLOOKUP(N28,Metodyka!$A$25:$B$31,2,FALSE))=TRUE,0,(VLOOKUP(N28,Metodyka!$A$25:$B$31,2,FALSE))) -> 3 | R28: =K28*M28*O28 -> 3 | T28: Ryzyko akcptowalne – dziłania proflaktyczne nie są konieczne, wskazana jest obserwacja wskaźnika. | U28: Procedury zinegrowanego systemu zarządzania, w tym Procedura zarządzania dokumentacją i zapisami Procedura auditów wewnętrznych | V28: 43035 | W28: Pełnomocnik ds. ZSZ
A29: 27 | B29: Procesy zarządzania i doskonalenia | C29: Zaniechanie procesu zarządzania kontekstem i ryzykiem | D29: Brak kontroli nad działaniem ZSZ, niespełnienie wymagań norm | H29: =IF(ISNA(VLOOKUP(G29,Metodyka!$A$45:$B$50,2,FALSE))=TRUE,0,(VLOOKUP(G29,Metodyka!$A$45:$B$50,2,FALSE))) -> 0 | I29: 100 - 1 mln zł | J29: =IF(ISNA(VLOOKUP(I29,Metodyka!$A$52:$B$57,2,FALSE))=TRUE,0,(VLOOKUP(I29,Metodyka!$A$52:$B$57,2,FALSE))) -> 15 | K29: =MAX(H29,J29) -> 15 | L29: Okazjonalne wystwienie na ryzyko (raz na miesiąc) | M29: =IF(ISNA(VLOOKUP(L29,Metodyka!$A$35:$B$40,2,FALSE))=TRUE,0,(VLOOKUP(L29,Metodyka!$A$35:$B$40,2,FALSE))) -> 2 | N29: Ryzyko wystąpi w ciągu 6 miesięcy | O29: =IF(ISNA(VLOOKUP(N29,Metodyka!$A$25:$B$31,2,FALSE))=TRUE,0,(VLOOKUP(N29,Metodyka!$A$25:$B$31,2,FALSE))) -> 1 | R29: =K29*M29*O29 -> 30 | T29: Ryzyko male - kontrola wskaźnika umożliwiająca podjęcie działań w momencie jego wzrostu | U29: Procedura identyfikacji zagrożeń i szacowania ryzyka Przegład zarządzania | V29: 43035 | W29: Pełnomocnik ds. ZSZ
A30: 28 | B30: Procesy zarządzania i doskonalenia | C30: Brak implementacji wskazanych działań korygujących | D30: Powielanie niezgodności w funkcjonowaniu systemów | H30: =IF(ISNA(VLOOKUP(G30,Metodyka!$A$45:$B$50,2,FALSE))=TRUE,0,(VLOOKUP(G30,Metodyka!$A$45:$B$50,2,FALSE))) -> 0 | I30: 10 - 100 tys zł | J30: =IF(ISNA(VLOOKUP(I30,Metodyka!$A$52:$B$57,2,FALSE))=TRUE,0,(VLOOKUP(I30,Metodyka!$A$52:$B$57,2,FALSE))) -> 7 | K30: =MAX(H30,J30) -> 7 | L30: Sporadyczne wystwienie na ryzyko (raz na tydzień) | M30: =IF(ISNA(VLOOKUP(L30,Metodyka!$A$35:$B$40,2,FALSE))=TRUE,0,(VLOOKUP(L30,Metodyka!$A$35:$B$40,2,FALSE))) -> 3 | N30: Ryzyko wystąpi w ciągu 3 miesięcy | O30: =IF(ISNA(VLOOKUP(N30,Metodyka!$A$25:$B$31,2,FALSE))=TRUE,0,(VLOOKUP(N30,Metodyka!$A$25:$B$31,2,FALSE))) -> 3 | R30: =K30*M30*O30 -> 63 | T30: Ryzyko male - kontrola wskaźnika umożliwiająca podjęcie działań w momencie jego wzrostu | U30: Procedura nadzor nad niezgodnościami | V30: 43035 | W30: Pełnomocnik ds. ZSZ
A31: 29 | B31: Procesy zarządzania i doskonalenia | C31: Brak auditów | D31: Brak kontroli nad działaniem ZSZ, niespełnienie wymagań norm | H31: =IF(ISNA(VLOOKUP(G31,Metodyka!$A$45:$B$50,2,FALSE))=TRUE,0,(VLOOKUP(G31,Metodyka!$A$45:$B$50,2,FALSE))) -> 0 | I31: 10 - 100 tys zł | J31: =IF(ISNA(VLOOKUP(I31,Metodyka!$A$52:$B$57,2,FALSE))=TRUE,0,(VLOOKUP(I31,Metodyka!$A$52:$B$57,2,FALSE))) -> 7 | K31: =MAX(H31,J31) -> 7 | L31: Znikome wystwienie na ryzyko (raz do roku) | M31: =IF(ISNA(VLOOKUP(L31,Metodyka!$A$35:$B$40,2,FALSE))=TRUE,0,(VLOOKUP(L31,Metodyka!$A$35:$B$40,2,FALSE))) -> 0.5 | N31: Ryzyko wystąpi w ciągu roku | O31: =IF(ISNA(VLOOKUP(N31,Metodyka!$A$25:$B$31,2,FALSE))=TRUE,0,(VLOOKUP(N31,Metodyka!$A$25:$B$31,2,FALSE))) -> 0.5 | R31: =K31*M31*O31 -> 1.75 | T31: Ryzyko akcptowalne – dziłania proflaktyczne nie są konieczne, wskazana jest obserwacja wskaźnika. | U31: Procedura auditów wewnętrznych Harmonogram auditów | V31: 43035 | W31: Pełnomocnik ds. ZSZ
A32: 30 | B32: Procesy zarządzania i doskonalenia | C32: Brak świadomości i zaangarzowania pracowników w procesy ZSZ | D32: Niespełnienie wymagań wewnętrznych, niespełnienie wymagań norm, straty wizerunkowe | H32: =IF(ISNA(VLOOKUP(G32,Metodyka!$A$45:$B$50,2,FALSE))=TRUE,0,(VLOOKUP(G32,Metodyka!$A$45:$B$50,2,FALSE))) -> 0 | I32: 100 - 1 mln zł | J32: =IF(ISNA(VLOOKUP(I32,Metodyka!$A$52:$B$57,2,FALSE))=TRUE,0,(VLOOKUP(I32,Metodyka!$A$52:$B$57,2,FALSE))) -> 15 | K32: =MAX(H32,J32) -> 15 | L32: Stałe wystwienie na ryzyko (8 lub więcej godzin dziennie) | M32: =IF(ISNA(VLOOKUP(L32,Metodyka!$A$35:$B$40,2,FALSE))=TRUE,0,(VLOOKUP(L32,Metodyka!$A$35:$B$40,2,FALSE))) -> 10 | N32: Ryzyko wystąpi w ciągu 6 miesięcy | O32: =IF(ISNA(VLOOKUP(N32,Metodyka!$A$25:$B$31,2,FALSE))=TRUE,0,(VLOOKUP(N32,Metodyka!$A$25:$B$31,2,FALSE))) -> 1 | R32: =K32*M32*O32 -> 150 | T32: Promowanie przestrzegania ustalonych zasad, szkolenie pracowników, demonstracja zaangażowania w procesy sytemu zarzadzania J i BI najwyższego kierownictwa | U32: Zarządzenie o wdrożeniu ZSZ Polityka ZSZ Księga ZSZ Plan i ocena szkoleń | V32: 43035 | W32: Pełnomocnik ds. ZSZ
A33: 31 | H33: =IF(ISNA(VLOOKUP(G33,Metodyka!$A$45:$B$50,2,FALSE))=TRUE,0,(VLOOKUP(G33,Metodyka!$A$45:$B$50,2,FALSE))) -> 0 | J33: =IF(ISNA(VLOOKUP(I33,Metodyka!$A$52:$B$57,2,FALSE))=TRUE,0,(VLOOKUP(I33,Metodyka!$A$52:$B$57,2,FALSE))) -> 0 | K33: =MAX(H33,J33) -> 0 | M33: =IF(ISNA(VLOOKUP(L33,Metodyka!$A$35:$B$40,2,FALSE))=TRUE,0,(VLOOKUP(L33,Metodyka!$A$35:$B$40,2,FALSE))) -> 0 | O33: =IF(ISNA(VLOOKUP(N33,Metodyka!$A$25:$B$31,2,FALSE))=TRUE,0,(VLOOKUP(N33,Metodyka!$A$25:$B$31,2,FALSE))) -> 0 | R33: =K33*M33*O33 -> 0
A34: 32 | H34: =IF(ISNA(VLOOKUP(G34,Metodyka!$A$45:$B$50,2,FALSE))=TRUE,0,(VLOOKUP(G34,Metodyka!$A$45:$B$50,2,FALSE))) -> 0 | J34: =IF(ISNA(VLOOKUP(I34,Metodyka!$A$52:$B$57,2,FALSE))=TRUE,0,(VLOOKUP(I34,Metodyka!$A$52:$B$57,2,FALSE))) -> 0 | K34: =MAX(H34,J34) -> 0 | M34: =IF(ISNA(VLOOKUP(L34,Metodyka!$A$35:$B$40,2,FALSE))=TRUE,0,(VLOOKUP(L34,Metodyka!$A$35:$B$40,2,FALSE))) -> 0 | O34: =IF(ISNA(VLOOKUP(N34,Metodyka!$A$25:$B$31,2,FALSE))=TRUE,0,(VLOOKUP(N34,Metodyka!$A$25:$B$31,2,FALSE))) -> 0 | R34: =K34*M34*O34 -> 0
A35: 33 | H35: =IF(ISNA(VLOOKUP(G35,Metodyka!$A$45:$B$50,2,FALSE))=TRUE,0,(VLOOKUP(G35,Metodyka!$A$45:$B$50,2,FALSE))) -> 0 | J35: =IF(ISNA(VLOOKUP(I35,Metodyka!$A$52:$B$57,2,FALSE))=TRUE,0,(VLOOKUP(I35,Metodyka!$A$52:$B$57,2,FALSE))) -> 0 | K35: =MAX(H35,J35) -> 0 | M35: =IF(ISNA(VLOOKUP(L35,Metodyka!$A$35:$B$40,2,FALSE))=TRUE,0,(VLOOKUP(L35,Metodyka!$A$35:$B$40,2,FALSE))) -> 0 | O35: =IF(ISNA(VLOOKUP(N35,Metodyka!$A$25:$B$31,2,FALSE))=TRUE,0,(VLOOKUP(N35,Metodyka!$A$25:$B$31,2,FALSE))) -> 0 | R35: =K35*M35*O35 -> 0
A36: 34 | H36: =IF(ISNA(VLOOKUP(G36,Metodyka!$A$45:$B$50,2,FALSE))=TRUE,0,(VLOOKUP(G36,Metodyka!$A$45:$B$50,2,FALSE))) -> 0 | J36: =IF(ISNA(VLOOKUP(I36,Metodyka!$A$52:$B$57,2,FALSE))=TRUE,0,(VLOOKUP(I36,Metodyka!$A$52:$B$57,2,FALSE))) -> 0 | K36: =MAX(H36,J36) -> 0 | M36: =IF(ISNA(VLOOKUP(L36,Metodyka!$A$35:$B$40,2,FALSE))=TRUE,0,(VLOOKUP(L36,Metodyka!$A$35:$B$40,2,FALSE))) -> 0 | O36: =IF(ISNA(VLOOKUP(N36,Metodyka!$A$25:$B$31,2,FALSE))=TRUE,0,(VLOOKUP(N36,Metodyka!$A$25:$B$31,2,FALSE))) -> 0 | R36: =K36*M36*O36 -> 0
A37: 35 | H37: =IF(ISNA(VLOOKUP(G37,Metodyka!$A$45:$B$50,2,FALSE))=TRUE,0,(VLOOKUP(G37,Metodyka!$A$45:$B$50,2,FALSE))) -> 0 | J37: =IF(ISNA(VLOOKUP(I37,Metodyka!$A$52:$B$57,2,FALSE))=TRUE,0,(VLOOKUP(I37,Metodyka!$A$52:$B$57,2,FALSE))) -> 0 | K37: =MAX(H37,J37) -> 0 | M37: =IF(ISNA(VLOOKUP(L37,Metodyka!$A$35:$B$40,2,FALSE))=TRUE,0,(VLOOKUP(L37,Metodyka!$A$35:$B$40,2,FALSE))) -> 0 | O37: =IF(ISNA(VLOOKUP(N37,Metodyka!$A$25:$B$31,2,FALSE))=TRUE,0,(VLOOKUP(N37,Metodyka!$A$25:$B$31,2,FALSE))) -> 0 | R37: =K37*M37*O37 -> 0
A38: 36 | H38: =IF(ISNA(VLOOKUP(G38,Metodyka!$A$45:$B$50,2,FALSE))=TRUE,0,(VLOOKUP(G38,Metodyka!$A$45:$B$50,2,FALSE))) -> 0 | J38: =IF(ISNA(VLOOKUP(I38,Metodyka!$A$52:$B$57,2,FALSE))=TRUE,0,(VLOOKUP(I38,Metodyka!$A$52:$B$57,2,FALSE))) -> 0 | K38: =MAX(H38,J38) -> 0 | M38: =IF(ISNA(VLOOKUP(L38,Metodyka!$A$35:$B$40,2,FALSE))=TRUE,0,(VLOOKUP(L38,Metodyka!$A$35:$B$40,2,FALSE))) -> 0 | O38: =IF(ISNA(VLOOKUP(N38,Metodyka!$A$25:$B$31,2,FALSE))=TRUE,0,(VLOOKUP(N38,Metodyka!$A$25:$B$31,2,FALSE))) -> 0 | R38: =K38*M38*O38 -> 0
A39: 37 | H39: =IF(ISNA(VLOOKUP(G39,Metodyka!$A$45:$B$50,2,FALSE))=TRUE,0,(VLOOKUP(G39,Metodyka!$A$45:$B$50,2,FALSE))) -> 0 | J39: =IF(ISNA(VLOOKUP(I39,Metodyka!$A$52:$B$57,2,FALSE))=TRUE,0,(VLOOKUP(I39,Metodyka!$A$52:$B$57,2,FALSE))) -> 0 | K39: =MAX(H39,J39) -> 0 | M39: =IF(ISNA(VLOOKUP(L39,Metodyka!$A$35:$B$40,2,FALSE))=TRUE,0,(VLOOKUP(L39,Metodyka!$A$35:$B$40,2,FALSE))) -> 0 | O39: =IF(ISNA(VLOOKUP(N39,Metodyka!$A$25:$B$31,2,FALSE))=TRUE,0,(VLOOKUP(N39,Metodyka!$A$25:$B$31,2,FALSE))) -> 0 | R39: =K39*M39*O39 -> 0
A40: 38 | H40: =IF(ISNA(VLOOKUP(G40,Metodyka!$A$45:$B$50,2,FALSE))=TRUE,0,(VLOOKUP(G40,Metodyka!$A$45:$B$50,2,FALSE))) -> 0 | J40: =IF(ISNA(VLOOKUP(I40,Metodyka!$A$52:$B$57,2,FALSE))=TRUE,0,(VLOOKUP(I40,Metodyka!$A$52:$B$57,2,FALSE))) -> 0 | K40: =MAX(H40,J40) -> 0 | M40: =IF(ISNA(VLOOKUP(L40,Metodyka!$A$35:$B$40,2,FALSE))=TRUE,0,(VLOOKUP(L40,Metodyka!$A$35:$B$40,2,FALSE))) -> 0 | O40: =IF(ISNA(VLOOKUP(N40,Metodyka!$A$25:$B$31,2,FALSE))=TRUE,0,(VLOOKUP(N40,Metodyka!$A$25:$B$31,2,FALSE))) -> 0 | R40: =K40*M40*O40 -> 0
A41: 39 | H41: =IF(ISNA(VLOOKUP(G41,Metodyka!$A$45:$B$50,2,FALSE))=TRUE,0,(VLOOKUP(G41,Metodyka!$A$45:$B$50,2,FALSE))) -> 0 | J41: =IF(ISNA(VLOOKUP(I41,Metodyka!$A$52:$B$57,2,FALSE))=TRUE,0,(VLOOKUP(I41,Metodyka!$A$52:$B$57,2,FALSE))) -> 0 | K41: =MAX(H41,J41) -> 0 | M41: =IF(ISNA(VLOOKUP(L41,Metodyka!$A$35:$B$40,2,FALSE))=TRUE,0,(VLOOKUP(L41,Metodyka!$A$35:$B$40,2,FALSE))) -> 0 | O41: =IF(ISNA(VLOOKUP(N41,Metodyka!$A$25:$B$31,2,FALSE))=TRUE,0,(VLOOKUP(N41,Metodyka!$A$25:$B$31,2,FALSE))) -> 0 | R41: =K41*M41*O41 -> 0
A42: 40 | H42: =IF(ISNA(VLOOKUP(G42,Metodyka!$A$45:$B$50,2,FALSE))=TRUE,0,(VLOOKUP(G42,Metodyka!$A$45:$B$50,2,FALSE))) -> 0 | J42: =IF(ISNA(VLOOKUP(I42,Metodyka!$A$52:$B$57,2,FALSE))=TRUE,0,(VLOOKUP(I42,Metodyka!$A$52:$B$57,2,FALSE))) -> 0 | K42: =MAX(H42,J42) -> 0 | M42: =IF(ISNA(VLOOKUP(L42,Metodyka!$A$35:$B$40,2,FALSE))=TRUE,0,(VLOOKUP(L42,Metodyka!$A$35:$B$40,2,FALSE))) -> 0 | O42: =IF(ISNA(VLOOKUP(N42,Metodyka!$A$25:$B$31,2,FALSE))=TRUE,0,(VLOOKUP(N42,Metodyka!$A$25:$B$31,2,FALSE))) -> 0 | R42: =K42*M42*O42 -> 0
A43: 41 | H43: =IF(ISNA(VLOOKUP(G43,Metodyka!$A$45:$B$50,2,FALSE))=TRUE,0,(VLOOKUP(G43,Metodyka!$A$45:$B$50,2,FALSE))) -> 0 | J43: =IF(ISNA(VLOOKUP(I43,Metodyka!$A$52:$B$57,2,FALSE))=TRUE,0,(VLOOKUP(I43,Metodyka!$A$52:$B$57,2,FALSE))) -> 0 | K43: =MAX(H43,J43) -> 0 | M43: =IF(ISNA(VLOOKUP(L43,Metodyka!$A$35:$B$40,2,FALSE))=TRUE,0,(VLOOKUP(L43,Metodyka!$A$35:$B$40,2,FALSE))) -> 0 | O43: =IF(ISNA(VLOOKUP(N43,Metodyka!$A$25:$B$31,2,FALSE))=TRUE,0,(VLOOKUP(N43,Metodyka!$A$25:$B$31,2,FALSE))) -> 0 | R43: =K43*M43*O43 -> 0
A44: 42 | H44: =IF(ISNA(VLOOKUP(G44,Metodyka!$A$45:$B$50,2,FALSE))=TRUE,0,(VLOOKUP(G44,Metodyka!$A$45:$B$50,2,FALSE))) -> 0 | J44: =IF(ISNA(VLOOKUP(I44,Metodyka!$A$52:$B$57,2,FALSE))=TRUE,0,(VLOOKUP(I44,Metodyka!$A$52:$B$57,2,FALSE))) -> 0 | K44: =MAX(H44,J44) -> 0 | M44: =IF(ISNA(VLOOKUP(L44,Metodyka!$A$35:$B$40,2,FALSE))=TRUE,0,(VLOOKUP(L44,Metodyka!$A$35:$B$40,2,FALSE))) -> 0 | O44: =IF(ISNA(VLOOKUP(N44,Metodyka!$A$25:$B$31,2,FALSE))=TRUE,0,(VLOOKUP(N44,Metodyka!$A$25:$B$31,2,FALSE))) -> 0 | R44: =K44*M44*O44 -> 0
... A202: 200 | H202: =IF(ISNA(VLOOKUP(G202,Metodyka!$A$45:$B$50,2,FALSE))=TRUE,0,(VLOOKUP(G202,Metodyka!$A$45:$B$50,2,FALSE))) -> 0 | J202: =IF(ISNA(VLOOKUP(I202,Metodyka!$A$52:$B$57,2,FALSE))=TRUE,0,(VLOOKUP(I202,Metodyka!$A$52:$B$57,2,FALSE))) -> 0 | K202: =MAX(H202,J202) -> 0 | M202: =IF(ISNA(VLOOKUP(L202,Metodyka!$A$35:$B$40,2,FALSE))=TRUE,0,(VLOOKUP(L202,Metodyka!$A$35:$B$40,2,FALSE))) -> 0 | O202: =IF(ISNA(VLOOKUP(N202,Metodyka!$A$25:$B$31,2,FALSE))=TRUE,0,(VLOOKUP(N202,Metodyka!$A$25:$B$31,2,FALSE))) -> 0 | R202: =K202*M202*O202 -> 0

Sheet Metodyka
A1: Priorytet ewakuacji i waga aktywu
A2: Czerwony 1
A3: Czerwony 2 | B3: krytyczny, brak powoduje załamanie funkcjonowania firmy
A4: Czerwony 3
A5: Żółty 1
A6: Żółty 2 | B6: kluczowy, brak powoduje duże zakłócenie funkcjonowania firmy
A7: Żółty 3
A8: Zielony 1
A9: Zielony 2 | B9: znaczący, brak powoduje małe zakłócenie funkcjonowania firmy
A10: Zielony 3
A11: Podstawowy | B11: podstawowy, brak nie powoduje zakłócenia funkcjonowania firmy
A14: ='ark. tech.'!A39 -> Wartość Ryzyka | B14: ='ark. tech.'!B39 -> Kategorie ryzyka | C14: ='ark. tech.'!C39 -> Działanie zapobiegawcze
A15: Poniżej 1,5 | B15: Zaniedbywane | C15: zaniedbywalne – nie ma potrzeby podejnowania jakichkoliwek działań. Nie jest też konieczne monitorowanie ryzyka.
A16: 1,5-20 | B16: Akceptowalne | C16: akcptowalne – dziłania proflaktyczne nie są konieczne, wskazana jest obserwacja wskaźnika.
A17: 20-70 | B17: Małe | C17: małe – konieczna jest kontrola wskaźnika umożliwiająca podjęcie działań w momencie jego wzrostu.
A18: 70-200 | B18: Średnie | C18: średnie – konieczne jest podjęcie działań naprawczych.
A19: 200-400 | B19: Poważne | C19: poważne – konieczne jest natychmiastowe podjęcie działań naprawczych
A20: Powyżej 400 | B20: Nieakceptowalne | C20: nieakceptowalne – aż do momentu podjęcia skutecznych działań naprawczych, działanie nie może być podjęta lub kontynuowana
A23: Prawdopodobieństwo wystąpienia ryzyka
B24: mnożnik ryzyka
A25: Ryzyko wystąpi w ciągu tygodnia | B25: 10
A26: Ryzyko wystąpi w ciągu miesiąca | B26: 6
A27: Ryzyko wystąpi w ciągu 3 miesięcy | B27: 3
A28: Ryzyko wystąpi w ciągu 6 miesięcy | B28: 1
A29: Ryzyko wystąpi w ciągu roku | B29: 0.5
A30: Ryzyko wystąpi w ciągu 10 lat | B30: 0.2
A31: Ryzyko wystąpi w ciągu 100 lat | B31: 0.1
A34: Ekspozycja | B34: mnożnik ekspozycji
A35: Stałe wystwienie na ryzyko (8 lub więcej godzin dziennie) | B35: 10
A36: Częste wystwienie na ryzyko (codzienna) | B36: 6
A37: Sporadyczne wystwienie na ryzyko (raz na tydzień) | B37: 3
A38: Okazjonalne wystwienie na ryzyko (raz na miesiąc) | B38: 2
A39: Minimalna wystwienie na ryzyko (kilka razy rocznie) | B39: 1
A40: Znikome wystwienie na ryzyko (raz do roku) | B40: 0.5
A43: Straty
A44: w ludziach | B44: mnożnik strat
A45: Wiele ofiar śmiertelnych (więcej niż 5 osób) | B45: 100
A46: Kilka ofiar śmiertelnych (od 1 do 4 osób) | B46: 40
A47: Ofiara śmiertelna (1 osoba) | B47: 15
A48: Ciężkie uszkodzenie ciała (długotwały pobyt w szpitalu) | B48: 7
A49: Absencja | B49: 3
A50: Udzielenie I pomocy | B50: 1
A51: materialne | B51: mnożnik strat
A52: Ponad 10 mln zł | B52: 100
A53: 1 -10 mln zł | B53: 40
A54: 100 - 1 mln zł | B54: 15
A55: 10 - 100 tys zł | B55: 7
A56: 1 - 10 tys zł | B56: 3
A57: Poniżej 1 tys zł | B57: 1

Sheet ark. tech.
A1: Kolumna1 | B1: Kolumna2 | C1: Kolumna3
A2: Prawdopodobieństwo | B2: Wartość | C2: Opis
A3: Ryzyko wystąpi w ciągu tygodnia | B3: 10 | C3: Bardzo Prawdopodobne (1:2)
A4: Ryzyko wystąpi w ciągu miesiąca | B4: 6 | C4: Całkiem Prawdopodobne (1:10)
A5: Ryzyko wystąpi w ciągu 3 miesięcy | B5: 3 | C5: Mało prawdopodobne, ale możliwe (1:100)
A6: Ryzyko wystąpi w ciągu 6 miesięcy | B6: 1 | C6: Tylko sporadycznie możliwe (1:1 000)
A7: Ryzyko wystąpi w ciągu roku | B7: 0.5 | C7: Możliwe do pomyślenia (1:10 000)
A8: Ryzyko wystąpi w ciągu 10 lat | B8: 0.2 | C8: Praktycznie niemożliwe (1:100 000)
A9: Ryzyko wystąpi w ciągu 100 lat | B9: 0.1 | C9: Tylko teoretycznie możliwe (1:1000 000)
A11: Kolumna1 | B11: Kolumna2
A12: Ekspozycja | B12: Wartość
A13: Stałe wystwienie na ryzyko (8 lub więcej godzin dziennie) | B13: 10
A14: Częste wystwienie na ryzyko (codzienna) | B14: 6
A15: Sporadyczne wystwienie na ryzyko (raz na tydzień) | B15: 3
A16: Okazjonalne wystwienie na ryzyko (raz na miesiąc) | B16: 2
A17: Minimalna wystwienie na ryzyko (kilka razy rocznie) | B17: 1
A18: Znikome wystwienie na ryzyko (raz do roku) | B18: 0.5
A21: Kolumna1 | B21: Kolumna2 | C21: Kolumna3
A22: Straty Ludzkie | B22: Wartość | C22: Straty Materialne
A23: Wiele ofiar śmiertelnych (więcej niż 5 osób) | B23: 100 | C23: Ponad 10 mln zł
A24: Kilka ofiar śmiertelnych (od 1 do 4 osób) | B24: 40 | C24: 1 -10 mln zł
A25: Ofiara śmiertelna (1 osoba) | B25: 15 | C25: 100 - 1 mln zł
A26: Ciężkie uszkodzenie ciała (długotwały pobyt w szpitalu) | B26: 7 | C26: 10 - 100 tys zł
A27: Absencja | B27: 3 | C27: 1 - 10 tys zł
A28: Udzielenie I pomocy | B28: 1 | C28: Poniżej 1 tys zł
A30: Kolumna1 | B30: Kolumna2
A31: Ponad 10 mln zł brutto | B31: 100
A32: 1 -10 mln zł brutto | B32: 40
A33: 100 - 1 mln zł brutto | B33: 15
A34: 10 - 100 tys zł brutto | B34: 7
A35: 1 - 10 tys zł brutto | B35: 3
A36: Poniżej 1 tys zł brutto | B36: 1
A38: Kolumna1 | B38: Kolumna2 | C38: Kolumna3
A39: Wartość Ryzyka | B39: Kategorie ryzyka | C39: Działanie zapobiegawcze
A40: R=<20 | B40: pomijalne | C40: wskazana kontrola
A41: 20<R<70 | B41: małe | C41: potrzebna kontrola
A42: 70<R<200 | B42: istotne | C42: potrzebna poprawa
A43: 200<R<400 | B43: duże | C43: potrzebna natychmiastowa poprawa
A44: R>400 | B44: bardzo duże | C44: wskazane wstrzymanie pracy
A46: Aktywa
A47: Rodzaj aktywu
A48: Środek trwały
A49: Informacja elektroniczna
A50: Informacja pisemna
A51: Personel
A52: Wartości niematerialne i prawne
A53: Środki finansowe
A54: Czas
A56: Poufność, integralność, dostępność
A57: Poufność
A58: Integralność
... A67: Czerwony 1
A68: Czerwony 2 | B68: krytyczny, brak powoduje załamanie funkcjonowania firmy
A69: Czerwony 3
A70: Żółty 1
A71: Żółty 2 | B71: kluczowy, brak powoduje duże zakłócenie funkcjonowania firmy
A72: Żółty 3
A73: Zielony 1
A74: Zielony 2 | B74: znaczący, brak powoduje małe zakłócenie funkcjonowania firmy
A75: Zielony 3
A76: Podstawowy | B76: podstawowy, brak nie powoduje zakłócenia funkcjonowania firmy
A80: kategorie aktywów
A81: BIURA
A82: DOKUMENTY
A83: FINANSE
A84: LUDZIE
A85: URZĄDZENIA_SIECIOWE
A86: URZĄDZENIA_KOŃCOWE
A87: SYSTEMY
